{"text_format":"1","workbook":"xlsx","n_sheets":8,"sheets":["02-01-01","09-01-01","Source","SourceObSm","SmtRes","EtalonRes","SrcPoprs","SrcKA"],"not_rendered":{"charts":0,"images":0,"macros":0,"external_links":0,"defined_names":4,"comments":0,"pivot_tables":0},"unopened":[],"bounds":{"document_bytes":16777216,"sheet_cells":100000,"rows_first":2000,"rows_last":500,"rows_between":2000,"halvings":0,"cell_chars":16384,"cell_head_chars":4096},"cells_cut":0,"cells_raw":0,"read":"whole","date_system":"1900"}

{"sheet":"02-01-01","index":0,"n_rows":542,"n_cols":93,"rows_kept":542,"cut":false,"hidden":false,"merged":[[7,0,7,4],[7,5,7,11],[9,0,9,4],[9,5,9,11],[11,0,11,4],[11,5,11,11],[1,0,1,4],[1,5,1,11],[3,0,3,4],[3,5,3,11],[5,0,5,4],[5,5,5,11],[21,0,21,11],[22,0,22,11],[24,0,24,11],[26,0,26,11],[27,0,27,11],[32,2,32,11],[13,0,13,4],[13,5,13,11],[15,0,15,4],[15,5,15,11],[18,0,18,11],[19,0,19,11],[45,0,49,0],[45,1,49,1],[45,2,49,2],[45,3,49,3],[45,4,48,6],[45,7,48,11],[33,2,33,11],[37,2,37,3],[40,2,40,3],[41,2,41,3],[42,2,42,3],[43,2,43,3],[95,2,95,7],[95,8,95,9],[95,10,95,11],[97,2,97,11],[118,2,118,7],[118,8,118,9],[118,10,118,11],[52,0,52,11],[54,2,54,11],[73,2,73,7],[73,8,73,9],[73,10,73,11],[75,2,75,11],[158,2,158,11],[177,2,177,7],[177,8,177,9],[177,10,177,11],[179,2,179,11],[203,2,203,7],[203,8,203,9],[203,10,203,11],[120,2,120,11],[141,2,141,7],[141,8,141,9],[141,10,141,11],[143,2,143,11],[156,2,156,7],[156,8,156,9],[156,10,156,11],[227,2,227,7],[228,2,228,7],[229,2,229,7],[230,2,230,7],[231,2,231,7],[232,2,232,7],[205,2,205,11],[223,2,223,7],[223,8,223,9],[223,10,223,11],[225,2,225,7],[226,2,226,7],[239,2,239,7],[240,2,240,7],[241,2,241,7],[242,2,242,7],[243,2,243,7],[244,2,244,7],[233,2,233,7],[234,2,234,7],[235,2,235,7],[236,2,236,7],[237,2,237,7],[238,2,238,7],[251,2,251,7],[252,2,252,7],[253,2,253,5],[254,2,254,5],[257,0,257,11],[259,2,259,11],[245,2,245,7],[246,2,246,7],[247,2,247,7],[248,2,248,7],[249,2,249,7],[250,2,250,7],[277,2,277,11],[295,2,295,7],[295,8,295,9],[295,10,295,11],[297,2,297,7],[297,8,297,9],[297,10,297,11],[266,2,266,7],[266,8,266,9],[266,10,266,11],[268,2,268,11],[275,2,275,7],[275,8,275,9],[275,10,275,11],[340,2,340,7],[340,8,340,9],[340,10,340,11],[342,2,342,7],[343,2,343,7],[344,2,344,7],[299,2,299,11],[317,2,317,7],[317,8,317,9],[317,10,317,11],[319,2,319,11],[338,2,338,7],[338,8,338,9],[338,10,338,11],[351,2,351,7],[352,2,352,7],[353,2,353,7],[354,2,354,7],[355,2,355,7],[356,2,356,7],[345,2,345,7],[346,2,346,7],[347,2,347,7],[348,2,348,7],[349,2,349,7],[350,2,350,7],[363,2,363,7],[364,2,364,7],[365,2,365,7],[366,2,366,7],[367,2,367,7],[368,2,368,7],[357,2,357,7],[358,2,358,7],[359,2,359,7],[360,2,360,7],[361,2,361,7],[362,2,362,7],[378,2,378,7],[378,8,378,9],[378,10,378,11],[380,2,380,7],[380,8,380,9],[380,10,380,11],[369,2,369,7],[370,2,370,5],[371,2,371,5],[374,0,374,11],[376,2,376,7],[376,8,376,9],[376,10,376,11],[386,2,386,7],[386,8,386,9],[386,10,386,11],[388,2,388,7],[388,8,388,9],[388,10,388,11],[382,2,382,7],[382,8,382,9],[382,10,382,11],[384,2,384,7],[384,8,384,9],[384,10,384,11],[394,2,394,7],[394,8,394,9],[394,10,394,11],[396,2,396,7],[396,8,396,9],[396,10,396,11],[390,2,390,7],[390,8,390,9],[390,10,390,11],[392,2,392,7],[392,8,392,9],[392,10,392,11],[403,2,403,7],[404,2,404,7],[405,2,405,7],[406,2,406,7],[407,2,407,7],[408,2,408,7],[398,2,398,7],[398,8,398,9],[398,10,398,11],[400,2,400,7],[401,2,401,7],[402,2,402,7],[415,2,415,7],[416,2,416,7],[417,2,417,7],[418,2,418,7],[419,2,419,7],[420,2,420,7],[409,2,409,7],[410,2,410,7],[411,2,411,7],[412,2,412,7],[413,2,413,7],[414,2,414,7],[427,2,427,7],[428,2,428,5],[429,2,429,5],[432,2,432,7],[434,2,434,7],[435,2,435,7],[421,2,421,7],[422,2,422,7],[423,2,423,7],[424,2,424,7],[425,2,425,7],[426,2,426,7],[442,2,442,7],[443,2,443,7],[444,2,444,7],[445,2,445,7],[446,2,446,7],[447,2,447,7],[436,2,436,7],[437,2,437,7],[438,2,438,7],[439,2,439,7],[440,2,440,7],[441,2,441,7],[455,2,455,7],[456,2,456,7],[457,2,457,7],[458,2,458,7],[459,2,459,7],[460,2,460,7],[448,2,448,7],[449,2,449,7],[450,2,450,7],[451,2,451,7],[452,2,452,7],[454,2,454,7],[467,2,467,7],[468,2,468,7],[469,2,469,7],[470,2,470,7],[471,2,471,7],[472,2,472,7],[461,2,461,7],[462,2,462,7],[463,2,463,7],[464,2,464,7],[465,2,465,7],[466,2,466,7],[481,2,481,7],[482,2,482,7],[483,2,483,7],[484,2,484,7],[485,2,485,7],[486,2,486,7],[474,2,474,7],[475,2,475,7],[476,2,476,7],[477,2,477,7],[479,2,479,7],[480,2,480,7],[493,2,493,7],[494,2,494,7],[495,2,495,7],[496,2,496,7],[497,2,497,7],[498,2,498,7],[487,2,487,7],[488,2,488,7],[489,2,489,7],[490,2,490,7],[491,2,491,7],[492,2,492,7],[506,2,506,7],[507,2,507,7],[508,2,508,7],[509,2,509,7],[510,2,510,7],[511,2,511,7],[499,2,499,7],[500,2,500,7],[501,2,501,7],[502,2,502,7],[503,2,503,7],[505,2,505,7],[518,2,518,7],[519,2,519,7],[520,2,520,7],[521,2,521,7],[522,2,522,7],[523,2,523,7],[512,2,512,7],[513,2,513,7],[514,2,514,7],[515,2,515,7],[516,2,516,7],[517,2,517,7],[530,2,530,7],[531,2,531,7],[532,2,532,5],[533,2,533,5],[538,2,538,6],[541,2,541,6],[524,2,524,7],[525,2,525,7],[526,2,526,7],[527,2,527,7],[528,2,528,7],[529,2,529,7]]}
[{"$f":"Source!B1","v":"Smeta.RU Flash  (495) 974-1589"}]
["Наименование программного продукта",null,null,null,null,"Программа для ЭВМ «Программа: «Smeta.RU Flash» версия 12»"]
[]
["Наименование редакции сметных нормативов",null,null,null,null,{"$f":"IF(Source!CQ12 <> \"\", Source!CQ12, \"\")","v":"Приказ Минстроя России от 30.12.2021 г. № 1046/пр;  Приказ Минстроя России от 04.08.2020 г. № 421/пр;  Приказ Минстроя России от 21.12.2020 г. № 812/пр;  Приказ Минстроя России от 11.12.2020 г. № 774/пр"},null,null,null,null,null,null,null,null,null,null,null,null,null,null,null,null,null,null,null,null,null,null,null,null,null,null,null,null,null,null,null,null,null,null,null,null,null,null,null,null,null,null,null,null,null,null,null,null,null,null,null,null,null,null,null,null,null,null,null,null,null,null,null,null,null,null,null,null,null,null,null,null,null,null,null,null,null,null,null,null,null,null,null,null,null,null,{"$f":"IF(Source!CQ12 <> \"\", Source!CQ12, \"\")","v":"Приказ Минстроя России от 30.12.2021 г. № 1046/пр;  Приказ Минстроя России от 04.08.2020 г. № 421/пр;  Приказ Минстроя России от 21.12.2020 г. № 812/пр;  Приказ Минстроя России от 11.12.2020 г. № 774/пр"}]
[]
["Реквизиты приказа Минстроя России об утверждении дополнений и изменений к сметным нормативам",null,null,null,null,{"$f":"IF(Source!CV12 <> \"\", Source!CV12, \"\")","v":"Приказ Минстроя России от 18.05.2022 г. № 378/пр; Приказ Минстроя России от 26.08.2022 г. № 703/пр; Приказ Минстроя России от 26.10.2022 г. № 905/пр;  Приказ Минстроя России от 27.12.2022 г. № 1133/пр; Приказ Минстроя России от 10.02.2023 г. № 84/пр; Приказ Минстроя России от 11.05.2023 г. № 335/пр;  Приказ Минстроя России от 02.08.2023 г. № 551/пр; Приказ Минстроя России от 14.11.2023 г. № 817/пр; Приказ Минстроя России от 16.02.2024 г. № 102/пр;  Приказ Минстроя России от 13.05.2024 г. № 323/пр; Приказ Минстроя России от 09.08.2024 г. № 524/пр; Приказ Минстроя России от 07.11.2024 г. № 747/пр;  Приказ Минстроя России от 07.02.2025 г. № 69/пр; Приказ Минстроя России от 19.05.2025 г. № 299/пр; Приказ Минстроя России от 14.08.2025 г. № 490/пр;  Приказ Минстроя России от 12.11.2025 г. № 696/пр; Приказ Минстроя России от 17.02.2026 г. № 91/пр;  Приказ Минстроя России от 07.07.2022 г. № 557/пр; Приказ Минстроя России от 30.01.2024 г. № 55/пр; Приказ Минстроя России от 23.01.2025 г. № 30/пр;  Приказ Минстроя России от 02.09.2021 г. № 636/пр; Приказ Минстроя России от 26.07.2022 г. № 611/пр; Приказ Минстроя России от 22.04.2022 г. № 317/пр"},null,null,null,null,null,null,null,null,null,null,null,null,null,null,null,null,null,null,null,null,null,null,null,null,null,null,null,null,null,null,null,null,null,null,null,null,null,null,null,null,null,null,null,null,null,null,null,null,null,null,null,null,null,null,null,null,null,null,null,null,null,null,null,null,null,null,null,null,null,null,null,null,null,null,null,null,null,null,null,null,null,null,null,null,null,null,{"$f":"IF(Source!CV12 <> \"\", Source!CV12, \"\")","v":"Приказ Минстроя России от 18.05.2022 г. № 378/пр; Приказ Минстроя России от 26.08.2022 г. № 703/пр; Приказ Минстроя России от 26.10.2022 г. № 905/пр;  Приказ Минстроя России от 27.12.2022 г. № 1133/пр; Приказ Минстроя России от 10.02.2023 г. № 84/пр; Приказ Минстроя России от 11.05.2023 г. № 335/пр;  Приказ Минстроя России от 02.08.2023 г. № 551/пр; Приказ Минстроя России от 14.11.2023 г. № 817/пр; Приказ Минстроя России от 16.02.2024 г. № 102/пр;  Приказ Минстроя России от 13.05.2024 г. № 323/пр; Приказ Минстроя России от 09.08.2024 г. № 524/пр; Приказ Минстроя России от 07.11.2024 г. № 747/пр;  Приказ Минстроя России от 07.02.2025 г. № 69/пр; Приказ Минстроя России от 19.05.2025 г. № 299/пр; Приказ Минстроя России от 14.08.2025 г. № 490/пр;  Приказ Минстроя России от 12.11.2025 г. № 696/пр; Приказ Минстроя России от 17.02.2026 г. № 91/пр;  Приказ Минстроя России от 07.07.2022 г. № 557/пр; Приказ Минстроя России от 30.01.2024 г. № 55/пр; Приказ Минстроя России от 23.01.2025 г. № 30/пр;  Приказ Минстроя России от 02.09.2021 г. № 636/пр; Приказ Минстроя России от 26.07.2022 г. № 611/пр; Приказ Минстроя России от 22.04.2022 г. № 317/пр"}]
[]
["Реквизиты письма Минстроя России об индексах изменения сметной стоимости строительства, включаемые в федеральный реестр сметных нормативов и размещаемые в федеральной государственной информационной системе ценообразования в строительстве, подготовленного в соответствии с пунктом 85 Методики расчета индексов изменения сметной стоимости строительства, утвержденной приказом Министерства строительства и жилищно-коммунального хозяйства Российской Федерации от 5 июня 2019 г. N 326/пр ",null,null,null,null,"Письмо Минстроя России от 25.02.2026 № 9859-ИФ/09"]
[]
["Реквизиты нормативного правового акта об утверждении оплаты труда, утверждаемый в соответствии с пунктом 22(1) Правилами мониторинга цен, утвержденными постановлением Правительства Российской Федерации от 23 декабря 2016 г. N 1452",null,null,null,null,"Приказ ПАО 'РОССЕТИ' от 26.12.2024 № 612"]
[]
["Обоснование принятых текущих цен на строительные ресурсы",null,null,null,null,"ФГИС ЦС, конъюнктурный анализ"]
[]
["Наименование субъекта Российской Федерации",null,null,null,null,{"$f":"IF(Source!CZ12 <> \"\", Source!CZ12, \"\")","v":""}]
[]
["Наименование зоны субъекта Российской Федерации",null,null,null,null,{"$f":"IF(Source!DA12 <> \"\", Source!DA12, \"\")","v":""}]
[]
[]
[]
["(наименование стройки)"]
[]
["355838_Талантбеков_(ДОТ)"]
["(наименование объекта капитального строительства)"]
[]
[{"$f":"CONCATENATE( \"ЛОКАЛЬНАЯ СМЕТА № \", Source!L20, \" \",Source!CM20)","v":"ЛОКАЛЬНАЯ СМЕТА № 02-01-01 "}]
[]
[{"$f":"IF(Source!G20<>\"Новая локальная смета\", Source!G20, \"\")","v":"Строительство ВЛИ-0,4 кВ"}]
["(наименование работ и затрат)"]
[]
[]
["Составлен",null,"Ресурсно-индексным","методом"]
[]
["Основание"]
[null,null,"(проектная и (или) иная техническая документация)"]
[]
["Составлен(а) в текущем уровне цен на апрель 2026 года"]
[]
["Сметная стоимость",null,{"$f":"C41+C42+C43+C44","v":99.06},null,"тыс. руб."]
[null,null,null,null,null,null,"Средства на оплату труда рабочих",null,null,null,{"$f":"ROUND(SUM(AR52:AR535)/1000, 2)","v":26.07},"тыс. руб."]
[null,"в том числе:",null,null,null,null,"Средства на оплату труда машинистов",null,null,null,{"$f":"ROUND(SUM(AT52:AT535)/1000, 2)","v":1.44},"тыс. руб."]
[null,"строительных работ",{"$f":"ROUND((Source!F518)/1000, 2)","v":51.88},null,"тыс. руб.",null,"Нормативные затраты труда рабочих ",null,null,null,{"$f":"Source!F523","v":33.571776},"чел.-ч."]
[null,"монтажных работ    ",{"$f":"ROUND((Source!F519)/1000, 2)","v":47.18},null,"тыс. руб.",null,"Нормативные затраты труда машинистов ",null,null,null,{"$f":"Source!F524","v":1.6946664},"чел.-ч."]
[null,"оборудования         ",{"$f":"ROUND((Source!F510)/1000, 2)","v":0},null,"тыс. руб."]
[null,"прочих затрат       ",{"$f":"ROUND((Source!F520)/1000, 2)","v":0},null,"тыс. руб."]
[]
["№ п/п","Обоснование","Наименование работ и затрат","Единица измерения","Количество",null,null,"Сметная стоимость, руб."]
[]
[]
[]
[null,null,null,null,"на единицу измерения","коэффициенты","всего с учетом коэффициентов","на единицу измерения в базисном уровне цен","индекс","на единицу измерения в текущем уровне цен","коэффициенты","всего в текущем уровне цен"]
[1,2,3,4,5,6,7,8,9,10,11,12]
[]
["Раздел: СМР"]
["6","ГЭСНм 08-02-409-03",{"$f":"Source!G160","v":"Труба винипластовая по установленным конструкциям, по стенам и колоннам с креплением скобами, диаметр: до 63 мм (Применяется труба d75 мм)"},{"$f":"Source!H160","v":"100 м"},{"$f":"Source!K160","v":0.04},null,{"$f":"Source!I160","v":0.04}]
[null,"421/пр_2020_прил.10_т.1_п.4_гр.5","ЭМ *1,20; ЗТ *1,20; ЗТм *1,20"]
[null,1,"ОТ (ЗТ)","чел.-ч.",null,null,{"$f":"Source!U160","v":1.5014400000000001},null,null,null,null,{"$f":"SUM(L57:L57)-SUMIF(CE57:CE57, 1, L57:L57)","v":1191.56}]
[null,"1-100-38","Средний разряд работы 3,8","чел.-ч.",31.28,{"$f":"ROUND((0.2+1),7)","v":1.2},{"$f":"SmtRes!CX253","v":1.5014400000000001},null,null,{"$f":"SmtRes!CZ253","v":793.61},null,{"$f":"SmtRes!DI253","v":1191.56}]
[null,2,"ЭМ",null,null,null,null,null,null,null,null,{"$f":"SUM(L59:L64)-SUMIF(CE59:CE64, 1, L59:L64)","v":41.69}]
[null,null,"ОТм(ЗТм)","чел.-ч.",null,null,{"$f":"Source!V160","v":3.3599999999999998E-2},null,null,null,null,{"$f":"SUMIF(CE60:CE64, 1, L60:L64)","v":31.96},null,null,null,null,null,null,null,null,null,null,null,null,null,null,null,null,null,null,null,null,null,null,null,null,null,null,null,null,null,null,null,null,null,null,null,null,null,null,null,null,null,null,null,null,null,null,null,null,null,null,null,null,null,null,null,null,null,null,null,null,null,null,null,null,null,null,null,null,null,null,1]
[null,"91.05.05-015","Краны на автомобильном ходу, грузоподъемность 16 т","маш.-ч",0.35,{"$f":"ROUND((0.2+1),7)","v":1.2},{"$f":"SmtRes!CX255","v":1.6799999999999999E-2},null,null,{"$f":"SmtRes!CZ255","v":1626.29},null,{"$f":"SmtRes!DG255","v":27.32}]
[null,"4-100-060","ОТм(ЗТм) Средний разряд машинистов 6","чел.-ч.",{"$f":"SmtRes!DO255*SmtRes!AT255","v":0.35},{"$f":"ROUND((0.2+1),7)","v":1.2},{"$f":"ROUND(E61*F61*G54, 7)","v":1.6799999999999999E-2},null,null,{"$f":"ROUND(SmtRes!AG255/SmtRes!DO255, 2)","v":1090.46},null,{"$f":"SmtRes!DH255","v":18.32},null,null,null,null,null,null,null,null,null,null,null,null,null,null,null,null,null,null,null,null,null,null,null,null,null,null,null,null,null,null,null,null,null,null,null,null,null,null,null,null,null,null,null,null,null,null,null,null,null,null,null,null,null,null,null,null,null,null,null,null,null,null,null,null,null,null,null,null,null,null,1]
[null,"91.14.02-001","Автомобили бортовые, грузоподъемность до 5 т","маш.-ч",0.35,{"$f":"ROUND((0.2+1),7)","v":1.2},{"$f":"SmtRes!CX256","v":1.6799999999999999E-2},null,null,{"$f":"SmtRes!CZ256","v":641.70000000000005},null,{"$f":"SmtRes!DG256","v":10.78}]
[null,"4-100-040","ОТм(ЗТм) Средний разряд машинистов 4","чел.-ч.",{"$f":"SmtRes!DO256*SmtRes!AT256","v":0.35},{"$f":"ROUND((0.2+1),7)","v":1.2},{"$f":"ROUND(E63*F63*G54, 7)","v":1.6799999999999999E-2},null,null,{"$f":"ROUND(SmtRes!AG256/SmtRes!DO256, 2)","v":811.79},null,{"$f":"SmtRes!DH256","v":13.64},null,null,null,null,null,null,null,null,null,null,null,null,null,null,null,null,null,null,null,null,null,null,null,null,null,null,null,null,null,null,null,null,null,null,null,null,null,null,null,null,null,null,null,null,null,null,null,null,null,null,null,null,null,null,null,null,null,null,null,null,null,null,null,null,null,null,null,null,null,null,1]
[null,"91.17.04-233","Аппараты сварочные для ручной дуговой сварки, сварочный ток до 350 А","маш.-ч",2.16,{"$f":"ROUND((0.2+1),7)","v":1.2},{"$f":"SmtRes!CX257","v":0.10367999999999999},null,null,{"$f":"SmtRes!CZ257","v":34.61},null,{"$f":"SmtRes!DG257","v":3.59}]
[null,4,"М",null,null,null,null,null,null,null,null,{"$f":"SUM(L66:L68)-SUMIF(CE66:CE68, 1, L66:L68)","v":10.35}]
[null,"01.7.03.04-0001","Электроэнергия","КВТ-Ч",1.1488,null,{"$f":"SmtRes!CX258","v":4.5952E-2},null,null,{"$f":"SmtRes!CZ258","v":7.32},null,{"$f":"SmtRes!DF258","v":0.34}]
[null,"01.7.11.07-0227","Электроды сварочные для сварки низколегированных и углеродистых сталей УОНИ 13/45, Э42А, диаметр 4-5 мм","кг",0.96,null,{"$f":"SmtRes!CX259","v":3.8399999999999997E-2},{"$f":"SmtRes!CZ259","v":155.63},{"$f":"SmtRes!AI259","v":0.78},{"$f":"ROUND(H67*I67, 2)","v":121.39},null,{"$f":"SmtRes!DF259","v":4.66}]
[null,"14.1.02.01-0002","Клей, марка БМК-5к","кг",0.55000000000000004,null,{"$f":"SmtRes!CX260","v":2.1999999999999999E-2},{"$f":"SmtRes!CZ260","v":160.07},{"$f":"SmtRes!AI260","v":1.52},{"$f":"ROUND(H68*I68, 2)","v":243.31},null,{"$f":"SmtRes!DF260","v":5.35}]
[null,null,"Итого прямые затраты",null,null,null,null,null,null,null,null,{"$f":"L56+L58+L59+L65","v":1275.56}]
["6.1",{"$f":"Source!F163","v":"421/пр_2020_п.75_пп.а"},{"$f":"Source!G163","v":"Сметная стоимость вспомогательных ненормируемых материальных ресурсов, не учтенная в сметной норме, 2%"},{"$f":"Source!H163","v":"%"},{"$f":"SmtRes!AT261","v":2},null,{"$f":"Source!I163","v":2},null,null,null,null,{"$f":"Source!P163","v":19.86},null,null,null,null,null,null,null,null,null,null,null,null,null,null,null,null,null,{"$f":"ROUND((Source!AT163/100)*((ROUND(0*Source!I163, 2)+ROUND(0*Source!I163, 2))), 2)","v":0},{"$f":"ROUND((Source!AU163/100)*((ROUND(0*Source!I163, 2)+ROUND(0*Source!I163, 2))), 2)","v":0},null,null,null,null,null,null,null,null,{"$f":"L70","v":19.86},null,null,null,null,null,null,null,null,{"$f":"L70","v":19.86},null,null,{"$f":"Source!X163","v":0},{"$f":"Source!Y163","v":0},null,null,null,null,null,null,null,null,null,null,null,null,null,null,null,null,null,null,null,null,null,null,null,null,null,null,null,null,2]
[null,null,"ФОТ",null,null,null,null,null,null,null,null,{"$f":"SUM(AR54:AR74)+SUM(AS54:AS74)+SUM(AT54:AT74)+SUM(AU54:AU74)+SUM(AV54:AV74)","v":1223.52}]
[null,"Пр/812-049.3-1","НР Электротехнические установки: на других объектах","%",{"$f":"Source!BZ160","v":97},null,{"$f":"Source!AT160","v":97},null,null,null,null,{"$f":"SUM(AZ54:AZ74)","v":1186.81}]
[null,"Пр/774-049.3","СП Электротехнические установки: на других объектах","%",{"$f":"Source!CA160","v":51},null,{"$f":"Source!AU160","v":51},null,null,null,null,{"$f":"SUM(BA54:BA74)","v":624}]
[null,null,"Всего по позиции",null,null,null,null,null,{"$f":"IF(E54<>0,K74/E54, 0)","v":77655.75},null,{"$f":"L56+L58+L65+L72+L73+L59+SUM(L70:L70)","v":3106.23},null,null,null,null,null,null,null,null,null,null,null,null,null,null,null,null,null,null,{"$f":"ROUND((Source!AT160/100)*((ROUND(SUMIF(SmtRes!AQ253:'SmtRes'!AQ261,\"=1\",SmtRes!AD253:'SmtRes'!AD261)*Source!I160, 2)+ROUND(SUMIF(SmtRes!AQ253:'SmtRes'!AQ261,\"=1\",SmtRes!AC253:'SmtRes'!AC261)*Source!I160, 2))), 2)","v":104.6},{"$f":"ROUND((Source!AU160/100)*((ROUND(SUMIF(SmtRes!AQ253:'SmtRes'!AQ261,\"=1\",SmtRes!AD253:'SmtRes'!AD261)*Source!I160, 2)+ROUND(SUMIF(SmtRes!AQ253:'SmtRes'!AQ261,\"=1\",SmtRes!AC253:'SmtRes'!AC261)*Source!I160, 2))), 2)","v":54.99},null,null,null,null,null,null,null,null,{"$f":"L56+L58+L65+L72+L73+L59","v":3086.37},{"$f":"L58","v":41.69},null,"=",{"$f":"L56","v":1191.56},null,{"$f":"L59","v":31.96},null,"=",{"$f":"L65","v":10.35},null,null,{"$f":"Source!X160","v":1186.81},{"$f":"Source!Y160","v":624},null,null,null,null,null,null,null,null,null,null,null,null,null,null,null,null,null,null,null,null,null,null,null,null,null,null,null,null,2]
["7","ГЭСНм 08-02-412-06",{"$f":"Source!G165","v":"Затягивание провода в проложенные трубы и металлические рукава первого одножильного или многожильного в общей оплетке, суммарное сечение: до 120 мм2"},{"$f":"Source!H165","v":"100 м"},{"$f":"Source!K165","v":0.04},null,{"$f":"Source!I165","v":0.04}]
[null,"421/пр_2020_прил.10_т.1_п.4_гр.5","ЭМ *1,20; ЗТ *1,20; ЗТм *1,20"]
[null,1,"ОТ (ЗТ)","чел.-ч.",null,null,{"$f":"Source!U165","v":0.69120000000000004},null,null,null,null,{"$f":"SUM(L78:L78)-SUMIF(CE78:CE78, 1, L78:L78)","v":548.54}]
[null,"1-100-38","Средний разряд работы 3,8","чел.-ч.",14.4,{"$f":"ROUND((0.2+1),7)","v":1.2},{"$f":"SmtRes!CX271","v":0.69120000000000004},null,null,{"$f":"SmtRes!CZ271","v":793.61},null,{"$f":"SmtRes!DI271","v":548.54}]
[null,2,"ЭМ",null,null,null,null,null,null,null,null,{"$f":"SUM(L80:L84)-SUMIF(CE80:CE84, 1, L80:L84)","v":21.769999999999996}]
[null,null,"ОТм(ЗТм)","чел.-ч.",null,null,{"$f":"Source!V165","v":1.9199999999999998E-2},null,null,null,null,{"$f":"SUMIF(CE81:CE84, 1, L81:L84)","v":18.260000000000002},null,null,null,null,null,null,null,null,null,null,null,null,null,null,null,null,null,null,null,null,null,null,null,null,null,null,null,null,null,null,null,null,null,null,null,null,null,null,null,null,null,null,null,null,null,null,null,null,null,null,null,null,null,null,null,null,null,null,null,null,null,null,null,null,null,null,null,null,null,null,1]
[null,"91.05.05-015","Краны на автомобильном ходу, грузоподъемность 16 т","маш.-ч",0.2,{"$f":"ROUND((0.2+1),7)","v":1.2},{"$f":"SmtRes!CX273","v":9.5999999999999992E-3},null,null,{"$f":"SmtRes!CZ273","v":1626.29},null,{"$f":"SmtRes!DG273","v":15.61}]
[null,"4-100-060","ОТм(ЗТм) Средний разряд машинистов 6","чел.-ч.",{"$f":"SmtRes!DO273*SmtRes!AT273","v":0.2},{"$f":"ROUND((0.2+1),7)","v":1.2},{"$f":"ROUND(E82*F82*G75, 7)","v":9.5999999999999992E-3},null,null,{"$f":"ROUND(SmtRes!AG273/SmtRes!DO273, 2)","v":1090.46},null,{"$f":"SmtRes!DH273","v":10.47},null,null,null,null,null,null,null,null,null,null,null,null,null,null,null,null,null,null,null,null,null,null,null,null,null,null,null,null,null,null,null,null,null,null,null,null,null,null,null,null,null,null,null,null,null,null,null,null,null,null,null,null,null,null,null,null,null,null,null,null,null,null,null,null,null,null,null,null,null,null,1]
[null,"91.14.02-001","Автомобили бортовые, грузоподъемность до 5 т","маш.-ч",0.2,{"$f":"ROUND((0.2+1),7)","v":1.2},{"$f":"SmtRes!CX274","v":9.5999999999999992E-3},null,null,{"$f":"SmtRes!CZ274","v":641.70000000000005},null,{"$f":"SmtRes!DG274","v":6.16}]
[null,"4-100-040","ОТм(ЗТм) Средний разряд машинистов 4","чел.-ч.",{"$f":"SmtRes!DO274*SmtRes!AT274","v":0.2},{"$f":"ROUND((0.2+1),7)","v":1.2},{"$f":"ROUND(E84*F84*G75, 7)","v":9.5999999999999992E-3},null,null,{"$f":"ROUND(SmtRes!AG274/SmtRes!DO274, 2)","v":811.79},null,{"$f":"SmtRes!DH274","v":7.79},null,null,null,null,null,null,null,null,null,null,null,null,null,null,null,null,null,null,null,null,null,null,null,null,null,null,null,null,null,null,null,null,null,null,null,null,null,null,null,null,null,null,null,null,null,null,null,null,null,null,null,null,null,null,null,null,null,null,null,null,null,null,null,null,null,null,null,null,null,null,1]
[null,4,"М",null,null,null,null,null,null,null,null,{"$f":"SUM(L86:L90)-SUMIF(CE86:CE90, 1, L86:L90)","v":42.8}]
[null,"01.7.06.05-0041","Ленты изоляционные хлопчатобумажные прорезиненные для электромонтажных и ремонтных работ, цвет черный, ширина 20 мм, толщина 0,35 мм","м",33.33,null,{"$f":"SmtRes!CX275","v":1.3331999999999999},{"$f":"SmtRes!CZ275","v":5.87},{"$f":"SmtRes!AI275","v":0.88},{"$f":"ROUND(H86*I86, 2)","v":5.17},null,{"$f":"SmtRes!DF275","v":6.89}]
[null,"01.7.07.20-0002","Тальк молотый, сорт I","т",1.3699999999999999E-3,null,{"$f":"SmtRes!CX276","v":5.4799999999999997E-5},{"$f":"SmtRes!CZ276","v":43821.53},{"$f":"SmtRes!AI276","v":1.32},{"$f":"ROUND(H87*I87, 2)","v":57844.42},null,{"$f":"SmtRes!DF276","v":3.17}]
[null,"14.4.02.04-0142","Краска масляная МА-0115, мумия, сурик железный","кг",0.02,null,{"$f":"SmtRes!CX277","v":8.0000000000000004E-4},{"$f":"SmtRes!CZ277","v":79.88},{"$f":"SmtRes!AI277","v":1.44},{"$f":"ROUND(H88*I88, 2)","v":115.03},null,{"$f":"SmtRes!DF277","v":0.09}]
[null,"20.2.01.05-0011","Гильзы кабельные медные 120 мм","100 ШТ",0.05,null,{"$f":"SmtRes!CX278","v":2E-3},{"$f":"SmtRes!CZ278","v":11574.95},{"$f":"SmtRes!AI278","v":1.23},{"$f":"ROUND(H89*I89, 2)","v":14237.19},null,{"$f":"SmtRes!DF278","v":28.47}]
[null,"20.2.02.01-0016","Втулки полипропиленовые, диаметр 69 мм","1000 ШТ",1.2200000000000001E-2,null,{"$f":"SmtRes!CX279","v":4.8799999999999999E-4},{"$f":"SmtRes!CZ279","v":6904.76},{"$f":"SmtRes!AI279","v":1.24},{"$f":"ROUND(H90*I90, 2)","v":8561.9},null,{"$f":"SmtRes!DF279","v":4.18}]
[null,null,"Итого прямые затраты",null,null,null,null,null,null,null,null,{"$f":"L77+L79+L80+L85","v":631.36999999999989}]
["7.1",{"$f":"Source!F168","v":"421/пр_2020_п.75_пп.а"},{"$f":"Source!G168","v":"Сметная стоимость вспомогательных ненормируемых материальных ресурсов, не учтенная в сметной норме, 2%"},{"$f":"Source!H168","v":"%"},{"$f":"SmtRes!AT280","v":2},null,{"$f":"Source!I168","v":2},null,null,null,null,{"$f":"Source!P168","v":9.14},null,null,null,null,null,null,null,null,null,null,null,null,null,null,null,null,null,{"$f":"ROUND((Source!AT168/100)*((ROUND(0*Source!I168, 2)+ROUND(0*Source!I168, 2))), 2)","v":0},{"$f":"ROUND((Source!AU168/100)*((ROUND(0*Source!I168, 2)+ROUND(0*Source!I168, 2))), 2)","v":0},null,null,null,null,null,null,null,null,{"$f":"L92","v":9.14},null,null,null,null,null,null,null,null,{"$f":"L92","v":9.14},null,null,{"$f":"Source!X168","v":0},{"$f":"Source!Y168","v":0},null,null,null,null,null,null,null,null,null,null,null,null,null,null,null,null,null,null,null,null,null,null,null,null,null,null,null,null,2]
[null,null,"ФОТ",null,null,null,null,null,null,null,null,{"$f":"SUM(AR75:AR96)+SUM(AS75:AS96)+SUM(AT75:AT96)+SUM(AU75:AU96)+SUM(AV75:AV96)","v":566.79999999999995}]
[null,"Пр/812-049.3-1","НР Электротехнические установки: на других объектах","%",{"$f":"Source!BZ165","v":97},null,{"$f":"Source!AT165","v":97},null,null,null,null,{"$f":"SUM(AZ75:AZ96)","v":549.79999999999995}]
[null,"Пр/774-049.3","СП Электротехнические установки: на других объектах","%",{"$f":"Source!CA165","v":51},null,{"$f":"Source!AU165","v":51},null,null,null,null,{"$f":"SUM(BA75:BA96)","v":289.07}]
[null,null,"Всего по позиции",null,null,null,null,null,{"$f":"IF(E75<>0,K96/E75, 0)","v":36984.499999999993},null,{"$f":"L77+L79+L85+L94+L95+L80+SUM(L92:L92)","v":1479.3799999999999},null,null,null,null,null,null,null,null,null,null,null,null,null,null,null,null,null,null,{"$f":"ROUND((Source!AT165/100)*((ROUND(SUMIF(SmtRes!AQ271:'SmtRes'!AQ280,\"=1\",SmtRes!AD271:'SmtRes'!AD280)*Source!I165, 2)+ROUND(SUMIF(SmtRes!AQ271:'SmtRes'!AQ280,\"=1\",SmtRes!AC271:'SmtRes'!AC280)*Source!I165, 2))), 2)","v":104.6},{"$f":"ROUND((Source!AU165/100)*((ROUND(SUMIF(SmtRes!AQ271:'SmtRes'!AQ280,\"=1\",SmtRes!AD271:'SmtRes'!AD280)*Source!I165, 2)+ROUND(SUMIF(SmtRes!AQ271:'SmtRes'!AQ280,\"=1\",SmtRes!AC271:'SmtRes'!AC280)*Source!I165, 2))), 2)","v":54.99},null,null,null,null,null,null,null,null,{"$f":"L77+L79+L85+L94+L95+L80","v":1470.2399999999998},{"$f":"L79","v":21.769999999999996},null,"=",{"$f":"L77","v":548.54},null,{"$f":"L80","v":18.260000000000002},null,"=",{"$f":"L85","v":42.8},null,null,{"$f":"Source!X165","v":549.79999999999995},{"$f":"Source!Y165","v":289.07},null,null,null,null,null,null,null,null,null,null,null,null,null,null,null,null,null,null,null,null,null,null,null,null,null,null,null,null,2]
["8","ГЭСНм 08-02-405-04",{"$f":"Source!G170","v":"Провод по установленным стальным конструкциям и панелям, сечение: до 120 мм2"},{"$f":"Source!H170","v":"100 м"},{"$f":"Source!K170","v":0.03},null,{"$f":"Source!I170","v":0.03}]
[null,"421/пр_2020_прил.10_т.1_п.4_гр.5","ЭМ *1,20; ЗТ *1,20; ЗТм *1,20"]
[null,1,"ОТ (ЗТ)","чел.-ч.",null,null,{"$f":"Source!U170","v":1.4803200000000001},null,null,null,null,{"$f":"SUM(L100:L100)-SUMIF(CE100:CE100, 1, L100:L100)","v":1174.8}]
[null,"1-100-38","Средний разряд работы 3,8","чел.-ч.",41.12,{"$f":"ROUND((0.2+1),7)","v":1.2},{"$f":"SmtRes!CX291","v":1.4803200000000001},null,null,{"$f":"SmtRes!CZ291","v":793.61},null,{"$f":"SmtRes!DI291","v":1174.8}]
[null,2,"ЭМ",null,null,null,null,null,null,null,null,{"$f":"SUM(L102:L107)-SUMIF(CE102:CE107, 1, L102:L107)","v":69.029999999999973}]
[null,null,"ОТм(ЗТм)","чел.-ч.",null,null,{"$f":"Source!V170","v":5.5440000000000003E-2},null,null,null,null,{"$f":"SUMIF(CE103:CE107, 1, L103:L107)","v":52.730000000000004},null,null,null,null,null,null,null,null,null,null,null,null,null,null,null,null,null,null,null,null,null,null,null,null,null,null,null,null,null,null,null,null,null,null,null,null,null,null,null,null,null,null,null,null,null,null,null,null,null,null,null,null,null,null,null,null,null,null,null,null,null,null,null,null,null,null,null,null,null,null,1]
[null,"91.05.05-015","Краны на автомобильном ходу, грузоподъемность 16 т","маш.-ч",0.77,{"$f":"ROUND((0.2+1),7)","v":1.2},{"$f":"SmtRes!CX293","v":2.7720000000000002E-2},null,null,{"$f":"SmtRes!CZ293","v":1626.29},null,{"$f":"SmtRes!DG293","v":45.08}]
[null,"4-100-060","ОТм(ЗТм) Средний разряд машинистов 6","чел.-ч.",{"$f":"SmtRes!DO293*SmtRes!AT293","v":0.77},{"$f":"ROUND((0.2+1),7)","v":1.2},{"$f":"ROUND(E104*F104*G97, 7)","v":2.7720000000000002E-2},null,null,{"$f":"ROUND(SmtRes!AG293/SmtRes!DO293, 2)","v":1090.46},null,{"$f":"SmtRes!DH293","v":30.23},null,null,null,null,null,null,null,null,null,null,null,null,null,null,null,null,null,null,null,null,null,null,null,null,null,null,null,null,null,null,null,null,null,null,null,null,null,null,null,null,null,null,null,null,null,null,null,null,null,null,null,null,null,null,null,null,null,null,null,null,null,null,null,null,null,null,null,null,null,null,1]
[null,"91.14.02-001","Автомобили бортовые, грузоподъемность до 5 т","маш.-ч",0.77,{"$f":"ROUND((0.2+1),7)","v":1.2},{"$f":"SmtRes!CX294","v":2.7720000000000002E-2},null,null,{"$f":"SmtRes!CZ294","v":641.70000000000005},null,{"$f":"SmtRes!DG294","v":17.79}]
[null,"4-100-040","ОТм(ЗТм) Средний разряд машинистов 4","чел.-ч.",{"$f":"SmtRes!DO294*SmtRes!AT294","v":0.77},{"$f":"ROUND((0.2+1),7)","v":1.2},{"$f":"ROUND(E106*F106*G97, 7)","v":2.7720000000000002E-2},null,null,{"$f":"ROUND(SmtRes!AG294/SmtRes!DO294, 2)","v":811.79},null,{"$f":"SmtRes!DH294","v":22.5},null,null,null,null,null,null,null,null,null,null,null,null,null,null,null,null,null,null,null,null,null,null,null,null,null,null,null,null,null,null,null,null,null,null,null,null,null,null,null,null,null,null,null,null,null,null,null,null,null,null,null,null,null,null,null,null,null,null,null,null,null,null,null,null,null,null,null,null,null,null,1]
[null,"91.17.04-233","Аппараты сварочные для ручной дуговой сварки, сварочный ток до 350 А","маш.-ч",4.9400000000000004,{"$f":"ROUND((0.2+1),7)","v":1.2},{"$f":"SmtRes!CX295","v":0.17784},null,null,{"$f":"SmtRes!CZ295","v":34.61},null,{"$f":"SmtRes!DG295","v":6.16}]
[null,4,"М",null,null,null,null,null,null,null,null,{"$f":"SUM(L109:L113)-SUMIF(CE109:CE113, 1, L109:L113)","v":27.880000000000003}]
[null,"01.7.02.07-0011","Прессшпан листовой, марка А","кг",0.99,null,{"$f":"SmtRes!CX296","v":2.9700000000000001E-2},{"$f":"SmtRes!CZ296","v":206.43},{"$f":"SmtRes!AI296","v":1.37},{"$f":"ROUND(H109*I109, 2)","v":282.81},null,{"$f":"SmtRes!DF296","v":8.4}]
[null,"01.7.03.04-0001","Электроэнергия","КВТ-Ч",2.5428000000000002,null,{"$f":"SmtRes!CX297","v":7.6284000000000005E-2},null,null,{"$f":"SmtRes!CZ297","v":7.32},null,{"$f":"SmtRes!DF297","v":0.56000000000000005}]
[null,"01.7.11.07-0227","Электроды сварочные для сварки низколегированных и углеродистых сталей УОНИ 13/45, Э42А, диаметр 4-5 мм","кг",3,null,{"$f":"SmtRes!CX298","v":0.09},{"$f":"SmtRes!CZ298","v":155.63},{"$f":"SmtRes!AI298","v":0.78},{"$f":"ROUND(H111*I111, 2)","v":121.39},null,{"$f":"SmtRes!DF298","v":10.93}]
[null,"01.7.15.04-0011","Винты стальные с полукруглой головкой, длина 50 мм","т",1.5499999999999999E-3,null,{"$f":"SmtRes!CX299","v":4.6499999999999999E-5},{"$f":"SmtRes!CZ299","v":127406},{"$f":"SmtRes!AI299","v":1.29},{"$f":"ROUND(H112*I112, 2)","v":164353.74},null,{"$f":"SmtRes!DF299","v":7.64}]
[null,"14.4.02.04-0142","Краска масляная МА-0115, мумия, сурик железный","кг",0.1,null,{"$f":"SmtRes!CX300","v":3.0000000000000001E-3},{"$f":"SmtRes!CZ300","v":79.88},{"$f":"SmtRes!AI300","v":1.44},{"$f":"ROUND(H113*I113, 2)","v":115.03},null,{"$f":"SmtRes!DF300","v":0.35}]
[null,null,"Итого прямые затраты",null,null,null,null,null,null,null,null,{"$f":"L99+L101+L102+L108","v":1324.44}]
["8.1",{"$f":"Source!F173","v":"421/пр_2020_п.75_пп.а"},{"$f":"Source!G173","v":"Сметная стоимость вспомогательных ненормируемых материальных ресурсов, не учтенная в сметной норме, 2%"},{"$f":"Source!H173","v":"%"},{"$f":"SmtRes!AT301","v":2},null,{"$f":"Source!I173","v":2},null,null,null,null,{"$f":"Source!P173","v":19.579999999999998},null,null,null,null,null,null,null,null,null,null,null,null,null,null,null,null,null,{"$f":"ROUND((Source!AT173/100)*((ROUND(0*Source!I173, 2)+ROUND(0*Source!I173, 2))), 2)","v":0},{"$f":"ROUND((Source!AU173/100)*((ROUND(0*Source!I173, 2)+ROUND(0*Source!I173, 2))), 2)","v":0},null,null,null,null,null,null,null,null,{"$f":"L115","v":19.579999999999998},null,null,null,null,null,null,null,null,{"$f":"L115","v":19.579999999999998},null,null,{"$f":"Source!X173","v":0},{"$f":"Source!Y173","v":0},null,null,null,null,null,null,null,null,null,null,null,null,null,null,null,null,null,null,null,null,null,null,null,null,null,null,null,null,2]
[null,null,"ФОТ",null,null,null,null,null,null,null,null,{"$f":"SUM(AR97:AR119)+SUM(AS97:AS119)+SUM(AT97:AT119)+SUM(AU97:AU119)+SUM(AV97:AV119)","v":1227.53}]
[null,"Пр/812-049.3-1","НР Электротехнические установки: на других объектах","%",{"$f":"Source!BZ170","v":97},null,{"$f":"Source!AT170","v":97},null,null,null,null,{"$f":"SUM(AZ97:AZ119)","v":1190.7}]
[null,"Пр/774-049.3","СП Электротехнические установки: на других объектах","%",{"$f":"Source!CA170","v":51},null,{"$f":"Source!AU170","v":51},null,null,null,null,{"$f":"SUM(BA97:BA119)","v":626.04}]
[null,null,"Всего по позиции",null,null,null,null,null,{"$f":"IF(E97<>0,K119/E97, 0)","v":105358.66666666666},null,{"$f":"L99+L101+L108+L117+L118+L102+SUM(L115:L115)","v":3160.7599999999998},null,null,null,null,null,null,null,null,null,null,null,null,null,null,null,null,null,null,{"$f":"ROUND((Source!AT170/100)*((ROUND(SUMIF(SmtRes!AQ291:'SmtRes'!AQ301,\"=1\",SmtRes!AD291:'SmtRes'!AD301)*Source!I170, 2)+ROUND(SUMIF(SmtRes!AQ291:'SmtRes'!AQ301,\"=1\",SmtRes!AC291:'SmtRes'!AC301)*Source!I170, 2))), 2)","v":78.45},{"$f":"ROUND((Source!AU170/100)*((ROUND(SUMIF(SmtRes!AQ291:'SmtRes'!AQ301,\"=1\",SmtRes!AD291:'SmtRes'!AD301)*Source!I170, 2)+ROUND(SUMIF(SmtRes!AQ291:'SmtRes'!AQ301,\"=1\",SmtRes!AC291:'SmtRes'!AC301)*Source!I170, 2))), 2)","v":41.25},null,null,null,null,null,null,null,null,{"$f":"L99+L101+L108+L117+L118+L102","v":3141.18},{"$f":"L101","v":69.029999999999973},null,"=",{"$f":"L99","v":1174.8},null,{"$f":"L102","v":52.730000000000004},null,"=",{"$f":"L108","v":27.880000000000003},null,null,{"$f":"Source!X170","v":1190.7},{"$f":"Source!Y170","v":626.04},null,null,null,null,null,null,null,null,null,null,null,null,null,null,null,null,null,null,null,null,null,null,null,null,null,null,null,null,2]
["9","ГЭСН 33-04-017-01",{"$f":"Source!G175","v":"Подвеска провода СИП-2 напряжением от 0,4 кВ до 1 кВ на опорах, при 32 опорах на км линии: с использованием автогидроподъемника"},{"$f":"Source!H175","v":"1000 м"},{"$f":"Source!K175","v":6.9999999999999802E-3},null,{"$f":"Source!I175","v":6.9999999999999802E-3}]
[null,"421/пр_2020_прил.10_т.1_п.4_гр.5","ЭМ *1,20; ЗТ *1,20; ЗТм *1,20"]
[null,1,"ОТ (ЗТ)","чел.-ч.",null,null,{"$f":"Source!U175","v":0.79900799999999994},null,null,null,null,{"$f":"SUM(L123:L126)-SUMIF(CE123:CE126, 1, L123:L126)","v":635.13}]
[null,"2-100-02","Рабочий 2 разряда","чел.-ч",0.99,{"$f":"ROUND((0.2+1),7)","v":1.2},{"$f":"SmtRes!CX313","v":8.3160000000000005E-3},null,null,{"$f":"SmtRes!CZ313","v":660.33},null,{"$f":"SmtRes!DI313","v":5.49}]
[null,"2-100-03","Рабочий 3 разряда","чел.-ч",47.29,{"$f":"ROUND((0.2+1),7)","v":1.2},{"$f":"SmtRes!CX314","v":0.39723599999999998},null,null,{"$f":"L124/G124","v":720.98198551994278},null,{"$f":"SmtRes!DI314+0.03","v":286.39999999999998}]
[null,"2-100-04","Рабочий 4 разряда","чел.-ч",23.42,{"$f":"ROUND((0.2+1),7)","v":1.2},{"$f":"SmtRes!CX315","v":0.19672799999999999},null,null,{"$f":"SmtRes!CZ315","v":811.79},null,{"$f":"SmtRes!DI315","v":159.69999999999999}]
[null,"2-100-05","Рабочий 5 разряда","чел.-ч",23.42,{"$f":"ROUND((0.2+1),7)","v":1.2},{"$f":"SmtRes!CX316","v":0.19672799999999999},null,null,{"$f":"SmtRes!CZ316","v":932.95},null,{"$f":"SmtRes!DI316","v":183.54}]
[null,2,"ЭМ",null,null,null,null,null,null,null,null,{"$f":"SUM(L128:L137)-SUMIF(CE128:CE137, 1, L128:L137)","v":111.56}]
[null,null,"ОТм(ЗТм)","чел.-ч.",null,null,{"$f":"Source!V175","v":0.20907599999999998},null,null,null,null,{"$f":"SUMIF(CE129:CE137, 1, L129:L137)","v":171.47000000000003},null,null,null,null,null,null,null,null,null,null,null,null,null,null,null,null,null,null,null,null,null,null,null,null,null,null,null,null,null,null,null,null,null,null,null,null,null,null,null,null,null,null,null,null,null,null,null,null,null,null,null,null,null,null,null,null,null,null,null,null,null,null,null,null,null,null,null,null,null,null,1]
[null,"91.05.05-015","Краны на автомобильном ходу, грузоподъемность 16 т","маш.-ч",0.75,{"$f":"ROUND((0.2+1),7)","v":1.2},{"$f":"SmtRes!CX318","v":6.3E-3},null,null,{"$f":"SmtRes!CZ318","v":1626.29},null,{"$f":"SmtRes!DG318","v":10.25}]
[null,"4-100-060","ОТм(ЗТм) Средний разряд машинистов 6","чел.-ч.",{"$f":"SmtRes!DO318*SmtRes!AT318","v":0.75},1.2,{"$f":"ROUND(E130*F130*G120, 7)","v":6.3E-3},null,null,{"$f":"ROUND(SmtRes!AG318/SmtRes!DO318, 2)","v":1090.46},null,{"$f":"SmtRes!DH318","v":6.87},null,null,null,null,null,null,null,null,null,null,null,null,null,null,null,null,null,null,null,null,null,null,null,null,null,null,null,null,null,null,null,null,null,null,null,null,null,null,null,null,null,null,null,null,null,null,null,null,null,null,null,null,null,null,null,null,null,null,null,null,null,null,null,null,null,null,null,null,null,null,1]
[null,"91.06.03-055","Лебедки электрические тяговым усилием 19,62 кН (2 т)","маш.-ч",0.81,1.2,{"$f":"SmtRes!CX319","v":6.8040000000000002E-3},{"$f":"SmtRes!CZ319","v":11.45},{"$f":"SmtRes!AJ319","v":1.48},{"$f":"ROUND(H131*I131, 2)","v":16.95},null,{"$f":"SmtRes!DG319","v":0.12}]
[null,"91.06.06-011","Автогидроподъемники, высота подъема 12 м","маш.-ч",22.74,1.2,{"$f":"SmtRes!CX320","v":0.19101599999999999},{"$f":"SmtRes!CZ320","v":346.73},{"$f":"SmtRes!AJ320","v":1.46},{"$f":"ROUND(H132*I132, 2)","v":506.23},null,{"$f":"SmtRes!DG320","v":96.7}]
[null,"4-100-040","ОТм(ЗТм) Средний разряд машинистов 4","чел.-ч.",{"$f":"SmtRes!DO320*SmtRes!AT320","v":22.74},1.2,{"$f":"ROUND(E133*F133*G120, 7)","v":0.19101599999999999},null,null,{"$f":"ROUND(SmtRes!AG320/SmtRes!DO320, 2)","v":811.79},null,{"$f":"SmtRes!DH320","v":155.06},null,null,null,null,null,null,null,null,null,null,null,null,null,null,null,null,null,null,null,null,null,null,null,null,null,null,null,null,null,null,null,null,null,null,null,null,null,null,null,null,null,null,null,null,null,null,null,null,null,null,null,null,null,null,null,null,null,null,null,null,null,null,null,null,null,null,null,null,null,null,1]
[null,"91.14.02-001","Автомобили бортовые, грузоподъемность до 5 т","маш.-ч",0.59,1.2,{"$f":"SmtRes!CX321","v":4.9560000000000003E-3},null,null,{"$f":"SmtRes!CZ321","v":641.70000000000005},null,{"$f":"SmtRes!DG321","v":3.18}]
[null,"4-100-040","ОТм(ЗТм) Средний разряд машинистов 4","чел.-ч.",{"$f":"SmtRes!DO321*SmtRes!AT321","v":0.59},1.2,{"$f":"ROUND(E135*F135*G120, 7)","v":4.9560000000000003E-3},null,null,{"$f":"ROUND(SmtRes!AG321/SmtRes!DO321, 2)","v":811.79},null,{"$f":"SmtRes!DH321","v":4.0199999999999996},null,null,null,null,null,null,null,null,null,null,null,null,null,null,null,null,null,null,null,null,null,null,null,null,null,null,null,null,null,null,null,null,null,null,null,null,null,null,null,null,null,null,null,null,null,null,null,null,null,null,null,null,null,null,null,null,null,null,null,null,null,null,null,null,null,null,null,null,null,null,1]
[null,"91.17.04-544","Генераторы бензиновые портативные, мощность до 6 кВт","маш.-ч",0.81,1.2,{"$f":"SmtRes!CX322","v":6.8040000000000002E-3},null,null,{"$f":"SmtRes!CZ322","v":192.86},null,{"$f":"SmtRes!DG322","v":1.31}]
[null,"4-100-040","ОТм(ЗТм) Средний разряд машинистов 4","чел.-ч.",{"$f":"SmtRes!DO322*SmtRes!AT322","v":0.81},1.2,{"$f":"ROUND(E137*F137*G120, 7)","v":6.8040000000000002E-3},null,null,{"$f":"ROUND(SmtRes!AG322/SmtRes!DO322, 2)","v":811.79},null,{"$f":"SmtRes!DH322","v":5.52},null,null,null,null,null,null,null,null,null,null,null,null,null,null,null,null,null,null,null,null,null,null,null,null,null,null,null,null,null,null,null,null,null,null,null,null,null,null,null,null,null,null,null,null,null,null,null,null,null,null,null,null,null,null,null,null,null,null,null,null,null,null,null,null,null,null,null,null,null,null,1]
[null,null,"Итого прямые затраты",null,null,null,null,null,null,null,null,{"$f":"L122+L127+L128","v":918.16000000000008}]
[null,null,"ФОТ",null,null,null,null,null,null,null,null,{"$f":"SUM(AR120:AR142)+SUM(AS120:AS142)+SUM(AT120:AT142)+SUM(AU120:AU142)+SUM(AV120:AV142)","v":806.6}]
[null,"Пр/812-027.0-1","НР Линии электропередачи","%",{"$f":"Source!BZ175","v":103},null,{"$f":"Source!AT175","v":103},null,null,null,null,{"$f":"SUM(AZ120:AZ142)","v":830.77}]
[null,"Пр/774-027.0","СП Линии электропередачи","%",{"$f":"Source!CA175","v":60},null,{"$f":"Source!AU175","v":60},null,null,null,null,{"$f":"SUM(BA120:BA142)","v":483.94}]
[null,null,"Всего по позиции",null,null,null,null,null,{"$f":"IF(E120<>0,K142/E120, 0)","v":318981.42857142945},null,{"$f":"L122+L127+L140+L141+L128","v":2232.87},null,null,null,null,null,null,null,null,null,null,null,null,null,null,null,null,null,null,{"$f":"ROUND((Source!AT175/100)*((ROUND(SUMIF(SmtRes!AQ313:'SmtRes'!AQ325,\"=1\",SmtRes!AD313:'SmtRes'!AD325)*Source!I175, 2)+ROUND(SUMIF(SmtRes!AQ313:'SmtRes'!AQ325,\"=1\",SmtRes!AC313:'SmtRes'!AC325)*Source!I175, 2))), 2)","v":47.96},{"$f":"ROUND((Source!AU175/100)*((ROUND(SUMIF(SmtRes!AQ313:'SmtRes'!AQ325,\"=1\",SmtRes!AD313:'SmtRes'!AD325)*Source!I175, 2)+ROUND(SUMIF(SmtRes!AQ313:'SmtRes'!AQ325,\"=1\",SmtRes!AC313:'SmtRes'!AC325)*Source!I175, 2))), 2)","v":27.94},null,null,null,null,null,null,null,null,{"$f":"L122+L127+L140+L141+L128","v":2232.87},{"$f":"L127","v":111.56},null,"=",{"$f":"L122","v":635.13},null,{"$f":"L128","v":171.47000000000003},null,"=",{"$f":"0","v":0},null,null,{"$f":"Source!X175","v":830.77},{"$f":"Source!Y175","v":483.94},null,null,null,null,null,null,null,null,null,null,null,null,null,null,null,null,null,null,null,null,null,null,null,null,null,null,null,null,1]
["10","ГЭСН 33-04-017-03",{"$f":"Source!G184","v":"При изменении количества опор на 1 км ВЛИ добавлять или исключать: к норме 33-04-017-01"},{"$f":"Source!H184","v":"ШТ"},{"$f":"Source!K184","v":2},null,{"$f":"Source!I184","v":2}]
[null,"421/пр_2020_прил.10_т.1_п.4_гр.5","ЭМ *1,20; ЗТ *1,20; ЗТм *1,20"]
[null,1,"ОТ (ЗТ)","чел.-ч.",null,null,{"$f":"Source!U184","v":4.3440000000000003},null,null,null,null,{"$f":"SUM(L146:L148)-SUMIF(CE146:CE148, 1, L146:L148)","v":3458.79}]
[null,"2-100-03","Рабочий 3 разряда","чел.-ч",0.91,{"$f":"ROUND((0.2+1),7)","v":1.2},{"$f":"SmtRes!CX339","v":2.1840000000000002},null,null,{"$f":"SmtRes!CZ339","v":720.91},null,{"$f":"SmtRes!DI339","v":1574.47}]
[null,"2-100-04","Рабочий 4 разряда","чел.-ч",0.45,{"$f":"ROUND((0.2+1),7)","v":1.2},{"$f":"SmtRes!CX340","v":1.08},null,null,{"$f":"SmtRes!CZ340","v":811.79},null,{"$f":"SmtRes!DI340","v":876.73}]
[null,"2-100-05","Рабочий 5 разряда","чел.-ч",0.45,{"$f":"ROUND((0.2+1),7)","v":1.2},{"$f":"SmtRes!CX341","v":1.08},null,null,{"$f":"SmtRes!CZ341","v":932.95},null,{"$f":"SmtRes!DI341","v":1007.59}]
[null,2,"ЭМ",null,null,null,null,null,null,null,null,{"$f":"SUM(L150:L152)-SUMIF(CE150:CE152, 1, L150:L152)","v":534.57999999999993}]
[null,null,"ОТм(ЗТм)","чел.-ч.",null,null,{"$f":"Source!V184","v":1.056},null,null,null,null,{"$f":"SUMIF(CE151:CE152, 1, L151:L152)","v":857.25},null,null,null,null,null,null,null,null,null,null,null,null,null,null,null,null,null,null,null,null,null,null,null,null,null,null,null,null,null,null,null,null,null,null,null,null,null,null,null,null,null,null,null,null,null,null,null,null,null,null,null,null,null,null,null,null,null,null,null,null,null,null,null,null,null,null,null,null,null,null,1]
[null,"91.06.06-011","Автогидроподъемники, высота подъема 12 м","маш.-ч",0.44,{"$f":"ROUND((0.2+1),7)","v":1.2},{"$f":"SmtRes!CX343","v":1.056},{"$f":"SmtRes!CZ343","v":346.73},{"$f":"SmtRes!AJ343","v":1.46},{"$f":"ROUND(H151*I151, 2)","v":506.23},null,{"$f":"SmtRes!DG343","v":534.58000000000004}]
[null,"4-100-040","ОТм(ЗТм) Средний разряд машинистов 4","чел.-ч.",{"$f":"SmtRes!DO343*SmtRes!AT343","v":0.44},{"$f":"ROUND((0.2+1),7)","v":1.2},{"$f":"ROUND(E152*F152*G143, 7)","v":1.056},null,null,{"$f":"ROUND(SmtRes!AG343/SmtRes!DO343, 2)","v":811.79},null,{"$f":"SmtRes!DH343","v":857.25},null,null,null,null,null,null,null,null,null,null,null,null,null,null,null,null,null,null,null,null,null,null,null,null,null,null,null,null,null,null,null,null,null,null,null,null,null,null,null,null,null,null,null,null,null,null,null,null,null,null,null,null,null,null,null,null,null,null,null,null,null,null,null,null,null,null,null,null,null,null,1]
[null,null,"Итого прямые затраты",null,null,null,null,null,null,null,null,{"$f":"L145+L149+L150","v":4850.62}]
[null,null,"ФОТ",null,null,null,null,null,null,null,null,{"$f":"SUM(AR143:AR157)+SUM(AS143:AS157)+SUM(AT143:AT157)+SUM(AU143:AU157)+SUM(AV143:AV157)","v":4316.04}]
[null,"Пр/812-027.0-1","НР Линии электропередачи","%",{"$f":"Source!BZ184","v":103},null,{"$f":"Source!AT184","v":103},null,null,null,null,{"$f":"SUM(AZ143:AZ157)","v":4445.5200000000004}]
[null,"Пр/774-027.0","СП Линии электропередачи","%",{"$f":"Source!CA184","v":60},null,{"$f":"Source!AU184","v":60},null,null,null,null,{"$f":"SUM(BA143:BA157)","v":2589.62}]
[null,null,"Всего по позиции",null,null,null,null,null,{"$f":"IF(E143<>0,K157/E143, 0)","v":5942.8799999999992},null,{"$f":"L145+L149+L155+L156+L150","v":11885.759999999998},null,null,null,null,null,null,null,null,null,null,null,null,null,null,null,null,null,null,{"$f":"ROUND((Source!AT184/100)*((ROUND(SUMIF(SmtRes!AQ339:'SmtRes'!AQ345,\"=1\",SmtRes!AD339:'SmtRes'!AD345)*Source!I184, 2)+ROUND(SUMIF(SmtRes!AQ339:'SmtRes'!AQ345,\"=1\",SmtRes!AC339:'SmtRes'!AC345)*Source!I184, 2))), 2)","v":6751.53},{"$f":"ROUND((Source!AU184/100)*((ROUND(SUMIF(SmtRes!AQ339:'SmtRes'!AQ345,\"=1\",SmtRes!AD339:'SmtRes'!AD345)*Source!I184, 2)+ROUND(SUMIF(SmtRes!AQ339:'SmtRes'!AQ345,\"=1\",SmtRes!AC339:'SmtRes'!AC345)*Source!I184, 2))), 2)","v":3932.93},null,null,null,null,null,null,null,null,{"$f":"L145+L149+L155+L156+L150","v":11885.759999999998},{"$f":"L149","v":534.57999999999993},null,"=",{"$f":"L145","v":3458.79},null,{"$f":"L150","v":857.25},null,"=",{"$f":"0","v":0},null,null,{"$f":"Source!X184","v":4445.5200000000004},{"$f":"Source!Y184","v":2589.62},null,null,null,null,null,null,null,null,null,null,null,null,null,null,null,null,null,null,null,null,null,null,null,null,null,null,null,null,1]
["11","ГЭСНм 08-01-082-01",{"$f":"Source!G191","v":"Зажим наборный без кожуха"},{"$f":"Source!H191","v":"100 ШТ"},{"$f":"Source!K191","v":0.08},null,{"$f":"Source!I191","v":0.08}]
[null,"421/пр_2020_прил.10_т.1_п.4_гр.5","ЭМ *1,20; ЗТ *1,20; ЗТм *1,20"]
[null,1,"ОТ (ЗТ)","чел.-ч.",null,null,{"$f":"Source!U191","v":3.9552},null,null,null,null,{"$f":"SUM(L161:L161)-SUMIF(CE161:CE161, 1, L161:L161)","v":3210.79}]
[null,"1-100-40","Средний разряд работы 4,0","чел.-ч.",41.2,{"$f":"ROUND((0.2+1),7)","v":1.2},{"$f":"SmtRes!CX353","v":3.9552},null,null,{"$f":"SmtRes!CZ353","v":811.79},null,{"$f":"SmtRes!DI353","v":3210.79}]
[null,2,"ЭМ",null,null,null,null,null,null,null,null,{"$f":"SUM(L163:L168)-SUMIF(CE163:CE168, 1, L163:L168)","v":22.299999999999997}]
[null,null,"ОТм(ЗТм)","чел.-ч.",null,null,{"$f":"Source!V191","v":1.9199999999999998E-2},null,null,null,null,{"$f":"SUMIF(CE164:CE168, 1, L164:L168)","v":18.260000000000002},null,null,null,null,null,null,null,null,null,null,null,null,null,null,null,null,null,null,null,null,null,null,null,null,null,null,null,null,null,null,null,null,null,null,null,null,null,null,null,null,null,null,null,null,null,null,null,null,null,null,null,null,null,null,null,null,null,null,null,null,null,null,null,null,null,null,null,null,null,null,1]
[null,"91.05.05-015","Краны на автомобильном ходу, грузоподъемность 16 т","маш.-ч",0.1,{"$f":"ROUND((0.2+1),7)","v":1.2},{"$f":"SmtRes!CX355","v":9.5999999999999992E-3},null,null,{"$f":"SmtRes!CZ355","v":1626.29},null,{"$f":"SmtRes!DG355","v":15.61}]
[null,"4-100-060","ОТм(ЗТм) Средний разряд машинистов 6","чел.-ч.",{"$f":"SmtRes!DO355*SmtRes!AT355","v":0.1},{"$f":"ROUND((0.2+1),7)","v":1.2},{"$f":"ROUND(E165*F165*G158, 7)","v":9.5999999999999992E-3},null,null,{"$f":"ROUND(SmtRes!AG355/SmtRes!DO355, 2)","v":1090.46},null,{"$f":"SmtRes!DH355","v":10.47},null,null,null,null,null,null,null,null,null,null,null,null,null,null,null,null,null,null,null,null,null,null,null,null,null,null,null,null,null,null,null,null,null,null,null,null,null,null,null,null,null,null,null,null,null,null,null,null,null,null,null,null,null,null,null,null,null,null,null,null,null,null,null,null,null,null,null,null,null,null,1]
[null,"91.14.02-001","Автомобили бортовые, грузоподъемность до 5 т","маш.-ч",0.1,{"$f":"ROUND((0.2+1),7)","v":1.2},{"$f":"SmtRes!CX356","v":9.5999999999999992E-3},null,null,{"$f":"SmtRes!CZ356","v":641.70000000000005},null,{"$f":"SmtRes!DG356","v":6.16}]
[null,"4-100-040","ОТм(ЗТм) Средний разряд машинистов 4","чел.-ч.",{"$f":"SmtRes!DO356*SmtRes!AT356","v":0.1},{"$f":"ROUND((0.2+1),7)","v":1.2},{"$f":"ROUND(E167*F167*G158, 7)","v":9.5999999999999992E-3},null,null,{"$f":"ROUND(SmtRes!AG356/SmtRes!DO356, 2)","v":811.79},null,{"$f":"SmtRes!DH356","v":7.79},null,null,null,null,null,null,null,null,null,null,null,null,null,null,null,null,null,null,null,null,null,null,null,null,null,null,null,null,null,null,null,null,null,null,null,null,null,null,null,null,null,null,null,null,null,null,null,null,null,null,null,null,null,null,null,null,null,null,null,null,null,null,null,null,null,null,null,null,null,null,1]
[null,"91.17.04-233","Аппараты сварочные для ручной дуговой сварки, сварочный ток до 350 А","маш.-ч",0.16,{"$f":"ROUND((0.2+1),7)","v":1.2},{"$f":"SmtRes!CX357","v":1.536E-2},null,null,{"$f":"SmtRes!CZ357","v":34.61},null,{"$f":"SmtRes!DG357","v":0.53}]
[null,4,"М",null,null,null,null,null,null,null,null,{"$f":"SUM(L170:L171)-SUMIF(CE170:CE171, 1, L170:L171)","v":19.850000000000001}]
[null,"08.3.07.01-0052","Прокат стальной горячекатаный полосовой, марки стали Ст3сп, Ст3пс, размеры 50х5 мм","т",3.0000000000000001E-3,null,{"$f":"SmtRes!CX358","v":2.4000000000000001E-4},{"$f":"SmtRes!CZ358","v":70310.45},{"$f":"SmtRes!AI358","v":0.74},{"$f":"ROUND(H170*I170, 2)","v":52029.73},null,{"$f":"SmtRes!DF358","v":12.49}]
[null,"14.4.02.04-0142","Краска масляная МА-0115, мумия, сурик железный","кг",0.8,null,{"$f":"SmtRes!CX359","v":6.4000000000000001E-2},{"$f":"SmtRes!CZ359","v":79.88},{"$f":"SmtRes!AI359","v":1.44},{"$f":"ROUND(H171*I171, 2)","v":115.03},null,{"$f":"SmtRes!DF359","v":7.36}]
[null,null,"Итого прямые затраты",null,null,null,null,null,null,null,null,{"$f":"L160+L162+L163+L169","v":3271.2000000000003}]
["11.1",{"$f":"Source!F194","v":"421/пр_2020_п.75_пп.а"},{"$f":"Source!G194","v":"Сметная стоимость вспомогательных ненормируемых материальных ресурсов, не учтенная в сметной норме, 2%"},{"$f":"Source!H194","v":"%"},{"$f":"SmtRes!AT361","v":2},null,{"$f":"Source!I194","v":2},null,null,null,null,{"$f":"Source!P194","v":53.51},null,null,null,null,null,null,null,null,null,null,null,null,null,null,null,null,null,{"$f":"ROUND((Source!AT194/100)*((ROUND(0*Source!I194, 2)+ROUND(0*Source!I194, 2))), 2)","v":0},{"$f":"ROUND((Source!AU194/100)*((ROUND(0*Source!I194, 2)+ROUND(0*Source!I194, 2))), 2)","v":0},null,null,null,null,null,null,null,null,{"$f":"L173","v":53.51},null,null,null,null,null,null,null,null,{"$f":"L173","v":53.51},null,null,{"$f":"Source!X194","v":0},{"$f":"Source!Y194","v":0},null,null,null,null,null,null,null,null,null,null,null,null,null,null,null,null,null,null,null,null,null,null,null,null,null,null,null,null,2]
["11.2",{"$f":"Source!F196","v":"20.5.04.03-0002"},"Исключен\nЗажимы наборные проходные ЗН24-4П25",{"$f":"Source!H196","v":"100 ШТ"},{"$f":"SmtRes!AT360","v":-1.02},null,{"$f":"Source!I196","v":-8.1600000000000006E-2},{"$f":"Source!AL196+Source!AO196+Source!AM196+Source!AN196","v":896.51},{"$f":"IF(Source!BC196<> 0, Source!BC196, 1)","v":1.1399999999999999},{"$f":"ROUND(H174*I174, 2)","v":1022.02},null,{"$f":"Source!P196","v":-83.4},null,null,null,null,null,null,null,null,null,null,null,null,null,null,null,null,null,{"$f":"ROUND((Source!AT196/100)*((ROUND(ROUND(Source!AO196,2)*Source!I196, 2)+ROUND(ROUND(Source!AN196,2)*Source!I196, 2))), 2)","v":0},{"$f":"ROUND((Source!AU196/100)*((ROUND(ROUND(Source!AO196,2)*Source!I196, 2)+ROUND(ROUND(Source!AN196,2)*Source!I196, 2))), 2)","v":0},null,null,null,null,null,null,null,null,{"$f":"L174","v":-83.4},null,null,null,null,null,null,null,null,{"$f":"L174","v":-83.4},null,null,{"$f":"Source!X196","v":0},{"$f":"Source!Y196","v":0},null,null,null,null,null,null,null,null,null,null,null,null,null,null,null,null,null,null,null,null,null,null,null,null,null,null,null,null,2]
[null,null,"ФОТ",null,null,null,null,null,null,null,null,{"$f":"SUM(AR158:AR178)+SUM(AS158:AS178)+SUM(AT158:AT178)+SUM(AU158:AU178)+SUM(AV158:AV178)","v":3229.05}]
[null,"Пр/812-049.3-1","НР Электротехнические установки: на других объектах","%",{"$f":"Source!BZ191","v":97},null,{"$f":"Source!AT191","v":97},null,null,null,null,{"$f":"SUM(AZ158:AZ178)","v":3132.18}]
[null,"Пр/774-049.3","СП Электротехнические установки: на других объектах","%",{"$f":"Source!CA191","v":51},null,{"$f":"Source!AU191","v":51},null,null,null,null,{"$f":"SUM(BA158:BA178)","v":1646.82}]
[null,null,"Всего по позиции",null,null,null,null,null,{"$f":"IF(E158<>0,K178/E158, 0)","v":100253.87499999999},null,{"$f":"L160+L162+L169+L176+L177+L163+SUM(L173:L174)","v":8020.3099999999995},null,null,null,null,null,null,null,null,null,null,null,null,null,null,null,null,null,null,{"$f":"ROUND((Source!AT191/100)*((ROUND(SUMIF(SmtRes!AQ353:'SmtRes'!AQ361,\"=1\",SmtRes!AD353:'SmtRes'!AD361)*Source!I191, 2)+ROUND(SUMIF(SmtRes!AQ353:'SmtRes'!AQ361,\"=1\",SmtRes!AC353:'SmtRes'!AC361)*Source!I191, 2))), 2)","v":210.61},{"$f":"ROUND((Source!AU191/100)*((ROUND(SUMIF(SmtRes!AQ353:'SmtRes'!AQ361,\"=1\",SmtRes!AD353:'SmtRes'!AD361)*Source!I191, 2)+ROUND(SUMIF(SmtRes!AQ353:'SmtRes'!AQ361,\"=1\",SmtRes!AC353:'SmtRes'!AC361)*Source!I191, 2))), 2)","v":110.73},null,null,null,null,null,null,null,null,{"$f":"L160+L162+L169+L176+L177+L163","v":8050.2},{"$f":"L162","v":22.299999999999997},null,"=",{"$f":"L160","v":3210.79},null,{"$f":"L163","v":18.260000000000002},null,"=",{"$f":"L169","v":19.850000000000001},null,null,{"$f":"Source!X191","v":3132.18},{"$f":"Source!Y191","v":1646.82},null,null,null,null,null,null,null,null,null,null,null,null,null,null,null,null,null,null,null,null,null,null,null,null,null,null,null,null,2]
["12","ГЭСНм 08-03-574-05",{"$f":"Source!G211","v":"Разводка по устройствам и подключение жил кабелей или проводов сечением: до 95 мм2"},{"$f":"Source!H211","v":"100 ШТ"},{"$f":"Source!K211","v":0.04},null,{"$f":"Source!I211","v":0.04}]
[null,"421/пр_2020_прил.10_т.1_п.4_гр.5","ЭМ *1,20; ЗТ *1,20; ЗТм *1,20"]
[null,1,"ОТ (ЗТ)","чел.-ч.",null,null,{"$f":"Source!U211","v":2.5214400000000001},null,null,null,null,{"$f":"SUM(L182:L182)-SUMIF(CE182:CE182, 1, L182:L182)","v":2107.9699999999998}]
[null,"1-100-42","Средний разряд работы 4,2","чел.-ч.",52.53,{"$f":"ROUND((0.2+1),7)","v":1.2},{"$f":"SmtRes!CX399","v":2.5214400000000001},null,null,{"$f":"SmtRes!CZ399","v":836.02},null,{"$f":"SmtRes!DI399","v":2107.9699999999998}]
[null,2,"ЭМ",null,null,null,null,null,null,null,null,{"$f":"SUM(L184:L189)-SUMIF(CE184:CE189, 1, L184:L189)","v":16.57}]
[null,null,"ОТм(ЗТм)","чел.-ч.",null,null,{"$f":"Source!V211","v":2.8800000000000002E-3},null,null,null,null,{"$f":"SUMIF(CE185:CE189, 1, L185:L189)","v":2.74},null,null,null,null,null,null,null,null,null,null,null,null,null,null,null,null,null,null,null,null,null,null,null,null,null,null,null,null,null,null,null,null,null,null,null,null,null,null,null,null,null,null,null,null,null,null,null,null,null,null,null,null,null,null,null,null,null,null,null,null,null,null,null,null,null,null,null,null,null,null,1]
[null,"91.05.05-015","Краны на автомобильном ходу, грузоподъемность 16 т","маш.-ч",0.03,{"$f":"ROUND((0.2+1),7)","v":1.2},{"$f":"SmtRes!CX401","v":1.4400000000000001E-3},null,null,{"$f":"SmtRes!CZ401","v":1626.29},null,{"$f":"SmtRes!DG401","v":2.34}]
[null,"4-100-060","ОТм(ЗТм) Средний разряд машинистов 6","чел.-ч.",{"$f":"SmtRes!DO401*SmtRes!AT401","v":0.03},{"$f":"ROUND((0.2+1),7)","v":1.2},{"$f":"ROUND(E186*F186*G179, 7)","v":1.4400000000000001E-3},null,null,{"$f":"ROUND(SmtRes!AG401/SmtRes!DO401, 2)","v":1090.46},null,{"$f":"SmtRes!DH401","v":1.57},null,null,null,null,null,null,null,null,null,null,null,null,null,null,null,null,null,null,null,null,null,null,null,null,null,null,null,null,null,null,null,null,null,null,null,null,null,null,null,null,null,null,null,null,null,null,null,null,null,null,null,null,null,null,null,null,null,null,null,null,null,null,null,null,null,null,null,null,null,null,1]
[null,"91.14.02-001","Автомобили бортовые, грузоподъемность до 5 т","маш.-ч",0.03,{"$f":"ROUND((0.2+1),7)","v":1.2},{"$f":"SmtRes!CX402","v":1.4400000000000001E-3},null,null,{"$f":"SmtRes!CZ402","v":641.70000000000005},null,{"$f":"SmtRes!DG402","v":0.92}]
[null,"4-100-040","ОТм(ЗТм) Средний разряд машинистов 4","чел.-ч.",{"$f":"SmtRes!DO402*SmtRes!AT402","v":0.03},{"$f":"ROUND((0.2+1),7)","v":1.2},{"$f":"ROUND(E188*F188*G179, 7)","v":1.4400000000000001E-3},null,null,{"$f":"ROUND(SmtRes!AG402/SmtRes!DO402, 2)","v":811.79},null,{"$f":"SmtRes!DH402","v":1.17},null,null,null,null,null,null,null,null,null,null,null,null,null,null,null,null,null,null,null,null,null,null,null,null,null,null,null,null,null,null,null,null,null,null,null,null,null,null,null,null,null,null,null,null,null,null,null,null,null,null,null,null,null,null,null,null,null,null,null,null,null,null,null,null,null,null,null,null,null,null,1]
[null,"91.21.16-012","Прессы гидравлические с электроприводом","маш.-ч",17.5,{"$f":"ROUND((0.2+1),7)","v":1.2},{"$f":"SmtRes!CX403","v":0.84},null,null,{"$f":"SmtRes!CZ403","v":15.84},null,{"$f":"SmtRes!DG403","v":13.31}]
[null,4,"М",null,null,null,null,null,null,null,null,{"$f":"SUM(L191:L198)-SUMIF(CE191:CE198, 1, L191:L198)","v":117.04}]
[null,"01.3.01.02-0002","Вазелин технический","кг",0.3,null,{"$f":"SmtRes!CX404","v":1.2E-2},{"$f":"SmtRes!CZ404","v":150.04},{"$f":"SmtRes!AI404","v":1.6},{"$f":"ROUND(H191*I191, 2)","v":240.06},null,{"$f":"SmtRes!DF404","v":2.88}]
[null,"01.7.02.09-0002","Шпагат бумажный, диаметр 2,5 мм","кг",0.1,null,{"$f":"SmtRes!CX405","v":4.0000000000000001E-3},{"$f":"SmtRes!CZ405","v":187.38},{"$f":"SmtRes!AI405","v":0.88},164.89,null,{"$f":"SmtRes!DF405","v":0.66}]
[null,"01.7.06.05-0041","Ленты изоляционные хлопчатобумажные прорезиненные для электромонтажных и ремонтных работ, цвет черный, ширина 20 мм, толщина 0,35 мм","м",83.33,null,{"$f":"SmtRes!CX406","v":3.3332000000000002},{"$f":"SmtRes!CZ406","v":5.87},{"$f":"SmtRes!AI406","v":0.88},5.17,null,{"$f":"SmtRes!DF406","v":17.23}]
[null,"01.7.06.07-0002","Ленты монтажные из пластмассы для бандажирования проводов, скрепляются пластмассовыми кнопками, ширина 10 мм","10 м",1.5,null,{"$f":"SmtRes!CX407","v":0.06},{"$f":"SmtRes!CZ407","v":37.71},{"$f":"SmtRes!AI407","v":1.53},57.7,null,{"$f":"SmtRes!DF407","v":3.46}]
[null,"01.7.15.03-0042","Болты с гайками и шайбами строительные","кг",7.94,null,{"$f":"SmtRes!CX408","v":0.31759999999999999},{"$f":"SmtRes!CZ408","v":174.93},{"$f":"SmtRes!AI408","v":1.08},188.92,null,{"$f":"SmtRes!DF408","v":60}]
[null,"01.7.20.04-0005","Нитки швейные армированные","кг",0.06,null,{"$f":"SmtRes!CX409","v":2.3999999999999998E-3},{"$f":"SmtRes!CZ409","v":395.65},{"$f":"SmtRes!AI409","v":1.54},609.29999999999995,null,{"$f":"SmtRes!DF409","v":1.46}]
[null,"14.4.03.17-0101","Лак КФ-965","т",4.0000000000000002E-4,null,{"$f":"SmtRes!CX410","v":1.5999999999999999E-5},{"$f":"SmtRes!CZ410","v":308849.7},{"$f":"SmtRes!AI410","v":1.2},370619.64,null,{"$f":"SmtRes!DF410","v":5.93}]
[null,"25.2.01.01-0001","Бирки-оконцеватели маркировочные А671","100 ШТ",1.02,null,{"$f":"SmtRes!CX411","v":4.0800000000000003E-2},{"$f":"SmtRes!CZ411","v":655.9},{"$f":"SmtRes!AI411","v":0.95},623.11,null,{"$f":"SmtRes!DF411","v":25.42}]
[null,null,"Итого прямые затраты",null,null,null,null,null,null,null,null,{"$f":"L181+L183+L184+L190","v":2244.3199999999997}]
["12.1",{"$f":"Source!F214","v":"421/пр_2020_п.75_пп.а"},{"$f":"Source!G214","v":"Сметная стоимость вспомогательных ненормируемых материальных ресурсов, не учтенная в сметной норме, 2%"},{"$f":"Source!H214","v":"%"},{"$f":"SmtRes!AT412","v":2},null,{"$f":"Source!I214","v":2},null,null,null,null,{"$f":"Source!P214","v":35.130000000000003},null,null,null,null,null,null,null,null,null,null,null,null,null,null,null,null,null,{"$f":"ROUND((Source!AT214/100)*((ROUND(0*Source!I214, 2)+ROUND(0*Source!I214, 2))), 2)","v":0},{"$f":"ROUND((Source!AU214/100)*((ROUND(0*Source!I214, 2)+ROUND(0*Source!I214, 2))), 2)","v":0},null,null,null,null,null,null,null,null,{"$f":"L200","v":35.130000000000003},null,null,null,null,null,null,null,null,{"$f":"L200","v":35.130000000000003},null,null,{"$f":"Source!X214","v":0},{"$f":"Source!Y214","v":0},null,null,null,null,null,null,null,null,null,null,null,null,null,null,null,null,null,null,null,null,null,null,null,null,null,null,null,null,2]
[null,null,"ФОТ",null,null,null,null,null,null,null,null,{"$f":"SUM(AR179:AR204)+SUM(AS179:AS204)+SUM(AT179:AT204)+SUM(AU179:AU204)+SUM(AV179:AV204)","v":2110.7099999999996}]
[null,"Пр/812-049.3-1","НР Электротехнические установки: на других объектах","%",{"$f":"Source!BZ211","v":97},null,{"$f":"Source!AT211","v":97},null,null,null,null,{"$f":"SUM(AZ179:AZ204)","v":2047.39}]
[null,"Пр/774-049.3","СП Электротехнические установки: на других объектах","%",{"$f":"Source!CA211","v":51},null,{"$f":"Source!AU211","v":51},null,null,null,null,{"$f":"SUM(BA179:BA204)","v":1076.46}]
[null,null,"Всего по позиции",null,null,null,null,null,{"$f":"IF(E179<>0,K204/E179, 0)","v":135082.5},null,{"$f":"L181+L183+L190+L202+L203+L184+SUM(L200:L200)","v":5403.3},null,null,null,null,null,null,null,null,null,null,null,null,null,null,null,null,null,null,{"$f":"ROUND((Source!AT211/100)*((ROUND(SUMIF(SmtRes!AQ399:'SmtRes'!AQ412,\"=1\",SmtRes!AD399:'SmtRes'!AD412)*Source!I211, 2)+ROUND(SUMIF(SmtRes!AQ399:'SmtRes'!AQ412,\"=1\",SmtRes!AC399:'SmtRes'!AC412)*Source!I211, 2))), 2)","v":106.24},{"$f":"ROUND((Source!AU211/100)*((ROUND(SUMIF(SmtRes!AQ399:'SmtRes'!AQ412,\"=1\",SmtRes!AD399:'SmtRes'!AD412)*Source!I211, 2)+ROUND(SUMIF(SmtRes!AQ399:'SmtRes'!AQ412,\"=1\",SmtRes!AC399:'SmtRes'!AC412)*Source!I211, 2))), 2)","v":55.86},null,null,null,null,null,null,null,null,{"$f":"L181+L183+L190+L202+L203+L184","v":5368.17},{"$f":"L183","v":16.57},null,"=",{"$f":"L181","v":2107.9699999999998},null,{"$f":"L184","v":2.74},null,"=",{"$f":"L190","v":117.04},null,null,{"$f":"Source!X211","v":2047.39},{"$f":"Source!Y211","v":1076.46},null,null,null,null,null,null,null,null,null,null,null,null,null,null,null,null,null,null,null,null,null,null,null,null,null,null,null,null,2]
["13","ГЭСН 15-04-024-08",{"$f":"Source!G246","v":"Простая окраска масляными составами по штукатурке и сборным конструкциям: стен, подготовленных под окраску"},{"$f":"Source!H246","v":"100 м2"},{"$f":"Source!K246","v":9.5200000000000007E-2},null,{"$f":"Source!I246","v":9.5200000000000007E-2}]
[null,"421/пр_2020_прил.10_т.1_п.4_гр.5","ЭМ *1,20; ЗТ *1,20; ЗТм *1,20"]
[null,1,"ОТ (ЗТ)","чел.-ч.",null,null,{"$f":"Source!U246","v":2.1934079999999998},null,null,null,null,{"$f":"SUM(L208:L208)-SUMIF(CE208:CE208, 1, L208:L208)","v":1621.13}]
[null,"1-100-32","Средний разряд работы 3,2","чел.-ч.",19.2,{"$f":"ROUND((0.2+1),7)","v":1.2},{"$f":"SmtRes!CX549","v":2.1934079999999998},null,null,{"$f":"SmtRes!CZ549","v":739.09},null,{"$f":"SmtRes!DI549","v":1621.13}]
[null,2,"ЭМ",null,null,null,null,null,null,null,null,{"$f":"SUM(L210:L214)-SUMIF(CE210:CE214, 1, L210:L214)","v":3.74}]
[null,null,"ОТм(ЗТм)","чел.-ч.",null,null,{"$f":"Source!V246","v":6.8544000000000001E-3},null,null,null,null,{"$f":"SUMIF(CE211:CE214, 1, L211:L214)","v":5.46},null,null,null,null,null,null,null,null,null,null,null,null,null,null,null,null,null,null,null,null,null,null,null,null,null,null,null,null,null,null,null,null,null,null,null,null,null,null,null,null,null,null,null,null,null,null,null,null,null,null,null,null,null,null,null,null,null,null,null,null,null,null,null,null,null,null,null,null,null,null,1]
[null,"91.06.06-048","Подъемники одномачтовые, грузоподъемность до 500 кг, высота подъема 45 м","маш.-ч",0.01,{"$f":"ROUND((0.2+1),7)","v":1.2},{"$f":"SmtRes!CX551","v":1.1424E-3},{"$f":"SmtRes!CZ551","v":37.32},{"$f":"SmtRes!AJ551","v":1.55},{"$f":"ROUND(H211*I211, 2)","v":57.85},null,{"$f":"SmtRes!DG551","v":7.0000000000000007E-2}]
[null,"4-100-030","ОТм(ЗТм) Средний разряд машинистов 3","чел.-ч.",{"$f":"SmtRes!DO551*SmtRes!AT551","v":0.01},{"$f":"ROUND((0.2+1),7)","v":1.2},{"$f":"ROUND(E212*F212*G205, 7)","v":1.1424E-3},null,null,{"$f":"ROUND(SmtRes!AG551/SmtRes!DO551, 2)","v":720.91},null,{"$f":"SmtRes!DH551","v":0.82},null,null,null,null,null,null,null,null,null,null,null,null,null,null,null,null,null,null,null,null,null,null,null,null,null,null,null,null,null,null,null,null,null,null,null,null,null,null,null,null,null,null,null,null,null,null,null,null,null,null,null,null,null,null,null,null,null,null,null,null,null,null,null,null,null,null,null,null,null,null,1]
[null,"91.14.02-001","Автомобили бортовые, грузоподъемность до 5 т","маш.-ч",0.05,{"$f":"ROUND((0.2+1),7)","v":1.2},{"$f":"SmtRes!CX552","v":5.7120000000000001E-3},null,null,{"$f":"SmtRes!CZ552","v":641.70000000000005},null,{"$f":"SmtRes!DG552","v":3.67}]
[null,"4-100-040","ОТм(ЗТм) Средний разряд машинистов 4","чел.-ч.",{"$f":"SmtRes!DO552*SmtRes!AT552","v":0.05},{"$f":"ROUND((0.2+1),7)","v":1.2},{"$f":"ROUND(E214*F214*G205, 7)","v":5.7120000000000001E-3},null,null,{"$f":"ROUND(SmtRes!AG552/SmtRes!DO552, 2)","v":811.79},null,{"$f":"SmtRes!DH552","v":4.6399999999999997},null,null,null,null,null,null,null,null,null,null,null,null,null,null,null,null,null,null,null,null,null,null,null,null,null,null,null,null,null,null,null,null,null,null,null,null,null,null,null,null,null,null,null,null,null,null,null,null,null,null,null,null,null,null,null,null,null,null,null,null,null,null,null,null,null,null,null,null,null,null,1]
[null,4,"М",null,null,null,null,null,null,null,null,{"$f":"SUM(L216:L219)-SUMIF(CE216:CE219, 1, L216:L219)","v":148.16}]
[null,"01.7.10.17-0141","Пемза","кг",0.24,null,{"$f":"SmtRes!CX553","v":2.2848E-2},{"$f":"SmtRes!CZ553","v":2507.62},{"$f":"SmtRes!AI553","v":1.32},{"$f":"ROUND(H216*I216, 2)","v":3310.06},null,{"$f":"SmtRes!DF553","v":75.63}]
[null,"01.7.17.11-0011","Шкурка шлифовальная двухслойная с зернистостью 40-25","м2",0.8,null,{"$f":"SmtRes!CX554","v":7.6160000000000005E-2},{"$f":"SmtRes!CZ554","v":531.44000000000005},{"$f":"SmtRes!AI554","v":1.32},{"$f":"ROUND(H217*I217, 2)","v":701.5},null,{"$f":"SmtRes!DF554","v":53.43}]
[null,"01.7.20.08-0051","Ветошь хлопчатобумажная цветная","кг",0.21,null,{"$f":"SmtRes!CX555","v":1.9991999999999999E-2},{"$f":"SmtRes!CZ555","v":56.11},{"$f":"SmtRes!AI555","v":1.54},{"$f":"ROUND(H218*I218, 2)","v":86.41},null,{"$f":"SmtRes!DF555","v":1.73}]
[null,"14.5.11.01-0003","Шпатлевка масляно-клеевая","т",5.0000000000000001E-3,null,{"$f":"SmtRes!CX558","v":4.7600000000000002E-4},{"$f":"SmtRes!CZ558","v":24995.33},{"$f":"SmtRes!AI558","v":1.46},{"$f":"ROUND(H219*I219, 2)","v":36493.18},null,{"$f":"SmtRes!DF558","v":17.37}]
[null,null,"Итого прямые затраты",null,null,null,null,null,null,null,null,{"$f":"L207+L209+L210+L215","v":1778.4900000000002}]
[null,null,"ФОТ",null,null,null,null,null,null,null,null,{"$f":"SUM(AR205:AR224)+SUM(AS205:AS224)+SUM(AT205:AT224)+SUM(AU205:AU224)+SUM(AV205:AV224)","v":1626.5900000000001}]
[null,"Пр/812-015.0-1","НР Отделочные работы","%",{"$f":"Source!BZ246","v":100},null,{"$f":"Source!AT246","v":100},null,null,null,null,{"$f":"SUM(AZ205:AZ224)","v":1626.59}]
[null,"Пр/774-015.0","СП Отделочные работы","%",{"$f":"Source!CA246","v":49},null,{"$f":"Source!AU246","v":49},null,null,null,null,{"$f":"SUM(BA205:BA224)","v":797.03}]
[null,null,"Всего по позиции",null,null,null,null,null,{"$f":"IF(E205<>0,K224/E205, 0)","v":44139.81092436974},null,{"$f":"L207+L209+L215+L222+L223+L210","v":4202.1099999999997},null,null,null,null,null,null,null,null,null,null,null,null,null,null,null,null,null,null,{"$f":"ROUND((Source!AT246/100)*((ROUND(SUMIF(SmtRes!AQ549:'SmtRes'!AQ558,\"=1\",SmtRes!AD549:'SmtRes'!AD558)*Source!I246, 2)+ROUND(SUMIF(SmtRes!AQ549:'SmtRes'!AQ558,\"=1\",SmtRes!AC549:'SmtRes'!AC558)*Source!I246, 2))), 2)","v":216.27},{"$f":"ROUND((Source!AU246/100)*((ROUND(SUMIF(SmtRes!AQ549:'SmtRes'!AQ558,\"=1\",SmtRes!AD549:'SmtRes'!AD558)*Source!I246, 2)+ROUND(SUMIF(SmtRes!AQ549:'SmtRes'!AQ558,\"=1\",SmtRes!AC549:'SmtRes'!AC558)*Source!I246, 2))), 2)","v":105.97},null,null,null,null,null,null,null,null,{"$f":"L207+L209+L215+L222+L223+L210","v":4202.1099999999997},{"$f":"L209","v":3.74},null,"=",{"$f":"L207","v":1621.13},null,{"$f":"L210","v":5.46},null,"=",{"$f":"L215","v":148.16},null,null,{"$f":"Source!X246","v":1626.59},{"$f":"Source!Y246","v":797.03},null,null,null,null,null,null,null,null,null,null,null,null,null,null,null,null,null,null,null,null,null,null,null,null,null,null,null,null,1]
[]
[null,null,"Итого прямые затраты по разделу",null,null,null,null,null,null,null,null,{"$f":"L228+L229+L235+L239","v":16347.979999999998}]
[null,null,"в том числе"]
[null,null,"  оплата труда",null,null,null,null,null,null,null,null,{"$f":"SUM(AR53:AR224)","v":13948.71}]
[null,null,"  эксплуатация машин и механизмов",null,null,null,null,null,null,null,null,{"$f":"L231+L234+L233","v":1979.37}]
[null,null,"  в том числе"]
[null,null,"  эксплуатация машин и механизмов",null,null,null,null,null,null,null,null,{"$f":"SUM(AO53:AO224)","v":821.2399999999999}]
[null,null,"    в том числе"]
[null,null,"  оплата труда машинистов (ОТм)",null,null,null,null,null,null,null,null,{"$f":"SUM(AT53:AT224)","v":1158.1300000000001}]
[null,null,"    доплаты к оплате труда машинистов",null,null,null,null,null,null,null,null,{"$f":"SUM(AV53:AV224)","v":0}]
[null,null,"  материальные ресурсы",null,null,null,null,null,null,null,null,{"$f":"L237+L238","v":419.9}]
[null,null,"  в том числе"]
[null,null,"    материальные ресурсы без учета дополнительной перевозки",null,null,null,null,null,null,null,null,{"$f":"SUM(AW53:AW224)-SUM(BK53:BK224)","v":419.9}]
[null,null,"    дополнительная перевозка материальных ресурсов",null,null,null,null,null,null,null,null,{"$f":"SUM(BC53:BC224)","v":0}]
[null,null,"  перевозка",null,null,null,null,null,null,null,null,{"$f":"SUM(BB53:BB224)","v":0}]
[null,null,"Всего ФОТ (справочно)",null,null,null,null,null,null,null,null,{"$f":"SUM(AR53:AR224)+SUM(AT53:AT224)+SUM(AV53:AV224)","v":15106.84}]
[null,null,"Всего накладные расходы",null,null,null,null,null,null,null,null,{"$f":"SUM(AZ53:AZ224)","v":15009.76}]
[null,null,"Всего сметная прибыль",null,null,null,null,null,null,null,null,{"$f":"SUM(BA53:BA224)","v":8132.98}]
[null,null,"Итого оборудование",null,null,null,null,null,null,null,null,{"$f":"L245+L246","v":0}]
[null,null,"в том числе"]
[null,null,"  оборудование без учета дополнительной перевозки",null,null,null,null,null,null,null,null,{"$f":"SUM(BK53:BK224)","v":0}]
[null,null,"  дополнительная перевозка оборудования",null,null,null,null,null,null,null,null,{"$f":"SUM(BD53:BD224)","v":0}]
[null,null,"Итого прочие затраты"]
[null,null,"Итого прочие затраты",null,null,null,null,null,null,null,null,{"$f":"SUM(BQ53:BQ224)","v":0}]
[null,null,"Итого хозяйственный инвентарь",null,null,null,null,null,null,null,null,{"$f":"SUM(BO53:BO224)","v":0}]
[null,null,"Итого по разделу",null,null,null,null,null,null,null,null,{"$f":"L226+L241+L242+L243+L248+L249","v":39490.720000000001}]
[null,null,"Справочно"]
[null,null,"  материальные ресурсы, отсутствующие в ФРСН",null,null,null,null,null,null,null,null,{"$f":"SUM(AX53:AX224)","v":0}]
[null,null,"  оборудование, отсутствующие в ФРСН",null,null,null,null,null,null,null,null,{"$f":"SUM(AY53:AY224)","v":0}]
[null,null,"  затраты труда рабочих",null,null,null,{"$f":"Source!F276","v":17.486015999999999}]
[null,null,"  затраты труда машинистов",null,null,null,{"$f":"Source!F277","v":1.4022504}]
[]
[]
["Раздел: Заземление"]
["14","ГЭСН 01-02-057-02",{"$f":"Source!G288","v":"Разработка грунта вручную в траншеях глубиной до 2 м без креплений с откосами, группа грунтов: 2"},{"$f":"Source!H288","v":"100 м3"},{"$f":"Source!K288","v":1.536E-2},null,{"$f":"Source!I288","v":1.536E-2}]
[null,"421/пр_2020_прил.10_т.1_п.4_гр.5","ЭМ *1,20; ЗТ *1,20; ЗТм *1,20"]
[null,1,"ОТ (ЗТ)","чел.-ч.",null,null,{"$f":"Source!U288","v":2.8385280000000002},null,null,null,null,{"$f":"SUM(L262:L262)-SUMIF(CE262:CE262, 1, L262:L262)","v":1874.37}]
[null,"1-100-20","Средний разряд работы 2,0","чел.-ч.",154,{"$f":"ROUND((0.2+1),7)","v":1.2},{"$f":"SmtRes!CX569","v":2.8385280000000002},null,null,{"$f":"SmtRes!CZ569","v":660.33},null,{"$f":"SmtRes!DI569","v":1874.37}]
[null,null,"Итого прямые затраты",null,null,null,null,null,null,null,null,{"$f":"L261","v":1874.37}]
[null,null,"ФОТ",null,null,null,null,null,null,null,null,{"$f":"SUM(AR259:AR267)+SUM(AS259:AS267)+SUM(AT259:AT267)+SUM(AU259:AU267)+SUM(AV259:AV267)","v":1874.37}]
[null,"Пр/812-001.2-1","НР Земляные работы, выполняемые: ручным способом","%",{"$f":"Source!BZ288","v":89},null,{"$f":"Source!AT288","v":89},null,null,null,null,{"$f":"SUM(AZ259:AZ267)","v":1668.19}]
[null,"Пр/774-001.2","СП Земляные работы, выполняемые: ручным способом","%",{"$f":"Source!CA288","v":40},null,{"$f":"Source!AU288","v":40},null,null,null,null,{"$f":"SUM(BA259:BA267)","v":749.75}]
[null,null,"Всего по позиции",null,null,null,null,null,{"$f":"IF(E259<>0,K267/E259, 0)","v":279447.26562499994},null,{"$f":"L261+L265+L266","v":4292.3099999999995},null,null,null,null,null,null,null,null,null,null,null,null,null,null,null,null,null,null,{"$f":"ROUND((Source!AT288/100)*((ROUND(SUMIF(SmtRes!AQ569:'SmtRes'!AQ569,\"=1\",SmtRes!AD569:'SmtRes'!AD569)*Source!I288, 2)+ROUND(SUMIF(SmtRes!AQ569:'SmtRes'!AQ569,\"=1\",SmtRes!AC569:'SmtRes'!AC569)*Source!I288, 2))), 2)","v":9.02},{"$f":"ROUND((Source!AU288/100)*((ROUND(SUMIF(SmtRes!AQ569:'SmtRes'!AQ569,\"=1\",SmtRes!AD569:'SmtRes'!AD569)*Source!I288, 2)+ROUND(SUMIF(SmtRes!AQ569:'SmtRes'!AQ569,\"=1\",SmtRes!AC569:'SmtRes'!AC569)*Source!I288, 2))), 2)","v":4.0599999999999996},null,null,null,null,null,null,null,null,{"$f":"L261+L265+L266","v":4292.3099999999995},{"$f":"0","v":0},null,"=",{"$f":"L261","v":1874.37},null,{"$f":"0","v":0},null,"=",{"$f":"0","v":0},null,null,{"$f":"Source!X288","v":1668.19},{"$f":"Source!Y288","v":749.75},null,null,null,null,null,null,null,null,null,null,null,null,null,null,null,null,null,null,null,null,null,null,null,null,null,null,null,null,1]
["15","ГЭСН 01-02-061-01",{"$f":"Source!G290","v":"Засыпка вручную траншей, пазух котлованов и ям, группа грунтов: 1"},{"$f":"Source!H290","v":"100 м3"},{"$f":"Source!K290","v":1.536E-2},null,{"$f":"Source!I290","v":1.536E-2}]
[null,"421/пр_2020_прил.10_т.1_п.4_гр.5","ЭМ *1,20; ЗТ *1,20; ЗТм *1,20"]
[null,1,"ОТ (ЗТ)","чел.-ч.",null,null,{"$f":"Source!U290","v":1.631232},null,null,null,null,{"$f":"SUM(L271:L271)-SUMIF(CE271:CE271, 1, L271:L271)","v":1032.68}]
[null,"1-100-15","Средний разряд работы 1,5","чел.-ч.",88.5,{"$f":"ROUND((0.2+1),7)","v":1.2},{"$f":"SmtRes!CX571","v":1.631232},null,null,{"$f":"SmtRes!CZ571","v":633.07000000000005},null,{"$f":"SmtRes!DI571","v":1032.68}]
[null,null,"Итого прямые затраты",null,null,null,null,null,null,null,null,{"$f":"L270","v":1032.68}]
[null,null,"ФОТ",null,null,null,null,null,null,null,null,{"$f":"SUM(AR268:AR276)+SUM(AS268:AS276)+SUM(AT268:AT276)+SUM(AU268:AU276)+SUM(AV268:AV276)","v":1032.68}]
[null,"Пр/812-001.2-1","НР Земляные работы, выполняемые: ручным способом","%",{"$f":"Source!BZ290","v":89},null,{"$f":"Source!AT290","v":89},null,null,null,null,{"$f":"SUM(AZ268:AZ276)","v":919.09}]
[null,"Пр/774-001.2","СП Земляные работы, выполняемые: ручным способом","%",{"$f":"Source!CA290","v":40},null,{"$f":"Source!AU290","v":40},null,null,null,null,{"$f":"SUM(BA268:BA276)","v":413.07}]
[null,null,"Всего по позиции",null,null,null,null,null,{"$f":"IF(E268<>0,K276/E268, 0)","v":153960.9375},null,{"$f":"L270+L274+L275","v":2364.84},null,null,null,null,null,null,null,null,null,null,null,null,null,null,null,null,null,null,{"$f":"ROUND((Source!AT290/100)*((ROUND(SUMIF(SmtRes!AQ571:'SmtRes'!AQ571,\"=1\",SmtRes!AD571:'SmtRes'!AD571)*Source!I290, 2)+ROUND(SUMIF(SmtRes!AQ571:'SmtRes'!AQ571,\"=1\",SmtRes!AC571:'SmtRes'!AC571)*Source!I290, 2))), 2)","v":8.65},{"$f":"ROUND((Source!AU290/100)*((ROUND(SUMIF(SmtRes!AQ571:'SmtRes'!AQ571,\"=1\",SmtRes!AD571:'SmtRes'!AD571)*Source!I290, 2)+ROUND(SUMIF(SmtRes!AQ571:'SmtRes'!AQ571,\"=1\",SmtRes!AC571:'SmtRes'!AC571)*Source!I290, 2))), 2)","v":3.89},null,null,null,null,null,null,null,null,{"$f":"L270+L274+L275","v":2364.84},{"$f":"0","v":0},null,"=",{"$f":"L270","v":1032.68},null,{"$f":"0","v":0},null,"=",{"$f":"0","v":0},null,null,{"$f":"Source!X290","v":919.09},{"$f":"Source!Y290","v":413.07},null,null,null,null,null,null,null,null,null,null,null,null,null,null,null,null,null,null,null,null,null,null,null,null,null,null,null,null,1]
["16","ГЭСНм 08-02-471-01",{"$f":"Source!G292","v":"Заземлитель вертикальный из угловой стали размером: 50х50х5 мм"},{"$f":"Source!H292","v":"10 ШТ"},{"$f":"Source!K292","v":0.4},null,{"$f":"Source!I292","v":0.4}]
[null,"421/пр_2020_прил.10_т.1_п.4_гр.5","ЭМ *1,20; ЗТ *1,20; ЗТм *1,20"]
[null,1,"ОТ (ЗТ)","чел.-ч.",null,null,{"$f":"Source!U292","v":4.4496000000000002},null,null,null,null,{"$f":"SUM(L280:L280)-SUMIF(CE280:CE280, 1, L280:L280)","v":3531.25}]
[null,"1-100-38","Средний разряд работы 3,8","чел.-ч.",9.27,{"$f":"ROUND((0.2+1),7)","v":1.2},{"$f":"SmtRes!CX573","v":4.4496000000000002},null,null,{"$f":"SmtRes!CZ573","v":793.61},null,{"$f":"SmtRes!DI573","v":3531.25}]
[null,2,"ЭМ",null,null,null,null,null,null,null,null,{"$f":"SUM(L282:L287)-SUMIF(CE282:CE287, 1, L282:L287)","v":210.16000000000003}]
[null,null,"ОТм(ЗТм)","чел.-ч.",null,null,{"$f":"Source!V292","v":0.16320000000000001},null,null,null,null,{"$f":"SUMIF(CE283:CE287, 1, L283:L287)","v":155.22},null,null,null,null,null,null,null,null,null,null,null,null,null,null,null,null,null,null,null,null,null,null,null,null,null,null,null,null,null,null,null,null,null,null,null,null,null,null,null,null,null,null,null,null,null,null,null,null,null,null,null,null,null,null,null,null,null,null,null,null,null,null,null,null,null,null,null,null,null,null,1]
[null,"91.05.05-015","Краны на автомобильном ходу, грузоподъемность 16 т","маш.-ч",0.17,{"$f":"ROUND((0.2+1),7)","v":1.2},{"$f":"SmtRes!CX575","v":8.1600000000000006E-2},null,null,{"$f":"SmtRes!CZ575","v":1626.29},null,{"$f":"SmtRes!DG575","v":132.71}]
[null,"4-100-060","ОТм(ЗТм) Средний разряд машинистов 6","чел.-ч.",{"$f":"SmtRes!DO575*SmtRes!AT575","v":0.17},{"$f":"ROUND((0.2+1),7)","v":1.2},{"$f":"ROUND(E284*F284*G277, 7)","v":8.1600000000000006E-2},null,null,{"$f":"ROUND(SmtRes!AG575/SmtRes!DO575, 2)","v":1090.46},null,{"$f":"SmtRes!DH575","v":88.98},null,null,null,null,null,null,null,null,null,null,null,null,null,null,null,null,null,null,null,null,null,null,null,null,null,null,null,null,null,null,null,null,null,null,null,null,null,null,null,null,null,null,null,null,null,null,null,null,null,null,null,null,null,null,null,null,null,null,null,null,null,null,null,null,null,null,null,null,null,null,1]
[null,"91.14.02-001","Автомобили бортовые, грузоподъемность до 5 т","маш.-ч",0.17,{"$f":"ROUND((0.2+1),7)","v":1.2},{"$f":"SmtRes!CX576","v":8.1600000000000006E-2},null,null,{"$f":"SmtRes!CZ576","v":641.70000000000005},null,{"$f":"SmtRes!DG576","v":52.36}]
[null,"4-100-040","ОТм(ЗТм) Средний разряд машинистов 4","чел.-ч.",{"$f":"SmtRes!DO576*SmtRes!AT576","v":0.17},{"$f":"ROUND((0.2+1),7)","v":1.2},{"$f":"ROUND(E286*F286*G277, 7)","v":8.1600000000000006E-2},null,null,{"$f":"ROUND(SmtRes!AG576/SmtRes!DO576, 2)","v":811.79},null,{"$f":"SmtRes!DH576","v":66.239999999999995},null,null,null,null,null,null,null,null,null,null,null,null,null,null,null,null,null,null,null,null,null,null,null,null,null,null,null,null,null,null,null,null,null,null,null,null,null,null,null,null,null,null,null,null,null,null,null,null,null,null,null,null,null,null,null,null,null,null,null,null,null,null,null,null,null,null,null,null,null,null,1]
[null,"91.17.04-233","Аппараты сварочные для ручной дуговой сварки, сварочный ток до 350 А","маш.-ч",1.51,{"$f":"ROUND((0.2+1),7)","v":1.2},{"$f":"SmtRes!CX577","v":0.7248},null,null,{"$f":"SmtRes!CZ577","v":34.61},null,{"$f":"SmtRes!DG577","v":25.09}]
[null,4,"М",null,null,null,null,null,null,null,null,{"$f":"SUM(L289:L290)-SUMIF(CE289:CE290, 1, L289:L290)","v":943.11999999999989}]
[null,"01.7.11.07-0227","Электроды сварочные для сварки низколегированных и углеродистых сталей УОНИ 13/45, Э42А, диаметр 4-5 мм","кг",0.65,null,{"$f":"SmtRes!CX578","v":0.26},{"$f":"SmtRes!CZ578","v":155.63},{"$f":"SmtRes!AI578","v":0.78},{"$f":"ROUND(H289*I289, 2)","v":121.39},null,{"$f":"SmtRes!DF578","v":31.56}]
[null,"14.4.01.09-0427","Грунтовка эпоксидная антикоррозионная с содержанием цинка для защиты металлических поверхностей, расход 0,20-0,39 кг/м2","кг",2,null,{"$f":"SmtRes!CX579","v":0.8},{"$f":"SmtRes!CZ579","v":911.56},{"$f":"SmtRes!AI579","v":1.25},{"$f":"ROUND(H290*I290, 2)","v":1139.45},null,{"$f":"SmtRes!DF579","v":911.56}]
[null,null,"Итого прямые затраты",null,null,null,null,null,null,null,null,{"$f":"L279+L281+L282+L288","v":4839.75}]
["16.1",{"$f":"Source!F295","v":"421/пр_2020_п.75_пп.а"},{"$f":"Source!G295","v":"Сметная стоимость вспомогательных ненормируемых материальных ресурсов, не учтенная в сметной норме, 2%"},{"$f":"Source!H295","v":"%"},{"$f":"SmtRes!AT580","v":2},null,{"$f":"Source!I295","v":2},null,null,null,null,{"$f":"Source!P295","v":58.85},null,null,null,null,null,null,null,null,null,null,null,null,null,null,null,null,null,{"$f":"ROUND((Source!AT295/100)*((ROUND(0*Source!I295, 2)+ROUND(0*Source!I295, 2))), 2)","v":0},{"$f":"ROUND((Source!AU295/100)*((ROUND(0*Source!I295, 2)+ROUND(0*Source!I295, 2))), 2)","v":0},null,null,null,null,null,null,null,null,{"$f":"L292","v":58.85},null,null,null,null,null,null,null,null,{"$f":"L292","v":58.85},null,null,{"$f":"Source!X295","v":0},{"$f":"Source!Y295","v":0},null,null,null,null,null,null,null,null,null,null,null,null,null,null,null,null,null,null,null,null,null,null,null,null,null,null,null,null,2]
[null,null,"ФОТ",null,null,null,null,null,null,null,null,{"$f":"SUM(AR277:AR296)+SUM(AS277:AS296)+SUM(AT277:AT296)+SUM(AU277:AU296)+SUM(AV277:AV296)","v":3686.47}]
[null,"Пр/812-049.3-1","НР Электротехнические установки: на других объектах","%",{"$f":"Source!BZ292","v":97},null,{"$f":"Source!AT292","v":97},null,null,null,null,{"$f":"SUM(AZ277:AZ296)","v":3575.88}]
[null,"Пр/774-049.3","СП Электротехнические установки: на других объектах","%",{"$f":"Source!CA292","v":51},null,{"$f":"Source!AU292","v":51},null,null,null,null,{"$f":"SUM(BA277:BA296)","v":1880.1}]
[null,null,"Всего по позиции",null,null,null,null,null,{"$f":"IF(E277<>0,K296/E277, 0)","v":25886.449999999997},null,{"$f":"L279+L281+L288+L294+L295+L282+SUM(L292:L292)","v":10354.58},null,null,null,null,null,null,null,null,null,null,null,null,null,null,null,null,null,null,{"$f":"ROUND((Source!AT292/100)*((ROUND(SUMIF(SmtRes!AQ573:'SmtRes'!AQ580,\"=1\",SmtRes!AD573:'SmtRes'!AD580)*Source!I292, 2)+ROUND(SUMIF(SmtRes!AQ573:'SmtRes'!AQ580,\"=1\",SmtRes!AC573:'SmtRes'!AC580)*Source!I292, 2))), 2)","v":1045.99},{"$f":"ROUND((Source!AU292/100)*((ROUND(SUMIF(SmtRes!AQ573:'SmtRes'!AQ580,\"=1\",SmtRes!AD573:'SmtRes'!AD580)*Source!I292, 2)+ROUND(SUMIF(SmtRes!AQ573:'SmtRes'!AQ580,\"=1\",SmtRes!AC573:'SmtRes'!AC580)*Source!I292, 2))), 2)","v":549.95000000000005},null,null,null,null,null,null,null,null,{"$f":"L279+L281+L288+L294+L295+L282","v":10295.73},{"$f":"L281","v":210.16000000000003},null,"=",{"$f":"L279","v":3531.25},null,{"$f":"L282","v":155.22},null,"=",{"$f":"L288","v":943.11999999999989},null,null,{"$f":"Source!X292","v":3575.88},{"$f":"Source!Y292","v":1880.1},null,null,null,null,null,null,null,null,null,null,null,null,null,null,null,null,null,null,null,null,null,null,null,null,null,null,null,null,2]
["17",{"$f":"Source!F297","v":"ТЦ_01.7.11.00_77_7736281025_12.01.2026_02_41.1"},{"$f":"Source!G297","v":"Уголок 50х50х5"},{"$f":"Source!H297","v":"м"},{"$f":"Source!K297","v":10},null,{"$f":"Source!I297","v":10},null,null,{"$f":"Source!AL297","v":518.26},null,{"$f":"Source!HG297","v":5182.6000000000004}]
[null,null,"Всего по позиции",null,null,null,null,null,{"$f":"IF(E297<>0,K298/E297, 0)","v":518.26},null,{"$f":"L297","v":5182.6000000000004},null,null,null,null,null,null,null,null,null,null,null,null,null,null,null,null,null,null,{"$f":"ROUND((Source!AT297/100)*((ROUND(ROUND(Source!AO297,2)*Source!I297, 2)+ROUND(ROUND(Source!AN297,2)*Source!I297, 2))), 2)","v":0},{"$f":"ROUND((Source!AU297/100)*((ROUND(ROUND(Source!AO297,2)*Source!I297, 2)+ROUND(ROUND(Source!AN297,2)*Source!I297, 2))), 2)","v":0},null,null,null,null,null,null,null,null,{"$f":"L297","v":5182.6000000000004},{"$f":"0","v":0},null,"=",{"$f":"0","v":0},null,{"$f":"0","v":0},null,"=",{"$f":"L297","v":5182.6000000000004},{"$f":"L297","v":5182.6000000000004},null,{"$f":"Source!X297","v":0},{"$f":"Source!Y297","v":0},null,null,null,null,null,null,null,null,null,null,null,null,null,null,null,null,null,null,null,null,null,null,null,null,null,null,null,null,1]
["18","ГЭСНм 08-02-472-01",{"$f":"Source!G299","v":"Заземлитель горизонтальный из стали: круглой диаметром 12 мм"},{"$f":"Source!H299","v":"100 м"},{"$f":"Source!K299","v":4.8000000000000001E-2},null,{"$f":"Source!I299","v":4.8000000000000001E-2}]
[null,"421/пр_2020_прил.10_т.1_п.4_гр.5","ЭМ *1,20; ЗТ *1,20; ЗТм *1,20"]
[null,1,"ОТ (ЗТ)","чел.-ч.",null,null,{"$f":"Source!U299","v":0.95040000000000002},null,null,null,null,{"$f":"SUM(L302:L302)-SUMIF(CE302:CE302, 1, L302:L302)","v":754.25}]
[null,"1-100-38","Средний разряд работы 3,8","чел.-ч.",16.5,{"$f":"ROUND((0.2+1),7)","v":1.2},{"$f":"SmtRes!CX589","v":0.95040000000000002},null,null,{"$f":"SmtRes!CZ589","v":793.61},null,{"$f":"SmtRes!DI589","v":754.25}]
[null,2,"ЭМ",null,null,null,null,null,null,null,null,{"$f":"SUM(L304:L309)-SUMIF(CE304:CE309, 1, L304:L309)","v":22.370000000000005}]
[null,null,"ОТм(ЗТм)","чел.-ч.",null,null,{"$f":"Source!V299","v":1.4976E-2},null,null,null,null,{"$f":"SUMIF(CE305:CE309, 1, L305:L309)","v":14.25},null,null,null,null,null,null,null,null,null,null,null,null,null,null,null,null,null,null,null,null,null,null,null,null,null,null,null,null,null,null,null,null,null,null,null,null,null,null,null,null,null,null,null,null,null,null,null,null,null,null,null,null,null,null,null,null,null,null,null,null,null,null,null,null,null,null,null,null,null,null,1]
[null,"91.05.05-015","Краны на автомобильном ходу, грузоподъемность 16 т","маш.-ч",0.13,{"$f":"ROUND((0.2+1),7)","v":1.2},{"$f":"SmtRes!CX591","v":7.4879999999999999E-3},null,null,{"$f":"SmtRes!CZ591","v":1626.29},null,{"$f":"SmtRes!DG591","v":12.18}]
[null,"4-100-060","ОТм(ЗТм) Средний разряд машинистов 6","чел.-ч.",{"$f":"SmtRes!DO591*SmtRes!AT591","v":0.13},{"$f":"ROUND((0.2+1),7)","v":1.2},{"$f":"ROUND(E306*F306*G299, 7)","v":7.4879999999999999E-3},null,null,{"$f":"ROUND(SmtRes!AG591/SmtRes!DO591, 2)","v":1090.46},null,{"$f":"SmtRes!DH591","v":8.17},null,null,null,null,null,null,null,null,null,null,null,null,null,null,null,null,null,null,null,null,null,null,null,null,null,null,null,null,null,null,null,null,null,null,null,null,null,null,null,null,null,null,null,null,null,null,null,null,null,null,null,null,null,null,null,null,null,null,null,null,null,null,null,null,null,null,null,null,null,null,1]
[null,"91.14.02-001","Автомобили бортовые, грузоподъемность до 5 т","маш.-ч",0.13,{"$f":"ROUND((0.2+1),7)","v":1.2},{"$f":"SmtRes!CX592","v":7.4879999999999999E-3},null,null,{"$f":"SmtRes!CZ592","v":641.70000000000005},null,{"$f":"SmtRes!DG592","v":4.8099999999999996}]
[null,"4-100-040","ОТм(ЗТм) Средний разряд машинистов 4","чел.-ч.",{"$f":"SmtRes!DO592*SmtRes!AT592","v":0.13},{"$f":"ROUND((0.2+1),7)","v":1.2},{"$f":"ROUND(E308*F308*G299, 7)","v":7.4879999999999999E-3},null,null,{"$f":"ROUND(SmtRes!AG592/SmtRes!DO592, 2)","v":811.79},null,{"$f":"SmtRes!DH592","v":6.08},null,null,null,null,null,null,null,null,null,null,null,null,null,null,null,null,null,null,null,null,null,null,null,null,null,null,null,null,null,null,null,null,null,null,null,null,null,null,null,null,null,null,null,null,null,null,null,null,null,null,null,null,null,null,null,null,null,null,null,null,null,null,null,null,null,null,null,null,null,null,1]
[null,"91.17.04-233","Аппараты сварочные для ручной дуговой сварки, сварочный ток до 350 А","маш.-ч",2.7,{"$f":"ROUND((0.2+1),7)","v":1.2},{"$f":"SmtRes!CX593","v":0.15551999999999999},null,null,{"$f":"SmtRes!CZ593","v":34.61},null,{"$f":"SmtRes!DG593","v":5.38}]
[null,4,"М",null,null,null,null,null,null,null,null,{"$f":"SUM(L311:L312)-SUMIF(CE311:CE312, 1, L311:L312)","v":112.89}]
[null,"01.7.11.07-0227","Электроды сварочные для сварки низколегированных и углеродистых сталей УОНИ 13/45, Э42А, диаметр 4-5 мм","кг",0.6,null,{"$f":"SmtRes!CX594","v":2.8799999999999999E-2},{"$f":"SmtRes!CZ594","v":155.63},{"$f":"SmtRes!AI594","v":0.78},{"$f":"ROUND(H311*I311, 2)","v":121.39},null,{"$f":"SmtRes!DF594","v":3.5}]
[null,"14.4.01.09-0427","Грунтовка эпоксидная антикоррозионная с содержанием цинка для защиты металлических поверхностей, расход 0,20-0,39 кг/м2","кг",2,null,{"$f":"SmtRes!CX595","v":9.6000000000000002E-2},{"$f":"SmtRes!CZ595","v":911.56},{"$f":"SmtRes!AI595","v":1.25},{"$f":"ROUND(H312*I312, 2)","v":1139.45},null,{"$f":"SmtRes!DF595","v":109.39}]
[null,null,"Итого прямые затраты",null,null,null,null,null,null,null,null,{"$f":"L301+L303+L304+L310","v":903.76}]
["18.1",{"$f":"Source!F302","v":"421/пр_2020_п.75_пп.а"},{"$f":"Source!G302","v":"Сметная стоимость вспомогательных ненормируемых материальных ресурсов, не учтенная в сметной норме, 2%"},{"$f":"Source!H302","v":"%"},{"$f":"SmtRes!AT596","v":2},null,{"$f":"Source!I302","v":2},null,null,null,null,{"$f":"Source!P302","v":12.57},null,null,null,null,null,null,null,null,null,null,null,null,null,null,null,null,null,{"$f":"ROUND((Source!AT302/100)*((ROUND(0*Source!I302, 2)+ROUND(0*Source!I302, 2))), 2)","v":0},{"$f":"ROUND((Source!AU302/100)*((ROUND(0*Source!I302, 2)+ROUND(0*Source!I302, 2))), 2)","v":0},null,null,null,null,null,null,null,null,{"$f":"L314","v":12.57},null,null,null,null,null,null,null,null,{"$f":"L314","v":12.57},null,null,{"$f":"Source!X302","v":0},{"$f":"Source!Y302","v":0},null,null,null,null,null,null,null,null,null,null,null,null,null,null,null,null,null,null,null,null,null,null,null,null,null,null,null,null,2]
[null,null,"ФОТ",null,null,null,null,null,null,null,null,{"$f":"SUM(AR299:AR318)+SUM(AS299:AS318)+SUM(AT299:AT318)+SUM(AU299:AU318)+SUM(AV299:AV318)","v":768.5}]
[null,"Пр/812-049.3-1","НР Электротехнические установки: на других объектах","%",{"$f":"Source!BZ299","v":97},null,{"$f":"Source!AT299","v":97},null,null,null,null,{"$f":"SUM(AZ299:AZ318)","v":745.45}]
[null,"Пр/774-049.3","СП Электротехнические установки: на других объектах","%",{"$f":"Source!CA299","v":51},null,{"$f":"Source!AU299","v":51},null,null,null,null,{"$f":"SUM(BA299:BA318)","v":391.94}]
[null,null,"Всего по позиции",null,null,null,null,null,{"$f":"IF(E299<>0,K318/E299, 0)","v":42785.833333333336},null,{"$f":"L301+L303+L310+L316+L317+L304+SUM(L314:L314)","v":2053.7200000000003},null,null,null,null,null,null,null,null,null,null,null,null,null,null,null,null,null,null,{"$f":"ROUND((Source!AT299/100)*((ROUND(SUMIF(SmtRes!AQ589:'SmtRes'!AQ596,\"=1\",SmtRes!AD589:'SmtRes'!AD596)*Source!I299, 2)+ROUND(SUMIF(SmtRes!AQ589:'SmtRes'!AQ596,\"=1\",SmtRes!AC589:'SmtRes'!AC596)*Source!I299, 2))), 2)","v":125.52},{"$f":"ROUND((Source!AU299/100)*((ROUND(SUMIF(SmtRes!AQ589:'SmtRes'!AQ596,\"=1\",SmtRes!AD589:'SmtRes'!AD596)*Source!I299, 2)+ROUND(SUMIF(SmtRes!AQ589:'SmtRes'!AQ596,\"=1\",SmtRes!AC589:'SmtRes'!AC596)*Source!I299, 2))), 2)","v":65.989999999999995},null,null,null,null,null,null,null,null,{"$f":"L301+L303+L310+L316+L317+L304","v":2041.15},{"$f":"L303","v":22.370000000000005},null,"=",{"$f":"L301","v":754.25},null,{"$f":"L304","v":14.25},null,"=",{"$f":"L310","v":112.89},null,null,{"$f":"Source!X299","v":745.45},{"$f":"Source!Y299","v":391.94},null,null,null,null,null,null,null,null,null,null,null,null,null,null,null,null,null,null,null,null,null,null,null,null,null,null,null,null,2]
["19","ГЭСНм 08-02-472-09",{"$f":"Source!G304","v":"Проводник заземляющий открыто по строительным основаниям: из круглой стали диаметром 12 мм"},{"$f":"Source!H304","v":"100 м"},{"$f":"Source!K304","v":0.28000000000000003},null,{"$f":"Source!I304","v":0.28000000000000003}]
[null,"421/пр_2020_прил.10_т.1_п.4_гр.5","ЭМ *1,20; ЗТ *1,20; ЗТм *1,20"]
[null,1,"ОТ (ЗТ)","чел.-ч.",null,null,{"$f":"Source!U304","v":6.2160000000000002},null,null,null,null,{"$f":"SUM(L322:L322)-SUMIF(CE322:CE322, 1, L322:L322)","v":4933.08}]
[null,"1-100-38","Средний разряд работы 3,8","чел.-ч.",18.5,{"$f":"ROUND((0.2+1),7)","v":1.2},{"$f":"SmtRes!CX605","v":6.2160000000000002},null,null,{"$f":"SmtRes!CZ605","v":793.61},null,{"$f":"SmtRes!DI605","v":4933.08}]
[null,2,"ЭМ",null,null,null,null,null,null,null,null,{"$f":"SUM(L324:L329)-SUMIF(CE324:CE329, 1, L324:L329)","v":163.26000000000005}]
[null,null,"ОТм(ЗТм)","чел.-ч.",null,null,{"$f":"Source!V304","v":0.11423999999999999},null,null,null,null,{"$f":"SUMIF(CE325:CE329, 1, L325:L329)","v":108.66},null,null,null,null,null,null,null,null,null,null,null,null,null,null,null,null,null,null,null,null,null,null,null,null,null,null,null,null,null,null,null,null,null,null,null,null,null,null,null,null,null,null,null,null,null,null,null,null,null,null,null,null,null,null,null,null,null,null,null,null,null,null,null,null,null,null,null,null,null,null,1]
[null,"91.05.05-015","Краны на автомобильном ходу, грузоподъемность 16 т","маш.-ч",0.17,{"$f":"ROUND((0.2+1),7)","v":1.2},{"$f":"SmtRes!CX607","v":5.7119999999999997E-2},null,null,{"$f":"SmtRes!CZ607","v":1626.29},null,{"$f":"SmtRes!DG607","v":92.89}]
[null,"4-100-060","ОТм(ЗТм) Средний разряд машинистов 6","чел.-ч.",{"$f":"SmtRes!DO607*SmtRes!AT607","v":0.17},{"$f":"ROUND((0.2+1),7)","v":1.2},{"$f":"ROUND(E326*F326*G319, 7)","v":5.7119999999999997E-2},null,null,{"$f":"ROUND(SmtRes!AG607/SmtRes!DO607, 2)","v":1090.46},null,{"$f":"SmtRes!DH607","v":62.29},null,null,null,null,null,null,null,null,null,null,null,null,null,null,null,null,null,null,null,null,null,null,null,null,null,null,null,null,null,null,null,null,null,null,null,null,null,null,null,null,null,null,null,null,null,null,null,null,null,null,null,null,null,null,null,null,null,null,null,null,null,null,null,null,null,null,null,null,null,null,1]
[null,"91.14.02-001","Автомобили бортовые, грузоподъемность до 5 т","маш.-ч",0.17,{"$f":"ROUND((0.2+1),7)","v":1.2},{"$f":"SmtRes!CX608","v":5.7119999999999997E-2},null,null,{"$f":"SmtRes!CZ608","v":641.70000000000005},null,{"$f":"SmtRes!DG608","v":36.65}]
[null,"4-100-040","ОТм(ЗТм) Средний разряд машинистов 4","чел.-ч.",{"$f":"SmtRes!DO608*SmtRes!AT608","v":0.17},{"$f":"ROUND((0.2+1),7)","v":1.2},{"$f":"ROUND(E328*F328*G319, 7)","v":5.7119999999999997E-2},null,null,{"$f":"ROUND(SmtRes!AG608/SmtRes!DO608, 2)","v":811.79},null,{"$f":"SmtRes!DH608","v":46.37},null,null,null,null,null,null,null,null,null,null,null,null,null,null,null,null,null,null,null,null,null,null,null,null,null,null,null,null,null,null,null,null,null,null,null,null,null,null,null,null,null,null,null,null,null,null,null,null,null,null,null,null,null,null,null,null,null,null,null,null,null,null,null,null,null,null,null,null,null,null,1]
[null,"91.17.04-233","Аппараты сварочные для ручной дуговой сварки, сварочный ток до 350 А","маш.-ч",2.9,{"$f":"ROUND((0.2+1),7)","v":1.2},{"$f":"SmtRes!CX609","v":0.97440000000000004},null,null,{"$f":"SmtRes!CZ609","v":34.61},null,{"$f":"SmtRes!DG609","v":33.72}]
[null,4,"М",null,null,null,null,null,null,null,null,{"$f":"SUM(L331:L333)-SUMIF(CE331:CE333, 1, L331:L333)","v":852.30000000000007}]
[null,"01.7.11.07-0227","Электроды сварочные для сварки низколегированных и углеродистых сталей УОНИ 13/45, Э42А, диаметр 4-5 мм","кг",0.9,null,{"$f":"SmtRes!CX610","v":0.252},{"$f":"SmtRes!CZ610","v":155.63},{"$f":"SmtRes!AI610","v":0.78},{"$f":"ROUND(H331*I331, 2)","v":121.39},null,{"$f":"SmtRes!DF610","v":30.59}]
[null,"08.3.05.02-0021","Прокат листовой горячекатаный, марки стали Ст3сп, Ст3пс, ширина 1200-3000 мм, толщина 1-8 мм","т",4.0000000000000001E-3,null,{"$f":"SmtRes!CX611","v":1.1199999999999999E-3},null,null,{"$f":"SmtRes!CZ611","v":49995.77},null,{"$f":"SmtRes!DF611","v":56}]
[null,"14.4.01.09-0427","Грунтовка эпоксидная антикоррозионная с содержанием цинка для защиты металлических поверхностей, расход 0,20-0,39 кг/м2","кг",2.4,null,{"$f":"SmtRes!CX612","v":0.67200000000000004},{"$f":"SmtRes!CZ612","v":911.56},{"$f":"SmtRes!AI612","v":1.25},{"$f":"ROUND(H333*I333, 2)","v":1139.45},null,{"$f":"SmtRes!DF612","v":765.71}]
[null,null,"Итого прямые затраты",null,null,null,null,null,null,null,null,{"$f":"L321+L323+L324+L330","v":6057.3}]
["19.1",{"$f":"Source!F307","v":"421/пр_2020_п.75_пп.а"},{"$f":"Source!G307","v":"Сметная стоимость вспомогательных ненормируемых материальных ресурсов, не учтенная в сметной норме, 2%"},{"$f":"Source!H307","v":"%"},{"$f":"SmtRes!AT613","v":2},null,{"$f":"Source!I307","v":2},null,null,null,null,{"$f":"Source!P307","v":82.22},null,null,null,null,null,null,null,null,null,null,null,null,null,null,null,null,null,{"$f":"ROUND((Source!AT307/100)*((ROUND(0*Source!I307, 2)+ROUND(0*Source!I307, 2))), 2)","v":0},{"$f":"ROUND((Source!AU307/100)*((ROUND(0*Source!I307, 2)+ROUND(0*Source!I307, 2))), 2)","v":0},null,null,null,null,null,null,null,null,{"$f":"L335","v":82.22},null,null,null,null,null,null,null,null,{"$f":"L335","v":82.22},null,null,{"$f":"Source!X307","v":0},{"$f":"Source!Y307","v":0},null,null,null,null,null,null,null,null,null,null,null,null,null,null,null,null,null,null,null,null,null,null,null,null,null,null,null,null,2]
[null,null,"ФОТ",null,null,null,null,null,null,null,null,{"$f":"SUM(AR319:AR339)+SUM(AS319:AS339)+SUM(AT319:AT339)+SUM(AU319:AU339)+SUM(AV319:AV339)","v":5041.74}]
[null,"Пр/812-049.3-1","НР Электротехнические установки: на других объектах","%",{"$f":"Source!BZ304","v":97},null,{"$f":"Source!AT304","v":97},null,null,null,null,{"$f":"SUM(AZ319:AZ339)","v":4890.49}]
[null,"Пр/774-049.3","СП Электротехнические установки: на других объектах","%",{"$f":"Source!CA304","v":51},null,{"$f":"Source!AU304","v":51},null,null,null,null,{"$f":"SUM(BA319:BA339)","v":2571.29}]
[null,null,"Всего по позиции",null,null,null,null,null,{"$f":"IF(E319<>0,K339/E319, 0)","v":48576.071428571428},null,{"$f":"L321+L323+L330+L337+L338+L324+SUM(L335:L335)","v":13601.300000000001},null,null,null,null,null,null,null,null,null,null,null,null,null,null,null,null,null,null,{"$f":"ROUND((Source!AT304/100)*((ROUND(SUMIF(SmtRes!AQ605:'SmtRes'!AQ613,\"=1\",SmtRes!AD605:'SmtRes'!AD613)*Source!I304, 2)+ROUND(SUMIF(SmtRes!AQ605:'SmtRes'!AQ613,\"=1\",SmtRes!AC605:'SmtRes'!AC613)*Source!I304, 2))), 2)","v":732.19},{"$f":"ROUND((Source!AU304/100)*((ROUND(SUMIF(SmtRes!AQ605:'SmtRes'!AQ613,\"=1\",SmtRes!AD605:'SmtRes'!AD613)*Source!I304, 2)+ROUND(SUMIF(SmtRes!AQ605:'SmtRes'!AQ613,\"=1\",SmtRes!AC605:'SmtRes'!AC613)*Source!I304, 2))), 2)","v":384.97},null,null,null,null,null,null,null,null,{"$f":"L321+L323+L330+L337+L338+L324","v":13519.080000000002},{"$f":"L323","v":163.26000000000005},null,"=",{"$f":"L321","v":4933.08},null,{"$f":"L324","v":108.66},null,"=",{"$f":"L330","v":852.30000000000007},null,null,{"$f":"Source!X304","v":4890.49},{"$f":"Source!Y304","v":2571.29},null,null,null,null,null,null,null,null,null,null,null,null,null,null,null,null,null,null,null,null,null,null,null,null,null,null,null,null,2]
["20",{"$f":"Source!F309","v":"ТЦ_08.3.05.00_77_7736281025_12.01.2026_02_42.1"},{"$f":"Source!G309","v":"Сталь круглая D=10 мм"},{"$f":"Source!H309","v":"м"},{"$f":"Source!K309","v":32.799999999999997},null,{"$f":"Source!I309","v":32.799999999999997},null,null,{"$f":"Source!AL309","v":90.8},null,{"$f":"Source!HG309","v":2978.24}]
[null,null,"Всего по позиции",null,null,null,null,null,{"$f":"IF(E340<>0,K341/E340, 0)","v":90.8},null,{"$f":"L340","v":2978.24},null,null,null,null,null,null,null,null,null,null,null,null,null,null,null,null,null,null,{"$f":"ROUND((Source!AT309/100)*((ROUND(ROUND(Source!AO309,2)*Source!I309, 2)+ROUND(ROUND(Source!AN309,2)*Source!I309, 2))), 2)","v":0},{"$f":"ROUND((Source!AU309/100)*((ROUND(ROUND(Source!AO309,2)*Source!I309, 2)+ROUND(ROUND(Source!AN309,2)*Source!I309, 2))), 2)","v":0},null,null,null,null,null,null,null,null,{"$f":"L340","v":2978.24},{"$f":"0","v":0},null,"=",{"$f":"0","v":0},null,{"$f":"0","v":0},null,"=",{"$f":"L340","v":2978.24},{"$f":"L340","v":2978.24},null,{"$f":"Source!X309","v":0},{"$f":"Source!Y309","v":0},null,null,null,null,null,null,null,null,null,null,null,null,null,null,null,null,null,null,null,null,null,null,null,null,null,null,null,null,1]
[]
[null,null,"Итого прямые затраты по разделу",null,null,null,null,null,null,null,null,{"$f":"L345+L346+L352+L356","v":23022.340000000004}]
[null,null,"в том числе"]
[null,null,"  оплата труда",null,null,null,null,null,null,null,null,{"$f":"SUM(AR258:AR341)","v":12125.630000000001}]
[null,null,"  эксплуатация машин и механизмов",null,null,null,null,null,null,null,null,{"$f":"L348+L351+L350","v":673.92000000000007}]
[null,null,"  в том числе"]
[null,null,"  эксплуатация машин и механизмов",null,null,null,null,null,null,null,null,{"$f":"SUM(AO258:AO341)","v":395.79000000000008}]
[null,null,"    в том числе"]
[null,null,"  оплата труда машинистов (ОТм)",null,null,null,null,null,null,null,null,{"$f":"SUM(AT258:AT341)","v":278.13}]
[null,null,"    доплаты к оплате труда машинистов",null,null,null,null,null,null,null,null,{"$f":"SUM(AV258:AV341)","v":0}]
[null,null,"  материальные ресурсы",null,null,null,null,null,null,null,null,{"$f":"L354+L355","v":10222.790000000001}]
[null,null,"  в том числе"]
[null,null,"    материальные ресурсы без учета дополнительной перевозки",null,null,null,null,null,null,null,null,{"$f":"SUM(AW258:AW341)-SUM(BK258:BK341)","v":10222.790000000001}]
[null,null,"    дополнительная перевозка материальных ресурсов",null,null,null,null,null,null,null,null,{"$f":"SUM(BC258:BC341)","v":0}]
[null,null,"  перевозка",null,null,null,null,null,null,null,null,{"$f":"SUM(BB258:BB341)","v":0}]
[null,null,"Всего ФОТ (справочно)",null,null,null,null,null,null,null,null,{"$f":"SUM(AR258:AR341)+SUM(AT258:AT341)+SUM(AV258:AV341)","v":12403.76}]
[null,null,"Всего накладные расходы",null,null,null,null,null,null,null,null,{"$f":"SUM(AZ258:AZ341)","v":11799.099999999999}]
[null,null,"Всего сметная прибыль",null,null,null,null,null,null,null,null,{"$f":"SUM(BA258:BA341)","v":6006.15}]
[null,null,"Итого оборудование",null,null,null,null,null,null,null,null,{"$f":"L362+L363","v":0}]
[null,null,"в том числе"]
[null,null,"  оборудование без учета дополнительной перевозки",null,null,null,null,null,null,null,null,{"$f":"SUM(BK258:BK341)","v":0}]
[null,null,"  дополнительная перевозка оборудования",null,null,null,null,null,null,null,null,{"$f":"SUM(BD258:BD341)","v":0}]
[null,null,"Итого прочие затраты"]
[null,null,"Итого прочие затраты",null,null,null,null,null,null,null,null,{"$f":"SUM(BQ258:BQ341)","v":0}]
[null,null,"Итого хозяйственный инвентарь",null,null,null,null,null,null,null,null,{"$f":"SUM(BO258:BO341)","v":0}]
[null,null,"Итого по разделу",null,null,null,null,null,null,null,null,{"$f":"L343+L358+L359+L360+L365+L366","v":40827.590000000004}]
[null,null,"Справочно"]
[null,null,"  материальные ресурсы, отсутствующие в ФРСН",null,null,null,null,null,null,null,null,{"$f":"SUM(AX258:AX341)","v":8160.84}]
[null,null,"  оборудование, отсутствующие в ФРСН",null,null,null,null,null,null,null,null,{"$f":"SUM(AY258:AY341)","v":0}]
[null,null,"  затраты труда рабочих",null,null,null,{"$f":"Source!F341","v":16.085760000000001}]
[null,null,"  затраты труда машинистов",null,null,null,{"$f":"Source!F342","v":0.29241600000000001}]
[]
[]
["Раздел: Материалы"]
["21",{"$f":"Source!F353","v":"ПАО РОССЕТИ МР"},"Провод магистральный СИП-2 3х95+1х95\n512,69 = 488 +  3% Трансп +  2% Заг.скл",{"$f":"Source!H353","v":"м"},{"$f":"Source!K353","v":15},null,{"$f":"Source!I353","v":15},null,null,{"$f":"Source!AL353","v":512.68999999999994},null,{"$f":"Source!HG353","v":7690.35}]
[null,null,"Всего по позиции",null,null,null,null,null,{"$f":"IF(E376<>0,K377/E376, 0)","v":512.69000000000005},null,{"$f":"L376","v":7690.35},null,null,null,null,null,null,null,null,null,null,null,null,null,null,null,null,null,null,{"$f":"ROUND((Source!AT353/100)*((ROUND(ROUND(Source!AO353,2)*Source!I353, 2)+ROUND(ROUND(Source!AN353,2)*Source!I353, 2))), 2)","v":0},{"$f":"ROUND((Source!AU353/100)*((ROUND(ROUND(Source!AO353,2)*Source!I353, 2)+ROUND(ROUND(Source!AN353,2)*Source!I353, 2))), 2)","v":0},null,null,null,null,null,null,null,null,{"$f":"L376","v":7690.35},{"$f":"0","v":0},null,"=",{"$f":"0","v":0},null,{"$f":"0","v":0},null,"=",{"$f":"L376","v":7690.35},{"$f":"L376","v":7690.35},null,{"$f":"Source!X353","v":0},{"$f":"Source!Y353","v":0},null,null,null,null,null,null,null,null,null,null,null,null,null,null,null,null,null,null,null,null,null,null,null,null,null,null,null,null,1]
["27",{"$f":"Source!F379","v":"ТЦ_24.3.01.02_77_7736281025_12.01.2026_02_40.1"},{"$f":"Source!G379","v":"Труба гофрированная ПВХ d=75мм"},{"$f":"Source!H379","v":"м"},{"$f":"Source!K379","v":4},null,{"$f":"Source!I379","v":4},null,null,{"$f":"Source!AL379","v":377.33},null,{"$f":"Source!HG379","v":1509.32}]
[null,null,"Всего по позиции",null,null,null,null,null,{"$f":"IF(E378<>0,K379/E378, 0)","v":377.33},null,{"$f":"L378","v":1509.32},null,null,null,null,null,null,null,null,null,null,null,null,null,null,null,null,null,null,{"$f":"ROUND((Source!AT379/100)*((ROUND(ROUND(Source!AO379,2)*Source!I379, 2)+ROUND(ROUND(Source!AN379,2)*Source!I379, 2))), 2)","v":0},{"$f":"ROUND((Source!AU379/100)*((ROUND(ROUND(Source!AO379,2)*Source!I379, 2)+ROUND(ROUND(Source!AN379,2)*Source!I379, 2))), 2)","v":0},null,null,null,null,null,null,null,null,{"$f":"L378","v":1509.32},{"$f":"0","v":0},null,"=",{"$f":"0","v":0},null,{"$f":"0","v":0},null,"=",{"$f":"L378","v":1509.32},{"$f":"L378","v":1509.32},null,{"$f":"Source!X379","v":0},{"$f":"Source!Y379","v":0},null,null,null,null,null,null,null,null,null,null,null,null,null,null,null,null,null,null,null,null,null,null,null,null,null,null,null,null,1]
["28",{"$f":"Source!F381","v":"ТЦ_08.3.02.00_77_7736281025_12.01.2026_02_47.1"},{"$f":"Source!G381","v":"Металлическая лента F20.7"},{"$f":"Source!H381","v":"м"},{"$f":"Source!K381","v":5},null,{"$f":"Source!I381","v":5},null,null,{"$f":"Source!AL381","v":199.63},null,{"$f":"Source!HG381","v":998.15}]
[null,null,"Всего по позиции",null,null,null,null,null,{"$f":"IF(E380<>0,K381/E380, 0)","v":199.63},null,{"$f":"L380","v":998.15},null,null,null,null,null,null,null,null,null,null,null,null,null,null,null,null,null,null,{"$f":"ROUND((Source!AT381/100)*((ROUND(ROUND(Source!AO381,2)*Source!I381, 2)+ROUND(ROUND(Source!AN381,2)*Source!I381, 2))), 2)","v":0},{"$f":"ROUND((Source!AU381/100)*((ROUND(ROUND(Source!AO381,2)*Source!I381, 2)+ROUND(ROUND(Source!AN381,2)*Source!I381, 2))), 2)","v":0},null,null,null,null,null,null,null,null,{"$f":"L380","v":998.15},{"$f":"0","v":0},null,"=",{"$f":"0","v":0},null,{"$f":"0","v":0},null,"=",{"$f":"L380","v":998.15},{"$f":"L380","v":998.15},null,{"$f":"Source!X381","v":0},{"$f":"Source!Y381","v":0},null,null,null,null,null,null,null,null,null,null,null,null,null,null,null,null,null,null,null,null,null,null,null,null,null,null,null,null,1]
["29",{"$f":"Source!F383","v":"ТЦ_22.2.02.15_77_7736281025_12.01.2026_02_48.1"},{"$f":"Source!G383","v":"Скрепа С 20"},{"$f":"Source!H383","v":"ШТ"},{"$f":"Source!K383","v":4},null,{"$f":"Source!I383","v":4},null,null,{"$f":"Source!AL383","v":43.21},null,{"$f":"Source!HG383","v":172.84}]
[null,null,"Всего по позиции",null,null,null,null,null,{"$f":"IF(E382<>0,K383/E382, 0)","v":43.21},null,{"$f":"L382","v":172.84},null,null,null,null,null,null,null,null,null,null,null,null,null,null,null,null,null,null,{"$f":"ROUND((Source!AT383/100)*((ROUND(ROUND(Source!AO383,2)*Source!I383, 2)+ROUND(ROUND(Source!AN383,2)*Source!I383, 2))), 2)","v":0},{"$f":"ROUND((Source!AU383/100)*((ROUND(ROUND(Source!AO383,2)*Source!I383, 2)+ROUND(ROUND(Source!AN383,2)*Source!I383, 2))), 2)","v":0},null,null,null,null,null,null,null,null,{"$f":"L382","v":172.84},{"$f":"0","v":0},null,"=",{"$f":"0","v":0},null,{"$f":"0","v":0},null,"=",{"$f":"L382","v":172.84},{"$f":"L382","v":172.84},null,{"$f":"Source!X383","v":0},{"$f":"Source!Y383","v":0},null,null,null,null,null,null,null,null,null,null,null,null,null,null,null,null,null,null,null,null,null,null,null,null,null,null,null,null,1]
["30",{"$f":"Source!F385","v":"ТЦ_25.2.01.02_77_7736281025_12.01.2026_02_49.1"},{"$f":"Source!G385","v":"Бугель B 20"},{"$f":"Source!H385","v":"ШТ"},{"$f":"Source!K385","v":4},null,{"$f":"Source!I385","v":4},null,null,{"$f":"Source!AL385","v":57},null,{"$f":"Source!HG385","v":228}]
[null,null,"Всего по позиции",null,null,null,null,null,{"$f":"IF(E384<>0,K385/E384, 0)","v":57},null,{"$f":"L384","v":228},null,null,null,null,null,null,null,null,null,null,null,null,null,null,null,null,null,null,{"$f":"ROUND((Source!AT385/100)*((ROUND(ROUND(Source!AO385,2)*Source!I385, 2)+ROUND(ROUND(Source!AN385,2)*Source!I385, 2))), 2)","v":0},{"$f":"ROUND((Source!AU385/100)*((ROUND(ROUND(Source!AO385,2)*Source!I385, 2)+ROUND(ROUND(Source!AN385,2)*Source!I385, 2))), 2)","v":0},null,null,null,null,null,null,null,null,{"$f":"L384","v":228},{"$f":"0","v":0},null,"=",{"$f":"0","v":0},null,{"$f":"0","v":0},null,"=",{"$f":"L384","v":228},{"$f":"L384","v":228},null,{"$f":"Source!X385","v":0},{"$f":"Source!Y385","v":0},null,null,null,null,null,null,null,null,null,null,null,null,null,null,null,null,null,null,null,null,null,null,null,null,null,null,null,null,1]
["35",{"$f":"Source!F401","v":"ТЦ_25.2.01.06_77_7736281025_12.01.2026_02_54.1"},{"$f":"Source!G401","v":"Плашечный зажим ПС-1-1"},{"$f":"Source!H401","v":"ШТ"},{"$f":"Source!K401","v":8},null,{"$f":"Source!I401","v":8},null,null,{"$f":"Source!AL401","v":112.73},null,{"$f":"Source!HG401","v":901.84}]
[null,null,"Всего по позиции",null,null,null,null,null,{"$f":"IF(E386<>0,K387/E386, 0)","v":112.73},null,{"$f":"L386","v":901.84},null,null,null,null,null,null,null,null,null,null,null,null,null,null,null,null,null,null,{"$f":"ROUND((Source!AT401/100)*((ROUND(ROUND(Source!AO401,2)*Source!I401, 2)+ROUND(ROUND(Source!AN401,2)*Source!I401, 2))), 2)","v":0},{"$f":"ROUND((Source!AU401/100)*((ROUND(ROUND(Source!AO401,2)*Source!I401, 2)+ROUND(ROUND(Source!AN401,2)*Source!I401, 2))), 2)","v":0},null,null,null,null,null,null,null,null,{"$f":"L386","v":901.84},{"$f":"0","v":0},null,"=",{"$f":"0","v":0},null,{"$f":"0","v":0},null,"=",{"$f":"L386","v":901.84},{"$f":"L386","v":901.84},null,{"$f":"Source!X401","v":0},{"$f":"Source!Y401","v":0},null,null,null,null,null,null,null,null,null,null,null,null,null,null,null,null,null,null,null,null,null,null,null,null,null,null,null,null,1]
["39",{"$f":"Source!F411","v":"ТЦ_22.2.02.19_77_7736281025_12.01.2026_02_57.1"},{"$f":"Source!G411","v":"Оборудование для закороток и заземления CMCC"},{"$f":"Source!H411","v":"ШТ"},{"$f":"Source!K411","v":4},null,{"$f":"Source!I411","v":4},null,null,{"$f":"Source!AL411","v":430.58},null,{"$f":"Source!HG411","v":1722.32}]
[null,null,"Всего по позиции",null,null,null,null,null,{"$f":"IF(E388<>0,K389/E388, 0)","v":430.58},null,{"$f":"L388","v":1722.32},null,null,null,null,null,null,null,null,null,null,null,null,null,null,null,null,null,null,{"$f":"ROUND((Source!AT411/100)*((ROUND(ROUND(Source!AO411,2)*Source!I411, 2)+ROUND(ROUND(Source!AN411,2)*Source!I411, 2))), 2)","v":0},{"$f":"ROUND((Source!AU411/100)*((ROUND(ROUND(Source!AO411,2)*Source!I411, 2)+ROUND(ROUND(Source!AN411,2)*Source!I411, 2))), 2)","v":0},null,null,null,null,null,null,null,null,{"$f":"L388","v":1722.32},{"$f":"0","v":0},null,"=",{"$f":"0","v":0},null,{"$f":"0","v":0},null,"=",{"$f":"L388","v":1722.32},{"$f":"L388","v":1722.32},null,{"$f":"Source!X411","v":0},{"$f":"Source!Y411","v":0},null,null,null,null,null,null,null,null,null,null,null,null,null,null,null,null,null,null,null,null,null,null,null,null,null,null,null,null,1]
["40",{"$f":"Source!F413","v":"ТЦ_20.1.01.08_77_7736281025_12.01.2026_02_58.1"},{"$f":"Source!G413","v":"Зажим ответвительный CT 70 P"},{"$f":"Source!H413","v":"ШТ"},{"$f":"Source!K413","v":4},null,{"$f":"Source!I413","v":4},null,null,{"$f":"Source!AL413","v":217.64},null,{"$f":"Source!HG413","v":870.56}]
[null,null,"Всего по позиции",null,null,null,null,null,{"$f":"IF(E390<>0,K391/E390, 0)","v":217.64},null,{"$f":"L390","v":870.56},null,null,null,null,null,null,null,null,null,null,null,null,null,null,null,null,null,null,{"$f":"ROUND((Source!AT413/100)*((ROUND(ROUND(Source!AO413,2)*Source!I413, 2)+ROUND(ROUND(Source!AN413,2)*Source!I413, 2))), 2)","v":0},{"$f":"ROUND((Source!AU413/100)*((ROUND(ROUND(Source!AO413,2)*Source!I413, 2)+ROUND(ROUND(Source!AN413,2)*Source!I413, 2))), 2)","v":0},null,null,null,null,null,null,null,null,{"$f":"L390","v":870.56},{"$f":"0","v":0},null,"=",{"$f":"0","v":0},null,{"$f":"0","v":0},null,"=",{"$f":"L390","v":870.56},{"$f":"L390","v":870.56},null,{"$f":"Source!X413","v":0},{"$f":"Source!Y413","v":0},null,null,null,null,null,null,null,null,null,null,null,null,null,null,null,null,null,null,null,null,null,null,null,null,null,null,null,null,1]
["41",{"$f":"Source!F417","v":"ТЦ_59.1.25.03_77_7736281025_12.01.2026_02_60.1"},{"$f":"Source!G417","v":"Наконечник для СИП CPTAU 95"},{"$f":"Source!H417","v":"ШТ"},{"$f":"Source!K417","v":4},null,{"$f":"Source!I417","v":4},null,null,{"$f":"Source!AL417","v":576.17999999999995},null,{"$f":"Source!HG417","v":2304.7199999999998}]
[null,null,"Всего по позиции",null,null,null,null,null,{"$f":"IF(E392<>0,K393/E392, 0)","v":576.17999999999995},null,{"$f":"L392","v":2304.7199999999998},null,null,null,null,null,null,null,null,null,null,null,null,null,null,null,null,null,null,{"$f":"ROUND((Source!AT417/100)*((ROUND(ROUND(Source!AO417,2)*Source!I417, 2)+ROUND(ROUND(Source!AN417,2)*Source!I417, 2))), 2)","v":0},{"$f":"ROUND((Source!AU417/100)*((ROUND(ROUND(Source!AO417,2)*Source!I417, 2)+ROUND(ROUND(Source!AN417,2)*Source!I417, 2))), 2)","v":0},null,null,null,null,null,null,null,null,{"$f":"L392","v":2304.7199999999998},{"$f":"0","v":0},null,"=",{"$f":"0","v":0},null,{"$f":"0","v":0},null,"=",{"$f":"L392","v":2304.7199999999998},{"$f":"L392","v":2304.7199999999998},null,{"$f":"Source!X417","v":0},{"$f":"Source!Y417","v":0},null,null,null,null,null,null,null,null,null,null,null,null,null,null,null,null,null,null,null,null,null,null,null,null,null,null,null,null,1]
["42",{"$f":"Source!F427","v":"ТЦ_14.4.04.03_77_7736281025_12.01.2026_02_61.1"},{"$f":"Source!G427","v":"Эмаль алкидная, белая ПФ-115"},{"$f":"Source!H427","v":"кг"},{"$f":"Source!K427","v":0.84},null,{"$f":"Source!I427","v":0.84},null,null,{"$f":"Source!AL427","v":594.98},null,{"$f":"Source!HG427","v":499.78}]
[null,null,"Всего по позиции",null,null,null,null,null,{"$f":"IF(E394<>0,K395/E394, 0)","v":594.97619047619048},null,{"$f":"L394","v":499.78},null,null,null,null,null,null,null,null,null,null,null,null,null,null,null,null,null,null,{"$f":"ROUND((Source!AT427/100)*((ROUND(ROUND(Source!AO427,2)*Source!I427, 2)+ROUND(ROUND(Source!AN427,2)*Source!I427, 2))), 2)","v":0},{"$f":"ROUND((Source!AU427/100)*((ROUND(ROUND(Source!AO427,2)*Source!I427, 2)+ROUND(ROUND(Source!AN427,2)*Source!I427, 2))), 2)","v":0},null,null,null,null,null,null,null,null,{"$f":"L394","v":499.78},{"$f":"0","v":0},null,"=",{"$f":"0","v":0},null,{"$f":"0","v":0},null,"=",{"$f":"L394","v":499.78},{"$f":"L394","v":499.78},null,{"$f":"Source!X427","v":0},{"$f":"Source!Y427","v":0},null,null,null,null,null,null,null,null,null,null,null,null,null,null,null,null,null,null,null,null,null,null,null,null,null,null,null,null,1]
["43",{"$f":"Source!F429","v":"ТЦ_14.4.04.03_77_7736281025_12.01.2026_02_62.1"},{"$f":"Source!G429","v":"Эмаль алкидная, синяя ПФ-115"},{"$f":"Source!H429","v":"кг"},{"$f":"Source!K429","v":1.54},null,{"$f":"Source!I429","v":1.54},null,null,{"$f":"Source!AL429","v":557.4},null,{"$f":"Source!HG429","v":858.4}]
[null,null,"Всего по позиции",null,null,null,null,null,{"$f":"IF(E396<>0,K397/E396, 0)","v":557.40259740259739},null,{"$f":"L396","v":858.4},null,null,null,null,null,null,null,null,null,null,null,null,null,null,null,null,null,null,{"$f":"ROUND((Source!AT429/100)*((ROUND(ROUND(Source!AO429,2)*Source!I429, 2)+ROUND(ROUND(Source!AN429,2)*Source!I429, 2))), 2)","v":0},{"$f":"ROUND((Source!AU429/100)*((ROUND(ROUND(Source!AO429,2)*Source!I429, 2)+ROUND(ROUND(Source!AN429,2)*Source!I429, 2))), 2)","v":0},null,null,null,null,null,null,null,null,{"$f":"L396","v":858.4},{"$f":"0","v":0},null,"=",{"$f":"0","v":0},null,{"$f":"0","v":0},null,"=",{"$f":"L396","v":858.4},{"$f":"L396","v":858.4},null,{"$f":"Source!X429","v":0},{"$f":"Source!Y429","v":0},null,null,null,null,null,null,null,null,null,null,null,null,null,null,null,null,null,null,null,null,null,null,null,null,null,null,null,null,1]
["44",{"$f":"Source!F431","v":"ТЦ_14.4.02.00_77_7736281025_12.01.2026_02_63.1"},{"$f":"Source!G431","v":"Краска аэрозольная, черная"},{"$f":"Source!H431","v":"л"},{"$f":"Source!K431","v":0.56000000000000005},null,{"$f":"Source!I431","v":0.56000000000000005},null,null,{"$f":"Source!AL431","v":1767.71},null,{"$f":"Source!HG431","v":989.92}]
[null,null,"Всего по позиции",null,null,null,null,null,{"$f":"IF(E398<>0,K399/E398, 0)","v":1767.7142857142856},null,{"$f":"L398","v":989.92},null,null,null,null,null,null,null,null,null,null,null,null,null,null,null,null,null,null,{"$f":"ROUND((Source!AT431/100)*((ROUND(ROUND(Source!AO431,2)*Source!I431, 2)+ROUND(ROUND(Source!AN431,2)*Source!I431, 2))), 2)","v":0},{"$f":"ROUND((Source!AU431/100)*((ROUND(ROUND(Source!AO431,2)*Source!I431, 2)+ROUND(ROUND(Source!AN431,2)*Source!I431, 2))), 2)","v":0},null,null,null,null,null,null,null,null,{"$f":"L398","v":989.92},{"$f":"0","v":0},null,"=",{"$f":"0","v":0},null,{"$f":"0","v":0},null,"=",{"$f":"L398","v":989.92},{"$f":"L398","v":989.92},null,{"$f":"Source!X431","v":0},{"$f":"Source!Y431","v":0},null,null,null,null,null,null,null,null,null,null,null,null,null,null,null,null,null,null,null,null,null,null,null,null,null,null,null,null,1]
[]
[null,null,"Итого прямые затраты по разделу",null,null,null,null,null,null,null,null,{"$f":"L403+L404+L410+L414","v":18746.199999999997}]
[null,null,"в том числе"]
[null,null,"  оплата труда",null,null,null,null,null,null,null,null,{"$f":"SUM(AR375:AR399)","v":0}]
[null,null,"  эксплуатация машин и механизмов",null,null,null,null,null,null,null,null,{"$f":"L406+L409+L408","v":0}]
[null,null,"  в том числе"]
[null,null,"  эксплуатация машин и механизмов",null,null,null,null,null,null,null,null,{"$f":"SUM(AO375:AO399)","v":0}]
[null,null,"    в том числе"]
[null,null,"  оплата труда машинистов (ОТм)",null,null,null,null,null,null,null,null,{"$f":"SUM(AT375:AT399)","v":0}]
[null,null,"    доплаты к оплате труда машинистов",null,null,null,null,null,null,null,null,{"$f":"SUM(AV375:AV399)","v":0}]
[null,null,"  материальные ресурсы",null,null,null,null,null,null,null,null,{"$f":"L412+L413","v":18746.199999999997}]
[null,null,"  в том числе"]
[null,null,"    материальные ресурсы без учета дополнительной перевозки",null,null,null,null,null,null,null,null,{"$f":"SUM(AW375:AW399)-SUM(BK375:BK399)","v":18746.199999999997}]
[null,null,"    дополнительная перевозка материальных ресурсов",null,null,null,null,null,null,null,null,{"$f":"SUM(BC375:BC399)","v":0}]
[null,null,"  перевозка",null,null,null,null,null,null,null,null,{"$f":"SUM(BB375:BB399)","v":0}]
[null,null,"Всего ФОТ (справочно)",null,null,null,null,null,null,null,null,{"$f":"SUM(AR375:AR399)+SUM(AT375:AT399)+SUM(AV375:AV399)","v":0}]
[null,null,"Всего накладные расходы",null,null,null,null,null,null,null,null,{"$f":"SUM(AZ375:AZ399)","v":0}]
[null,null,"Всего сметная прибыль",null,null,null,null,null,null,null,null,{"$f":"SUM(BA375:BA399)","v":0}]
[null,null,"Итого оборудование",null,null,null,null,null,null,null,null,{"$f":"L420+L421","v":0}]
[null,null,"в том числе"]
[null,null,"  оборудование без учета дополнительной перевозки",null,null,null,null,null,null,null,null,{"$f":"SUM(BK375:BK399)","v":0}]
[null,null,"  дополнительная перевозка оборудования",null,null,null,null,null,null,null,null,{"$f":"SUM(BD375:BD399)","v":0}]
[null,null,"Итого прочие затраты"]
[null,null,"Итого прочие затраты",null,null,null,null,null,null,null,null,{"$f":"SUM(BQ375:BQ399)","v":0}]
[null,null,"Итого хозяйственный инвентарь",null,null,null,null,null,null,null,null,{"$f":"SUM(BO375:BO399)","v":0}]
[null,null,"Итого по разделу",null,null,null,null,null,null,null,null,{"$f":"L401+L416+L417+L418+L423+L424","v":18746.199999999997}]
[null,null,"Справочно"]
[null,null,"  материальные ресурсы, отсутствующие в ФРСН",null,null,null,null,null,null,null,null,{"$f":"SUM(AX375:AX399)","v":18746.199999999997}]
[null,null,"  оборудование, отсутствующие в ФРСН",null,null,null,null,null,null,null,null,{"$f":"SUM(AY375:AY399)","v":0}]
[null,null,"  затраты труда рабочих",null,null,null,{"$f":"Source!F456","v":0}]
[null,null,"  затраты труда машинистов",null,null,null,{"$f":"Source!F457","v":0}]
[]
[]
[null,null,"ИТОГИ ПО СМЕТЕ"]
[]
[null,null,"ВСЕГО строительные работы",null,null,null,null,null,null,null,null,{"$f":"L437+L452+L453","v":51884.930000000008}]
[null,null,"в том числе"]
[null,null,"Всего прямые затраты",null,null,null,null,null,null,null,null,{"$f":"L439+L440+L446+L450","v":37361.360000000001}]
[null,null,"в том числе"]
[null,null,"  оплата труда (ОТ)",null,null,null,null,null,null,null,null,{"$f":"SUMIF(CD52:CD431, 1, AR52:AR431)","v":8622.1}]
[null,null,"  эксплуатация машин и механизмов",null,null,null,null,null,null,null,null,{"$f":"L442+L445+L444","v":1684.06}]
[null,null,"  в том числе"]
[null,null,"  эксплуатация машин и механизмов",null,null,null,null,null,null,null,null,{"$f":"SUMIF(CD52:CD431, 1, AO52:AO431)","v":649.87999999999988}]
[null,null,"    в том числе"]
[null,null,"  оплата труда машинистов (ОТм)",null,null,null,null,null,null,null,null,{"$f":"SUMIF(CD52:CD431, 1, AT52:AT431)","v":1034.18}]
[null,null,"    доплаты к оплате труда машинистов",null,null,null,null,null,null,null,null,{"$f":"SUMIF(CD52:CD431, 1, AV52:AV431)","v":0}]
[null,null,"  материальные ресурсы",null,null,null,null,null,null,null,null,{"$f":"L448+L449","v":27055.200000000004}]
[null,null,"  в том числе"]
[null,null,"    материальные ресурсы без учета дополнительной перевозки",null,null,null,null,null,null,null,null,{"$f":"SUMIF(CD52:CD431, 1, AW52:AW431)-SUMIF(CD52:CD431, 1, BK52:BK431)","v":27055.200000000004}]
[null,null,"    дополнительная перевозка материальных ресурсов",null,null,null,null,null,null,null,null,{"$f":"SUMIF(CD52:CD431, 1, BC52:BC431)","v":0}]
[null,null,"  перевозка",null,null,null,null,null,null,null,null,{"$f":"SUMIF(CD52:CD431, 1, BB52:BB431)","v":0}]
[null,null,"ФОТ (справочно)",null,null,null,null,null,null,null,null,{"$f":"SUMIF(CD52:CD431, 1, AR52:AR431)+SUMIF(CD52:CD431, 1, AT52:AT431)+SUMIF(CD52:CD431, 1, AV52:AV431)","v":9656.2800000000007}]
[null,null,"накладные расходы",null,null,null,null,null,null,null,null,{"$f":"SUMIF(CD52:CD431, 1, AZ52:AZ431)","v":9490.1600000000017}]
[null,null,"сметная прибыль",null,null,null,null,null,null,null,null,{"$f":"SUMIF(CD52:CD431, 1, BA52:BA431)","v":5033.41}]
[]
[null,null,"ВСЕГО монтажные работы",null,null,null,null,null,null,null,null,{"$f":"L457+L472+L473","v":47179.58}]
[null,null,"в том числе"]
[null,null,"Всего прямые затраты",null,null,null,null,null,null,null,null,{"$f":"L459+L460+L466+L470","v":20755.159999999996}]
[null,null,"в том числе"]
[null,null,"  оплата труда (ОТ)",null,null,null,null,null,null,null,null,{"$f":"SUMIF(CD52:CD453, 2, AR52:AR453)","v":17452.239999999998}]
[null,null,"  эксплуатация машин и механизмов",null,null,null,null,null,null,null,null,{"$f":"L462+L465+L464","v":969.23000000000013}]
[null,null,"  в том числе"]
[null,null,"  эксплуатация машин и механизмов",null,null,null,null,null,null,null,null,{"$f":"SUMIF(CD52:CD453, 2, AO52:AO453)","v":567.15000000000009}]
[null,null,"    в том числе"]
[null,null,"  оплата труда машинистов (ОТм)",null,null,null,null,null,null,null,null,{"$f":"SUMIF(CD52:CD453, 2, AT52:AT453)","v":402.08000000000004}]
[null,null,"    доплаты к оплате труда машинистов",null,null,null,null,null,null,null,null,{"$f":"SUMIF(CD52:CD453, 2, AV52:AV453)","v":0}]
[null,null,"  материальные ресурсы",null,null,null,null,null,null,null,null,{"$f":"L468+L469","v":2333.69}]
[null,null,"  в том числе"]
[null,null,"    материальные ресурсы без учета дополнительной перевозки",null,null,null,null,null,null,null,null,{"$f":"SUMIF(CD52:CD453, 2, AW52:AW453)-SUMIF(CD52:CD453, 2, BK52:BK453)","v":2333.69}]
[null,null,"    дополнительная перевозка материальных ресурсов",null,null,null,null,null,null,null,null,{"$f":"SUMIF(CD52:CD453, 2, BC52:BC453)","v":0}]
[null,null,"  перевозка",null,null,null,null,null,null,null,null,{"$f":"SUMIF(CD52:CD453, 2, BB52:BB453)","v":0}]
[null,null,"ФОТ (справочно)",null,null,null,null,null,null,null,null,{"$f":"SUMIF(CD52:CD453, 2, AR52:AR453)+SUMIF(CD52:CD453, 2, AT52:AT453)+SUMIF(CD52:CD453, 2, AV52:AV453)","v":17854.32}]
[null,null,"накладные расходы",null,null,null,null,null,null,null,null,{"$f":"SUMIF(CD52:CD453, 2, AZ52:AZ453)","v":17318.7}]
[null,null,"сметная прибыль",null,null,null,null,null,null,null,null,{"$f":"SUMIF(CD52:CD453, 2, BA52:BA453)","v":9105.7199999999993}]
[]
[null,null,"ВСЕГО оборудование",null,null,null,null,null,null,null,null,{"$f":"L477+L478","v":0}]
[null,null,"в том числе"]
[null,null,"  оборудование без учета дополнительной перевозки",null,null,null,null,null,null,null,null,{"$f":"SUMIF(CD52:CD473, 3, BK52:BK473)","v":0}]
[null,null,"  дополнительная перевозка оборудования",null,null,null,null,null,null,null,null,{"$f":"SUMIF(CD52:CD473, 3, BD52:BD473)","v":0}]
[]
[null,null,"ВСЕГО прочие затраты",null,null,null,null,null,null,null,null,{"$f":"L488+L503+L504+L482+L483+L484+L485","v":0}]
[null,null,"в том числе"]
[null,null,"   прочие затраты"]
[null,null,"   прочие затраты",null,null,null,null,null,null,null,null,{"$f":"SUM(BQ52:BQ478)","v":0}]
[null,null,"   прочие перевозки",null,null,null,null,null,null,null,null,{"$f":"SUMIF(CD52:CD478, 4, BB52:BB478)+SUMIF(CD52:CD478, 4, BC52:BC478)+SUMIF(CD52:CD478, 4, BD52:BD478)","v":0}]
[null,null,"   Хозяйственный инвентарь",null,null,null,null,null,null,null,null,{"$f":"SUM(BO52:BO478)","v":0}]
[null,null,"Пусконаладочные работы",null,null,null,null,null,null,null,null,{"$f":"L488+L503+L504","v":0}]
[null,null,"в том числе"]
[null,null,"Всего прямые затраты",null,null,null,null,null,null,null,null,{"$f":"L490+L491+L497+L501","v":0}]
[null,null,"в том числе"]
[null,null,"  оплата труда (ОТ)",null,null,null,null,null,null,null,null,{"$f":"SUMIF(CD52:CD478, 4, AR52:AR478)","v":0}]
[null,null,"  эксплуатация машин и механизмов",null,null,null,null,null,null,null,null,{"$f":"L493+L496+L495","v":0}]
[null,null,"  в том числе"]
[null,null,"  эксплуатация машин и механизмов",null,null,null,null,null,null,null,null,{"$f":"SUMIF(CD52:CD478, 4, AO52:AO478)","v":0}]
[null,null,"    в том числе"]
[null,null,"  оплата труда машинистов (ОТм)",null,null,null,null,null,null,null,null,{"$f":"SUMIF(CD52:CD478, 4, AT52:AT478)","v":0}]
[null,null,"    доплаты к оплате труда машинистов",null,null,null,null,null,null,null,null,{"$f":"SUMIF(CD52:CD478, 4, AV52:AV478)","v":0}]
[null,null,"  материальные ресурсы",null,null,null,null,null,null,null,null,{"$f":"L499+L500","v":0}]
[null,null,"  в том числе"]
[null,null,"    материальные ресурсы без учета дополнительной перевозки",null,null,null,null,null,null,null,null,{"$f":"SUMIF(CD52:CD478, 4, AW52:AW478)-SUMIF(CD52:CD478, 4, BK52:BK478)","v":0}]
[null,null,"    дополнительная перевозка материальных ресурсов",null,null,null,null,null,null,null,null,{"$f":"SUMIF(CD52:CD478, 4, BC52:BC478)","v":0}]
[null,null,"  перевозка",null,null,null,null,null,null,null,null,{"$f":"SUMIF(CD52:CD478, 4, BB52:BB478)","v":0}]
[null,null,"ФОТ (справочно)",null,null,null,null,null,null,null,null,{"$f":"SUMIF(CD52:CD478, 4, AR52:AR478)+SUMIF(CD52:CD478, 4, AT52:AT478)+SUMIF(CD52:CD478, 4, AV52:AV478)","v":0}]
[null,null,"накладные расходы",null,null,null,null,null,null,null,null,{"$f":"SUMIF(CD52:CD478, 4, AZ52:AZ478)","v":0}]
[null,null,"сметная прибыль",null,null,null,null,null,null,null,null,{"$f":"SUMIF(CD52:CD478, 4, BA52:BA478)","v":0}]
[]
[null,null,"ВСЕГО по смете",null,null,null,null,null,null,null,null,{"$f":"L435+L455+L475+L480","v":99064.510000000009}]
[null,null,"в том числе"]
[null,null,"Всего прямые затраты",null,null,null,null,null,null,null,null,{"$f":"L510+L511+L517+L521","v":58116.520000000004}]
[null,null,"в том числе"]
[null,null,"  оплата труда (ОТ)",null,null,null,null,null,null,null,null,{"$f":"SUM(AR52:AR504)","v":26074.339999999997}]
[null,null,"  эксплуатация машин и механизмов",null,null,null,null,null,null,null,null,{"$f":"L513+L516+L515","v":2653.29}]
[null,null,"  в том числе"]
[null,null,"  эксплуатация машин и механизмов",null,null,null,null,null,null,null,null,{"$f":"SUM(AO52:AO504)","v":1217.03}]
[null,null,"    в том числе"]
[null,null,"  оплата труда машинистов (ОТм)",null,null,null,null,null,null,null,null,{"$f":"SUM(AT52:AT504)","v":1436.2600000000002}]
[null,null,"    доплаты к оплате труда машинистов",null,null,null,null,null,null,null,null,{"$f":"SUM(AV52:AV504)","v":0}]
[null,null,"  материальные ресурсы",null,null,null,null,null,null,null,null,{"$f":"L519+L520","v":29388.890000000003}]
[null,null,"  в том числе"]
[null,null,"    материальные ресурсы без учета дополнительной перевозки",null,null,null,null,null,null,null,null,{"$f":"SUM(AW52:AW504)-SUM(BK52:BK504)","v":29388.890000000003}]
[null,null,"    дополнительная перевозка материальных ресурсов",null,null,null,null,null,null,null,null,{"$f":"SUM(BC52:BC504)","v":0}]
[null,null,"  перевозка",null,null,null,null,null,null,null,null,{"$f":"SUM(BB52:BB504)","v":0}]
[null,null,"Всего ФОТ (справочно)",null,null,null,null,null,null,null,null,{"$f":"SUM(AR52:AR504)+SUM(AT52:AT504)+SUM(AV52:AV504)","v":27510.6}]
[null,null,"Всего накладные расходы",null,null,null,null,null,null,null,null,{"$f":"SUM(AZ52:AZ504)","v":26808.86}]
[null,null,"Всего сметная прибыль",null,null,null,null,null,null,null,null,{"$f":"SUM(BA52:BA504)","v":14139.130000000001}]
[null,null,"Всего оборудование",null,null,null,null,null,null,null,null,{"$f":"L527+L528","v":0}]
[null,null,"в том числе"]
[null,null,"  оборудование без учета дополнительной перевозки",null,null,null,null,null,null,null,null,{"$f":"SUM(BK52:BK504)","v":0}]
[null,null,"  дополнительная перевозка оборудования",null,null,null,null,null,null,null,null,{"$f":"SUM(BD52:BD504)","v":0}]
[null,null,"Всего прочие затраты",null,null,null,null,null,null,null,null,{"$f":"L480","v":0}]
[null,null,"Справочно"]
[null,null,"  материальные ресурсы, отсутствующие в ФРСН",null,null,null,null,null,null,null,null,{"$f":"SUM(AX52:AX504)","v":26907.040000000005}]
[null,null,"  оборудование, отсутствующие в ФРСН",null,null,null,null,null,null,null,null,{"$f":"SUM(AY52:AY504)","v":0}]
[null,null,"  затраты труда рабочих",null,null,null,{"$f":"Source!F523","v":33.571776}]
[null,null,"  затраты труда машинистов",null,null,null,{"$f":"Source!F524","v":1.6946664}]
[]
[]
[]
[null,"Составил   ",{"$f":"IF(Source!AC15<>\"\", Source!AC15,\" \")","v":" "},null,null,null,null,{"$f":"IF(Source!AB15<>\"\", Source!AB15,\" \")","v":"Чайкин А.В."}]
[null,null,"[должность,подпись(инициалы,фамилия)]"]
[]
[null,"Проверил   ",{"$f":"IF(Source!AE15<>\"\", Source!AE15,\" \")","v":" "},null,null,null,null,{"$f":"IF(Source!AD15<>\"\", Source!AD15,\" \")","v":" "}]
[null,null,"[должность,подпись(инициалы,фамилия)]"]

{"sheet":"09-01-01","index":1,"n_rows":256,"n_cols":93,"rows_kept":256,"cut":false,"hidden":false,"merged":[[1,0,1,4],[1,5,1,11],[3,0,3,4],[3,5,3,11],[5,0,5,4],[5,5,5,11],[13,0,13,4],[13,5,13,11],[15,0,15,4],[15,5,15,11],[18,0,18,11],[19,0,19,11],[7,0,7,4],[7,5,7,11],[9,0,9,4],[9,5,9,11],[11,0,11,4],[11,5,11,11],[33,2,33,11],[37,2,37,3],[40,2,40,3],[41,2,41,3],[42,2,42,3],[43,2,43,3],[21,0,21,11],[22,0,22,11],[24,0,24,11],[26,0,26,11],[27,0,27,11],[32,2,32,11],[52,0,52,11],[54,2,54,11],[62,2,62,7],[62,8,62,9],[62,10,62,11],[64,2,64,11],[45,0,49,0],[45,1,49,1],[45,2,49,2],[45,3,49,3],[45,4,48,6],[45,7,48,11],[84,2,84,11],[92,2,92,7],[92,8,92,9],[92,10,92,11],[94,2,94,11],[102,2,102,7],[102,8,102,9],[102,10,102,11],[72,2,72,7],[72,8,72,9],[72,10,72,11],[74,2,74,11],[82,2,82,7],[82,8,82,9],[82,10,82,11],[116,2,116,7],[117,2,117,7],[118,2,118,7],[119,2,119,7],[120,2,120,7],[121,2,121,7],[104,2,104,11],[112,2,112,7],[112,8,112,9],[112,10,112,11],[114,2,114,7],[115,2,115,7],[128,2,128,7],[129,2,129,7],[130,2,130,7],[131,2,131,7],[132,2,132,7],[133,2,133,7],[122,2,122,7],[123,2,123,7],[124,2,124,7],[125,2,125,7],[126,2,126,7],[127,2,127,7],[140,2,140,7],[141,2,141,7],[142,2,142,5],[143,2,143,5],[146,2,146,7],[148,2,148,7],[134,2,134,7],[135,2,135,7],[136,2,136,7],[137,2,137,7],[138,2,138,7],[139,2,139,7],[155,2,155,7],[156,2,156,7],[157,2,157,7],[158,2,158,7],[159,2,159,7],[160,2,160,7],[149,2,149,7],[150,2,150,7],[151,2,151,7],[152,2,152,7],[153,2,153,7],[154,2,154,7],[168,2,168,7],[169,2,169,7],[170,2,170,7],[171,2,171,7],[172,2,172,7],[173,2,173,7],[161,2,161,7],[162,2,162,7],[163,2,163,7],[164,2,164,7],[165,2,165,7],[166,2,166,7],[180,2,180,7],[181,2,181,7],[182,2,182,7],[183,2,183,7],[184,2,184,7],[185,2,185,7],[174,2,174,7],[175,2,175,7],[176,2,176,7],[177,2,177,7],[178,2,178,7],[179,2,179,7],[194,2,194,7],[195,2,195,7],[196,2,196,7],[197,2,197,7],[198,2,198,7],[199,2,199,7],[186,2,186,7],[188,2,188,7],[189,2,189,7],[190,2,190,7],[191,2,191,7],[193,2,193,7],[206,2,206,7],[207,2,207,7],[208,2,208,7],[209,2,209,7],[210,2,210,7],[211,2,211,7],[200,2,200,7],[201,2,201,7],[202,2,202,7],[203,2,203,7],[204,2,204,7],[205,2,205,7],[219,2,219,7],[220,2,220,7],[221,2,221,7],[222,2,222,7],[223,2,223,7],[224,2,224,7],[212,2,212,7],[213,2,213,7],[214,2,214,7],[215,2,215,7],[216,2,216,7],[217,2,217,7],[231,2,231,7],[232,2,232,7],[233,2,233,7],[234,2,234,7],[235,2,235,7],[236,2,236,7],[225,2,225,7],[226,2,226,7],[227,2,227,7],[228,2,228,7],[229,2,229,7],[230,2,230,7],[255,2,255,6],[243,2,243,7],[244,2,244,7],[245,2,245,7],[246,2,246,5],[247,2,247,5],[252,2,252,6],[237,2,237,7],[238,2,238,7],[239,2,239,7],[240,2,240,7],[241,2,241,7],[242,2,242,7]]}
[{"$f":"Source!B1","v":"Smeta.RU Flash  (495) 974-1589"}]
["Наименование программного продукта",null,null,null,null,"Программа для ЭВМ «Программа: «Smeta.RU Flash» версия 12»"]
[]
["Наименование редакции сметных нормативов",null,null,null,null,{"$f":"IF(Source!CQ12 <> \"\", Source!CQ12, \"\")","v":"Приказ Минстроя России от 30.12.2021 г. № 1046/пр;  Приказ Минстроя России от 04.08.2020 г. № 421/пр;  Приказ Минстроя России от 21.12.2020 г. № 812/пр;  Приказ Минстроя России от 11.12.2020 г. № 774/пр"},null,null,null,null,null,null,null,null,null,null,null,null,null,null,null,null,null,null,null,null,null,null,null,null,null,null,null,null,null,null,null,null,null,null,null,null,null,null,null,null,null,null,null,null,null,null,null,null,null,null,null,null,null,null,null,null,null,null,null,null,null,null,null,null,null,null,null,null,null,null,null,null,null,null,null,null,null,null,null,null,null,null,null,null,null,null,{"$f":"IF(Source!CQ12 <> \"\", Source!CQ12, \"\")","v":"Приказ Минстроя России от 30.12.2021 г. № 1046/пр;  Приказ Минстроя России от 04.08.2020 г. № 421/пр;  Приказ Минстроя России от 21.12.2020 г. № 812/пр;  Приказ Минстроя России от 11.12.2020 г. № 774/пр"}]
[]
["Реквизиты приказа Минстроя России об утверждении дополнений и изменений к сметным нормативам",null,null,null,null,{"$f":"IF(Source!CV12 <> \"\", Source!CV12, \"\")","v":"Приказ Минстроя России от 18.05.2022 г. № 378/пр; Приказ Минстроя России от 26.08.2022 г. № 703/пр; Приказ Минстроя России от 26.10.2022 г. № 905/пр;  Приказ Минстроя России от 27.12.2022 г. № 1133/пр; Приказ Минстроя России от 10.02.2023 г. № 84/пр; Приказ Минстроя России от 11.05.2023 г. № 335/пр;  Приказ Минстроя России от 02.08.2023 г. № 551/пр; Приказ Минстроя России от 14.11.2023 г. № 817/пр; Приказ Минстроя России от 16.02.2024 г. № 102/пр;  Приказ Минстроя России от 13.05.2024 г. № 323/пр; Приказ Минстроя России от 09.08.2024 г. № 524/пр; Приказ Минстроя России от 07.11.2024 г. № 747/пр;  Приказ Минстроя России от 07.02.2025 г. № 69/пр; Приказ Минстроя России от 19.05.2025 г. № 299/пр; Приказ Минстроя России от 14.08.2025 г. № 490/пр;  Приказ Минстроя России от 12.11.2025 г. № 696/пр; Приказ Минстроя России от 17.02.2026 г. № 91/пр;  Приказ Минстроя России от 07.07.2022 г. № 557/пр; Приказ Минстроя России от 30.01.2024 г. № 55/пр; Приказ Минстроя России от 23.01.2025 г. № 30/пр;  Приказ Минстроя России от 02.09.2021 г. № 636/пр; Приказ Минстроя России от 26.07.2022 г. № 611/пр; Приказ Минстроя России от 22.04.2022 г. № 317/пр"},null,null,null,null,null,null,null,null,null,null,null,null,null,null,null,null,null,null,null,null,null,null,null,null,null,null,null,null,null,null,null,null,null,null,null,null,null,null,null,null,null,null,null,null,null,null,null,null,null,null,null,null,null,null,null,null,null,null,null,null,null,null,null,null,null,null,null,null,null,null,null,null,null,null,null,null,null,null,null,null,null,null,null,null,null,null,{"$f":"IF(Source!CV12 <> \"\", Source!CV12, \"\")","v":"Приказ Минстроя России от 18.05.2022 г. № 378/пр; Приказ Минстроя России от 26.08.2022 г. № 703/пр; Приказ Минстроя России от 26.10.2022 г. № 905/пр;  Приказ Минстроя России от 27.12.2022 г. № 1133/пр; Приказ Минстроя России от 10.02.2023 г. № 84/пр; Приказ Минстроя России от 11.05.2023 г. № 335/пр;  Приказ Минстроя России от 02.08.2023 г. № 551/пр; Приказ Минстроя России от 14.11.2023 г. № 817/пр; Приказ Минстроя России от 16.02.2024 г. № 102/пр;  Приказ Минстроя России от 13.05.2024 г. № 323/пр; Приказ Минстроя России от 09.08.2024 г. № 524/пр; Приказ Минстроя России от 07.11.2024 г. № 747/пр;  Приказ Минстроя России от 07.02.2025 г. № 69/пр; Приказ Минстроя России от 19.05.2025 г. № 299/пр; Приказ Минстроя России от 14.08.2025 г. № 490/пр;  Приказ Минстроя России от 12.11.2025 г. № 696/пр; Приказ Минстроя России от 17.02.2026 г. № 91/пр;  Приказ Минстроя России от 07.07.2022 г. № 557/пр; Приказ Минстроя России от 30.01.2024 г. № 55/пр; Приказ Минстроя России от 23.01.2025 г. № 30/пр;  Приказ Минстроя России от 02.09.2021 г. № 636/пр; Приказ Минстроя России от 26.07.2022 г. № 611/пр; Приказ Минстроя России от 22.04.2022 г. № 317/пр"}]
[]
["Реквизиты письма Минстроя России об индексах изменения сметной стоимости строительства, включаемые в федеральный реестр сметных нормативов и размещаемые в федеральной государственной информационной системе ценообразования в строительстве, подготовленного в соответствии с пунктом 85 Методики расчета индексов изменения сметной стоимости строительства, утвержденной приказом Министерства строительства и жилищно-коммунального хозяйства Российской Федерации от 5 июня 2019 г. N 326/пр ",null,null,null,null,"Письмо Минстроя России от 25.02.2026 № 9859-ИФ/09"]
[]
["Реквизиты нормативного правового акта об утверждении оплаты труда, утверждаемый в соответствии с пунктом 22(1) Правилами мониторинга цен, утвержденными постановлением Правительства Российской Федерации от 23 декабря 2016 г. N 1452",null,null,null,null,"Приказ ПАО 'РОССЕТИ' от 26.12.2024 № 612"]
[]
["Обоснование принятых текущих цен на строительные ресурсы",null,null,null,null,"ФГИС ЦС, конъюнктурный анализ"]
[]
["Наименование субъекта Российской Федерации",null,null,null,null,{"$f":"IF(Source!CZ12 <> \"\", Source!CZ12, \"\")","v":""}]
[]
["Наименование зоны субъекта Российской Федерации",null,null,null,null,{"$f":"IF(Source!DA12 <> \"\", Source!DA12, \"\")","v":""}]
[]
[]
[]
["(наименование стройки)"]
[]
["355838_Талантбеков_(ДОТ)"]
["(наименование объекта капитального строительства)"]
[]
[{"$f":"CONCATENATE( \"ЛОКАЛЬНАЯ СМЕТА № \", Source!L534, \" \",Source!CM534)","v":"ЛОКАЛЬНАЯ СМЕТА № 09-01-01 "}]
[]
[{"$f":"IF(Source!G534<>\"Новая локальная смета\", Source!G534, \"\")","v":"ПНР ВЛИ-0,4 кВ"}]
["(наименование работ и затрат)"]
[]
[]
["Составлен",null,"Ресурсно-индексным","методом"]
[]
["Основание"]
[null,null,"(проектная и (или) иная техническая документация)"]
[]
["Составлен(а) в текущем уровне цен на апрель 2026 года"]
[]
["Сметная стоимость",null,{"$f":"C41+C42+C43+C44","v":32.76},null,"тыс. руб."]
[null,null,null,null,null,null,"Средства на оплату труда рабочих",null,null,null,{"$f":"ROUND(SUM(AR52:AR249)/1000, 2)","v":15.6},"тыс. руб."]
[null,"в том числе:",null,null,null,null,"Средства на оплату труда машинистов",null,null,null,{"$f":"ROUND(SUM(AT52:AT249)/1000, 2)","v":0},"тыс. руб."]
[null,"строительных работ",{"$f":"ROUND((Source!F614)/1000, 2)","v":0},null,"тыс. руб.",null,"Нормативные затраты труда рабочих ",null,null,null,{"$f":"Source!F619","v":14.468159999999999},"чел.-ч."]
[null,"монтажных работ    ",{"$f":"ROUND((Source!F615)/1000, 2)","v":0},null,"тыс. руб.",null,"Нормативные затраты труда машинистов ",null,null,null,{"$f":"Source!F620","v":0},"чел.-ч."]
[null,"оборудования         ",{"$f":"ROUND((Source!F606)/1000, 2)","v":0},null,"тыс. руб."]
[null,"прочих затрат       ",{"$f":"ROUND((Source!F616)/1000, 2)","v":32.76},null,"тыс. руб."]
[]
["№ п/п","Обоснование","Наименование работ и затрат","Единица измерения","Количество",null,null,"Сметная стоимость, руб."]
[]
[]
[]
[null,null,null,null,"на единицу измерения","коэффициенты","всего с учетом коэффициентов","на единицу измерения в базисном уровне цен","индекс","на единицу измерения в текущем уровне цен","коэффициенты","всего в текущем уровне цен"]
[1,2,3,4,5,6,7,8,9,10,11,12]
[]
["Раздел: ПНР"]
["1","ГЭСНп 01-11-010-01",{"$f":"Source!G542","v":"Измерение сопротивления растеканию тока: заземлителя"},{"$f":"Source!H542","v":"измерение"},{"$f":"Source!K542","v":4},null,{"$f":"Source!I542","v":4}]
[null,"421/пр_2020_прил.10_т.1_п.4_гр.3","ЭМ *1,20; ЗТ *1,20; ЗТм *1,20"]
[null,1,"ОТ (ЗТ)","чел.-ч.",null,null,{"$f":"Source!U542","v":4.8},null,null,null,null,{"$f":"SUM(L57:L58)-SUMIF(CE57:CE58, 1, L57:L58)","v":5176.0499999999993}]
[null,"2-100-06","Рабочий 6 разряда","чел.-ч",0.5,{"$f":"ROUND((0.2+1),7)","v":1.2},{"$f":"SmtRes!CX641","v":2.4},null,null,{"$f":"SmtRes!CZ641","v":1090.46},null,{"$f":"SmtRes!DI641","v":2617.1}]
[null,"3-200-03","Инженер III категории","чел.-ч",0.5,{"$f":"ROUND((0.2+1),7)","v":1.2},{"$f":"SmtRes!CX642","v":2.4},null,null,{"$f":"SmtRes!CZ642","v":1066.23},null,{"$f":"SmtRes!DI642","v":2558.9499999999998}]
[null,null,"Итого прямые затраты",null,null,null,null,null,null,null,null,{"$f":"L56","v":5176.0499999999993}]
[null,null,"ФОТ",null,null,null,null,null,null,null,null,{"$f":"SUM(AR54:AR63)+SUM(AS54:AS63)+SUM(AT54:AT63)+SUM(AU54:AU63)+SUM(AV54:AV63)","v":5176.0499999999993}]
[null,"Пр/812-083.0-1","НР Пусконаладочные работы","%",{"$f":"Source!BZ542","v":74},null,{"$f":"Source!AT542","v":74},null,null,null,null,{"$f":"SUM(AZ54:AZ63)","v":3830.28}]
[null,"Пр/774-083.0","СП Пусконаладочные работы","%",{"$f":"Source!CA542","v":36},null,{"$f":"Source!AU542","v":36},null,null,null,null,{"$f":"SUM(BA54:BA63)","v":1863.38}]
[null,null,"Всего по позиции",null,null,null,null,null,{"$f":"IF(E54<>0,K63/E54, 0)","v":2717.4274999999998},null,{"$f":"L56+L61+L62","v":10869.71},null,null,null,null,null,null,null,null,null,null,null,null,null,null,null,null,null,null,{"$f":"ROUND((Source!AT542/100)*((ROUND(SUMIF(SmtRes!AQ641:'SmtRes'!AQ642,\"=1\",SmtRes!AD641:'SmtRes'!AD642)*Source!I542, 2)+ROUND(SUMIF(SmtRes!AQ641:'SmtRes'!AQ642,\"=1\",SmtRes!AC641:'SmtRes'!AC642)*Source!I542, 2))), 2)","v":6383.8},{"$f":"ROUND((Source!AU542/100)*((ROUND(SUMIF(SmtRes!AQ641:'SmtRes'!AQ642,\"=1\",SmtRes!AD641:'SmtRes'!AD642)*Source!I542, 2)+ROUND(SUMIF(SmtRes!AQ641:'SmtRes'!AQ642,\"=1\",SmtRes!AC641:'SmtRes'!AC642)*Source!I542, 2))), 2)","v":3105.63},null,null,null,null,null,null,null,null,{"$f":"L56+L61+L62","v":10869.71},{"$f":"0","v":0},null,"=",{"$f":"L56","v":5176.0499999999993},null,{"$f":"0","v":0},null,"=",{"$f":"0","v":0},null,null,{"$f":"Source!X542","v":3830.28},{"$f":"Source!Y542","v":1863.38},null,null,null,null,null,null,null,null,null,null,null,null,null,null,null,null,null,null,{"$f":"K63","v":10869.71},null,null,{"$f":"ROUND(K63*80/100, 2)","v":8695.77},{"$f":"K63-BW63","v":2173.9399999999987},null,null,null,{"$f":"Source!BM542","v":200001},{"$f":"Source!E542","v":"1"},4]
["2","ГЭСНп 01-11-011-01",{"$f":"Source!G545","v":"Проверка наличия цепи между заземлителями и заземленными элементами"},{"$f":"Source!H545","v":"100 измерений"},{"$f":"Source!K545","v":0.08},null,{"$f":"Source!I545","v":0.08}]
[null,"421/пр_2020_прил.10_т.1_п.4_гр.3","ЭМ *1,20; ЗТ *1,20; ЗТм *1,20"]
[null,1,"ОТ (ЗТ)","чел.-ч.",null,null,{"$f":"Source!U545","v":1.2441599999999999},null,null,null,null,{"$f":"SUM(L67:L68)-SUMIF(CE67:CE68, 1, L67:L68)","v":1341.63}]
[null,"2-100-06","Рабочий 6 разряда","чел.-ч",6.48,{"$f":"ROUND((0.2+1),7)","v":1.2},{"$f":"SmtRes!CX645","v":0.62207999999999997},null,null,{"$f":"SmtRes!CZ645","v":1090.46},null,{"$f":"SmtRes!DI645","v":678.35}]
[null,"3-200-03","Инженер III категории","чел.-ч",6.48,{"$f":"ROUND((0.2+1),7)","v":1.2},{"$f":"SmtRes!CX646","v":0.62207999999999997},null,null,{"$f":"SmtRes!CZ646","v":1066.23},null,{"$f":"SmtRes!DI646","v":663.28}]
[null,null,"Итого прямые затраты",null,null,null,null,null,null,null,null,{"$f":"L66","v":1341.63}]
[null,null,"ФОТ",null,null,null,null,null,null,null,null,{"$f":"SUM(AR64:AR73)+SUM(AS64:AS73)+SUM(AT64:AT73)+SUM(AU64:AU73)+SUM(AV64:AV73)","v":1341.63}]
[null,"Пр/812-083.0-1","НР Пусконаладочные работы","%",{"$f":"Source!BZ545","v":74},null,{"$f":"Source!AT545","v":74},null,null,null,null,{"$f":"SUM(AZ64:AZ73)","v":992.81}]
[null,"Пр/774-083.0","СП Пусконаладочные работы","%",{"$f":"Source!CA545","v":36},null,{"$f":"Source!AU545","v":36},null,null,null,null,{"$f":"SUM(BA64:BA73)","v":482.99}]
[null,null,"Всего по позиции",null,null,null,null,null,{"$f":"IF(E64<>0,K73/E64, 0)","v":35217.875},null,{"$f":"L66+L71+L72","v":2817.4300000000003},null,null,null,null,null,null,null,null,null,null,null,null,null,null,null,null,null,null,{"$f":"ROUND((Source!AT545/100)*((ROUND(SUMIF(SmtRes!AQ645:'SmtRes'!AQ646,\"=1\",SmtRes!AD645:'SmtRes'!AD646)*Source!I545, 2)+ROUND(SUMIF(SmtRes!AQ645:'SmtRes'!AQ646,\"=1\",SmtRes!AC645:'SmtRes'!AC646)*Source!I545, 2))), 2)","v":127.68},{"$f":"ROUND((Source!AU545/100)*((ROUND(SUMIF(SmtRes!AQ645:'SmtRes'!AQ646,\"=1\",SmtRes!AD645:'SmtRes'!AD646)*Source!I545, 2)+ROUND(SUMIF(SmtRes!AQ645:'SmtRes'!AQ646,\"=1\",SmtRes!AC645:'SmtRes'!AC646)*Source!I545, 2))), 2)","v":62.11},null,null,null,null,null,null,null,null,{"$f":"L66+L71+L72","v":2817.4300000000003},{"$f":"0","v":0},null,"=",{"$f":"L66","v":1341.63},null,{"$f":"0","v":0},null,"=",{"$f":"0","v":0},null,null,{"$f":"Source!X545","v":992.81},{"$f":"Source!Y545","v":482.99},null,null,null,null,null,null,null,null,null,null,null,null,null,null,null,null,null,null,{"$f":"K73","v":2817.4300000000003},null,null,{"$f":"ROUND(K73*80/100, 2)","v":2253.94},{"$f":"K73-BW73","v":563.49000000000024},null,null,null,{"$f":"Source!BM545","v":200001},{"$f":"Source!E545","v":"2"},4]
["3","ГЭСНп 01-11-024-01",{"$f":"Source!G548","v":"Фазировка электрической линии или трансформатора с сетью напряжением: до 1 кВ"},{"$f":"Source!H548","v":"ШТ"},{"$f":"Source!K548","v":3},null,{"$f":"Source!I548","v":3}]
[null,"421/пр_2020_прил.10_т.1_п.4_гр.3","ЭМ *1,20; ЗТ *1,20; ЗТм *1,20"]
[null,1,"ОТ (ЗТ)","чел.-ч.",null,null,{"$f":"Source!U548","v":2.952},null,null,null,null,{"$f":"SUM(L77:L78)-SUMIF(CE77:CE78, 1, L77:L78)","v":3183.2799999999997}]
[null,"2-100-06","Рабочий 6 разряда","чел.-ч",0.41,{"$f":"ROUND((0.2+1),7)","v":1.2},{"$f":"SmtRes!CX649","v":1.476},null,null,{"$f":"SmtRes!CZ649","v":1090.46},null,{"$f":"SmtRes!DI649","v":1609.52}]
[null,"3-200-03","Инженер III категории","чел.-ч",0.41,{"$f":"ROUND((0.2+1),7)","v":1.2},{"$f":"SmtRes!CX650","v":1.476},null,null,{"$f":"SmtRes!CZ650","v":1066.23},null,{"$f":"SmtRes!DI650","v":1573.76}]
[null,null,"Итого прямые затраты",null,null,null,null,null,null,null,null,{"$f":"L76","v":3183.2799999999997}]
[null,null,"ФОТ",null,null,null,null,null,null,null,null,{"$f":"SUM(AR74:AR83)+SUM(AS74:AS83)+SUM(AT74:AT83)+SUM(AU74:AU83)+SUM(AV74:AV83)","v":3183.2799999999997}]
[null,"Пр/812-083.0-1","НР Пусконаладочные работы","%",{"$f":"Source!BZ548","v":74},null,{"$f":"Source!AT548","v":74},null,null,null,null,{"$f":"SUM(AZ74:AZ83)","v":2355.63}]
[null,"Пр/774-083.0","СП Пусконаладочные работы","%",{"$f":"Source!CA548","v":36},null,{"$f":"Source!AU548","v":36},null,null,null,null,{"$f":"SUM(BA74:BA83)","v":1145.98}]
[null,null,"Всего по позиции",null,null,null,null,null,{"$f":"IF(E74<>0,K83/E74, 0)","v":2228.2966666666666},null,{"$f":"L76+L81+L82","v":6684.8899999999994},null,null,null,null,null,null,null,null,null,null,null,null,null,null,null,null,null,null,{"$f":"ROUND((Source!AT548/100)*((ROUND(SUMIF(SmtRes!AQ649:'SmtRes'!AQ650,\"=1\",SmtRes!AD649:'SmtRes'!AD650)*Source!I548, 2)+ROUND(SUMIF(SmtRes!AQ649:'SmtRes'!AQ650,\"=1\",SmtRes!AC649:'SmtRes'!AC650)*Source!I548, 2))), 2)","v":4787.8500000000004},{"$f":"ROUND((Source!AU548/100)*((ROUND(SUMIF(SmtRes!AQ649:'SmtRes'!AQ650,\"=1\",SmtRes!AD649:'SmtRes'!AD650)*Source!I548, 2)+ROUND(SUMIF(SmtRes!AQ649:'SmtRes'!AQ650,\"=1\",SmtRes!AC649:'SmtRes'!AC650)*Source!I548, 2))), 2)","v":2329.23},null,null,null,null,null,null,null,null,{"$f":"L76+L81+L82","v":6684.8899999999994},{"$f":"0","v":0},null,"=",{"$f":"L76","v":3183.2799999999997},null,{"$f":"0","v":0},null,"=",{"$f":"0","v":0},null,null,{"$f":"Source!X548","v":2355.63},{"$f":"Source!Y548","v":1145.98},null,null,null,null,null,null,null,null,null,null,null,null,null,null,null,null,null,null,{"$f":"K83","v":6684.8899999999994},null,null,{"$f":"ROUND(K83*80/100, 2)","v":5347.91},{"$f":"K83-BW83","v":1336.9799999999996},null,null,null,{"$f":"Source!BM548","v":200001},{"$f":"Source!E548","v":"3"},4]
["4","ГЭСНп 01-11-012-01",{"$f":"Source!G551","v":"Определение удельного сопротивления грунта"},{"$f":"Source!H551","v":"измерение"},{"$f":"Source!K551","v":1},null,{"$f":"Source!I551","v":1}]
[null,"421/пр_2020_прил.10_т.1_п.4_гр.3","ЭМ *1,20; ЗТ *1,20; ЗТм *1,20"]
[null,1,"ОТ (ЗТ)","чел.-ч.",null,null,{"$f":"Source!U551","v":3.8879999999999999},null,null,null,null,{"$f":"SUM(L87:L88)-SUMIF(CE87:CE88, 1, L87:L88)","v":4192.6000000000004}]
[null,"2-100-06","Рабочий 6 разряда","чел.-ч",1.62,{"$f":"ROUND((0.2+1),7)","v":1.2},{"$f":"SmtRes!CX653","v":1.944},null,null,{"$f":"SmtRes!CZ653","v":1090.46},null,{"$f":"SmtRes!DI653","v":2119.85}]
[null,"3-200-03","Инженер III категории","чел.-ч",1.62,{"$f":"ROUND((0.2+1),7)","v":1.2},{"$f":"SmtRes!CX654","v":1.944},null,null,{"$f":"SmtRes!CZ654","v":1066.23},null,{"$f":"SmtRes!DI654","v":2072.75}]
[null,null,"Итого прямые затраты",null,null,null,null,null,null,null,null,{"$f":"L86","v":4192.6000000000004}]
[null,null,"ФОТ",null,null,null,null,null,null,null,null,{"$f":"SUM(AR84:AR93)+SUM(AS84:AS93)+SUM(AT84:AT93)+SUM(AU84:AU93)+SUM(AV84:AV93)","v":4192.6000000000004}]
[null,"Пр/812-083.0-1","НР Пусконаладочные работы","%",{"$f":"Source!BZ551","v":74},null,{"$f":"Source!AT551","v":74},null,null,null,null,{"$f":"SUM(AZ84:AZ93)","v":3102.52}]
[null,"Пр/774-083.0","СП Пусконаладочные работы","%",{"$f":"Source!CA551","v":36},null,{"$f":"Source!AU551","v":36},null,null,null,null,{"$f":"SUM(BA84:BA93)","v":1509.34}]
[null,null,"Всего по позиции",null,null,null,null,null,{"$f":"IF(E84<>0,K93/E84, 0)","v":8804.4600000000009},null,{"$f":"L86+L91+L92","v":8804.4600000000009},null,null,null,null,null,null,null,null,null,null,null,null,null,null,null,null,null,null,{"$f":"ROUND((Source!AT551/100)*((ROUND(SUMIF(SmtRes!AQ653:'SmtRes'!AQ654,\"=1\",SmtRes!AD653:'SmtRes'!AD654)*Source!I551, 2)+ROUND(SUMIF(SmtRes!AQ653:'SmtRes'!AQ654,\"=1\",SmtRes!AC653:'SmtRes'!AC654)*Source!I551, 2))), 2)","v":1595.95},{"$f":"ROUND((Source!AU551/100)*((ROUND(SUMIF(SmtRes!AQ653:'SmtRes'!AQ654,\"=1\",SmtRes!AD653:'SmtRes'!AD654)*Source!I551, 2)+ROUND(SUMIF(SmtRes!AQ653:'SmtRes'!AQ654,\"=1\",SmtRes!AC653:'SmtRes'!AC654)*Source!I551, 2))), 2)","v":776.41},null,null,null,null,null,null,null,null,{"$f":"L86+L91+L92","v":8804.4600000000009},{"$f":"0","v":0},null,"=",{"$f":"L86","v":4192.6000000000004},null,{"$f":"0","v":0},null,"=",{"$f":"0","v":0},null,null,{"$f":"Source!X551","v":3102.52},{"$f":"Source!Y551","v":1509.34},null,null,null,null,null,null,null,null,null,null,null,null,null,null,null,null,null,null,{"$f":"K93","v":8804.4600000000009},null,null,{"$f":"ROUND(K93*80/100, 2)","v":7043.57},{"$f":"K93-BW93","v":1760.8900000000012},null,null,null,{"$f":"Source!BM551","v":200001},{"$f":"Source!E551","v":"4"},4]
["5","ГЭСНп 01-11-013-01",{"$f":"Source!G557","v":"Замер полного сопротивления цепи \"фаза-нуль\""},{"$f":"Source!H557","v":"ШТ"},{"$f":"Source!K557","v":1},null,{"$f":"Source!I557","v":1}]
[null,"421/пр_2020_прил.10_т.1_п.4_гр.3","ЭМ *1,20; ЗТ *1,20; ЗТм *1,20"]
[null,1,"ОТ (ЗТ)","чел.-ч.",null,null,{"$f":"Source!U557","v":1.2},null,null,null,null,{"$f":"SUM(L97:L98)-SUMIF(CE97:CE98, 1, L97:L98)","v":1294.02}]
[null,"2-100-06","Рабочий 6 разряда","чел.-ч",0.5,{"$f":"ROUND((0.2+1),7)","v":1.2},{"$f":"SmtRes!CX661","v":0.6},null,null,{"$f":"SmtRes!CZ661","v":1090.46},null,{"$f":"SmtRes!DI661","v":654.28}]
[null,"3-200-03","Инженер III категории","чел.-ч",0.5,{"$f":"ROUND((0.2+1),7)","v":1.2},{"$f":"SmtRes!CX662","v":0.6},null,null,{"$f":"SmtRes!CZ662","v":1066.23},null,{"$f":"SmtRes!DI662","v":639.74}]
[null,null,"Итого прямые затраты",null,null,null,null,null,null,null,null,{"$f":"L96","v":1294.02}]
[null,null,"ФОТ",null,null,null,null,null,null,null,null,{"$f":"SUM(AR94:AR103)+SUM(AS94:AS103)+SUM(AT94:AT103)+SUM(AU94:AU103)+SUM(AV94:AV103)","v":1294.02}]
[null,"Пр/812-083.0-1","НР Пусконаладочные работы","%",{"$f":"Source!BZ557","v":74},null,{"$f":"Source!AT557","v":74},null,null,null,null,{"$f":"SUM(AZ94:AZ103)","v":957.57}]
[null,"Пр/774-083.0","СП Пусконаладочные работы","%",{"$f":"Source!CA557","v":36},null,{"$f":"Source!AU557","v":36},null,null,null,null,{"$f":"SUM(BA94:BA103)","v":465.85}]
[null,null,"Всего по позиции",null,null,null,null,null,{"$f":"IF(E94<>0,K103/E94, 0)","v":2717.44},null,{"$f":"L96+L101+L102","v":2717.44},null,null,null,null,null,null,null,null,null,null,null,null,null,null,null,null,null,null,{"$f":"ROUND((Source!AT557/100)*((ROUND(SUMIF(SmtRes!AQ661:'SmtRes'!AQ662,\"=1\",SmtRes!AD661:'SmtRes'!AD662)*Source!I557, 2)+ROUND(SUMIF(SmtRes!AQ661:'SmtRes'!AQ662,\"=1\",SmtRes!AC661:'SmtRes'!AC662)*Source!I557, 2))), 2)","v":1595.95},{"$f":"ROUND((Source!AU557/100)*((ROUND(SUMIF(SmtRes!AQ661:'SmtRes'!AQ662,\"=1\",SmtRes!AD661:'SmtRes'!AD662)*Source!I557, 2)+ROUND(SUMIF(SmtRes!AQ661:'SmtRes'!AQ662,\"=1\",SmtRes!AC661:'SmtRes'!AC662)*Source!I557, 2))), 2)","v":776.41},null,null,null,null,null,null,null,null,{"$f":"L96+L101+L102","v":2717.44},{"$f":"0","v":0},null,"=",{"$f":"L96","v":1294.02},null,{"$f":"0","v":0},null,"=",{"$f":"0","v":0},null,null,{"$f":"Source!X557","v":957.57},{"$f":"Source!Y557","v":465.85},null,null,null,null,null,null,null,null,null,null,null,null,null,null,null,null,null,null,{"$f":"K103","v":2717.44},null,null,{"$f":"ROUND(K103*80/100, 2)","v":2173.9499999999998},{"$f":"K103-BW103","v":543.49000000000024},null,null,null,{"$f":"Source!BM557","v":200001},{"$f":"Source!E557","v":"5"},4]
["6","ГЭСНп 01-11-028-01",{"$f":"Source!G560","v":"Измерение сопротивления изоляции (на линию) мегаомметром кабельных и других линий напряжением до 1 кВ, предназначенных для передачи электроэнергии к распределительным устройствам, щитам, шкафам, коммутационным аппаратам и электропотребителям"},{"$f":"Source!H560","v":"ШТ"},{"$f":"Source!K560","v":1},null,{"$f":"Source!I560","v":1}]
[null,"421/пр_2020_прил.10_т.7_п.3_гр.3","ЭМ *1,2; ЗТ *1,2; ЗТм *1,2"]
[null,1,"ОТ (ЗТ)","чел.-ч.",null,null,{"$f":"Source!U560","v":0.38400000000000001},null,null,null,null,{"$f":"SUM(L107:L108)-SUMIF(CE107:CE108, 1, L107:L108)","v":414.09000000000003}]
[null,"2-100-06","Рабочий 6 разряда","чел.-ч",0.16,{"$f":"ROUND((0.2+1),7)","v":1.2},{"$f":"SmtRes!CX665","v":0.192},null,null,{"$f":"SmtRes!CZ665","v":1090.46},null,{"$f":"SmtRes!DI665","v":209.37}]
[null,"3-200-03","Инженер III категории","чел.-ч",0.16,{"$f":"ROUND((0.2+1),7)","v":1.2},{"$f":"SmtRes!CX666","v":0.192},null,null,{"$f":"SmtRes!CZ666","v":1066.23},null,{"$f":"SmtRes!DI666","v":204.72}]
[null,null,"Итого прямые затраты",null,null,null,null,null,null,null,null,{"$f":"L106","v":414.09000000000003}]
[null,null,"ФОТ",null,null,null,null,null,null,null,null,{"$f":"SUM(AR104:AR113)+SUM(AS104:AS113)+SUM(AT104:AT113)+SUM(AU104:AU113)+SUM(AV104:AV113)","v":414.09000000000003}]
[null,"Пр/812-083.0-1","НР Пусконаладочные работы","%",{"$f":"Source!BZ560","v":74},null,{"$f":"Source!AT560","v":74},null,null,null,null,{"$f":"SUM(AZ104:AZ113)","v":306.43}]
[null,"Пр/774-083.0","СП Пусконаладочные работы","%",{"$f":"Source!CA560","v":36},null,{"$f":"Source!AU560","v":36},null,null,null,null,{"$f":"SUM(BA104:BA113)","v":149.07}]
[null,null,"Всего по позиции",null,null,null,null,null,{"$f":"IF(E104<>0,K113/E104, 0)","v":869.58999999999992},null,{"$f":"L106+L111+L112","v":869.58999999999992},null,null,null,null,null,null,null,null,null,null,null,null,null,null,null,null,null,null,{"$f":"ROUND((Source!AT560/100)*((ROUND(SUMIF(SmtRes!AQ665:'SmtRes'!AQ666,\"=1\",SmtRes!AD665:'SmtRes'!AD666)*Source!I560, 2)+ROUND(SUMIF(SmtRes!AQ665:'SmtRes'!AQ666,\"=1\",SmtRes!AC665:'SmtRes'!AC666)*Source!I560, 2))), 2)","v":1595.95},{"$f":"ROUND((Source!AU560/100)*((ROUND(SUMIF(SmtRes!AQ665:'SmtRes'!AQ666,\"=1\",SmtRes!AD665:'SmtRes'!AD666)*Source!I560, 2)+ROUND(SUMIF(SmtRes!AQ665:'SmtRes'!AQ666,\"=1\",SmtRes!AC665:'SmtRes'!AC666)*Source!I560, 2))), 2)","v":776.41},null,null,null,null,null,null,null,null,{"$f":"L106+L111+L112","v":869.58999999999992},{"$f":"0","v":0},null,"=",{"$f":"L106","v":414.09000000000003},null,{"$f":"0","v":0},null,"=",{"$f":"0","v":0},null,null,{"$f":"Source!X560","v":306.43},{"$f":"Source!Y560","v":149.07},null,null,null,null,null,null,null,null,null,null,null,null,null,null,null,null,null,null,{"$f":"K113","v":869.58999999999992},null,null,{"$f":"ROUND(K113*80/100, 2)","v":695.67},{"$f":"K113-BW113","v":173.91999999999996},null,null,null,{"$f":"Source!BM560","v":200001},{"$f":"Source!E560","v":"6"},4]
[]
[null,null,"Итого прямые затраты по разделу",null,null,null,null,null,null,null,null,{"$f":"L117+L118+L124+L128","v":15601.67}]
[null,null,"в том числе"]
[null,null,"  оплата труда",null,null,null,null,null,null,null,null,{"$f":"SUM(AR53:AR113)","v":15601.67}]
[null,null,"  эксплуатация машин и механизмов",null,null,null,null,null,null,null,null,{"$f":"L120+L123+L122","v":0}]
[null,null,"  в том числе"]
[null,null,"  эксплуатация машин и механизмов",null,null,null,null,null,null,null,null,{"$f":"SUM(AO53:AO113)","v":0}]
[null,null,"    в том числе"]
[null,null,"  оплата труда машинистов (ОТм)",null,null,null,null,null,null,null,null,{"$f":"SUM(AT53:AT113)","v":0}]
[null,null,"    доплаты к оплате труда машинистов",null,null,null,null,null,null,null,null,{"$f":"SUM(AV53:AV113)","v":0}]
[null,null,"  материальные ресурсы",null,null,null,null,null,null,null,null,{"$f":"L126+L127","v":0}]
[null,null,"  в том числе"]
[null,null,"    материальные ресурсы без учета дополнительной перевозки",null,null,null,null,null,null,null,null,{"$f":"SUM(AW53:AW113)-SUM(BK53:BK113)","v":0}]
[null,null,"    дополнительная перевозка материальных ресурсов",null,null,null,null,null,null,null,null,{"$f":"SUM(BC53:BC113)","v":0}]
[null,null,"  перевозка",null,null,null,null,null,null,null,null,{"$f":"SUM(BB53:BB113)","v":0}]
[null,null,"Всего ФОТ (справочно)",null,null,null,null,null,null,null,null,{"$f":"SUM(AR53:AR113)+SUM(AT53:AT113)+SUM(AV53:AV113)","v":15601.67}]
[null,null,"Всего накладные расходы",null,null,null,null,null,null,null,null,{"$f":"SUM(AZ53:AZ113)","v":11545.24}]
[null,null,"Всего сметная прибыль",null,null,null,null,null,null,null,null,{"$f":"SUM(BA53:BA113)","v":5616.61}]
[null,null,"Итого оборудование",null,null,null,null,null,null,null,null,{"$f":"L134+L135","v":0}]
[null,null,"в том числе"]
[null,null,"  оборудование без учета дополнительной перевозки",null,null,null,null,null,null,null,null,{"$f":"SUM(BK53:BK113)","v":0}]
[null,null,"  дополнительная перевозка оборудования",null,null,null,null,null,null,null,null,{"$f":"SUM(BD53:BD113)","v":0}]
[null,null,"Итого прочие затраты"]
[null,null,"Итого прочие затраты",null,null,null,null,null,null,null,null,{"$f":"SUM(BQ53:BQ113)","v":0}]
[null,null,"Итого хозяйственный инвентарь",null,null,null,null,null,null,null,null,{"$f":"SUM(BO53:BO113)","v":0}]
[null,null,"Итого по разделу",null,null,null,null,null,null,null,null,{"$f":"L115+L130+L131+L132+L137+L138","v":32763.52}]
[null,null,"Справочно"]
[null,null,"  материальные ресурсы, отсутствующие в ФРСН",null,null,null,null,null,null,null,null,{"$f":"SUM(AX53:AX113)","v":0}]
[null,null,"  оборудование, отсутствующие в ФРСН",null,null,null,null,null,null,null,null,{"$f":"SUM(AY53:AY113)","v":0}]
[null,null,"  затраты труда рабочих",null,null,null,{"$f":"Source!F589","v":14.468159999999999}]
[null,null,"  затраты труда машинистов",null,null,null,{"$f":"Source!F590","v":0}]
[]
[]
[null,null,"ИТОГИ ПО СМЕТЕ"]
[]
[null,null,"ВСЕГО строительные работы",null,null,null,null,null,null,null,null,{"$f":"L151+L166+L167","v":0}]
[null,null,"в том числе"]
[null,null,"Всего прямые затраты",null,null,null,null,null,null,null,null,{"$f":"L153+L154+L160+L164","v":0}]
[null,null,"в том числе"]
[null,null,"  оплата труда (ОТ)",null,null,null,null,null,null,null,null,{"$f":"SUMIF(CD52:CD145, 1, AR52:AR145)","v":0}]
[null,null,"  эксплуатация машин и механизмов",null,null,null,null,null,null,null,null,{"$f":"L156+L159+L158","v":0}]
[null,null,"  в том числе"]
[null,null,"  эксплуатация машин и механизмов",null,null,null,null,null,null,null,null,{"$f":"SUMIF(CD52:CD145, 1, AO52:AO145)","v":0}]
[null,null,"    в том числе"]
[null,null,"  оплата труда машинистов (ОТм)",null,null,null,null,null,null,null,null,{"$f":"SUMIF(CD52:CD145, 1, AT52:AT145)","v":0}]
[null,null,"    доплаты к оплате труда машинистов",null,null,null,null,null,null,null,null,{"$f":"SUMIF(CD52:CD145, 1, AV52:AV145)","v":0}]
[null,null,"  материальные ресурсы",null,null,null,null,null,null,null,null,{"$f":"L162+L163","v":0}]
[null,null,"  в том числе"]
[null,null,"    материальные ресурсы без учета дополнительной перевозки",null,null,null,null,null,null,null,null,{"$f":"SUMIF(CD52:CD145, 1, AW52:AW145)-SUMIF(CD52:CD145, 1, BK52:BK145)","v":0}]
[null,null,"    дополнительная перевозка материальных ресурсов",null,null,null,null,null,null,null,null,{"$f":"SUMIF(CD52:CD145, 1, BC52:BC145)","v":0}]
[null,null,"  перевозка",null,null,null,null,null,null,null,null,{"$f":"SUMIF(CD52:CD145, 1, BB52:BB145)","v":0}]
[null,null,"ФОТ (справочно)",null,null,null,null,null,null,null,null,{"$f":"SUMIF(CD52:CD145, 1, AR52:AR145)+SUMIF(CD52:CD145, 1, AT52:AT145)+SUMIF(CD52:CD145, 1, AV52:AV145)","v":0}]
[null,null,"накладные расходы",null,null,null,null,null,null,null,null,{"$f":"SUMIF(CD52:CD145, 1, AZ52:AZ145)","v":0}]
[null,null,"сметная прибыль",null,null,null,null,null,null,null,null,{"$f":"SUMIF(CD52:CD145, 1, BA52:BA145)","v":0}]
[]
[null,null,"ВСЕГО монтажные работы",null,null,null,null,null,null,null,null,{"$f":"L171+L186+L187","v":0}]
[null,null,"в том числе"]
[null,null,"Всего прямые затраты",null,null,null,null,null,null,null,null,{"$f":"L173+L174+L180+L184","v":0}]
[null,null,"в том числе"]
[null,null,"  оплата труда (ОТ)",null,null,null,null,null,null,null,null,{"$f":"SUMIF(CD52:CD167, 2, AR52:AR167)","v":0}]
[null,null,"  эксплуатация машин и механизмов",null,null,null,null,null,null,null,null,{"$f":"L176+L179+L178","v":0}]
[null,null,"  в том числе"]
[null,null,"  эксплуатация машин и механизмов",null,null,null,null,null,null,null,null,{"$f":"SUMIF(CD52:CD167, 2, AO52:AO167)","v":0}]
[null,null,"    в том числе"]
[null,null,"  оплата труда машинистов (ОТм)",null,null,null,null,null,null,null,null,{"$f":"SUMIF(CD52:CD167, 2, AT52:AT167)","v":0}]
[null,null,"    доплаты к оплате труда машинистов",null,null,null,null,null,null,null,null,{"$f":"SUMIF(CD52:CD167, 2, AV52:AV167)","v":0}]
[null,null,"  материальные ресурсы",null,null,null,null,null,null,null,null,{"$f":"L182+L183","v":0}]
[null,null,"  в том числе"]
[null,null,"    материальные ресурсы без учета дополнительной перевозки",null,null,null,null,null,null,null,null,{"$f":"SUMIF(CD52:CD167, 2, AW52:AW167)-SUMIF(CD52:CD167, 2, BK52:BK167)","v":0}]
[null,null,"    дополнительная перевозка материальных ресурсов",null,null,null,null,null,null,null,null,{"$f":"SUMIF(CD52:CD167, 2, BC52:BC167)","v":0}]
[null,null,"  перевозка",null,null,null,null,null,null,null,null,{"$f":"SUMIF(CD52:CD167, 2, BB52:BB167)","v":0}]
[null,null,"ФОТ (справочно)",null,null,null,null,null,null,null,null,{"$f":"SUMIF(CD52:CD167, 2, AR52:AR167)+SUMIF(CD52:CD167, 2, AT52:AT167)+SUMIF(CD52:CD167, 2, AV52:AV167)","v":0}]
[null,null,"накладные расходы",null,null,null,null,null,null,null,null,{"$f":"SUMIF(CD52:CD167, 2, AZ52:AZ167)","v":0}]
[null,null,"сметная прибыль",null,null,null,null,null,null,null,null,{"$f":"SUMIF(CD52:CD167, 2, BA52:BA167)","v":0}]
[]
[null,null,"ВСЕГО оборудование",null,null,null,null,null,null,null,null,{"$f":"L191+L192","v":0}]
[null,null,"в том числе"]
[null,null,"  оборудование без учета дополнительной перевозки",null,null,null,null,null,null,null,null,{"$f":"SUMIF(CD52:CD187, 3, BK52:BK187)","v":0}]
[null,null,"  дополнительная перевозка оборудования",null,null,null,null,null,null,null,null,{"$f":"SUMIF(CD52:CD187, 3, BD52:BD187)","v":0}]
[]
[null,null,"ВСЕГО прочие затраты",null,null,null,null,null,null,null,null,{"$f":"L202+L217+L218+L196+L197+L198+L199","v":32763.52}]
[null,null,"в том числе"]
[null,null,"   прочие затраты"]
[null,null,"   прочие затраты",null,null,null,null,null,null,null,null,{"$f":"SUM(BQ52:BQ192)","v":0}]
[null,null,"   прочие перевозки",null,null,null,null,null,null,null,null,{"$f":"SUMIF(CD52:CD192, 4, BB52:BB192)+SUMIF(CD52:CD192, 4, BC52:BC192)+SUMIF(CD52:CD192, 4, BD52:BD192)","v":0}]
[null,null,"   Хозяйственный инвентарь",null,null,null,null,null,null,null,null,{"$f":"SUM(BO52:BO192)","v":0}]
[null,null,"Пусконаладочные работы",null,null,null,null,null,null,null,null,{"$f":"L202+L217+L218","v":32763.52}]
[null,null,"в том числе"]
[null,null,"Всего прямые затраты",null,null,null,null,null,null,null,null,{"$f":"L204+L205+L211+L215","v":15601.67}]
[null,null,"в том числе"]
[null,null,"  оплата труда (ОТ)",null,null,null,null,null,null,null,null,{"$f":"SUMIF(CD52:CD192, 4, AR52:AR192)","v":15601.67}]
[null,null,"  эксплуатация машин и механизмов",null,null,null,null,null,null,null,null,{"$f":"L207+L210+L209","v":0}]
[null,null,"  в том числе"]
[null,null,"  эксплуатация машин и механизмов",null,null,null,null,null,null,null,null,{"$f":"SUMIF(CD52:CD192, 4, AO52:AO192)","v":0}]
[null,null,"    в том числе"]
[null,null,"  оплата труда машинистов (ОТм)",null,null,null,null,null,null,null,null,{"$f":"SUMIF(CD52:CD192, 4, AT52:AT192)","v":0}]
[null,null,"    доплаты к оплате труда машинистов",null,null,null,null,null,null,null,null,{"$f":"SUMIF(CD52:CD192, 4, AV52:AV192)","v":0}]
[null,null,"  материальные ресурсы",null,null,null,null,null,null,null,null,{"$f":"L213+L214","v":0}]
[null,null,"  в том числе"]
[null,null,"    материальные ресурсы без учета дополнительной перевозки",null,null,null,null,null,null,null,null,{"$f":"SUMIF(CD52:CD192, 4, AW52:AW192)-SUMIF(CD52:CD192, 4, BK52:BK192)","v":0}]
[null,null,"    дополнительная перевозка материальных ресурсов",null,null,null,null,null,null,null,null,{"$f":"SUMIF(CD52:CD192, 4, BC52:BC192)","v":0}]
[null,null,"  перевозка",null,null,null,null,null,null,null,null,{"$f":"SUMIF(CD52:CD192, 4, BB52:BB192)","v":0}]
[null,null,"ФОТ (справочно)",null,null,null,null,null,null,null,null,{"$f":"SUMIF(CD52:CD192, 4, AR52:AR192)+SUMIF(CD52:CD192, 4, AT52:AT192)+SUMIF(CD52:CD192, 4, AV52:AV192)","v":15601.67}]
[null,null,"накладные расходы",null,null,null,null,null,null,null,null,{"$f":"SUMIF(CD52:CD192, 4, AZ52:AZ192)","v":11545.24}]
[null,null,"сметная прибыль",null,null,null,null,null,null,null,null,{"$f":"SUMIF(CD52:CD192, 4, BA52:BA192)","v":5616.61}]
[]
[null,null,"ВСЕГО по смете",null,null,null,null,null,null,null,null,{"$f":"L149+L169+L189+L194","v":32763.52}]
[null,null,"в том числе"]
[null,null,"Всего прямые затраты",null,null,null,null,null,null,null,null,{"$f":"L224+L225+L231+L235","v":15601.67}]
[null,null,"в том числе"]
[null,null,"  оплата труда (ОТ)",null,null,null,null,null,null,null,null,{"$f":"SUM(AR52:AR218)","v":15601.67}]
[null,null,"  эксплуатация машин и механизмов",null,null,null,null,null,null,null,null,{"$f":"L227+L230+L229","v":0}]
[null,null,"  в том числе"]
[null,null,"  эксплуатация машин и механизмов",null,null,null,null,null,null,null,null,{"$f":"SUM(AO52:AO218)","v":0}]
[null,null,"    в том числе"]
[null,null,"  оплата труда машинистов (ОТм)",null,null,null,null,null,null,null,null,{"$f":"SUM(AT52:AT218)","v":0}]
[null,null,"    доплаты к оплате труда машинистов",null,null,null,null,null,null,null,null,{"$f":"SUM(AV52:AV218)","v":0}]
[null,null,"  материальные ресурсы",null,null,null,null,null,null,null,null,{"$f":"L233+L234","v":0}]
[null,null,"  в том числе"]
[null,null,"    материальные ресурсы без учета дополнительной перевозки",null,null,null,null,null,null,null,null,{"$f":"SUM(AW52:AW218)-SUM(BK52:BK218)","v":0}]
[null,null,"    дополнительная перевозка материальных ресурсов",null,null,null,null,null,null,null,null,{"$f":"SUM(BC52:BC218)","v":0}]
[null,null,"  перевозка",null,null,null,null,null,null,null,null,{"$f":"SUM(BB52:BB218)","v":0}]
[null,null,"Всего ФОТ (справочно)",null,null,null,null,null,null,null,null,{"$f":"SUM(AR52:AR218)+SUM(AT52:AT218)+SUM(AV52:AV218)","v":15601.67}]
[null,null,"Всего накладные расходы",null,null,null,null,null,null,null,null,{"$f":"SUM(AZ52:AZ218)","v":11545.24}]
[null,null,"Всего сметная прибыль",null,null,null,null,null,null,null,null,{"$f":"SUM(BA52:BA218)","v":5616.61}]
[null,null,"Всего оборудование",null,null,null,null,null,null,null,null,{"$f":"L241+L242","v":0}]
[null,null,"в том числе"]
[null,null,"  оборудование без учета дополнительной перевозки",null,null,null,null,null,null,null,null,{"$f":"SUM(BK52:BK218)","v":0}]
[null,null,"  дополнительная перевозка оборудования",null,null,null,null,null,null,null,null,{"$f":"SUM(BD52:BD218)","v":0}]
[null,null,"Всего прочие затраты",null,null,null,null,null,null,null,null,{"$f":"L194","v":32763.52}]
[null,null,"Справочно"]
[null,null,"  материальные ресурсы, отсутствующие в ФРСН",null,null,null,null,null,null,null,null,{"$f":"SUM(AX52:AX218)","v":0}]
[null,null,"  оборудование, отсутствующие в ФРСН",null,null,null,null,null,null,null,null,{"$f":"SUM(AY52:AY218)","v":0}]
[null,null,"  затраты труда рабочих",null,null,null,{"$f":"Source!F619","v":14.468159999999999}]
[null,null,"  затраты труда машинистов",null,null,null,{"$f":"Source!F620","v":0}]
[]
[]
[]
[null,"Составил   ",{"$f":"IF(Source!AC15<>\"\", Source!AC15,\" \")","v":" "},null,null,null,null,{"$f":"IF(Source!AB15<>\"\", Source!AB15,\" \")","v":"Чайкин А.В."}]
[null,null,"[должность,подпись(инициалы,фамилия)]"]
[]
[null,"Проверил   ",{"$f":"IF(Source!AE15<>\"\", Source!AE15,\" \")","v":" "},null,null,null,null,{"$f":"IF(Source!AD15<>\"\", Source!AD15,\" \")","v":" "}]
[null,null,"[должность,подпись(инициалы,фамилия)]"]

{"sheet":"Source","index":2,"n_rows":701,"n_cols":245,"rows_kept":701,"cut":false,"hidden":false,"merged":[]}
[0,"Smeta.RU Flash  (495) 974-1589",null,"_PS_",null,0,0,0,"Smeta.RU Flash","",1,68757,10,12,0,0,3]
[]
[]
[]
[]
[]
[]
[]
[]
[]
[]
[1,692,0,{"$f":"ROW(A627)","v":627},0,"Новый объект","355838_Талантбеков_ВЛИ_Катасонова_РАЗБИВКА_ПС_С","",0,"",0,0,523,null,0,0,7,0,0,4,"",0,"","","","","","Чайкин А.В.","","","","","","","","",null,"","","",null,"","","",null,null,null,null,null,"","","",null,0,null,null,null,null,null,"Сметные нормы списания","Коды ценников",1,1,0,0,1,0,2,2,1,0,0,0,1,0,0,"ФСНБ-2022_И17","Версия 1.17.0 для ФСНБ-2022 И17","ФСНБ-2022 - Изменения И17","ФСНБ-2022 - Изменения И17","ФСНБ-2022 - Изменения И17","ФСНБ-2022 - Изменения И17","Поправки для ФСНБ-2022 от 25.02.2026 г И17 (55/пр) Строительство",0,0,487096330,"","",17,null,null,null,null,null,"Приказ Минстроя России от 30.12.2021 г. № 1046/пр;  Приказ Минстроя России от 04.08.2020 г. № 421/пр;  Приказ Минстроя России от 21.12.2020 г. № 812/пр;  Приказ Минстроя России от 11.12.2020 г. № 774/пр","ГСН",46073,540,17,"Приказ Минстроя России от 18.05.2022 г. № 378/пр; Приказ Минстроя России от 26.08.2022 г. № 703/пр; Приказ Минстроя России от 26.10.2022 г. № 905/пр;  Приказ Минстроя России от 27.12.2022 г. № 1133/пр; Приказ Минстроя России от 10.02.2023 г. № 84/пр; Приказ Минстроя России от 11.05.2023 г. № 335/пр;  Приказ Минстроя России от 02.08.2023 г. № 551/пр; Приказ Минстроя России от 14.11.2023 г. № 817/пр; Приказ Минстроя России от 16.02.2024 г. № 102/пр;  Приказ Минстроя России от 13.05.2024 г. № 323/пр; Приказ Минстроя России от 09.08.2024 г. № 524/пр; Приказ Минстроя России от 07.11.2024 г. № 747/пр;  Приказ Минстроя России от 07.02.2025 г. № 69/пр; Приказ Минстроя России от 19.05.2025 г. № 299/пр; Приказ Минстроя России от 14.08.2025 г. № 490/пр;  Приказ Минстроя России от 12.11.2025 г. № 696/пр; Приказ Минстроя России от 17.02.2026 г. № 91/пр;  Приказ Минстроя России от 07.07.2022 г. № 557/пр; Приказ Минстроя России от 30.01.2024 г. № 55/пр; Приказ Минстроя России от 23.01.2025 г. № 30/пр;  Приказ Минстроя России от 02.09.2021 г. № 636/пр; Приказ Минстроя России от 26.07.2022 г. № 611/пр; Приказ Минстроя России от 22.04.2022 г. № 317/пр",null,null,0,"","",null,null,null,null,null,null,null,null,null,null,null,null,null,null,null,null,null,null,null,null,null,null,null,null,null,null,null,0]
[]
[]
[85315509,1,2026,6,null,"Июнь, 2026 г.","Июнь, 2026 г.",null,null,null,null,null,523,null,null,null,7,null,null,4,"",null,null,null,null,null,null,"Чайкин А.В.","","","","","","","","","","","","","","","","","","","","","","","","","",0,null,null,null,null,null,"Сметные нормы списания","Сметные нормы списания",1,1,0,0,1,0,2,2,1,0,0,0,1,0,0,"ФСНБ-2022_И17","Версия 1.17.0 для ФСНБ-2022 И17","ФСНБ-2022 - Изменения И17","ФСНБ-2022 - Изменения И17","ФСНБ-2022 - Изменения И17","ФСНБ-2022 - Изменения И17","Поправки для ФСНБ-2022 от 25.02.2026 г И17 (55/пр) Строительство",0,null,487096330,"",null,0,0,0,"","","","","",0,"",0,46174,46203,0,null,null,null,null,null,null,null,null,null,null,null,null,null,null,null,null,null,null,null,null,null,null,null,null,null,null,null,null,null,null,0]
[]
[]
[52,{"$f":"B627","v":692},1,12,0,"Новый объект","355838_Талантбеков_ВЛИ_Катасонова_РАЗБИВКА_ПС_С",null,null,null,null,null,null,null,{"$f":"O627","v":73718.16},29388.89,1217.03,1436.26,41675.980000000003,0,48.039935999999997,1.6946664,0,38354.1,19755.740000000002,0,0,0,0,0,0,0,0,0,0,0,0,0,0,0,0,0,0,131828,51884.9,47179.58,{"$f":"AU627","v":32763.52},29388.89,29388.89,0,29388.89,0,0,0,0,0,0,0,0,0,0,0,0,0,0,0,0,0,0,0,0,0,0,0,0,0,0,0,{"$f":"CA627","v":0},0,0,0,0,0,0,0,0,0,0,0,0,0,0,0,0,0,0,0,0,0,0,0,0,0,0,0,0,0,0,0,{"$f":"DG627","v":73718.16},29388.89,1217.03,1436.26,41675.980000000003,0,48.039935999999997,1.6946664,0,38354.1,19755.740000000002,0,0,0,0,0,0,0,0,0,0,0,0,0,0,0,0,0,0,131828,51884.9,47179.58,{"$f":"EM627","v":32763.52},29388.89,29388.89,0,29388.89,0,0,0,0,0,0,0,0,0,0,0,0,0,0,0,0,0,0,0,0,0,0,0,0,0,0,0,{"$f":"FS627","v":0},0,0,0,0,0,0,0,0,0,0,0,0,0,0,0,0,0,0,0,0,0,0,0,0,0,0,0,0,0,0,0]
[]
[3,1,null,{"$f":"ROW(A501)","v":501},null,"02-01-01","Строительство ВЛИ-0,4 кВ","",0,"",-1,"02-01-01","",null,null,null,null,null,0,0,"",0,null,null,null,null,null,"","","","","","",null,null,null,null,null,null,null,null,"","","",null,null,null,null,null,null,null,"",null,"","","","","","","","","","","","","","","",null,null,null,null,null,null,null,0,null,null,null,null,null,null,null,0,0,null,"","","","","","","","",""]
[]
[52,{"$f":"B501","v":1},3,20,0,"02-01-01","Строительство ВЛИ-0,4 кВ",null,null,null,null,null,null,null,{"$f":"O501","v":58116.49},29388.89,1217.03,1436.26,26074.31,0,33.571776,1.6946664,0,26808.86,14139.13,0,0,0,0,0,0,0,0,0,0,0,0,0,0,0,0,0,0,99064.48,51884.9,47179.58,{"$f":"AU501","v":0},29388.89,29388.89,0,29388.89,0,0,0,0,0,0,0,0,0,0,0,0,0,0,0,0,0,0,0,0,0,0,0,0,0,0,0,{"$f":"CA501","v":0},0,0,0,0,0,0,0,0,0,0,0,0,0,0,0,0,0,0,0,0,0,0,0,0,0,0,0,0,0,0,0,{"$f":"DG501","v":58116.49},29388.89,1217.03,1436.26,26074.31,0,33.571776,1.6946664,0,26808.86,14139.13,0,0,0,0,0,0,0,0,0,0,0,0,0,0,0,0,0,0,99064.48,51884.9,47179.58,{"$f":"EM501","v":0},29388.89,29388.89,0,29388.89,0,0,0,0,0,0,0,0,0,0,0,0,0,0,0,0,0,0,0,0,0,0,0,0,0,0,0,{"$f":"FS501","v":0},0,0,0,0,0,0,0,0,0,0,0,0,0,0,0,0,0,0,0,0,0,0,0,0,0,0,0,0,0,0,0]
[]
[4,1,null,{"$f":"ROW(A254)","v":254},null,"Новый раздел","СМР","",0,null,0,null,"",null,null,null,null,null,0,0,"",0,null,null,null,null,null,"","","","","","",null,null,null,null,null,null,null,null,"","","",null,null,null,null,null,null,null,"",null,"","","","","","","","","","","","","","","",null,null,null,null,null,null,null,0,null,null,null,null,null,null,null,null,null,null,null,0]
[]
[52,{"$f":"B254","v":1},4,24,0,"Новый раздел","СМР",null,null,null,null,null,null,null,{"$f":"O254","v":16347.95},419.9,821.24,1158.1300000000001,13948.68,0,17.486015999999999,1.4022504,0,15009.76,8132.98,0,0,16347.95,419.9,821.24,1158.1300000000001,13948.68,0,17.486015999999999,1.4022504,0,15009.76,8132.98,0,0,0,0,0,39490.69,18320.71,21169.98,{"$f":"AU254","v":0},419.9,419.9,0,419.9,0,0,0,0,0,0,0,0,0,0,0,0,0,0,0,0,0,0,0,0,0,0,0,0,0,0,0,{"$f":"CA254","v":39490.69},18320.71,21169.98,0,419.9,419.9,0,419.9,0,0,0,0,0,0,0,0,0,0,0,0,0,0,0,0,0,0,0,0,0,0,0,0,{"$f":"DG254","v":16347.95},419.9,821.24,1158.1300000000001,13948.68,0,17.486015999999999,1.4022504,0,15009.76,8132.98,0,0,16347.95,419.9,821.24,1158.1300000000001,13948.68,0,17.486015999999999,1.4022504,0,15009.76,8132.98,0,0,0,0,0,39490.69,18320.71,21169.98,{"$f":"EM254","v":0},419.9,419.9,0,419.9,0,0,0,0,0,0,0,0,0,0,0,0,0,0,0,0,0,0,0,0,0,0,0,0,0,0,0,{"$f":"FS254","v":39490.69},18320.71,21169.98,0,419.9,419.9,0,419.9,0,0,0,0,0,0,0,0,0,0,0,0,0,0,0,0,0,0,0,0,0,0,0,0]
[]
[17,1,{"$f":"ROW(SmtRes!A3)","v":3},{"$f":"ROW(EtalonRes!A3)","v":3},"","47-01-001-03","Разбивка участка","100 м2",0,0,0,1.61,1.61,{"$f":"ROUND(L28-M28,4)","v":0},{"$f":"ROUND(CP28,2)","v":0},{"$f":"SUMIF(SmtRes!AQ1:'SmtRes'!AQ3,\"=1\",SmtRes!DF1:'SmtRes'!DF3)","v":0},{"$f":"SUMIF(SmtRes!AQ1:'SmtRes'!AQ3,\"=1\",SmtRes!DG1:'SmtRes'!DG3)","v":0},{"$f":"SUMIF(SmtRes!AQ1:'SmtRes'!AQ3,\"=1\",SmtRes!DH1:'SmtRes'!DH3)","v":0},{"$f":"SUMIF(SmtRes!AQ1:'SmtRes'!AQ3,\"=1\",SmtRes!DI1:'SmtRes'!DI3)","v":0},{"$f":"ROUND(CU28*I28,2)","v":0},{"$f":"SUMIF(SmtRes!AQ1:'SmtRes'!AQ3,\"=1\",SmtRes!CV1:'SmtRes'!CV3)","v":0},{"$f":"SUMIF(SmtRes!AQ1:'SmtRes'!AQ3,\"=1\",SmtRes!CW1:'SmtRes'!CW3)","v":0},{"$f":"ROUND(CX28*I28,2)","v":0},{"$f":"ROUND(CY28,2)","v":0},{"$f":"ROUND(CZ28,2)","v":0},null,-1,{"$f":"ROUND((AC28+AD28+AF28),2)","v":5594.46},{"$f":"ROUND((SUM(SmtRes!BQ1:'SmtRes'!BQ3)),2)","v":50.45},{"$f":"ROUND((((0)-(0))+AE28),2)","v":0},{"$f":"ROUND((0),2)","v":0},{"$f":"ROUND((SUM(SmtRes!BT1:'SmtRes'!BT3)),2)","v":5544.01},{"$f":"ROUND((AP28),2)","v":0},{"$f":"(SUM(SmtRes!BU1:'SmtRes'!BU3))","v":7.41},{"$f":"(0)","v":0},{"$f":"(AS28)","v":0},5594.4627999999993,50.449000000000005,0,0,5544.0137999999997,0,7.41,0,0,103,72,1,1,null,null,1,1,1,1,"","","","",0,1,"ГЭСН-2022, 47-01-001-03, приказ Минстроя России от 18.05.2022 г. № 378/пр",null,null,47001,0,"",0,2,0,1,1,1,1,1,1,"",103,72,"",null,null,0,0,0,0,0,0,0,0,0,"",0,{"$f":"(P28+Q28+S28+R28)","v":0},{"$f":"SUMIF(SmtRes!AQ1:'SmtRes'!AQ3,\"=1\",SmtRes!AA1:'SmtRes'!AA3)","v":12342.730000000001},{"$f":"SUMIF(SmtRes!AQ1:'SmtRes'!AQ3,\"=1\",SmtRes!AB1:'SmtRes'!AB3)","v":0},{"$f":"SUMIF(SmtRes!AQ1:'SmtRes'!AQ3,\"=1\",SmtRes!AC1:'SmtRes'!AC3)","v":0},{"$f":"SUMIF(SmtRes!AQ1:'SmtRes'!AQ3,\"=1\",SmtRes!AD1:'SmtRes'!AD3)","v":748.18},{"$f":"AG28","v":0},{"$f":"SUMIF(SmtRes!AQ1:'SmtRes'!AQ3,\"=1\",SmtRes!BU1:'SmtRes'!BU3)","v":7.41},{"$f":"SUMIF(SmtRes!AQ1:'SmtRes'!AQ3,\"=1\",SmtRes!BV1:'SmtRes'!BV3)","v":0},{"$f":"AJ28","v":0},{"$f":"(((S28+R28)*AT28)/100)","v":0},{"$f":"(((S28+R28)*AU28)/100)","v":0},null,null,"","","","","","","","","","","",0,0,1,1,null,null,null,1005,"100 м2","100 м2",100,null,"","","","",null,83666893,2,"Общестроительные работы",41,"Озеленение. Защитные лесонасаждения",1,47001,"Озеленение. Защитные лесонасаждения","ФЕР-47",null,"",null,132096,0,0,0,0,0,7.41,0,0,null,null,null,null,null,null,null,null,null,null,null,null,null,null,null,null,null,0,0,0,null,null,null,null,103,72,null,"",null,null,1,null,1323717432,2,1,-2,0,0,{"$f":"ROUND(IF(AND(BH28=3,BI28=3,FS28<>0),P28,0),2)","v":0},{"$f":"ROUND(O28+X28+Y28,2)+GX28","v":0},{"$f":"IF(OR(BI28=0,BI28=1),GM28-GX28,0)","v":0},{"$f":"IF(BI28=2,GM28-GX28,0)","v":0},{"$f":"IF(BI28=4,GM28-GX28,0)","v":0},null,0,3,0,"",{"$f":"ROUND((GT28),2)","v":0},1,{"$f":"ROUND(HC28*I28,2)","v":0},null,null,0,0,{"$f":"GV28*GW28","v":0},null,"","",null,null,null,null,null,null,"","Пр/812-041.0-1","Пр/774-041.0","Озеленение. Защитные лесонасаждения","Озеленение. Защитные лесонасаждения",null,0,null,null,null,null,null,null,null,null,null,null,null,null,null,null,null,null,null,0]
[17,1,{"$f":"ROW(SmtRes!A6)","v":6},{"$f":"ROW(EtalonRes!A6)","v":6},"","47-01-001-03","Разбивка участка","100 м2",0,0,0,1.61,1.61,{"$f":"ROUND(L29-M29,4)","v":0},{"$f":"ROUND(CP29,2)","v":0},{"$f":"SUMIF(SmtRes!AQ4:'SmtRes'!AQ6,\"=1\",SmtRes!DF4:'SmtRes'!DF6)","v":0},{"$f":"SUMIF(SmtRes!AQ4:'SmtRes'!AQ6,\"=1\",SmtRes!DG4:'SmtRes'!DG6)","v":0},{"$f":"SUMIF(SmtRes!AQ4:'SmtRes'!AQ6,\"=1\",SmtRes!DH4:'SmtRes'!DH6)","v":0},{"$f":"SUMIF(SmtRes!AQ4:'SmtRes'!AQ6,\"=1\",SmtRes!DI4:'SmtRes'!DI6)","v":0},{"$f":"ROUND(CU29*I29,2)","v":0},{"$f":"SUMIF(SmtRes!AQ4:'SmtRes'!AQ6,\"=1\",SmtRes!CV4:'SmtRes'!CV6)","v":0},{"$f":"SUMIF(SmtRes!AQ4:'SmtRes'!AQ6,\"=1\",SmtRes!CW4:'SmtRes'!CW6)","v":0},{"$f":"ROUND(CX29*I29,2)","v":0},{"$f":"ROUND(CY29,2)","v":0},{"$f":"ROUND(CZ29,2)","v":0},null,-1,{"$f":"ROUND((AC29+AD29+AF29),2)","v":5594.46},{"$f":"ROUND((SUM(SmtRes!BQ4:'SmtRes'!BQ6)),2)","v":50.45},{"$f":"ROUND((((0)-(0))+AE29),2)","v":0},{"$f":"ROUND((0),2)","v":0},{"$f":"ROUND((SUM(SmtRes!BT4:'SmtRes'!BT6)),2)","v":5544.01},{"$f":"ROUND((AP29),2)","v":0},{"$f":"(SUM(SmtRes!BU4:'SmtRes'!BU6))","v":7.41},{"$f":"(0)","v":0},{"$f":"(AS29)","v":0},5594.4627999999993,50.449000000000005,0,0,5544.0137999999997,0,7.41,0,0,103,72,1,1,null,null,1,1,1,1,"","","","",0,1,"ГЭСН-2022, 47-01-001-03, приказ Минстроя России от 18.05.2022 г. № 378/пр",null,null,47001,0,"",0,2,0,1,1,1,1,1,1,"",103,72,"",null,null,0,0,0,0,0,0,0,0,0,"",0,{"$f":"(P29+Q29+S29+R29)","v":0},{"$f":"SUMIF(SmtRes!AQ4:'SmtRes'!AQ6,\"=1\",SmtRes!AA4:'SmtRes'!AA6)","v":12342.730000000001},{"$f":"SUMIF(SmtRes!AQ4:'SmtRes'!AQ6,\"=1\",SmtRes!AB4:'SmtRes'!AB6)","v":0},{"$f":"SUMIF(SmtRes!AQ4:'SmtRes'!AQ6,\"=1\",SmtRes!AC4:'SmtRes'!AC6)","v":0},{"$f":"SUMIF(SmtRes!AQ4:'SmtRes'!AQ6,\"=1\",SmtRes!AD4:'SmtRes'!AD6)","v":748.18},{"$f":"AG29","v":0},{"$f":"SUMIF(SmtRes!AQ4:'SmtRes'!AQ6,\"=1\",SmtRes!BU4:'SmtRes'!BU6)","v":7.41},{"$f":"SUMIF(SmtRes!AQ4:'SmtRes'!AQ6,\"=1\",SmtRes!BV4:'SmtRes'!BV6)","v":0},{"$f":"AJ29","v":0},{"$f":"(((S29+R29)*AT29)/100)","v":0},{"$f":"(((S29+R29)*AU29)/100)","v":0},null,null,"","","","","","","","","","","",0,0,1,1,null,null,null,1005,"100 м2","100 м2",100,null,"","","","",null,83666893,2,"Общестроительные работы",41,"Озеленение. Защитные лесонасаждения",1,47001,"Озеленение. Защитные лесонасаждения","ФЕР-47",null,"",null,132096,0,0,0,0,0,7.41,0,0,null,null,null,null,null,null,null,null,null,null,null,null,null,null,null,null,null,0,0,0,null,null,null,null,103,72,null,"",null,null,1,null,1323717432,2,1,-2,0,0,{"$f":"ROUND(IF(AND(BH29=3,BI29=3,FS29<>0),P29,0),2)","v":0},{"$f":"ROUND(O29+X29+Y29,2)+GX29","v":0},{"$f":"IF(OR(BI29=0,BI29=1),GM29-GX29,0)","v":0},{"$f":"IF(BI29=2,GM29-GX29,0)","v":0},{"$f":"IF(BI29=4,GM29-GX29,0)","v":0},null,0,3,0,"",{"$f":"ROUND((GT29),2)","v":0},1,{"$f":"ROUND(HC29*I29,2)","v":0},null,null,0,0,{"$f":"GV29*GW29","v":0},null,"","",null,null,null,null,null,null,"","Пр/812-041.0-1","Пр/774-041.0","Озеленение. Защитные лесонасаждения","Озеленение. Защитные лесонасаждения",null,0,null,null,null,null,null,null,null,null,null,null,null,null,null,null,null,null,null,0]
[19,1,null,null,null,"","По ВОР \"Разбивка трассы\"","",null,null,null,null,null,null,null,null,null,null,null,null,null,null,null,null,null,null,1,null,null,null,null,null,null,null,null,null,null,null,null,null,null,null,null,null,null,null,null,null,null,null,null,null,null,null,null,null,null,null,null,null,null,null,null,null,null,null,null,null,null,null,null,null,null,null,null,null,null,null,null,null,null,null,null,null,null,null,null,null,null,null,null,null,null,null,null,null,null,null,null,null,null,null,null,null,null,null,null,null,null,null,null,null,null,null,null,null,null,null,null,null,null,null,null,null,null,null,null,null,null,null,null,null,null,null,null,null,null,null,null,null,null,null,null,null,null,null,null,null,null,null,null,null,null,null,null,null,null,null,null,null,null,null,null,null,null,null,null,null,null,null,null,null,null,null,null,null,null,null,null,null,null,null,null,null,null,null,null,null,null,null,null,null,null,null,null,null,null,null,null,null,null,null,null,null,null,null,null,null,null,null,null,null,null,null,null,null,null,null,null,null,null,null,null,null,null,null,null,null,null,null,null,null,null,null,null,null,null,null,null,null,null,null,null,null,0]
[17,1,{"$f":"ROW(SmtRes!A9)","v":9},{"$f":"ROW(EtalonRes!A9)","v":9},"","01-02-027-02","Планировка площадей: механизированным способом, группа грунтов 2","1000 м2",0,0,0,1E-3,1E-3,{"$f":"ROUND(L31-M31,4)","v":0},{"$f":"ROUND(CP31,2)","v":0},{"$f":"SUMIF(SmtRes!AQ7:'SmtRes'!AQ9,\"=1\",SmtRes!DF7:'SmtRes'!DF9)","v":0},{"$f":"SUMIF(SmtRes!AQ7:'SmtRes'!AQ9,\"=1\",SmtRes!DG7:'SmtRes'!DG9)","v":0},{"$f":"SUMIF(SmtRes!AQ7:'SmtRes'!AQ9,\"=1\",SmtRes!DH7:'SmtRes'!DH9)","v":0},{"$f":"SUMIF(SmtRes!AQ7:'SmtRes'!AQ9,\"=1\",SmtRes!DI7:'SmtRes'!DI9)","v":0},{"$f":"ROUND(CU31*I31,2)","v":0},{"$f":"SUMIF(SmtRes!AQ7:'SmtRes'!AQ9,\"=1\",SmtRes!CV7:'SmtRes'!CV9)","v":0},{"$f":"SUMIF(SmtRes!AQ7:'SmtRes'!AQ9,\"=1\",SmtRes!CW7:'SmtRes'!CW9)","v":0},{"$f":"ROUND(CX31*I31,2)","v":0},{"$f":"ROUND(CY31,2)","v":0},{"$f":"ROUND(CZ31,2)","v":0},null,-1,{"$f":"ROUND((AC31+AD31+AF31),2)","v":1275.94},{"$f":"ROUND((0),2)","v":0},{"$f":"ROUND((((SUM(SmtRes!BR7:'SmtRes'!BR9))-(SUM(SmtRes!BS7:'SmtRes'!BS9)))+AE31),2)","v":1275.94},{"$f":"ROUND((SUM(SmtRes!BS7:'SmtRes'!BS9)),2)","v":1079.56},{"$f":"ROUND((0),2)","v":0},{"$f":"ROUND((AP31),2)","v":0},{"$f":"(0)","v":0},{"$f":"(SUM(SmtRes!BV7:'SmtRes'!BV9))","v":0.99},{"$f":"(AS31)","v":0},2355.4947999999999,0,1275.9394,1079.5554,0,0,0,0.99,0,89,41,1,1,null,null,1,1,1,1,"","","","",0,1,"ГЭСН-2022, 01-02-027-02, приказ Минстроя России от 18.05.2022 г. № 378/пр",null,null,1006,0,"",0,2,0,1,1,1,1,1,1,"",89,41,"",null,null,0,0,0,0,0,0,0,0,0,"",0,{"$f":"(P31+Q31+S31+R31)","v":0},{"$f":"SUMIF(SmtRes!AQ7:'SmtRes'!AQ9,\"=1\",SmtRes!AA7:'SmtRes'!AA9)","v":0},{"$f":"SUMIF(SmtRes!AQ7:'SmtRes'!AQ9,\"=1\",SmtRes!AB7:'SmtRes'!AB9)","v":3835.9300000000003},{"$f":"SUMIF(SmtRes!AQ7:'SmtRes'!AQ9,\"=1\",SmtRes!AC7:'SmtRes'!AC9)","v":2180.92},{"$f":"SUMIF(SmtRes!AQ7:'SmtRes'!AQ9,\"=1\",SmtRes!AD7:'SmtRes'!AD9)","v":0},{"$f":"AG31","v":0},{"$f":"SUMIF(SmtRes!AQ7:'SmtRes'!AQ9,\"=1\",SmtRes!BU7:'SmtRes'!BU9)","v":0},{"$f":"SUMIF(SmtRes!AQ7:'SmtRes'!AQ9,\"=1\",SmtRes!BV7:'SmtRes'!BV9)","v":0.99},{"$f":"AJ31","v":0},{"$f":"(((S31+R31)*AT31)/100)","v":0},{"$f":"(((S31+R31)*AU31)/100)","v":0},null,null,"","","","","","","","","","","",0,0,1,1,null,null,null,1005,"1000 м2","1000 м2",1000,null,"","","","",null,83666803,2,"Общестроительные работы",1,"Земляные работы",1,1006,"Земляные работы, выполняемые: по другим видам работ ( подготовительные, сопутствующие, укрепительные )","ФЕР-01",null,"",null,132096,0,0,0,0,0,0,0.99,0,null,null,null,null,null,null,null,null,null,null,null,null,null,null,null,null,null,0,0,0,null,null,null,null,89,41,null,"",null,null,1,null,778139628,2,1,-2,0,0,{"$f":"ROUND(IF(AND(BH31=3,BI31=3,FS31<>0),P31,0),2)","v":0},{"$f":"ROUND(O31+X31+Y31,2)+GX31","v":0},{"$f":"IF(OR(BI31=0,BI31=1),GM31-GX31,0)","v":0},{"$f":"IF(BI31=2,GM31-GX31,0)","v":0},{"$f":"IF(BI31=4,GM31-GX31,0)","v":0},null,0,0,0,"",{"$f":"ROUND((GT31),2)","v":0},1,{"$f":"ROUND(HC31*I31,2)","v":0},null,null,0,0,{"$f":"GV31*GW31","v":0},null,"","",null,null,null,null,null,null,"","Пр/812-001.4-1","Пр/774-001.4","Земляные работы, выполняемые: по другим видам работ (подготовительные, сопутствующие, укрепительные)","Земляные работы, выполняемые: по другим видам работ (подготовительные, сопутствующие, укрепительные)",null,0,null,null,null,null,null,null,null,null,null,null,null,null,null,null,null,null,null,0]
[17,1,{"$f":"ROW(SmtRes!A12)","v":12},{"$f":"ROW(EtalonRes!A12)","v":12},"","01-02-027-02","Планировка площадей: механизированным способом, группа грунтов 2","1000 м2",0,0,0,1E-3,1E-3,{"$f":"ROUND(L32-M32,4)","v":0},{"$f":"ROUND(CP32,2)","v":0},{"$f":"SUMIF(SmtRes!AQ10:'SmtRes'!AQ12,\"=1\",SmtRes!DF10:'SmtRes'!DF12)","v":0},{"$f":"SUMIF(SmtRes!AQ10:'SmtRes'!AQ12,\"=1\",SmtRes!DG10:'SmtRes'!DG12)","v":0},{"$f":"SUMIF(SmtRes!AQ10:'SmtRes'!AQ12,\"=1\",SmtRes!DH10:'SmtRes'!DH12)","v":0},{"$f":"SUMIF(SmtRes!AQ10:'SmtRes'!AQ12,\"=1\",SmtRes!DI10:'SmtRes'!DI12)","v":0},{"$f":"ROUND(CU32*I32,2)","v":0},{"$f":"SUMIF(SmtRes!AQ10:'SmtRes'!AQ12,\"=1\",SmtRes!CV10:'SmtRes'!CV12)","v":0},{"$f":"SUMIF(SmtRes!AQ10:'SmtRes'!AQ12,\"=1\",SmtRes!CW10:'SmtRes'!CW12)","v":0},{"$f":"ROUND(CX32*I32,2)","v":0},{"$f":"ROUND(CY32,2)","v":0},{"$f":"ROUND(CZ32,2)","v":0},null,-1,{"$f":"ROUND((AC32+AD32+AF32),2)","v":1275.94},{"$f":"ROUND((0),2)","v":0},{"$f":"ROUND((((SUM(SmtRes!BR10:'SmtRes'!BR12))-(SUM(SmtRes!BS10:'SmtRes'!BS12)))+AE32),2)","v":1275.94},{"$f":"ROUND((SUM(SmtRes!BS10:'SmtRes'!BS12)),2)","v":1079.56},{"$f":"ROUND((0),2)","v":0},{"$f":"ROUND((AP32),2)","v":0},{"$f":"(0)","v":0},{"$f":"(SUM(SmtRes!BV10:'SmtRes'!BV12))","v":0.99},{"$f":"(AS32)","v":0},2355.4947999999999,0,1275.9394,1079.5554,0,0,0,0.99,0,89,41,1,1,null,null,1,1,1,1,"","","","",0,1,"ГЭСН-2022, 01-02-027-02, приказ Минстроя России от 18.05.2022 г. № 378/пр",null,null,1006,0,"",0,2,0,1,1,1,1,1,1,"",89,41,"",null,null,0,0,0,0,0,0,0,0,0,"",0,{"$f":"(P32+Q32+S32+R32)","v":0},{"$f":"SUMIF(SmtRes!AQ10:'SmtRes'!AQ12,\"=1\",SmtRes!AA10:'SmtRes'!AA12)","v":0},{"$f":"SUMIF(SmtRes!AQ10:'SmtRes'!AQ12,\"=1\",SmtRes!AB10:'SmtRes'!AB12)","v":3835.9300000000003},{"$f":"SUMIF(SmtRes!AQ10:'SmtRes'!AQ12,\"=1\",SmtRes!AC10:'SmtRes'!AC12)","v":2180.92},{"$f":"SUMIF(SmtRes!AQ10:'SmtRes'!AQ12,\"=1\",SmtRes!AD10:'SmtRes'!AD12)","v":0},{"$f":"AG32","v":0},{"$f":"SUMIF(SmtRes!AQ10:'SmtRes'!AQ12,\"=1\",SmtRes!BU10:'SmtRes'!BU12)","v":0},{"$f":"SUMIF(SmtRes!AQ10:'SmtRes'!AQ12,\"=1\",SmtRes!BV10:'SmtRes'!BV12)","v":0.99},{"$f":"AJ32","v":0},{"$f":"(((S32+R32)*AT32)/100)","v":0},{"$f":"(((S32+R32)*AU32)/100)","v":0},null,null,"","","","","","","","","","","",0,0,1,1,null,null,null,1005,"1000 м2","1000 м2",1000,null,"","","","",null,83666803,2,"Общестроительные работы",1,"Земляные работы",1,1006,"Земляные работы, выполняемые: по другим видам работ ( подготовительные, сопутствующие, укрепительные )","ФЕР-01",null,"",null,132096,0,0,0,0,0,0,0.99,0,null,null,null,null,null,null,null,null,null,null,null,null,null,null,null,null,null,0,0,0,null,null,null,null,89,41,null,"",null,null,1,null,778139628,2,1,-2,0,0,{"$f":"ROUND(IF(AND(BH32=3,BI32=3,FS32<>0),P32,0),2)","v":0},{"$f":"ROUND(O32+X32+Y32,2)+GX32","v":0},{"$f":"IF(OR(BI32=0,BI32=1),GM32-GX32,0)","v":0},{"$f":"IF(BI32=2,GM32-GX32,0)","v":0},{"$f":"IF(BI32=4,GM32-GX32,0)","v":0},null,0,0,0,"",{"$f":"ROUND((GT32),2)","v":0},1,{"$f":"ROUND(HC32*I32,2)","v":0},null,null,0,0,{"$f":"GV32*GW32","v":0},null,"","",null,null,null,null,null,null,"","Пр/812-001.4-1","Пр/774-001.4","Земляные работы, выполняемые: по другим видам работ (подготовительные, сопутствующие, укрепительные)","Земляные работы, выполняемые: по другим видам работ (подготовительные, сопутствующие, укрепительные)",null,0,null,null,null,null,null,null,null,null,null,null,null,null,null,null,null,null,null,0]
[19,1,null,null,null,"","По ВОР \"Планировка площадей\"","",null,null,null,null,null,null,null,null,null,null,null,null,null,null,null,null,null,null,1,null,null,null,null,null,null,null,null,null,null,null,null,null,null,null,null,null,null,null,null,null,null,null,null,null,null,null,null,null,null,null,null,null,null,null,null,null,null,null,null,null,null,null,null,null,null,null,null,null,null,null,null,null,null,null,null,null,null,null,null,null,null,null,null,null,null,null,null,null,null,null,null,null,null,null,null,null,null,null,null,null,null,null,null,null,null,null,null,null,null,null,null,null,null,null,null,null,null,null,null,null,null,null,null,null,null,null,null,null,null,null,null,null,null,null,null,null,null,null,null,null,null,null,null,null,null,null,null,null,null,null,null,null,null,null,null,null,null,null,null,null,null,null,null,null,null,null,null,null,null,null,null,null,null,null,null,null,null,null,null,null,null,null,null,null,null,null,null,null,null,null,null,null,null,null,null,null,null,null,null,null,null,null,null,null,null,null,null,null,null,null,null,null,null,null,null,null,null,null,null,null,null,null,null,null,null,null,null,null,null,null,null,null,null,null,null,null,0]
[17,1,{"$f":"ROW(SmtRes!A15)","v":15},{"$f":"ROW(EtalonRes!A15)","v":15},"","47-01-109-02","Обрезка крон деревьев под естественный вид: с автогидроподъемника","ШТ",0,0,0,1,1,{"$f":"ROUND(L34-M34,4)","v":0},{"$f":"ROUND(CP34,2)","v":0},{"$f":"SUMIF(SmtRes!AQ13:'SmtRes'!AQ15,\"=1\",SmtRes!DF13:'SmtRes'!DF15)","v":0},{"$f":"SUMIF(SmtRes!AQ13:'SmtRes'!AQ15,\"=1\",SmtRes!DG13:'SmtRes'!DG15)","v":0},{"$f":"SUMIF(SmtRes!AQ13:'SmtRes'!AQ15,\"=1\",SmtRes!DH13:'SmtRes'!DH15)","v":0},{"$f":"SUMIF(SmtRes!AQ13:'SmtRes'!AQ15,\"=1\",SmtRes!DI13:'SmtRes'!DI15)","v":0},{"$f":"ROUND(CU34*I34,2)","v":0},{"$f":"SUMIF(SmtRes!AQ13:'SmtRes'!AQ15,\"=1\",SmtRes!CV13:'SmtRes'!CV15)","v":0},{"$f":"SUMIF(SmtRes!AQ13:'SmtRes'!AQ15,\"=1\",SmtRes!CW13:'SmtRes'!CW15)","v":0},{"$f":"ROUND(CX34*I34,2)","v":0},{"$f":"ROUND(CY34,2)","v":0},{"$f":"ROUND(CZ34,2)","v":0},null,-1,{"$f":"ROUND((AC34+AD34+AF34),2)","v":900.43},{"$f":"ROUND((0),2)","v":0},{"$f":"ROUND((((SUM(SmtRes!BR13:'SmtRes'!BR15))-(SUM(SmtRes!BS13:'SmtRes'!BS15)))+AE34),2)","v":307.22000000000003},{"$f":"ROUND((SUM(SmtRes!BS13:'SmtRes'!BS15)),2)","v":307.87},{"$f":"ROUND((SUM(SmtRes!BT13:'SmtRes'!BT15)),2)","v":593.21},{"$f":"ROUND((AP34),2)","v":0},{"$f":"(SUM(SmtRes!BU13:'SmtRes'!BU15))","v":0.68},{"$f":"(SUM(SmtRes!BV13:'SmtRes'!BV15))","v":0.33},{"$f":"(AS34)","v":0},1208.3117999999999,0,307.22669999999999,307.87350000000004,593.21160000000009,0,0.68,0.33,0,103,72,1,1,null,null,1,1,1,1,"","","","",0,1,"ГЭСН-2022, 47-01-109-02, приказ Минстроя России от 18.05.2022 г. № 378/пр",null,null,47001,0,"",0,2,0,1,1,1,1,1,1,"",103,72,"",null,null,0,0,0,0,0,0,0,0,0,"",0,{"$f":"(P34+Q34+S34+R34)","v":0},{"$f":"SUMIF(SmtRes!AQ13:'SmtRes'!AQ15,\"=1\",SmtRes!AA13:'SmtRes'!AA15)","v":0},{"$f":"SUMIF(SmtRes!AQ13:'SmtRes'!AQ15,\"=1\",SmtRes!AB13:'SmtRes'!AB15)","v":930.99},{"$f":"SUMIF(SmtRes!AQ13:'SmtRes'!AQ15,\"=1\",SmtRes!AC13:'SmtRes'!AC15)","v":932.95},{"$f":"SUMIF(SmtRes!AQ13:'SmtRes'!AQ15,\"=1\",SmtRes!AD13:'SmtRes'!AD15)","v":872.37},{"$f":"AG34","v":0},{"$f":"SUMIF(SmtRes!AQ13:'SmtRes'!AQ15,\"=1\",SmtRes!BU13:'SmtRes'!BU15)","v":0.68},{"$f":"SUMIF(SmtRes!AQ13:'SmtRes'!AQ15,\"=1\",SmtRes!BV13:'SmtRes'!BV15)","v":0.33},{"$f":"AJ34","v":0},{"$f":"(((S34+R34)*AT34)/100)","v":0},{"$f":"(((S34+R34)*AU34)/100)","v":0},null,null,"","","","","","","","","","","",0,0,1,1,null,null,null,1013,"ШТ","ШТ",1,null,"","","","",null,83666893,2,"Общестроительные работы",41,"Озеленение. Защитные лесонасаждения",1,47001,"Озеленение. Защитные лесонасаждения","ФЕР-47",null,"",null,132096,0,0,0,0,0,0.68,0.33,0,null,null,null,null,null,null,null,null,null,null,null,null,null,null,null,null,null,0,0,0,null,null,null,null,103,72,null,"",null,null,1,null,-1710942875,2,1,-2,0,0,{"$f":"ROUND(IF(AND(BH34=3,BI34=3,FS34<>0),P34,0),2)","v":0},{"$f":"ROUND(O34+X34+Y34,2)+GX34","v":0},{"$f":"IF(OR(BI34=0,BI34=1),GM34-GX34,0)","v":0},{"$f":"IF(BI34=2,GM34-GX34,0)","v":0},{"$f":"IF(BI34=4,GM34-GX34,0)","v":0},null,0,0,0,"",{"$f":"ROUND((GT34),2)","v":0},1,{"$f":"ROUND(HC34*I34,2)","v":0},null,null,0,0,{"$f":"GV34*GW34","v":0},null,"","",null,null,null,null,null,null,"","Пр/812-041.0-1","Пр/774-041.0","Озеленение. Защитные лесонасаждения","Озеленение. Защитные лесонасаждения",null,0,null,null,null,null,null,null,null,null,null,null,null,null,null,null,null,null,null,0]
[17,1,{"$f":"ROW(SmtRes!A18)","v":18},{"$f":"ROW(EtalonRes!A18)","v":18},"","47-01-109-02","Обрезка крон деревьев под естественный вид: с автогидроподъемника","ШТ",0,0,0,1,1,{"$f":"ROUND(L35-M35,4)","v":0},{"$f":"ROUND(CP35,2)","v":0},{"$f":"SUMIF(SmtRes!AQ16:'SmtRes'!AQ18,\"=1\",SmtRes!DF16:'SmtRes'!DF18)","v":0},{"$f":"SUMIF(SmtRes!AQ16:'SmtRes'!AQ18,\"=1\",SmtRes!DG16:'SmtRes'!DG18)","v":0},{"$f":"SUMIF(SmtRes!AQ16:'SmtRes'!AQ18,\"=1\",SmtRes!DH16:'SmtRes'!DH18)","v":0},{"$f":"SUMIF(SmtRes!AQ16:'SmtRes'!AQ18,\"=1\",SmtRes!DI16:'SmtRes'!DI18)","v":0},{"$f":"ROUND(CU35*I35,2)","v":0},{"$f":"SUMIF(SmtRes!AQ16:'SmtRes'!AQ18,\"=1\",SmtRes!CV16:'SmtRes'!CV18)","v":0},{"$f":"SUMIF(SmtRes!AQ16:'SmtRes'!AQ18,\"=1\",SmtRes!CW16:'SmtRes'!CW18)","v":0},{"$f":"ROUND(CX35*I35,2)","v":0},{"$f":"ROUND(CY35,2)","v":0},{"$f":"ROUND(CZ35,2)","v":0},null,-1,{"$f":"ROUND((AC35+AD35+AF35),2)","v":900.43},{"$f":"ROUND((0),2)","v":0},{"$f":"ROUND((((SUM(SmtRes!BR16:'SmtRes'!BR18))-(SUM(SmtRes!BS16:'SmtRes'!BS18)))+AE35),2)","v":307.22000000000003},{"$f":"ROUND((SUM(SmtRes!BS16:'SmtRes'!BS18)),2)","v":307.87},{"$f":"ROUND((SUM(SmtRes!BT16:'SmtRes'!BT18)),2)","v":593.21},{"$f":"ROUND((AP35),2)","v":0},{"$f":"(SUM(SmtRes!BU16:'SmtRes'!BU18))","v":0.68},{"$f":"(SUM(SmtRes!BV16:'SmtRes'!BV18))","v":0.33},{"$f":"(AS35)","v":0},1208.3117999999999,0,307.22669999999999,307.87350000000004,593.21160000000009,0,0.68,0.33,0,103,72,1,1,null,null,1,1,1,1,"","","","",0,1,"ГЭСН-2022, 47-01-109-02, приказ Минстроя России от 18.05.2022 г. № 378/пр",null,null,47001,0,"",0,2,0,1,1,1,1,1,1,"",103,72,"",null,null,0,0,0,0,0,0,0,0,0,"",0,{"$f":"(P35+Q35+S35+R35)","v":0},{"$f":"SUMIF(SmtRes!AQ16:'SmtRes'!AQ18,\"=1\",SmtRes!AA16:'SmtRes'!AA18)","v":0},{"$f":"SUMIF(SmtRes!AQ16:'SmtRes'!AQ18,\"=1\",SmtRes!AB16:'SmtRes'!AB18)","v":930.99},{"$f":"SUMIF(SmtRes!AQ16:'SmtRes'!AQ18,\"=1\",SmtRes!AC16:'SmtRes'!AC18)","v":932.95},{"$f":"SUMIF(SmtRes!AQ16:'SmtRes'!AQ18,\"=1\",SmtRes!AD16:'SmtRes'!AD18)","v":872.37},{"$f":"AG35","v":0},{"$f":"SUMIF(SmtRes!AQ16:'SmtRes'!AQ18,\"=1\",SmtRes!BU16:'SmtRes'!BU18)","v":0.68},{"$f":"SUMIF(SmtRes!AQ16:'SmtRes'!AQ18,\"=1\",SmtRes!BV16:'SmtRes'!BV18)","v":0.33},{"$f":"AJ35","v":0},{"$f":"(((S35+R35)*AT35)/100)","v":0},{"$f":"(((S35+R35)*AU35)/100)","v":0},null,null,"","","","","","","","","","","",0,0,1,1,null,null,null,1013,"ШТ","ШТ",1,null,"","","","",null,83666893,2,"Общестроительные работы",41,"Озеленение. Защитные лесонасаждения",1,47001,"Озеленение. Защитные лесонасаждения","ФЕР-47",null,"",null,132096,0,0,0,0,0,0.68,0.33,0,null,null,null,null,null,null,null,null,null,null,null,null,null,null,null,null,null,0,0,0,null,null,null,null,103,72,null,"",null,null,1,null,-1710942875,2,1,-2,0,0,{"$f":"ROUND(IF(AND(BH35=3,BI35=3,FS35<>0),P35,0),2)","v":0},{"$f":"ROUND(O35+X35+Y35,2)+GX35","v":0},{"$f":"IF(OR(BI35=0,BI35=1),GM35-GX35,0)","v":0},{"$f":"IF(BI35=2,GM35-GX35,0)","v":0},{"$f":"IF(BI35=4,GM35-GX35,0)","v":0},null,0,0,0,"",{"$f":"ROUND((GT35),2)","v":0},1,{"$f":"ROUND(HC35*I35,2)","v":0},null,null,0,0,{"$f":"GV35*GW35","v":0},null,"","",null,null,null,null,null,null,"","Пр/812-041.0-1","Пр/774-041.0","Озеленение. Защитные лесонасаждения","Озеленение. Защитные лесонасаждения",null,0,null,null,null,null,null,null,null,null,null,null,null,null,null,null,null,null,null,0]
[19,1,null,null,null,"","По ВОР \"Опиловка деревьев выше 5м\"","",null,null,null,null,null,null,null,null,null,null,null,null,null,null,null,null,null,null,1,null,null,null,null,null,null,null,null,null,null,null,null,null,null,null,null,null,null,null,null,null,null,null,null,null,null,null,null,null,null,null,null,null,null,null,null,null,null,null,null,null,null,null,null,null,null,null,null,null,null,null,null,null,null,null,null,null,null,null,null,null,null,null,null,null,null,null,null,null,null,null,null,null,null,null,null,null,null,null,null,null,null,null,null,null,null,null,null,null,null,null,null,null,null,null,null,null,null,null,null,null,null,null,null,null,null,null,null,null,null,null,null,null,null,null,null,null,null,null,null,null,null,null,null,null,null,null,null,null,null,null,null,null,null,null,null,null,null,null,null,null,null,null,null,null,null,null,null,null,null,null,null,null,null,null,null,null,null,null,null,null,null,null,null,null,null,null,null,null,null,null,null,null,null,null,null,null,null,null,null,null,null,null,null,null,null,null,null,null,null,null,null,null,null,null,null,null,null,null,null,null,null,null,null,null,null,null,null,null,null,null,null,null,null,null,null,null,0]
[17,1,{"$f":"ROW(SmtRes!A19)","v":19},{"$f":"ROW(EtalonRes!A19)","v":19},"","68-01-005-03","Вырезка сухих ветвей деревьев лиственных пород диаметром: до 350 мм при количестве срезанных ветвей до 15","ШТ",0,0,0,1,1,{"$f":"ROUND(L37-M37,4)","v":0},{"$f":"ROUND(CP37,2)","v":0},{"$f":"SUMIF(SmtRes!AQ19:'SmtRes'!AQ19,\"=1\",SmtRes!DF19:'SmtRes'!DF19)","v":0},{"$f":"SUMIF(SmtRes!AQ19:'SmtRes'!AQ19,\"=1\",SmtRes!DG19:'SmtRes'!DG19)","v":0},{"$f":"SUMIF(SmtRes!AQ19:'SmtRes'!AQ19,\"=1\",SmtRes!DH19:'SmtRes'!DH19)","v":0},{"$f":"SUMIF(SmtRes!AQ19:'SmtRes'!AQ19,\"=1\",SmtRes!DI19:'SmtRes'!DI19)","v":0},{"$f":"ROUND(CU37*I37,2)","v":0},{"$f":"SUMIF(SmtRes!AQ19:'SmtRes'!AQ19,\"=1\",SmtRes!CV19:'SmtRes'!CV19)","v":0},{"$f":"SUMIF(SmtRes!AQ19:'SmtRes'!AQ19,\"=1\",SmtRes!CW19:'SmtRes'!CW19)","v":0},{"$f":"ROUND(CX37*I37,2)","v":0},{"$f":"ROUND(CY37,2)","v":0},{"$f":"ROUND(CZ37,2)","v":0},null,-1,{"$f":"ROUND((AC37+AD37+AF37),2)","v":700.56},{"$f":"ROUND((0),2)","v":0},{"$f":"ROUND((((0)-(0))+AE37),2)","v":0},{"$f":"ROUND((0),2)","v":0},{"$f":"ROUND((SUM(SmtRes!BT19:'SmtRes'!BT19)),2)","v":700.56},{"$f":"ROUND((AP37),2)","v":0},{"$f":"(SUM(SmtRes!BU19:'SmtRes'!BU19))","v":0.98},{"$f":"(0)","v":0},{"$f":"(AS37)","v":0},700.56280000000004,0,0,0,700.56280000000004,0,0.98,0,0,102,54,1,1,null,null,1,1,1,1,"","","","",0,1,"ГЭСНр-2022, 68-01-005-03, приказ Минстроя России от 18.05.2022 г. № 378/пр",null,null,68001,0,"",0,6,0,1,1,1,1,1,1,"",102,54,"",null,null,0,0,0,0,0,0,0,0,0,"",0,{"$f":"(P37+Q37+S37+R37)","v":0},{"$f":"SUMIF(SmtRes!AQ19:'SmtRes'!AQ19,\"=1\",SmtRes!AA19:'SmtRes'!AA19)","v":0},{"$f":"SUMIF(SmtRes!AQ19:'SmtRes'!AQ19,\"=1\",SmtRes!AB19:'SmtRes'!AB19)","v":0},{"$f":"SUMIF(SmtRes!AQ19:'SmtRes'!AQ19,\"=1\",SmtRes!AC19:'SmtRes'!AC19)","v":0},{"$f":"SUMIF(SmtRes!AQ19:'SmtRes'!AQ19,\"=1\",SmtRes!AD19:'SmtRes'!AD19)","v":714.86},{"$f":"AG37","v":0},{"$f":"SUMIF(SmtRes!AQ19:'SmtRes'!AQ19,\"=1\",SmtRes!BU19:'SmtRes'!BU19)","v":0.98},{"$f":"SUMIF(SmtRes!AQ19:'SmtRes'!AQ19,\"=1\",SmtRes!BV19:'SmtRes'!BV19)","v":0},{"$f":"AJ37","v":0},{"$f":"(((S37+R37)*AT37)/100)","v":0},{"$f":"(((S37+R37)*AU37)/100)","v":0},null,null,"","","","","","","","","","","",0,0,1,1,null,null,null,1013,"ШТ","ШТ",1,null,"","","","",null,83666950,6,"Ремонтно-строительные работы",102,"Благоустройство",1,68001,"Благоустройство","рФЕР-68",null,"",null,132096,0,0,0,0,0,0.98,0,0,null,null,null,null,null,null,null,null,null,null,null,null,null,null,null,null,null,0,0,0,null,null,null,null,102,54,null,"",null,null,1,null,-420139828,2,1,-2,0,0,{"$f":"ROUND(IF(AND(BH37=3,BI37=3,FS37<>0),P37,0),2)","v":0},{"$f":"ROUND(O37+X37+Y37,2)+GX37","v":0},{"$f":"IF(OR(BI37=0,BI37=1),GM37-GX37,0)","v":0},{"$f":"IF(BI37=2,GM37-GX37,0)","v":0},{"$f":"IF(BI37=4,GM37-GX37,0)","v":0},null,0,0,0,"",{"$f":"ROUND((GT37),2)","v":0},1,{"$f":"ROUND(HC37*I37,2)","v":0},null,null,0,0,{"$f":"GV37*GW37","v":0},null,"","",null,null,null,null,null,null,"","Пр/812-102.0-1","Пр/774-102.0","Благоустройство","Благоустройство",null,0,null,null,null,null,null,null,null,null,null,null,null,null,null,null,null,null,null,0]
[17,1,{"$f":"ROW(SmtRes!A20)","v":20},{"$f":"ROW(EtalonRes!A20)","v":20},"","68-01-005-03","Вырезка сухих ветвей деревьев лиственных пород диаметром: до 350 мм при количестве срезанных ветвей до 15","ШТ",0,0,0,1,1,{"$f":"ROUND(L38-M38,4)","v":0},{"$f":"ROUND(CP38,2)","v":0},{"$f":"SUMIF(SmtRes!AQ20:'SmtRes'!AQ20,\"=1\",SmtRes!DF20:'SmtRes'!DF20)","v":0},{"$f":"SUMIF(SmtRes!AQ20:'SmtRes'!AQ20,\"=1\",SmtRes!DG20:'SmtRes'!DG20)","v":0},{"$f":"SUMIF(SmtRes!AQ20:'SmtRes'!AQ20,\"=1\",SmtRes!DH20:'SmtRes'!DH20)","v":0},{"$f":"SUMIF(SmtRes!AQ20:'SmtRes'!AQ20,\"=1\",SmtRes!DI20:'SmtRes'!DI20)","v":0},{"$f":"ROUND(CU38*I38,2)","v":0},{"$f":"SUMIF(SmtRes!AQ20:'SmtRes'!AQ20,\"=1\",SmtRes!CV20:'SmtRes'!CV20)","v":0},{"$f":"SUMIF(SmtRes!AQ20:'SmtRes'!AQ20,\"=1\",SmtRes!CW20:'SmtRes'!CW20)","v":0},{"$f":"ROUND(CX38*I38,2)","v":0},{"$f":"ROUND(CY38,2)","v":0},{"$f":"ROUND(CZ38,2)","v":0},null,-1,{"$f":"ROUND((AC38+AD38+AF38),2)","v":700.56},{"$f":"ROUND((0),2)","v":0},{"$f":"ROUND((((0)-(0))+AE38),2)","v":0},{"$f":"ROUND((0),2)","v":0},{"$f":"ROUND((SUM(SmtRes!BT20:'SmtRes'!BT20)),2)","v":700.56},{"$f":"ROUND((AP38),2)","v":0},{"$f":"(SUM(SmtRes!BU20:'SmtRes'!BU20))","v":0.98},{"$f":"(0)","v":0},{"$f":"(AS38)","v":0},700.56280000000004,0,0,0,700.56280000000004,0,0.98,0,0,102,54,1,1,null,null,1,1,1,1,"","","","",0,1,"ГЭСНр-2022, 68-01-005-03, приказ Минстроя России от 18.05.2022 г. № 378/пр",null,null,68001,0,"",0,6,0,1,1,1,1,1,1,"",102,54,"",null,null,0,0,0,0,0,0,0,0,0,"",0,{"$f":"(P38+Q38+S38+R38)","v":0},{"$f":"SUMIF(SmtRes!AQ20:'SmtRes'!AQ20,\"=1\",SmtRes!AA20:'SmtRes'!AA20)","v":0},{"$f":"SUMIF(SmtRes!AQ20:'SmtRes'!AQ20,\"=1\",SmtRes!AB20:'SmtRes'!AB20)","v":0},{"$f":"SUMIF(SmtRes!AQ20:'SmtRes'!AQ20,\"=1\",SmtRes!AC20:'SmtRes'!AC20)","v":0},{"$f":"SUMIF(SmtRes!AQ20:'SmtRes'!AQ20,\"=1\",SmtRes!AD20:'SmtRes'!AD20)","v":714.86},{"$f":"AG38","v":0},{"$f":"SUMIF(SmtRes!AQ20:'SmtRes'!AQ20,\"=1\",SmtRes!BU20:'SmtRes'!BU20)","v":0.98},{"$f":"SUMIF(SmtRes!AQ20:'SmtRes'!AQ20,\"=1\",SmtRes!BV20:'SmtRes'!BV20)","v":0},{"$f":"AJ38","v":0},{"$f":"(((S38+R38)*AT38)/100)","v":0},{"$f":"(((S38+R38)*AU38)/100)","v":0},null,null,"","","","","","","","","","","",0,0,1,1,null,null,null,1013,"ШТ","ШТ",1,null,"","","","",null,83666950,6,"Ремонтно-строительные работы",102,"Благоустройство",1,68001,"Благоустройство","рФЕР-68",null,"",null,132096,0,0,0,0,0,0.98,0,0,null,null,null,null,null,null,null,null,null,null,null,null,null,null,null,null,null,0,0,0,null,null,null,null,102,54,null,"",null,null,1,null,-420139828,2,1,-2,0,0,{"$f":"ROUND(IF(AND(BH38=3,BI38=3,FS38<>0),P38,0),2)","v":0},{"$f":"ROUND(O38+X38+Y38,2)+GX38","v":0},{"$f":"IF(OR(BI38=0,BI38=1),GM38-GX38,0)","v":0},{"$f":"IF(BI38=2,GM38-GX38,0)","v":0},{"$f":"IF(BI38=4,GM38-GX38,0)","v":0},null,0,0,0,"",{"$f":"ROUND((GT38),2)","v":0},1,{"$f":"ROUND(HC38*I38,2)","v":0},null,null,0,0,{"$f":"GV38*GW38","v":0},null,"","",null,null,null,null,null,null,"","Пр/812-102.0-1","Пр/774-102.0","Благоустройство","Благоустройство",null,0,null,null,null,null,null,null,null,null,null,null,null,null,null,null,null,null,null,0]
[19,1,null,null,null,"","По ВОР \"Формовочная обрезка деревьев высотой более 5м\"","",null,null,null,null,null,null,null,null,null,null,null,null,null,null,null,null,null,null,1,null,null,null,null,null,null,null,null,null,null,null,null,null,null,null,null,null,null,null,null,null,null,null,null,null,null,null,null,null,null,null,null,null,null,null,null,null,null,null,null,null,null,null,null,null,null,null,null,null,null,null,null,null,null,null,null,null,null,null,null,null,null,null,null,null,null,null,null,null,null,null,null,null,null,null,null,null,null,null,null,null,null,null,null,null,null,null,null,null,null,null,null,null,null,null,null,null,null,null,null,null,null,null,null,null,null,null,null,null,null,null,null,null,null,null,null,null,null,null,null,null,null,null,null,null,null,null,null,null,null,null,null,null,null,null,null,null,null,null,null,null,null,null,null,null,null,null,null,null,null,null,null,null,null,null,null,null,null,null,null,null,null,null,null,null,null,null,null,null,null,null,null,null,null,null,null,null,null,null,null,null,null,null,null,null,null,null,null,null,null,null,null,null,null,null,null,null,null,null,null,null,null,null,null,null,null,null,null,null,null,null,null,null,null,null,null,null,0]
[17,1,{"$f":"ROW(SmtRes!A25)","v":25},{"$f":"ROW(EtalonRes!A25)","v":25},"1","33-04-016-02","Развозка конструкций и материалов опор ВЛ 0,38-10 кВ по трассе: одностоечных железобетонных опор","ШТ",0,0,0,11,11,{"$f":"ROUND(L40-M40,4)","v":0},{"$f":"ROUND(CP40,2)","v":0},{"$f":"SUMIF(SmtRes!AQ21:'SmtRes'!AQ25,\"=1\",SmtRes!DF21:'SmtRes'!DF25)","v":0},{"$f":"SUMIF(SmtRes!AQ21:'SmtRes'!AQ25,\"=1\",SmtRes!DG21:'SmtRes'!DG25)","v":0},{"$f":"SUMIF(SmtRes!AQ21:'SmtRes'!AQ25,\"=1\",SmtRes!DH21:'SmtRes'!DH25)","v":0},{"$f":"SUMIF(SmtRes!AQ21:'SmtRes'!AQ25,\"=1\",SmtRes!DI21:'SmtRes'!DI25)","v":0},{"$f":"ROUND(CU40*I40,2)","v":0},{"$f":"SUMIF(SmtRes!AQ21:'SmtRes'!AQ25,\"=1\",SmtRes!CV21:'SmtRes'!CV25)","v":0},{"$f":"SUMIF(SmtRes!AQ21:'SmtRes'!AQ25,\"=1\",SmtRes!CW21:'SmtRes'!CW25)","v":0},{"$f":"ROUND(CX40*I40,2)","v":0},{"$f":"ROUND(CY40,2)","v":0},{"$f":"ROUND(CZ40,2)","v":0},null,85312357,{"$f":"ROUND((AC40+AD40+AF40),2)","v":977.54},{"$f":"ROUND((0),2)","v":0},{"$f":"ROUND((((SUM(SmtRes!BR21:'SmtRes'!BR25))-(SUM(SmtRes!BS21:'SmtRes'!BS25)))+AE40),2)","v":612.89},{"$f":"ROUND((SUM(SmtRes!BS21:'SmtRes'!BS25)),2)","v":547.85},{"$f":"ROUND((SUM(SmtRes!BT21:'SmtRes'!BT25)),2)","v":364.65},{"$f":"ROUND((AP40),2)","v":0},{"$f":"(SUM(SmtRes!BU21:'SmtRes'!BU25))","v":0.52800000000000002},{"$f":"(SUM(SmtRes!BV21:'SmtRes'!BV25))","v":0.57599999999999996},{"$f":"(AS40)","v":0},1271.1543999999999,0,510.74159999999995,456.53999999999996,303.87279999999998,0,0.44,0.48,0,103,60,1,1,null,null,1,1,1,1,"","","","",0,1,"ГЭСН-2022, 33-04-016-02, приказ Минстроя России от 18.05.2022 г. № 378/пр",null,null,33001,0,"",0,2,0,1,1,1,1,1,1,"",103,60,"",null,null,0,0,0,1,0,0,0,0,0,"Поправка: 421/пр_2020_прил.10_т.1_п.4_гр.5 Наименование: Производство работ осуществляется в охранной зоне действующей воздушной линии электропередачи, вблизи объектов, находящихся под напряжением, внутри объектов капитального строительства, внутренняя проводка в которых не обесточена, если это приведет к ограничению действий рабочих в соответствии с требованиями техники безопасности",0,{"$f":"(P40+Q40+S40+R40)","v":0},{"$f":"SUMIF(SmtRes!AQ21:'SmtRes'!AQ25,\"=1\",SmtRes!AA21:'SmtRes'!AA25)","v":0},{"$f":"SUMIF(SmtRes!AQ21:'SmtRes'!AQ25,\"=1\",SmtRes!AB21:'SmtRes'!AB25)","v":2274.4699999999998},{"$f":"SUMIF(SmtRes!AQ21:'SmtRes'!AQ25,\"=1\",SmtRes!AC21:'SmtRes'!AC25)","v":1902.25},{"$f":"SUMIF(SmtRes!AQ21:'SmtRes'!AQ25,\"=1\",SmtRes!AD21:'SmtRes'!AD25)","v":690.62},{"$f":"AG40","v":0},{"$f":"SUMIF(SmtRes!AQ21:'SmtRes'!AQ25,\"=1\",SmtRes!BU21:'SmtRes'!BU25)","v":0.52800000000000002},{"$f":"SUMIF(SmtRes!AQ21:'SmtRes'!AQ25,\"=1\",SmtRes!BV21:'SmtRes'!BV25)","v":0.57599999999999996},{"$f":"AJ40","v":0},{"$f":"(((S40+R40)*AT40)/100)","v":0},{"$f":"(((S40+R40)*AU40)/100)","v":0},null,1,"","","*(0,2+1)","*(0,2+1)","*(0,2+1)","","*(0,2+1)","*(0,2+1)","","","",0,0,1,1,null,null,null,1013,"ШТ","ШТ",1,null,"","","","",null,83666879,2,"Общестроительные работы",27,"Линии электропередачи",1,33001,"Линии электропередачи","ФЕР-33",null,"Поправка: 421/пр_2020_прил.10_т.1_п.4_гр.5",null,131072,0,0,0,0,0,0.44,0.48,0,null,null,null,null,null,null,null,null,null,null,null,null,null,null,null,null,null,0,0,0,null,null,null,null,103,60,null,"",null,null,1,null,1316594094,2,1,-2,0,0,{"$f":"ROUND(IF(AND(BH40=3,BI40=3,FS40<>0),P40,0),2)","v":0},{"$f":"ROUND(O40+X40+Y40,2)+GX40","v":0},{"$f":"IF(OR(BI40=0,BI40=1),GM40-GX40,0)","v":0},{"$f":"IF(BI40=2,GM40-GX40,0)","v":0},{"$f":"IF(BI40=4,GM40-GX40,0)","v":0},null,0,3,0,"",{"$f":"ROUND((GT40),2)","v":0},1,{"$f":"ROUND(HC40*I40,2)","v":0},null,null,0,0,{"$f":"GV40*GW40","v":0},null,"","",null,null,null,null,null,null,"","Пр/812-027.0-1","Пр/774-027.0","Линии электропередачи","Линии электропередачи",null,0,null,null,null,null,null,null,null,null,null,null,null,null,null,null,null,null,null,0]
[17,1,{"$f":"ROW(SmtRes!A30)","v":30},{"$f":"ROW(EtalonRes!A30)","v":30},"1","33-04-016-02","Развозка конструкций и материалов опор ВЛ 0,38-10 кВ по трассе: одностоечных железобетонных опор","ШТ",0,0,0,11,11,{"$f":"ROUND(L41-M41,4)","v":0},{"$f":"ROUND(CP41,2)","v":0},{"$f":"SUMIF(SmtRes!AQ26:'SmtRes'!AQ30,\"=1\",SmtRes!DF26:'SmtRes'!DF30)","v":0},{"$f":"SUMIF(SmtRes!AQ26:'SmtRes'!AQ30,\"=1\",SmtRes!DG26:'SmtRes'!DG30)","v":0},{"$f":"SUMIF(SmtRes!AQ26:'SmtRes'!AQ30,\"=1\",SmtRes!DH26:'SmtRes'!DH30)","v":0},{"$f":"SUMIF(SmtRes!AQ26:'SmtRes'!AQ30,\"=1\",SmtRes!DI26:'SmtRes'!DI30)","v":0},{"$f":"ROUND(CU41*I41,2)","v":0},{"$f":"SUMIF(SmtRes!AQ26:'SmtRes'!AQ30,\"=1\",SmtRes!CV26:'SmtRes'!CV30)","v":0},{"$f":"SUMIF(SmtRes!AQ26:'SmtRes'!AQ30,\"=1\",SmtRes!CW26:'SmtRes'!CW30)","v":0},{"$f":"ROUND(CX41*I41,2)","v":0},{"$f":"ROUND(CY41,2)","v":0},{"$f":"ROUND(CZ41,2)","v":0},null,85312298,{"$f":"ROUND((AC41+AD41+AF41),2)","v":977.54},{"$f":"ROUND((0),2)","v":0},{"$f":"ROUND((((SUM(SmtRes!BR26:'SmtRes'!BR30))-(SUM(SmtRes!BS26:'SmtRes'!BS30)))+AE41),2)","v":612.89},{"$f":"ROUND((SUM(SmtRes!BS26:'SmtRes'!BS30)),2)","v":547.85},{"$f":"ROUND((SUM(SmtRes!BT26:'SmtRes'!BT30)),2)","v":364.65},{"$f":"ROUND((AP41),2)","v":0},{"$f":"(SUM(SmtRes!BU26:'SmtRes'!BU30))","v":0.52800000000000002},{"$f":"(SUM(SmtRes!BV26:'SmtRes'!BV30))","v":0.57599999999999996},{"$f":"(AS41)","v":0},1271.1543999999999,0,510.74159999999995,456.53999999999996,303.87279999999998,0,0.44,0.48,0,103,60,1,1,null,null,1,1,1,1,"","","","",0,1,"ГЭСН-2022, 33-04-016-02, приказ Минстроя России от 18.05.2022 г. № 378/пр",null,null,33001,0,"",0,2,0,1,1,1,1,1,1,"",103,60,"",null,null,0,0,0,1,0,0,0,0,0,"Поправка: 421/пр_2020_прил.10_т.1_п.4_гр.5 Наименование: Производство работ осуществляется в охранной зоне действующей воздушной линии электропередачи, вблизи объектов, находящихся под напряжением, внутри объектов капитального строительства, внутренняя проводка в которых не обесточена, если это приведет к ограничению действий рабочих в соответствии с требованиями техники безопасности",0,{"$f":"(P41+Q41+S41+R41)","v":0},{"$f":"SUMIF(SmtRes!AQ26:'SmtRes'!AQ30,\"=1\",SmtRes!AA26:'SmtRes'!AA30)","v":0},{"$f":"SUMIF(SmtRes!AQ26:'SmtRes'!AQ30,\"=1\",SmtRes!AB26:'SmtRes'!AB30)","v":2274.4699999999998},{"$f":"SUMIF(SmtRes!AQ26:'SmtRes'!AQ30,\"=1\",SmtRes!AC26:'SmtRes'!AC30)","v":1902.25},{"$f":"SUMIF(SmtRes!AQ26:'SmtRes'!AQ30,\"=1\",SmtRes!AD26:'SmtRes'!AD30)","v":690.62},{"$f":"AG41","v":0},{"$f":"SUMIF(SmtRes!AQ26:'SmtRes'!AQ30,\"=1\",SmtRes!BU26:'SmtRes'!BU30)","v":0.52800000000000002},{"$f":"SUMIF(SmtRes!AQ26:'SmtRes'!AQ30,\"=1\",SmtRes!BV26:'SmtRes'!BV30)","v":0.57599999999999996},{"$f":"AJ41","v":0},{"$f":"(((S41+R41)*AT41)/100)","v":0},{"$f":"(((S41+R41)*AU41)/100)","v":0},null,2,"","","*(0,2+1)","*(0,2+1)","*(0,2+1)","","*(0,2+1)","*(0,2+1)","","","",0,0,1,1,null,null,null,1013,"ШТ","ШТ",1,null,"","","","",null,83666879,2,"Общестроительные работы",27,"Линии электропередачи",1,33001,"Линии электропередачи","ФЕР-33",null,"Поправка: 421/пр_2020_прил.10_т.1_п.4_гр.5",null,131072,0,0,0,0,0,0.44,0.48,0,null,null,null,null,null,null,null,null,null,null,null,null,null,null,null,null,null,0,0,0,null,null,null,null,103,60,null,"",null,null,1,null,1316594094,2,1,-2,0,0,{"$f":"ROUND(IF(AND(BH41=3,BI41=3,FS41<>0),P41,0),2)","v":0},{"$f":"ROUND(O41+X41+Y41,2)+GX41","v":0},{"$f":"IF(OR(BI41=0,BI41=1),GM41-GX41,0)","v":0},{"$f":"IF(BI41=2,GM41-GX41,0)","v":0},{"$f":"IF(BI41=4,GM41-GX41,0)","v":0},null,0,3,0,"",{"$f":"ROUND((GT41),2)","v":0},1,{"$f":"ROUND(HC41*I41,2)","v":0},null,null,0,0,{"$f":"GV41*GW41","v":0},null,"","",null,null,null,null,null,null,"","Пр/812-027.0-1","Пр/774-027.0","Линии электропередачи","Линии электропередачи",null,0,null,null,null,null,null,null,null,null,null,null,null,null,null,null,null,null,null,0]
[19,1,null,null,null,"","По ВОР \"Развозка по трассе железобетонных стоек\"","",null,null,null,null,null,null,null,null,null,null,null,null,null,null,null,null,null,null,1,null,null,null,null,null,null,null,null,null,null,null,null,null,null,null,null,null,null,null,null,null,null,null,null,null,null,null,null,null,null,null,null,null,null,null,null,null,null,null,null,null,null,null,null,null,null,null,null,null,null,null,null,null,null,null,null,null,null,null,null,null,null,null,null,null,null,null,null,null,null,null,null,null,null,null,null,null,null,null,null,null,null,null,null,null,null,null,null,null,null,null,null,null,null,null,null,null,null,null,null,null,null,null,null,null,null,null,null,null,null,null,null,null,null,null,null,null,null,null,null,null,null,null,null,null,null,null,null,null,null,null,null,null,null,null,null,null,null,null,null,null,null,null,null,null,null,null,null,null,null,null,null,null,null,null,null,null,null,null,null,null,null,null,null,null,null,null,null,null,null,null,null,null,null,null,null,null,null,null,null,null,null,null,null,null,null,null,null,null,null,null,null,null,null,null,null,null,null,null,null,null,null,null,null,null,null,null,null,null,null,null,null,null,null,null,null,null,0]
[17,1,{"$f":"ROW(SmtRes!A35)","v":35},{"$f":"ROW(EtalonRes!A35)","v":35},"","33-04-016-04","Развозка конструкций и материалов опор ВЛ 0,38-10 кВ по трассе: приставок железобетонных","ШТ",0,0,0,1,1,{"$f":"ROUND(L43-M43,4)","v":0},{"$f":"ROUND(CP43,2)","v":0},{"$f":"SUMIF(SmtRes!AQ31:'SmtRes'!AQ35,\"=1\",SmtRes!DF31:'SmtRes'!DF35)","v":0},{"$f":"SUMIF(SmtRes!AQ31:'SmtRes'!AQ35,\"=1\",SmtRes!DG31:'SmtRes'!DG35)","v":0},{"$f":"SUMIF(SmtRes!AQ31:'SmtRes'!AQ35,\"=1\",SmtRes!DH31:'SmtRes'!DH35)","v":0},{"$f":"SUMIF(SmtRes!AQ31:'SmtRes'!AQ35,\"=1\",SmtRes!DI31:'SmtRes'!DI35)","v":0},{"$f":"ROUND(CU43*I43,2)","v":0},{"$f":"SUMIF(SmtRes!AQ31:'SmtRes'!AQ35,\"=1\",SmtRes!CV31:'SmtRes'!CV35)","v":0},{"$f":"SUMIF(SmtRes!AQ31:'SmtRes'!AQ35,\"=1\",SmtRes!CW31:'SmtRes'!CW35)","v":0},{"$f":"ROUND(CX43*I43,2)","v":0},{"$f":"ROUND(CY43,2)","v":0},{"$f":"ROUND(CZ43,2)","v":0},null,-1,{"$f":"ROUND((AC43+AD43+AF43),2)","v":751.33},{"$f":"ROUND((0),2)","v":0},{"$f":"ROUND((((SUM(SmtRes!BR31:'SmtRes'!BR35))-(SUM(SmtRes!BS31:'SmtRes'!BS35)))+AE43),2)","v":468.18},{"$f":"ROUND((SUM(SmtRes!BS31:'SmtRes'!BS35)),2)","v":418.5},{"$f":"ROUND((SUM(SmtRes!BT31:'SmtRes'!BT35)),2)","v":283.14999999999998},{"$f":"ROUND((AP43),2)","v":0},{"$f":"(SUM(SmtRes!BU31:'SmtRes'!BU35))","v":0.41},{"$f":"(SUM(SmtRes!BV31:'SmtRes'!BV35))","v":0.44},{"$f":"(AS43)","v":0},1169.8290000000002,0,468.1798,418.495,283.1542,0,0.41,0.44,0,103,60,1,1,null,null,1,1,1,1,"","","","",0,1,"ГЭСН-2022, 33-04-016-04, приказ Минстроя России от 18.05.2022 г. № 378/пр",null,null,33001,0,"",0,2,0,1,1,1,1,1,1,"",103,60,"",null,null,0,0,0,0,0,0,0,0,0,"",0,{"$f":"(P43+Q43+S43+R43)","v":0},{"$f":"SUMIF(SmtRes!AQ31:'SmtRes'!AQ35,\"=1\",SmtRes!AA31:'SmtRes'!AA35)","v":0},{"$f":"SUMIF(SmtRes!AQ31:'SmtRes'!AQ35,\"=1\",SmtRes!AB31:'SmtRes'!AB35)","v":2274.4699999999998},{"$f":"SUMIF(SmtRes!AQ31:'SmtRes'!AQ35,\"=1\",SmtRes!AC31:'SmtRes'!AC35)","v":1902.25},{"$f":"SUMIF(SmtRes!AQ31:'SmtRes'!AQ35,\"=1\",SmtRes!AD31:'SmtRes'!AD35)","v":690.62},{"$f":"AG43","v":0},{"$f":"SUMIF(SmtRes!AQ31:'SmtRes'!AQ35,\"=1\",SmtRes!BU31:'SmtRes'!BU35)","v":0.41},{"$f":"SUMIF(SmtRes!AQ31:'SmtRes'!AQ35,\"=1\",SmtRes!BV31:'SmtRes'!BV35)","v":0.44},{"$f":"AJ43","v":0},{"$f":"(((S43+R43)*AT43)/100)","v":0},{"$f":"(((S43+R43)*AU43)/100)","v":0},null,null,"","","","","","","","","","","",0,0,1,1,null,null,null,1013,"ШТ","ШТ",1,null,"","","","",null,83666879,2,"Общестроительные работы",27,"Линии электропередачи",1,33001,"Линии электропередачи","ФЕР-33",null,"",null,132096,0,0,0,0,0,0.41,0.44,0,null,null,null,null,null,null,null,null,null,null,null,null,null,null,null,null,null,0,0,0,null,null,null,null,103,60,null,"",null,null,1,null,116903011,2,1,-2,0,0,{"$f":"ROUND(IF(AND(BH43=3,BI43=3,FS43<>0),P43,0),2)","v":0},{"$f":"ROUND(O43+X43+Y43,2)+GX43","v":0},{"$f":"IF(OR(BI43=0,BI43=1),GM43-GX43,0)","v":0},{"$f":"IF(BI43=2,GM43-GX43,0)","v":0},{"$f":"IF(BI43=4,GM43-GX43,0)","v":0},null,0,0,0,"",{"$f":"ROUND((GT43),2)","v":0},1,{"$f":"ROUND(HC43*I43,2)","v":0},null,null,0,0,{"$f":"GV43*GW43","v":0},null,"","",null,null,null,null,null,null,"","Пр/812-027.0-1","Пр/774-027.0","Линии электропередачи","Линии электропередачи",null,0,null,null,null,null,null,null,null,null,null,null,null,null,null,null,null,null,null,0]
[17,1,{"$f":"ROW(SmtRes!A40)","v":40},{"$f":"ROW(EtalonRes!A40)","v":40},"","33-04-016-04","Развозка конструкций и материалов опор ВЛ 0,38-10 кВ по трассе: приставок железобетонных","ШТ",0,0,0,1,1,{"$f":"ROUND(L44-M44,4)","v":0},{"$f":"ROUND(CP44,2)","v":0},{"$f":"SUMIF(SmtRes!AQ36:'SmtRes'!AQ40,\"=1\",SmtRes!DF36:'SmtRes'!DF40)","v":0},{"$f":"SUMIF(SmtRes!AQ36:'SmtRes'!AQ40,\"=1\",SmtRes!DG36:'SmtRes'!DG40)","v":0},{"$f":"SUMIF(SmtRes!AQ36:'SmtRes'!AQ40,\"=1\",SmtRes!DH36:'SmtRes'!DH40)","v":0},{"$f":"SUMIF(SmtRes!AQ36:'SmtRes'!AQ40,\"=1\",SmtRes!DI36:'SmtRes'!DI40)","v":0},{"$f":"ROUND(CU44*I44,2)","v":0},{"$f":"SUMIF(SmtRes!AQ36:'SmtRes'!AQ40,\"=1\",SmtRes!CV36:'SmtRes'!CV40)","v":0},{"$f":"SUMIF(SmtRes!AQ36:'SmtRes'!AQ40,\"=1\",SmtRes!CW36:'SmtRes'!CW40)","v":0},{"$f":"ROUND(CX44*I44,2)","v":0},{"$f":"ROUND(CY44,2)","v":0},{"$f":"ROUND(CZ44,2)","v":0},null,-1,{"$f":"ROUND((AC44+AD44+AF44),2)","v":751.33},{"$f":"ROUND((0),2)","v":0},{"$f":"ROUND((((SUM(SmtRes!BR36:'SmtRes'!BR40))-(SUM(SmtRes!BS36:'SmtRes'!BS40)))+AE44),2)","v":468.18},{"$f":"ROUND((SUM(SmtRes!BS36:'SmtRes'!BS40)),2)","v":418.5},{"$f":"ROUND((SUM(SmtRes!BT36:'SmtRes'!BT40)),2)","v":283.14999999999998},{"$f":"ROUND((AP44),2)","v":0},{"$f":"(SUM(SmtRes!BU36:'SmtRes'!BU40))","v":0.41},{"$f":"(SUM(SmtRes!BV36:'SmtRes'!BV40))","v":0.44},{"$f":"(AS44)","v":0},1169.8290000000002,0,468.1798,418.495,283.1542,0,0.41,0.44,0,103,60,1,1,null,null,1,1,1,1,"","","","",0,1,"ГЭСН-2022, 33-04-016-04, приказ Минстроя России от 18.05.2022 г. № 378/пр",null,null,33001,0,"",0,2,0,1,1,1,1,1,1,"",103,60,"",null,null,0,0,0,0,0,0,0,0,0,"",0,{"$f":"(P44+Q44+S44+R44)","v":0},{"$f":"SUMIF(SmtRes!AQ36:'SmtRes'!AQ40,\"=1\",SmtRes!AA36:'SmtRes'!AA40)","v":0},{"$f":"SUMIF(SmtRes!AQ36:'SmtRes'!AQ40,\"=1\",SmtRes!AB36:'SmtRes'!AB40)","v":2274.4699999999998},{"$f":"SUMIF(SmtRes!AQ36:'SmtRes'!AQ40,\"=1\",SmtRes!AC36:'SmtRes'!AC40)","v":1902.25},{"$f":"SUMIF(SmtRes!AQ36:'SmtRes'!AQ40,\"=1\",SmtRes!AD36:'SmtRes'!AD40)","v":690.62},{"$f":"AG44","v":0},{"$f":"SUMIF(SmtRes!AQ36:'SmtRes'!AQ40,\"=1\",SmtRes!BU36:'SmtRes'!BU40)","v":0.41},{"$f":"SUMIF(SmtRes!AQ36:'SmtRes'!AQ40,\"=1\",SmtRes!BV36:'SmtRes'!BV40)","v":0.44},{"$f":"AJ44","v":0},{"$f":"(((S44+R44)*AT44)/100)","v":0},{"$f":"(((S44+R44)*AU44)/100)","v":0},null,null,"","","","","","","","","","","",0,0,1,1,null,null,null,1013,"ШТ","ШТ",1,null,"","","","",null,83666879,2,"Общестроительные работы",27,"Линии электропередачи",1,33001,"Линии электропередачи","ФЕР-33",null,"",null,132096,0,0,0,0,0,0.41,0.44,0,null,null,null,null,null,null,null,null,null,null,null,null,null,null,null,null,null,0,0,0,null,null,null,null,103,60,null,"",null,null,1,null,116903011,2,1,-2,0,0,{"$f":"ROUND(IF(AND(BH44=3,BI44=3,FS44<>0),P44,0),2)","v":0},{"$f":"ROUND(O44+X44+Y44,2)+GX44","v":0},{"$f":"IF(OR(BI44=0,BI44=1),GM44-GX44,0)","v":0},{"$f":"IF(BI44=2,GM44-GX44,0)","v":0},{"$f":"IF(BI44=4,GM44-GX44,0)","v":0},null,0,0,0,"",{"$f":"ROUND((GT44),2)","v":0},1,{"$f":"ROUND(HC44*I44,2)","v":0},null,null,0,0,{"$f":"GV44*GW44","v":0},null,"","",null,null,null,null,null,null,"","Пр/812-027.0-1","Пр/774-027.0","Линии электропередачи","Линии электропередачи",null,0,null,null,null,null,null,null,null,null,null,null,null,null,null,null,null,null,null,0]
[19,1,null,null,null,"","По ВОР \"Развозка по трассе железобетонных приставок\"","",null,null,null,null,null,null,null,null,null,null,null,null,null,null,null,null,null,null,1,null,null,null,null,null,null,null,null,null,null,null,null,null,null,null,null,null,null,null,null,null,null,null,null,null,null,null,null,null,null,null,null,null,null,null,null,null,null,null,null,null,null,null,null,null,null,null,null,null,null,null,null,null,null,null,null,null,null,null,null,null,null,null,null,null,null,null,null,null,null,null,null,null,null,null,null,null,null,null,null,null,null,null,null,null,null,null,null,null,null,null,null,null,null,null,null,null,null,null,null,null,null,null,null,null,null,null,null,null,null,null,null,null,null,null,null,null,null,null,null,null,null,null,null,null,null,null,null,null,null,null,null,null,null,null,null,null,null,null,null,null,null,null,null,null,null,null,null,null,null,null,null,null,null,null,null,null,null,null,null,null,null,null,null,null,null,null,null,null,null,null,null,null,null,null,null,null,null,null,null,null,null,null,null,null,null,null,null,null,null,null,null,null,null,null,null,null,null,null,null,null,null,null,null,null,null,null,null,null,null,null,null,null,null,null,null,null,0]
[17,1,{"$f":"ROW(SmtRes!A44)","v":44},{"$f":"ROW(EtalonRes!A44)","v":44},"2","33-04-016-05","Развозка конструкций и материалов опор ВЛ 0,38-10 кВ по трассе: материалов оснастки одностоечных опор","ШТ",0,0,0,3,3,{"$f":"ROUND(L46-M46,4)","v":0},{"$f":"ROUND(CP46,2)","v":0},{"$f":"SUMIF(SmtRes!AQ41:'SmtRes'!AQ44,\"=1\",SmtRes!DF41:'SmtRes'!DF44)","v":0},{"$f":"SUMIF(SmtRes!AQ41:'SmtRes'!AQ44,\"=1\",SmtRes!DG41:'SmtRes'!DG44)","v":0},{"$f":"SUMIF(SmtRes!AQ41:'SmtRes'!AQ44,\"=1\",SmtRes!DH41:'SmtRes'!DH44)","v":0},{"$f":"SUMIF(SmtRes!AQ41:'SmtRes'!AQ44,\"=1\",SmtRes!DI41:'SmtRes'!DI44)","v":0},{"$f":"ROUND(CU46*I46,2)","v":0},{"$f":"SUMIF(SmtRes!AQ41:'SmtRes'!AQ44,\"=1\",SmtRes!CV41:'SmtRes'!CV44)","v":0},{"$f":"SUMIF(SmtRes!AQ41:'SmtRes'!AQ44,\"=1\",SmtRes!CW41:'SmtRes'!CW44)","v":0},{"$f":"ROUND(CX46*I46,2)","v":0},{"$f":"ROUND(CY46,2)","v":0},{"$f":"ROUND(CZ46,2)","v":0},null,85312357,{"$f":"ROUND((AC46+AD46+AF46),2)","v":291.49},{"$f":"ROUND((0),2)","v":0},{"$f":"ROUND((((SUM(SmtRes!BR41:'SmtRes'!BR44))-(SUM(SmtRes!BS41:'SmtRes'!BS44)))+AE46),2)","v":84.3},{"$f":"ROUND((SUM(SmtRes!BS41:'SmtRes'!BS44)),2)","v":136.38},{"$f":"ROUND((SUM(SmtRes!BT41:'SmtRes'!BT44)),2)","v":207.19},{"$f":"ROUND((AP46),2)","v":0},{"$f":"(SUM(SmtRes!BU41:'SmtRes'!BU44))","v":0.3},{"$f":"(SUM(SmtRes!BV41:'SmtRes'!BV44))","v":0.16800000000000001},{"$f":"(AS46)","v":0},356.55760000000004,0,70.25200000000001,113.65060000000001,172.655,0,0.25,0.14000000000000001,0,103,60,1,1,null,null,1,1,1,1,"","","","",0,1,"ГЭСН-2022, 33-04-016-05, приказ Минстроя России от 18.05.2022 г. № 378/пр",null,null,33001,0,"",0,2,0,1,1,1,1,1,1,"",103,60,"",null,null,0,0,0,2,0,0,0,0,0,"Поправка: 421/пр_2020_прил.10_т.1_п.4_гр.5 Наименование: Производство работ осуществляется в охранной зоне действующей воздушной линии электропередачи, вблизи объектов, находящихся под напряжением, внутри объектов капитального строительства, внутренняя проводка в которых не обесточена, если это приведет к ограничению действий рабочих в соответствии с требованиями техники безопасности",0,{"$f":"(P46+Q46+S46+R46)","v":0},{"$f":"SUMIF(SmtRes!AQ41:'SmtRes'!AQ44,\"=1\",SmtRes!AA41:'SmtRes'!AA44)","v":0},{"$f":"SUMIF(SmtRes!AQ41:'SmtRes'!AQ44,\"=1\",SmtRes!AB41:'SmtRes'!AB44)","v":648.18000000000006},{"$f":"SUMIF(SmtRes!AQ41:'SmtRes'!AQ44,\"=1\",SmtRes!AC41:'SmtRes'!AC44)","v":811.79},{"$f":"SUMIF(SmtRes!AQ41:'SmtRes'!AQ44,\"=1\",SmtRes!AD41:'SmtRes'!AD44)","v":690.62},{"$f":"AG46","v":0},{"$f":"SUMIF(SmtRes!AQ41:'SmtRes'!AQ44,\"=1\",SmtRes!BU41:'SmtRes'!BU44)","v":0.3},{"$f":"SUMIF(SmtRes!AQ41:'SmtRes'!AQ44,\"=1\",SmtRes!BV41:'SmtRes'!BV44)","v":0.16800000000000001},{"$f":"AJ46","v":0},{"$f":"(((S46+R46)*AT46)/100)","v":0},{"$f":"(((S46+R46)*AU46)/100)","v":0},null,3,"","","*(0,2+1)","*(0,2+1)","*(0,2+1)","","*(0,2+1)","*(0,2+1)","","","",0,0,1,1,null,null,null,1013,"ШТ","ШТ",1,null,"","","","",null,83666879,2,"Общестроительные работы",27,"Линии электропередачи",1,33001,"Линии электропередачи","ФЕР-33",null,"Поправка: 421/пр_2020_прил.10_т.1_п.4_гр.5",null,131072,0,0,0,0,0,0.25,0.14000000000000001,0,null,null,null,null,null,null,null,null,null,null,null,null,null,null,null,null,null,0,0,0,null,null,null,null,103,60,null,"",null,null,1,null,-718096970,2,1,-2,0,0,{"$f":"ROUND(IF(AND(BH46=3,BI46=3,FS46<>0),P46,0),2)","v":0},{"$f":"ROUND(O46+X46+Y46,2)+GX46","v":0},{"$f":"IF(OR(BI46=0,BI46=1),GM46-GX46,0)","v":0},{"$f":"IF(BI46=2,GM46-GX46,0)","v":0},{"$f":"IF(BI46=4,GM46-GX46,0)","v":0},null,0,3,0,"",{"$f":"ROUND((GT46),2)","v":0},1,{"$f":"ROUND(HC46*I46,2)","v":0},null,null,0,0,{"$f":"GV46*GW46","v":0},null,"","",null,null,null,null,null,null,"","Пр/812-027.0-1","Пр/774-027.0","Линии электропередачи","Линии электропередачи",null,0,null,null,null,null,null,null,null,null,null,null,null,null,null,null,null,null,null,0]
[17,1,{"$f":"ROW(SmtRes!A48)","v":48},{"$f":"ROW(EtalonRes!A48)","v":48},"2","33-04-016-05","Развозка конструкций и материалов опор ВЛ 0,38-10 кВ по трассе: материалов оснастки одностоечных опор","ШТ",0,0,0,3,3,{"$f":"ROUND(L47-M47,4)","v":0},{"$f":"ROUND(CP47,2)","v":0},{"$f":"SUMIF(SmtRes!AQ45:'SmtRes'!AQ48,\"=1\",SmtRes!DF45:'SmtRes'!DF48)","v":0},{"$f":"SUMIF(SmtRes!AQ45:'SmtRes'!AQ48,\"=1\",SmtRes!DG45:'SmtRes'!DG48)","v":0},{"$f":"SUMIF(SmtRes!AQ45:'SmtRes'!AQ48,\"=1\",SmtRes!DH45:'SmtRes'!DH48)","v":0},{"$f":"SUMIF(SmtRes!AQ45:'SmtRes'!AQ48,\"=1\",SmtRes!DI45:'SmtRes'!DI48)","v":0},{"$f":"ROUND(CU47*I47,2)","v":0},{"$f":"SUMIF(SmtRes!AQ45:'SmtRes'!AQ48,\"=1\",SmtRes!CV45:'SmtRes'!CV48)","v":0},{"$f":"SUMIF(SmtRes!AQ45:'SmtRes'!AQ48,\"=1\",SmtRes!CW45:'SmtRes'!CW48)","v":0},{"$f":"ROUND(CX47*I47,2)","v":0},{"$f":"ROUND(CY47,2)","v":0},{"$f":"ROUND(CZ47,2)","v":0},null,85312298,{"$f":"ROUND((AC47+AD47+AF47),2)","v":291.49},{"$f":"ROUND((0),2)","v":0},{"$f":"ROUND((((SUM(SmtRes!BR45:'SmtRes'!BR48))-(SUM(SmtRes!BS45:'SmtRes'!BS48)))+AE47),2)","v":84.3},{"$f":"ROUND((SUM(SmtRes!BS45:'SmtRes'!BS48)),2)","v":136.38},{"$f":"ROUND((SUM(SmtRes!BT45:'SmtRes'!BT48)),2)","v":207.19},{"$f":"ROUND((AP47),2)","v":0},{"$f":"(SUM(SmtRes!BU45:'SmtRes'!BU48))","v":0.3},{"$f":"(SUM(SmtRes!BV45:'SmtRes'!BV48))","v":0.16800000000000001},{"$f":"(AS47)","v":0},356.55760000000004,0,70.25200000000001,113.65060000000001,172.655,0,0.25,0.14000000000000001,0,103,60,1,1,null,null,1,1,1,1,"","","","",0,1,"ГЭСН-2022, 33-04-016-05, приказ Минстроя России от 18.05.2022 г. № 378/пр",null,null,33001,0,"",0,2,0,1,1,1,1,1,1,"",103,60,"",null,null,0,0,0,2,0,0,0,0,0,"Поправка: 421/пр_2020_прил.10_т.1_п.4_гр.5 Наименование: Производство работ осуществляется в охранной зоне действующей воздушной линии электропередачи, вблизи объектов, находящихся под напряжением, внутри объектов капитального строительства, внутренняя проводка в которых не обесточена, если это приведет к ограничению действий рабочих в соответствии с требованиями техники безопасности",0,{"$f":"(P47+Q47+S47+R47)","v":0},{"$f":"SUMIF(SmtRes!AQ45:'SmtRes'!AQ48,\"=1\",SmtRes!AA45:'SmtRes'!AA48)","v":0},{"$f":"SUMIF(SmtRes!AQ45:'SmtRes'!AQ48,\"=1\",SmtRes!AB45:'SmtRes'!AB48)","v":648.18000000000006},{"$f":"SUMIF(SmtRes!AQ45:'SmtRes'!AQ48,\"=1\",SmtRes!AC45:'SmtRes'!AC48)","v":811.79},{"$f":"SUMIF(SmtRes!AQ45:'SmtRes'!AQ48,\"=1\",SmtRes!AD45:'SmtRes'!AD48)","v":690.62},{"$f":"AG47","v":0},{"$f":"SUMIF(SmtRes!AQ45:'SmtRes'!AQ48,\"=1\",SmtRes!BU45:'SmtRes'!BU48)","v":0.3},{"$f":"SUMIF(SmtRes!AQ45:'SmtRes'!AQ48,\"=1\",SmtRes!BV45:'SmtRes'!BV48)","v":0.16800000000000001},{"$f":"AJ47","v":0},{"$f":"(((S47+R47)*AT47)/100)","v":0},{"$f":"(((S47+R47)*AU47)/100)","v":0},null,4,"","","*(0,2+1)","*(0,2+1)","*(0,2+1)","","*(0,2+1)","*(0,2+1)","","","",0,0,1,1,null,null,null,1013,"ШТ","ШТ",1,null,"","","","",null,83666879,2,"Общестроительные работы",27,"Линии электропередачи",1,33001,"Линии электропередачи","ФЕР-33",null,"Поправка: 421/пр_2020_прил.10_т.1_п.4_гр.5",null,131072,0,0,0,0,0,0.25,0.14000000000000001,0,null,null,null,null,null,null,null,null,null,null,null,null,null,null,null,null,null,0,0,0,null,null,null,null,103,60,null,"",null,null,1,null,-718096970,2,1,-2,0,0,{"$f":"ROUND(IF(AND(BH47=3,BI47=3,FS47<>0),P47,0),2)","v":0},{"$f":"ROUND(O47+X47+Y47,2)+GX47","v":0},{"$f":"IF(OR(BI47=0,BI47=1),GM47-GX47,0)","v":0},{"$f":"IF(BI47=2,GM47-GX47,0)","v":0},{"$f":"IF(BI47=4,GM47-GX47,0)","v":0},null,0,3,0,"",{"$f":"ROUND((GT47),2)","v":0},1,{"$f":"ROUND(HC47*I47,2)","v":0},null,null,0,0,{"$f":"GV47*GW47","v":0},null,"","",null,null,null,null,null,null,"","Пр/812-027.0-1","Пр/774-027.0","Линии электропередачи","Линии электропередачи",null,0,null,null,null,null,null,null,null,null,null,null,null,null,null,null,null,null,null,0]
[19,1,null,null,null,"","По ВОР \"Развозка по трассе конструкций и материалов оснастки одностоечных опор\"","",null,null,null,null,null,null,null,null,null,null,null,null,null,null,null,null,null,null,1,null,null,null,null,null,null,null,null,null,null,null,null,null,null,null,null,null,null,null,null,null,null,null,null,null,null,null,null,null,null,null,null,null,null,null,null,null,null,null,null,null,null,null,null,null,null,null,null,null,null,null,null,null,null,null,null,null,null,null,null,null,null,null,null,null,null,null,null,null,null,null,null,null,null,null,null,null,null,null,null,null,null,null,null,null,null,null,null,null,null,null,null,null,null,null,null,null,null,null,null,null,null,null,null,null,null,null,null,null,null,null,null,null,null,null,null,null,null,null,null,null,null,null,null,null,null,null,null,null,null,null,null,null,null,null,null,null,null,null,null,null,null,null,null,null,null,null,null,null,null,null,null,null,null,null,null,null,null,null,null,null,null,null,null,null,null,null,null,null,null,null,null,null,null,null,null,null,null,null,null,null,null,null,null,null,null,null,null,null,null,null,null,null,null,null,null,null,null,null,null,null,null,null,null,null,null,null,null,null,null,null,null,null,null,null,null,null,0]
[17,1,{"$f":"ROW(SmtRes!A52)","v":52},{"$f":"ROW(EtalonRes!A52)","v":52},"3","33-04-016-06","Развозка конструкций и материалов опор ВЛ 0,38-10 кВ по трассе: материалов оснастки сложных опор","ШТ",0,0,0,4,4,{"$f":"ROUND(L49-M49,4)","v":0},{"$f":"ROUND(CP49,2)","v":0},{"$f":"SUMIF(SmtRes!AQ49:'SmtRes'!AQ52,\"=1\",SmtRes!DF49:'SmtRes'!DF52)","v":0},{"$f":"SUMIF(SmtRes!AQ49:'SmtRes'!AQ52,\"=1\",SmtRes!DG49:'SmtRes'!DG52)","v":0},{"$f":"SUMIF(SmtRes!AQ49:'SmtRes'!AQ52,\"=1\",SmtRes!DH49:'SmtRes'!DH52)","v":0},{"$f":"SUMIF(SmtRes!AQ49:'SmtRes'!AQ52,\"=1\",SmtRes!DI49:'SmtRes'!DI52)","v":0},{"$f":"ROUND(CU49*I49,2)","v":0},{"$f":"SUMIF(SmtRes!AQ49:'SmtRes'!AQ52,\"=1\",SmtRes!CV49:'SmtRes'!CV52)","v":0},{"$f":"SUMIF(SmtRes!AQ49:'SmtRes'!AQ52,\"=1\",SmtRes!CW49:'SmtRes'!CW52)","v":0},{"$f":"ROUND(CX49*I49,2)","v":0},{"$f":"ROUND(CY49,2)","v":0},{"$f":"ROUND(CZ49,2)","v":0},null,85312357,{"$f":"ROUND((AC49+AD49+AF49),2)","v":344.96},{"$f":"ROUND((0),2)","v":0},{"$f":"ROUND((((SUM(SmtRes!BR49:'SmtRes'!BR52))-(SUM(SmtRes!BS49:'SmtRes'!BS52)))+AE49),2)","v":96.34},{"$f":"ROUND((SUM(SmtRes!BS49:'SmtRes'!BS52)),2)","v":155.86000000000001},{"$f":"ROUND((SUM(SmtRes!BT49:'SmtRes'!BT52)),2)","v":248.62},{"$f":"ROUND((AP49),2)","v":0},{"$f":"(SUM(SmtRes!BU49:'SmtRes'!BU52))","v":0.36},{"$f":"(SUM(SmtRes!BV49:'SmtRes'!BV52))","v":0.192},{"$f":"(AS49)","v":0},417.36040000000003,0,80.288000000000011,129.88640000000001,207.18600000000001,0,0.3,0.16,0,103,60,1,1,null,null,1,1,1,1,"","","","",0,1,"ГЭСН-2022, 33-04-016-06, приказ Минстроя России от 18.05.2022 г. № 378/пр",null,null,33001,0,"",0,2,0,1,1,1,1,1,1,"",103,60,"",null,null,0,0,0,3,0,0,0,0,0,"Поправка: 421/пр_2020_прил.10_т.1_п.4_гр.5 Наименование: Производство работ осуществляется в охранной зоне действующей воздушной линии электропередачи, вблизи объектов, находящихся под напряжением, внутри объектов капитального строительства, внутренняя проводка в которых не обесточена, если это приведет к ограничению действий рабочих в соответствии с требованиями техники безопасности",0,{"$f":"(P49+Q49+S49+R49)","v":0},{"$f":"SUMIF(SmtRes!AQ49:'SmtRes'!AQ52,\"=1\",SmtRes!AA49:'SmtRes'!AA52)","v":0},{"$f":"SUMIF(SmtRes!AQ49:'SmtRes'!AQ52,\"=1\",SmtRes!AB49:'SmtRes'!AB52)","v":648.18000000000006},{"$f":"SUMIF(SmtRes!AQ49:'SmtRes'!AQ52,\"=1\",SmtRes!AC49:'SmtRes'!AC52)","v":811.79},{"$f":"SUMIF(SmtRes!AQ49:'SmtRes'!AQ52,\"=1\",SmtRes!AD49:'SmtRes'!AD52)","v":690.62},{"$f":"AG49","v":0},{"$f":"SUMIF(SmtRes!AQ49:'SmtRes'!AQ52,\"=1\",SmtRes!BU49:'SmtRes'!BU52)","v":0.36},{"$f":"SUMIF(SmtRes!AQ49:'SmtRes'!AQ52,\"=1\",SmtRes!BV49:'SmtRes'!BV52)","v":0.192},{"$f":"AJ49","v":0},{"$f":"(((S49+R49)*AT49)/100)","v":0},{"$f":"(((S49+R49)*AU49)/100)","v":0},null,5,"","","*(0,2+1)","*(0,2+1)","*(0,2+1)","","*(0,2+1)","*(0,2+1)","","","",0,0,1,1,null,null,null,1013,"ШТ","ШТ",1,null,"","","","",null,83666879,2,"Общестроительные работы",27,"Линии электропередачи",1,33001,"Линии электропередачи","ФЕР-33",null,"Поправка: 421/пр_2020_прил.10_т.1_п.4_гр.5",null,131072,0,0,0,0,0,0.3,0.16,0,null,null,null,null,null,null,null,null,null,null,null,null,null,null,null,null,null,0,0,0,null,null,null,null,103,60,null,"",null,null,1,null,-859650132,2,1,-2,0,0,{"$f":"ROUND(IF(AND(BH49=3,BI49=3,FS49<>0),P49,0),2)","v":0},{"$f":"ROUND(O49+X49+Y49,2)+GX49","v":0},{"$f":"IF(OR(BI49=0,BI49=1),GM49-GX49,0)","v":0},{"$f":"IF(BI49=2,GM49-GX49,0)","v":0},{"$f":"IF(BI49=4,GM49-GX49,0)","v":0},null,0,3,0,"",{"$f":"ROUND((GT49),2)","v":0},1,{"$f":"ROUND(HC49*I49,2)","v":0},null,null,0,0,{"$f":"GV49*GW49","v":0},null,"","",null,null,null,null,null,null,"","Пр/812-027.0-1","Пр/774-027.0","Линии электропередачи","Линии электропередачи",null,0,null,null,null,null,null,null,null,null,null,null,null,null,null,null,null,null,null,0]
[17,1,{"$f":"ROW(SmtRes!A56)","v":56},{"$f":"ROW(EtalonRes!A56)","v":56},"3","33-04-016-06","Развозка конструкций и материалов опор ВЛ 0,38-10 кВ по трассе: материалов оснастки сложных опор","ШТ",0,0,0,4,4,{"$f":"ROUND(L50-M50,4)","v":0},{"$f":"ROUND(CP50,2)","v":0},{"$f":"SUMIF(SmtRes!AQ53:'SmtRes'!AQ56,\"=1\",SmtRes!DF53:'SmtRes'!DF56)","v":0},{"$f":"SUMIF(SmtRes!AQ53:'SmtRes'!AQ56,\"=1\",SmtRes!DG53:'SmtRes'!DG56)","v":0},{"$f":"SUMIF(SmtRes!AQ53:'SmtRes'!AQ56,\"=1\",SmtRes!DH53:'SmtRes'!DH56)","v":0},{"$f":"SUMIF(SmtRes!AQ53:'SmtRes'!AQ56,\"=1\",SmtRes!DI53:'SmtRes'!DI56)","v":0},{"$f":"ROUND(CU50*I50,2)","v":0},{"$f":"SUMIF(SmtRes!AQ53:'SmtRes'!AQ56,\"=1\",SmtRes!CV53:'SmtRes'!CV56)","v":0},{"$f":"SUMIF(SmtRes!AQ53:'SmtRes'!AQ56,\"=1\",SmtRes!CW53:'SmtRes'!CW56)","v":0},{"$f":"ROUND(CX50*I50,2)","v":0},{"$f":"ROUND(CY50,2)","v":0},{"$f":"ROUND(CZ50,2)","v":0},null,85312298,{"$f":"ROUND((AC50+AD50+AF50),2)","v":344.96},{"$f":"ROUND((0),2)","v":0},{"$f":"ROUND((((SUM(SmtRes!BR53:'SmtRes'!BR56))-(SUM(SmtRes!BS53:'SmtRes'!BS56)))+AE50),2)","v":96.34},{"$f":"ROUND((SUM(SmtRes!BS53:'SmtRes'!BS56)),2)","v":155.86000000000001},{"$f":"ROUND((SUM(SmtRes!BT53:'SmtRes'!BT56)),2)","v":248.62},{"$f":"ROUND((AP50),2)","v":0},{"$f":"(SUM(SmtRes!BU53:'SmtRes'!BU56))","v":0.36},{"$f":"(SUM(SmtRes!BV53:'SmtRes'!BV56))","v":0.192},{"$f":"(AS50)","v":0},417.36040000000003,0,80.288000000000011,129.88640000000001,207.18600000000001,0,0.3,0.16,0,103,60,1,1,null,null,1,1,1,1,"","","","",0,1,"ГЭСН-2022, 33-04-016-06, приказ Минстроя России от 18.05.2022 г. № 378/пр",null,null,33001,0,"",0,2,0,1,1,1,1,1,1,"",103,60,"",null,null,0,0,0,3,0,0,0,0,0,"Поправка: 421/пр_2020_прил.10_т.1_п.4_гр.5 Наименование: Производство работ осуществляется в охранной зоне действующей воздушной линии электропередачи, вблизи объектов, находящихся под напряжением, внутри объектов капитального строительства, внутренняя проводка в которых не обесточена, если это приведет к ограничению действий рабочих в соответствии с требованиями техники безопасности",0,{"$f":"(P50+Q50+S50+R50)","v":0},{"$f":"SUMIF(SmtRes!AQ53:'SmtRes'!AQ56,\"=1\",SmtRes!AA53:'SmtRes'!AA56)","v":0},{"$f":"SUMIF(SmtRes!AQ53:'SmtRes'!AQ56,\"=1\",SmtRes!AB53:'SmtRes'!AB56)","v":648.18000000000006},{"$f":"SUMIF(SmtRes!AQ53:'SmtRes'!AQ56,\"=1\",SmtRes!AC53:'SmtRes'!AC56)","v":811.79},{"$f":"SUMIF(SmtRes!AQ53:'SmtRes'!AQ56,\"=1\",SmtRes!AD53:'SmtRes'!AD56)","v":690.62},{"$f":"AG50","v":0},{"$f":"SUMIF(SmtRes!AQ53:'SmtRes'!AQ56,\"=1\",SmtRes!BU53:'SmtRes'!BU56)","v":0.36},{"$f":"SUMIF(SmtRes!AQ53:'SmtRes'!AQ56,\"=1\",SmtRes!BV53:'SmtRes'!BV56)","v":0.192},{"$f":"AJ50","v":0},{"$f":"(((S50+R50)*AT50)/100)","v":0},{"$f":"(((S50+R50)*AU50)/100)","v":0},null,6,"","","*(0,2+1)","*(0,2+1)","*(0,2+1)","","*(0,2+1)","*(0,2+1)","","","",0,0,1,1,null,null,null,1013,"ШТ","ШТ",1,null,"","","","",null,83666879,2,"Общестроительные работы",27,"Линии электропередачи",1,33001,"Линии электропередачи","ФЕР-33",null,"Поправка: 421/пр_2020_прил.10_т.1_п.4_гр.5",null,131072,0,0,0,0,0,0.3,0.16,0,null,null,null,null,null,null,null,null,null,null,null,null,null,null,null,null,null,0,0,0,null,null,null,null,103,60,null,"",null,null,1,null,-859650132,2,1,-2,0,0,{"$f":"ROUND(IF(AND(BH50=3,BI50=3,FS50<>0),P50,0),2)","v":0},{"$f":"ROUND(O50+X50+Y50,2)+GX50","v":0},{"$f":"IF(OR(BI50=0,BI50=1),GM50-GX50,0)","v":0},{"$f":"IF(BI50=2,GM50-GX50,0)","v":0},{"$f":"IF(BI50=4,GM50-GX50,0)","v":0},null,0,3,0,"",{"$f":"ROUND((GT50),2)","v":0},1,{"$f":"ROUND(HC50*I50,2)","v":0},null,null,0,0,{"$f":"GV50*GW50","v":0},null,"","",null,null,null,null,null,null,"","Пр/812-027.0-1","Пр/774-027.0","Линии электропередачи","Линии электропередачи",null,0,null,null,null,null,null,null,null,null,null,null,null,null,null,null,null,null,null,0]
[19,1,null,null,null,"","По ВОР \"Развозка по трассе конструкций и материалов оснастки сложных опор\"","",null,null,null,null,null,null,null,null,null,null,null,null,null,null,null,null,null,null,1,null,null,null,null,null,null,null,null,null,null,null,null,null,null,null,null,null,null,null,null,null,null,null,null,null,null,null,null,null,null,null,null,null,null,null,null,null,null,null,null,null,null,null,null,null,null,null,null,null,null,null,null,null,null,null,null,null,null,null,null,null,null,null,null,null,null,null,null,null,null,null,null,null,null,null,null,null,null,null,null,null,null,null,null,null,null,null,null,null,null,null,null,null,null,null,null,null,null,null,null,null,null,null,null,null,null,null,null,null,null,null,null,null,null,null,null,null,null,null,null,null,null,null,null,null,null,null,null,null,null,null,null,null,null,null,null,null,null,null,null,null,null,null,null,null,null,null,null,null,null,null,null,null,null,null,null,null,null,null,null,null,null,null,null,null,null,null,null,null,null,null,null,null,null,null,null,null,null,null,null,null,null,null,null,null,null,null,null,null,null,null,null,null,null,null,null,null,null,null,null,null,null,null,null,null,null,null,null,null,null,null,null,null,null,null,null,null,0]
[17,1,{"$f":"ROW(SmtRes!A74)","v":74},{"$f":"ROW(EtalonRes!A74)","v":74},"4","33-04-003-01","Установка железобетонных опор ВЛ 0,38; 6-10 кВ с траверсами без приставок: одностоечных","ШТ",0,0,0,3,3,{"$f":"ROUND(L52-M52,4)","v":0},{"$f":"ROUND(CP52,2)","v":0},{"$f":"SUMIF(SmtRes!AQ57:'SmtRes'!AQ74,\"=1\",SmtRes!DF57:'SmtRes'!DF74)","v":0},{"$f":"SUMIF(SmtRes!AQ57:'SmtRes'!AQ74,\"=1\",SmtRes!DG57:'SmtRes'!DG74)","v":0},{"$f":"SUMIF(SmtRes!AQ57:'SmtRes'!AQ74,\"=1\",SmtRes!DH57:'SmtRes'!DH74)","v":0},{"$f":"SUMIF(SmtRes!AQ57:'SmtRes'!AQ74,\"=1\",SmtRes!DI57:'SmtRes'!DI74)","v":0},{"$f":"ROUND(CU52*I52,2)","v":0},{"$f":"SUMIF(SmtRes!AQ57:'SmtRes'!AQ74,\"=1\",SmtRes!CV57:'SmtRes'!CV74)","v":0},{"$f":"SUMIF(SmtRes!AQ57:'SmtRes'!AQ74,\"=1\",SmtRes!CW57:'SmtRes'!CW74)","v":0},{"$f":"ROUND(CX52*I52,2)","v":0},{"$f":"ROUND(CY52,2)","v":0},{"$f":"ROUND(CZ52,2)","v":0},null,85312357,{"$f":"ROUND((AC52+AD52+AF52),2)","v":4713.91},{"$f":"ROUND((SUM(SmtRes!BQ57:'SmtRes'!BQ74)),2)","v":115.84},{"$f":"ROUND((((SUM(SmtRes!BR57:'SmtRes'!BR74))-(SUM(SmtRes!BS57:'SmtRes'!BS74)))+AE52),2)","v":1850.75},{"$f":"ROUND((SUM(SmtRes!BS57:'SmtRes'!BS74)),2)","v":946.38},{"$f":"ROUND((SUM(SmtRes!BT57:'SmtRes'!BT74)),2)","v":2747.32},{"$f":"ROUND((AP52),2)","v":0},{"$f":"(SUM(SmtRes!BU57:'SmtRes'!BU74))","v":3.6719999999999997},{"$f":"(SUM(SmtRes!BV57:'SmtRes'!BV74))","v":1.044},{"$f":"(AS52)","v":0},4736.2024980000006,115.838998,1542.2866000000001,788.64610000000005,2289.4308000000001,0,3.06,0.87000000000000011,0,103,60,1,1,null,null,1,1,1,1,"","","","",0,1,"ГЭСН-2022 доп.17, 33-04-003-01, приказ Минстроя России от 17.02.2026 г. № 91/пр",null,null,33001,0,"",0,2,0,1,1,1,1,1,1,"",103,60,"",null,null,0,0,0,4,0,0,0,0,0,"Поправка: 421/пр_2020_прил.10_т.1_п.4_гр.5 Наименование: Производство работ осуществляется в охранной зоне действующей воздушной линии электропередачи, вблизи объектов, находящихся под напряжением, внутри объектов капитального строительства, внутренняя проводка в которых не обесточена, если это приведет к ограничению действий рабочих в соответствии с требованиями техники безопасности",0,{"$f":"(P52+Q52+S52+R52)","v":0},{"$f":"SUMIF(SmtRes!AQ57:'SmtRes'!AQ74,\"=1\",SmtRes!AA57:'SmtRes'!AA74)","v":105143.62000000001},{"$f":"SUMIF(SmtRes!AQ57:'SmtRes'!AQ74,\"=1\",SmtRes!AB57:'SmtRes'!AB74)","v":3377.99},{"$f":"SUMIF(SmtRes!AQ57:'SmtRes'!AQ74,\"=1\",SmtRes!AC57:'SmtRes'!AC74)","v":1744.74},{"$f":"SUMIF(SmtRes!AQ57:'SmtRes'!AQ74,\"=1\",SmtRes!AD57:'SmtRes'!AD74)","v":748.18},{"$f":"AG52","v":0},{"$f":"SUMIF(SmtRes!AQ57:'SmtRes'!AQ74,\"=1\",SmtRes!BU57:'SmtRes'!BU74)","v":3.6719999999999997},{"$f":"SUMIF(SmtRes!AQ57:'SmtRes'!AQ74,\"=1\",SmtRes!BV57:'SmtRes'!BV74)","v":1.044},{"$f":"AJ52","v":0},{"$f":"(((S52+R52)*AT52)/100)","v":0},{"$f":"(((S52+R52)*AU52)/100)","v":0},null,7,"","","*(0,2+1)","*(0,2+1)","*(0,2+1)","","*(0,2+1)","*(0,2+1)","","","",0,0,1,1,null,null,null,1013,"ШТ","ШТ",1,null,"","","","",null,83666879,2,"Общестроительные работы",27,"Линии электропередачи",1,33001,"Линии электропередачи","ФЕР-33",null,"Поправка: 421/пр_2020_прил.10_т.1_п.4_гр.5",null,131072,0,0,0,0,0,3.06,0.87,0,null,null,null,null,null,null,null,null,null,null,null,null,null,null,null,null,null,0,0,0,null,null,null,null,103,60,null,"",null,null,1,null,-343713442,2,1,-2,0,0,{"$f":"ROUND(IF(AND(BH52=3,BI52=3,FS52<>0),P52,0),2)","v":0},{"$f":"ROUND(O52+X52+Y52,2)+GX52","v":0},{"$f":"IF(OR(BI52=0,BI52=1),GM52-GX52,0)","v":0},{"$f":"IF(BI52=2,GM52-GX52,0)","v":0},{"$f":"IF(BI52=4,GM52-GX52,0)","v":0},null,0,3,0,"",{"$f":"ROUND((GT52),2)","v":0},1,{"$f":"ROUND(HC52*I52,2)","v":0},null,null,0,0,{"$f":"GV52*GW52","v":0},null,"","",null,null,null,null,null,null,"","Пр/812-027.0-1","Пр/774-027.0","Линии электропередачи","Линии электропередачи",null,0,null,null,null,null,null,null,null,null,null,null,null,null,null,null,null,null,null,0]
[17,1,{"$f":"ROW(SmtRes!A92)","v":92},{"$f":"ROW(EtalonRes!A92)","v":92},"4","33-04-003-01","Установка железобетонных опор ВЛ 0,38; 6-10 кВ с траверсами без приставок: одностоечных","ШТ",0,0,0,3,3,{"$f":"ROUND(L53-M53,4)","v":0},{"$f":"ROUND(CP53,2)","v":0},{"$f":"SUMIF(SmtRes!AQ75:'SmtRes'!AQ92,\"=1\",SmtRes!DF75:'SmtRes'!DF92)","v":0},{"$f":"SUMIF(SmtRes!AQ75:'SmtRes'!AQ92,\"=1\",SmtRes!DG75:'SmtRes'!DG92)","v":0},{"$f":"SUMIF(SmtRes!AQ75:'SmtRes'!AQ92,\"=1\",SmtRes!DH75:'SmtRes'!DH92)","v":0},{"$f":"SUMIF(SmtRes!AQ75:'SmtRes'!AQ92,\"=1\",SmtRes!DI75:'SmtRes'!DI92)","v":0},{"$f":"ROUND(CU53*I53,2)","v":0},{"$f":"SUMIF(SmtRes!AQ75:'SmtRes'!AQ92,\"=1\",SmtRes!CV75:'SmtRes'!CV92)","v":0},{"$f":"SUMIF(SmtRes!AQ75:'SmtRes'!AQ92,\"=1\",SmtRes!CW75:'SmtRes'!CW92)","v":0},{"$f":"ROUND(CX53*I53,2)","v":0},{"$f":"ROUND(CY53,2)","v":0},{"$f":"ROUND(CZ53,2)","v":0},null,85312298,{"$f":"ROUND((AC53+AD53+AF53),2)","v":4713.91},{"$f":"ROUND((SUM(SmtRes!BQ75:'SmtRes'!BQ92)),2)","v":115.84},{"$f":"ROUND((((SUM(SmtRes!BR75:'SmtRes'!BR92))-(SUM(SmtRes!BS75:'SmtRes'!BS92)))+AE53),2)","v":1850.75},{"$f":"ROUND((SUM(SmtRes!BS75:'SmtRes'!BS92)),2)","v":946.38},{"$f":"ROUND((SUM(SmtRes!BT75:'SmtRes'!BT92)),2)","v":2747.32},{"$f":"ROUND((AP53),2)","v":0},{"$f":"(SUM(SmtRes!BU75:'SmtRes'!BU92))","v":3.6719999999999997},{"$f":"(SUM(SmtRes!BV75:'SmtRes'!BV92))","v":1.044},{"$f":"(AS53)","v":0},4736.2024980000006,115.838998,1542.2866000000001,788.64610000000005,2289.4308000000001,0,3.06,0.87000000000000011,0,103,60,1,1,null,null,1,1,1,1,"","","","",0,1,"ГЭСН-2022 доп.17, 33-04-003-01, приказ Минстроя России от 17.02.2026 г. № 91/пр",null,null,33001,0,"",0,2,0,1,1,1,1,1,1,"",103,60,"",null,null,0,0,0,4,0,0,0,0,0,"Поправка: 421/пр_2020_прил.10_т.1_п.4_гр.5 Наименование: Производство работ осуществляется в охранной зоне действующей воздушной линии электропередачи, вблизи объектов, находящихся под напряжением, внутри объектов капитального строительства, внутренняя проводка в которых не обесточена, если это приведет к ограничению действий рабочих в соответствии с требованиями техники безопасности",0,{"$f":"(P53+Q53+S53+R53)","v":0},{"$f":"SUMIF(SmtRes!AQ75:'SmtRes'!AQ92,\"=1\",SmtRes!AA75:'SmtRes'!AA92)","v":105143.62000000001},{"$f":"SUMIF(SmtRes!AQ75:'SmtRes'!AQ92,\"=1\",SmtRes!AB75:'SmtRes'!AB92)","v":3377.99},{"$f":"SUMIF(SmtRes!AQ75:'SmtRes'!AQ92,\"=1\",SmtRes!AC75:'SmtRes'!AC92)","v":1744.74},{"$f":"SUMIF(SmtRes!AQ75:'SmtRes'!AQ92,\"=1\",SmtRes!AD75:'SmtRes'!AD92)","v":748.18},{"$f":"AG53","v":0},{"$f":"SUMIF(SmtRes!AQ75:'SmtRes'!AQ92,\"=1\",SmtRes!BU75:'SmtRes'!BU92)","v":3.6719999999999997},{"$f":"SUMIF(SmtRes!AQ75:'SmtRes'!AQ92,\"=1\",SmtRes!BV75:'SmtRes'!BV92)","v":1.044},{"$f":"AJ53","v":0},{"$f":"(((S53+R53)*AT53)/100)","v":0},{"$f":"(((S53+R53)*AU53)/100)","v":0},null,8,"","","*(0,2+1)","*(0,2+1)","*(0,2+1)","","*(0,2+1)","*(0,2+1)","","","",0,0,1,1,null,null,null,1013,"ШТ","ШТ",1,null,"","","","",null,83666879,2,"Общестроительные работы",27,"Линии электропередачи",1,33001,"Линии электропередачи","ФЕР-33",null,"Поправка: 421/пр_2020_прил.10_т.1_п.4_гр.5",null,131072,0,0,0,0,0,3.06,0.87,0,null,null,null,null,null,null,null,null,null,null,null,null,null,null,null,null,null,0,0,0,null,null,null,null,103,60,null,"",null,null,1,null,-343713442,2,1,-2,0,0,{"$f":"ROUND(IF(AND(BH53=3,BI53=3,FS53<>0),P53,0),2)","v":0},{"$f":"ROUND(O53+X53+Y53,2)+GX53","v":0},{"$f":"IF(OR(BI53=0,BI53=1),GM53-GX53,0)","v":0},{"$f":"IF(BI53=2,GM53-GX53,0)","v":0},{"$f":"IF(BI53=4,GM53-GX53,0)","v":0},null,0,3,0,"",{"$f":"ROUND((GT53),2)","v":0},1,{"$f":"ROUND(HC53*I53,2)","v":0},null,null,0,0,{"$f":"GV53*GW53","v":0},null,"","",null,null,null,null,null,null,"","Пр/812-027.0-1","Пр/774-027.0","Линии электропередачи","Линии электропередачи",null,0,null,null,null,null,null,null,null,null,null,null,null,null,null,null,null,null,null,0]
[19,1,null,null,null,"","По ВОР \"Установка ЖБ опор без приставок одностоечных\"","",null,null,null,null,null,null,null,null,null,null,null,null,null,null,null,null,null,null,1,null,null,null,null,null,null,null,null,null,null,null,null,null,null,null,null,null,null,null,null,null,null,null,null,null,null,null,null,null,null,null,null,null,null,null,null,null,null,null,null,null,null,null,null,null,null,null,null,null,null,null,null,null,null,null,null,null,null,null,null,null,null,null,null,null,null,null,null,null,null,null,null,null,null,null,null,null,null,null,null,null,null,null,null,null,null,null,null,null,null,null,null,null,null,null,null,null,null,null,null,null,null,null,null,null,null,null,null,null,null,null,null,null,null,null,null,null,null,null,null,null,null,null,null,null,null,null,null,null,null,null,null,null,null,null,null,null,null,null,null,null,null,null,null,null,null,null,null,null,null,null,null,null,null,null,null,null,null,null,null,null,null,null,null,null,null,null,null,null,null,null,null,null,null,null,null,null,null,null,null,null,null,null,null,null,null,null,null,null,null,null,null,null,null,null,null,null,null,null,null,null,null,null,null,null,null,null,null,null,null,null,null,null,null,null,null,null,0]
[18,1,63,null,"4,1","01.7.15.03-0042","Болты с гайками и шайбами строительные","кг",{"$f":"I52*J55","v":0},0,0,0,0,{"$f":"ROUND(L55-M55,4)","v":0},{"$f":"ROUND(CP55,2)","v":0},{"$f":"ROUND(CQ55*I55,2)","v":0},{"$f":"ROUND(CR55*I55,2)","v":0},{"$f":"ROUND(CS55*I55,2)","v":0},{"$f":"ROUND(CT55*I55,2)","v":0},{"$f":"ROUND(CU55*I55,2)","v":0},{"$f":"ROUND(CV55*I55,7)","v":0},{"$f":"ROUND(CW55*I55,7)","v":0},{"$f":"ROUND(CX55*I55,2)","v":0},{"$f":"ROUND(CY55,2)","v":0},{"$f":"ROUND(CZ55,2)","v":0},null,85312357,{"$f":"ROUND((AC55+AD55+AF55),2)","v":174.93},{"$f":"ROUND((ES55),2)","v":174.93},{"$f":"ROUND((((ET55)-(EU55))+AE55),2)","v":0},{"$f":"ROUND((EU55),2)","v":0},{"$f":"ROUND((EV55),2)","v":0},{"$f":"ROUND((AP55),2)","v":0},{"$f":"(EW55)","v":0},{"$f":"(EX55)","v":0},{"$f":"(AS55)","v":0},174.93,174.93,0,0,0,0,0,0,0,103,60,1,1,null,null,1,1,1,1.08,"","","","",3,1,"ФСБЦ-2022, 01.7.15.03-0042, приказ Минстроя России от 18.05.2022 г. № 378/пр",null,null,33001,0,"01.7.15.03-0042",1,2,0,1,1,1,1,1,1,"",103,60,"",null,null,0,0,0,4,1,0,0,0,0,"",0,{"$f":"(P55+Q55+S55+R55)","v":0},{"$f":"ROUND(AL55*BC55,2)","v":188.92},{"$f":"ROUND(AM55*BB55,2)","v":0},{"$f":"ROUND(AN55*BS55,2)","v":0},{"$f":"ROUND(AO55*BA55,2)","v":0},{"$f":"AG55","v":0},{"$f":"AH55","v":0},{"$f":"AI55","v":0},{"$f":"AJ55","v":0},{"$f":"(((S55+R55)*AT55)/100)","v":0},{"$f":"(((S55+R55)*AU55)/100)","v":0},null,null,"","","","","","","","","","","",0,0,1,1,null,null,null,1009,"кг","кг",1,null,"","","","",null,83666879,2,"Общестроительные работы",27,"Линии электропередачи",1,33001,"Линии электропередачи","ФЕР-33",null,"",null,0,174.93,174.93,0,0,0,0,0,null,null,null,null,null,null,null,null,null,null,null,null,null,null,null,null,null,null,0,0,0,null,null,null,null,103,60,null,"",null,null,1,null,-1131385474,2,1,2,0,0,{"$f":"ROUND(IF(AND(BH55=3,BI55=3,FS55<>0),P55,0),2)","v":0},{"$f":"ROUND(O55+X55+Y55,2)+GX55","v":0},{"$f":"IF(OR(BI55=0,BI55=1),GM55-GX55,0)","v":0},{"$f":"IF(BI55=2,GM55-GX55,0)","v":0},{"$f":"IF(BI55=4,GM55-GX55,0)","v":0},null,0,3,0,"",{"$f":"ROUND((GT55),2)","v":0},1,{"$f":"ROUND(HC55*I55,2)","v":0},null,null,0,0,{"$f":"GV55*GW55","v":0},null,"","",null,null,null,null,null,null,"","Пр/812-027.0-1","Пр/774-027.0","Линии электропередачи","Линии электропередачи",null,0,null,null,null,null,null,null,null,null,null,null,null,null,null,null,null,null,null,0]
[18,1,81,null,"4,1","01.7.15.03-0042","Болты с гайками и шайбами строительные","кг",{"$f":"I53*J56","v":0},0,0,0,0,0,0,0,0,0,0,0,0,0,0,0,0,null,85312298,174.93,174.93,0,0,0,0,0,0,0,174.93,174.93,0,0,0,0,0,0,0,103,60,1,1,null,null,1,1,1,1.08,"","","","",3,1,"ФСБЦ-2022, 01.7.15.03-0042, приказ Минстроя России от 18.05.2022 г. № 378/пр",null,null,33001,0,"01.7.15.03-0042",1,2,0,1,1,1,1,1,1,"",103,60,"",null,null,0,0,0,4,1,0,0,0,0,"",0,0,188.92,0,0,0,0,0,0,0,0,0,null,null,"","","","","","","","","","","",0,0,1,1,null,null,null,1009,"кг","кг",1,null,"","","","",null,83666879,2,"Общестроительные работы",27,"Линии электропередачи",1,33001,"Линии электропередачи","ФЕР-33",null,"",null,0,174.93,174.93,0,0,0,0,0,null,null,null,null,null,null,null,null,null,null,null,null,null,null,null,null,null,null,0,0,0,null,null,null,null,103,60,null,"",null,null,1,null,-1131385474,2,1,2,0,0,0,0,0,0,0,null,0,3,0,"",0,1,0,null,null,0,0,0,null,"","",null,null,null,null,null,null,"","Пр/812-027.0-1","Пр/774-027.0","Линии электропередачи","Линии электропередачи",null,0,null,null,null,null,null,null,null,null,null,null,null,null,null,null,null,null,null,0]
[18,1,65,null,"4,2","05.1.02.07","Стойка железобетонная вибрированная для опор","ШТ",{"$f":"I52*J57","v":0},0,0,0,0,0,0,0,0,0,0,0,0,0,0,0,0,null,85312357,0,0,0,0,0,0,0,0,0,0,0,0,0,0,0,0,0,0,103,60,1,1,null,null,1,1,1,1,"","","","",3,1,"",null,null,33001,0,"",0,2,0,1,1,1,1,1,1,"",103,60,"",null,null,0,0,0,4,2,0,0,0,0,"",0,0,0,0,0,0,0,0,0,0,0,0,null,null,"","","","","","","","","","","",0,0,1,1,null,null,null,1013,"ШТ","ШТ",1,null,"","","","",null,83666879,2,"Общестроительные работы",27,"Линии электропередачи",1,33001,"Линии электропередачи","ФЕР-33",null,"",null,0,0,0,0,0,0,0,0,null,null,null,null,null,null,null,null,null,null,null,null,null,null,null,null,null,null,0,0,0,null,null,null,null,103,60,null,"",null,null,1,null,457934895,2,1,-2,0,0,0,0,0,0,0,null,0,3,0,"",0,1,0,null,null,0,0,0,null,"","",null,null,null,null,null,null,"","Пр/812-027.0-1","Пр/774-027.0","Линии электропередачи","Линии электропередачи",null,0,null,null,null,null,null,null,null,null,null,null,null,null,null,null,null,null,null,0]
[18,1,83,null,"4,2","05.1.02.07","Стойка железобетонная вибрированная для опор","ШТ",{"$f":"I53*J58","v":0},0,0,0,0,0,0,0,0,0,0,0,0,0,0,0,0,null,85312298,0,0,0,0,0,0,0,0,0,0,0,0,0,0,0,0,0,0,103,60,1,1,null,null,1,1,1,1,"","","","",3,1,"",null,null,33001,0,"",0,2,0,1,1,1,1,1,1,"",103,60,"",null,null,0,0,0,4,2,0,0,0,0,"",0,0,0,0,0,0,0,0,0,0,0,0,null,null,"","","","","","","","","","","",0,0,1,1,null,null,null,1013,"ШТ","ШТ",1,null,"","","","",null,83666879,2,"Общестроительные работы",27,"Линии электропередачи",1,33001,"Линии электропередачи","ФЕР-33",null,"",null,0,0,0,0,0,0,0,0,null,null,null,null,null,null,null,null,null,null,null,null,null,null,null,null,null,null,0,0,0,null,null,null,null,103,60,null,"",null,null,1,null,457934895,2,1,-2,0,0,0,0,0,0,0,null,0,3,0,"",0,1,0,null,null,0,0,0,null,"","",null,null,null,null,null,null,"","Пр/812-027.0-1","Пр/774-027.0","Линии электропередачи","Линии электропередачи",null,0,null,null,null,null,null,null,null,null,null,null,null,null,null,null,null,null,null,0]
[18,1,66,null,"4,3","07.2.02.05","Траверсы стальные","т",{"$f":"I52*J59","v":0},0,0,0,0,0,0,0,0,0,0,0,0,0,0,0,0,null,85312357,0,0,0,0,0,0,0,0,0,0,0,0,0,0,0,0,0,0,103,60,1,1,null,null,1,1,1,1,"","","","",3,1,"",null,null,33001,0,"",0,2,0,1,1,1,1,1,1,"",103,60,"",null,null,0,0,0,4,3,0,0,0,0,"",0,0,0,0,0,0,0,0,0,0,0,0,null,null,"","","","","","","","","","","",0,0,1,1,null,null,null,1009,"т","т",1000,null,"","","","",null,83666879,2,"Общестроительные работы",27,"Линии электропередачи",1,33001,"Линии электропередачи","ФЕР-33",null,"",null,0,0,0,0,0,0,0,0,null,null,null,null,null,null,null,null,null,null,null,null,null,null,null,null,null,null,0,0,0,null,null,null,null,103,60,null,"",null,null,1,null,1602794472,2,1,-2,0,0,0,0,0,0,0,null,0,3,0,"",0,1,0,null,null,0,0,0,null,"","",null,null,null,null,null,null,"","Пр/812-027.0-1","Пр/774-027.0","Линии электропередачи","Линии электропередачи",null,0,null,null,null,null,null,null,null,null,null,null,null,null,null,null,null,null,null,0]
[18,1,84,null,"4,3","07.2.02.05","Траверсы стальные","т",{"$f":"I53*J60","v":0},0,0,0,0,0,0,0,0,0,0,0,0,0,0,0,0,null,85312298,0,0,0,0,0,0,0,0,0,0,0,0,0,0,0,0,0,0,103,60,1,1,null,null,1,1,1,1,"","","","",3,1,"",null,null,33001,0,"",0,2,0,1,1,1,1,1,1,"",103,60,"",null,null,0,0,0,4,3,0,0,0,0,"",0,0,0,0,0,0,0,0,0,0,0,0,null,null,"","","","","","","","","","","",0,0,1,1,null,null,null,1009,"т","т",1000,null,"","","","",null,83666879,2,"Общестроительные работы",27,"Линии электропередачи",1,33001,"Линии электропередачи","ФЕР-33",null,"",null,0,0,0,0,0,0,0,0,null,null,null,null,null,null,null,null,null,null,null,null,null,null,null,null,null,null,0,0,0,null,null,null,null,103,60,null,"",null,null,1,null,1602794472,2,1,-2,0,0,0,0,0,0,0,null,0,3,0,"",0,1,0,null,null,0,0,0,null,"","",null,null,null,null,null,null,"","Пр/812-027.0-1","Пр/774-027.0","Линии электропередачи","Линии электропередачи",null,0,null,null,null,null,null,null,null,null,null,null,null,null,null,null,null,null,null,0]
[18,1,67,null,"4,4","07.2.07.13","Хомуты стальные","кг",{"$f":"I52*J61","v":0},0,0,0,0,0,0,0,0,0,0,0,0,0,0,0,0,null,85312357,0,0,0,0,0,0,0,0,0,0,0,0,0,0,0,0,0,0,103,60,1,1,null,null,1,1,1,1,"","","","",3,1,"",null,null,33001,0,"",0,2,0,1,1,1,1,1,1,"",103,60,"",null,null,0,0,0,4,4,0,0,0,0,"",0,0,0,0,0,0,0,0,0,0,0,0,null,null,"","","","","","","","","","","",0,0,1,1,null,null,null,1009,"кг","кг",1,null,"","","","",null,83666879,2,"Общестроительные работы",27,"Линии электропередачи",1,33001,"Линии электропередачи","ФЕР-33",null,"",null,0,0,0,0,0,0,0,0,null,null,null,null,null,null,null,null,null,null,null,null,null,null,null,null,null,null,0,0,0,null,null,null,null,103,60,null,"",null,null,1,null,-1111733769,2,1,-2,0,0,0,0,0,0,0,null,0,3,0,"",0,1,0,null,null,0,0,0,null,"","",null,null,null,null,null,null,"","Пр/812-027.0-1","Пр/774-027.0","Линии электропередачи","Линии электропередачи",null,0,null,null,null,null,null,null,null,null,null,null,null,null,null,null,null,null,null,0]
[18,1,85,null,"4,4","07.2.07.13","Хомуты стальные","кг",{"$f":"I53*J62","v":0},0,0,0,0,0,0,0,0,0,0,0,0,0,0,0,0,null,85312298,0,0,0,0,0,0,0,0,0,0,0,0,0,0,0,0,0,0,103,60,1,1,null,null,1,1,1,1,"","","","",3,1,"",null,null,33001,0,"",0,2,0,1,1,1,1,1,1,"",103,60,"",null,null,0,0,0,4,4,0,0,0,0,"",0,0,0,0,0,0,0,0,0,0,0,0,null,null,"","","","","","","","","","","",0,0,1,1,null,null,null,1009,"кг","кг",1,null,"","","","",null,83666879,2,"Общестроительные работы",27,"Линии электропередачи",1,33001,"Линии электропередачи","ФЕР-33",null,"",null,0,0,0,0,0,0,0,0,null,null,null,null,null,null,null,null,null,null,null,null,null,null,null,null,null,null,0,0,0,null,null,null,null,103,60,null,"",null,null,1,null,-1111733769,2,1,-2,0,0,0,0,0,0,0,null,0,3,0,"",0,1,0,null,null,0,0,0,null,"","",null,null,null,null,null,null,"","Пр/812-027.0-1","Пр/774-027.0","Линии электропередачи","Линии электропередачи",null,0,null,null,null,null,null,null,null,null,null,null,null,null,null,null,null,null,null,0]
[18,1,68,null,"4,5","08.3.04.02","Сталь стержневая диаметром до 10 мм","т",{"$f":"I52*J63","v":0},0,0,0,0,0,0,0,0,0,0,0,0,0,0,0,0,null,85312357,0,0,0,0,0,0,0,0,0,0,0,0,0,0,0,0,0,0,103,60,1,1,null,null,1,1,1,1,"","","","",3,1,"",null,null,33001,0,"",0,2,0,1,1,1,1,1,1,"",103,60,"",null,null,0,0,0,4,5,0,0,0,0,"",0,0,0,0,0,0,0,0,0,0,0,0,null,null,"","","","","","","","","","","",0,0,1,1,null,null,null,1009,"т","т",1000,null,"","","","",null,83666879,2,"Общестроительные работы",27,"Линии электропередачи",1,33001,"Линии электропередачи","ФЕР-33",null,"",null,0,0,0,0,0,0,0,0,null,null,null,null,null,null,null,null,null,null,null,null,null,null,null,null,null,null,0,0,0,null,null,null,null,103,60,null,"",null,null,1,null,1613753229,2,1,-2,0,0,0,0,0,0,0,null,0,3,0,"",0,1,0,null,null,0,0,0,null,"","",null,null,null,null,null,null,"","Пр/812-027.0-1","Пр/774-027.0","Линии электропередачи","Линии электропередачи",null,0,null,null,null,null,null,null,null,null,null,null,null,null,null,null,null,null,null,0]
[18,1,86,null,"4,5","08.3.04.02","Сталь стержневая диаметром до 10 мм","т",{"$f":"I53*J64","v":0},0,0,0,0,0,0,0,0,0,0,0,0,0,0,0,0,null,85312298,0,0,0,0,0,0,0,0,0,0,0,0,0,0,0,0,0,0,103,60,1,1,null,null,1,1,1,1,"","","","",3,1,"",null,null,33001,0,"",0,2,0,1,1,1,1,1,1,"",103,60,"",null,null,0,0,0,4,5,0,0,0,0,"",0,0,0,0,0,0,0,0,0,0,0,0,null,null,"","","","","","","","","","","",0,0,1,1,null,null,null,1009,"т","т",1000,null,"","","","",null,83666879,2,"Общестроительные работы",27,"Линии электропередачи",1,33001,"Линии электропередачи","ФЕР-33",null,"",null,0,0,0,0,0,0,0,0,null,null,null,null,null,null,null,null,null,null,null,null,null,null,null,null,null,null,0,0,0,null,null,null,null,103,60,null,"",null,null,1,null,1613753229,2,1,-2,0,0,0,0,0,0,0,null,0,3,0,"",0,1,0,null,null,0,0,0,null,"","",null,null,null,null,null,null,"","Пр/812-027.0-1","Пр/774-027.0","Линии электропередачи","Линии электропередачи",null,0,null,null,null,null,null,null,null,null,null,null,null,null,null,null,null,null,null,0]
[18,1,72,null,"4,6","22.2.01.04","Изоляторы штыревые","ШТ",{"$f":"I52*J65","v":0},0,0,0,0,0,0,0,0,0,0,0,0,0,0,0,0,null,85312357,0,0,0,0,0,0,0,0,0,0,0,0,0,0,0,0,0,0,103,60,1,1,null,null,1,1,1,1,"","","","",3,1,"",null,null,33001,0,"",0,2,0,1,1,1,1,1,1,"",103,60,"",null,null,0,0,0,4,6,0,0,0,0,"",0,0,0,0,0,0,0,0,0,0,0,0,null,null,"","","","","","","","","","","",0,0,1,1,null,null,null,1013,"ШТ","ШТ",1,null,"","","","",null,83666879,2,"Общестроительные работы",27,"Линии электропередачи",1,33001,"Линии электропередачи","ФЕР-33",null,"",null,0,0,0,0,0,0,0,0,null,null,null,null,null,null,null,null,null,null,null,null,null,null,null,null,null,null,0,0,0,null,null,null,null,103,60,null,"",null,null,1,null,-950997571,2,1,-2,0,0,0,0,0,0,0,null,0,3,0,"",0,1,0,null,null,0,0,0,null,"","",null,null,null,null,null,null,"","Пр/812-027.0-1","Пр/774-027.0","Линии электропередачи","Линии электропередачи",null,0,null,null,null,null,null,null,null,null,null,null,null,null,null,null,null,null,null,0]
[18,1,90,null,"4,6","22.2.01.04","Изоляторы штыревые","ШТ",{"$f":"I53*J66","v":0},0,0,0,0,0,0,0,0,0,0,0,0,0,0,0,0,null,85312298,0,0,0,0,0,0,0,0,0,0,0,0,0,0,0,0,0,0,103,60,1,1,null,null,1,1,1,1,"","","","",3,1,"",null,null,33001,0,"",0,2,0,1,1,1,1,1,1,"",103,60,"",null,null,0,0,0,4,6,0,0,0,0,"",0,0,0,0,0,0,0,0,0,0,0,0,null,null,"","","","","","","","","","","",0,0,1,1,null,null,null,1013,"ШТ","ШТ",1,null,"","","","",null,83666879,2,"Общестроительные работы",27,"Линии электропередачи",1,33001,"Линии электропередачи","ФЕР-33",null,"",null,0,0,0,0,0,0,0,0,null,null,null,null,null,null,null,null,null,null,null,null,null,null,null,null,null,null,0,0,0,null,null,null,null,103,60,null,"",null,null,1,null,-950997571,2,1,-2,0,0,0,0,0,0,0,null,0,3,0,"",0,1,0,null,null,0,0,0,null,"","",null,null,null,null,null,null,"","Пр/812-027.0-1","Пр/774-027.0","Линии электропередачи","Линии электропередачи",null,0,null,null,null,null,null,null,null,null,null,null,null,null,null,null,null,null,null,0]
[18,1,73,null,"4,7","22.2.02.21","Штыри","ШТ",{"$f":"I52*J67","v":0},0,0,0,0,0,0,0,0,0,0,0,0,0,0,0,0,null,85312357,0,0,0,0,0,0,0,0,0,0,0,0,0,0,0,0,0,0,103,60,1,1,null,null,1,1,1,1,"","","","",3,1,"",null,null,33001,0,"",0,2,0,1,1,1,1,1,1,"",103,60,"",null,null,0,0,0,4,7,0,0,0,0,"",0,0,0,0,0,0,0,0,0,0,0,0,null,null,"","","","","","","","","","","",0,0,1,1,null,null,null,1013,"ШТ","ШТ",1,null,"","","","",null,83666879,2,"Общестроительные работы",27,"Линии электропередачи",1,33001,"Линии электропередачи","ФЕР-33",null,"",null,0,0,0,0,0,0,0,0,null,null,null,null,null,null,null,null,null,null,null,null,null,null,null,null,null,null,0,0,0,null,null,null,null,103,60,null,"",null,null,1,null,-320198552,2,1,-2,0,0,0,0,0,0,0,null,0,3,0,"",0,1,0,null,null,0,0,0,null,"","",null,null,null,null,null,null,"","Пр/812-027.0-1","Пр/774-027.0","Линии электропередачи","Линии электропередачи",null,0,null,null,null,null,null,null,null,null,null,null,null,null,null,null,null,null,null,0]
[18,1,91,null,"4,7","22.2.02.21","Штыри","ШТ",{"$f":"I53*J68","v":0},0,0,0,0,0,0,0,0,0,0,0,0,0,0,0,0,null,85312298,0,0,0,0,0,0,0,0,0,0,0,0,0,0,0,0,0,0,103,60,1,1,null,null,1,1,1,1,"","","","",3,1,"",null,null,33001,0,"",0,2,0,1,1,1,1,1,1,"",103,60,"",null,null,0,0,0,4,7,0,0,0,0,"",0,0,0,0,0,0,0,0,0,0,0,0,null,null,"","","","","","","","","","","",0,0,1,1,null,null,null,1013,"ШТ","ШТ",1,null,"","","","",null,83666879,2,"Общестроительные работы",27,"Линии электропередачи",1,33001,"Линии электропередачи","ФЕР-33",null,"",null,0,0,0,0,0,0,0,0,null,null,null,null,null,null,null,null,null,null,null,null,null,null,null,null,null,null,0,0,0,null,null,null,null,103,60,null,"",null,null,1,null,-320198552,2,1,-2,0,0,0,0,0,0,0,null,0,3,0,"",0,1,0,null,null,0,0,0,null,"","",null,null,null,null,null,null,"","Пр/812-027.0-1","Пр/774-027.0","Линии электропередачи","Линии электропередачи",null,0,null,null,null,null,null,null,null,null,null,null,null,null,null,null,null,null,null,0]
[18,1,74,null,"4,8","22.2.02.23","Металлические плакаты","ШТ",{"$f":"I52*J69","v":0},0,0,0,0,0,0,0,0,0,0,0,0,0,0,0,0,null,85312357,0,0,0,0,0,0,0,0,0,0,0,0,0,0,0,0,0,0,103,60,1,1,null,null,1,1,1,1,"","","","",3,1,"",null,null,33001,0,"",0,2,0,1,1,1,1,1,1,"",103,60,"",null,null,0,0,0,4,8,0,0,0,0,"",0,0,0,0,0,0,0,0,0,0,0,0,null,null,"","","","","","","","","","","",0,0,1,1,null,null,null,1013,"ШТ","ШТ",1,null,"","","","",null,83666879,2,"Общестроительные работы",27,"Линии электропередачи",1,33001,"Линии электропередачи","ФЕР-33",null,"",null,0,0,0,0,0,0,0,0,null,null,null,null,null,null,null,null,null,null,null,null,null,null,null,null,null,null,0,0,0,null,null,null,null,103,60,null,"",null,null,1,null,326010188,2,1,-2,0,0,0,0,0,0,0,null,0,3,0,"",0,1,0,null,null,0,0,0,null,"","",null,null,null,null,null,null,"","Пр/812-027.0-1","Пр/774-027.0","Линии электропередачи","Линии электропередачи",null,0,null,null,null,null,null,null,null,null,null,null,null,null,null,null,null,null,null,0]
[18,1,92,null,"4,8","22.2.02.23","Металлические плакаты","ШТ",{"$f":"I53*J70","v":0},0,0,0,0,0,0,0,0,0,0,0,0,0,0,0,0,null,85312298,0,0,0,0,0,0,0,0,0,0,0,0,0,0,0,0,0,0,103,60,1,1,null,null,1,1,1,1,"","","","",3,1,"",null,null,33001,0,"",0,2,0,1,1,1,1,1,1,"",103,60,"",null,null,0,0,0,4,8,0,0,0,0,"",0,0,0,0,0,0,0,0,0,0,0,0,null,null,"","","","","","","","","","","",0,0,1,1,null,null,null,1013,"ШТ","ШТ",1,null,"","","","",null,83666879,2,"Общестроительные работы",27,"Линии электропередачи",1,33001,"Линии электропередачи","ФЕР-33",null,"",null,0,0,0,0,0,0,0,0,null,null,null,null,null,null,null,null,null,null,null,null,null,null,null,null,null,null,0,0,0,null,null,null,null,103,60,null,"",null,null,1,null,326010188,2,1,-2,0,0,0,0,0,0,0,null,0,3,0,"",0,1,0,null,null,0,0,0,null,"","",null,null,null,null,null,null,"","Пр/812-027.0-1","Пр/774-027.0","Линии электропередачи","Линии электропередачи",null,0,null,null,null,null,null,null,null,null,null,null,null,null,null,null,null,null,null,0]
[17,1,{"$f":"ROW(SmtRes!A111)","v":111},{"$f":"ROW(EtalonRes!A111)","v":111},"","33-04-003-07","Установка железобетонных опор ВЛ 0,38; 6-10 кВ с траверсами с одинарными приставками: одностоечных","ШТ",0,0,0,1,1,0,0,{"$f":"SUMIF(SmtRes!AQ93:'SmtRes'!AQ111,\"=1\",SmtRes!DF93:'SmtRes'!DF111)","v":0},{"$f":"SUMIF(SmtRes!AQ93:'SmtRes'!AQ111,\"=1\",SmtRes!DG93:'SmtRes'!DG111)","v":0},{"$f":"SUMIF(SmtRes!AQ93:'SmtRes'!AQ111,\"=1\",SmtRes!DH93:'SmtRes'!DH111)","v":0},{"$f":"SUMIF(SmtRes!AQ93:'SmtRes'!AQ111,\"=1\",SmtRes!DI93:'SmtRes'!DI111)","v":0},0,{"$f":"SUMIF(SmtRes!AQ93:'SmtRes'!AQ111,\"=1\",SmtRes!CV93:'SmtRes'!CV111)","v":0},{"$f":"SUMIF(SmtRes!AQ93:'SmtRes'!AQ111,\"=1\",SmtRes!CW93:'SmtRes'!CW111)","v":0},0,0,0,null,-1,6144.15,{"$f":"ROUND((SUM(SmtRes!BQ93:'SmtRes'!BQ111)),2)","v":34.71},{"$f":"ROUND((((SUM(SmtRes!BR93:'SmtRes'!BR111))-(SUM(SmtRes!BS93:'SmtRes'!BS111)))+AE71),2)","v":1815.33},{"$f":"ROUND((SUM(SmtRes!BS93:'SmtRes'!BS111)),2)","v":963.12},{"$f":"ROUND((SUM(SmtRes!BT93:'SmtRes'!BT111)),2)","v":4294.1099999999997},0,{"$f":"(SUM(SmtRes!BU93:'SmtRes'!BU111))","v":5.81},{"$f":"(SUM(SmtRes!BV93:'SmtRes'!BV111))","v":1.07},0,7107.2757980000006,34.709198000000001,1815.3336000000002,963.12009999999998,4294.1129000000001,0,5.81,1.07,0,103,60,1,1,null,null,1,1,1,1,"","","","",0,1,"ГЭСН-2022 доп.11, 33-04-003-07, приказ Минстроя России от 09.08.2024 г. № 524/пр",null,null,33001,0,"",0,2,0,1,1,1,1,1,1,"",103,60,"",null,null,0,0,0,0,0,0,0,0,0,"",0,0,{"$f":"SUMIF(SmtRes!AQ93:'SmtRes'!AQ111,\"=1\",SmtRes!AA93:'SmtRes'!AA111)","v":193362.11000000002},{"$f":"SUMIF(SmtRes!AQ93:'SmtRes'!AQ111,\"=1\",SmtRes!AB93:'SmtRes'!AB111)","v":3377.99},{"$f":"SUMIF(SmtRes!AQ93:'SmtRes'!AQ111,\"=1\",SmtRes!AC93:'SmtRes'!AC111)","v":1744.74},{"$f":"SUMIF(SmtRes!AQ93:'SmtRes'!AQ111,\"=1\",SmtRes!AD93:'SmtRes'!AD111)","v":739.09},{"$f":"AG71","v":0},{"$f":"SUMIF(SmtRes!AQ93:'SmtRes'!AQ111,\"=1\",SmtRes!BU93:'SmtRes'!BU111)","v":5.81},{"$f":"SUMIF(SmtRes!AQ93:'SmtRes'!AQ111,\"=1\",SmtRes!BV93:'SmtRes'!BV111)","v":1.07},{"$f":"AJ71","v":0},0,0,null,null,"","","","","","","","","","","",0,0,1,1,null,null,null,1013,"ШТ","ШТ",1,null,"","","","",null,83666879,2,"Общестроительные работы",27,"Линии электропередачи",1,33001,"Линии электропередачи","ФЕР-33",null,"",null,132096,0,0,0,0,0,5.81,1.07,0,null,null,null,null,null,null,null,null,null,null,null,null,null,null,null,null,null,0,0,0,null,null,null,null,103,60,null,"",null,null,1,null,-751358411,2,1,-2,0,0,0,0,0,0,0,null,0,0,0,"",0,1,0,null,null,0,0,0,null,"","",null,null,null,null,null,null,"","Пр/812-027.0-1","Пр/774-027.0","Линии электропередачи","Линии электропередачи",null,0,null,null,null,null,null,null,null,null,null,null,null,null,null,null,null,null,null,0]
[17,1,{"$f":"ROW(SmtRes!A130)","v":130},{"$f":"ROW(EtalonRes!A130)","v":130},"","33-04-003-07","Установка железобетонных опор ВЛ 0,38; 6-10 кВ с траверсами с одинарными приставками: одностоечных","ШТ",0,0,0,1,1,0,0,{"$f":"SUMIF(SmtRes!AQ112:'SmtRes'!AQ130,\"=1\",SmtRes!DF112:'SmtRes'!DF130)","v":0},{"$f":"SUMIF(SmtRes!AQ112:'SmtRes'!AQ130,\"=1\",SmtRes!DG112:'SmtRes'!DG130)","v":0},{"$f":"SUMIF(SmtRes!AQ112:'SmtRes'!AQ130,\"=1\",SmtRes!DH112:'SmtRes'!DH130)","v":0},{"$f":"SUMIF(SmtRes!AQ112:'SmtRes'!AQ130,\"=1\",SmtRes!DI112:'SmtRes'!DI130)","v":0},0,{"$f":"SUMIF(SmtRes!AQ112:'SmtRes'!AQ130,\"=1\",SmtRes!CV112:'SmtRes'!CV130)","v":0},{"$f":"SUMIF(SmtRes!AQ112:'SmtRes'!AQ130,\"=1\",SmtRes!CW112:'SmtRes'!CW130)","v":0},0,0,0,null,-1,6144.15,{"$f":"ROUND((SUM(SmtRes!BQ112:'SmtRes'!BQ130)),2)","v":34.71},{"$f":"ROUND((((SUM(SmtRes!BR112:'SmtRes'!BR130))-(SUM(SmtRes!BS112:'SmtRes'!BS130)))+AE72),2)","v":1815.33},{"$f":"ROUND((SUM(SmtRes!BS112:'SmtRes'!BS130)),2)","v":963.12},{"$f":"ROUND((SUM(SmtRes!BT112:'SmtRes'!BT130)),2)","v":4294.1099999999997},0,{"$f":"(SUM(SmtRes!BU112:'SmtRes'!BU130))","v":5.81},{"$f":"(SUM(SmtRes!BV112:'SmtRes'!BV130))","v":1.07},0,7107.2757980000006,34.709198000000001,1815.3336000000002,963.12009999999998,4294.1129000000001,0,5.81,1.07,0,103,60,1,1,null,null,1,1,1,1,"","","","",0,1,"ГЭСН-2022 доп.11, 33-04-003-07, приказ Минстроя России от 09.08.2024 г. № 524/пр",null,null,33001,0,"",0,2,0,1,1,1,1,1,1,"",103,60,"",null,null,0,0,0,0,0,0,0,0,0,"",0,0,{"$f":"SUMIF(SmtRes!AQ112:'SmtRes'!AQ130,\"=1\",SmtRes!AA112:'SmtRes'!AA130)","v":193362.11000000002},{"$f":"SUMIF(SmtRes!AQ112:'SmtRes'!AQ130,\"=1\",SmtRes!AB112:'SmtRes'!AB130)","v":3377.99},{"$f":"SUMIF(SmtRes!AQ112:'SmtRes'!AQ130,\"=1\",SmtRes!AC112:'SmtRes'!AC130)","v":1744.74},{"$f":"SUMIF(SmtRes!AQ112:'SmtRes'!AQ130,\"=1\",SmtRes!AD112:'SmtRes'!AD130)","v":739.09},{"$f":"AG72","v":0},{"$f":"SUMIF(SmtRes!AQ112:'SmtRes'!AQ130,\"=1\",SmtRes!BU112:'SmtRes'!BU130)","v":5.81},{"$f":"SUMIF(SmtRes!AQ112:'SmtRes'!AQ130,\"=1\",SmtRes!BV112:'SmtRes'!BV130)","v":1.07},{"$f":"AJ72","v":0},0,0,null,null,"","","","","","","","","","","",0,0,1,1,null,null,null,1013,"ШТ","ШТ",1,null,"","","","",null,83666879,2,"Общестроительные работы",27,"Линии электропередачи",1,33001,"Линии электропередачи","ФЕР-33",null,"",null,132096,0,0,0,0,0,5.81,1.07,0,null,null,null,null,null,null,null,null,null,null,null,null,null,null,null,null,null,0,0,0,null,null,null,null,103,60,null,"",null,null,1,null,-751358411,2,1,-2,0,0,0,0,0,0,0,null,0,0,0,"",0,1,0,null,null,0,0,0,null,"","",null,null,null,null,null,null,"","Пр/812-027.0-1","Пр/774-027.0","Линии электропередачи","Линии электропередачи",null,0,null,null,null,null,null,null,null,null,null,null,null,null,null,null,null,null,null,0]
[19,1,null,null,null,"","По ВОР \"Установка жб опор с приставками одностоечных\"","",null,null,null,null,null,null,null,null,null,null,null,null,null,null,null,null,null,null,1,null,null,null,null,null,null,null,null,null,null,null,null,null,null,null,null,null,null,null,null,null,null,null,null,null,null,null,null,null,null,null,null,null,null,null,null,null,null,null,null,null,null,null,null,null,null,null,null,null,null,null,null,null,null,null,null,null,null,null,null,null,null,null,null,null,null,null,null,null,null,null,null,null,null,null,null,null,null,null,null,null,null,null,null,null,null,null,null,null,null,null,null,null,null,null,null,null,null,null,null,null,null,null,null,null,null,null,null,null,null,null,null,null,null,null,null,null,null,null,null,null,null,null,null,null,null,null,null,null,null,null,null,null,null,null,null,null,null,null,null,null,null,null,null,null,null,null,null,null,null,null,null,null,null,null,null,null,null,null,null,null,null,null,null,null,null,null,null,null,null,null,null,null,null,null,null,null,null,null,null,null,null,null,null,null,null,null,null,null,null,null,null,null,null,null,null,null,null,null,null,null,null,null,null,null,null,null,null,null,null,null,null,null,null,null,null,null,0]
[18,1,99,null,"","01.7.15.03-0042","Болты с гайками и шайбами строительные","кг",{"$f":"I71*J74","v":0},0,0,0,0,{"$f":"ROUND(L74-M74,4)","v":0},{"$f":"ROUND(CP74,2)","v":0},{"$f":"ROUND(CQ74*I74,2)","v":0},{"$f":"ROUND(CR74*I74,2)","v":0},{"$f":"ROUND(CS74*I74,2)","v":0},{"$f":"ROUND(CT74*I74,2)","v":0},{"$f":"ROUND(CU74*I74,2)","v":0},{"$f":"ROUND(CV74*I74,7)","v":0},{"$f":"ROUND(CW74*I74,7)","v":0},{"$f":"ROUND(CX74*I74,2)","v":0},{"$f":"ROUND(CY74,2)","v":0},{"$f":"ROUND(CZ74,2)","v":0},null,-1,{"$f":"ROUND((AC74+AD74+AF74),2)","v":174.93},{"$f":"ROUND((ES74),2)","v":174.93},{"$f":"ROUND((((ET74)-(EU74))+AE74),2)","v":0},{"$f":"ROUND((EU74),2)","v":0},{"$f":"ROUND((EV74),2)","v":0},{"$f":"ROUND((AP74),2)","v":0},{"$f":"(EW74)","v":0},{"$f":"(EX74)","v":0},{"$f":"(AS74)","v":0},174.93,174.93,0,0,0,0,0,0,0,103,60,1,1,null,null,1,1,1,1.08,"","","","",3,1,"ФСБЦ-2022, 01.7.15.03-0042, приказ Минстроя России от 18.05.2022 г. № 378/пр",null,null,33001,0,"01.7.15.03-0042",1,2,0,1,1,1,1,1,1,"",103,60,"",null,null,0,0,0,0,0,0,0,0,0,"",0,{"$f":"(P74+Q74+S74+R74)","v":0},{"$f":"ROUND(AL74*BC74,2)","v":188.92},{"$f":"ROUND(AM74*BB74,2)","v":0},{"$f":"ROUND(AN74*BS74,2)","v":0},{"$f":"ROUND(AO74*BA74,2)","v":0},{"$f":"AG74","v":0},{"$f":"AH74","v":0},{"$f":"AI74","v":0},{"$f":"AJ74","v":0},{"$f":"(((S74+R74)*AT74)/100)","v":0},{"$f":"(((S74+R74)*AU74)/100)","v":0},null,null,"","","","","","","","","","","",0,0,1,1,null,null,null,1009,"кг","кг",1,null,"","","","",null,83666879,2,"Общестроительные работы",27,"Линии электропередачи",1,33001,"Линии электропередачи","ФЕР-33",null,"",null,1024,174.93,174.93,0,0,0,0,0,null,null,null,null,null,null,null,null,null,null,null,null,null,null,null,null,null,null,0,0,0,null,null,null,null,103,60,null,"",null,null,1,null,1181962216,2,1,2,0,0,{"$f":"ROUND(IF(AND(BH74=3,BI74=3,FS74<>0),P74,0),2)","v":0},{"$f":"ROUND(O74+X74+Y74,2)+GX74","v":0},{"$f":"IF(OR(BI74=0,BI74=1),GM74-GX74,0)","v":0},{"$f":"IF(BI74=2,GM74-GX74,0)","v":0},{"$f":"IF(BI74=4,GM74-GX74,0)","v":0},null,0,0,0,"",{"$f":"ROUND((GT74),2)","v":0},1,{"$f":"ROUND(HC74*I74,2)","v":0},null,null,0,0,{"$f":"GV74*GW74","v":0},null,"","",null,null,null,null,null,null,"","Пр/812-027.0-1","Пр/774-027.0","Линии электропередачи","Линии электропередачи",null,0,null,null,null,null,null,null,null,null,null,null,null,null,null,null,null,null,null,0]
[18,1,118,null,"","01.7.15.03-0042","Болты с гайками и шайбами строительные","кг",{"$f":"I72*J75","v":0},0,0,0,0,0,0,0,0,0,0,0,0,0,0,0,0,null,-1,174.93,174.93,0,0,0,0,0,0,0,174.93,174.93,0,0,0,0,0,0,0,103,60,1,1,null,null,1,1,1,1.08,"","","","",3,1,"ФСБЦ-2022, 01.7.15.03-0042, приказ Минстроя России от 18.05.2022 г. № 378/пр",null,null,33001,0,"01.7.15.03-0042",1,2,0,1,1,1,1,1,1,"",103,60,"",null,null,0,0,0,0,0,0,0,0,0,"",0,0,188.92,0,0,0,0,0,0,0,0,0,null,null,"","","","","","","","","","","",0,0,1,1,null,null,null,1009,"кг","кг",1,null,"","","","",null,83666879,2,"Общестроительные работы",27,"Линии электропередачи",1,33001,"Линии электропередачи","ФЕР-33",null,"",null,1024,174.93,174.93,0,0,0,0,0,null,null,null,null,null,null,null,null,null,null,null,null,null,null,null,null,null,null,0,0,0,null,null,null,null,103,60,null,"",null,null,1,null,1181962216,2,1,2,0,0,0,0,0,0,0,null,0,0,0,"",0,1,0,null,null,0,0,0,null,"","",null,null,null,null,null,null,"","Пр/812-027.0-1","Пр/774-027.0","Линии электропередачи","Линии электропередачи",null,0,null,null,null,null,null,null,null,null,null,null,null,null,null,null,null,null,null,0]
[18,1,101,null,"","05.1.02.06","Приставки железобетонные","ШТ",{"$f":"I71*J76","v":0},0,0,0,0,0,0,0,0,0,0,0,0,0,0,0,0,null,-1,0,0,0,0,0,0,0,0,0,0,0,0,0,0,0,0,0,0,103,60,1,1,null,null,1,1,1,1,"","","","",3,1,"",null,null,33001,0,"",0,2,0,1,1,1,1,1,1,"",103,60,"",null,null,0,0,0,0,0,0,0,0,0,"",0,0,0,0,0,0,0,0,0,0,0,0,null,null,"","","","","","","","","","","",0,0,1,1,null,null,null,1013,"ШТ","ШТ",1,null,"","","","",null,83666879,2,"Общестроительные работы",27,"Линии электропередачи",1,33001,"Линии электропередачи","ФЕР-33",null,"",null,1024,0,0,0,0,0,0,0,null,null,null,null,null,null,null,null,null,null,null,null,null,null,null,null,null,null,0,0,0,null,null,null,null,103,60,null,"",null,null,1,null,-1729700736,2,1,-2,0,0,0,0,0,0,0,null,0,0,0,"",0,1,0,null,null,0,0,0,null,"","",null,null,null,null,null,null,"","Пр/812-027.0-1","Пр/774-027.0","Линии электропередачи","Линии электропередачи",null,0,null,null,null,null,null,null,null,null,null,null,null,null,null,null,null,null,null,0]
[18,1,120,null,"","05.1.02.06","Приставки железобетонные","ШТ",{"$f":"I72*J77","v":0},0,0,0,0,0,0,0,0,0,0,0,0,0,0,0,0,null,-1,0,0,0,0,0,0,0,0,0,0,0,0,0,0,0,0,0,0,103,60,1,1,null,null,1,1,1,1,"","","","",3,1,"",null,null,33001,0,"",0,2,0,1,1,1,1,1,1,"",103,60,"",null,null,0,0,0,0,0,0,0,0,0,"",0,0,0,0,0,0,0,0,0,0,0,0,null,null,"","","","","","","","","","","",0,0,1,1,null,null,null,1013,"ШТ","ШТ",1,null,"","","","",null,83666879,2,"Общестроительные работы",27,"Линии электропередачи",1,33001,"Линии электропередачи","ФЕР-33",null,"",null,1024,0,0,0,0,0,0,0,null,null,null,null,null,null,null,null,null,null,null,null,null,null,null,null,null,null,0,0,0,null,null,null,null,103,60,null,"",null,null,1,null,-1729700736,2,1,-2,0,0,0,0,0,0,0,null,0,0,0,"",0,1,0,null,null,0,0,0,null,"","",null,null,null,null,null,null,"","Пр/812-027.0-1","Пр/774-027.0","Линии электропередачи","Линии электропередачи",null,0,null,null,null,null,null,null,null,null,null,null,null,null,null,null,null,null,null,0]
[18,1,102,null,"","05.1.02.07","Стойка железобетонная вибрированная для опор","ШТ",{"$f":"I71*J78","v":0},0,0,0,0,0,0,0,0,0,0,0,0,0,0,0,0,null,-1,0,0,0,0,0,0,0,0,0,0,0,0,0,0,0,0,0,0,103,60,1,1,null,null,1,1,1,1,"","","","",3,1,"",null,null,33001,0,"",0,2,0,1,1,1,1,1,1,"",103,60,"",null,null,0,0,0,0,0,0,0,0,0,"",0,0,0,0,0,0,0,0,0,0,0,0,null,null,"","","","","","","","","","","",0,0,1,1,null,null,null,1013,"ШТ","ШТ",1,null,"","","","",null,83666879,2,"Общестроительные работы",27,"Линии электропередачи",1,33001,"Линии электропередачи","ФЕР-33",null,"",null,1024,0,0,0,0,0,0,0,null,null,null,null,null,null,null,null,null,null,null,null,null,null,null,null,null,null,0,0,0,null,null,null,null,103,60,null,"",null,null,1,null,457934895,2,1,-2,0,0,0,0,0,0,0,null,0,0,0,"",0,1,0,null,null,0,0,0,null,"","",null,null,null,null,null,null,"","Пр/812-027.0-1","Пр/774-027.0","Линии электропередачи","Линии электропередачи",null,0,null,null,null,null,null,null,null,null,null,null,null,null,null,null,null,null,null,0]
[18,1,121,null,"","05.1.02.07","Стойка железобетонная вибрированная для опор","ШТ",{"$f":"I72*J79","v":0},0,0,0,0,0,0,0,0,0,0,0,0,0,0,0,0,null,-1,0,0,0,0,0,0,0,0,0,0,0,0,0,0,0,0,0,0,103,60,1,1,null,null,1,1,1,1,"","","","",3,1,"",null,null,33001,0,"",0,2,0,1,1,1,1,1,1,"",103,60,"",null,null,0,0,0,0,0,0,0,0,0,"",0,0,0,0,0,0,0,0,0,0,0,0,null,null,"","","","","","","","","","","",0,0,1,1,null,null,null,1013,"ШТ","ШТ",1,null,"","","","",null,83666879,2,"Общестроительные работы",27,"Линии электропередачи",1,33001,"Линии электропередачи","ФЕР-33",null,"",null,1024,0,0,0,0,0,0,0,null,null,null,null,null,null,null,null,null,null,null,null,null,null,null,null,null,null,0,0,0,null,null,null,null,103,60,null,"",null,null,1,null,457934895,2,1,-2,0,0,0,0,0,0,0,null,0,0,0,"",0,1,0,null,null,0,0,0,null,"","",null,null,null,null,null,null,"","Пр/812-027.0-1","Пр/774-027.0","Линии электропередачи","Линии электропередачи",null,0,null,null,null,null,null,null,null,null,null,null,null,null,null,null,null,null,null,0]
[18,1,103,null,"","07.2.02.05","Траверсы стальные","т",{"$f":"I71*J80","v":0},0,0,0,0,0,0,0,0,0,0,0,0,0,0,0,0,null,-1,0,0,0,0,0,0,0,0,0,0,0,0,0,0,0,0,0,0,103,60,1,1,null,null,1,1,1,1,"","","","",3,1,"",null,null,33001,0,"",0,2,0,1,1,1,1,1,1,"",103,60,"",null,null,0,0,0,0,0,0,0,0,0,"",0,0,0,0,0,0,0,0,0,0,0,0,null,null,"","","","","","","","","","","",0,0,1,1,null,null,null,1009,"т","т",1000,null,"","","","",null,83666879,2,"Общестроительные работы",27,"Линии электропередачи",1,33001,"Линии электропередачи","ФЕР-33",null,"",null,1024,0,0,0,0,0,0,0,null,null,null,null,null,null,null,null,null,null,null,null,null,null,null,null,null,null,0,0,0,null,null,null,null,103,60,null,"",null,null,1,null,1602794472,2,1,-2,0,0,0,0,0,0,0,null,0,0,0,"",0,1,0,null,null,0,0,0,null,"","",null,null,null,null,null,null,"","Пр/812-027.0-1","Пр/774-027.0","Линии электропередачи","Линии электропередачи",null,0,null,null,null,null,null,null,null,null,null,null,null,null,null,null,null,null,null,0]
[18,1,122,null,"","07.2.02.05","Траверсы стальные","т",{"$f":"I72*J81","v":0},0,0,0,0,0,0,0,0,0,0,0,0,0,0,0,0,null,-1,0,0,0,0,0,0,0,0,0,0,0,0,0,0,0,0,0,0,103,60,1,1,null,null,1,1,1,1,"","","","",3,1,"",null,null,33001,0,"",0,2,0,1,1,1,1,1,1,"",103,60,"",null,null,0,0,0,0,0,0,0,0,0,"",0,0,0,0,0,0,0,0,0,0,0,0,null,null,"","","","","","","","","","","",0,0,1,1,null,null,null,1009,"т","т",1000,null,"","","","",null,83666879,2,"Общестроительные работы",27,"Линии электропередачи",1,33001,"Линии электропередачи","ФЕР-33",null,"",null,1024,0,0,0,0,0,0,0,null,null,null,null,null,null,null,null,null,null,null,null,null,null,null,null,null,null,0,0,0,null,null,null,null,103,60,null,"",null,null,1,null,1602794472,2,1,-2,0,0,0,0,0,0,0,null,0,0,0,"",0,1,0,null,null,0,0,0,null,"","",null,null,null,null,null,null,"","Пр/812-027.0-1","Пр/774-027.0","Линии электропередачи","Линии электропередачи",null,0,null,null,null,null,null,null,null,null,null,null,null,null,null,null,null,null,null,0]
[18,1,104,null,"","07.2.07.13","Хомуты стальные","кг",{"$f":"I71*J82","v":0},0,0,0,0,0,0,0,0,0,0,0,0,0,0,0,0,null,-1,0,0,0,0,0,0,0,0,0,0,0,0,0,0,0,0,0,0,103,60,1,1,null,null,1,1,1,1,"","","","",3,1,"",null,null,33001,0,"",0,2,0,1,1,1,1,1,1,"",103,60,"",null,null,0,0,0,0,0,0,0,0,0,"",0,0,0,0,0,0,0,0,0,0,0,0,null,null,"","","","","","","","","","","",0,0,1,1,null,null,null,1009,"кг","кг",1,null,"","","","",null,83666879,2,"Общестроительные работы",27,"Линии электропередачи",1,33001,"Линии электропередачи","ФЕР-33",null,"",null,1024,0,0,0,0,0,0,0,null,null,null,null,null,null,null,null,null,null,null,null,null,null,null,null,null,null,0,0,0,null,null,null,null,103,60,null,"",null,null,1,null,-1111733769,2,1,-2,0,0,0,0,0,0,0,null,0,0,0,"",0,1,0,null,null,0,0,0,null,"","",null,null,null,null,null,null,"","Пр/812-027.0-1","Пр/774-027.0","Линии электропередачи","Линии электропередачи",null,0,null,null,null,null,null,null,null,null,null,null,null,null,null,null,null,null,null,0]
[18,1,123,null,"","07.2.07.13","Хомуты стальные","кг",{"$f":"I72*J83","v":0},0,0,0,0,0,0,0,0,0,0,0,0,0,0,0,0,null,-1,0,0,0,0,0,0,0,0,0,0,0,0,0,0,0,0,0,0,103,60,1,1,null,null,1,1,1,1,"","","","",3,1,"",null,null,33001,0,"",0,2,0,1,1,1,1,1,1,"",103,60,"",null,null,0,0,0,0,0,0,0,0,0,"",0,0,0,0,0,0,0,0,0,0,0,0,null,null,"","","","","","","","","","","",0,0,1,1,null,null,null,1009,"кг","кг",1,null,"","","","",null,83666879,2,"Общестроительные работы",27,"Линии электропередачи",1,33001,"Линии электропередачи","ФЕР-33",null,"",null,1024,0,0,0,0,0,0,0,null,null,null,null,null,null,null,null,null,null,null,null,null,null,null,null,null,null,0,0,0,null,null,null,null,103,60,null,"",null,null,1,null,-1111733769,2,1,-2,0,0,0,0,0,0,0,null,0,0,0,"",0,1,0,null,null,0,0,0,null,"","",null,null,null,null,null,null,"","Пр/812-027.0-1","Пр/774-027.0","Линии электропередачи","Линии электропередачи",null,0,null,null,null,null,null,null,null,null,null,null,null,null,null,null,null,null,null,0]
[18,1,105,null,"","08.3.04.02","Сталь стержневая диаметром до 10 мм","т",{"$f":"I71*J84","v":0},0,0,0,0,0,0,0,0,0,0,0,0,0,0,0,0,null,-1,0,0,0,0,0,0,0,0,0,0,0,0,0,0,0,0,0,0,103,60,1,1,null,null,1,1,1,1,"","","","",3,1,"",null,null,33001,0,"",0,2,0,1,1,1,1,1,1,"",103,60,"",null,null,0,0,0,0,0,0,0,0,0,"",0,0,0,0,0,0,0,0,0,0,0,0,null,null,"","","","","","","","","","","",0,0,1,1,null,null,null,1009,"т","т",1000,null,"","","","",null,83666879,2,"Общестроительные работы",27,"Линии электропередачи",1,33001,"Линии электропередачи","ФЕР-33",null,"",null,1024,0,0,0,0,0,0,0,null,null,null,null,null,null,null,null,null,null,null,null,null,null,null,null,null,null,0,0,0,null,null,null,null,103,60,null,"",null,null,1,null,1613753229,2,1,-2,0,0,0,0,0,0,0,null,0,0,0,"",0,1,0,null,null,0,0,0,null,"","",null,null,null,null,null,null,"","Пр/812-027.0-1","Пр/774-027.0","Линии электропередачи","Линии электропередачи",null,0,null,null,null,null,null,null,null,null,null,null,null,null,null,null,null,null,null,0]
[18,1,124,null,"","08.3.04.02","Сталь стержневая диаметром до 10 мм","т",{"$f":"I72*J85","v":0},0,0,0,0,0,0,0,0,0,0,0,0,0,0,0,0,null,-1,0,0,0,0,0,0,0,0,0,0,0,0,0,0,0,0,0,0,103,60,1,1,null,null,1,1,1,1,"","","","",3,1,"",null,null,33001,0,"",0,2,0,1,1,1,1,1,1,"",103,60,"",null,null,0,0,0,0,0,0,0,0,0,"",0,0,0,0,0,0,0,0,0,0,0,0,null,null,"","","","","","","","","","","",0,0,1,1,null,null,null,1009,"т","т",1000,null,"","","","",null,83666879,2,"Общестроительные работы",27,"Линии электропередачи",1,33001,"Линии электропередачи","ФЕР-33",null,"",null,1024,0,0,0,0,0,0,0,null,null,null,null,null,null,null,null,null,null,null,null,null,null,null,null,null,null,0,0,0,null,null,null,null,103,60,null,"",null,null,1,null,1613753229,2,1,-2,0,0,0,0,0,0,0,null,0,0,0,"",0,1,0,null,null,0,0,0,null,"","",null,null,null,null,null,null,"","Пр/812-027.0-1","Пр/774-027.0","Линии электропередачи","Линии электропередачи",null,0,null,null,null,null,null,null,null,null,null,null,null,null,null,null,null,null,null,0]
[18,1,109,null,"","22.2.01.04","Изоляторы штыревые","ШТ",{"$f":"I71*J86","v":0},0,0,0,0,0,0,0,0,0,0,0,0,0,0,0,0,null,-1,0,0,0,0,0,0,0,0,0,0,0,0,0,0,0,0,0,0,103,60,1,1,null,null,1,1,1,1,"","","","",3,1,"",null,null,33001,0,"",0,2,0,1,1,1,1,1,1,"",103,60,"",null,null,0,0,0,0,0,0,0,0,0,"",0,0,0,0,0,0,0,0,0,0,0,0,null,null,"","","","","","","","","","","",0,0,1,1,null,null,null,1013,"ШТ","ШТ",1,null,"","","","",null,83666879,2,"Общестроительные работы",27,"Линии электропередачи",1,33001,"Линии электропередачи","ФЕР-33",null,"",null,1024,0,0,0,0,0,0,0,null,null,null,null,null,null,null,null,null,null,null,null,null,null,null,null,null,null,0,0,0,null,null,null,null,103,60,null,"",null,null,1,null,-950997571,2,1,-2,0,0,0,0,0,0,0,null,0,0,0,"",0,1,0,null,null,0,0,0,null,"","",null,null,null,null,null,null,"","Пр/812-027.0-1","Пр/774-027.0","Линии электропередачи","Линии электропередачи",null,0,null,null,null,null,null,null,null,null,null,null,null,null,null,null,null,null,null,0]
[18,1,128,null,"","22.2.01.04","Изоляторы штыревые","ШТ",{"$f":"I72*J87","v":0},0,0,0,0,0,0,0,0,0,0,0,0,0,0,0,0,null,-1,0,0,0,0,0,0,0,0,0,0,0,0,0,0,0,0,0,0,103,60,1,1,null,null,1,1,1,1,"","","","",3,1,"",null,null,33001,0,"",0,2,0,1,1,1,1,1,1,"",103,60,"",null,null,0,0,0,0,0,0,0,0,0,"",0,0,0,0,0,0,0,0,0,0,0,0,null,null,"","","","","","","","","","","",0,0,1,1,null,null,null,1013,"ШТ","ШТ",1,null,"","","","",null,83666879,2,"Общестроительные работы",27,"Линии электропередачи",1,33001,"Линии электропередачи","ФЕР-33",null,"",null,1024,0,0,0,0,0,0,0,null,null,null,null,null,null,null,null,null,null,null,null,null,null,null,null,null,null,0,0,0,null,null,null,null,103,60,null,"",null,null,1,null,-950997571,2,1,-2,0,0,0,0,0,0,0,null,0,0,0,"",0,1,0,null,null,0,0,0,null,"","",null,null,null,null,null,null,"","Пр/812-027.0-1","Пр/774-027.0","Линии электропередачи","Линии электропередачи",null,0,null,null,null,null,null,null,null,null,null,null,null,null,null,null,null,null,null,0]
[18,1,110,null,"","22.2.02.21","Штыри","ШТ",{"$f":"I71*J88","v":0},0,0,0,0,0,0,0,0,0,0,0,0,0,0,0,0,null,-1,0,0,0,0,0,0,0,0,0,0,0,0,0,0,0,0,0,0,103,60,1,1,null,null,1,1,1,1,"","","","",3,1,"",null,null,33001,0,"",0,2,0,1,1,1,1,1,1,"",103,60,"",null,null,0,0,0,0,0,0,0,0,0,"",0,0,0,0,0,0,0,0,0,0,0,0,null,null,"","","","","","","","","","","",0,0,1,1,null,null,null,1013,"ШТ","ШТ",1,null,"","","","",null,83666879,2,"Общестроительные работы",27,"Линии электропередачи",1,33001,"Линии электропередачи","ФЕР-33",null,"",null,1024,0,0,0,0,0,0,0,null,null,null,null,null,null,null,null,null,null,null,null,null,null,null,null,null,null,0,0,0,null,null,null,null,103,60,null,"",null,null,1,null,-320198552,2,1,-2,0,0,0,0,0,0,0,null,0,0,0,"",0,1,0,null,null,0,0,0,null,"","",null,null,null,null,null,null,"","Пр/812-027.0-1","Пр/774-027.0","Линии электропередачи","Линии электропередачи",null,0,null,null,null,null,null,null,null,null,null,null,null,null,null,null,null,null,null,0]
[18,1,129,null,"","22.2.02.21","Штыри","ШТ",{"$f":"I72*J89","v":0},0,0,0,0,0,0,0,0,0,0,0,0,0,0,0,0,null,-1,0,0,0,0,0,0,0,0,0,0,0,0,0,0,0,0,0,0,103,60,1,1,null,null,1,1,1,1,"","","","",3,1,"",null,null,33001,0,"",0,2,0,1,1,1,1,1,1,"",103,60,"",null,null,0,0,0,0,0,0,0,0,0,"",0,0,0,0,0,0,0,0,0,0,0,0,null,null,"","","","","","","","","","","",0,0,1,1,null,null,null,1013,"ШТ","ШТ",1,null,"","","","",null,83666879,2,"Общестроительные работы",27,"Линии электропередачи",1,33001,"Линии электропередачи","ФЕР-33",null,"",null,1024,0,0,0,0,0,0,0,null,null,null,null,null,null,null,null,null,null,null,null,null,null,null,null,null,null,0,0,0,null,null,null,null,103,60,null,"",null,null,1,null,-320198552,2,1,-2,0,0,0,0,0,0,0,null,0,0,0,"",0,1,0,null,null,0,0,0,null,"","",null,null,null,null,null,null,"","Пр/812-027.0-1","Пр/774-027.0","Линии электропередачи","Линии электропередачи",null,0,null,null,null,null,null,null,null,null,null,null,null,null,null,null,null,null,null,0]
[18,1,111,null,"","22.2.02.23","Металлические плакаты","ШТ",{"$f":"I71*J90","v":0},0,0,0,0,0,0,0,0,0,0,0,0,0,0,0,0,null,-1,0,0,0,0,0,0,0,0,0,0,0,0,0,0,0,0,0,0,103,60,1,1,null,null,1,1,1,1,"","","","",3,1,"",null,null,33001,0,"",0,2,0,1,1,1,1,1,1,"",103,60,"",null,null,0,0,0,0,0,0,0,0,0,"",0,0,0,0,0,0,0,0,0,0,0,0,null,null,"","","","","","","","","","","",0,0,1,1,null,null,null,1013,"ШТ","ШТ",1,null,"","","","",null,83666879,2,"Общестроительные работы",27,"Линии электропередачи",1,33001,"Линии электропередачи","ФЕР-33",null,"",null,1024,0,0,0,0,0,0,0,null,null,null,null,null,null,null,null,null,null,null,null,null,null,null,null,null,null,0,0,0,null,null,null,null,103,60,null,"",null,null,1,null,326010188,2,1,-2,0,0,0,0,0,0,0,null,0,0,0,"",0,1,0,null,null,0,0,0,null,"","",null,null,null,null,null,null,"","Пр/812-027.0-1","Пр/774-027.0","Линии электропередачи","Линии электропередачи",null,0,null,null,null,null,null,null,null,null,null,null,null,null,null,null,null,null,null,0]
[18,1,130,null,"","22.2.02.23","Металлические плакаты","ШТ",{"$f":"I72*J91","v":0},0,0,0,0,0,0,0,0,0,0,0,0,0,0,0,0,null,-1,0,0,0,0,0,0,0,0,0,0,0,0,0,0,0,0,0,0,103,60,1,1,null,null,1,1,1,1,"","","","",3,1,"",null,null,33001,0,"",0,2,0,1,1,1,1,1,1,"",103,60,"",null,null,0,0,0,0,0,0,0,0,0,"",0,0,0,0,0,0,0,0,0,0,0,0,null,null,"","","","","","","","","","","",0,0,1,1,null,null,null,1013,"ШТ","ШТ",1,null,"","","","",null,83666879,2,"Общестроительные работы",27,"Линии электропередачи",1,33001,"Линии электропередачи","ФЕР-33",null,"",null,1024,0,0,0,0,0,0,0,null,null,null,null,null,null,null,null,null,null,null,null,null,null,null,null,null,null,0,0,0,null,null,null,null,103,60,null,"",null,null,1,null,326010188,2,1,-2,0,0,0,0,0,0,0,null,0,0,0,"",0,1,0,null,null,0,0,0,null,"","",null,null,null,null,null,null,"","Пр/812-027.0-1","Пр/774-027.0","Линии электропередачи","Линии электропередачи",null,0,null,null,null,null,null,null,null,null,null,null,null,null,null,null,null,null,null,0]
[17,1,{"$f":"ROW(SmtRes!A150)","v":150},{"$f":"ROW(EtalonRes!A150)","v":150},"","33-04-003-03","Установка железобетонных опор ВЛ 0,38; 6-10 кВ с траверсами без приставок: одностоечных с двумя подкосами","ШТ",0,0,0,1,1,0,0,{"$f":"SUMIF(SmtRes!AQ131:'SmtRes'!AQ150,\"=1\",SmtRes!DF131:'SmtRes'!DF150)","v":0},{"$f":"SUMIF(SmtRes!AQ131:'SmtRes'!AQ150,\"=1\",SmtRes!DG131:'SmtRes'!DG150)","v":0},{"$f":"SUMIF(SmtRes!AQ131:'SmtRes'!AQ150,\"=1\",SmtRes!DH131:'SmtRes'!DH150)","v":0},{"$f":"SUMIF(SmtRes!AQ131:'SmtRes'!AQ150,\"=1\",SmtRes!DI131:'SmtRes'!DI150)","v":0},0,{"$f":"SUMIF(SmtRes!AQ131:'SmtRes'!AQ150,\"=1\",SmtRes!CV131:'SmtRes'!CV150)","v":0},{"$f":"SUMIF(SmtRes!AQ131:'SmtRes'!AQ150,\"=1\",SmtRes!CW131:'SmtRes'!CW150)","v":0},0,0,0,null,-1,12590.57,{"$f":"ROUND((SUM(SmtRes!BQ131:'SmtRes'!BQ150)),2)","v":34.71},{"$f":"ROUND((((SUM(SmtRes!BR131:'SmtRes'!BR150))-(SUM(SmtRes!BS131:'SmtRes'!BS150)))+AE92),2)","v":5822.24},{"$f":"ROUND((SUM(SmtRes!BS131:'SmtRes'!BS150)),2)","v":2920.86},{"$f":"ROUND((SUM(SmtRes!BT131:'SmtRes'!BT150)),2)","v":6733.62},0,{"$f":"(SUM(SmtRes!BU131:'SmtRes'!BU150))","v":9},{"$f":"(SUM(SmtRes!BV131:'SmtRes'!BV150))","v":3.21},0,15511.430098000001,34.709198000000001,5822.2390000000005,2920.8618999999999,6733.62,0,9,3.21,0,103,60,1,1,null,null,1,1,1,1,"","","","",0,1,"ГЭСН-2022 доп.11, 33-04-003-03, приказ Минстроя России от 09.08.2024 г. № 524/пр",null,null,33001,0,"",0,2,0,1,1,1,1,1,1,"",103,60,"",null,null,0,0,0,0,0,0,0,0,0,"",0,0,{"$f":"SUMIF(SmtRes!AQ131:'SmtRes'!AQ150,\"=1\",SmtRes!AA131:'SmtRes'!AA150)","v":193362.11000000002},{"$f":"SUMIF(SmtRes!AQ131:'SmtRes'!AQ150,\"=1\",SmtRes!AB131:'SmtRes'!AB150)","v":3377.99},{"$f":"SUMIF(SmtRes!AQ131:'SmtRes'!AQ150,\"=1\",SmtRes!AC131:'SmtRes'!AC150)","v":1744.74},{"$f":"SUMIF(SmtRes!AQ131:'SmtRes'!AQ150,\"=1\",SmtRes!AD131:'SmtRes'!AD150)","v":748.18},{"$f":"AG92","v":0},{"$f":"SUMIF(SmtRes!AQ131:'SmtRes'!AQ150,\"=1\",SmtRes!BU131:'SmtRes'!BU150)","v":9},{"$f":"SUMIF(SmtRes!AQ131:'SmtRes'!AQ150,\"=1\",SmtRes!BV131:'SmtRes'!BV150)","v":3.21},{"$f":"AJ92","v":0},0,0,null,null,"","","","","","","","","","","",0,0,1,1,null,null,null,1013,"ШТ","ШТ",1,null,"","","","",null,83666879,2,"Общестроительные работы",27,"Линии электропередачи",1,33001,"Линии электропередачи","ФЕР-33",null,"",null,132096,0,0,0,0,0,9,3.21,0,null,null,null,null,null,null,null,null,null,null,null,null,null,null,null,null,null,0,0,0,null,null,null,null,103,60,null,"",null,null,1,null,1872065523,2,1,-2,0,0,0,0,0,0,0,null,0,0,0,"",0,1,0,null,null,0,0,0,null,"","",null,null,null,null,null,null,"","Пр/812-027.0-1","Пр/774-027.0","Линии электропередачи","Линии электропередачи",null,0,null,null,null,null,null,null,null,null,null,null,null,null,null,null,null,null,null,0]
[17,1,{"$f":"ROW(SmtRes!A170)","v":170},{"$f":"ROW(EtalonRes!A170)","v":170},"","33-04-003-03","Установка железобетонных опор ВЛ 0,38; 6-10 кВ с траверсами без приставок: одностоечных с двумя подкосами","ШТ",0,0,0,1,1,0,0,{"$f":"SUMIF(SmtRes!AQ151:'SmtRes'!AQ170,\"=1\",SmtRes!DF151:'SmtRes'!DF170)","v":0},{"$f":"SUMIF(SmtRes!AQ151:'SmtRes'!AQ170,\"=1\",SmtRes!DG151:'SmtRes'!DG170)","v":0},{"$f":"SUMIF(SmtRes!AQ151:'SmtRes'!AQ170,\"=1\",SmtRes!DH151:'SmtRes'!DH170)","v":0},{"$f":"SUMIF(SmtRes!AQ151:'SmtRes'!AQ170,\"=1\",SmtRes!DI151:'SmtRes'!DI170)","v":0},0,{"$f":"SUMIF(SmtRes!AQ151:'SmtRes'!AQ170,\"=1\",SmtRes!CV151:'SmtRes'!CV170)","v":0},{"$f":"SUMIF(SmtRes!AQ151:'SmtRes'!AQ170,\"=1\",SmtRes!CW151:'SmtRes'!CW170)","v":0},0,0,0,null,-1,12590.57,{"$f":"ROUND((SUM(SmtRes!BQ151:'SmtRes'!BQ170)),2)","v":34.71},{"$f":"ROUND((((SUM(SmtRes!BR151:'SmtRes'!BR170))-(SUM(SmtRes!BS151:'SmtRes'!BS170)))+AE93),2)","v":5822.24},{"$f":"ROUND((SUM(SmtRes!BS151:'SmtRes'!BS170)),2)","v":2920.86},{"$f":"ROUND((SUM(SmtRes!BT151:'SmtRes'!BT170)),2)","v":6733.62},0,{"$f":"(SUM(SmtRes!BU151:'SmtRes'!BU170))","v":9},{"$f":"(SUM(SmtRes!BV151:'SmtRes'!BV170))","v":3.21},0,15511.430098000001,34.709198000000001,5822.2390000000005,2920.8618999999999,6733.62,0,9,3.21,0,103,60,1,1,null,null,1,1,1,1,"","","","",0,1,"ГЭСН-2022 доп.11, 33-04-003-03, приказ Минстроя России от 09.08.2024 г. № 524/пр",null,null,33001,0,"",0,2,0,1,1,1,1,1,1,"",103,60,"",null,null,0,0,0,0,0,0,0,0,0,"",0,0,{"$f":"SUMIF(SmtRes!AQ151:'SmtRes'!AQ170,\"=1\",SmtRes!AA151:'SmtRes'!AA170)","v":193362.11000000002},{"$f":"SUMIF(SmtRes!AQ151:'SmtRes'!AQ170,\"=1\",SmtRes!AB151:'SmtRes'!AB170)","v":3377.99},{"$f":"SUMIF(SmtRes!AQ151:'SmtRes'!AQ170,\"=1\",SmtRes!AC151:'SmtRes'!AC170)","v":1744.74},{"$f":"SUMIF(SmtRes!AQ151:'SmtRes'!AQ170,\"=1\",SmtRes!AD151:'SmtRes'!AD170)","v":748.18},{"$f":"AG93","v":0},{"$f":"SUMIF(SmtRes!AQ151:'SmtRes'!AQ170,\"=1\",SmtRes!BU151:'SmtRes'!BU170)","v":9},{"$f":"SUMIF(SmtRes!AQ151:'SmtRes'!AQ170,\"=1\",SmtRes!BV151:'SmtRes'!BV170)","v":3.21},{"$f":"AJ93","v":0},0,0,null,null,"","","","","","","","","","","",0,0,1,1,null,null,null,1013,"ШТ","ШТ",1,null,"","","","",null,83666879,2,"Общестроительные работы",27,"Линии электропередачи",1,33001,"Линии электропередачи","ФЕР-33",null,"",null,132096,0,0,0,0,0,9,3.21,0,null,null,null,null,null,null,null,null,null,null,null,null,null,null,null,null,null,0,0,0,null,null,null,null,103,60,null,"",null,null,1,null,1872065523,2,1,-2,0,0,0,0,0,0,0,null,0,0,0,"",0,1,0,null,null,0,0,0,null,"","",null,null,null,null,null,null,"","Пр/812-027.0-1","Пр/774-027.0","Линии электропередачи","Линии электропередачи",null,0,null,null,null,null,null,null,null,null,null,null,null,null,null,null,null,null,null,0]
[19,1,null,null,null,"","По ВОР \"Устновка жб опор без приставок одностоечных с двумя подкосами\"","",null,null,null,null,null,null,null,null,null,null,null,null,null,null,null,null,null,null,1,null,null,null,null,null,null,null,null,null,null,null,null,null,null,null,null,null,null,null,null,null,null,null,null,null,null,null,null,null,null,null,null,null,null,null,null,null,null,null,null,null,null,null,null,null,null,null,null,null,null,null,null,null,null,null,null,null,null,null,null,null,null,null,null,null,null,null,null,null,null,null,null,null,null,null,null,null,null,null,null,null,null,null,null,null,null,null,null,null,null,null,null,null,null,null,null,null,null,null,null,null,null,null,null,null,null,null,null,null,null,null,null,null,null,null,null,null,null,null,null,null,null,null,null,null,null,null,null,null,null,null,null,null,null,null,null,null,null,null,null,null,null,null,null,null,null,null,null,null,null,null,null,null,null,null,null,null,null,null,null,null,null,null,null,null,null,null,null,null,null,null,null,null,null,null,null,null,null,null,null,null,null,null,null,null,null,null,null,null,null,null,null,null,null,null,null,null,null,null,null,null,null,null,null,null,null,null,null,null,null,null,null,null,null,null,null,null,0]
[18,1,137,null,"","01.7.15.03-0042","Болты с гайками и шайбами строительные","кг",{"$f":"I92*J95","v":0},0,0,0,0,{"$f":"ROUND(L95-M95,4)","v":0},{"$f":"ROUND(CP95,2)","v":0},{"$f":"ROUND(CQ95*I95,2)","v":0},{"$f":"ROUND(CR95*I95,2)","v":0},{"$f":"ROUND(CS95*I95,2)","v":0},{"$f":"ROUND(CT95*I95,2)","v":0},{"$f":"ROUND(CU95*I95,2)","v":0},{"$f":"ROUND(CV95*I95,7)","v":0},{"$f":"ROUND(CW95*I95,7)","v":0},{"$f":"ROUND(CX95*I95,2)","v":0},{"$f":"ROUND(CY95,2)","v":0},{"$f":"ROUND(CZ95,2)","v":0},null,-1,{"$f":"ROUND((AC95+AD95+AF95),2)","v":174.93},{"$f":"ROUND((ES95),2)","v":174.93},{"$f":"ROUND((((ET95)-(EU95))+AE95),2)","v":0},{"$f":"ROUND((EU95),2)","v":0},{"$f":"ROUND((EV95),2)","v":0},{"$f":"ROUND((AP95),2)","v":0},{"$f":"(EW95)","v":0},{"$f":"(EX95)","v":0},{"$f":"(AS95)","v":0},174.93,174.93,0,0,0,0,0,0,0,103,60,1,1,null,null,1,1,1,1.08,"","","","",3,1,"ФСБЦ-2022, 01.7.15.03-0042, приказ Минстроя России от 18.05.2022 г. № 378/пр",null,null,33001,0,"01.7.15.03-0042",1,2,0,1,1,1,1,1,1,"",103,60,"",null,null,0,0,0,0,0,0,0,0,0,"",0,{"$f":"(P95+Q95+S95+R95)","v":0},{"$f":"ROUND(AL95*BC95,2)","v":188.92},{"$f":"ROUND(AM95*BB95,2)","v":0},{"$f":"ROUND(AN95*BS95,2)","v":0},{"$f":"ROUND(AO95*BA95,2)","v":0},{"$f":"AG95","v":0},{"$f":"AH95","v":0},{"$f":"AI95","v":0},{"$f":"AJ95","v":0},{"$f":"(((S95+R95)*AT95)/100)","v":0},{"$f":"(((S95+R95)*AU95)/100)","v":0},null,null,"","","","","","","","","","","",0,0,1,1,null,null,null,1009,"кг","кг",1,null,"","","","",null,83666879,2,"Общестроительные работы",27,"Линии электропередачи",1,33001,"Линии электропередачи","ФЕР-33",null,"",null,1024,174.93,174.93,0,0,0,0,0,null,null,null,null,null,null,null,null,null,null,null,null,null,null,null,null,null,null,0,0,0,null,null,null,null,103,60,null,"",null,null,1,null,1181962216,2,1,2,0,0,{"$f":"ROUND(IF(AND(BH95=3,BI95=3,FS95<>0),P95,0),2)","v":0},{"$f":"ROUND(O95+X95+Y95,2)+GX95","v":0},{"$f":"IF(OR(BI95=0,BI95=1),GM95-GX95,0)","v":0},{"$f":"IF(BI95=2,GM95-GX95,0)","v":0},{"$f":"IF(BI95=4,GM95-GX95,0)","v":0},null,0,0,0,"",{"$f":"ROUND((GT95),2)","v":0},1,{"$f":"ROUND(HC95*I95,2)","v":0},null,null,0,0,{"$f":"GV95*GW95","v":0},null,"","",null,null,null,null,null,null,"","Пр/812-027.0-1","Пр/774-027.0","Линии электропередачи","Линии электропередачи",null,0,null,null,null,null,null,null,null,null,null,null,null,null,null,null,null,null,null,0]
[18,1,157,null,"","01.7.15.03-0042","Болты с гайками и шайбами строительные","кг",{"$f":"I93*J96","v":0},0,0,0,0,0,0,0,0,0,0,0,0,0,0,0,0,null,-1,174.93,174.93,0,0,0,0,0,0,0,174.93,174.93,0,0,0,0,0,0,0,103,60,1,1,null,null,1,1,1,1.08,"","","","",3,1,"ФСБЦ-2022, 01.7.15.03-0042, приказ Минстроя России от 18.05.2022 г. № 378/пр",null,null,33001,0,"01.7.15.03-0042",1,2,0,1,1,1,1,1,1,"",103,60,"",null,null,0,0,0,0,0,0,0,0,0,"",0,0,188.92,0,0,0,0,0,0,0,0,0,null,null,"","","","","","","","","","","",0,0,1,1,null,null,null,1009,"кг","кг",1,null,"","","","",null,83666879,2,"Общестроительные работы",27,"Линии электропередачи",1,33001,"Линии электропередачи","ФЕР-33",null,"",null,1024,174.93,174.93,0,0,0,0,0,null,null,null,null,null,null,null,null,null,null,null,null,null,null,null,null,null,null,0,0,0,null,null,null,null,103,60,null,"",null,null,1,null,1181962216,2,1,2,0,0,0,0,0,0,0,null,0,0,0,"",0,1,0,null,null,0,0,0,null,"","",null,null,null,null,null,null,"","Пр/812-027.0-1","Пр/774-027.0","Линии электропередачи","Линии электропередачи",null,0,null,null,null,null,null,null,null,null,null,null,null,null,null,null,null,null,null,0]
[18,1,139,null,"","05.1.02.07","Стойка железобетонная вибрированная для опор","ШТ",{"$f":"I92*J97","v":0},0,0,0,0,0,0,0,0,0,0,0,0,0,0,0,0,null,-1,0,0,0,0,0,0,0,0,0,0,0,0,0,0,0,0,0,0,103,60,1,1,null,null,1,1,1,1,"","","","",3,1,"",null,null,33001,0,"",0,2,0,1,1,1,1,1,1,"",103,60,"",null,null,0,0,0,0,0,0,0,0,0,"",0,0,0,0,0,0,0,0,0,0,0,0,null,null,"","","","","","","","","","","",0,0,1,1,null,null,null,1013,"ШТ","ШТ",1,null,"","","","",null,83666879,2,"Общестроительные работы",27,"Линии электропередачи",1,33001,"Линии электропередачи","ФЕР-33",null,"",null,1024,0,0,0,0,0,0,0,null,null,null,null,null,null,null,null,null,null,null,null,null,null,null,null,null,null,0,0,0,null,null,null,null,103,60,null,"",null,null,1,null,457934895,2,1,-2,0,0,0,0,0,0,0,null,0,0,0,"",0,1,0,null,null,0,0,0,null,"","",null,null,null,null,null,null,"","Пр/812-027.0-1","Пр/774-027.0","Линии электропередачи","Линии электропередачи",null,0,null,null,null,null,null,null,null,null,null,null,null,null,null,null,null,null,null,0]
[18,1,159,null,"","05.1.02.07","Стойка железобетонная вибрированная для опор","ШТ",{"$f":"I93*J98","v":0},0,0,0,0,0,0,0,0,0,0,0,0,0,0,0,0,null,-1,0,0,0,0,0,0,0,0,0,0,0,0,0,0,0,0,0,0,103,60,1,1,null,null,1,1,1,1,"","","","",3,1,"",null,null,33001,0,"",0,2,0,1,1,1,1,1,1,"",103,60,"",null,null,0,0,0,0,0,0,0,0,0,"",0,0,0,0,0,0,0,0,0,0,0,0,null,null,"","","","","","","","","","","",0,0,1,1,null,null,null,1013,"ШТ","ШТ",1,null,"","","","",null,83666879,2,"Общестроительные работы",27,"Линии электропередачи",1,33001,"Линии электропередачи","ФЕР-33",null,"",null,1024,0,0,0,0,0,0,0,null,null,null,null,null,null,null,null,null,null,null,null,null,null,null,null,null,null,0,0,0,null,null,null,null,103,60,null,"",null,null,1,null,457934895,2,1,-2,0,0,0,0,0,0,0,null,0,0,0,"",0,1,0,null,null,0,0,0,null,"","",null,null,null,null,null,null,"","Пр/812-027.0-1","Пр/774-027.0","Линии электропередачи","Линии электропередачи",null,0,null,null,null,null,null,null,null,null,null,null,null,null,null,null,null,null,null,0]
[18,1,140,null,"","07.2.02.05","Траверсы стальные","т",{"$f":"I92*J99","v":0},0,0,0,0,0,0,0,0,0,0,0,0,0,0,0,0,null,-1,0,0,0,0,0,0,0,0,0,0,0,0,0,0,0,0,0,0,103,60,1,1,null,null,1,1,1,1,"","","","",3,1,"",null,null,33001,0,"",0,2,0,1,1,1,1,1,1,"",103,60,"",null,null,0,0,0,0,0,0,0,0,0,"",0,0,0,0,0,0,0,0,0,0,0,0,null,null,"","","","","","","","","","","",0,0,1,1,null,null,null,1009,"т","т",1000,null,"","","","",null,83666879,2,"Общестроительные работы",27,"Линии электропередачи",1,33001,"Линии электропередачи","ФЕР-33",null,"",null,1024,0,0,0,0,0,0,0,null,null,null,null,null,null,null,null,null,null,null,null,null,null,null,null,null,null,0,0,0,null,null,null,null,103,60,null,"",null,null,1,null,1602794472,2,1,-2,0,0,0,0,0,0,0,null,0,0,0,"",0,1,0,null,null,0,0,0,null,"","",null,null,null,null,null,null,"","Пр/812-027.0-1","Пр/774-027.0","Линии электропередачи","Линии электропередачи",null,0,null,null,null,null,null,null,null,null,null,null,null,null,null,null,null,null,null,0]
[18,1,160,null,"","07.2.02.05","Траверсы стальные","т",{"$f":"I93*J100","v":0},0,0,0,0,0,0,0,0,0,0,0,0,0,0,0,0,null,-1,0,0,0,0,0,0,0,0,0,0,0,0,0,0,0,0,0,0,103,60,1,1,null,null,1,1,1,1,"","","","",3,1,"",null,null,33001,0,"",0,2,0,1,1,1,1,1,1,"",103,60,"",null,null,0,0,0,0,0,0,0,0,0,"",0,0,0,0,0,0,0,0,0,0,0,0,null,null,"","","","","","","","","","","",0,0,1,1,null,null,null,1009,"т","т",1000,null,"","","","",null,83666879,2,"Общестроительные работы",27,"Линии электропередачи",1,33001,"Линии электропередачи","ФЕР-33",null,"",null,1024,0,0,0,0,0,0,0,null,null,null,null,null,null,null,null,null,null,null,null,null,null,null,null,null,null,0,0,0,null,null,null,null,103,60,null,"",null,null,1,null,1602794472,2,1,-2,0,0,0,0,0,0,0,null,0,0,0,"",0,1,0,null,null,0,0,0,null,"","",null,null,null,null,null,null,"","Пр/812-027.0-1","Пр/774-027.0","Линии электропередачи","Линии электропередачи",null,0,null,null,null,null,null,null,null,null,null,null,null,null,null,null,null,null,null,0]
[18,1,141,null,"","07.2.07.13","Хомуты стальные","кг",{"$f":"I92*J101","v":0},0,0,0,0,0,0,0,0,0,0,0,0,0,0,0,0,null,-1,0,0,0,0,0,0,0,0,0,0,0,0,0,0,0,0,0,0,103,60,1,1,null,null,1,1,1,1,"","","","",3,1,"",null,null,33001,0,"",0,2,0,1,1,1,1,1,1,"",103,60,"",null,null,0,0,0,0,0,0,0,0,0,"",0,0,0,0,0,0,0,0,0,0,0,0,null,null,"","","","","","","","","","","",0,0,1,1,null,null,null,1009,"кг","кг",1,null,"","","","",null,83666879,2,"Общестроительные работы",27,"Линии электропередачи",1,33001,"Линии электропередачи","ФЕР-33",null,"",null,1024,0,0,0,0,0,0,0,null,null,null,null,null,null,null,null,null,null,null,null,null,null,null,null,null,null,0,0,0,null,null,null,null,103,60,null,"",null,null,1,null,-1111733769,2,1,-2,0,0,0,0,0,0,0,null,0,0,0,"",0,1,0,null,null,0,0,0,null,"","",null,null,null,null,null,null,"","Пр/812-027.0-1","Пр/774-027.0","Линии электропередачи","Линии электропередачи",null,0,null,null,null,null,null,null,null,null,null,null,null,null,null,null,null,null,null,0]
[18,1,161,null,"","07.2.07.13","Хомуты стальные","кг",{"$f":"I93*J102","v":0},0,0,0,0,0,0,0,0,0,0,0,0,0,0,0,0,null,-1,0,0,0,0,0,0,0,0,0,0,0,0,0,0,0,0,0,0,103,60,1,1,null,null,1,1,1,1,"","","","",3,1,"",null,null,33001,0,"",0,2,0,1,1,1,1,1,1,"",103,60,"",null,null,0,0,0,0,0,0,0,0,0,"",0,0,0,0,0,0,0,0,0,0,0,0,null,null,"","","","","","","","","","","",0,0,1,1,null,null,null,1009,"кг","кг",1,null,"","","","",null,83666879,2,"Общестроительные работы",27,"Линии электропередачи",1,33001,"Линии электропередачи","ФЕР-33",null,"",null,1024,0,0,0,0,0,0,0,null,null,null,null,null,null,null,null,null,null,null,null,null,null,null,null,null,null,0,0,0,null,null,null,null,103,60,null,"",null,null,1,null,-1111733769,2,1,-2,0,0,0,0,0,0,0,null,0,0,0,"",0,1,0,null,null,0,0,0,null,"","",null,null,null,null,null,null,"","Пр/812-027.0-1","Пр/774-027.0","Линии электропередачи","Линии электропередачи",null,0,null,null,null,null,null,null,null,null,null,null,null,null,null,null,null,null,null,0]
[18,1,142,null,"","08.3.04.02","Сталь стержневая диаметром до 10 мм","т",{"$f":"I92*J103","v":0},0,0,0,0,0,0,0,0,0,0,0,0,0,0,0,0,null,-1,0,0,0,0,0,0,0,0,0,0,0,0,0,0,0,0,0,0,103,60,1,1,null,null,1,1,1,1,"","","","",3,1,"",null,null,33001,0,"",0,2,0,1,1,1,1,1,1,"",103,60,"",null,null,0,0,0,0,0,0,0,0,0,"",0,0,0,0,0,0,0,0,0,0,0,0,null,null,"","","","","","","","","","","",0,0,1,1,null,null,null,1009,"т","т",1000,null,"","","","",null,83666879,2,"Общестроительные работы",27,"Линии электропередачи",1,33001,"Линии электропередачи","ФЕР-33",null,"",null,1024,0,0,0,0,0,0,0,null,null,null,null,null,null,null,null,null,null,null,null,null,null,null,null,null,null,0,0,0,null,null,null,null,103,60,null,"",null,null,1,null,1613753229,2,1,-2,0,0,0,0,0,0,0,null,0,0,0,"",0,1,0,null,null,0,0,0,null,"","",null,null,null,null,null,null,"","Пр/812-027.0-1","Пр/774-027.0","Линии электропередачи","Линии электропередачи",null,0,null,null,null,null,null,null,null,null,null,null,null,null,null,null,null,null,null,0]
[18,1,162,null,"","08.3.04.02","Сталь стержневая диаметром до 10 мм","т",{"$f":"I93*J104","v":0},0,0,0,0,0,0,0,0,0,0,0,0,0,0,0,0,null,-1,0,0,0,0,0,0,0,0,0,0,0,0,0,0,0,0,0,0,103,60,1,1,null,null,1,1,1,1,"","","","",3,1,"",null,null,33001,0,"",0,2,0,1,1,1,1,1,1,"",103,60,"",null,null,0,0,0,0,0,0,0,0,0,"",0,0,0,0,0,0,0,0,0,0,0,0,null,null,"","","","","","","","","","","",0,0,1,1,null,null,null,1009,"т","т",1000,null,"","","","",null,83666879,2,"Общестроительные работы",27,"Линии электропередачи",1,33001,"Линии электропередачи","ФЕР-33",null,"",null,1024,0,0,0,0,0,0,0,null,null,null,null,null,null,null,null,null,null,null,null,null,null,null,null,null,null,0,0,0,null,null,null,null,103,60,null,"",null,null,1,null,1613753229,2,1,-2,0,0,0,0,0,0,0,null,0,0,0,"",0,1,0,null,null,0,0,0,null,"","",null,null,null,null,null,null,"","Пр/812-027.0-1","Пр/774-027.0","Линии электропередачи","Линии электропередачи",null,0,null,null,null,null,null,null,null,null,null,null,null,null,null,null,null,null,null,0]
[18,1,146,null,"","22.2.01.04","Изоляторы штыревые","ШТ",{"$f":"I92*J105","v":0},0,0,0,0,0,0,0,0,0,0,0,0,0,0,0,0,null,-1,0,0,0,0,0,0,0,0,0,0,0,0,0,0,0,0,0,0,103,60,1,1,null,null,1,1,1,1,"","","","",3,1,"",null,null,33001,0,"",0,2,0,1,1,1,1,1,1,"",103,60,"",null,null,0,0,0,0,0,0,0,0,0,"",0,0,0,0,0,0,0,0,0,0,0,0,null,null,"","","","","","","","","","","",0,0,1,1,null,null,null,1013,"ШТ","ШТ",1,null,"","","","",null,83666879,2,"Общестроительные работы",27,"Линии электропередачи",1,33001,"Линии электропередачи","ФЕР-33",null,"",null,1024,0,0,0,0,0,0,0,null,null,null,null,null,null,null,null,null,null,null,null,null,null,null,null,null,null,0,0,0,null,null,null,null,103,60,null,"",null,null,1,null,-950997571,2,1,-2,0,0,0,0,0,0,0,null,0,0,0,"",0,1,0,null,null,0,0,0,null,"","",null,null,null,null,null,null,"","Пр/812-027.0-1","Пр/774-027.0","Линии электропередачи","Линии электропередачи",null,0,null,null,null,null,null,null,null,null,null,null,null,null,null,null,null,null,null,0]
[18,1,166,null,"","22.2.01.04","Изоляторы штыревые","ШТ",{"$f":"I93*J106","v":0},0,0,0,0,0,0,0,0,0,0,0,0,0,0,0,0,null,-1,0,0,0,0,0,0,0,0,0,0,0,0,0,0,0,0,0,0,103,60,1,1,null,null,1,1,1,1,"","","","",3,1,"",null,null,33001,0,"",0,2,0,1,1,1,1,1,1,"",103,60,"",null,null,0,0,0,0,0,0,0,0,0,"",0,0,0,0,0,0,0,0,0,0,0,0,null,null,"","","","","","","","","","","",0,0,1,1,null,null,null,1013,"ШТ","ШТ",1,null,"","","","",null,83666879,2,"Общестроительные работы",27,"Линии электропередачи",1,33001,"Линии электропередачи","ФЕР-33",null,"",null,1024,0,0,0,0,0,0,0,null,null,null,null,null,null,null,null,null,null,null,null,null,null,null,null,null,null,0,0,0,null,null,null,null,103,60,null,"",null,null,1,null,-950997571,2,1,-2,0,0,0,0,0,0,0,null,0,0,0,"",0,1,0,null,null,0,0,0,null,"","",null,null,null,null,null,null,"","Пр/812-027.0-1","Пр/774-027.0","Линии электропередачи","Линии электропередачи",null,0,null,null,null,null,null,null,null,null,null,null,null,null,null,null,null,null,null,0]
[18,1,147,null,"","22.2.02.07","Детали крепления стальные","кг",{"$f":"I92*J107","v":0},0,0,0,0,0,0,0,0,0,0,0,0,0,0,0,0,null,-1,0,0,0,0,0,0,0,0,0,0,0,0,0,0,0,0,0,0,103,60,1,1,null,null,1,1,1,1,"","","","",3,1,"",null,null,33001,0,"",0,2,0,1,1,1,1,1,1,"",103,60,"",null,null,0,0,0,0,0,0,0,0,0,"",0,0,0,0,0,0,0,0,0,0,0,0,null,null,"","","","","","","","","","","",0,0,1,1,null,null,null,1009,"кг","кг",1,null,"","","","",null,83666879,2,"Общестроительные работы",27,"Линии электропередачи",1,33001,"Линии электропередачи","ФЕР-33",null,"",null,1024,0,0,0,0,0,0,0,null,null,null,null,null,null,null,null,null,null,null,null,null,null,null,null,null,null,0,0,0,null,null,null,null,103,60,null,"",null,null,1,null,-1307724210,2,1,-2,0,0,0,0,0,0,0,null,0,0,0,"",0,1,0,null,null,0,0,0,null,"","",null,null,null,null,null,null,"","Пр/812-027.0-1","Пр/774-027.0","Линии электропередачи","Линии электропередачи",null,0,null,null,null,null,null,null,null,null,null,null,null,null,null,null,null,null,null,0]
[18,1,167,null,"","22.2.02.07","Детали крепления стальные","кг",{"$f":"I93*J108","v":0},0,0,0,0,0,0,0,0,0,0,0,0,0,0,0,0,null,-1,0,0,0,0,0,0,0,0,0,0,0,0,0,0,0,0,0,0,103,60,1,1,null,null,1,1,1,1,"","","","",3,1,"",null,null,33001,0,"",0,2,0,1,1,1,1,1,1,"",103,60,"",null,null,0,0,0,0,0,0,0,0,0,"",0,0,0,0,0,0,0,0,0,0,0,0,null,null,"","","","","","","","","","","",0,0,1,1,null,null,null,1009,"кг","кг",1,null,"","","","",null,83666879,2,"Общестроительные работы",27,"Линии электропередачи",1,33001,"Линии электропередачи","ФЕР-33",null,"",null,1024,0,0,0,0,0,0,0,null,null,null,null,null,null,null,null,null,null,null,null,null,null,null,null,null,null,0,0,0,null,null,null,null,103,60,null,"",null,null,1,null,-1307724210,2,1,-2,0,0,0,0,0,0,0,null,0,0,0,"",0,1,0,null,null,0,0,0,null,"","",null,null,null,null,null,null,"","Пр/812-027.0-1","Пр/774-027.0","Линии электропередачи","Линии электропередачи",null,0,null,null,null,null,null,null,null,null,null,null,null,null,null,null,null,null,null,0]
[18,1,148,null,"","22.2.02.09","Детали крепления стальные","кг",{"$f":"I92*J109","v":0},0,0,0,0,0,0,0,0,0,0,0,0,0,0,0,0,null,-1,0,0,0,0,0,0,0,0,0,0,0,0,0,0,0,0,0,0,103,60,1,1,null,null,1,1,1,1,"","","","",3,1,"",null,null,33001,0,"",0,2,0,1,1,1,1,1,1,"",103,60,"",null,null,0,0,0,0,0,0,0,0,0,"",0,0,0,0,0,0,0,0,0,0,0,0,null,null,"","","","","","","","","","","",0,0,1,1,null,null,null,1009,"кг","кг",1,null,"","","","",null,83666879,2,"Общестроительные работы",27,"Линии электропередачи",1,33001,"Линии электропередачи","ФЕР-33",null,"",null,1024,0,0,0,0,0,0,0,null,null,null,null,null,null,null,null,null,null,null,null,null,null,null,null,null,null,0,0,0,null,null,null,null,103,60,null,"",null,null,1,null,644915416,2,1,-2,0,0,0,0,0,0,0,null,0,0,0,"",0,1,0,null,null,0,0,0,null,"","",null,null,null,null,null,null,"","Пр/812-027.0-1","Пр/774-027.0","Линии электропередачи","Линии электропередачи",null,0,null,null,null,null,null,null,null,null,null,null,null,null,null,null,null,null,null,0]
[18,1,168,null,"","22.2.02.09","Детали крепления стальные","кг",{"$f":"I93*J110","v":0},0,0,0,0,0,0,0,0,0,0,0,0,0,0,0,0,null,-1,0,0,0,0,0,0,0,0,0,0,0,0,0,0,0,0,0,0,103,60,1,1,null,null,1,1,1,1,"","","","",3,1,"",null,null,33001,0,"",0,2,0,1,1,1,1,1,1,"",103,60,"",null,null,0,0,0,0,0,0,0,0,0,"",0,0,0,0,0,0,0,0,0,0,0,0,null,null,"","","","","","","","","","","",0,0,1,1,null,null,null,1009,"кг","кг",1,null,"","","","",null,83666879,2,"Общестроительные работы",27,"Линии электропередачи",1,33001,"Линии электропередачи","ФЕР-33",null,"",null,1024,0,0,0,0,0,0,0,null,null,null,null,null,null,null,null,null,null,null,null,null,null,null,null,null,null,0,0,0,null,null,null,null,103,60,null,"",null,null,1,null,644915416,2,1,-2,0,0,0,0,0,0,0,null,0,0,0,"",0,1,0,null,null,0,0,0,null,"","",null,null,null,null,null,null,"","Пр/812-027.0-1","Пр/774-027.0","Линии электропередачи","Линии электропередачи",null,0,null,null,null,null,null,null,null,null,null,null,null,null,null,null,null,null,null,0]
[18,1,149,null,"","22.2.02.21","Штыри","ШТ",{"$f":"I92*J111","v":0},0,0,0,0,0,0,0,0,0,0,0,0,0,0,0,0,null,-1,0,0,0,0,0,0,0,0,0,0,0,0,0,0,0,0,0,0,103,60,1,1,null,null,1,1,1,1,"","","","",3,1,"",null,null,33001,0,"",0,2,0,1,1,1,1,1,1,"",103,60,"",null,null,0,0,0,0,0,0,0,0,0,"",0,0,0,0,0,0,0,0,0,0,0,0,null,null,"","","","","","","","","","","",0,0,1,1,null,null,null,1013,"ШТ","ШТ",1,null,"","","","",null,83666879,2,"Общестроительные работы",27,"Линии электропередачи",1,33001,"Линии электропередачи","ФЕР-33",null,"",null,1024,0,0,0,0,0,0,0,null,null,null,null,null,null,null,null,null,null,null,null,null,null,null,null,null,null,0,0,0,null,null,null,null,103,60,null,"",null,null,1,null,-320198552,2,1,-2,0,0,0,0,0,0,0,null,0,0,0,"",0,1,0,null,null,0,0,0,null,"","",null,null,null,null,null,null,"","Пр/812-027.0-1","Пр/774-027.0","Линии электропередачи","Линии электропередачи",null,0,null,null,null,null,null,null,null,null,null,null,null,null,null,null,null,null,null,0]
[18,1,169,null,"","22.2.02.21","Штыри","ШТ",{"$f":"I93*J112","v":0},0,0,0,0,0,0,0,0,0,0,0,0,0,0,0,0,null,-1,0,0,0,0,0,0,0,0,0,0,0,0,0,0,0,0,0,0,103,60,1,1,null,null,1,1,1,1,"","","","",3,1,"",null,null,33001,0,"",0,2,0,1,1,1,1,1,1,"",103,60,"",null,null,0,0,0,0,0,0,0,0,0,"",0,0,0,0,0,0,0,0,0,0,0,0,null,null,"","","","","","","","","","","",0,0,1,1,null,null,null,1013,"ШТ","ШТ",1,null,"","","","",null,83666879,2,"Общестроительные работы",27,"Линии электропередачи",1,33001,"Линии электропередачи","ФЕР-33",null,"",null,1024,0,0,0,0,0,0,0,null,null,null,null,null,null,null,null,null,null,null,null,null,null,null,null,null,null,0,0,0,null,null,null,null,103,60,null,"",null,null,1,null,-320198552,2,1,-2,0,0,0,0,0,0,0,null,0,0,0,"",0,1,0,null,null,0,0,0,null,"","",null,null,null,null,null,null,"","Пр/812-027.0-1","Пр/774-027.0","Линии электропередачи","Линии электропередачи",null,0,null,null,null,null,null,null,null,null,null,null,null,null,null,null,null,null,null,0]
[18,1,150,null,"","22.2.02.23","Металлические плакаты","ШТ",{"$f":"I92*J113","v":0},0,0,0,0,0,0,0,0,0,0,0,0,0,0,0,0,null,-1,0,0,0,0,0,0,0,0,0,0,0,0,0,0,0,0,0,0,103,60,1,1,null,null,1,1,1,1,"","","","",3,1,"",null,null,33001,0,"",0,2,0,1,1,1,1,1,1,"",103,60,"",null,null,0,0,0,0,0,0,0,0,0,"",0,0,0,0,0,0,0,0,0,0,0,0,null,null,"","","","","","","","","","","",0,0,1,1,null,null,null,1013,"ШТ","ШТ",1,null,"","","","",null,83666879,2,"Общестроительные работы",27,"Линии электропередачи",1,33001,"Линии электропередачи","ФЕР-33",null,"",null,1024,0,0,0,0,0,0,0,null,null,null,null,null,null,null,null,null,null,null,null,null,null,null,null,null,null,0,0,0,null,null,null,null,103,60,null,"",null,null,1,null,326010188,2,1,-2,0,0,0,0,0,0,0,null,0,0,0,"",0,1,0,null,null,0,0,0,null,"","",null,null,null,null,null,null,"","Пр/812-027.0-1","Пр/774-027.0","Линии электропередачи","Линии электропередачи",null,0,null,null,null,null,null,null,null,null,null,null,null,null,null,null,null,null,null,0]
[18,1,170,null,"","22.2.02.23","Металлические плакаты","ШТ",{"$f":"I93*J114","v":0},0,0,0,0,0,0,0,0,0,0,0,0,0,0,0,0,null,-1,0,0,0,0,0,0,0,0,0,0,0,0,0,0,0,0,0,0,103,60,1,1,null,null,1,1,1,1,"","","","",3,1,"",null,null,33001,0,"",0,2,0,1,1,1,1,1,1,"",103,60,"",null,null,0,0,0,0,0,0,0,0,0,"",0,0,0,0,0,0,0,0,0,0,0,0,null,null,"","","","","","","","","","","",0,0,1,1,null,null,null,1013,"ШТ","ШТ",1,null,"","","","",null,83666879,2,"Общестроительные работы",27,"Линии электропередачи",1,33001,"Линии электропередачи","ФЕР-33",null,"",null,1024,0,0,0,0,0,0,0,null,null,null,null,null,null,null,null,null,null,null,null,null,null,null,null,null,null,0,0,0,null,null,null,null,103,60,null,"",null,null,1,null,326010188,2,1,-2,0,0,0,0,0,0,0,null,0,0,0,"",0,1,0,null,null,0,0,0,null,"","",null,null,null,null,null,null,"","Пр/812-027.0-1","Пр/774-027.0","Линии электропередачи","Линии электропередачи",null,0,null,null,null,null,null,null,null,null,null,null,null,null,null,null,null,null,null,0]
[17,1,{"$f":"ROW(SmtRes!A189)","v":189},{"$f":"ROW(EtalonRes!A189)","v":189},"5","33-04-003-02","Установка железобетонных опор ВЛ 0,38; 6-10 кВ с траверсами без приставок: одностоечных с одним подкосом","ШТ",0,0,0,4,4,0,0,{"$f":"SUMIF(SmtRes!AQ171:'SmtRes'!AQ189,\"=1\",SmtRes!DF171:'SmtRes'!DF189)","v":0},{"$f":"SUMIF(SmtRes!AQ171:'SmtRes'!AQ189,\"=1\",SmtRes!DG171:'SmtRes'!DG189)","v":0},{"$f":"SUMIF(SmtRes!AQ171:'SmtRes'!AQ189,\"=1\",SmtRes!DH171:'SmtRes'!DH189)","v":0},{"$f":"SUMIF(SmtRes!AQ171:'SmtRes'!AQ189,\"=1\",SmtRes!DI171:'SmtRes'!DI189)","v":0},0,{"$f":"SUMIF(SmtRes!AQ171:'SmtRes'!AQ189,\"=1\",SmtRes!CV171:'SmtRes'!CV189)","v":0},{"$f":"SUMIF(SmtRes!AQ171:'SmtRes'!AQ189,\"=1\",SmtRes!CW171:'SmtRes'!CW189)","v":0},0,0,0,null,85312357,9803.23,{"$f":"ROUND((SUM(SmtRes!BQ171:'SmtRes'!BQ189)),2)","v":115.84},{"$f":"ROUND((((SUM(SmtRes!BR171:'SmtRes'!BR189))-(SUM(SmtRes!BS171:'SmtRes'!BS189)))+AE115),2)","v":4318.45},{"$f":"ROUND((SUM(SmtRes!BS171:'SmtRes'!BS189)),2)","v":2180.92},{"$f":"ROUND((SUM(SmtRes!BT171:'SmtRes'!BT189)),2)","v":5368.94},0,{"$f":"(SUM(SmtRes!BU171:'SmtRes'!BU189))","v":7.1760000000000002},{"$f":"(SUM(SmtRes!BV171:'SmtRes'!BV189))","v":2.4},0,10006.103397999999,115.838998,3598.712,1817.4360000000001,4474.1163999999999,0,5.98,2,0,103,60,1,1,null,null,1,1,1,1,"","","","",0,1,"ГЭСН-2022 доп.17, 33-04-003-02, приказ Минстроя России от 17.02.2026 г. № 91/пр",null,null,33001,0,"",0,2,0,1,1,1,1,1,1,"",103,60,"",null,null,0,0,0,5,0,0,0,0,0,"Поправка: 421/пр_2020_прил.10_т.1_п.4_гр.5 Наименование: Производство работ осуществляется в охранной зоне действующей воздушной линии электропередачи, вблизи объектов, находящихся под напряжением, внутри объектов капитального строительства, внутренняя проводка в которых не обесточена, если это приведет к ограничению действий рабочих в соответствии с требованиями техники безопасности",0,0,{"$f":"SUMIF(SmtRes!AQ171:'SmtRes'!AQ189,\"=1\",SmtRes!AA171:'SmtRes'!AA189)","v":105143.62000000001},{"$f":"SUMIF(SmtRes!AQ171:'SmtRes'!AQ189,\"=1\",SmtRes!AB171:'SmtRes'!AB189)","v":3377.99},{"$f":"SUMIF(SmtRes!AQ171:'SmtRes'!AQ189,\"=1\",SmtRes!AC171:'SmtRes'!AC189)","v":1744.74},{"$f":"SUMIF(SmtRes!AQ171:'SmtRes'!AQ189,\"=1\",SmtRes!AD171:'SmtRes'!AD189)","v":748.18},{"$f":"AG115","v":0},{"$f":"SUMIF(SmtRes!AQ171:'SmtRes'!AQ189,\"=1\",SmtRes!BU171:'SmtRes'!BU189)","v":7.1760000000000002},{"$f":"SUMIF(SmtRes!AQ171:'SmtRes'!AQ189,\"=1\",SmtRes!BV171:'SmtRes'!BV189)","v":2.4},{"$f":"AJ115","v":0},0,0,null,9,"","","*(0,2+1)","*(0,2+1)","*(0,2+1)","","*(0,2+1)","*(0,2+1)","","","",0,0,1,1,null,null,null,1013,"ШТ","ШТ",1,null,"","","","",null,83666879,2,"Общестроительные работы",27,"Линии электропередачи",1,33001,"Линии электропередачи","ФЕР-33",null,"Поправка: 421/пр_2020_прил.10_т.1_п.4_гр.5",null,131072,0,0,0,0,0,5.98,2,0,null,null,null,null,null,null,null,null,null,null,null,null,null,null,null,null,null,0,0,0,null,null,null,null,103,60,null,"",null,null,1,null,-307086544,2,1,-2,0,0,0,0,0,0,0,null,0,3,0,"",0,1,0,null,null,0,0,0,null,"","",null,null,null,null,null,null,"","Пр/812-027.0-1","Пр/774-027.0","Линии электропередачи","Линии электропередачи",null,0,null,null,null,null,null,null,null,null,null,null,null,null,null,null,null,null,null,0]
[17,1,{"$f":"ROW(SmtRes!A208)","v":208},{"$f":"ROW(EtalonRes!A208)","v":208},"5","33-04-003-02","Установка железобетонных опор ВЛ 0,38; 6-10 кВ с траверсами без приставок: одностоечных с одним подкосом","ШТ",0,0,0,4,4,0,0,{"$f":"SUMIF(SmtRes!AQ190:'SmtRes'!AQ208,\"=1\",SmtRes!DF190:'SmtRes'!DF208)","v":0},{"$f":"SUMIF(SmtRes!AQ190:'SmtRes'!AQ208,\"=1\",SmtRes!DG190:'SmtRes'!DG208)","v":0},{"$f":"SUMIF(SmtRes!AQ190:'SmtRes'!AQ208,\"=1\",SmtRes!DH190:'SmtRes'!DH208)","v":0},{"$f":"SUMIF(SmtRes!AQ190:'SmtRes'!AQ208,\"=1\",SmtRes!DI190:'SmtRes'!DI208)","v":0},0,{"$f":"SUMIF(SmtRes!AQ190:'SmtRes'!AQ208,\"=1\",SmtRes!CV190:'SmtRes'!CV208)","v":0},{"$f":"SUMIF(SmtRes!AQ190:'SmtRes'!AQ208,\"=1\",SmtRes!CW190:'SmtRes'!CW208)","v":0},0,0,0,null,85312298,9803.23,{"$f":"ROUND((SUM(SmtRes!BQ190:'SmtRes'!BQ208)),2)","v":115.84},{"$f":"ROUND((((SUM(SmtRes!BR190:'SmtRes'!BR208))-(SUM(SmtRes!BS190:'SmtRes'!BS208)))+AE116),2)","v":4318.45},{"$f":"ROUND((SUM(SmtRes!BS190:'SmtRes'!BS208)),2)","v":2180.92},{"$f":"ROUND((SUM(SmtRes!BT190:'SmtRes'!BT208)),2)","v":5368.94},0,{"$f":"(SUM(SmtRes!BU190:'SmtRes'!BU208))","v":7.1760000000000002},{"$f":"(SUM(SmtRes!BV190:'SmtRes'!BV208))","v":2.4},0,10006.103397999999,115.838998,3598.712,1817.4360000000001,4474.1163999999999,0,5.98,2,0,103,60,1,1,null,null,1,1,1,1,"","","","",0,1,"ГЭСН-2022 доп.17, 33-04-003-02, приказ Минстроя России от 17.02.2026 г. № 91/пр",null,null,33001,0,"",0,2,0,1,1,1,1,1,1,"",103,60,"",null,null,0,0,0,5,0,0,0,0,0,"Поправка: 421/пр_2020_прил.10_т.1_п.4_гр.5 Наименование: Производство работ осуществляется в охранной зоне действующей воздушной линии электропередачи, вблизи объектов, находящихся под напряжением, внутри объектов капитального строительства, внутренняя проводка в которых не обесточена, если это приведет к ограничению действий рабочих в соответствии с требованиями техники безопасности",0,0,{"$f":"SUMIF(SmtRes!AQ190:'SmtRes'!AQ208,\"=1\",SmtRes!AA190:'SmtRes'!AA208)","v":105143.62000000001},{"$f":"SUMIF(SmtRes!AQ190:'SmtRes'!AQ208,\"=1\",SmtRes!AB190:'SmtRes'!AB208)","v":3377.99},{"$f":"SUMIF(SmtRes!AQ190:'SmtRes'!AQ208,\"=1\",SmtRes!AC190:'SmtRes'!AC208)","v":1744.74},{"$f":"SUMIF(SmtRes!AQ190:'SmtRes'!AQ208,\"=1\",SmtRes!AD190:'SmtRes'!AD208)","v":748.18},{"$f":"AG116","v":0},{"$f":"SUMIF(SmtRes!AQ190:'SmtRes'!AQ208,\"=1\",SmtRes!BU190:'SmtRes'!BU208)","v":7.1760000000000002},{"$f":"SUMIF(SmtRes!AQ190:'SmtRes'!AQ208,\"=1\",SmtRes!BV190:'SmtRes'!BV208)","v":2.4},{"$f":"AJ116","v":0},0,0,null,10,"","","*(0,2+1)","*(0,2+1)","*(0,2+1)","","*(0,2+1)","*(0,2+1)","","","",0,0,1,1,null,null,null,1013,"ШТ","ШТ",1,null,"","","","",null,83666879,2,"Общестроительные работы",27,"Линии электропередачи",1,33001,"Линии электропередачи","ФЕР-33",null,"Поправка: 421/пр_2020_прил.10_т.1_п.4_гр.5",null,131072,0,0,0,0,0,5.98,2,0,null,null,null,null,null,null,null,null,null,null,null,null,null,null,null,null,null,0,0,0,null,null,null,null,103,60,null,"",null,null,1,null,-307086544,2,1,-2,0,0,0,0,0,0,0,null,0,3,0,"",0,1,0,null,null,0,0,0,null,"","",null,null,null,null,null,null,"","Пр/812-027.0-1","Пр/774-027.0","Линии электропередачи","Линии электропередачи",null,0,null,null,null,null,null,null,null,null,null,null,null,null,null,null,null,null,null,0]
[19,1,null,null,null,"","По ВОР \"Установка ЖБ опор без приставок одностоечных с одним подкосом\"","",null,null,null,null,null,null,null,null,null,null,null,null,null,null,null,null,null,null,1,null,null,null,null,null,null,null,null,null,null,null,null,null,null,null,null,null,null,null,null,null,null,null,null,null,null,null,null,null,null,null,null,null,null,null,null,null,null,null,null,null,null,null,null,null,null,null,null,null,null,null,null,null,null,null,null,null,null,null,null,null,null,null,null,null,null,null,null,null,null,null,null,null,null,null,null,null,null,null,null,null,null,null,null,null,null,null,null,null,null,null,null,null,null,null,null,null,null,null,null,null,null,null,null,null,null,null,null,null,null,null,null,null,null,null,null,null,null,null,null,null,null,null,null,null,null,null,null,null,null,null,null,null,null,null,null,null,null,null,null,null,null,null,null,null,null,null,null,null,null,null,null,null,null,null,null,null,null,null,null,null,null,null,null,null,null,null,null,null,null,null,null,null,null,null,null,null,null,null,null,null,null,null,null,null,null,null,null,null,null,null,null,null,null,null,null,null,null,null,null,null,null,null,null,null,null,null,null,null,null,null,null,null,null,null,null,null,0]
[18,1,177,null,"5,1","01.7.15.03-0042","Болты с гайками и шайбами строительные","кг",{"$f":"I115*J118","v":0},0,0,0,0,{"$f":"ROUND(L118-M118,4)","v":0},{"$f":"ROUND(CP118,2)","v":0},{"$f":"ROUND(CQ118*I118,2)","v":0},{"$f":"ROUND(CR118*I118,2)","v":0},{"$f":"ROUND(CS118*I118,2)","v":0},{"$f":"ROUND(CT118*I118,2)","v":0},{"$f":"ROUND(CU118*I118,2)","v":0},{"$f":"ROUND(CV118*I118,7)","v":0},{"$f":"ROUND(CW118*I118,7)","v":0},{"$f":"ROUND(CX118*I118,2)","v":0},{"$f":"ROUND(CY118,2)","v":0},{"$f":"ROUND(CZ118,2)","v":0},null,85312357,{"$f":"ROUND((AC118+AD118+AF118),2)","v":174.93},{"$f":"ROUND((ES118),2)","v":174.93},{"$f":"ROUND((((ET118)-(EU118))+AE118),2)","v":0},{"$f":"ROUND((EU118),2)","v":0},{"$f":"ROUND((EV118),2)","v":0},{"$f":"ROUND((AP118),2)","v":0},{"$f":"(EW118)","v":0},{"$f":"(EX118)","v":0},{"$f":"(AS118)","v":0},174.93,174.93,0,0,0,0,0,0,0,103,60,1,1,null,null,1,1,1,1.08,"","","","",3,1,"ФСБЦ-2022, 01.7.15.03-0042, приказ Минстроя России от 18.05.2022 г. № 378/пр",null,null,33001,0,"01.7.15.03-0042",1,2,0,1,1,1,1,1,1,"",103,60,"",null,null,0,0,0,5,1,0,0,0,0,"",0,{"$f":"(P118+Q118+S118+R118)","v":0},{"$f":"ROUND(AL118*BC118,2)","v":188.92},{"$f":"ROUND(AM118*BB118,2)","v":0},{"$f":"ROUND(AN118*BS118,2)","v":0},{"$f":"ROUND(AO118*BA118,2)","v":0},{"$f":"AG118","v":0},{"$f":"AH118","v":0},{"$f":"AI118","v":0},{"$f":"AJ118","v":0},{"$f":"(((S118+R118)*AT118)/100)","v":0},{"$f":"(((S118+R118)*AU118)/100)","v":0},null,null,"","","","","","","","","","","",0,0,1,1,null,null,null,1009,"кг","кг",1,null,"","","","",null,83666879,2,"Общестроительные работы",27,"Линии электропередачи",1,33001,"Линии электропередачи","ФЕР-33",null,"",null,0,174.93,174.93,0,0,0,0,0,null,null,null,null,null,null,null,null,null,null,null,null,null,null,null,null,null,null,0,0,0,null,null,null,null,103,60,null,"",null,null,1,null,-1131385474,2,1,2,0,0,{"$f":"ROUND(IF(AND(BH118=3,BI118=3,FS118<>0),P118,0),2)","v":0},{"$f":"ROUND(O118+X118+Y118,2)+GX118","v":0},{"$f":"IF(OR(BI118=0,BI118=1),GM118-GX118,0)","v":0},{"$f":"IF(BI118=2,GM118-GX118,0)","v":0},{"$f":"IF(BI118=4,GM118-GX118,0)","v":0},null,0,3,0,"",{"$f":"ROUND((GT118),2)","v":0},1,{"$f":"ROUND(HC118*I118,2)","v":0},null,null,0,0,{"$f":"GV118*GW118","v":0},null,"","",null,null,null,null,null,null,"","Пр/812-027.0-1","Пр/774-027.0","Линии электропередачи","Линии электропередачи",null,0,null,null,null,null,null,null,null,null,null,null,null,null,null,null,null,null,null,0]
[18,1,196,null,"5,1","01.7.15.03-0042","Болты с гайками и шайбами строительные","кг",{"$f":"I116*J119","v":0},0,0,0,0,0,0,0,0,0,0,0,0,0,0,0,0,null,85312298,174.93,174.93,0,0,0,0,0,0,0,174.93,174.93,0,0,0,0,0,0,0,103,60,1,1,null,null,1,1,1,1.08,"","","","",3,1,"ФСБЦ-2022, 01.7.15.03-0042, приказ Минстроя России от 18.05.2022 г. № 378/пр",null,null,33001,0,"01.7.15.03-0042",1,2,0,1,1,1,1,1,1,"",103,60,"",null,null,0,0,0,5,1,0,0,0,0,"",0,0,188.92,0,0,0,0,0,0,0,0,0,null,null,"","","","","","","","","","","",0,0,1,1,null,null,null,1009,"кг","кг",1,null,"","","","",null,83666879,2,"Общестроительные работы",27,"Линии электропередачи",1,33001,"Линии электропередачи","ФЕР-33",null,"",null,0,174.93,174.93,0,0,0,0,0,null,null,null,null,null,null,null,null,null,null,null,null,null,null,null,null,null,null,0,0,0,null,null,null,null,103,60,null,"",null,null,1,null,-1131385474,2,1,2,0,0,0,0,0,0,0,null,0,3,0,"",0,1,0,null,null,0,0,0,null,"","",null,null,null,null,null,null,"","Пр/812-027.0-1","Пр/774-027.0","Линии электропередачи","Линии электропередачи",null,0,null,null,null,null,null,null,null,null,null,null,null,null,null,null,null,null,null,0]
[18,1,179,null,"5,2","05.1.02.07","Стойка железобетонная вибрированная для опор","ШТ",{"$f":"I115*J120","v":0},0,0,0,0,0,0,0,0,0,0,0,0,0,0,0,0,null,85312357,0,0,0,0,0,0,0,0,0,0,0,0,0,0,0,0,0,0,103,60,1,1,null,null,1,1,1,1,"","","","",3,1,"",null,null,33001,0,"",0,2,0,1,1,1,1,1,1,"",103,60,"",null,null,0,0,0,5,2,0,0,0,0,"",0,0,0,0,0,0,0,0,0,0,0,0,null,null,"","","","","","","","","","","",0,0,1,1,null,null,null,1013,"ШТ","ШТ",1,null,"","","","",null,83666879,2,"Общестроительные работы",27,"Линии электропередачи",1,33001,"Линии электропередачи","ФЕР-33",null,"",null,0,0,0,0,0,0,0,0,null,null,null,null,null,null,null,null,null,null,null,null,null,null,null,null,null,null,0,0,0,null,null,null,null,103,60,null,"",null,null,1,null,457934895,2,1,-2,0,0,0,0,0,0,0,null,0,3,0,"",0,1,0,null,null,0,0,0,null,"","",null,null,null,null,null,null,"","Пр/812-027.0-1","Пр/774-027.0","Линии электропередачи","Линии электропередачи",null,0,null,null,null,null,null,null,null,null,null,null,null,null,null,null,null,null,null,0]
[18,1,198,null,"5,2","05.1.02.07","Стойка железобетонная вибрированная для опор","ШТ",{"$f":"I116*J121","v":0},0,0,0,0,0,0,0,0,0,0,0,0,0,0,0,0,null,85312298,0,0,0,0,0,0,0,0,0,0,0,0,0,0,0,0,0,0,103,60,1,1,null,null,1,1,1,1,"","","","",3,1,"",null,null,33001,0,"",0,2,0,1,1,1,1,1,1,"",103,60,"",null,null,0,0,0,5,2,0,0,0,0,"",0,0,0,0,0,0,0,0,0,0,0,0,null,null,"","","","","","","","","","","",0,0,1,1,null,null,null,1013,"ШТ","ШТ",1,null,"","","","",null,83666879,2,"Общестроительные работы",27,"Линии электропередачи",1,33001,"Линии электропередачи","ФЕР-33",null,"",null,0,0,0,0,0,0,0,0,null,null,null,null,null,null,null,null,null,null,null,null,null,null,null,null,null,null,0,0,0,null,null,null,null,103,60,null,"",null,null,1,null,457934895,2,1,-2,0,0,0,0,0,0,0,null,0,3,0,"",0,1,0,null,null,0,0,0,null,"","",null,null,null,null,null,null,"","Пр/812-027.0-1","Пр/774-027.0","Линии электропередачи","Линии электропередачи",null,0,null,null,null,null,null,null,null,null,null,null,null,null,null,null,null,null,null,0]
[18,1,180,null,"5,3","07.2.02.05","Траверсы стальные","т",{"$f":"I115*J122","v":0},0,0,0,0,0,0,0,0,0,0,0,0,0,0,0,0,null,85312357,0,0,0,0,0,0,0,0,0,0,0,0,0,0,0,0,0,0,103,60,1,1,null,null,1,1,1,1,"","","","",3,1,"",null,null,33001,0,"",0,2,0,1,1,1,1,1,1,"",103,60,"",null,null,0,0,0,5,3,0,0,0,0,"",0,0,0,0,0,0,0,0,0,0,0,0,null,null,"","","","","","","","","","","",0,0,1,1,null,null,null,1009,"т","т",1000,null,"","","","",null,83666879,2,"Общестроительные работы",27,"Линии электропередачи",1,33001,"Линии электропередачи","ФЕР-33",null,"",null,0,0,0,0,0,0,0,0,null,null,null,null,null,null,null,null,null,null,null,null,null,null,null,null,null,null,0,0,0,null,null,null,null,103,60,null,"",null,null,1,null,1602794472,2,1,-2,0,0,0,0,0,0,0,null,0,3,0,"",0,1,0,null,null,0,0,0,null,"","",null,null,null,null,null,null,"","Пр/812-027.0-1","Пр/774-027.0","Линии электропередачи","Линии электропередачи",null,0,null,null,null,null,null,null,null,null,null,null,null,null,null,null,null,null,null,0]
[18,1,199,null,"5,3","07.2.02.05","Траверсы стальные","т",{"$f":"I116*J123","v":0},0,0,0,0,0,0,0,0,0,0,0,0,0,0,0,0,null,85312298,0,0,0,0,0,0,0,0,0,0,0,0,0,0,0,0,0,0,103,60,1,1,null,null,1,1,1,1,"","","","",3,1,"",null,null,33001,0,"",0,2,0,1,1,1,1,1,1,"",103,60,"",null,null,0,0,0,5,3,0,0,0,0,"",0,0,0,0,0,0,0,0,0,0,0,0,null,null,"","","","","","","","","","","",0,0,1,1,null,null,null,1009,"т","т",1000,null,"","","","",null,83666879,2,"Общестроительные работы",27,"Линии электропередачи",1,33001,"Линии электропередачи","ФЕР-33",null,"",null,0,0,0,0,0,0,0,0,null,null,null,null,null,null,null,null,null,null,null,null,null,null,null,null,null,null,0,0,0,null,null,null,null,103,60,null,"",null,null,1,null,1602794472,2,1,-2,0,0,0,0,0,0,0,null,0,3,0,"",0,1,0,null,null,0,0,0,null,"","",null,null,null,null,null,null,"","Пр/812-027.0-1","Пр/774-027.0","Линии электропередачи","Линии электропередачи",null,0,null,null,null,null,null,null,null,null,null,null,null,null,null,null,null,null,null,0]
[18,1,181,null,"5,4","07.2.07.13","Хомуты стальные","кг",{"$f":"I115*J124","v":0},0,0,0,0,0,0,0,0,0,0,0,0,0,0,0,0,null,85312357,0,0,0,0,0,0,0,0,0,0,0,0,0,0,0,0,0,0,103,60,1,1,null,null,1,1,1,1,"","","","",3,1,"",null,null,33001,0,"",0,2,0,1,1,1,1,1,1,"",103,60,"",null,null,0,0,0,5,4,0,0,0,0,"",0,0,0,0,0,0,0,0,0,0,0,0,null,null,"","","","","","","","","","","",0,0,1,1,null,null,null,1009,"кг","кг",1,null,"","","","",null,83666879,2,"Общестроительные работы",27,"Линии электропередачи",1,33001,"Линии электропередачи","ФЕР-33",null,"",null,0,0,0,0,0,0,0,0,null,null,null,null,null,null,null,null,null,null,null,null,null,null,null,null,null,null,0,0,0,null,null,null,null,103,60,null,"",null,null,1,null,-1111733769,2,1,-2,0,0,0,0,0,0,0,null,0,3,0,"",0,1,0,null,null,0,0,0,null,"","",null,null,null,null,null,null,"","Пр/812-027.0-1","Пр/774-027.0","Линии электропередачи","Линии электропередачи",null,0,null,null,null,null,null,null,null,null,null,null,null,null,null,null,null,null,null,0]
[18,1,200,null,"5,4","07.2.07.13","Хомуты стальные","кг",{"$f":"I116*J125","v":0},0,0,0,0,0,0,0,0,0,0,0,0,0,0,0,0,null,85312298,0,0,0,0,0,0,0,0,0,0,0,0,0,0,0,0,0,0,103,60,1,1,null,null,1,1,1,1,"","","","",3,1,"",null,null,33001,0,"",0,2,0,1,1,1,1,1,1,"",103,60,"",null,null,0,0,0,5,4,0,0,0,0,"",0,0,0,0,0,0,0,0,0,0,0,0,null,null,"","","","","","","","","","","",0,0,1,1,null,null,null,1009,"кг","кг",1,null,"","","","",null,83666879,2,"Общестроительные работы",27,"Линии электропередачи",1,33001,"Линии электропередачи","ФЕР-33",null,"",null,0,0,0,0,0,0,0,0,null,null,null,null,null,null,null,null,null,null,null,null,null,null,null,null,null,null,0,0,0,null,null,null,null,103,60,null,"",null,null,1,null,-1111733769,2,1,-2,0,0,0,0,0,0,0,null,0,3,0,"",0,1,0,null,null,0,0,0,null,"","",null,null,null,null,null,null,"","Пр/812-027.0-1","Пр/774-027.0","Линии электропередачи","Линии электропередачи",null,0,null,null,null,null,null,null,null,null,null,null,null,null,null,null,null,null,null,0]
[18,1,182,null,"5,5","08.3.04.02","Сталь стержневая диаметром до 10 мм","т",{"$f":"I115*J126","v":0},0,0,0,0,0,0,0,0,0,0,0,0,0,0,0,0,null,85312357,0,0,0,0,0,0,0,0,0,0,0,0,0,0,0,0,0,0,103,60,1,1,null,null,1,1,1,1,"","","","",3,1,"",null,null,33001,0,"",0,2,0,1,1,1,1,1,1,"",103,60,"",null,null,0,0,0,5,5,0,0,0,0,"",0,0,0,0,0,0,0,0,0,0,0,0,null,null,"","","","","","","","","","","",0,0,1,1,null,null,null,1009,"т","т",1000,null,"","","","",null,83666879,2,"Общестроительные работы",27,"Линии электропередачи",1,33001,"Линии электропередачи","ФЕР-33",null,"",null,0,0,0,0,0,0,0,0,null,null,null,null,null,null,null,null,null,null,null,null,null,null,null,null,null,null,0,0,0,null,null,null,null,103,60,null,"",null,null,1,null,1613753229,2,1,-2,0,0,0,0,0,0,0,null,0,3,0,"",0,1,0,null,null,0,0,0,null,"","",null,null,null,null,null,null,"","Пр/812-027.0-1","Пр/774-027.0","Линии электропередачи","Линии электропередачи",null,0,null,null,null,null,null,null,null,null,null,null,null,null,null,null,null,null,null,0]
[18,1,201,null,"5,5","08.3.04.02","Сталь стержневая диаметром до 10 мм","т",{"$f":"I116*J127","v":0},0,0,0,0,0,0,0,0,0,0,0,0,0,0,0,0,null,85312298,0,0,0,0,0,0,0,0,0,0,0,0,0,0,0,0,0,0,103,60,1,1,null,null,1,1,1,1,"","","","",3,1,"",null,null,33001,0,"",0,2,0,1,1,1,1,1,1,"",103,60,"",null,null,0,0,0,5,5,0,0,0,0,"",0,0,0,0,0,0,0,0,0,0,0,0,null,null,"","","","","","","","","","","",0,0,1,1,null,null,null,1009,"т","т",1000,null,"","","","",null,83666879,2,"Общестроительные работы",27,"Линии электропередачи",1,33001,"Линии электропередачи","ФЕР-33",null,"",null,0,0,0,0,0,0,0,0,null,null,null,null,null,null,null,null,null,null,null,null,null,null,null,null,null,null,0,0,0,null,null,null,null,103,60,null,"",null,null,1,null,1613753229,2,1,-2,0,0,0,0,0,0,0,null,0,3,0,"",0,1,0,null,null,0,0,0,null,"","",null,null,null,null,null,null,"","Пр/812-027.0-1","Пр/774-027.0","Линии электропередачи","Линии электропередачи",null,0,null,null,null,null,null,null,null,null,null,null,null,null,null,null,null,null,null,0]
[18,1,186,null,"5,6","22.2.01.04","Изоляторы штыревые","ШТ",{"$f":"I115*J128","v":0},0,0,0,0,0,0,0,0,0,0,0,0,0,0,0,0,null,85312357,0,0,0,0,0,0,0,0,0,0,0,0,0,0,0,0,0,0,103,60,1,1,null,null,1,1,1,1,"","","","",3,1,"",null,null,33001,0,"",0,2,0,1,1,1,1,1,1,"",103,60,"",null,null,0,0,0,5,6,0,0,0,0,"",0,0,0,0,0,0,0,0,0,0,0,0,null,null,"","","","","","","","","","","",0,0,1,1,null,null,null,1013,"ШТ","ШТ",1,null,"","","","",null,83666879,2,"Общестроительные работы",27,"Линии электропередачи",1,33001,"Линии электропередачи","ФЕР-33",null,"",null,0,0,0,0,0,0,0,0,null,null,null,null,null,null,null,null,null,null,null,null,null,null,null,null,null,null,0,0,0,null,null,null,null,103,60,null,"",null,null,1,null,-950997571,2,1,-2,0,0,0,0,0,0,0,null,0,3,0,"",0,1,0,null,null,0,0,0,null,"","",null,null,null,null,null,null,"","Пр/812-027.0-1","Пр/774-027.0","Линии электропередачи","Линии электропередачи",null,0,null,null,null,null,null,null,null,null,null,null,null,null,null,null,null,null,null,0]
[18,1,205,null,"5,6","22.2.01.04","Изоляторы штыревые","ШТ",{"$f":"I116*J129","v":0},0,0,0,0,0,0,0,0,0,0,0,0,0,0,0,0,null,85312298,0,0,0,0,0,0,0,0,0,0,0,0,0,0,0,0,0,0,103,60,1,1,null,null,1,1,1,1,"","","","",3,1,"",null,null,33001,0,"",0,2,0,1,1,1,1,1,1,"",103,60,"",null,null,0,0,0,5,6,0,0,0,0,"",0,0,0,0,0,0,0,0,0,0,0,0,null,null,"","","","","","","","","","","",0,0,1,1,null,null,null,1013,"ШТ","ШТ",1,null,"","","","",null,83666879,2,"Общестроительные работы",27,"Линии электропередачи",1,33001,"Линии электропередачи","ФЕР-33",null,"",null,0,0,0,0,0,0,0,0,null,null,null,null,null,null,null,null,null,null,null,null,null,null,null,null,null,null,0,0,0,null,null,null,null,103,60,null,"",null,null,1,null,-950997571,2,1,-2,0,0,0,0,0,0,0,null,0,3,0,"",0,1,0,null,null,0,0,0,null,"","",null,null,null,null,null,null,"","Пр/812-027.0-1","Пр/774-027.0","Линии электропередачи","Линии электропередачи",null,0,null,null,null,null,null,null,null,null,null,null,null,null,null,null,null,null,null,0]
[18,1,187,null,"5,7","22.2.02.07","Детали крепления","кг",{"$f":"I115*J130","v":0},0,0,0,0,0,0,0,0,0,0,0,0,0,0,0,0,null,85312357,0,0,0,0,0,0,0,0,0,0,0,0,0,0,0,0,0,0,103,60,1,1,null,null,1,1,1,1,"","","","",3,1,"",null,null,33001,0,"",0,2,0,1,1,1,1,1,1,"",103,60,"",null,null,0,0,0,5,7,0,0,0,0,"",0,0,0,0,0,0,0,0,0,0,0,0,null,null,"","","","","","","","","","","",0,0,1,1,null,null,null,1009,"кг","кг",1,null,"","","","",null,83666879,2,"Общестроительные работы",27,"Линии электропередачи",1,33001,"Линии электропередачи","ФЕР-33",null,"",null,0,0,0,0,0,0,0,0,null,null,null,null,null,null,null,null,null,null,null,null,null,null,null,null,null,null,0,0,0,null,null,null,null,103,60,null,"",null,null,1,null,-1204247626,2,1,-2,0,0,0,0,0,0,0,null,0,3,0,"",0,1,0,null,null,0,0,0,null,"","",null,null,null,null,null,null,"","Пр/812-027.0-1","Пр/774-027.0","Линии электропередачи","Линии электропередачи",null,0,null,null,null,null,null,null,null,null,null,null,null,null,null,null,null,null,null,0]
[18,1,206,null,"5,7","22.2.02.07","Детали крепления","кг",{"$f":"I116*J131","v":0},0,0,0,0,0,0,0,0,0,0,0,0,0,0,0,0,null,85312298,0,0,0,0,0,0,0,0,0,0,0,0,0,0,0,0,0,0,103,60,1,1,null,null,1,1,1,1,"","","","",3,1,"",null,null,33001,0,"",0,2,0,1,1,1,1,1,1,"",103,60,"",null,null,0,0,0,5,7,0,0,0,0,"",0,0,0,0,0,0,0,0,0,0,0,0,null,null,"","","","","","","","","","","",0,0,1,1,null,null,null,1009,"кг","кг",1,null,"","","","",null,83666879,2,"Общестроительные работы",27,"Линии электропередачи",1,33001,"Линии электропередачи","ФЕР-33",null,"",null,0,0,0,0,0,0,0,0,null,null,null,null,null,null,null,null,null,null,null,null,null,null,null,null,null,null,0,0,0,null,null,null,null,103,60,null,"",null,null,1,null,-1204247626,2,1,-2,0,0,0,0,0,0,0,null,0,3,0,"",0,1,0,null,null,0,0,0,null,"","",null,null,null,null,null,null,"","Пр/812-027.0-1","Пр/774-027.0","Линии электропередачи","Линии электропередачи",null,0,null,null,null,null,null,null,null,null,null,null,null,null,null,null,null,null,null,0]
[18,1,188,null,"5,8","22.2.02.21","Штыри","ШТ",{"$f":"I115*J132","v":0},0,0,0,0,0,0,0,0,0,0,0,0,0,0,0,0,null,85312357,0,0,0,0,0,0,0,0,0,0,0,0,0,0,0,0,0,0,103,60,1,1,null,null,1,1,1,1,"","","","",3,1,"",null,null,33001,0,"",0,2,0,1,1,1,1,1,1,"",103,60,"",null,null,0,0,0,5,8,0,0,0,0,"",0,0,0,0,0,0,0,0,0,0,0,0,null,null,"","","","","","","","","","","",0,0,1,1,null,null,null,1013,"ШТ","ШТ",1,null,"","","","",null,83666879,2,"Общестроительные работы",27,"Линии электропередачи",1,33001,"Линии электропередачи","ФЕР-33",null,"",null,0,0,0,0,0,0,0,0,null,null,null,null,null,null,null,null,null,null,null,null,null,null,null,null,null,null,0,0,0,null,null,null,null,103,60,null,"",null,null,1,null,-320198552,2,1,-2,0,0,0,0,0,0,0,null,0,3,0,"",0,1,0,null,null,0,0,0,null,"","",null,null,null,null,null,null,"","Пр/812-027.0-1","Пр/774-027.0","Линии электропередачи","Линии электропередачи",null,0,null,null,null,null,null,null,null,null,null,null,null,null,null,null,null,null,null,0]
[18,1,207,null,"5,8","22.2.02.21","Штыри","ШТ",{"$f":"I116*J133","v":0},0,0,0,0,0,0,0,0,0,0,0,0,0,0,0,0,null,85312298,0,0,0,0,0,0,0,0,0,0,0,0,0,0,0,0,0,0,103,60,1,1,null,null,1,1,1,1,"","","","",3,1,"",null,null,33001,0,"",0,2,0,1,1,1,1,1,1,"",103,60,"",null,null,0,0,0,5,8,0,0,0,0,"",0,0,0,0,0,0,0,0,0,0,0,0,null,null,"","","","","","","","","","","",0,0,1,1,null,null,null,1013,"ШТ","ШТ",1,null,"","","","",null,83666879,2,"Общестроительные работы",27,"Линии электропередачи",1,33001,"Линии электропередачи","ФЕР-33",null,"",null,0,0,0,0,0,0,0,0,null,null,null,null,null,null,null,null,null,null,null,null,null,null,null,null,null,null,0,0,0,null,null,null,null,103,60,null,"",null,null,1,null,-320198552,2,1,-2,0,0,0,0,0,0,0,null,0,3,0,"",0,1,0,null,null,0,0,0,null,"","",null,null,null,null,null,null,"","Пр/812-027.0-1","Пр/774-027.0","Линии электропередачи","Линии электропередачи",null,0,null,null,null,null,null,null,null,null,null,null,null,null,null,null,null,null,null,0]
[18,1,189,null,"5,9","22.2.02.23","Металлические плакаты","ШТ",{"$f":"I115*J134","v":0},0,0,0,0,0,0,0,0,0,0,0,0,0,0,0,0,null,85312357,0,0,0,0,0,0,0,0,0,0,0,0,0,0,0,0,0,0,103,60,1,1,null,null,1,1,1,1,"","","","",3,1,"",null,null,33001,0,"",0,2,0,1,1,1,1,1,1,"",103,60,"",null,null,0,0,0,5,9,0,0,0,0,"",0,0,0,0,0,0,0,0,0,0,0,0,null,null,"","","","","","","","","","","",0,0,1,1,null,null,null,1013,"ШТ","ШТ",1,null,"","","","",null,83666879,2,"Общестроительные работы",27,"Линии электропередачи",1,33001,"Линии электропередачи","ФЕР-33",null,"",null,0,0,0,0,0,0,0,0,null,null,null,null,null,null,null,null,null,null,null,null,null,null,null,null,null,null,0,0,0,null,null,null,null,103,60,null,"",null,null,1,null,326010188,2,1,-2,0,0,0,0,0,0,0,null,0,3,0,"",0,1,0,null,null,0,0,0,null,"","",null,null,null,null,null,null,"","Пр/812-027.0-1","Пр/774-027.0","Линии электропередачи","Линии электропередачи",null,0,null,null,null,null,null,null,null,null,null,null,null,null,null,null,null,null,null,0]
[18,1,208,null,"5,9","22.2.02.23","Металлические плакаты","ШТ",{"$f":"I116*J135","v":0},0,0,0,0,0,0,0,0,0,0,0,0,0,0,0,0,null,85312298,0,0,0,0,0,0,0,0,0,0,0,0,0,0,0,0,0,0,103,60,1,1,null,null,1,1,1,1,"","","","",3,1,"",null,null,33001,0,"",0,2,0,1,1,1,1,1,1,"",103,60,"",null,null,0,0,0,5,9,0,0,0,0,"",0,0,0,0,0,0,0,0,0,0,0,0,null,null,"","","","","","","","","","","",0,0,1,1,null,null,null,1013,"ШТ","ШТ",1,null,"","","","",null,83666879,2,"Общестроительные работы",27,"Линии электропередачи",1,33001,"Линии электропередачи","ФЕР-33",null,"",null,0,0,0,0,0,0,0,0,null,null,null,null,null,null,null,null,null,null,null,null,null,null,null,null,null,null,0,0,0,null,null,null,null,103,60,null,"",null,null,1,null,326010188,2,1,-2,0,0,0,0,0,0,0,null,0,3,0,"",0,1,0,null,null,0,0,0,null,"","",null,null,null,null,null,null,"","Пр/812-027.0-1","Пр/774-027.0","Линии электропередачи","Линии электропередачи",null,0,null,null,null,null,null,null,null,null,null,null,null,null,null,null,null,null,null,0]
[17,1,{"$f":"ROW(SmtRes!A226)","v":226},{"$f":"ROW(EtalonRes!A226)","v":226},"","33-04-003-04","Установка железобетонных опор для совместной подвески проводов ВЛ 0,38; 6-10 кВ без приставок: одностоечных (Подкос)","ШТ",0,0,0,1,1,0,0,{"$f":"SUMIF(SmtRes!AQ209:'SmtRes'!AQ226,\"=1\",SmtRes!DF209:'SmtRes'!DF226)","v":0},{"$f":"SUMIF(SmtRes!AQ209:'SmtRes'!AQ226,\"=1\",SmtRes!DG209:'SmtRes'!DG226)","v":0},{"$f":"SUMIF(SmtRes!AQ209:'SmtRes'!AQ226,\"=1\",SmtRes!DH209:'SmtRes'!DH226)","v":0},{"$f":"SUMIF(SmtRes!AQ209:'SmtRes'!AQ226,\"=1\",SmtRes!DI209:'SmtRes'!DI226)","v":0},0,{"$f":"SUMIF(SmtRes!AQ209:'SmtRes'!AQ226,\"=1\",SmtRes!CV209:'SmtRes'!CV226)","v":0},{"$f":"SUMIF(SmtRes!AQ209:'SmtRes'!AQ226,\"=1\",SmtRes!CW209:'SmtRes'!CW226)","v":0},0,0,0,null,-1,5096.3500000000004,{"$f":"ROUND((SUM(SmtRes!BQ209:'SmtRes'!BQ226)),2)","v":29.42},{"$f":"ROUND((((SUM(SmtRes!BR209:'SmtRes'!BR226))-(SUM(SmtRes!BS209:'SmtRes'!BS226)))+AE136),2)","v":1662.71},{"$f":"ROUND((SUM(SmtRes!BS209:'SmtRes'!BS226)),2)","v":889.7},{"$f":"ROUND((SUM(SmtRes!BT209:'SmtRes'!BT226)),2)","v":3404.22},0,{"$f":"(SUM(SmtRes!BU209:'SmtRes'!BU226))","v":4.55},{"$f":"(SUM(SmtRes!BV209:'SmtRes'!BV226))","v":0.99},0,5986.0405979999996,29.423198000000003,1662.7026999999998,889.69569999999999,3404.2189999999996,0,4.55,0.99,0,103,60,1,1,null,null,1,1,1,1,"","","","",0,1,"ГЭСН-2022 доп.17, 33-04-003-04, приказ Минстроя России от 17.02.2026 г. № 91/пр",null,null,33001,0,"",0,2,0,1,1,1,1,1,1,"",103,60,"",null,null,0,0,0,0,0,0,0,0,0,"",0,0,{"$f":"SUMIF(SmtRes!AQ209:'SmtRes'!AQ226,\"=1\",SmtRes!AA209:'SmtRes'!AA226)","v":105143.62000000001},{"$f":"SUMIF(SmtRes!AQ209:'SmtRes'!AQ226,\"=1\",SmtRes!AB209:'SmtRes'!AB226)","v":3377.99},{"$f":"SUMIF(SmtRes!AQ209:'SmtRes'!AQ226,\"=1\",SmtRes!AC209:'SmtRes'!AC226)","v":1744.74},{"$f":"SUMIF(SmtRes!AQ209:'SmtRes'!AQ226,\"=1\",SmtRes!AD209:'SmtRes'!AD226)","v":748.18},{"$f":"AG136","v":0},{"$f":"SUMIF(SmtRes!AQ209:'SmtRes'!AQ226,\"=1\",SmtRes!BU209:'SmtRes'!BU226)","v":4.55},{"$f":"SUMIF(SmtRes!AQ209:'SmtRes'!AQ226,\"=1\",SmtRes!BV209:'SmtRes'!BV226)","v":0.99},{"$f":"AJ136","v":0},0,0,null,null,"","","","","","","","","","","",0,0,1,1,null,null,null,1013,"ШТ","ШТ",1,null,"","","","",null,83666879,2,"Общестроительные работы",27,"Линии электропередачи",1,33001,"Линии электропередачи","ФЕР-33",null,"",null,132096,0,0,0,0,0,4.55,0.99,0,null,null,null,null,null,null,null,null,null,null,null,null,null,null,null,null,null,0,0,0,null,null,null,null,103,60,null,"",null,null,1,null,-1295720092,2,1,-2,0,0,0,0,0,0,0,null,0,3,0,"",0,1,0,null,null,0,0,0,null,"","",null,null,null,null,null,null,"","Пр/812-027.0-1","Пр/774-027.0","Линии электропередачи","Линии электропередачи",null,0,null,null,null,null,null,null,null,null,null,null,null,null,null,null,null,null,null,0]
[17,1,{"$f":"ROW(SmtRes!A244)","v":244},{"$f":"ROW(EtalonRes!A244)","v":244},"","33-04-003-04","Установка железобетонных опор для совместной подвески проводов ВЛ 0,38; 6-10 кВ без приставок: одностоечных (Подкос)","ШТ",0,0,0,1,1,0,0,{"$f":"SUMIF(SmtRes!AQ227:'SmtRes'!AQ244,\"=1\",SmtRes!DF227:'SmtRes'!DF244)","v":0},{"$f":"SUMIF(SmtRes!AQ227:'SmtRes'!AQ244,\"=1\",SmtRes!DG227:'SmtRes'!DG244)","v":0},{"$f":"SUMIF(SmtRes!AQ227:'SmtRes'!AQ244,\"=1\",SmtRes!DH227:'SmtRes'!DH244)","v":0},{"$f":"SUMIF(SmtRes!AQ227:'SmtRes'!AQ244,\"=1\",SmtRes!DI227:'SmtRes'!DI244)","v":0},0,{"$f":"SUMIF(SmtRes!AQ227:'SmtRes'!AQ244,\"=1\",SmtRes!CV227:'SmtRes'!CV244)","v":0},{"$f":"SUMIF(SmtRes!AQ227:'SmtRes'!AQ244,\"=1\",SmtRes!CW227:'SmtRes'!CW244)","v":0},0,0,0,null,-1,5096.3500000000004,{"$f":"ROUND((SUM(SmtRes!BQ227:'SmtRes'!BQ244)),2)","v":29.42},{"$f":"ROUND((((SUM(SmtRes!BR227:'SmtRes'!BR244))-(SUM(SmtRes!BS227:'SmtRes'!BS244)))+AE137),2)","v":1662.71},{"$f":"ROUND((SUM(SmtRes!BS227:'SmtRes'!BS244)),2)","v":889.7},{"$f":"ROUND((SUM(SmtRes!BT227:'SmtRes'!BT244)),2)","v":3404.22},0,{"$f":"(SUM(SmtRes!BU227:'SmtRes'!BU244))","v":4.55},{"$f":"(SUM(SmtRes!BV227:'SmtRes'!BV244))","v":0.99},0,5986.0405979999996,29.423198000000003,1662.7026999999998,889.69569999999999,3404.2189999999996,0,4.55,0.99,0,103,60,1,1,null,null,1,1,1,1,"","","","",0,1,"ГЭСН-2022 доп.17, 33-04-003-04, приказ Минстроя России от 17.02.2026 г. № 91/пр",null,null,33001,0,"",0,2,0,1,1,1,1,1,1,"",103,60,"",null,null,0,0,0,0,0,0,0,0,0,"",0,0,{"$f":"SUMIF(SmtRes!AQ227:'SmtRes'!AQ244,\"=1\",SmtRes!AA227:'SmtRes'!AA244)","v":105143.62000000001},{"$f":"SUMIF(SmtRes!AQ227:'SmtRes'!AQ244,\"=1\",SmtRes!AB227:'SmtRes'!AB244)","v":3377.99},{"$f":"SUMIF(SmtRes!AQ227:'SmtRes'!AQ244,\"=1\",SmtRes!AC227:'SmtRes'!AC244)","v":1744.74},{"$f":"SUMIF(SmtRes!AQ227:'SmtRes'!AQ244,\"=1\",SmtRes!AD227:'SmtRes'!AD244)","v":748.18},{"$f":"AG137","v":0},{"$f":"SUMIF(SmtRes!AQ227:'SmtRes'!AQ244,\"=1\",SmtRes!BU227:'SmtRes'!BU244)","v":4.55},{"$f":"SUMIF(SmtRes!AQ227:'SmtRes'!AQ244,\"=1\",SmtRes!BV227:'SmtRes'!BV244)","v":0.99},{"$f":"AJ137","v":0},0,0,null,null,"","","","","","","","","","","",0,0,1,1,null,null,null,1013,"ШТ","ШТ",1,null,"","","","",null,83666879,2,"Общестроительные работы",27,"Линии электропередачи",1,33001,"Линии электропередачи","ФЕР-33",null,"",null,132096,0,0,0,0,0,4.55,0.99,0,null,null,null,null,null,null,null,null,null,null,null,null,null,null,null,null,null,0,0,0,null,null,null,null,103,60,null,"",null,null,1,null,-1295720092,2,1,-2,0,0,0,0,0,0,0,null,0,3,0,"",0,1,0,null,null,0,0,0,null,"","",null,null,null,null,null,null,"","Пр/812-027.0-1","Пр/774-027.0","Линии электропередачи","Линии электропередачи",null,0,null,null,null,null,null,null,null,null,null,null,null,null,null,null,null,null,null,0]
[19,1,null,null,null,"","По ВОР \"Переоборудование жб опор без приставок одностоечных с одним подкосом в жб опоры без приставок одностоечных с двумя подкосами\" / По ВОР \"Переоборудование жб опор без приставок одностоечных с одним подкосом в одностоечных с двумя подкосами двухцепные\" / По ВОР \"Переоборудование жб опор без приставок одностоечных в жб опоры без приставок одностоечные с одним подкосом\"","",null,null,null,null,null,null,null,null,null,null,null,null,null,null,null,null,null,null,1,null,null,null,null,null,null,null,null,null,null,null,null,null,null,null,null,null,null,null,null,null,null,null,null,null,null,null,null,null,null,null,null,null,null,null,null,null,null,null,null,null,null,null,null,null,null,null,null,null,null,null,null,null,null,null,null,null,null,null,null,null,null,null,null,null,null,null,null,null,null,null,null,null,null,null,null,null,null,null,null,null,null,null,null,null,null,null,null,null,null,null,null,null,null,null,null,null,null,null,null,null,null,null,null,null,null,null,null,null,null,null,null,null,null,null,null,null,null,null,null,null,null,null,null,null,null,null,null,null,null,null,null,null,null,null,null,null,null,null,null,null,null,null,null,null,null,null,null,null,null,null,null,null,null,null,null,null,null,null,null,null,null,null,null,null,null,null,null,null,null,null,null,null,null,null,null,null,null,null,null,null,null,null,null,null,null,null,null,null,null,null,null,null,null,null,null,null,null,null,null,null,null,null,null,null,null,null,null,null,null,null,null,null,null,null,null,null,0]
[18,1,215,null,"","01.7.15.03-0042","Болты с гайками и шайбами строительные","кг",{"$f":"I136*J139","v":0},0,0,0,0,{"$f":"ROUND(L139-M139,4)","v":0},{"$f":"ROUND(CP139,2)","v":0},{"$f":"ROUND(CQ139*I139,2)","v":0},{"$f":"ROUND(CR139*I139,2)","v":0},{"$f":"ROUND(CS139*I139,2)","v":0},{"$f":"ROUND(CT139*I139,2)","v":0},{"$f":"ROUND(CU139*I139,2)","v":0},{"$f":"ROUND(CV139*I139,7)","v":0},{"$f":"ROUND(CW139*I139,7)","v":0},{"$f":"ROUND(CX139*I139,2)","v":0},{"$f":"ROUND(CY139,2)","v":0},{"$f":"ROUND(CZ139,2)","v":0},null,-1,{"$f":"ROUND((AC139+AD139+AF139),2)","v":174.93},{"$f":"ROUND((ES139),2)","v":174.93},{"$f":"ROUND((((ET139)-(EU139))+AE139),2)","v":0},{"$f":"ROUND((EU139),2)","v":0},{"$f":"ROUND((EV139),2)","v":0},{"$f":"ROUND((AP139),2)","v":0},{"$f":"(EW139)","v":0},{"$f":"(EX139)","v":0},{"$f":"(AS139)","v":0},174.93,174.93,0,0,0,0,0,0,0,103,60,1,1,null,null,1,1,1,1.08,"","","","",3,1,"ФСБЦ-2022, 01.7.15.03-0042, приказ Минстроя России от 18.05.2022 г. № 378/пр",null,null,33001,0,"01.7.15.03-0042",1,2,0,1,1,1,1,1,1,"",103,60,"",null,null,0,0,0,0,0,0,0,0,0,"",0,{"$f":"(P139+Q139+S139+R139)","v":0},{"$f":"ROUND(AL139*BC139,2)","v":188.92},{"$f":"ROUND(AM139*BB139,2)","v":0},{"$f":"ROUND(AN139*BS139,2)","v":0},{"$f":"ROUND(AO139*BA139,2)","v":0},{"$f":"AG139","v":0},{"$f":"AH139","v":0},{"$f":"AI139","v":0},{"$f":"AJ139","v":0},{"$f":"(((S139+R139)*AT139)/100)","v":0},{"$f":"(((S139+R139)*AU139)/100)","v":0},null,null,"","","","","","","","","","","",0,0,1,1,null,null,null,1009,"кг","кг",1,null,"","","","",null,83666879,2,"Общестроительные работы",27,"Линии электропередачи",1,33001,"Линии электропередачи","ФЕР-33",null,"",null,1024,174.93,174.93,0,0,0,0,0,null,null,null,null,null,null,null,null,null,null,null,null,null,null,null,null,null,null,0,0,0,null,null,null,null,103,60,null,"",null,null,1,null,-1131385474,2,1,2,0,0,{"$f":"ROUND(IF(AND(BH139=3,BI139=3,FS139<>0),P139,0),2)","v":0},{"$f":"ROUND(O139+X139+Y139,2)+GX139","v":0},{"$f":"IF(OR(BI139=0,BI139=1),GM139-GX139,0)","v":0},{"$f":"IF(BI139=2,GM139-GX139,0)","v":0},{"$f":"IF(BI139=4,GM139-GX139,0)","v":0},null,0,3,0,"",{"$f":"ROUND((GT139),2)","v":0},1,{"$f":"ROUND(HC139*I139,2)","v":0},null,null,0,0,{"$f":"GV139*GW139","v":0},null,"","",null,null,null,null,null,null,"","Пр/812-027.0-1","Пр/774-027.0","Линии электропередачи","Линии электропередачи",null,0,null,null,null,null,null,null,null,null,null,null,null,null,null,null,null,null,null,0]
[18,1,233,null,"","01.7.15.03-0042","Болты с гайками и шайбами строительные","кг",{"$f":"I137*J140","v":0},0,0,0,0,0,0,0,0,0,0,0,0,0,0,0,0,null,-1,174.93,174.93,0,0,0,0,0,0,0,174.93,174.93,0,0,0,0,0,0,0,103,60,1,1,null,null,1,1,1,1.08,"","","","",3,1,"ФСБЦ-2022, 01.7.15.03-0042, приказ Минстроя России от 18.05.2022 г. № 378/пр",null,null,33001,0,"01.7.15.03-0042",1,2,0,1,1,1,1,1,1,"",103,60,"",null,null,0,0,0,0,0,0,0,0,0,"",0,0,188.92,0,0,0,0,0,0,0,0,0,null,null,"","","","","","","","","","","",0,0,1,1,null,null,null,1009,"кг","кг",1,null,"","","","",null,83666879,2,"Общестроительные работы",27,"Линии электропередачи",1,33001,"Линии электропередачи","ФЕР-33",null,"",null,1024,174.93,174.93,0,0,0,0,0,null,null,null,null,null,null,null,null,null,null,null,null,null,null,null,null,null,null,0,0,0,null,null,null,null,103,60,null,"",null,null,1,null,-1131385474,2,1,2,0,0,0,0,0,0,0,null,0,3,0,"",0,1,0,null,null,0,0,0,null,"","",null,null,null,null,null,null,"","Пр/812-027.0-1","Пр/774-027.0","Линии электропередачи","Линии электропередачи",null,0,null,null,null,null,null,null,null,null,null,null,null,null,null,null,null,null,null,0]
[18,1,217,null,"","05.1.02.07","Стойка железобетонная вибрированная для опор","ШТ",{"$f":"I136*J141","v":0},0,0,0,0,0,0,0,0,0,0,0,0,0,0,0,0,null,-1,0,0,0,0,0,0,0,0,0,0,0,0,0,0,0,0,0,0,103,60,1,1,null,null,1,1,1,1,"","","","",3,1,"",null,null,33001,0,"",0,2,0,1,1,1,1,1,1,"",103,60,"",null,null,0,0,0,0,0,0,0,0,0,"",0,0,0,0,0,0,0,0,0,0,0,0,null,null,"","","","","","","","","","","",0,0,1,1,null,null,null,1013,"ШТ","ШТ",1,null,"","","","",null,83666879,2,"Общестроительные работы",27,"Линии электропередачи",1,33001,"Линии электропередачи","ФЕР-33",null,"",null,1024,0,0,0,0,0,0,0,null,null,null,null,null,null,null,null,null,null,null,null,null,null,null,null,null,null,0,0,0,null,null,null,null,103,60,null,"",null,null,1,null,457934895,2,1,-2,0,0,0,0,0,0,0,null,0,3,0,"",0,1,0,null,null,0,0,0,null,"","",null,null,null,null,null,null,"","Пр/812-027.0-1","Пр/774-027.0","Линии электропередачи","Линии электропередачи",null,0,null,null,null,null,null,null,null,null,null,null,null,null,null,null,null,null,null,0]
[18,1,235,null,"","05.1.02.07","Стойка железобетонная вибрированная для опор","ШТ",{"$f":"I137*J142","v":0},0,0,0,0,0,0,0,0,0,0,0,0,0,0,0,0,null,-1,0,0,0,0,0,0,0,0,0,0,0,0,0,0,0,0,0,0,103,60,1,1,null,null,1,1,1,1,"","","","",3,1,"",null,null,33001,0,"",0,2,0,1,1,1,1,1,1,"",103,60,"",null,null,0,0,0,0,0,0,0,0,0,"",0,0,0,0,0,0,0,0,0,0,0,0,null,null,"","","","","","","","","","","",0,0,1,1,null,null,null,1013,"ШТ","ШТ",1,null,"","","","",null,83666879,2,"Общестроительные работы",27,"Линии электропередачи",1,33001,"Линии электропередачи","ФЕР-33",null,"",null,1024,0,0,0,0,0,0,0,null,null,null,null,null,null,null,null,null,null,null,null,null,null,null,null,null,null,0,0,0,null,null,null,null,103,60,null,"",null,null,1,null,457934895,2,1,-2,0,0,0,0,0,0,0,null,0,3,0,"",0,1,0,null,null,0,0,0,null,"","",null,null,null,null,null,null,"","Пр/812-027.0-1","Пр/774-027.0","Линии электропередачи","Линии электропередачи",null,0,null,null,null,null,null,null,null,null,null,null,null,null,null,null,null,null,null,0]
[18,1,218,null,"","07.2.02.05","Траверсы стальные","т",{"$f":"I136*J143","v":0},0,0,0,0,0,0,0,0,0,0,0,0,0,0,0,0,null,-1,0,0,0,0,0,0,0,0,0,0,0,0,0,0,0,0,0,0,103,60,1,1,null,null,1,1,1,1,"","","","",3,1,"",null,null,33001,0,"",0,2,0,1,1,1,1,1,1,"",103,60,"",null,null,0,0,0,0,0,0,0,0,0,"",0,0,0,0,0,0,0,0,0,0,0,0,null,null,"","","","","","","","","","","",0,0,1,1,null,null,null,1009,"т","т",1000,null,"","","","",null,83666879,2,"Общестроительные работы",27,"Линии электропередачи",1,33001,"Линии электропередачи","ФЕР-33",null,"",null,1024,0,0,0,0,0,0,0,null,null,null,null,null,null,null,null,null,null,null,null,null,null,null,null,null,null,0,0,0,null,null,null,null,103,60,null,"",null,null,1,null,1602794472,2,1,-2,0,0,0,0,0,0,0,null,0,3,0,"",0,1,0,null,null,0,0,0,null,"","",null,null,null,null,null,null,"","Пр/812-027.0-1","Пр/774-027.0","Линии электропередачи","Линии электропередачи",null,0,null,null,null,null,null,null,null,null,null,null,null,null,null,null,null,null,null,0]
[18,1,236,null,"","07.2.02.05","Траверсы стальные","т",{"$f":"I137*J144","v":0},0,0,0,0,0,0,0,0,0,0,0,0,0,0,0,0,null,-1,0,0,0,0,0,0,0,0,0,0,0,0,0,0,0,0,0,0,103,60,1,1,null,null,1,1,1,1,"","","","",3,1,"",null,null,33001,0,"",0,2,0,1,1,1,1,1,1,"",103,60,"",null,null,0,0,0,0,0,0,0,0,0,"",0,0,0,0,0,0,0,0,0,0,0,0,null,null,"","","","","","","","","","","",0,0,1,1,null,null,null,1009,"т","т",1000,null,"","","","",null,83666879,2,"Общестроительные работы",27,"Линии электропередачи",1,33001,"Линии электропередачи","ФЕР-33",null,"",null,1024,0,0,0,0,0,0,0,null,null,null,null,null,null,null,null,null,null,null,null,null,null,null,null,null,null,0,0,0,null,null,null,null,103,60,null,"",null,null,1,null,1602794472,2,1,-2,0,0,0,0,0,0,0,null,0,3,0,"",0,1,0,null,null,0,0,0,null,"","",null,null,null,null,null,null,"","Пр/812-027.0-1","Пр/774-027.0","Линии электропередачи","Линии электропередачи",null,0,null,null,null,null,null,null,null,null,null,null,null,null,null,null,null,null,null,0]
[18,1,219,null,"","07.2.07.13","Хомуты стальные","кг",{"$f":"I136*J145","v":0},0,0,0,0,0,0,0,0,0,0,0,0,0,0,0,0,null,-1,0,0,0,0,0,0,0,0,0,0,0,0,0,0,0,0,0,0,103,60,1,1,null,null,1,1,1,1,"","","","",3,1,"",null,null,33001,0,"",0,2,0,1,1,1,1,1,1,"",103,60,"",null,null,0,0,0,0,0,0,0,0,0,"",0,0,0,0,0,0,0,0,0,0,0,0,null,null,"","","","","","","","","","","",0,0,1,1,null,null,null,1009,"кг","кг",1,null,"","","","",null,83666879,2,"Общестроительные работы",27,"Линии электропередачи",1,33001,"Линии электропередачи","ФЕР-33",null,"",null,1024,0,0,0,0,0,0,0,null,null,null,null,null,null,null,null,null,null,null,null,null,null,null,null,null,null,0,0,0,null,null,null,null,103,60,null,"",null,null,1,null,-1111733769,2,1,-2,0,0,0,0,0,0,0,null,0,3,0,"",0,1,0,null,null,0,0,0,null,"","",null,null,null,null,null,null,"","Пр/812-027.0-1","Пр/774-027.0","Линии электропередачи","Линии электропередачи",null,0,null,null,null,null,null,null,null,null,null,null,null,null,null,null,null,null,null,0]
[18,1,237,null,"","07.2.07.13","Хомуты стальные","кг",{"$f":"I137*J146","v":0},0,0,0,0,0,0,0,0,0,0,0,0,0,0,0,0,null,-1,0,0,0,0,0,0,0,0,0,0,0,0,0,0,0,0,0,0,103,60,1,1,null,null,1,1,1,1,"","","","",3,1,"",null,null,33001,0,"",0,2,0,1,1,1,1,1,1,"",103,60,"",null,null,0,0,0,0,0,0,0,0,0,"",0,0,0,0,0,0,0,0,0,0,0,0,null,null,"","","","","","","","","","","",0,0,1,1,null,null,null,1009,"кг","кг",1,null,"","","","",null,83666879,2,"Общестроительные работы",27,"Линии электропередачи",1,33001,"Линии электропередачи","ФЕР-33",null,"",null,1024,0,0,0,0,0,0,0,null,null,null,null,null,null,null,null,null,null,null,null,null,null,null,null,null,null,0,0,0,null,null,null,null,103,60,null,"",null,null,1,null,-1111733769,2,1,-2,0,0,0,0,0,0,0,null,0,3,0,"",0,1,0,null,null,0,0,0,null,"","",null,null,null,null,null,null,"","Пр/812-027.0-1","Пр/774-027.0","Линии электропередачи","Линии электропередачи",null,0,null,null,null,null,null,null,null,null,null,null,null,null,null,null,null,null,null,0]
[18,1,220,null,"","08.3.04.02","Сталь стержневая диаметром до 10 мм","т",{"$f":"I136*J147","v":0},0,0,0,0,0,0,0,0,0,0,0,0,0,0,0,0,null,-1,0,0,0,0,0,0,0,0,0,0,0,0,0,0,0,0,0,0,103,60,1,1,null,null,1,1,1,1,"","","","",3,1,"",null,null,33001,0,"",0,2,0,1,1,1,1,1,1,"",103,60,"",null,null,0,0,0,0,0,0,0,0,0,"",0,0,0,0,0,0,0,0,0,0,0,0,null,null,"","","","","","","","","","","",0,0,1,1,null,null,null,1009,"т","т",1000,null,"","","","",null,83666879,2,"Общестроительные работы",27,"Линии электропередачи",1,33001,"Линии электропередачи","ФЕР-33",null,"",null,1024,0,0,0,0,0,0,0,null,null,null,null,null,null,null,null,null,null,null,null,null,null,null,null,null,null,0,0,0,null,null,null,null,103,60,null,"",null,null,1,null,1613753229,2,1,-2,0,0,0,0,0,0,0,null,0,3,0,"",0,1,0,null,null,0,0,0,null,"","",null,null,null,null,null,null,"","Пр/812-027.0-1","Пр/774-027.0","Линии электропередачи","Линии электропередачи",null,0,null,null,null,null,null,null,null,null,null,null,null,null,null,null,null,null,null,0]
[18,1,238,null,"","08.3.04.02","Сталь стержневая диаметром до 10 мм","т",{"$f":"I137*J148","v":0},0,0,0,0,0,0,0,0,0,0,0,0,0,0,0,0,null,-1,0,0,0,0,0,0,0,0,0,0,0,0,0,0,0,0,0,0,103,60,1,1,null,null,1,1,1,1,"","","","",3,1,"",null,null,33001,0,"",0,2,0,1,1,1,1,1,1,"",103,60,"",null,null,0,0,0,0,0,0,0,0,0,"",0,0,0,0,0,0,0,0,0,0,0,0,null,null,"","","","","","","","","","","",0,0,1,1,null,null,null,1009,"т","т",1000,null,"","","","",null,83666879,2,"Общестроительные работы",27,"Линии электропередачи",1,33001,"Линии электропередачи","ФЕР-33",null,"",null,1024,0,0,0,0,0,0,0,null,null,null,null,null,null,null,null,null,null,null,null,null,null,null,null,null,null,0,0,0,null,null,null,null,103,60,null,"",null,null,1,null,1613753229,2,1,-2,0,0,0,0,0,0,0,null,0,3,0,"",0,1,0,null,null,0,0,0,null,"","",null,null,null,null,null,null,"","Пр/812-027.0-1","Пр/774-027.0","Линии электропередачи","Линии электропередачи",null,0,null,null,null,null,null,null,null,null,null,null,null,null,null,null,null,null,null,0]
[18,1,224,null,"","22.2.01.04","Изоляторы штыревые","ШТ",{"$f":"I136*J149","v":0},0,0,0,0,0,0,0,0,0,0,0,0,0,0,0,0,null,-1,0,0,0,0,0,0,0,0,0,0,0,0,0,0,0,0,0,0,103,60,1,1,null,null,1,1,1,1,"","","","",3,1,"",null,null,33001,0,"",0,2,0,1,1,1,1,1,1,"",103,60,"",null,null,0,0,0,0,0,0,0,0,0,"",0,0,0,0,0,0,0,0,0,0,0,0,null,null,"","","","","","","","","","","",0,0,1,1,null,null,null,1013,"ШТ","ШТ",1,null,"","","","",null,83666879,2,"Общестроительные работы",27,"Линии электропередачи",1,33001,"Линии электропередачи","ФЕР-33",null,"",null,1024,0,0,0,0,0,0,0,null,null,null,null,null,null,null,null,null,null,null,null,null,null,null,null,null,null,0,0,0,null,null,null,null,103,60,null,"",null,null,1,null,-950997571,2,1,-2,0,0,0,0,0,0,0,null,0,3,0,"",0,1,0,null,null,0,0,0,null,"","",null,null,null,null,null,null,"","Пр/812-027.0-1","Пр/774-027.0","Линии электропередачи","Линии электропередачи",null,0,null,null,null,null,null,null,null,null,null,null,null,null,null,null,null,null,null,0]
[18,1,242,null,"","22.2.01.04","Изоляторы штыревые","ШТ",{"$f":"I137*J150","v":0},0,0,0,0,0,0,0,0,0,0,0,0,0,0,0,0,null,-1,0,0,0,0,0,0,0,0,0,0,0,0,0,0,0,0,0,0,103,60,1,1,null,null,1,1,1,1,"","","","",3,1,"",null,null,33001,0,"",0,2,0,1,1,1,1,1,1,"",103,60,"",null,null,0,0,0,0,0,0,0,0,0,"",0,0,0,0,0,0,0,0,0,0,0,0,null,null,"","","","","","","","","","","",0,0,1,1,null,null,null,1013,"ШТ","ШТ",1,null,"","","","",null,83666879,2,"Общестроительные работы",27,"Линии электропередачи",1,33001,"Линии электропередачи","ФЕР-33",null,"",null,1024,0,0,0,0,0,0,0,null,null,null,null,null,null,null,null,null,null,null,null,null,null,null,null,null,null,0,0,0,null,null,null,null,103,60,null,"",null,null,1,null,-950997571,2,1,-2,0,0,0,0,0,0,0,null,0,3,0,"",0,1,0,null,null,0,0,0,null,"","",null,null,null,null,null,null,"","Пр/812-027.0-1","Пр/774-027.0","Линии электропередачи","Линии электропередачи",null,0,null,null,null,null,null,null,null,null,null,null,null,null,null,null,null,null,null,0]
[18,1,225,null,"","22.2.02.21","Штыри","ШТ",{"$f":"I136*J151","v":0},0,0,0,0,0,0,0,0,0,0,0,0,0,0,0,0,null,-1,0,0,0,0,0,0,0,0,0,0,0,0,0,0,0,0,0,0,103,60,1,1,null,null,1,1,1,1,"","","","",3,1,"",null,null,33001,0,"",0,2,0,1,1,1,1,1,1,"",103,60,"",null,null,0,0,0,0,0,0,0,0,0,"",0,0,0,0,0,0,0,0,0,0,0,0,null,null,"","","","","","","","","","","",0,0,1,1,null,null,null,1013,"ШТ","ШТ",1,null,"","","","",null,83666879,2,"Общестроительные работы",27,"Линии электропередачи",1,33001,"Линии электропередачи","ФЕР-33",null,"",null,1024,0,0,0,0,0,0,0,null,null,null,null,null,null,null,null,null,null,null,null,null,null,null,null,null,null,0,0,0,null,null,null,null,103,60,null,"",null,null,1,null,-320198552,2,1,-2,0,0,0,0,0,0,0,null,0,3,0,"",0,1,0,null,null,0,0,0,null,"","",null,null,null,null,null,null,"","Пр/812-027.0-1","Пр/774-027.0","Линии электропередачи","Линии электропередачи",null,0,null,null,null,null,null,null,null,null,null,null,null,null,null,null,null,null,null,0]
[18,1,243,null,"","22.2.02.21","Штыри","ШТ",{"$f":"I137*J152","v":0},0,0,0,0,0,0,0,0,0,0,0,0,0,0,0,0,null,-1,0,0,0,0,0,0,0,0,0,0,0,0,0,0,0,0,0,0,103,60,1,1,null,null,1,1,1,1,"","","","",3,1,"",null,null,33001,0,"",0,2,0,1,1,1,1,1,1,"",103,60,"",null,null,0,0,0,0,0,0,0,0,0,"",0,0,0,0,0,0,0,0,0,0,0,0,null,null,"","","","","","","","","","","",0,0,1,1,null,null,null,1013,"ШТ","ШТ",1,null,"","","","",null,83666879,2,"Общестроительные работы",27,"Линии электропередачи",1,33001,"Линии электропередачи","ФЕР-33",null,"",null,1024,0,0,0,0,0,0,0,null,null,null,null,null,null,null,null,null,null,null,null,null,null,null,null,null,null,0,0,0,null,null,null,null,103,60,null,"",null,null,1,null,-320198552,2,1,-2,0,0,0,0,0,0,0,null,0,3,0,"",0,1,0,null,null,0,0,0,null,"","",null,null,null,null,null,null,"","Пр/812-027.0-1","Пр/774-027.0","Линии электропередачи","Линии электропередачи",null,0,null,null,null,null,null,null,null,null,null,null,null,null,null,null,null,null,null,0]
[18,1,226,null,"","22.2.02.23","Металлические плакаты","ШТ",{"$f":"I136*J153","v":0},0,0,0,0,0,0,0,0,0,0,0,0,0,0,0,0,null,-1,0,0,0,0,0,0,0,0,0,0,0,0,0,0,0,0,0,0,103,60,1,1,null,null,1,1,1,1,"","","","",3,1,"",null,null,33001,0,"",0,2,0,1,1,1,1,1,1,"",103,60,"",null,null,0,0,0,0,0,0,0,0,0,"",0,0,0,0,0,0,0,0,0,0,0,0,null,null,"","","","","","","","","","","",0,0,1,1,null,null,null,1013,"ШТ","ШТ",1,null,"","","","",null,83666879,2,"Общестроительные работы",27,"Линии электропередачи",1,33001,"Линии электропередачи","ФЕР-33",null,"",null,1024,0,0,0,0,0,0,0,null,null,null,null,null,null,null,null,null,null,null,null,null,null,null,null,null,null,0,0,0,null,null,null,null,103,60,null,"",null,null,1,null,326010188,2,1,-2,0,0,0,0,0,0,0,null,0,3,0,"",0,1,0,null,null,0,0,0,null,"","",null,null,null,null,null,null,"","Пр/812-027.0-1","Пр/774-027.0","Линии электропередачи","Линии электропередачи",null,0,null,null,null,null,null,null,null,null,null,null,null,null,null,null,null,null,null,0]
[18,1,244,null,"","22.2.02.23","Металлические плакаты","ШТ",{"$f":"I137*J154","v":0},0,0,0,0,0,0,0,0,0,0,0,0,0,0,0,0,null,-1,0,0,0,0,0,0,0,0,0,0,0,0,0,0,0,0,0,0,103,60,1,1,null,null,1,1,1,1,"","","","",3,1,"",null,null,33001,0,"",0,2,0,1,1,1,1,1,1,"",103,60,"",null,null,0,0,0,0,0,0,0,0,0,"",0,0,0,0,0,0,0,0,0,0,0,0,null,null,"","","","","","","","","","","",0,0,1,1,null,null,null,1013,"ШТ","ШТ",1,null,"","","","",null,83666879,2,"Общестроительные работы",27,"Линии электропередачи",1,33001,"Линии электропередачи","ФЕР-33",null,"",null,1024,0,0,0,0,0,0,0,null,null,null,null,null,null,null,null,null,null,null,null,null,null,null,null,null,null,0,0,0,null,null,null,null,103,60,null,"",null,null,1,null,326010188,2,1,-2,0,0,0,0,0,0,0,null,0,3,0,"",0,1,0,null,null,0,0,0,null,"","",null,null,null,null,null,null,"","Пр/812-027.0-1","Пр/774-027.0","Линии электропередачи","Линии электропередачи",null,0,null,null,null,null,null,null,null,null,null,null,null,null,null,null,null,null,null,0]
[17,1,{"$f":"ROW(SmtRes!A248)","v":248},{"$f":"ROW(EtalonRes!A248)","v":248},"","м08-02-231-02","Прокладка труб гофрированных ПВХ в земле для защиты одного кабеля диаметром: 63 мм","100 м",0,0,0,0.04,0.04,0,0,{"$f":"SUMIF(SmtRes!AQ245:'SmtRes'!AQ248,\"=1\",SmtRes!DF245:'SmtRes'!DF248)","v":0},{"$f":"SUMIF(SmtRes!AQ245:'SmtRes'!AQ248,\"=1\",SmtRes!DG245:'SmtRes'!DG248)","v":0},{"$f":"SUMIF(SmtRes!AQ245:'SmtRes'!AQ248,\"=1\",SmtRes!DH245:'SmtRes'!DH248)","v":0},{"$f":"SUMIF(SmtRes!AQ245:'SmtRes'!AQ248,\"=1\",SmtRes!DI245:'SmtRes'!DI248)","v":0},0,{"$f":"SUMIF(SmtRes!AQ245:'SmtRes'!AQ248,\"=1\",SmtRes!CV245:'SmtRes'!CV248)","v":0},{"$f":"SUMIF(SmtRes!AQ245:'SmtRes'!AQ248,\"=1\",SmtRes!CW245:'SmtRes'!CW248)","v":0},0,0,0,null,-1,3162.49,{"$f":"ROUND((0),2)","v":0},{"$f":"ROUND((((SUM(SmtRes!BR245:'SmtRes'!BR248))-(SUM(SmtRes!BS245:'SmtRes'!BS248)))+AE155),2)","v":19.25},{"$f":"ROUND((SUM(SmtRes!BS245:'SmtRes'!BS248)),2)","v":24.35},{"$f":"ROUND((SUM(SmtRes!BT245:'SmtRes'!BT248)),2)","v":3143.24},0,{"$f":"(SUM(SmtRes!BU245:'SmtRes'!BU248))","v":4.84},{"$f":"(SUM(SmtRes!BV245:'SmtRes'!BV248))","v":0.03},0,3186.8458999999998,0,19.251000000000001,24.353699999999996,3143.2411999999995,0,4.84,0.03,0,97,51,1,1,null,null,1,1,1,1,"","","","",0,2,"ГЭСНм-2022, м08-02-231-02, приказ Минстроя России от 18.05.2022 г. № 378/пр",null,null,108001,0,"",0,3,0,1,1,1,1,1,1,"",97,51,"",null,null,0,0,0,0,0,0,0,0,0,"",0,0,{"$f":"SUMIF(SmtRes!AQ245:'SmtRes'!AQ248,\"=1\",SmtRes!AA245:'SmtRes'!AA248)","v":0},{"$f":"SUMIF(SmtRes!AQ245:'SmtRes'!AQ248,\"=1\",SmtRes!AB245:'SmtRes'!AB248)","v":641.70000000000005},{"$f":"SUMIF(SmtRes!AQ245:'SmtRes'!AQ248,\"=1\",SmtRes!AC245:'SmtRes'!AC248)","v":811.79},{"$f":"SUMIF(SmtRes!AQ245:'SmtRes'!AQ248,\"=1\",SmtRes!AD245:'SmtRes'!AD248)","v":649.42999999999995},{"$f":"AG155","v":0},{"$f":"SUMIF(SmtRes!AQ245:'SmtRes'!AQ248,\"=1\",SmtRes!BU245:'SmtRes'!BU248)","v":4.84},{"$f":"SUMIF(SmtRes!AQ245:'SmtRes'!AQ248,\"=1\",SmtRes!BV245:'SmtRes'!BV248)","v":0.03},{"$f":"AJ155","v":0},0,0,null,null,"","","","","","","","","","","",0,0,1,1,null,null,null,1003,"100 м","100 м",100,null,"","","","",null,83666702,3,"Монтажные работы",0,"",2,108001,"Электротехнические установки: на других объектах","мФЕР-08",null,"",null,132096,0,0,0,0,0,4.84,0.03,0,null,null,null,null,null,null,null,null,null,null,null,null,null,null,null,null,null,0,0,0,null,null,null,null,97,51,null,"",null,null,1,null,985020414,2,1,-2,0,0,0,0,0,0,0,null,0,0,0,"",0,1,0,null,null,0,0,0,null,"","",null,null,null,null,null,null,"","Пр/812-049.3-1","Пр/774-049.3","Электротехнические установки: на других объектах","Электротехнические установки: на других объектах",null,0,null,null,null,null,null,null,null,null,null,null,null,null,null,null,null,null,null,0]
[17,1,{"$f":"ROW(SmtRes!A252)","v":252},{"$f":"ROW(EtalonRes!A252)","v":252},"","м08-02-231-02","Прокладка труб гофрированных ПВХ в земле для защиты одного кабеля диаметром: 63 мм","100 м",0,0,0,0.04,0.04,0,0,{"$f":"SUMIF(SmtRes!AQ249:'SmtRes'!AQ252,\"=1\",SmtRes!DF249:'SmtRes'!DF252)","v":0},{"$f":"SUMIF(SmtRes!AQ249:'SmtRes'!AQ252,\"=1\",SmtRes!DG249:'SmtRes'!DG252)","v":0},{"$f":"SUMIF(SmtRes!AQ249:'SmtRes'!AQ252,\"=1\",SmtRes!DH249:'SmtRes'!DH252)","v":0},{"$f":"SUMIF(SmtRes!AQ249:'SmtRes'!AQ252,\"=1\",SmtRes!DI249:'SmtRes'!DI252)","v":0},0,{"$f":"SUMIF(SmtRes!AQ249:'SmtRes'!AQ252,\"=1\",SmtRes!CV249:'SmtRes'!CV252)","v":0},{"$f":"SUMIF(SmtRes!AQ249:'SmtRes'!AQ252,\"=1\",SmtRes!CW249:'SmtRes'!CW252)","v":0},0,0,0,null,-1,3162.49,{"$f":"ROUND((0),2)","v":0},{"$f":"ROUND((((SUM(SmtRes!BR249:'SmtRes'!BR252))-(SUM(SmtRes!BS249:'SmtRes'!BS252)))+AE156),2)","v":19.25},{"$f":"ROUND((SUM(SmtRes!BS249:'SmtRes'!BS252)),2)","v":24.35},{"$f":"ROUND((SUM(SmtRes!BT249:'SmtRes'!BT252)),2)","v":3143.24},0,{"$f":"(SUM(SmtRes!BU249:'SmtRes'!BU252))","v":4.84},{"$f":"(SUM(SmtRes!BV249:'SmtRes'!BV252))","v":0.03},0,3186.8458999999998,0,19.251000000000001,24.353699999999996,3143.2411999999995,0,4.84,0.03,0,97,51,1,1,null,null,1,1,1,1,"","","","",0,2,"ГЭСНм-2022, м08-02-231-02, приказ Минстроя России от 18.05.2022 г. № 378/пр",null,null,108001,0,"",0,3,0,1,1,1,1,1,1,"",97,51,"",null,null,0,0,0,0,0,0,0,0,0,"",0,0,{"$f":"SUMIF(SmtRes!AQ249:'SmtRes'!AQ252,\"=1\",SmtRes!AA249:'SmtRes'!AA252)","v":0},{"$f":"SUMIF(SmtRes!AQ249:'SmtRes'!AQ252,\"=1\",SmtRes!AB249:'SmtRes'!AB252)","v":641.70000000000005},{"$f":"SUMIF(SmtRes!AQ249:'SmtRes'!AQ252,\"=1\",SmtRes!AC249:'SmtRes'!AC252)","v":811.79},{"$f":"SUMIF(SmtRes!AQ249:'SmtRes'!AQ252,\"=1\",SmtRes!AD249:'SmtRes'!AD252)","v":649.42999999999995},{"$f":"AG156","v":0},{"$f":"SUMIF(SmtRes!AQ249:'SmtRes'!AQ252,\"=1\",SmtRes!BU249:'SmtRes'!BU252)","v":4.84},{"$f":"SUMIF(SmtRes!AQ249:'SmtRes'!AQ252,\"=1\",SmtRes!BV249:'SmtRes'!BV252)","v":0.03},{"$f":"AJ156","v":0},0,0,null,null,"","","","","","","","","","","",0,0,1,1,null,null,null,1003,"100 м","100 м",100,null,"","","","",null,83666702,3,"Монтажные работы",0,"",2,108001,"Электротехнические установки: на других объектах","мФЕР-08",null,"",null,132096,0,0,0,0,0,4.84,0.03,0,null,null,null,null,null,null,null,null,null,null,null,null,null,null,null,null,null,0,0,0,null,null,null,null,97,51,null,"",null,null,1,null,985020414,2,1,-2,0,0,0,0,0,0,0,null,0,0,0,"",0,1,0,null,null,0,0,0,null,"","",null,null,null,null,null,null,"","Пр/812-049.3-1","Пр/774-049.3","Электротехнические установки: на других объектах","Электротехнические установки: на других объектах",null,0,null,null,null,null,null,null,null,null,null,null,null,null,null,null,null,null,null,0]
[19,1,null,null,null,"","По ВОР \"Монтаж трубы ПВХ d63 на МТП\". Делается, когда с опоры ведем провод по ней для укладки кабеля (все 3 расценки ниже относятся к этим работам\"","",null,null,null,null,null,null,null,null,null,null,null,null,null,null,null,null,null,null,1,null,null,null,null,null,null,null,null,null,null,null,null,null,null,null,null,null,null,null,null,null,null,null,null,null,null,null,null,null,null,null,null,null,null,null,null,null,null,null,null,null,null,null,null,null,null,null,null,null,null,null,null,null,null,null,null,null,null,null,null,null,null,null,null,null,null,null,null,null,null,null,null,null,null,null,null,null,null,null,null,null,null,null,null,null,null,null,null,null,null,null,null,null,null,null,null,null,null,null,null,null,null,null,null,null,null,null,null,null,null,null,null,null,null,null,null,null,null,null,null,null,null,null,null,null,null,null,null,null,null,null,null,null,null,null,null,null,null,null,null,null,null,null,null,null,null,null,null,null,null,null,null,null,null,null,null,null,null,null,null,null,null,null,null,null,null,null,null,null,null,null,null,null,null,null,null,null,null,null,null,null,null,null,null,null,null,null,null,null,null,null,null,null,null,null,null,null,null,null,null,null,null,null,null,null,null,null,null,null,null,null,null,null,null,null,null,null,0]
[18,1,248,null,"","421/пр_2020_п.75_пп.а","Сметная стоимость вспомогательных ненормируемых материальных ресурсов, не учтенная в сметной норме, 2%","%",{"$f":"J158","v":2},2,2,0.08,0.08,{"$f":"ROUND(L158-M158,4)","v":0},{"$f":"ROUND(P158,2)","v":0},{"$f":"ROUND(ROUND(ROUND(SUMIF(SmtRes!AQ249:'SmtRes'!AQ252,\"=1\",SmtRes!CU249:'SmtRes'!CU252),2),2)*I158/100,2)","v":0},{"$f":"ROUND(CR158*I158,2)","v":0},{"$f":"ROUND(CS158*I158,2)","v":0},{"$f":"ROUND(CT158*I158,2)","v":0},{"$f":"ROUND(CU158*I158,2)","v":0},{"$f":"ROUND(CV158*I158,7)","v":0},{"$f":"ROUND(CW158*I158,7)","v":0},{"$f":"ROUND(CX158*I158,2)","v":0},{"$f":"ROUND(CY158,2)","v":0},0,null,-1,{"$f":"ROUND((AC158+AD158+AF158),2)","v":0},{"$f":"ROUND((ES158),2)","v":0},{"$f":"ROUND((((ET158)-(EU158))+AE158),2)","v":0},{"$f":"ROUND((EU158),2)","v":0},{"$f":"ROUND((EV158),2)","v":0},{"$f":"ROUND((AP158),2)","v":0},{"$f":"(EW158)","v":0},{"$f":"(EX158)","v":0},{"$f":"(AS158)","v":0},0,0,0,0,0,0,0,0,0,97,51,1,1,null,null,1,1,1,1,"","","","",3,2,"",null,null,108001,0,"",0,3,0,1,1,1,1,1,1,"",97,51,"",null,null,0,0,0,0,0,0,0,0,0,"",0,{"$f":"0","v":0},{"$f":"0","v":0},{"$f":"0","v":0},{"$f":"0","v":0},{"$f":"0","v":0},{"$f":"0","v":0},{"$f":"0","v":0},{"$f":"0","v":0},{"$f":"0","v":0},{"$f":"0","v":0},{"$f":"0","v":0},null,null,"","","","","","","","","","","",0,0,1,1,null,null,null,1013,"%","%",1,null,"","","","",null,83666702,3,"Монтажные работы",0,"",2,108001,"Электротехнические установки: на других объектах","мФЕР-08",null,"",null,1024,0,0,0,0,0,0,0,null,null,null,null,null,null,null,null,null,null,null,null,null,null,null,null,null,null,0,0,0,null,null,null,null,97,51,null,"",null,null,1,null,274903907,2,1,-2,0,0,{"$f":"ROUND(IF(AND(BH158=3,BI158=3,FS158<>0),P158,0),2)","v":0},{"$f":"ROUND(O158+X158+Y158,2)+GX158","v":0},{"$f":"IF(OR(BI158=0,BI158=1),GM158-GX158,0)","v":0},{"$f":"IF(BI158=2,GM158-GX158,0)","v":0},{"$f":"IF(BI158=4,GM158-GX158,0)","v":0},null,0,0,0,"",{"$f":"ROUND((GT158),2)","v":0},1,{"$f":"ROUND(HC158*I158,2)","v":0},null,null,0,0,{"$f":"0","v":0},null,"","",null,null,null,null,null,null,"","Пр/812-049.3-1","Пр/774-049.3","Электротехнические установки: на других объектах","Электротехнические установки: на других объектах",null,0,null,null,null,null,null,null,null,null,null,null,null,null,null,null,null,null,null,0]
[18,1,252,null,"","421/пр_2020_п.75_пп.а","Сметная стоимость вспомогательных ненормируемых материальных ресурсов, не учтенная в сметной норме, 2%","%",{"$f":"J159","v":2},2,2,0.08,0.08,{"$f":"ROUND(L159-M159,4)","v":0},{"$f":"ROUND(P159,2)","v":0},{"$f":"ROUND(ROUND(ROUND(SUMIF(SmtRes!AQ249:'SmtRes'!AQ252,\"=1\",SmtRes!CU249:'SmtRes'!CU252),2),2)*I159/100,2)","v":0},{"$f":"ROUND(CR159*I159,2)","v":0},{"$f":"ROUND(CS159*I159,2)","v":0},{"$f":"ROUND(CT159*I159,2)","v":0},{"$f":"ROUND(CU159*I159,2)","v":0},{"$f":"ROUND(CV159*I159,7)","v":0},{"$f":"ROUND(CW159*I159,7)","v":0},{"$f":"ROUND(CX159*I159,2)","v":0},0,0,null,-1,{"$f":"ROUND((AC159+AD159+AF159),2)","v":0},{"$f":"ROUND((ES159),2)","v":0},{"$f":"ROUND((((ET159)-(EU159))+AE159),2)","v":0},{"$f":"ROUND((EU159),2)","v":0},{"$f":"ROUND((EV159),2)","v":0},{"$f":"ROUND((AP159),2)","v":0},{"$f":"(EW159)","v":0},{"$f":"(EX159)","v":0},{"$f":"(AS159)","v":0},0,0,0,0,0,0,0,0,0,97,51,1,1,null,null,1,1,1,1,"","","","",3,2,"",null,null,108001,0,"",0,3,0,1,1,1,1,1,1,"",97,51,"",null,null,0,0,0,0,0,0,0,0,0,"",0,{"$f":"0","v":0},{"$f":"0","v":0},{"$f":"0","v":0},{"$f":"0","v":0},{"$f":"0","v":0},{"$f":"0","v":0},{"$f":"0","v":0},{"$f":"0","v":0},{"$f":"0","v":0},{"$f":"0","v":0},{"$f":"0","v":0},null,null,"","","","","","","","","","","",0,0,1,1,null,null,null,1013,"%","%",1,null,"","","","",null,83666702,3,"Монтажные работы",0,"",2,108001,"Электротехнические установки: на других объектах","мФЕР-08",null,"",null,1024,0,0,0,0,0,0,0,null,null,null,null,null,null,null,null,null,null,null,null,null,null,null,null,null,null,0,0,0,null,null,null,null,97,51,null,"",null,null,1,null,274903907,2,1,-2,0,0,{"$f":"ROUND(IF(AND(BH159=3,BI159=3,FS159<>0),P159,0),2)","v":0},{"$f":"ROUND(O159+X159+Y159,2)+GX159","v":0},{"$f":"IF(OR(BI159=0,BI159=1),GM159-GX159,0)","v":0},{"$f":"IF(BI159=2,GM159-GX159,0)","v":0},{"$f":"IF(BI159=4,GM159-GX159,0)","v":0},null,0,0,0,"",{"$f":"ROUND((GT159),2)","v":0},1,{"$f":"ROUND(HC159*I159,2)","v":0},null,null,0,0,{"$f":"0","v":0},null,"","",null,null,null,null,null,null,"","Пр/812-049.3-1","Пр/774-049.3","Электротехнические установки: на других объектах","Электротехнические установки: на других объектах",null,0,null,null,null,null,null,null,null,null,null,null,null,null,null,null,null,null,null,0]
[17,1,{"$f":"ROW(SmtRes!A261)","v":261},{"$f":"ROW(EtalonRes!A261)","v":261},"6","м08-02-409-03","Труба винипластовая по установленным конструкциям, по стенам и колоннам с креплением скобами, диаметр: до 63 мм (Применяется труба d75 мм)","100 м",0.04,0,0.04,0.04,0,{"$f":"ROUND(L160-M160,4)","v":0.04},{"$f":"ROUND(CP160,2)","v":1275.56},{"$f":"SUMIF(SmtRes!AQ253:'SmtRes'!AQ261,\"=1\",SmtRes!DF253:'SmtRes'!DF261)","v":10.35},{"$f":"SUMIF(SmtRes!AQ253:'SmtRes'!AQ261,\"=1\",SmtRes!DG253:'SmtRes'!DG261)","v":41.69},{"$f":"SUMIF(SmtRes!AQ253:'SmtRes'!AQ261,\"=1\",SmtRes!DH253:'SmtRes'!DH261)","v":31.96},{"$f":"SUMIF(SmtRes!AQ253:'SmtRes'!AQ261,\"=1\",SmtRes!DI253:'SmtRes'!DI261)","v":1191.56},{"$f":"ROUND(CU160*I160,2)","v":0},{"$f":"SUMIF(SmtRes!AQ253:'SmtRes'!AQ261,\"=1\",SmtRes!CV253:'SmtRes'!CV261)","v":1.5014400000000001},{"$f":"SUMIF(SmtRes!AQ253:'SmtRes'!AQ261,\"=1\",SmtRes!CW253:'SmtRes'!CW261)","v":3.3599999999999998E-2},{"$f":"ROUND(CX160*I160,2)","v":0},1186.81,624,null,85312357,{"$f":"ROUND((AC160+AD160+AF160),2)","v":31077.06},{"$f":"ROUND((SUM(SmtRes!BQ253:'SmtRes'!BQ261)),2)","v":245.85},{"$f":"ROUND((((SUM(SmtRes!BR253:'SmtRes'!BR261))-(SUM(SmtRes!BS253:'SmtRes'!BS261)))+AE160),2)","v":1042.27},{"$f":"ROUND((SUM(SmtRes!BS253:'SmtRes'!BS261)),2)","v":798.95},{"$f":"ROUND((SUM(SmtRes!BT253:'SmtRes'!BT261)),2)","v":29788.94},{"$f":"ROUND((AP160),2)","v":0},{"$f":"(SUM(SmtRes!BU253:'SmtRes'!BU261))","v":37.536000000000001},{"$f":"(SUM(SmtRes!BV253:'SmtRes'!BV261))","v":0.84},{"$f":"(AS160)","v":0},26604.314915999999,245.85251599999998,868.55409999999995,665.78749999999991,24824.120800000001,0,31.28,0.7,0,97,51,1,1,null,null,1,1,1,1,"","","","",0,2,"ГЭСНм-2022 доп.16, м08-02-409-03, приказ Минстроя России от 12.11.2025 г. № 696/пр",null,null,108001,0,"",0,3,0,1,1,1,1,1,1,"",97,51,"",null,null,0,0,0,6,0,0,0,0,0,"Поправка: 421/пр_2020_прил.10_т.1_п.4_гр.5 Наименование: Производство работ осуществляется в охранной зоне действующей воздушной линии электропередачи, вблизи объектов, находящихся под напряжением, внутри объектов капитального строительства, внутренняя проводка в которых не обесточена, если это приведет к ограничению действий рабочих в соответствии с требованиями техники безопасности",0,{"$f":"(P160+Q160+S160+R160)","v":1275.56},{"$f":"SUMIF(SmtRes!AQ253:'SmtRes'!AQ261,\"=1\",SmtRes!AA253:'SmtRes'!AA261)","v":372.02},{"$f":"SUMIF(SmtRes!AQ253:'SmtRes'!AQ261,\"=1\",SmtRes!AB253:'SmtRes'!AB261)","v":2302.6},{"$f":"SUMIF(SmtRes!AQ253:'SmtRes'!AQ261,\"=1\",SmtRes!AC253:'SmtRes'!AC261)","v":1902.25},{"$f":"SUMIF(SmtRes!AQ253:'SmtRes'!AQ261,\"=1\",SmtRes!AD253:'SmtRes'!AD261)","v":793.61},{"$f":"AG160","v":0},{"$f":"SUMIF(SmtRes!AQ253:'SmtRes'!AQ261,\"=1\",SmtRes!BU253:'SmtRes'!BU261)","v":37.536000000000001},{"$f":"SUMIF(SmtRes!AQ253:'SmtRes'!AQ261,\"=1\",SmtRes!BV253:'SmtRes'!BV261)","v":0.84},{"$f":"AJ160","v":0},{"$f":"(((S160+R160)*AT160)/100)","v":1186.8144},{"$f":"(((S160+R160)*AU160)/100)","v":623.99519999999995},null,11,"","","*(0,2+1)","*(0,2+1)","*(0,2+1)","","*(0,2+1)","*(0,2+1)","","","",0,0,1,1,null,null,null,1003,"100 м","100 м",100,null,"","","","",null,83666702,3,"Монтажные работы",0,"",2,108001,"Электротехнические установки: на других объектах","мФЕР-08",null,"Поправка: 421/пр_2020_прил.10_т.1_п.4_гр.5",null,131072,0,0,0,0,0,31.28,0.7,0,null,null,null,null,null,null,null,null,null,null,null,null,null,null,null,null,null,0,0,0,null,null,null,null,97,51,null,"",null,null,1,null,-77384940,2,1,-2,0,0,{"$f":"ROUND(IF(AND(BH160=3,BI160=3,FS160<>0),P160,0),2)","v":0},{"$f":"ROUND(O160+X160+Y160,2)+GX160","v":3086.37},{"$f":"IF(OR(BI160=0,BI160=1),GM160-GX160,0)","v":0},{"$f":"IF(BI160=2,GM160-GX160,0)","v":3086.37},{"$f":"IF(BI160=4,GM160-GX160,0)","v":0},null,0,3,0,"",{"$f":"ROUND((GT160),2)","v":0},1,{"$f":"ROUND(HC160*I160,2)","v":0},null,null,0,0,{"$f":"GV160*GW160","v":0},null,"","",null,null,null,null,null,null,"","Пр/812-049.3-1","Пр/774-049.3","Электротехнические установки: на других объектах","Электротехнические установки: на других объектах",null,0,null,null,null,null,null,null,null,null,null,null,null,null,null,null,null,null,null,0]
[17,1,{"$f":"ROW(SmtRes!A270)","v":270},{"$f":"ROW(EtalonRes!A270)","v":270},"6","м08-02-409-03","Труба винипластовая по установленным конструкциям, по стенам и колоннам с креплением скобами, диаметр: до 63 мм (Применяется труба d75 мм)","100 м",0.04,0,0.04,0.04,0,{"$f":"ROUND(L161-M161,4)","v":0.04},{"$f":"ROUND(CP161,2)","v":1275.56},{"$f":"SUMIF(SmtRes!AQ262:'SmtRes'!AQ270,\"=1\",SmtRes!DF262:'SmtRes'!DF270)","v":10.35},{"$f":"SUMIF(SmtRes!AQ262:'SmtRes'!AQ270,\"=1\",SmtRes!DG262:'SmtRes'!DG270)","v":41.69},{"$f":"SUMIF(SmtRes!AQ262:'SmtRes'!AQ270,\"=1\",SmtRes!DH262:'SmtRes'!DH270)","v":31.96},{"$f":"SUMIF(SmtRes!AQ262:'SmtRes'!AQ270,\"=1\",SmtRes!DI262:'SmtRes'!DI270)","v":1191.56},{"$f":"ROUND(CU161*I161,2)","v":0},{"$f":"SUMIF(SmtRes!AQ262:'SmtRes'!AQ270,\"=1\",SmtRes!CV262:'SmtRes'!CV270)","v":1.5014400000000001},{"$f":"SUMIF(SmtRes!AQ262:'SmtRes'!AQ270,\"=1\",SmtRes!CW262:'SmtRes'!CW270)","v":3.3599999999999998E-2},{"$f":"ROUND(CX161*I161,2)","v":0},1186.81,624,null,85312298,{"$f":"ROUND((AC161+AD161+AF161),2)","v":31077.06},{"$f":"ROUND((SUM(SmtRes!BQ262:'SmtRes'!BQ270)),2)","v":245.85},{"$f":"ROUND((((SUM(SmtRes!BR262:'SmtRes'!BR270))-(SUM(SmtRes!BS262:'SmtRes'!BS270)))+AE161),2)","v":1042.27},{"$f":"ROUND((SUM(SmtRes!BS262:'SmtRes'!BS270)),2)","v":798.95},{"$f":"ROUND((SUM(SmtRes!BT262:'SmtRes'!BT270)),2)","v":29788.94},{"$f":"ROUND((AP161),2)","v":0},{"$f":"(SUM(SmtRes!BU262:'SmtRes'!BU270))","v":37.536000000000001},{"$f":"(SUM(SmtRes!BV262:'SmtRes'!BV270))","v":0.84},{"$f":"(AS161)","v":0},26604.314915999999,245.85251599999998,868.55409999999995,665.78749999999991,24824.120800000001,0,31.28,0.7,0,97,51,1,1,null,null,1,1,1,1,"","","","",0,2,"ГЭСНм-2022 доп.16, м08-02-409-03, приказ Минстроя России от 12.11.2025 г. № 696/пр",null,null,108001,0,"",0,3,0,1,1,1,1,1,1,"",97,51,"",null,null,0,0,0,6,0,0,0,0,0,"Поправка: 421/пр_2020_прил.10_т.1_п.4_гр.5 Наименование: Производство работ осуществляется в охранной зоне действующей воздушной линии электропередачи, вблизи объектов, находящихся под напряжением, внутри объектов капитального строительства, внутренняя проводка в которых не обесточена, если это приведет к ограничению действий рабочих в соответствии с требованиями техники безопасности",0,{"$f":"(P161+Q161+S161+R161)","v":1275.56},{"$f":"SUMIF(SmtRes!AQ262:'SmtRes'!AQ270,\"=1\",SmtRes!AA262:'SmtRes'!AA270)","v":372.02},{"$f":"SUMIF(SmtRes!AQ262:'SmtRes'!AQ270,\"=1\",SmtRes!AB262:'SmtRes'!AB270)","v":2302.6},{"$f":"SUMIF(SmtRes!AQ262:'SmtRes'!AQ270,\"=1\",SmtRes!AC262:'SmtRes'!AC270)","v":1902.25},{"$f":"SUMIF(SmtRes!AQ262:'SmtRes'!AQ270,\"=1\",SmtRes!AD262:'SmtRes'!AD270)","v":793.61},{"$f":"AG161","v":0},{"$f":"SUMIF(SmtRes!AQ262:'SmtRes'!AQ270,\"=1\",SmtRes!BU262:'SmtRes'!BU270)","v":37.536000000000001},{"$f":"SUMIF(SmtRes!AQ262:'SmtRes'!AQ270,\"=1\",SmtRes!BV262:'SmtRes'!BV270)","v":0.84},{"$f":"AJ161","v":0},{"$f":"(((S161+R161)*AT161)/100)","v":1186.8144},{"$f":"(((S161+R161)*AU161)/100)","v":623.99519999999995},null,12,"","","*(0,2+1)","*(0,2+1)","*(0,2+1)","","*(0,2+1)","*(0,2+1)","","","",0,0,1,1,null,null,null,1003,"100 м","100 м",100,null,"","","","",null,83666702,3,"Монтажные работы",0,"",2,108001,"Электротехнические установки: на других объектах","мФЕР-08",null,"Поправка: 421/пр_2020_прил.10_т.1_п.4_гр.5",null,131072,0,0,0,0,0,31.28,0.7,0,null,null,null,null,null,null,null,null,null,null,null,null,null,null,null,null,null,0,0,0,null,null,null,null,97,51,null,"",null,null,1,null,-77384940,2,1,-2,0,0,{"$f":"ROUND(IF(AND(BH161=3,BI161=3,FS161<>0),P161,0),2)","v":0},{"$f":"ROUND(O161+X161+Y161,2)+GX161","v":3086.37},{"$f":"IF(OR(BI161=0,BI161=1),GM161-GX161,0)","v":0},{"$f":"IF(BI161=2,GM161-GX161,0)","v":3086.37},{"$f":"IF(BI161=4,GM161-GX161,0)","v":0},null,0,3,0,"",{"$f":"ROUND((GT161),2)","v":0},1,{"$f":"ROUND(HC161*I161,2)","v":0},null,null,0,0,{"$f":"GV161*GW161","v":0},null,"","",null,null,null,null,null,null,"","Пр/812-049.3-1","Пр/774-049.3","Электротехнические установки: на других объектах","Электротехнические установки: на других объектах",null,0,null,null,null,null,null,null,null,null,null,null,null,null,null,null,null,null,null,0]
[19,1,null,null,null,"","Если в СПЕЦИФИКАЦИИ есть материал: \"Труба гофрированная ПВХ d63, то мы можем применить эту расценку и ту что ниже. Эти трубы идут от РУ по конструкции опоры поднимаются и далее от них уже ведется ВЛ","",null,null,null,null,null,null,null,null,null,null,null,null,null,null,null,null,null,null,1,null,null,null,null,null,null,null,null,null,null,null,null,null,null,null,null,null,null,null,null,null,null,null,null,null,null,null,null,null,null,null,null,null,null,null,null,null,null,null,null,null,null,null,null,null,null,null,null,null,null,null,null,null,null,null,null,null,null,null,null,null,null,null,null,null,null,null,null,null,null,null,null,null,null,null,null,null,null,null,null,null,null,null,null,null,null,null,null,null,null,null,null,null,null,null,null,null,null,null,null,null,null,null,null,null,null,null,null,null,null,null,null,null,null,null,null,null,null,null,null,null,null,null,null,null,null,null,null,null,null,null,null,null,null,null,null,null,null,null,null,null,null,null,null,null,null,null,null,null,null,null,null,null,null,null,null,null,null,null,null,null,null,null,null,null,null,null,null,null,null,null,null,null,null,null,null,null,null,null,null,null,null,null,null,null,null,null,null,null,null,null,null,null,null,null,null,null,null,null,null,null,null,null,null,null,null,null,null,null,null,null,null,null,null,null,null,null,0]
[18,1,261,null,"6,1","421/пр_2020_п.75_пп.а","Сметная стоимость вспомогательных ненормируемых материальных ресурсов, не учтенная в сметной норме, 2%","%",{"$f":"J163","v":2},2,2,0.08,0,{"$f":"ROUND(L163-M163,4)","v":0.08},{"$f":"ROUND(P163,2)","v":19.86},{"$f":"ROUND(ROUND(ROUND(SUMIF(SmtRes!AQ262:'SmtRes'!AQ270,\"=1\",SmtRes!CU262:'SmtRes'!CU270),2),2)*I163/100,2)","v":19.86},{"$f":"ROUND(CR163*I163,2)","v":0},{"$f":"ROUND(CS163*I163,2)","v":0},{"$f":"ROUND(CT163*I163,2)","v":0},{"$f":"ROUND(CU163*I163,2)","v":0},{"$f":"ROUND(CV163*I163,7)","v":0},{"$f":"ROUND(CW163*I163,7)","v":0},{"$f":"ROUND(CX163*I163,2)","v":0},{"$f":"ROUND(CY163,2)","v":0},0,null,85312357,{"$f":"ROUND((AC163+AD163+AF163),2)","v":0},{"$f":"ROUND((ES163),2)","v":0},{"$f":"ROUND((((ET163)-(EU163))+AE163),2)","v":0},{"$f":"ROUND((EU163),2)","v":0},{"$f":"ROUND((EV163),2)","v":0},{"$f":"ROUND((AP163),2)","v":0},{"$f":"(EW163)","v":0},{"$f":"(EX163)","v":0},{"$f":"(AS163)","v":0},0,0,0,0,0,0,0,0,0,97,51,1,1,null,null,1,1,1,1,"","","","",3,2,"",null,null,108001,0,"",0,3,0,1,1,1,1,1,1,"",97,51,"",null,null,0,0,0,6,1,0,0,0,0,"",0,{"$f":"0","v":0},{"$f":"0","v":0},{"$f":"0","v":0},{"$f":"0","v":0},{"$f":"0","v":0},{"$f":"0","v":0},{"$f":"0","v":0},{"$f":"0","v":0},{"$f":"0","v":0},{"$f":"0","v":0},{"$f":"0","v":0},null,null,"","","","","","","","","","","",0,0,1,1,null,null,null,1013,"%","%",1,null,"","","","",null,83666702,3,"Монтажные работы",0,"",2,108001,"Электротехнические установки: на других объектах","мФЕР-08",null,"",null,0,0,0,0,0,0,0,0,null,null,null,null,null,null,null,null,null,null,null,null,null,null,null,null,null,null,0,0,0,null,null,null,null,97,51,null,"",null,null,1,null,274903907,2,1,-2,0,0,{"$f":"ROUND(IF(AND(BH163=3,BI163=3,FS163<>0),P163,0),2)","v":0},{"$f":"ROUND(O163+X163+Y163,2)+GX163","v":19.86},{"$f":"IF(OR(BI163=0,BI163=1),GM163-GX163,0)","v":0},{"$f":"IF(BI163=2,GM163-GX163,0)","v":19.86},{"$f":"IF(BI163=4,GM163-GX163,0)","v":0},null,0,3,0,"",{"$f":"ROUND((GT163),2)","v":0},1,{"$f":"ROUND(HC163*I163,2)","v":0},null,null,0,0,{"$f":"0","v":0},null,"","",null,null,null,null,null,null,"","Пр/812-049.3-1","Пр/774-049.3","Электротехнические установки: на других объектах","Электротехнические установки: на других объектах",null,0,null,null,null,null,null,null,null,null,null,null,null,null,null,null,null,null,null,0]
[18,1,270,null,"6,1","421/пр_2020_п.75_пп.а","Сметная стоимость вспомогательных ненормируемых материальных ресурсов, не учтенная в сметной норме, 2%","%",{"$f":"J164","v":2},2,2,0.08,0,{"$f":"ROUND(L164-M164,4)","v":0.08},{"$f":"ROUND(P164,2)","v":19.86},{"$f":"ROUND(ROUND(ROUND(SUMIF(SmtRes!AQ262:'SmtRes'!AQ270,\"=1\",SmtRes!CU262:'SmtRes'!CU270),2),2)*I164/100,2)","v":19.86},{"$f":"ROUND(CR164*I164,2)","v":0},{"$f":"ROUND(CS164*I164,2)","v":0},{"$f":"ROUND(CT164*I164,2)","v":0},{"$f":"ROUND(CU164*I164,2)","v":0},{"$f":"ROUND(CV164*I164,7)","v":0},{"$f":"ROUND(CW164*I164,7)","v":0},{"$f":"ROUND(CX164*I164,2)","v":0},0,0,null,85312298,{"$f":"ROUND((AC164+AD164+AF164),2)","v":0},{"$f":"ROUND((ES164),2)","v":0},{"$f":"ROUND((((ET164)-(EU164))+AE164),2)","v":0},{"$f":"ROUND((EU164),2)","v":0},{"$f":"ROUND((EV164),2)","v":0},{"$f":"ROUND((AP164),2)","v":0},{"$f":"(EW164)","v":0},{"$f":"(EX164)","v":0},{"$f":"(AS164)","v":0},0,0,0,0,0,0,0,0,0,97,51,1,1,null,null,1,1,1,1,"","","","",3,2,"",null,null,108001,0,"",0,3,0,1,1,1,1,1,1,"",97,51,"",null,null,0,0,0,6,1,0,0,0,0,"",0,{"$f":"0","v":0},{"$f":"0","v":0},{"$f":"0","v":0},{"$f":"0","v":0},{"$f":"0","v":0},{"$f":"0","v":0},{"$f":"0","v":0},{"$f":"0","v":0},{"$f":"0","v":0},{"$f":"0","v":0},{"$f":"0","v":0},null,null,"","","","","","","","","","","",0,0,1,1,null,null,null,1013,"%","%",1,null,"","","","",null,83666702,3,"Монтажные работы",0,"",2,108001,"Электротехнические установки: на других объектах","мФЕР-08",null,"",null,0,0,0,0,0,0,0,0,null,null,null,null,null,null,null,null,null,null,null,null,null,null,null,null,null,null,0,0,0,null,null,null,null,97,51,null,"",null,null,1,null,274903907,2,1,-2,0,0,{"$f":"ROUND(IF(AND(BH164=3,BI164=3,FS164<>0),P164,0),2)","v":0},{"$f":"ROUND(O164+X164+Y164,2)+GX164","v":19.86},{"$f":"IF(OR(BI164=0,BI164=1),GM164-GX164,0)","v":0},{"$f":"IF(BI164=2,GM164-GX164,0)","v":19.86},{"$f":"IF(BI164=4,GM164-GX164,0)","v":0},null,0,3,0,"",{"$f":"ROUND((GT164),2)","v":0},1,{"$f":"ROUND(HC164*I164,2)","v":0},null,null,0,0,{"$f":"0","v":0},null,"","",null,null,null,null,null,null,"","Пр/812-049.3-1","Пр/774-049.3","Электротехнические установки: на других объектах","Электротехнические установки: на других объектах",null,0,null,null,null,null,null,null,null,null,null,null,null,null,null,null,null,null,null,0]
[17,1,{"$f":"ROW(SmtRes!A280)","v":280},{"$f":"ROW(EtalonRes!A280)","v":280},"7","м08-02-412-06","Затягивание провода в проложенные трубы и металлические рукава первого одножильного или многожильного в общей оплетке, суммарное сечение: до 120 мм2","100 м",0.04,0,0.04,0.04,0,{"$f":"ROUND(L165-M165,4)","v":0.04},{"$f":"ROUND(CP165,2)","v":631.37},{"$f":"SUMIF(SmtRes!AQ271:'SmtRes'!AQ280,\"=1\",SmtRes!DF271:'SmtRes'!DF280)","v":42.8},{"$f":"SUMIF(SmtRes!AQ271:'SmtRes'!AQ280,\"=1\",SmtRes!DG271:'SmtRes'!DG280)","v":21.77},{"$f":"SUMIF(SmtRes!AQ271:'SmtRes'!AQ280,\"=1\",SmtRes!DH271:'SmtRes'!DH280)","v":18.260000000000002},{"$f":"SUMIF(SmtRes!AQ271:'SmtRes'!AQ280,\"=1\",SmtRes!DI271:'SmtRes'!DI280)","v":548.54},{"$f":"ROUND(CU165*I165,2)","v":0},{"$f":"SUMIF(SmtRes!AQ271:'SmtRes'!AQ280,\"=1\",SmtRes!CV271:'SmtRes'!CV280)","v":0.69120000000000004},{"$f":"SUMIF(SmtRes!AQ271:'SmtRes'!AQ280,\"=1\",SmtRes!CW271:'SmtRes'!CW280)","v":1.9199999999999998E-2},{"$f":"ROUND(CX165*I165,2)","v":0},549.79999999999995,289.07,null,85312357,{"$f":"ROUND((AC165+AD165+AF165),2)","v":15178.17},{"$f":"ROUND((SUM(SmtRes!BQ271:'SmtRes'!BQ280)),2)","v":920.27},{"$f":"ROUND((((SUM(SmtRes!BR271:'SmtRes'!BR280))-(SUM(SmtRes!BS271:'SmtRes'!BS280)))+AE165),2)","v":544.32000000000005},{"$f":"ROUND((SUM(SmtRes!BS271:'SmtRes'!BS280)),2)","v":456.54},{"$f":"ROUND((SUM(SmtRes!BT271:'SmtRes'!BT280)),2)","v":13713.58},{"$f":"ROUND((AP165),2)","v":0},{"$f":"(SUM(SmtRes!BU271:'SmtRes'!BU280))","v":17.28},{"$f":"(SUM(SmtRes!BV271:'SmtRes'!BV280))","v":0.48},{"$f":"(AS165)","v":0},13182.297768100001,920.26576810000006,453.59800000000007,380.45000000000005,11427.984,0,14.4,0.4,0,97,51,1,1,null,null,1,1,1,1,"","","","",0,2,"ГЭСНм-2022 доп.9, м08-02-412-06, приказ Минстроя России от 16.02.2024 г. № 102/пр",null,null,108001,0,"",0,3,0,1,1,1,1,1,1,"",97,51,"",null,null,0,0,0,7,0,0,0,0,0,"Поправка: 421/пр_2020_прил.10_т.1_п.4_гр.5 Наименование: Производство работ осуществляется в охранной зоне действующей воздушной линии электропередачи, вблизи объектов, находящихся под напряжением, внутри объектов капитального строительства, внутренняя проводка в которых не обесточена, если это приведет к ограничению действий рабочих в соответствии с требованиями техники безопасности",0,{"$f":"(P165+Q165+S165+R165)","v":631.36999999999989},{"$f":"SUMIF(SmtRes!AQ271:'SmtRes'!AQ280,\"=1\",SmtRes!AA271:'SmtRes'!AA280)","v":80763.709999999992},{"$f":"SUMIF(SmtRes!AQ271:'SmtRes'!AQ280,\"=1\",SmtRes!AB271:'SmtRes'!AB280)","v":2267.9899999999998},{"$f":"SUMIF(SmtRes!AQ271:'SmtRes'!AQ280,\"=1\",SmtRes!AC271:'SmtRes'!AC280)","v":1902.25},{"$f":"SUMIF(SmtRes!AQ271:'SmtRes'!AQ280,\"=1\",SmtRes!AD271:'SmtRes'!AD280)","v":793.61},{"$f":"AG165","v":0},{"$f":"SUMIF(SmtRes!AQ271:'SmtRes'!AQ280,\"=1\",SmtRes!BU271:'SmtRes'!BU280)","v":17.28},{"$f":"SUMIF(SmtRes!AQ271:'SmtRes'!AQ280,\"=1\",SmtRes!BV271:'SmtRes'!BV280)","v":0.48},{"$f":"AJ165","v":0},{"$f":"(((S165+R165)*AT165)/100)","v":549.79599999999994},{"$f":"(((S165+R165)*AU165)/100)","v":289.06799999999998},null,13,"","","*(0,2+1)","*(0,2+1)","*(0,2+1)","","*(0,2+1)","*(0,2+1)","","","",0,0,1,1,null,null,null,1003,"100 м","100 м",100,null,"","","","",null,83666702,3,"Монтажные работы",0,"",2,108001,"Электротехнические установки: на других объектах","мФЕР-08",null,"Поправка: 421/пр_2020_прил.10_т.1_п.4_гр.5",null,131072,0,0,0,0,0,14.4,0.4,0,null,null,null,null,null,null,null,null,null,null,null,null,null,null,null,null,null,0,0,0,null,null,null,null,97,51,null,"",null,null,1,null,-1401801598,2,1,-2,0,0,{"$f":"ROUND(IF(AND(BH165=3,BI165=3,FS165<>0),P165,0),2)","v":0},{"$f":"ROUND(O165+X165+Y165,2)+GX165","v":1470.24},{"$f":"IF(OR(BI165=0,BI165=1),GM165-GX165,0)","v":0},{"$f":"IF(BI165=2,GM165-GX165,0)","v":1470.24},{"$f":"IF(BI165=4,GM165-GX165,0)","v":0},null,0,3,0,"",{"$f":"ROUND((GT165),2)","v":0},1,{"$f":"ROUND(HC165*I165,2)","v":0},null,null,0,0,{"$f":"GV165*GW165","v":0},null,"","",null,null,null,null,null,null,"","Пр/812-049.3-1","Пр/774-049.3","Электротехнические установки: на других объектах","Электротехнические установки: на других объектах",null,0,null,null,null,null,null,null,null,null,null,null,null,null,null,null,null,null,null,0]
[17,1,{"$f":"ROW(SmtRes!A290)","v":290},{"$f":"ROW(EtalonRes!A290)","v":290},"7","м08-02-412-06","Затягивание провода в проложенные трубы и металлические рукава первого одножильного или многожильного в общей оплетке, суммарное сечение: до 120 мм2","100 м",0.04,0,0.04,0.04,0,{"$f":"ROUND(L166-M166,4)","v":0.04},{"$f":"ROUND(CP166,2)","v":631.37},{"$f":"SUMIF(SmtRes!AQ281:'SmtRes'!AQ290,\"=1\",SmtRes!DF281:'SmtRes'!DF290)","v":42.8},{"$f":"SUMIF(SmtRes!AQ281:'SmtRes'!AQ290,\"=1\",SmtRes!DG281:'SmtRes'!DG290)","v":21.77},{"$f":"SUMIF(SmtRes!AQ281:'SmtRes'!AQ290,\"=1\",SmtRes!DH281:'SmtRes'!DH290)","v":18.260000000000002},{"$f":"SUMIF(SmtRes!AQ281:'SmtRes'!AQ290,\"=1\",SmtRes!DI281:'SmtRes'!DI290)","v":548.54},{"$f":"ROUND(CU166*I166,2)","v":0},{"$f":"SUMIF(SmtRes!AQ281:'SmtRes'!AQ290,\"=1\",SmtRes!CV281:'SmtRes'!CV290)","v":0.69120000000000004},{"$f":"SUMIF(SmtRes!AQ281:'SmtRes'!AQ290,\"=1\",SmtRes!CW281:'SmtRes'!CW290)","v":1.9199999999999998E-2},{"$f":"ROUND(CX166*I166,2)","v":0},549.79999999999995,289.07,null,85312298,{"$f":"ROUND((AC166+AD166+AF166),2)","v":15178.17},{"$f":"ROUND((SUM(SmtRes!BQ281:'SmtRes'!BQ290)),2)","v":920.27},{"$f":"ROUND((((SUM(SmtRes!BR281:'SmtRes'!BR290))-(SUM(SmtRes!BS281:'SmtRes'!BS290)))+AE166),2)","v":544.32000000000005},{"$f":"ROUND((SUM(SmtRes!BS281:'SmtRes'!BS290)),2)","v":456.54},{"$f":"ROUND((SUM(SmtRes!BT281:'SmtRes'!BT290)),2)","v":13713.58},{"$f":"ROUND((AP166),2)","v":0},{"$f":"(SUM(SmtRes!BU281:'SmtRes'!BU290))","v":17.28},{"$f":"(SUM(SmtRes!BV281:'SmtRes'!BV290))","v":0.48},{"$f":"(AS166)","v":0},13182.297768100001,920.26576810000006,453.59800000000007,380.45000000000005,11427.984,0,14.4,0.4,0,97,51,1,1,null,null,1,1,1,1,"","","","",0,2,"ГЭСНм-2022 доп.9, м08-02-412-06, приказ Минстроя России от 16.02.2024 г. № 102/пр",null,null,108001,0,"",0,3,0,1,1,1,1,1,1,"",97,51,"",null,null,0,0,0,7,0,0,0,0,0,"Поправка: 421/пр_2020_прил.10_т.1_п.4_гр.5 Наименование: Производство работ осуществляется в охранной зоне действующей воздушной линии электропередачи, вблизи объектов, находящихся под напряжением, внутри объектов капитального строительства, внутренняя проводка в которых не обесточена, если это приведет к ограничению действий рабочих в соответствии с требованиями техники безопасности",0,{"$f":"(P166+Q166+S166+R166)","v":631.36999999999989},{"$f":"SUMIF(SmtRes!AQ281:'SmtRes'!AQ290,\"=1\",SmtRes!AA281:'SmtRes'!AA290)","v":80763.709999999992},{"$f":"SUMIF(SmtRes!AQ281:'SmtRes'!AQ290,\"=1\",SmtRes!AB281:'SmtRes'!AB290)","v":2267.9899999999998},{"$f":"SUMIF(SmtRes!AQ281:'SmtRes'!AQ290,\"=1\",SmtRes!AC281:'SmtRes'!AC290)","v":1902.25},{"$f":"SUMIF(SmtRes!AQ281:'SmtRes'!AQ290,\"=1\",SmtRes!AD281:'SmtRes'!AD290)","v":793.61},{"$f":"AG166","v":0},{"$f":"SUMIF(SmtRes!AQ281:'SmtRes'!AQ290,\"=1\",SmtRes!BU281:'SmtRes'!BU290)","v":17.28},{"$f":"SUMIF(SmtRes!AQ281:'SmtRes'!AQ290,\"=1\",SmtRes!BV281:'SmtRes'!BV290)","v":0.48},{"$f":"AJ166","v":0},{"$f":"(((S166+R166)*AT166)/100)","v":549.79599999999994},{"$f":"(((S166+R166)*AU166)/100)","v":289.06799999999998},null,14,"","","*(0,2+1)","*(0,2+1)","*(0,2+1)","","*(0,2+1)","*(0,2+1)","","","",0,0,1,1,null,null,null,1003,"100 м","100 м",100,null,"","","","",null,83666702,3,"Монтажные работы",0,"",2,108001,"Электротехнические установки: на других объектах","мФЕР-08",null,"Поправка: 421/пр_2020_прил.10_т.1_п.4_гр.5",null,131072,0,0,0,0,0,14.4,0.4,0,null,null,null,null,null,null,null,null,null,null,null,null,null,null,null,null,null,0,0,0,null,null,null,null,97,51,null,"",null,null,1,null,-1401801598,2,1,-2,0,0,{"$f":"ROUND(IF(AND(BH166=3,BI166=3,FS166<>0),P166,0),2)","v":0},{"$f":"ROUND(O166+X166+Y166,2)+GX166","v":1470.24},{"$f":"IF(OR(BI166=0,BI166=1),GM166-GX166,0)","v":0},{"$f":"IF(BI166=2,GM166-GX166,0)","v":1470.24},{"$f":"IF(BI166=4,GM166-GX166,0)","v":0},null,0,3,0,"",{"$f":"ROUND((GT166),2)","v":0},1,{"$f":"ROUND(HC166*I166,2)","v":0},null,null,0,0,{"$f":"GV166*GW166","v":0},null,"","",null,null,null,null,null,null,"","Пр/812-049.3-1","Пр/774-049.3","Электротехнические установки: на других объектах","Электротехнические установки: на других объектах",null,0,null,null,null,null,null,null,null,null,null,null,null,null,null,null,null,null,null,0]
[19,1,null,null,null,"","По ВОР \"Протяжка кабеля СИП-2 по конструкциям в трубе ПВХ\"","",null,null,null,null,null,null,null,null,null,null,null,null,null,null,null,null,null,null,1,null,null,null,null,null,null,null,null,null,null,null,null,null,null,null,null,null,null,null,null,null,null,null,null,null,null,null,null,null,null,null,null,null,null,null,null,null,null,null,null,null,null,null,null,null,null,null,null,null,null,null,null,null,null,null,null,null,null,null,null,null,null,null,null,null,null,null,null,null,null,null,null,null,null,null,null,null,null,null,null,null,null,null,null,null,null,null,null,null,null,null,null,null,null,null,null,null,null,null,null,null,null,null,null,null,null,null,null,null,null,null,null,null,null,null,null,null,null,null,null,null,null,null,null,null,null,null,null,null,null,null,null,null,null,null,null,null,null,null,null,null,null,null,null,null,null,null,null,null,null,null,null,null,null,null,null,null,null,null,null,null,null,null,null,null,null,null,null,null,null,null,null,null,null,null,null,null,null,null,null,null,null,null,null,null,null,null,null,null,null,null,null,null,null,null,null,null,null,null,null,null,null,null,null,null,null,null,null,null,null,null,null,null,null,null,null,null,0]
[18,1,280,null,"7,1","421/пр_2020_п.75_пп.а","Сметная стоимость вспомогательных ненормируемых материальных ресурсов, не учтенная в сметной норме, 2%","%",{"$f":"J168","v":2},2,2,0.08,0,{"$f":"ROUND(L168-M168,4)","v":0.08},{"$f":"ROUND(P168,2)","v":9.14},{"$f":"ROUND(ROUND(ROUND(SUMIF(SmtRes!AQ281:'SmtRes'!AQ290,\"=1\",SmtRes!CU281:'SmtRes'!CU290),2),2)*I168/100,2)","v":9.14},{"$f":"ROUND(CR168*I168,2)","v":0},{"$f":"ROUND(CS168*I168,2)","v":0},{"$f":"ROUND(CT168*I168,2)","v":0},{"$f":"ROUND(CU168*I168,2)","v":0},{"$f":"ROUND(CV168*I168,7)","v":0},{"$f":"ROUND(CW168*I168,7)","v":0},{"$f":"ROUND(CX168*I168,2)","v":0},{"$f":"ROUND(CY168,2)","v":0},0,null,85312357,{"$f":"ROUND((AC168+AD168+AF168),2)","v":0},{"$f":"ROUND((ES168),2)","v":0},{"$f":"ROUND((((ET168)-(EU168))+AE168),2)","v":0},{"$f":"ROUND((EU168),2)","v":0},{"$f":"ROUND((EV168),2)","v":0},{"$f":"ROUND((AP168),2)","v":0},{"$f":"(EW168)","v":0},{"$f":"(EX168)","v":0},{"$f":"(AS168)","v":0},0,0,0,0,0,0,0,0,0,97,51,1,1,null,null,1,1,1,1,"","","","",3,2,"",null,null,108001,0,"",0,3,0,1,1,1,1,1,1,"",97,51,"",null,null,0,0,0,7,1,0,0,0,0,"",0,{"$f":"0","v":0},{"$f":"0","v":0},{"$f":"0","v":0},{"$f":"0","v":0},{"$f":"0","v":0},{"$f":"0","v":0},{"$f":"0","v":0},{"$f":"0","v":0},{"$f":"0","v":0},{"$f":"0","v":0},{"$f":"0","v":0},null,null,"","","","","","","","","","","",0,0,1,1,null,null,null,1013,"%","%",1,null,"","","","",null,83666702,3,"Монтажные работы",0,"",2,108001,"Электротехнические установки: на других объектах","мФЕР-08",null,"",null,0,0,0,0,0,0,0,0,null,null,null,null,null,null,null,null,null,null,null,null,null,null,null,null,null,null,0,0,0,null,null,null,null,97,51,null,"",null,null,1,null,274903907,2,1,-2,0,0,{"$f":"ROUND(IF(AND(BH168=3,BI168=3,FS168<>0),P168,0),2)","v":0},{"$f":"ROUND(O168+X168+Y168,2)+GX168","v":9.14},{"$f":"IF(OR(BI168=0,BI168=1),GM168-GX168,0)","v":0},{"$f":"IF(BI168=2,GM168-GX168,0)","v":9.14},{"$f":"IF(BI168=4,GM168-GX168,0)","v":0},null,0,3,0,"",{"$f":"ROUND((GT168),2)","v":0},1,{"$f":"ROUND(HC168*I168,2)","v":0},null,null,0,0,{"$f":"0","v":0},null,"","",null,null,null,null,null,null,"","Пр/812-049.3-1","Пр/774-049.3","Электротехнические установки: на других объектах","Электротехнические установки: на других объектах",null,0,null,null,null,null,null,null,null,null,null,null,null,null,null,null,null,null,null,0]
[18,1,290,null,"7,1","421/пр_2020_п.75_пп.а","Сметная стоимость вспомогательных ненормируемых материальных ресурсов, не учтенная в сметной норме, 2%","%",{"$f":"J169","v":2},2,2,0.08,0,{"$f":"ROUND(L169-M169,4)","v":0.08},{"$f":"ROUND(P169,2)","v":9.14},{"$f":"ROUND(ROUND(ROUND(SUMIF(SmtRes!AQ281:'SmtRes'!AQ290,\"=1\",SmtRes!CU281:'SmtRes'!CU290),2),2)*I169/100,2)","v":9.14},{"$f":"ROUND(CR169*I169,2)","v":0},{"$f":"ROUND(CS169*I169,2)","v":0},{"$f":"ROUND(CT169*I169,2)","v":0},{"$f":"ROUND(CU169*I169,2)","v":0},{"$f":"ROUND(CV169*I169,7)","v":0},{"$f":"ROUND(CW169*I169,7)","v":0},{"$f":"ROUND(CX169*I169,2)","v":0},0,0,null,85312298,{"$f":"ROUND((AC169+AD169+AF169),2)","v":0},{"$f":"ROUND((ES169),2)","v":0},{"$f":"ROUND((((ET169)-(EU169))+AE169),2)","v":0},{"$f":"ROUND((EU169),2)","v":0},{"$f":"ROUND((EV169),2)","v":0},{"$f":"ROUND((AP169),2)","v":0},{"$f":"(EW169)","v":0},{"$f":"(EX169)","v":0},{"$f":"(AS169)","v":0},0,0,0,0,0,0,0,0,0,97,51,1,1,null,null,1,1,1,1,"","","","",3,2,"",null,null,108001,0,"",0,3,0,1,1,1,1,1,1,"",97,51,"",null,null,0,0,0,7,1,0,0,0,0,"",0,{"$f":"0","v":0},{"$f":"0","v":0},{"$f":"0","v":0},{"$f":"0","v":0},{"$f":"0","v":0},{"$f":"0","v":0},{"$f":"0","v":0},{"$f":"0","v":0},{"$f":"0","v":0},{"$f":"0","v":0},{"$f":"0","v":0},null,null,"","","","","","","","","","","",0,0,1,1,null,null,null,1013,"%","%",1,null,"","","","",null,83666702,3,"Монтажные работы",0,"",2,108001,"Электротехнические установки: на других объектах","мФЕР-08",null,"",null,0,0,0,0,0,0,0,0,null,null,null,null,null,null,null,null,null,null,null,null,null,null,null,null,null,null,0,0,0,null,null,null,null,97,51,null,"",null,null,1,null,274903907,2,1,-2,0,0,{"$f":"ROUND(IF(AND(BH169=3,BI169=3,FS169<>0),P169,0),2)","v":0},{"$f":"ROUND(O169+X169+Y169,2)+GX169","v":9.14},{"$f":"IF(OR(BI169=0,BI169=1),GM169-GX169,0)","v":0},{"$f":"IF(BI169=2,GM169-GX169,0)","v":9.14},{"$f":"IF(BI169=4,GM169-GX169,0)","v":0},null,0,3,0,"",{"$f":"ROUND((GT169),2)","v":0},1,{"$f":"ROUND(HC169*I169,2)","v":0},null,null,0,0,{"$f":"0","v":0},null,"","",null,null,null,null,null,null,"","Пр/812-049.3-1","Пр/774-049.3","Электротехнические установки: на других объектах","Электротехнические установки: на других объектах",null,0,null,null,null,null,null,null,null,null,null,null,null,null,null,null,null,null,null,0]
[17,1,{"$f":"ROW(SmtRes!A301)","v":301},{"$f":"ROW(EtalonRes!A301)","v":301},"8","м08-02-405-04","Провод по установленным стальным конструкциям и панелям, сечение: до 120 мм2","100 м",0.03,0,0.03,0.03,0,{"$f":"ROUND(L170-M170,4)","v":0.03},{"$f":"ROUND(CP170,2)","v":1324.44},{"$f":"SUMIF(SmtRes!AQ291:'SmtRes'!AQ301,\"=1\",SmtRes!DF291:'SmtRes'!DF301)","v":27.880000000000003},{"$f":"SUMIF(SmtRes!AQ291:'SmtRes'!AQ301,\"=1\",SmtRes!DG291:'SmtRes'!DG301)","v":69.03},{"$f":"SUMIF(SmtRes!AQ291:'SmtRes'!AQ301,\"=1\",SmtRes!DH291:'SmtRes'!DH301)","v":52.730000000000004},{"$f":"SUMIF(SmtRes!AQ291:'SmtRes'!AQ301,\"=1\",SmtRes!DI291:'SmtRes'!DI301)","v":1174.8},{"$f":"ROUND(CU170*I170,2)","v":0},{"$f":"SUMIF(SmtRes!AQ291:'SmtRes'!AQ301,\"=1\",SmtRes!CV291:'SmtRes'!CV301)","v":1.4803200000000001},{"$f":"SUMIF(SmtRes!AQ291:'SmtRes'!AQ301,\"=1\",SmtRes!CW291:'SmtRes'!CW301)","v":5.5440000000000003E-2},{"$f":"ROUND(CX170*I170,2)","v":0},1190.7,626.04,null,85312357,{"$f":"ROUND((AC170+AD170+AF170),2)","v":42356.02},{"$f":"ROUND((SUM(SmtRes!BQ291:'SmtRes'!BQ301)),2)","v":895.34},{"$f":"ROUND((((SUM(SmtRes!BR291:'SmtRes'!BR301))-(SUM(SmtRes!BS291:'SmtRes'!BS301)))+AE170),2)","v":2300.79},{"$f":"ROUND((SUM(SmtRes!BS291:'SmtRes'!BS301)),2)","v":1757.68},{"$f":"ROUND((SUM(SmtRes!BT291:'SmtRes'!BT301)),2)","v":39159.89},{"$f":"ROUND((AP170),2)","v":0},{"$f":"(SUM(SmtRes!BU291:'SmtRes'!BU301))","v":49.343999999999994},{"$f":"(SUM(SmtRes!BV291:'SmtRes'!BV301))","v":1.8479999999999999},{"$f":"(AS170)","v":0},36910.637695999998,895.33629599999995,1917.3257000000001,1464.7325000000001,32633.243199999997,0,41.12,1.54,0,97,51,1,1,null,null,1,1,1,1,"","","","",0,2,"ГЭСНм-2022, м08-02-405-04, приказ Минстроя России от 18.05.2022 г. № 378/пр",null,null,108001,0,"",0,3,0,1,1,1,1,1,1,"",97,51,"",null,null,0,0,0,8,0,0,0,0,0,"Поправка: 421/пр_2020_прил.10_т.1_п.4_гр.5 Наименование: Производство работ осуществляется в охранной зоне действующей воздушной линии электропередачи, вблизи объектов, находящихся под напряжением, внутри объектов капитального строительства, внутренняя проводка в которых не обесточена, если это приведет к ограничению действий рабочих в соответствии с требованиями техники безопасности",0,{"$f":"(P170+Q170+S170+R170)","v":1324.44},{"$f":"SUMIF(SmtRes!AQ291:'SmtRes'!AQ301,\"=1\",SmtRes!AA291:'SmtRes'!AA301)","v":164880.28999999998},{"$f":"SUMIF(SmtRes!AQ291:'SmtRes'!AQ301,\"=1\",SmtRes!AB291:'SmtRes'!AB301)","v":2302.6},{"$f":"SUMIF(SmtRes!AQ291:'SmtRes'!AQ301,\"=1\",SmtRes!AC291:'SmtRes'!AC301)","v":1902.25},{"$f":"SUMIF(SmtRes!AQ291:'SmtRes'!AQ301,\"=1\",SmtRes!AD291:'SmtRes'!AD301)","v":793.61},{"$f":"AG170","v":0},{"$f":"SUMIF(SmtRes!AQ291:'SmtRes'!AQ301,\"=1\",SmtRes!BU291:'SmtRes'!BU301)","v":49.343999999999994},{"$f":"SUMIF(SmtRes!AQ291:'SmtRes'!AQ301,\"=1\",SmtRes!BV291:'SmtRes'!BV301)","v":1.8479999999999999},{"$f":"AJ170","v":0},{"$f":"(((S170+R170)*AT170)/100)","v":1190.7040999999999},{"$f":"(((S170+R170)*AU170)/100)","v":626.0403},null,15,"","","*(0,2+1)","*(0,2+1)","*(0,2+1)","","*(0,2+1)","*(0,2+1)","","","",0,0,1,1,null,null,null,1003,"100 м","100 м",100,null,"","","","",null,83666702,3,"Монтажные работы",0,"",2,108001,"Электротехнические установки: на других объектах","мФЕР-08",null,"Поправка: 421/пр_2020_прил.10_т.1_п.4_гр.5",null,131072,0,0,0,0,0,41.12,1.54,0,null,null,null,null,null,null,null,null,null,null,null,null,null,null,null,null,null,0,0,0,null,null,null,null,97,51,null,"",null,null,1,null,-151980109,2,1,-2,0,0,{"$f":"ROUND(IF(AND(BH170=3,BI170=3,FS170<>0),P170,0),2)","v":0},{"$f":"ROUND(O170+X170+Y170,2)+GX170","v":3141.18},{"$f":"IF(OR(BI170=0,BI170=1),GM170-GX170,0)","v":0},{"$f":"IF(BI170=2,GM170-GX170,0)","v":3141.18},{"$f":"IF(BI170=4,GM170-GX170,0)","v":0},null,0,3,0,"",{"$f":"ROUND((GT170),2)","v":0},1,{"$f":"ROUND(HC170*I170,2)","v":0},null,null,0,0,{"$f":"GV170*GW170","v":0},null,"","",null,null,null,null,null,null,"","Пр/812-049.3-1","Пр/774-049.3","Электротехнические установки: на других объектах","Электротехнические установки: на других объектах",null,0,null,null,null,null,null,null,null,null,null,null,null,null,null,null,null,null,null,0]
[17,1,{"$f":"ROW(SmtRes!A312)","v":312},{"$f":"ROW(EtalonRes!A312)","v":312},"8","м08-02-405-04","Провод по установленным стальным конструкциям и панелям, сечение: до 120 мм2","100 м",0.03,0,0.03,0.03,0,{"$f":"ROUND(L171-M171,4)","v":0.03},{"$f":"ROUND(CP171,2)","v":1324.44},{"$f":"SUMIF(SmtRes!AQ302:'SmtRes'!AQ312,\"=1\",SmtRes!DF302:'SmtRes'!DF312)","v":27.880000000000003},{"$f":"SUMIF(SmtRes!AQ302:'SmtRes'!AQ312,\"=1\",SmtRes!DG302:'SmtRes'!DG312)","v":69.03},{"$f":"SUMIF(SmtRes!AQ302:'SmtRes'!AQ312,\"=1\",SmtRes!DH302:'SmtRes'!DH312)","v":52.730000000000004},{"$f":"SUMIF(SmtRes!AQ302:'SmtRes'!AQ312,\"=1\",SmtRes!DI302:'SmtRes'!DI312)","v":1174.8},{"$f":"ROUND(CU171*I171,2)","v":0},{"$f":"SUMIF(SmtRes!AQ302:'SmtRes'!AQ312,\"=1\",SmtRes!CV302:'SmtRes'!CV312)","v":1.4803200000000001},{"$f":"SUMIF(SmtRes!AQ302:'SmtRes'!AQ312,\"=1\",SmtRes!CW302:'SmtRes'!CW312)","v":5.5440000000000003E-2},{"$f":"ROUND(CX171*I171,2)","v":0},1190.7,626.04,null,85312298,{"$f":"ROUND((AC171+AD171+AF171),2)","v":42356.02},{"$f":"ROUND((SUM(SmtRes!BQ302:'SmtRes'!BQ312)),2)","v":895.34},{"$f":"ROUND((((SUM(SmtRes!BR302:'SmtRes'!BR312))-(SUM(SmtRes!BS302:'SmtRes'!BS312)))+AE171),2)","v":2300.79},{"$f":"ROUND((SUM(SmtRes!BS302:'SmtRes'!BS312)),2)","v":1757.68},{"$f":"ROUND((SUM(SmtRes!BT302:'SmtRes'!BT312)),2)","v":39159.89},{"$f":"ROUND((AP171),2)","v":0},{"$f":"(SUM(SmtRes!BU302:'SmtRes'!BU312))","v":49.343999999999994},{"$f":"(SUM(SmtRes!BV302:'SmtRes'!BV312))","v":1.8479999999999999},{"$f":"(AS171)","v":0},36910.637695999998,895.33629599999995,1917.3257000000001,1464.7325000000001,32633.243199999997,0,41.12,1.54,0,97,51,1,1,null,null,1,1,1,1,"","","","",0,2,"ГЭСНм-2022, м08-02-405-04, приказ Минстроя России от 18.05.2022 г. № 378/пр",null,null,108001,0,"",0,3,0,1,1,1,1,1,1,"",97,51,"",null,null,0,0,0,8,0,0,0,0,0,"Поправка: 421/пр_2020_прил.10_т.1_п.4_гр.5 Наименование: Производство работ осуществляется в охранной зоне действующей воздушной линии электропередачи, вблизи объектов, находящихся под напряжением, внутри объектов капитального строительства, внутренняя проводка в которых не обесточена, если это приведет к ограничению действий рабочих в соответствии с требованиями техники безопасности",0,{"$f":"(P171+Q171+S171+R171)","v":1324.44},{"$f":"SUMIF(SmtRes!AQ302:'SmtRes'!AQ312,\"=1\",SmtRes!AA302:'SmtRes'!AA312)","v":164880.28999999998},{"$f":"SUMIF(SmtRes!AQ302:'SmtRes'!AQ312,\"=1\",SmtRes!AB302:'SmtRes'!AB312)","v":2302.6},{"$f":"SUMIF(SmtRes!AQ302:'SmtRes'!AQ312,\"=1\",SmtRes!AC302:'SmtRes'!AC312)","v":1902.25},{"$f":"SUMIF(SmtRes!AQ302:'SmtRes'!AQ312,\"=1\",SmtRes!AD302:'SmtRes'!AD312)","v":793.61},{"$f":"AG171","v":0},{"$f":"SUMIF(SmtRes!AQ302:'SmtRes'!AQ312,\"=1\",SmtRes!BU302:'SmtRes'!BU312)","v":49.343999999999994},{"$f":"SUMIF(SmtRes!AQ302:'SmtRes'!AQ312,\"=1\",SmtRes!BV302:'SmtRes'!BV312)","v":1.8479999999999999},{"$f":"AJ171","v":0},{"$f":"(((S171+R171)*AT171)/100)","v":1190.7040999999999},{"$f":"(((S171+R171)*AU171)/100)","v":626.0403},null,16,"","","*(0,2+1)","*(0,2+1)","*(0,2+1)","","*(0,2+1)","*(0,2+1)","","","",0,0,1,1,null,null,null,1003,"100 м","100 м",100,null,"","","","",null,83666702,3,"Монтажные работы",0,"",2,108001,"Электротехнические установки: на других объектах","мФЕР-08",null,"Поправка: 421/пр_2020_прил.10_т.1_п.4_гр.5",null,131072,0,0,0,0,0,41.12,1.54,0,null,null,null,null,null,null,null,null,null,null,null,null,null,null,null,null,null,0,0,0,null,null,null,null,97,51,null,"",null,null,1,null,-151980109,2,1,-2,0,0,{"$f":"ROUND(IF(AND(BH171=3,BI171=3,FS171<>0),P171,0),2)","v":0},{"$f":"ROUND(O171+X171+Y171,2)+GX171","v":3141.18},{"$f":"IF(OR(BI171=0,BI171=1),GM171-GX171,0)","v":0},{"$f":"IF(BI171=2,GM171-GX171,0)","v":3141.18},{"$f":"IF(BI171=4,GM171-GX171,0)","v":0},null,0,3,0,"",{"$f":"ROUND((GT171),2)","v":0},1,{"$f":"ROUND(HC171*I171,2)","v":0},null,null,0,0,{"$f":"GV171*GW171","v":0},null,"","",null,null,null,null,null,null,"","Пр/812-049.3-1","Пр/774-049.3","Электротехнические установки: на других объектах","Электротехнические установки: на других объектах",null,0,null,null,null,null,null,null,null,null,null,null,null,null,null,null,null,null,null,0]
[19,1,null,null,null,"","По ВОР \"Протяжка кабеля СИП-2 по конструкциям МТП\"","",null,null,null,null,null,null,null,null,null,null,null,null,null,null,null,null,null,null,1,null,null,null,null,null,null,null,null,null,null,null,null,null,null,null,null,null,null,null,null,null,null,null,null,null,null,null,null,null,null,null,null,null,null,null,null,null,null,null,null,null,null,null,null,null,null,null,null,null,null,null,null,null,null,null,null,null,null,null,null,null,null,null,null,null,null,null,null,null,null,null,null,null,null,null,null,null,null,null,null,null,null,null,null,null,null,null,null,null,null,null,null,null,null,null,null,null,null,null,null,null,null,null,null,null,null,null,null,null,null,null,null,null,null,null,null,null,null,null,null,null,null,null,null,null,null,null,null,null,null,null,null,null,null,null,null,null,null,null,null,null,null,null,null,null,null,null,null,null,null,null,null,null,null,null,null,null,null,null,null,null,null,null,null,null,null,null,null,null,null,null,null,null,null,null,null,null,null,null,null,null,null,null,null,null,null,null,null,null,null,null,null,null,null,null,null,null,null,null,null,null,null,null,null,null,null,null,null,null,null,null,null,null,null,null,null,null,0]
[18,1,301,null,"8,1","421/пр_2020_п.75_пп.а","Сметная стоимость вспомогательных ненормируемых материальных ресурсов, не учтенная в сметной норме, 2%","%",{"$f":"J173","v":2},2,2,0.06,0,{"$f":"ROUND(L173-M173,4)","v":0.06},{"$f":"ROUND(P173,2)","v":19.579999999999998},{"$f":"ROUND(ROUND(ROUND(SUMIF(SmtRes!AQ302:'SmtRes'!AQ312,\"=1\",SmtRes!CU302:'SmtRes'!CU312),2),2)*I173/100,2)","v":19.579999999999998},{"$f":"ROUND(CR173*I173,2)","v":0},{"$f":"ROUND(CS173*I173,2)","v":0},{"$f":"ROUND(CT173*I173,2)","v":0},{"$f":"ROUND(CU173*I173,2)","v":0},{"$f":"ROUND(CV173*I173,7)","v":0},{"$f":"ROUND(CW173*I173,7)","v":0},{"$f":"ROUND(CX173*I173,2)","v":0},{"$f":"ROUND(CY173,2)","v":0},0,null,85312357,{"$f":"ROUND((AC173+AD173+AF173),2)","v":0},{"$f":"ROUND((ES173),2)","v":0},{"$f":"ROUND((((ET173)-(EU173))+AE173),2)","v":0},{"$f":"ROUND((EU173),2)","v":0},{"$f":"ROUND((EV173),2)","v":0},{"$f":"ROUND((AP173),2)","v":0},{"$f":"(EW173)","v":0},{"$f":"(EX173)","v":0},{"$f":"(AS173)","v":0},0,0,0,0,0,0,0,0,0,97,51,1,1,null,null,1,1,1,1,"","","","",3,2,"",null,null,108001,0,"",0,3,0,1,1,1,1,1,1,"",97,51,"",null,null,0,0,0,8,1,0,0,0,0,"",0,{"$f":"0","v":0},{"$f":"0","v":0},{"$f":"0","v":0},{"$f":"0","v":0},{"$f":"0","v":0},{"$f":"0","v":0},{"$f":"0","v":0},{"$f":"0","v":0},{"$f":"0","v":0},{"$f":"0","v":0},{"$f":"0","v":0},null,null,"","","","","","","","","","","",0,0,1,1,null,null,null,1013,"%","%",1,null,"","","","",null,83666702,3,"Монтажные работы",0,"",2,108001,"Электротехнические установки: на других объектах","мФЕР-08",null,"",null,0,0,0,0,0,0,0,0,null,null,null,null,null,null,null,null,null,null,null,null,null,null,null,null,null,null,0,0,0,null,null,null,null,97,51,null,"",null,null,1,null,274903907,2,1,-2,0,0,{"$f":"ROUND(IF(AND(BH173=3,BI173=3,FS173<>0),P173,0),2)","v":0},{"$f":"ROUND(O173+X173+Y173,2)+GX173","v":19.579999999999998},{"$f":"IF(OR(BI173=0,BI173=1),GM173-GX173,0)","v":0},{"$f":"IF(BI173=2,GM173-GX173,0)","v":19.579999999999998},{"$f":"IF(BI173=4,GM173-GX173,0)","v":0},null,0,3,0,"",{"$f":"ROUND((GT173),2)","v":0},1,{"$f":"ROUND(HC173*I173,2)","v":0},null,null,0,0,{"$f":"0","v":0},null,"","",null,null,null,null,null,null,"","Пр/812-049.3-1","Пр/774-049.3","Электротехнические установки: на других объектах","Электротехнические установки: на других объектах",null,0,null,null,null,null,null,null,null,null,null,null,null,null,null,null,null,null,null,0]
[18,1,312,null,"8,1","421/пр_2020_п.75_пп.а","Сметная стоимость вспомогательных ненормируемых материальных ресурсов, не учтенная в сметной норме, 2%","%",{"$f":"J174","v":2},2,2,0.06,0,{"$f":"ROUND(L174-M174,4)","v":0.06},{"$f":"ROUND(P174,2)","v":19.579999999999998},{"$f":"ROUND(ROUND(ROUND(SUMIF(SmtRes!AQ302:'SmtRes'!AQ312,\"=1\",SmtRes!CU302:'SmtRes'!CU312),2),2)*I174/100,2)","v":19.579999999999998},{"$f":"ROUND(CR174*I174,2)","v":0},{"$f":"ROUND(CS174*I174,2)","v":0},{"$f":"ROUND(CT174*I174,2)","v":0},{"$f":"ROUND(CU174*I174,2)","v":0},{"$f":"ROUND(CV174*I174,7)","v":0},{"$f":"ROUND(CW174*I174,7)","v":0},{"$f":"ROUND(CX174*I174,2)","v":0},0,0,null,85312298,{"$f":"ROUND((AC174+AD174+AF174),2)","v":0},{"$f":"ROUND((ES174),2)","v":0},{"$f":"ROUND((((ET174)-(EU174))+AE174),2)","v":0},{"$f":"ROUND((EU174),2)","v":0},{"$f":"ROUND((EV174),2)","v":0},{"$f":"ROUND((AP174),2)","v":0},{"$f":"(EW174)","v":0},{"$f":"(EX174)","v":0},{"$f":"(AS174)","v":0},0,0,0,0,0,0,0,0,0,97,51,1,1,null,null,1,1,1,1,"","","","",3,2,"",null,null,108001,0,"",0,3,0,1,1,1,1,1,1,"",97,51,"",null,null,0,0,0,8,1,0,0,0,0,"",0,{"$f":"0","v":0},{"$f":"0","v":0},{"$f":"0","v":0},{"$f":"0","v":0},{"$f":"0","v":0},{"$f":"0","v":0},{"$f":"0","v":0},{"$f":"0","v":0},{"$f":"0","v":0},{"$f":"0","v":0},{"$f":"0","v":0},null,null,"","","","","","","","","","","",0,0,1,1,null,null,null,1013,"%","%",1,null,"","","","",null,83666702,3,"Монтажные работы",0,"",2,108001,"Электротехнические установки: на других объектах","мФЕР-08",null,"",null,0,0,0,0,0,0,0,0,null,null,null,null,null,null,null,null,null,null,null,null,null,null,null,null,null,null,0,0,0,null,null,null,null,97,51,null,"",null,null,1,null,274903907,2,1,-2,0,0,{"$f":"ROUND(IF(AND(BH174=3,BI174=3,FS174<>0),P174,0),2)","v":0},{"$f":"ROUND(O174+X174+Y174,2)+GX174","v":19.579999999999998},{"$f":"IF(OR(BI174=0,BI174=1),GM174-GX174,0)","v":0},{"$f":"IF(BI174=2,GM174-GX174,0)","v":19.579999999999998},{"$f":"IF(BI174=4,GM174-GX174,0)","v":0},null,0,3,0,"",{"$f":"ROUND((GT174),2)","v":0},1,{"$f":"ROUND(HC174*I174,2)","v":0},null,null,0,0,{"$f":"0","v":0},null,"","",null,null,null,null,null,null,"","Пр/812-049.3-1","Пр/774-049.3","Электротехнические установки: на других объектах","Электротехнические установки: на других объектах",null,0,null,null,null,null,null,null,null,null,null,null,null,null,null,null,null,null,null,0]
[17,1,{"$f":"ROW(SmtRes!A325)","v":325},{"$f":"ROW(EtalonRes!A325)","v":325},"9","33-04-017-01","Подвеска провода СИП-2 напряжением от 0,4 кВ до 1 кВ на опорах, при 32 опорах на км линии: с использованием автогидроподъемника","1000 м",6.9999999999999802E-3,0,6.9999999999999802E-3,0.14699999999999999,0.14000000000000001,{"$f":"ROUND(L175-M175,4)","v":7.0000000000000001E-3},{"$f":"ROUND(CP175,2)","v":918.13},{"$f":"SUMIF(SmtRes!AQ313:'SmtRes'!AQ325,\"=1\",SmtRes!DF313:'SmtRes'!DF325)","v":0},{"$f":"SUMIF(SmtRes!AQ313:'SmtRes'!AQ325,\"=1\",SmtRes!DG313:'SmtRes'!DG325)","v":111.56000000000002},{"$f":"SUMIF(SmtRes!AQ313:'SmtRes'!AQ325,\"=1\",SmtRes!DH313:'SmtRes'!DH325)","v":171.47000000000003},{"$f":"SUMIF(SmtRes!AQ313:'SmtRes'!AQ325,\"=1\",SmtRes!DI313:'SmtRes'!DI325)","v":635.1},{"$f":"ROUND(CU175*I175,2)","v":0},{"$f":"SUMIF(SmtRes!AQ313:'SmtRes'!AQ325,\"=1\",SmtRes!CV313:'SmtRes'!CV325)","v":0.79900799999999994},{"$f":"SUMIF(SmtRes!AQ313:'SmtRes'!AQ325,\"=1\",SmtRes!CW313:'SmtRes'!CW325)","v":0.20907599999999998},{"$f":"ROUND(CX175*I175,2)","v":0},830.77,483.94,null,85312357,{"$f":"ROUND((AC175+AD175+AF175),2)","v":102307},{"$f":"ROUND((0),2)","v":0},{"$f":"ROUND((((SUM(SmtRes!BR313:'SmtRes'!BR325))-(SUM(SmtRes!BS313:'SmtRes'!BS325)))+AE175),2)","v":11578.15},{"$f":"ROUND((SUM(SmtRes!BS313:'SmtRes'!BS325)),2)","v":24497.35},{"$f":"ROUND((SUM(SmtRes!BT313:'SmtRes'!BT325)),2)","v":90728.85},{"$f":"ROUND((AP175),2)","v":0},{"$f":"(SUM(SmtRes!BU313:'SmtRes'!BU325))","v":114.14400000000001},{"$f":"(SUM(SmtRes!BV313:'SmtRes'!BV325))","v":29.867999999999995},{"$f":"(AS175)","v":0},105670.2788,0,9648.4517999999989,20414.455600000001,75607.371400000004,0,95.12,24.889999999999997,0,103,60,1,1,null,null,1,1,1,1,"","","","",0,1,"ГЭСН-2022 доп.9, 33-04-017-01, приказ Минстроя России от 16.02.2024 г. № 102/пр",null,null,33001,0,"",0,2,0,1,1,1,1,1,1,"",103,60,"",null,null,0,0,0,9,0,0,0,0,0,"Поправка: 421/пр_2020_прил.10_т.1_п.4_гр.5 Наименование: Производство работ осуществляется в охранной зоне действующей воздушной линии электропередачи, вблизи объектов, находящихся под напряжением, внутри объектов капитального строительства, внутренняя проводка в которых не обесточена, если это приведет к ограничению действий рабочих в соответствии с требованиями техники безопасности",0,{"$f":"(P175+Q175+S175+R175)","v":918.13000000000011},{"$f":"SUMIF(SmtRes!AQ313:'SmtRes'!AQ325,\"=1\",SmtRes!AA313:'SmtRes'!AA325)","v":0},{"$f":"SUMIF(SmtRes!AQ313:'SmtRes'!AQ325,\"=1\",SmtRes!AB313:'SmtRes'!AB325)","v":2984.03},{"$f":"SUMIF(SmtRes!AQ313:'SmtRes'!AQ325,\"=1\",SmtRes!AC313:'SmtRes'!AC325)","v":3525.83},{"$f":"SUMIF(SmtRes!AQ313:'SmtRes'!AQ325,\"=1\",SmtRes!AD313:'SmtRes'!AD325)","v":3125.9799999999996},{"$f":"AG175","v":0},{"$f":"SUMIF(SmtRes!AQ313:'SmtRes'!AQ325,\"=1\",SmtRes!BU313:'SmtRes'!BU325)","v":114.14400000000001},{"$f":"SUMIF(SmtRes!AQ313:'SmtRes'!AQ325,\"=1\",SmtRes!BV313:'SmtRes'!BV325)","v":29.867999999999995},{"$f":"AJ175","v":0},{"$f":"(((S175+R175)*AT175)/100)","v":830.76710000000003},{"$f":"(((S175+R175)*AU175)/100)","v":483.94200000000006},null,17,"","","*(0,2+1)","*(0,2+1)","*(0,2+1)","","*(0,2+1)","*(0,2+1)","","","",0,0,1,1,null,null,null,1013,"1000 м","1000 М",1,null,"","","","",null,83666879,2,"Общестроительные работы",27,"Линии электропередачи",1,33001,"Линии электропередачи","ФЕР-33",null,"Поправка: 421/пр_2020_прил.10_т.1_п.4_гр.5",null,131072,0,0,0,0,0,95.12,24.89,0,null,null,null,null,null,null,null,null,null,null,null,null,null,null,null,null,null,0,0,0,null,null,null,null,103,60,null,"",null,null,1,null,1117055163,2,1,-2,0,0,{"$f":"ROUND(IF(AND(BH175=3,BI175=3,FS175<>0),P175,0),2)","v":0},{"$f":"ROUND(O175+X175+Y175,2)+GX175","v":2232.84},{"$f":"IF(OR(BI175=0,BI175=1),GM175-GX175,0)","v":2232.84},{"$f":"IF(BI175=2,GM175-GX175,0)","v":0},{"$f":"IF(BI175=4,GM175-GX175,0)","v":0},null,0,3,0,"",{"$f":"ROUND((GT175),2)","v":0},1,{"$f":"ROUND(HC175*I175,2)","v":0},null,null,0,0,{"$f":"GV175*GW175","v":0},null,"","",null,null,null,null,null,null,"","Пр/812-027.0-1","Пр/774-027.0","Линии электропередачи","Линии электропередачи",null,0,null,null,null,null,null,null,null,null,null,null,null,null,null,null,null,null,null,0]
[17,1,{"$f":"ROW(SmtRes!A338)","v":338},{"$f":"ROW(EtalonRes!A338)","v":338},"9","33-04-017-01","Подвеска провода СИП-2 напряжением от 0,4 кВ до 1 кВ на опорах, при 32 опорах на км линии: с использованием автогидроподъемника","1000 м",6.9999999999999802E-3,0,6.9999999999999802E-3,0.14699999999999999,0.14000000000000001,{"$f":"ROUND(L176-M176,4)","v":7.0000000000000001E-3},{"$f":"ROUND(CP176,2)","v":918.13},{"$f":"SUMIF(SmtRes!AQ326:'SmtRes'!AQ338,\"=1\",SmtRes!DF326:'SmtRes'!DF338)","v":0},{"$f":"SUMIF(SmtRes!AQ326:'SmtRes'!AQ338,\"=1\",SmtRes!DG326:'SmtRes'!DG338)","v":111.56000000000002},{"$f":"SUMIF(SmtRes!AQ326:'SmtRes'!AQ338,\"=1\",SmtRes!DH326:'SmtRes'!DH338)","v":171.47000000000003},{"$f":"SUMIF(SmtRes!AQ326:'SmtRes'!AQ338,\"=1\",SmtRes!DI326:'SmtRes'!DI338)","v":635.1},{"$f":"ROUND(CU176*I176,2)","v":0},{"$f":"SUMIF(SmtRes!AQ326:'SmtRes'!AQ338,\"=1\",SmtRes!CV326:'SmtRes'!CV338)","v":0.79900799999999994},{"$f":"SUMIF(SmtRes!AQ326:'SmtRes'!AQ338,\"=1\",SmtRes!CW326:'SmtRes'!CW338)","v":0.20907599999999998},{"$f":"ROUND(CX176*I176,2)","v":0},830.77,483.94,null,85312298,{"$f":"ROUND((AC176+AD176+AF176),2)","v":102307},{"$f":"ROUND((0),2)","v":0},{"$f":"ROUND((((SUM(SmtRes!BR326:'SmtRes'!BR338))-(SUM(SmtRes!BS326:'SmtRes'!BS338)))+AE176),2)","v":11578.15},{"$f":"ROUND((SUM(SmtRes!BS326:'SmtRes'!BS338)),2)","v":24497.35},{"$f":"ROUND((SUM(SmtRes!BT326:'SmtRes'!BT338)),2)","v":90728.85},{"$f":"ROUND((AP176),2)","v":0},{"$f":"(SUM(SmtRes!BU326:'SmtRes'!BU338))","v":114.14400000000001},{"$f":"(SUM(SmtRes!BV326:'SmtRes'!BV338))","v":29.867999999999995},{"$f":"(AS176)","v":0},105670.2788,0,9648.4517999999989,20414.455600000001,75607.371400000004,0,95.12,24.889999999999997,0,103,60,1,1,null,null,1,1,1,1,"","","","",0,1,"ГЭСН-2022 доп.9, 33-04-017-01, приказ Минстроя России от 16.02.2024 г. № 102/пр",null,null,33001,0,"",0,2,0,1,1,1,1,1,1,"",103,60,"",null,null,0,0,0,9,0,0,0,0,0,"Поправка: 421/пр_2020_прил.10_т.1_п.4_гр.5 Наименование: Производство работ осуществляется в охранной зоне действующей воздушной линии электропередачи, вблизи объектов, находящихся под напряжением, внутри объектов капитального строительства, внутренняя проводка в которых не обесточена, если это приведет к ограничению действий рабочих в соответствии с требованиями техники безопасности",0,{"$f":"(P176+Q176+S176+R176)","v":918.13000000000011},{"$f":"SUMIF(SmtRes!AQ326:'SmtRes'!AQ338,\"=1\",SmtRes!AA326:'SmtRes'!AA338)","v":0},{"$f":"SUMIF(SmtRes!AQ326:'SmtRes'!AQ338,\"=1\",SmtRes!AB326:'SmtRes'!AB338)","v":2984.03},{"$f":"SUMIF(SmtRes!AQ326:'SmtRes'!AQ338,\"=1\",SmtRes!AC326:'SmtRes'!AC338)","v":3525.83},{"$f":"SUMIF(SmtRes!AQ326:'SmtRes'!AQ338,\"=1\",SmtRes!AD326:'SmtRes'!AD338)","v":3125.9799999999996},{"$f":"AG176","v":0},{"$f":"SUMIF(SmtRes!AQ326:'SmtRes'!AQ338,\"=1\",SmtRes!BU326:'SmtRes'!BU338)","v":114.14400000000001},{"$f":"SUMIF(SmtRes!AQ326:'SmtRes'!AQ338,\"=1\",SmtRes!BV326:'SmtRes'!BV338)","v":29.867999999999995},{"$f":"AJ176","v":0},{"$f":"(((S176+R176)*AT176)/100)","v":830.76710000000003},{"$f":"(((S176+R176)*AU176)/100)","v":483.94200000000006},null,18,"","","*(0,2+1)","*(0,2+1)","*(0,2+1)","","*(0,2+1)","*(0,2+1)","","","",0,0,1,1,null,null,null,1013,"1000 м","1000 М",1,null,"","","","",null,83666879,2,"Общестроительные работы",27,"Линии электропередачи",1,33001,"Линии электропередачи","ФЕР-33",null,"Поправка: 421/пр_2020_прил.10_т.1_п.4_гр.5",null,131072,0,0,0,0,0,95.12,24.89,0,null,null,null,null,null,null,null,null,null,null,null,null,null,null,null,null,null,0,0,0,null,null,null,null,103,60,null,"",null,null,1,null,1117055163,2,1,-2,0,0,{"$f":"ROUND(IF(AND(BH176=3,BI176=3,FS176<>0),P176,0),2)","v":0},{"$f":"ROUND(O176+X176+Y176,2)+GX176","v":2232.84},{"$f":"IF(OR(BI176=0,BI176=1),GM176-GX176,0)","v":2232.84},{"$f":"IF(BI176=2,GM176-GX176,0)","v":0},{"$f":"IF(BI176=4,GM176-GX176,0)","v":0},null,0,3,0,"",{"$f":"ROUND((GT176),2)","v":0},1,{"$f":"ROUND(HC176*I176,2)","v":0},null,null,0,0,{"$f":"GV176*GW176","v":0},null,"","",null,null,null,null,null,null,"","Пр/812-027.0-1","Пр/774-027.0","Линии электропередачи","Линии электропередачи",null,0,null,null,null,null,null,null,null,null,null,null,null,null,null,null,null,null,null,0]
[19,1,null,null,null,"","По ВОР \"Подвеска самонесущих изолированных проводов СИП-2\"","",null,null,null,null,null,null,null,null,null,null,null,null,null,null,null,null,null,null,1,null,null,null,null,null,null,null,null,null,null,null,null,null,null,null,null,null,null,null,null,null,null,null,null,null,null,null,null,null,null,null,null,null,null,null,null,null,null,null,null,null,null,null,null,null,null,null,null,null,null,null,null,null,null,null,null,null,null,null,null,null,null,null,null,null,null,null,null,null,null,null,null,null,null,null,null,null,null,null,null,null,null,null,null,null,null,null,null,null,null,null,null,null,null,null,null,null,null,null,null,null,null,null,null,null,null,null,null,null,null,null,null,null,null,null,null,null,null,null,null,null,null,null,null,null,null,null,null,null,null,null,null,null,null,null,null,null,null,null,null,null,null,null,null,null,null,null,null,null,null,null,null,null,null,null,null,null,null,null,null,null,null,null,null,null,null,null,null,null,null,null,null,null,null,null,null,null,null,null,null,null,null,null,null,null,null,null,null,null,null,null,null,null,null,null,null,null,null,null,null,null,null,null,null,null,null,null,null,null,null,null,null,null,null,null,null,null,0]
[18,1,323,null,"9,1","20.1.01.01","Комплект линейной арматуры для крепления СИП-2 на опоре ВЛИ","ШТ",{"$f":"I175*J178","v":0},0,0,0,0,{"$f":"ROUND(L178-M178,4)","v":0},{"$f":"ROUND(CP178,2)","v":0},{"$f":"ROUND(CQ178*I178,2)","v":0},{"$f":"ROUND(CR178*I178,2)","v":0},{"$f":"ROUND(CS178*I178,2)","v":0},{"$f":"ROUND(CT178*I178,2)","v":0},{"$f":"ROUND(CU178*I178,2)","v":0},{"$f":"ROUND(CV178*I178,7)","v":0},{"$f":"ROUND(CW178*I178,7)","v":0},{"$f":"ROUND(CX178*I178,2)","v":0},{"$f":"ROUND(CY178,2)","v":0},0,null,85312357,{"$f":"ROUND((AC178+AD178+AF178),2)","v":0},{"$f":"ROUND((ES178),2)","v":0},{"$f":"ROUND((((ET178)-(EU178))+AE178),2)","v":0},{"$f":"ROUND((EU178),2)","v":0},0,{"$f":"ROUND((AP178),2)","v":0},{"$f":"(EW178)","v":0},0,{"$f":"(AS178)","v":0},0,0,0,0,0,0,0,0,0,103,60,1,1,null,null,1,1,1,1,"","","","",3,1,"",null,null,33001,0,"",0,2,0,1,1,1,1,1,1,"",103,60,"",null,null,0,0,0,9,1,0,0,0,0,"",0,{"$f":"(P178+Q178+S178+R178)","v":0},{"$f":"ROUND(AL178*BC178,2)","v":0},{"$f":"ROUND(AM178*BB178,2)","v":0},{"$f":"ROUND(AN178*BS178,2)","v":0},{"$f":"ROUND(AO178*BA178,2)","v":0},{"$f":"AG178","v":0},0,0,0,{"$f":"(((S178+R178)*AT178)/100)","v":0},{"$f":"(((S178+R178)*AU178)/100)","v":0},null,null,"","","","","","","","","","","",0,0,1,1,null,null,null,1013,"ШТ","ШТ",1,null,"","","","",null,83666879,2,"Общестроительные работы",27,"Линии электропередачи",1,33001,"Линии электропередачи","ФЕР-33",null,"",null,0,0,0,0,0,0,0,0,null,null,null,null,null,null,null,null,null,null,null,null,null,null,null,null,null,null,0,0,0,null,null,null,null,103,60,null,"",null,null,1,null,864875641,2,1,-2,0,0,{"$f":"ROUND(IF(AND(BH178=3,BI178=3,FS178<>0),P178,0),2)","v":0},{"$f":"ROUND(O178+X178+Y178,2)+GX178","v":0},{"$f":"IF(OR(BI178=0,BI178=1),GM178-GX178,0)","v":0},{"$f":"IF(BI178=2,GM178-GX178,0)","v":0},{"$f":"IF(BI178=4,GM178-GX178,0)","v":0},null,0,3,0,"",{"$f":"ROUND((GT178),2)","v":0},1,{"$f":"ROUND(HC178*I178,2)","v":0},null,null,0,0,{"$f":"GV178*GW178","v":0},null,"","",null,null,null,null,null,null,"","Пр/812-027.0-1","Пр/774-027.0","Линии электропередачи","Линии электропередачи",null,0,null,null,null,null,null,null,null,null,null,null,null,null,null,null,null,null,null,0]
[18,1,336,null,"9,1","20.1.01.01","Комплект линейной арматуры для крепления СИП-2 на опоре ВЛИ","ШТ",{"$f":"I176*J179","v":0},0,0,0,0,0,0,0,0,0,0,0,0,0,0,0,0,null,85312298,0,0,0,0,0,0,0,0,0,0,0,0,0,0,0,0,0,0,103,60,1,1,null,null,1,1,1,1,"","","","",3,1,"",null,null,33001,0,"",0,2,0,1,1,1,1,1,1,"",103,60,"",null,null,0,0,0,9,1,0,0,0,0,"",0,0,0,0,0,0,0,0,0,0,0,0,null,null,"","","","","","","","","","","",0,0,1,1,null,null,null,1013,"ШТ","ШТ",1,null,"","","","",null,83666879,2,"Общестроительные работы",27,"Линии электропередачи",1,33001,"Линии электропередачи","ФЕР-33",null,"",null,0,0,0,0,0,0,0,0,null,null,null,null,null,null,null,null,null,null,null,null,null,null,null,null,null,null,0,0,0,null,null,null,null,103,60,null,"",null,null,1,null,864875641,2,1,-2,0,0,0,0,0,0,0,null,0,3,0,"",0,1,0,null,null,0,0,0,null,"","",null,null,null,null,null,null,"","Пр/812-027.0-1","Пр/774-027.0","Линии электропередачи","Линии электропередачи",null,0,null,null,null,null,null,null,null,null,null,null,null,null,null,null,null,null,null,0]
[18,1,324,null,"9,2","20.1.01.11","Комплект линейной арматуры для устройства заземлений на опорах ВЛИ","ШТ",{"$f":"I175*J180","v":0},0,0,0,0,0,0,0,0,0,0,0,0,0,0,0,0,null,85312357,0,0,0,0,0,0,0,0,0,0,0,0,0,0,0,0,0,0,103,60,1,1,null,null,1,1,1,1,"","","","",3,1,"",null,null,33001,0,"",0,2,0,1,1,1,1,1,1,"",103,60,"",null,null,0,0,0,9,2,0,0,0,0,"",0,0,0,0,0,0,0,0,0,0,0,0,null,null,"","","","","","","","","","","",0,0,1,1,null,null,null,1013,"ШТ","ШТ",1,null,"","","","",null,83666879,2,"Общестроительные работы",27,"Линии электропередачи",1,33001,"Линии электропередачи","ФЕР-33",null,"",null,0,0,0,0,0,0,0,0,null,null,null,null,null,null,null,null,null,null,null,null,null,null,null,null,null,null,0,0,0,null,null,null,null,103,60,null,"",null,null,1,null,-1890832814,2,1,-2,0,0,0,0,0,0,0,null,0,3,0,"",0,1,0,null,null,0,0,0,null,"","",null,null,null,null,null,null,"","Пр/812-027.0-1","Пр/774-027.0","Линии электропередачи","Линии электропередачи",null,0,null,null,null,null,null,null,null,null,null,null,null,null,null,null,null,null,null,0]
[18,1,337,null,"9,2","20.1.01.11","Комплект линейной арматуры для устройства заземлений на опорах ВЛИ","ШТ",{"$f":"I176*J181","v":0},0,0,0,0,0,0,0,0,0,0,0,0,0,0,0,0,null,85312298,0,0,0,0,0,0,0,0,0,0,0,0,0,0,0,0,0,0,103,60,1,1,null,null,1,1,1,1,"","","","",3,1,"",null,null,33001,0,"",0,2,0,1,1,1,1,1,1,"",103,60,"",null,null,0,0,0,9,2,0,0,0,0,"",0,0,0,0,0,0,0,0,0,0,0,0,null,null,"","","","","","","","","","","",0,0,1,1,null,null,null,1013,"ШТ","ШТ",1,null,"","","","",null,83666879,2,"Общестроительные работы",27,"Линии электропередачи",1,33001,"Линии электропередачи","ФЕР-33",null,"",null,0,0,0,0,0,0,0,0,null,null,null,null,null,null,null,null,null,null,null,null,null,null,null,null,null,null,0,0,0,null,null,null,null,103,60,null,"",null,null,1,null,-1890832814,2,1,-2,0,0,0,0,0,0,0,null,0,3,0,"",0,1,0,null,null,0,0,0,null,"","",null,null,null,null,null,null,"","Пр/812-027.0-1","Пр/774-027.0","Линии электропередачи","Линии электропередачи",null,0,null,null,null,null,null,null,null,null,null,null,null,null,null,null,null,null,null,0]
[18,1,325,null,"9,3","21.2.01.01","Провода самонесущие изолированные для ВЛИ","1000 м",{"$f":"I175*J182","v":0},0,0,0,0,0,0,0,0,0,0,0,0,0,0,0,0,null,85312357,0,0,0,0,0,0,0,0,0,0,0,0,0,0,0,0,0,0,103,60,1,1,null,null,1,1,1,1,"","","","",3,1,"",null,null,33001,0,"",0,2,0,1,1,1,1,1,1,"",103,60,"",null,null,0,0,0,9,3,0,0,0,0,"",0,0,0,0,0,0,0,0,0,0,0,0,null,null,"","","","","","","","","","","",0,0,1,1,null,null,null,1013,"1000 м","1000 М",1,null,"","","","",null,83666879,2,"Общестроительные работы",27,"Линии электропередачи",1,33001,"Линии электропередачи","ФЕР-33",null,"",null,0,0,0,0,0,0,0,0,null,null,null,null,null,null,null,null,null,null,null,null,null,null,null,null,null,null,0,0,0,null,null,null,null,103,60,null,"",null,null,1,null,164804165,2,1,-2,0,0,0,0,0,0,0,null,0,3,0,"",0,1,0,null,null,0,0,0,null,"","",null,null,null,null,null,null,"","Пр/812-027.0-1","Пр/774-027.0","Линии электропередачи","Линии электропередачи",null,0,null,null,null,null,null,null,null,null,null,null,null,null,null,null,null,null,null,0]
[18,1,338,null,"9,3","21.2.01.01","Провода самонесущие изолированные для ВЛИ","1000 м",{"$f":"I176*J183","v":0},0,0,0,0,0,0,0,0,0,0,0,0,0,0,0,0,null,85312298,0,0,0,0,0,0,0,0,0,0,0,0,0,0,0,0,0,0,103,60,1,1,null,null,1,1,1,1,"","","","",3,1,"",null,null,33001,0,"",0,2,0,1,1,1,1,1,1,"",103,60,"",null,null,0,0,0,9,3,0,0,0,0,"",0,0,0,0,0,0,0,0,0,0,0,0,null,null,"","","","","","","","","","","",0,0,1,1,null,null,null,1013,"1000 м","1000 М",1,null,"","","","",null,83666879,2,"Общестроительные работы",27,"Линии электропередачи",1,33001,"Линии электропередачи","ФЕР-33",null,"",null,0,0,0,0,0,0,0,0,null,null,null,null,null,null,null,null,null,null,null,null,null,null,null,null,null,null,0,0,0,null,null,null,null,103,60,null,"",null,null,1,null,164804165,2,1,-2,0,0,0,0,0,0,0,null,0,3,0,"",0,1,0,null,null,0,0,0,null,"","",null,null,null,null,null,null,"","Пр/812-027.0-1","Пр/774-027.0","Линии электропередачи","Линии электропередачи",null,0,null,null,null,null,null,null,null,null,null,null,null,null,null,null,null,null,null,0]
[17,1,{"$f":"ROW(SmtRes!A345)","v":345},{"$f":"ROW(EtalonRes!A345)","v":345},"10","33-04-017-03","При изменении количества опор на 1 км ВЛИ добавлять или исключать: к норме 33-04-017-01","ШТ",2,0,2,2,0,2,4850.62,{"$f":"SUMIF(SmtRes!AQ339:'SmtRes'!AQ345,\"=1\",SmtRes!DF339:'SmtRes'!DF345)","v":0},{"$f":"SUMIF(SmtRes!AQ339:'SmtRes'!AQ345,\"=1\",SmtRes!DG339:'SmtRes'!DG345)","v":534.58000000000004},{"$f":"SUMIF(SmtRes!AQ339:'SmtRes'!AQ345,\"=1\",SmtRes!DH339:'SmtRes'!DH345)","v":857.25},{"$f":"SUMIF(SmtRes!AQ339:'SmtRes'!AQ345,\"=1\",SmtRes!DI339:'SmtRes'!DI345)","v":3458.79},0,{"$f":"SUMIF(SmtRes!AQ339:'SmtRes'!AQ345,\"=1\",SmtRes!CV339:'SmtRes'!CV345)","v":4.3440000000000003},{"$f":"SUMIF(SmtRes!AQ339:'SmtRes'!AQ345,\"=1\",SmtRes!CW339:'SmtRes'!CW345)","v":1.056},0,4445.5200000000004,2589.62,null,85312357,1912.47,{"$f":"ROUND((0),2)","v":0},{"$f":"ROUND((((SUM(SmtRes!BR339:'SmtRes'!BR345))-(SUM(SmtRes!BS339:'SmtRes'!BS345)))+AE184),2)","v":183.08},{"$f":"ROUND((SUM(SmtRes!BS339:'SmtRes'!BS345)),2)","v":428.63},{"$f":"ROUND((SUM(SmtRes!BT339:'SmtRes'!BT345)),2)","v":1729.39},0,{"$f":"(SUM(SmtRes!BU339:'SmtRes'!BU345))","v":2.1720000000000002},{"$f":"(SUM(SmtRes!BV339:'SmtRes'!BV345))","v":0.52800000000000002},0,1950.9099000000001,0,152.56120000000001,357.18759999999997,1441.1611,0,1.81,0.44,0,103,60,1,1,null,null,1,1,1,1,"","","","",0,1,"ГЭСН-2022 доп.9, 33-04-017-03, приказ Минстроя России от 16.02.2024 г. № 102/пр",null,null,33001,0,"",0,2,0,1,1,1,1,1,1,"",103,60,"",null,null,0,0,0,10,0,0,0,0,0,"Поправка: 421/пр_2020_прил.10_т.1_п.4_гр.5 Наименование: Производство работ осуществляется в охранной зоне действующей воздушной линии электропередачи, вблизи объектов, находящихся под напряжением, внутри объектов капитального строительства, внутренняя проводка в которых не обесточена, если это приведет к ограничению действий рабочих в соответствии с требованиями техники безопасности",0,4850.62,{"$f":"SUMIF(SmtRes!AQ339:'SmtRes'!AQ345,\"=1\",SmtRes!AA339:'SmtRes'!AA345)","v":0},{"$f":"SUMIF(SmtRes!AQ339:'SmtRes'!AQ345,\"=1\",SmtRes!AB339:'SmtRes'!AB345)","v":506.23},{"$f":"SUMIF(SmtRes!AQ339:'SmtRes'!AQ345,\"=1\",SmtRes!AC339:'SmtRes'!AC345)","v":811.79},{"$f":"SUMIF(SmtRes!AQ339:'SmtRes'!AQ345,\"=1\",SmtRes!AD339:'SmtRes'!AD345)","v":2465.6499999999996},{"$f":"AG184","v":0},{"$f":"SUMIF(SmtRes!AQ339:'SmtRes'!AQ345,\"=1\",SmtRes!BU339:'SmtRes'!BU345)","v":2.1720000000000002},{"$f":"SUMIF(SmtRes!AQ339:'SmtRes'!AQ345,\"=1\",SmtRes!BV339:'SmtRes'!BV345)","v":0.52800000000000002},{"$f":"AJ184","v":0},4445.5212000000001,2589.6239999999998,null,19,"","","*(0,2+1)","*(0,2+1)","*(0,2+1)","","*(0,2+1)","*(0,2+1)","","","",0,0,1,1,null,null,null,1013,"ШТ","ШТ",1,null,"","","","",null,83666879,2,"Общестроительные работы",27,"Линии электропередачи",1,33001,"Линии электропередачи","ФЕР-33",null,"Поправка: 421/пр_2020_прил.10_т.1_п.4_гр.5",null,131072,0,0,0,0,0,1.81,0.44,0,null,null,null,null,null,null,null,null,null,null,null,null,null,null,null,null,null,0,0,0,null,null,null,null,103,60,null,"",null,null,1,null,-1728862771,2,1,-2,0,0,0,11885.76,11885.76,0,0,null,0,3,0,"",0,1,0,null,null,0,0,0,null,"","",null,null,null,null,null,null,"","Пр/812-027.0-1","Пр/774-027.0","Линии электропередачи","Линии электропередачи",null,0,null,null,null,null,null,null,null,null,null,null,null,null,null,null,null,null,null,0]
[17,1,{"$f":"ROW(SmtRes!A352)","v":352},{"$f":"ROW(EtalonRes!A352)","v":352},"10","33-04-017-03","При изменении количества опор на 1 км ВЛИ добавлять или исключать: к норме 33-04-017-01","ШТ",2,0,2,2,0,2,4850.62,{"$f":"SUMIF(SmtRes!AQ346:'SmtRes'!AQ352,\"=1\",SmtRes!DF346:'SmtRes'!DF352)","v":0},{"$f":"SUMIF(SmtRes!AQ346:'SmtRes'!AQ352,\"=1\",SmtRes!DG346:'SmtRes'!DG352)","v":534.58000000000004},{"$f":"SUMIF(SmtRes!AQ346:'SmtRes'!AQ352,\"=1\",SmtRes!DH346:'SmtRes'!DH352)","v":857.25},{"$f":"SUMIF(SmtRes!AQ346:'SmtRes'!AQ352,\"=1\",SmtRes!DI346:'SmtRes'!DI352)","v":3458.79},0,{"$f":"SUMIF(SmtRes!AQ346:'SmtRes'!AQ352,\"=1\",SmtRes!CV346:'SmtRes'!CV352)","v":4.3440000000000003},{"$f":"SUMIF(SmtRes!AQ346:'SmtRes'!AQ352,\"=1\",SmtRes!CW346:'SmtRes'!CW352)","v":1.056},0,4445.5200000000004,2589.62,null,85312298,1912.47,{"$f":"ROUND((0),2)","v":0},{"$f":"ROUND((((SUM(SmtRes!BR346:'SmtRes'!BR352))-(SUM(SmtRes!BS346:'SmtRes'!BS352)))+AE185),2)","v":183.08},{"$f":"ROUND((SUM(SmtRes!BS346:'SmtRes'!BS352)),2)","v":428.63},{"$f":"ROUND((SUM(SmtRes!BT346:'SmtRes'!BT352)),2)","v":1729.39},0,{"$f":"(SUM(SmtRes!BU346:'SmtRes'!BU352))","v":2.1720000000000002},{"$f":"(SUM(SmtRes!BV346:'SmtRes'!BV352))","v":0.52800000000000002},0,1950.9099000000001,0,152.56120000000001,357.18759999999997,1441.1611,0,1.81,0.44,0,103,60,1,1,null,null,1,1,1,1,"","","","",0,1,"ГЭСН-2022 доп.9, 33-04-017-03, приказ Минстроя России от 16.02.2024 г. № 102/пр",null,null,33001,0,"",0,2,0,1,1,1,1,1,1,"",103,60,"",null,null,0,0,0,10,0,0,0,0,0,"Поправка: 421/пр_2020_прил.10_т.1_п.4_гр.5 Наименование: Производство работ осуществляется в охранной зоне действующей воздушной линии электропередачи, вблизи объектов, находящихся под напряжением, внутри объектов капитального строительства, внутренняя проводка в которых не обесточена, если это приведет к ограничению действий рабочих в соответствии с требованиями техники безопасности",0,4850.62,{"$f":"SUMIF(SmtRes!AQ346:'SmtRes'!AQ352,\"=1\",SmtRes!AA346:'SmtRes'!AA352)","v":0},{"$f":"SUMIF(SmtRes!AQ346:'SmtRes'!AQ352,\"=1\",SmtRes!AB346:'SmtRes'!AB352)","v":506.23},{"$f":"SUMIF(SmtRes!AQ346:'SmtRes'!AQ352,\"=1\",SmtRes!AC346:'SmtRes'!AC352)","v":811.79},{"$f":"SUMIF(SmtRes!AQ346:'SmtRes'!AQ352,\"=1\",SmtRes!AD346:'SmtRes'!AD352)","v":2465.6499999999996},{"$f":"AG185","v":0},{"$f":"SUMIF(SmtRes!AQ346:'SmtRes'!AQ352,\"=1\",SmtRes!BU346:'SmtRes'!BU352)","v":2.1720000000000002},{"$f":"SUMIF(SmtRes!AQ346:'SmtRes'!AQ352,\"=1\",SmtRes!BV346:'SmtRes'!BV352)","v":0.52800000000000002},{"$f":"AJ185","v":0},4445.5212000000001,2589.6239999999998,null,20,"","","*(0,2+1)","*(0,2+1)","*(0,2+1)","","*(0,2+1)","*(0,2+1)","","","",0,0,1,1,null,null,null,1013,"ШТ","ШТ",1,null,"","","","",null,83666879,2,"Общестроительные работы",27,"Линии электропередачи",1,33001,"Линии электропередачи","ФЕР-33",null,"Поправка: 421/пр_2020_прил.10_т.1_п.4_гр.5",null,131072,0,0,0,0,0,1.81,0.44,0,null,null,null,null,null,null,null,null,null,null,null,null,null,null,null,null,null,0,0,0,null,null,null,null,103,60,null,"",null,null,1,null,-1728862771,2,1,-2,0,0,0,11885.76,11885.76,0,0,null,0,3,0,"",0,1,0,null,null,0,0,0,null,"","",null,null,null,null,null,null,"","Пр/812-027.0-1","Пр/774-027.0","Линии электропередачи","Линии электропередачи",null,0,null,null,null,null,null,null,null,null,null,null,null,null,null,null,null,null,null,0]
[19,1,null,null,null,"","Относится к расценке выше и зависит от подвески провода","",null,null,null,null,null,null,null,null,null,null,null,null,null,null,null,null,null,null,1,null,null,null,null,null,null,null,null,null,null,null,null,null,null,null,null,null,null,null,null,null,null,null,null,null,null,null,null,null,null,null,null,null,null,null,null,null,null,null,null,null,null,null,null,null,null,null,null,null,null,null,null,null,null,null,null,null,null,null,null,null,null,null,null,null,null,null,null,null,null,null,null,null,null,null,null,null,null,null,null,null,null,null,null,null,null,null,null,null,null,null,null,null,null,null,null,null,null,null,null,null,null,null,null,null,null,null,null,null,null,null,null,null,null,null,null,null,null,null,null,null,null,null,null,null,null,null,null,null,null,null,null,null,null,null,null,null,null,null,null,null,null,null,null,null,null,null,null,null,null,null,null,null,null,null,null,null,null,null,null,null,null,null,null,null,null,null,null,null,null,null,null,null,null,null,null,null,null,null,null,null,null,null,null,null,null,null,null,null,null,null,null,null,null,null,null,null,null,null,null,null,null,null,null,null,null,null,null,null,null,null,null,null,null,null,null,null,0]
[18,1,344,null,"10,1","20.1.01.01","Комплект линейной арматуры для крепления СИП-2 на опоре ВЛИ","ШТ",{"$f":"I184*J187","v":0},0,0,0,0,{"$f":"ROUND(L187-M187,4)","v":0},{"$f":"ROUND(CP187,2)","v":0},{"$f":"ROUND(CQ187*I187,2)","v":0},{"$f":"ROUND(CR187*I187,2)","v":0},{"$f":"ROUND(CS187*I187,2)","v":0},{"$f":"ROUND(CT187*I187,2)","v":0},{"$f":"ROUND(CU187*I187,2)","v":0},{"$f":"ROUND(CV187*I187,7)","v":0},{"$f":"ROUND(CW187*I187,7)","v":0},{"$f":"ROUND(CX187*I187,2)","v":0},{"$f":"ROUND(CY187,2)","v":0},0,null,85312357,{"$f":"ROUND((AC187+AD187+AF187),2)","v":0},{"$f":"ROUND((ES187),2)","v":0},{"$f":"ROUND((((ET187)-(EU187))+AE187),2)","v":0},{"$f":"ROUND((EU187),2)","v":0},0,{"$f":"ROUND((AP187),2)","v":0},{"$f":"(EW187)","v":0},0,{"$f":"(AS187)","v":0},0,0,0,0,0,0,0,0,0,103,60,1,1,null,null,1,1,1,1,"","","","",3,1,"",null,null,33001,0,"",0,2,0,1,1,1,1,1,1,"",103,60,"",null,null,0,0,0,10,1,0,0,0,0,"",0,{"$f":"(P187+Q187+S187+R187)","v":0},{"$f":"ROUND(AL187*BC187,2)","v":0},{"$f":"ROUND(AM187*BB187,2)","v":0},{"$f":"ROUND(AN187*BS187,2)","v":0},{"$f":"ROUND(AO187*BA187,2)","v":0},{"$f":"AG187","v":0},0,0,0,{"$f":"(((S187+R187)*AT187)/100)","v":0},{"$f":"(((S187+R187)*AU187)/100)","v":0},null,null,"","","","","","","","","","","",0,0,1,1,null,null,null,1013,"ШТ","ШТ",1,null,"","","","",null,83666879,2,"Общестроительные работы",27,"Линии электропередачи",1,33001,"Линии электропередачи","ФЕР-33",null,"",null,0,0,0,0,0,0,0,0,null,null,null,null,null,null,null,null,null,null,null,null,null,null,null,null,null,null,0,0,0,null,null,null,null,103,60,null,"",null,null,1,null,864875641,2,1,-2,0,0,{"$f":"ROUND(IF(AND(BH187=3,BI187=3,FS187<>0),P187,0),2)","v":0},{"$f":"ROUND(O187+X187+Y187,2)+GX187","v":0},{"$f":"IF(OR(BI187=0,BI187=1),GM187-GX187,0)","v":0},{"$f":"IF(BI187=2,GM187-GX187,0)","v":0},{"$f":"IF(BI187=4,GM187-GX187,0)","v":0},null,0,3,0,"",{"$f":"ROUND((GT187),2)","v":0},1,{"$f":"ROUND(HC187*I187,2)","v":0},null,null,0,0,{"$f":"GV187*GW187","v":0},null,"","",null,null,null,null,null,null,"","Пр/812-027.0-1","Пр/774-027.0","Линии электропередачи","Линии электропередачи",null,0,null,null,null,null,null,null,null,null,null,null,null,null,null,null,null,null,null,0]
[18,1,351,null,"10,1","20.1.01.01","Комплект линейной арматуры для крепления СИП-2 на опоре ВЛИ","ШТ",{"$f":"I185*J188","v":0},0,0,0,0,0,0,{"$f":"ROUND(CQ188*I188,2)","v":0},{"$f":"ROUND(CR188*I188,2)","v":0},{"$f":"ROUND(CS188*I188,2)","v":0},{"$f":"ROUND(CT188*I188,2)","v":0},0,{"$f":"ROUND(CV188*I188,7)","v":0},{"$f":"ROUND(CW188*I188,7)","v":0},0,0,0,null,85312298,0,{"$f":"ROUND((ES188),2)","v":0},{"$f":"ROUND((((ET188)-(EU188))+AE188),2)","v":0},0,0,0,0,0,0,0,0,0,0,0,0,0,0,0,103,60,1,1,null,null,1,1,1,1,"","","","",3,1,"",null,null,33001,0,"",0,2,0,1,1,1,1,1,1,"",103,60,"",null,null,0,0,0,10,1,0,0,0,0,"",0,0,{"$f":"ROUND(AL188*BC188,2)","v":0},{"$f":"ROUND(AM188*BB188,2)","v":0},{"$f":"ROUND(AN188*BS188,2)","v":0},{"$f":"ROUND(AO188*BA188,2)","v":0},0,0,0,0,0,0,null,null,"","","","","","","","","","","",0,0,1,1,null,null,null,1013,"ШТ","ШТ",1,null,"","","","",null,83666879,2,"Общестроительные работы",27,"Линии электропередачи",1,33001,"Линии электропередачи","ФЕР-33",null,"",null,0,0,0,0,0,0,0,0,null,null,null,null,null,null,null,null,null,null,null,null,null,null,null,null,null,null,0,0,0,null,null,null,null,103,60,null,"",null,null,1,null,864875641,2,1,-2,0,0,0,0,0,0,0,null,0,3,0,"",0,1,0,null,null,0,0,0,null,"","",null,null,null,null,null,null,"","Пр/812-027.0-1","Пр/774-027.0","Линии электропередачи","Линии электропередачи",null,0,null,null,null,null,null,null,null,null,null,null,null,null,null,null,null,null,null,0]
[18,1,345,null,"10,2","20.1.01.11","Комплект линейной арматуры для устройства заземлений на опорах ВЛИ","ШТ",{"$f":"I184*J189","v":0},0,0,0,0,0,0,{"$f":"ROUND(CQ189*I189,2)","v":0},{"$f":"ROUND(CR189*I189,2)","v":0},{"$f":"ROUND(CS189*I189,2)","v":0},{"$f":"ROUND(CT189*I189,2)","v":0},0,{"$f":"ROUND(CV189*I189,7)","v":0},{"$f":"ROUND(CW189*I189,7)","v":0},0,0,0,null,85312357,0,{"$f":"ROUND((ES189),2)","v":0},{"$f":"ROUND((((ET189)-(EU189))+AE189),2)","v":0},0,0,0,0,0,0,0,0,0,0,0,0,0,0,0,103,60,1,1,null,null,1,1,1,1,"","","","",3,1,"",null,null,33001,0,"",0,2,0,1,1,1,1,1,1,"",103,60,"",null,null,0,0,0,10,2,0,0,0,0,"",0,0,{"$f":"ROUND(AL189*BC189,2)","v":0},{"$f":"ROUND(AM189*BB189,2)","v":0},{"$f":"ROUND(AN189*BS189,2)","v":0},{"$f":"ROUND(AO189*BA189,2)","v":0},0,0,0,0,0,0,null,null,"","","","","","","","","","","",0,0,1,1,null,null,null,1013,"ШТ","ШТ",1,null,"","","","",null,83666879,2,"Общестроительные работы",27,"Линии электропередачи",1,33001,"Линии электропередачи","ФЕР-33",null,"",null,0,0,0,0,0,0,0,0,null,null,null,null,null,null,null,null,null,null,null,null,null,null,null,null,null,null,0,0,0,null,null,null,null,103,60,null,"",null,null,1,null,-1890832814,2,1,-2,0,0,0,0,0,0,0,null,0,3,0,"",0,1,0,null,null,0,0,0,null,"","",null,null,null,null,null,null,"","Пр/812-027.0-1","Пр/774-027.0","Линии электропередачи","Линии электропередачи",null,0,null,null,null,null,null,null,null,null,null,null,null,null,null,null,null,null,null,0]
[18,1,352,null,"10,2","20.1.01.11","Комплект линейной арматуры для устройства заземлений на опорах ВЛИ","ШТ",{"$f":"I185*J190","v":0},0,0,0,0,0,0,{"$f":"ROUND(CQ190*I190,2)","v":0},{"$f":"ROUND(CR190*I190,2)","v":0},{"$f":"ROUND(CS190*I190,2)","v":0},{"$f":"ROUND(CT190*I190,2)","v":0},0,{"$f":"ROUND(CV190*I190,7)","v":0},{"$f":"ROUND(CW190*I190,7)","v":0},0,0,0,null,85312298,0,{"$f":"ROUND((ES190),2)","v":0},{"$f":"ROUND((((ET190)-(EU190))+AE190),2)","v":0},0,0,0,0,0,0,0,0,0,0,0,0,0,0,0,103,60,1,1,null,null,1,1,1,1,"","","","",3,1,"",null,null,33001,0,"",0,2,0,1,1,1,1,1,1,"",103,60,"",null,null,0,0,0,10,2,0,0,0,0,"",0,0,{"$f":"ROUND(AL190*BC190,2)","v":0},{"$f":"ROUND(AM190*BB190,2)","v":0},{"$f":"ROUND(AN190*BS190,2)","v":0},{"$f":"ROUND(AO190*BA190,2)","v":0},0,0,0,0,0,0,null,null,"","","","","","","","","","","",0,0,1,1,null,null,null,1013,"ШТ","ШТ",1,null,"","","","",null,83666879,2,"Общестроительные работы",27,"Линии электропередачи",1,33001,"Линии электропередачи","ФЕР-33",null,"",null,0,0,0,0,0,0,0,0,null,null,null,null,null,null,null,null,null,null,null,null,null,null,null,null,null,null,0,0,0,null,null,null,null,103,60,null,"",null,null,1,null,-1890832814,2,1,-2,0,0,0,0,0,0,0,null,0,3,0,"",0,1,0,null,null,0,0,0,null,"","",null,null,null,null,null,null,"","Пр/812-027.0-1","Пр/774-027.0","Линии электропередачи","Линии электропередачи",null,0,null,null,null,null,null,null,null,null,null,null,null,null,null,null,null,null,null,0]
[17,1,{"$f":"ROW(SmtRes!A361)","v":361},{"$f":"ROW(EtalonRes!A361)","v":361},"11","м08-01-082-01","Зажим наборный без кожуха","100 ШТ",0.08,0,0.08,0.31,0.23,0.08,3271.2,{"$f":"SUMIF(SmtRes!AQ353:'SmtRes'!AQ361,\"=1\",SmtRes!DF353:'SmtRes'!DF361)","v":19.850000000000001},{"$f":"SUMIF(SmtRes!AQ353:'SmtRes'!AQ361,\"=1\",SmtRes!DG353:'SmtRes'!DG361)","v":22.3},{"$f":"SUMIF(SmtRes!AQ353:'SmtRes'!AQ361,\"=1\",SmtRes!DH353:'SmtRes'!DH361)","v":18.260000000000002},{"$f":"SUMIF(SmtRes!AQ353:'SmtRes'!AQ361,\"=1\",SmtRes!DI353:'SmtRes'!DI361)","v":3210.79},0,{"$f":"SUMIF(SmtRes!AQ353:'SmtRes'!AQ361,\"=1\",SmtRes!CV353:'SmtRes'!CV361)","v":3.9552},{"$f":"SUMIF(SmtRes!AQ353:'SmtRes'!AQ361,\"=1\",SmtRes!CW353:'SmtRes'!CW361)","v":1.9199999999999998E-2},0,3132.18,1646.82,null,85312357,40688.54,{"$f":"ROUND((SUM(SmtRes!BQ353:'SmtRes'!BQ361)),2)","v":274.83999999999997},{"$f":"ROUND((((SUM(SmtRes!BR353:'SmtRes'!BR361))-(SUM(SmtRes!BS353:'SmtRes'!BS361)))+AE191),2)","v":278.8},{"$f":"ROUND((SUM(SmtRes!BS353:'SmtRes'!BS361)),2)","v":228.27},{"$f":"ROUND((SUM(SmtRes!BT353:'SmtRes'!BT361)),2)","v":40134.9},0,{"$f":"(SUM(SmtRes!BU353:'SmtRes'!BU361))","v":49.440000000000005},{"$f":"(SUM(SmtRes!BV353:'SmtRes'!BV361))","v":0.24},0,34143.144950000002,274.83535000000001,232.33660000000003,190.22500000000002,33445.748,0,41.2,0.2,0,97,51,1,1,null,null,1,1,1,1,"","","","",0,2,"ГЭСНм-2022, м08-01-082-01, приказ Минстроя России от 18.05.2022 г. № 378/пр",null,null,108001,0,"",0,3,0,1,1,1,1,1,1,"",97,51,"",null,null,0,0,0,11,0,0,0,0,0,"Поправка: 421/пр_2020_прил.10_т.1_п.4_гр.5 Наименование: Производство работ осуществляется в охранной зоне действующей воздушной линии электропередачи, вблизи объектов, находящихся под напряжением, внутри объектов капитального строительства, внутренняя проводка в которых не обесточена, если это приведет к ограничению действий рабочих в соответствии с требованиями техники безопасности",0,3271.2000000000003,{"$f":"SUMIF(SmtRes!AQ353:'SmtRes'!AQ361,\"=1\",SmtRes!AA353:'SmtRes'!AA361)","v":52144.76},{"$f":"SUMIF(SmtRes!AQ353:'SmtRes'!AQ361,\"=1\",SmtRes!AB353:'SmtRes'!AB361)","v":2302.6},{"$f":"SUMIF(SmtRes!AQ353:'SmtRes'!AQ361,\"=1\",SmtRes!AC353:'SmtRes'!AC361)","v":1902.25},{"$f":"SUMIF(SmtRes!AQ353:'SmtRes'!AQ361,\"=1\",SmtRes!AD353:'SmtRes'!AD361)","v":811.79},{"$f":"AG191","v":0},{"$f":"SUMIF(SmtRes!AQ353:'SmtRes'!AQ361,\"=1\",SmtRes!BU353:'SmtRes'!BU361)","v":49.440000000000005},{"$f":"SUMIF(SmtRes!AQ353:'SmtRes'!AQ361,\"=1\",SmtRes!BV353:'SmtRes'!BV361)","v":0.24},{"$f":"AJ191","v":0},3132.1785000000004,1646.8155000000002,null,21,"","","*(0,2+1)","*(0,2+1)","*(0,2+1)","","*(0,2+1)","*(0,2+1)","","","",0,0,1,1,null,null,null,1013,"100 ШТ","100 ШТ",1,null,"","","","",null,83666702,3,"Монтажные работы",0,"",2,108001,"Электротехнические установки: на других объектах","мФЕР-08",null,"Поправка: 421/пр_2020_прил.10_т.1_п.4_гр.5",null,131072,0,0,0,0,0,41.2,0.2,0,null,null,null,null,null,null,null,null,null,null,null,null,null,null,null,null,null,0,0,0,null,null,null,null,97,51,null,"",null,null,1,null,1145402398,2,1,-2,0,0,0,8050.2,0,8050.2,0,null,0,3,0,"",0,1,0,null,null,0,0,0,null,"","",null,null,null,null,null,null,"","Пр/812-049.3-1","Пр/774-049.3","Электротехнические установки: на других объектах","Электротехнические установки: на других объектах",null,0,null,null,null,null,null,null,null,null,null,null,null,null,null,null,null,null,null,0]
[17,1,{"$f":"ROW(SmtRes!A370)","v":370},{"$f":"ROW(EtalonRes!A370)","v":370},"11","м08-01-082-01","Зажим наборный без кожуха","100 ШТ",0.08,0,0.08,0.31,0.23,0.08,3271.2,{"$f":"SUMIF(SmtRes!AQ362:'SmtRes'!AQ370,\"=1\",SmtRes!DF362:'SmtRes'!DF370)","v":19.850000000000001},{"$f":"SUMIF(SmtRes!AQ362:'SmtRes'!AQ370,\"=1\",SmtRes!DG362:'SmtRes'!DG370)","v":22.3},{"$f":"SUMIF(SmtRes!AQ362:'SmtRes'!AQ370,\"=1\",SmtRes!DH362:'SmtRes'!DH370)","v":18.260000000000002},{"$f":"SUMIF(SmtRes!AQ362:'SmtRes'!AQ370,\"=1\",SmtRes!DI362:'SmtRes'!DI370)","v":3210.79},0,{"$f":"SUMIF(SmtRes!AQ362:'SmtRes'!AQ370,\"=1\",SmtRes!CV362:'SmtRes'!CV370)","v":3.9552},{"$f":"SUMIF(SmtRes!AQ362:'SmtRes'!AQ370,\"=1\",SmtRes!CW362:'SmtRes'!CW370)","v":1.9199999999999998E-2},0,3132.18,1646.82,null,85312298,40688.54,{"$f":"ROUND((SUM(SmtRes!BQ362:'SmtRes'!BQ370)),2)","v":274.83999999999997},{"$f":"ROUND((((SUM(SmtRes!BR362:'SmtRes'!BR370))-(SUM(SmtRes!BS362:'SmtRes'!BS370)))+AE192),2)","v":278.8},{"$f":"ROUND((SUM(SmtRes!BS362:'SmtRes'!BS370)),2)","v":228.27},{"$f":"ROUND((SUM(SmtRes!BT362:'SmtRes'!BT370)),2)","v":40134.9},0,{"$f":"(SUM(SmtRes!BU362:'SmtRes'!BU370))","v":49.440000000000005},{"$f":"(SUM(SmtRes!BV362:'SmtRes'!BV370))","v":0.24},0,34143.144950000002,274.83535000000001,232.33660000000003,190.22500000000002,33445.748,0,41.2,0.2,0,97,51,1,1,null,null,1,1,1,1,"","","","",0,2,"ГЭСНм-2022, м08-01-082-01, приказ Минстроя России от 18.05.2022 г. № 378/пр",null,null,108001,0,"",0,3,0,1,1,1,1,1,1,"",97,51,"",null,null,0,0,0,11,0,0,0,0,0,"Поправка: 421/пр_2020_прил.10_т.1_п.4_гр.5 Наименование: Производство работ осуществляется в охранной зоне действующей воздушной линии электропередачи, вблизи объектов, находящихся под напряжением, внутри объектов капитального строительства, внутренняя проводка в которых не обесточена, если это приведет к ограничению действий рабочих в соответствии с требованиями техники безопасности",0,3271.2000000000003,{"$f":"SUMIF(SmtRes!AQ362:'SmtRes'!AQ370,\"=1\",SmtRes!AA362:'SmtRes'!AA370)","v":52144.76},{"$f":"SUMIF(SmtRes!AQ362:'SmtRes'!AQ370,\"=1\",SmtRes!AB362:'SmtRes'!AB370)","v":2302.6},{"$f":"SUMIF(SmtRes!AQ362:'SmtRes'!AQ370,\"=1\",SmtRes!AC362:'SmtRes'!AC370)","v":1902.25},{"$f":"SUMIF(SmtRes!AQ362:'SmtRes'!AQ370,\"=1\",SmtRes!AD362:'SmtRes'!AD370)","v":811.79},{"$f":"AG192","v":0},{"$f":"SUMIF(SmtRes!AQ362:'SmtRes'!AQ370,\"=1\",SmtRes!BU362:'SmtRes'!BU370)","v":49.440000000000005},{"$f":"SUMIF(SmtRes!AQ362:'SmtRes'!AQ370,\"=1\",SmtRes!BV362:'SmtRes'!BV370)","v":0.24},{"$f":"AJ192","v":0},3132.1785000000004,1646.8155000000002,null,22,"","","*(0,2+1)","*(0,2+1)","*(0,2+1)","","*(0,2+1)","*(0,2+1)","","","",0,0,1,1,null,null,null,1013,"100 ШТ","100 ШТ",1,null,"","","","",null,83666702,3,"Монтажные работы",0,"",2,108001,"Электротехнические установки: на других объектах","мФЕР-08",null,"Поправка: 421/пр_2020_прил.10_т.1_п.4_гр.5",null,131072,0,0,0,0,0,41.2,0.2,0,null,null,null,null,null,null,null,null,null,null,null,null,null,null,null,null,null,0,0,0,null,null,null,null,97,51,null,"",null,null,1,null,1145402398,2,1,-2,0,0,0,8050.2,0,8050.2,0,null,0,3,0,"",0,1,0,null,null,0,0,0,null,"","",null,null,null,null,null,null,"","Пр/812-049.3-1","Пр/774-049.3","Электротехнические установки: на других объектах","Электротехнические установки: на других объектах",null,0,null,null,null,null,null,null,null,null,null,null,null,null,null,null,null,null,null,0]
[19,1,null,null,null,"","По ВОР \"Установка плашечных зажимов ПС-1-1\" и складываем если есть \"Установка зажимов ответвительных\"","",null,null,null,null,null,null,null,null,null,null,null,null,null,null,null,null,null,null,1,null,null,null,null,null,null,null,null,null,null,null,null,null,null,null,null,null,null,null,null,null,null,null,null,null,null,null,null,null,null,null,null,null,null,null,null,null,null,null,null,null,null,null,null,null,null,null,null,null,null,null,null,null,null,null,null,null,null,null,null,null,null,null,null,null,null,null,null,null,null,null,null,null,null,null,null,null,null,null,null,null,null,null,null,null,null,null,null,null,null,null,null,null,null,null,null,null,null,null,null,null,null,null,null,null,null,null,null,null,null,null,null,null,null,null,null,null,null,null,null,null,null,null,null,null,null,null,null,null,null,null,null,null,null,null,null,null,null,null,null,null,null,null,null,null,null,null,null,null,null,null,null,null,null,null,null,null,null,null,null,null,null,null,null,null,null,null,null,null,null,null,null,null,null,null,null,null,null,null,null,null,null,null,null,null,null,null,null,null,null,null,null,null,null,null,null,null,null,null,null,null,null,null,null,null,null,null,null,null,null,null,null,null,null,null,null,null,0]
[18,1,361,null,"11,1","421/пр_2020_п.75_пп.а","Сметная стоимость вспомогательных ненормируемых материальных ресурсов, не учтенная в сметной норме, 2%","%",{"$f":"J194","v":2},2,2,0.62,0.46,{"$f":"ROUND(L194-M194,4)","v":0.16},{"$f":"ROUND(P194,2)","v":53.51},{"$f":"ROUND(ROUND(ROUND(SUMIF(SmtRes!AQ362:'SmtRes'!AQ370,\"=1\",SmtRes!CU362:'SmtRes'!CU370),2),2)*I194/100,2)","v":53.51},{"$f":"ROUND(CR194*I194,2)","v":0},{"$f":"ROUND(CS194*I194,2)","v":0},{"$f":"ROUND(CT194*I194,2)","v":0},{"$f":"ROUND(CU194*I194,2)","v":0},{"$f":"ROUND(CV194*I194,7)","v":0},{"$f":"ROUND(CW194*I194,7)","v":0},{"$f":"ROUND(CX194*I194,2)","v":0},{"$f":"ROUND(CY194,2)","v":0},0,null,85312357,{"$f":"ROUND((AC194+AD194+AF194),2)","v":0},{"$f":"ROUND((ES194),2)","v":0},{"$f":"ROUND((((ET194)-(EU194))+AE194),2)","v":0},{"$f":"ROUND((EU194),2)","v":0},0,{"$f":"ROUND((AP194),2)","v":0},{"$f":"(EW194)","v":0},0,{"$f":"(AS194)","v":0},0,0,0,0,0,0,0,0,0,97,51,1,1,null,null,1,1,1,1,"","","","",3,2,"",null,null,108001,0,"",0,3,0,1,1,1,1,1,1,"",97,51,"",null,null,0,0,0,11,1,0,0,0,0,"",0,{"$f":"0","v":0},{"$f":"0","v":0},{"$f":"0","v":0},{"$f":"0","v":0},{"$f":"0","v":0},{"$f":"0","v":0},{"$f":"0","v":0},{"$f":"0","v":0},{"$f":"0","v":0},{"$f":"0","v":0},{"$f":"0","v":0},null,null,"","","","","","","","","","","",0,0,1,1,null,null,null,1013,"%","%",1,null,"","","","",null,83666702,3,"Монтажные работы",0,"",2,108001,"Электротехнические установки: на других объектах","мФЕР-08",null,"",null,0,0,0,0,0,0,0,0,null,null,null,null,null,null,null,null,null,null,null,null,null,null,null,null,null,null,0,0,0,null,null,null,null,97,51,null,"",null,null,1,null,274903907,2,1,-2,0,0,{"$f":"ROUND(IF(AND(BH194=3,BI194=3,FS194<>0),P194,0),2)","v":0},{"$f":"ROUND(O194+X194+Y194,2)+GX194","v":53.51},{"$f":"IF(OR(BI194=0,BI194=1),GM194-GX194,0)","v":0},{"$f":"IF(BI194=2,GM194-GX194,0)","v":53.51},{"$f":"IF(BI194=4,GM194-GX194,0)","v":0},null,0,3,0,"",{"$f":"ROUND((GT194),2)","v":0},1,{"$f":"ROUND(HC194*I194,2)","v":0},null,null,0,0,{"$f":"0","v":0},null,"","",null,null,null,null,null,null,"","Пр/812-049.3-1","Пр/774-049.3","Электротехнические установки: на других объектах","Электротехнические установки: на других объектах",null,0,null,null,null,null,null,null,null,null,null,null,null,null,null,null,null,null,null,0]
[18,1,370,null,"11,1","421/пр_2020_п.75_пп.а","Сметная стоимость вспомогательных ненормируемых материальных ресурсов, не учтенная в сметной норме, 2%","%",{"$f":"J195","v":2},2,2,0.62,0.46,0.16,{"$f":"ROUND(P195,2)","v":53.51},{"$f":"ROUND(ROUND(ROUND(SUMIF(SmtRes!AQ362:'SmtRes'!AQ370,\"=1\",SmtRes!CU362:'SmtRes'!CU370),2),2)*I195/100,2)","v":53.51},{"$f":"ROUND(CR195*I195,2)","v":0},{"$f":"ROUND(CS195*I195,2)","v":0},{"$f":"ROUND(CT195*I195,2)","v":0},0,{"$f":"ROUND(CV195*I195,7)","v":0},{"$f":"ROUND(CW195*I195,7)","v":0},0,0,0,null,85312298,0,{"$f":"ROUND((ES195),2)","v":0},{"$f":"ROUND((((ET195)-(EU195))+AE195),2)","v":0},0,0,0,0,0,0,0,0,0,0,0,0,0,0,0,97,51,1,1,null,null,1,1,1,1,"","","","",3,2,"",null,null,108001,0,"",0,3,0,1,1,1,1,1,1,"",97,51,"",null,null,0,0,0,11,1,0,0,0,0,"",0,{"$f":"0","v":0},{"$f":"0","v":0},{"$f":"0","v":0},{"$f":"0","v":0},{"$f":"0","v":0},{"$f":"0","v":0},{"$f":"0","v":0},{"$f":"0","v":0},{"$f":"0","v":0},{"$f":"0","v":0},{"$f":"0","v":0},null,null,"","","","","","","","","","","",0,0,1,1,null,null,null,1013,"%","%",1,null,"","","","",null,83666702,3,"Монтажные работы",0,"",2,108001,"Электротехнические установки: на других объектах","мФЕР-08",null,"",null,0,0,0,0,0,0,0,0,null,null,null,null,null,null,null,null,null,null,null,null,null,null,null,null,null,null,0,0,0,null,null,null,null,97,51,null,"",null,null,1,null,274903907,2,1,-2,0,0,0,53.51,0,53.51,0,null,0,3,0,"",0,1,0,null,null,0,0,{"$f":"0","v":0},null,"","",null,null,null,null,null,null,"","Пр/812-049.3-1","Пр/774-049.3","Электротехнические установки: на других объектах","Электротехнические установки: на других объектах",null,0,null,null,null,null,null,null,null,null,null,null,null,null,null,null,null,null,null,0]
[18,1,360,null,"11,2","20.5.04.03-0002","Зажимы наборные проходные ЗН24-4П25","100 ШТ",{"$f":"I191*J196","v":-8.1600000000000006E-2},-1.02,-1.02,-0.31619999999999998,-0.2346,-8.1600000000000006E-2,{"$f":"ROUND(CP196,2)","v":-83.4},{"$f":"ROUND(CQ196*I196,2)","v":-83.4},{"$f":"ROUND(CR196*I196,2)","v":0},{"$f":"ROUND(CS196*I196,2)","v":0},{"$f":"ROUND(CT196*I196,2)","v":0},0,{"$f":"ROUND(CV196*I196,7)","v":0},{"$f":"ROUND(CW196*I196,7)","v":0},0,0,0,null,85312357,896.51,{"$f":"ROUND((ES196),2)","v":896.51},{"$f":"ROUND((((ET196)-(EU196))+AE196),2)","v":0},0,0,0,0,0,0,896.51,896.51,0,0,0,0,0,0,0,97,51,1,1,null,null,1,1,1,1.1399999999999999,"","","","",3,2,"ФСБЦ-2022, 20.5.04.03-0002, приказ Минстроя России от 18.05.2022 г. № 378/пр",null,null,108001,0,"20.5.04.03-0002",1,3,0,1,1,1,1,1,1,"",97,51,"",null,null,0,0,0,11,2,0,0,0,0,"",0,{"$f":"(P196+Q196+S196+R196)","v":-83.4},{"$f":"ROUND(AL196*BC196,2)","v":1022.02},{"$f":"ROUND(AM196*BB196,2)","v":0},{"$f":"ROUND(AN196*BS196,2)","v":0},{"$f":"ROUND(AO196*BA196,2)","v":0},{"$f":"AG196","v":0},0,0,0,{"$f":"(((S196+R196)*AT196)/100)","v":0},{"$f":"(((S196+R196)*AU196)/100)","v":0},null,null,"","","","","","","","","","","",0,0,1,1,null,null,null,1013,"100 ШТ","100 ШТ",1,null,"","","","",null,83666702,3,"Монтажные работы",0,"",2,108001,"Электротехнические установки: на других объектах","мФЕР-08",null,"",null,0,896.51,896.51,0,0,0,0,0,null,null,null,null,null,null,null,null,null,null,null,null,null,null,null,null,null,null,0,0,0,null,null,null,null,97,51,null,"",null,null,1,null,-568563229,2,1,2,0,0,0,-83.4,0,-83.4,0,null,0,3,0,"",0,1,0,null,null,0,0,{"$f":"GV196*GW196","v":0},null,"","",null,null,null,null,null,null,"","Пр/812-049.3-1","Пр/774-049.3","Электротехнические установки: на других объектах","Электротехнические установки: на других объектах",null,0,null,null,null,null,null,null,null,null,null,null,null,null,null,null,null,null,null,0]
[18,1,369,null,"11,2","20.5.04.03-0002","Зажимы наборные проходные ЗН24-4П25","100 ШТ",{"$f":"I192*J197","v":-8.1600000000000006E-2},-1.02,-1.02,-0.31619999999999998,-0.2346,-8.1600000000000006E-2,{"$f":"ROUND(CP197,2)","v":-83.4},{"$f":"ROUND(CQ197*I197,2)","v":-83.4},{"$f":"ROUND(CR197*I197,2)","v":0},{"$f":"ROUND(CS197*I197,2)","v":0},{"$f":"ROUND(CT197*I197,2)","v":0},0,{"$f":"ROUND(CV197*I197,7)","v":0},{"$f":"ROUND(CW197*I197,7)","v":0},0,0,0,null,85312298,896.51,{"$f":"ROUND((ES197),2)","v":896.51},{"$f":"ROUND((((ET197)-(EU197))+AE197),2)","v":0},0,0,0,0,0,0,896.51,896.51,0,0,0,0,0,0,0,97,51,1,1,null,null,1,1,1,1.1399999999999999,"","","","",3,2,"ФСБЦ-2022, 20.5.04.03-0002, приказ Минстроя России от 18.05.2022 г. № 378/пр",null,null,108001,0,"20.5.04.03-0002",1,3,0,1,1,1,1,1,1,"",97,51,"",null,null,0,0,0,11,2,0,0,0,0,"",0,{"$f":"(P197+Q197+S197+R197)","v":-83.4},{"$f":"ROUND(AL197*BC197,2)","v":1022.02},{"$f":"ROUND(AM197*BB197,2)","v":0},{"$f":"ROUND(AN197*BS197,2)","v":0},{"$f":"ROUND(AO197*BA197,2)","v":0},0,0,0,0,{"$f":"(((S197+R197)*AT197)/100)","v":0},{"$f":"(((S197+R197)*AU197)/100)","v":0},null,null,"","","","","","","","","","","",0,0,1,1,null,null,null,1013,"100 ШТ","100 ШТ",1,null,"","","","",null,83666702,3,"Монтажные работы",0,"",2,108001,"Электротехнические установки: на других объектах","мФЕР-08",null,"",null,0,896.51,896.51,0,0,0,0,0,null,null,null,null,null,null,null,null,null,null,null,null,null,null,null,null,null,null,0,0,0,null,null,null,null,97,51,null,"",null,null,1,null,-568563229,2,1,2,0,0,0,-83.4,0,-83.4,0,null,0,3,0,"",0,1,0,null,null,0,0,{"$f":"GV197*GW197","v":0},null,"","",null,null,null,null,null,null,"","Пр/812-049.3-1","Пр/774-049.3","Электротехнические установки: на других объектах","Электротехнические установки: на других объектах",null,0,null,null,null,null,null,null,null,null,null,null,null,null,null,null,null,null,null,0]
[17,1,{"$f":"ROW(SmtRes!A384)","v":384},{"$f":"ROW(EtalonRes!A384)","v":384},"","33-04-030-01","Установка разрядников: с помощью механизмов","КОМПЛ",0,0,0,1,1,0,{"$f":"ROUND(CP198,2)","v":0},{"$f":"SUMIF(SmtRes!AQ371:'SmtRes'!AQ384,\"=1\",SmtRes!DF371:'SmtRes'!DF384)","v":0},{"$f":"SUMIF(SmtRes!AQ371:'SmtRes'!AQ384,\"=1\",SmtRes!DG371:'SmtRes'!DG384)","v":0},{"$f":"SUMIF(SmtRes!AQ371:'SmtRes'!AQ384,\"=1\",SmtRes!DH371:'SmtRes'!DH384)","v":0},{"$f":"SUMIF(SmtRes!AQ371:'SmtRes'!AQ384,\"=1\",SmtRes!DI371:'SmtRes'!DI384)","v":0},0,{"$f":"SUMIF(SmtRes!AQ371:'SmtRes'!AQ384,\"=1\",SmtRes!CV371:'SmtRes'!CV384)","v":0},{"$f":"SUMIF(SmtRes!AQ371:'SmtRes'!AQ384,\"=1\",SmtRes!CW371:'SmtRes'!CW384)","v":0},0,0,0,null,-1,3285.59,{"$f":"ROUND((SUM(SmtRes!BQ371:'SmtRes'!BQ384)),2)","v":36.53},{"$f":"ROUND((((SUM(SmtRes!BR371:'SmtRes'!BR384))-(SUM(SmtRes!BS371:'SmtRes'!BS384)))+AE198),2)","v":435.9},{"$f":"ROUND((SUM(SmtRes!BS371:'SmtRes'!BS384)),2)","v":868.62},{"$f":"ROUND((SUM(SmtRes!BT371:'SmtRes'!BT384)),2)","v":2813.16},0,{"$f":"(SUM(SmtRes!BU371:'SmtRes'!BU384))","v":3.76},{"$f":"(SUM(SmtRes!BV371:'SmtRes'!BV384))","v":1.07},0,4154.1937980000002,36.527197999999999,435.89449999999999,868.61529999999993,2813.1567999999997,0,3.76,1.07,0,103,60,1,1,null,null,1,1,1,1,"","","","",0,1,"ГЭСН-2022, 33-04-030-01, приказ Минстроя России от 18.05.2022 г. № 378/пр",null,null,33001,0,"",0,2,0,1,1,1,1,1,1,"",103,60,"",null,null,0,0,0,0,0,0,0,0,0,"",0,{"$f":"(P198+Q198+S198+R198)","v":0},{"$f":"SUMIF(SmtRes!AQ371:'SmtRes'!AQ384,\"=1\",SmtRes!AA371:'SmtRes'!AA384)","v":103875.04000000001},{"$f":"SUMIF(SmtRes!AQ371:'SmtRes'!AQ384,\"=1\",SmtRes!AB371:'SmtRes'!AB384)","v":1147.93},{"$f":"SUMIF(SmtRes!AQ371:'SmtRes'!AQ384,\"=1\",SmtRes!AC371:'SmtRes'!AC384)","v":1623.58},{"$f":"SUMIF(SmtRes!AQ371:'SmtRes'!AQ384,\"=1\",SmtRes!AD371:'SmtRes'!AD384)","v":748.18},{"$f":"AG198","v":0},{"$f":"SUMIF(SmtRes!AQ371:'SmtRes'!AQ384,\"=1\",SmtRes!BU371:'SmtRes'!BU384)","v":3.76},{"$f":"SUMIF(SmtRes!AQ371:'SmtRes'!AQ384,\"=1\",SmtRes!BV371:'SmtRes'!BV384)","v":1.07},{"$f":"AJ198","v":0},{"$f":"(((S198+R198)*AT198)/100)","v":0},{"$f":"(((S198+R198)*AU198)/100)","v":0},null,null,"","","","","","","","","","","",0,0,1,1,null,null,null,1013,"КОМПЛ","КОМПЛ",1,null,"","","","",null,83666879,2,"Общестроительные работы",27,"Линии электропередачи",1,33001,"Линии электропередачи","ФЕР-33",null,"",null,132096,0,0,0,0,0,3.76,1.07,0,null,null,null,null,null,null,null,null,null,null,null,null,null,null,null,null,null,0,0,0,null,null,null,null,103,60,null,"",null,null,1,null,-935967265,2,1,-2,0,0,0,0,0,0,0,null,0,0,0,"",0,1,0,null,null,0,0,{"$f":"GV198*GW198","v":0},null,"","",null,null,null,null,null,null,"","Пр/812-027.0-1","Пр/774-027.0","Линии электропередачи","Линии электропередачи",null,0,null,null,null,null,null,null,null,null,null,null,null,null,null,null,null,null,null,0]
[17,1,{"$f":"ROW(SmtRes!A398)","v":398},{"$f":"ROW(EtalonRes!A398)","v":398},"","33-04-030-01","Установка разрядников: с помощью механизмов","КОМПЛ",0,0,0,1,1,0,{"$f":"ROUND(CP199,2)","v":0},{"$f":"SUMIF(SmtRes!AQ385:'SmtRes'!AQ398,\"=1\",SmtRes!DF385:'SmtRes'!DF398)","v":0},{"$f":"SUMIF(SmtRes!AQ385:'SmtRes'!AQ398,\"=1\",SmtRes!DG385:'SmtRes'!DG398)","v":0},{"$f":"SUMIF(SmtRes!AQ385:'SmtRes'!AQ398,\"=1\",SmtRes!DH385:'SmtRes'!DH398)","v":0},{"$f":"SUMIF(SmtRes!AQ385:'SmtRes'!AQ398,\"=1\",SmtRes!DI385:'SmtRes'!DI398)","v":0},0,{"$f":"SUMIF(SmtRes!AQ385:'SmtRes'!AQ398,\"=1\",SmtRes!CV385:'SmtRes'!CV398)","v":0},{"$f":"SUMIF(SmtRes!AQ385:'SmtRes'!AQ398,\"=1\",SmtRes!CW385:'SmtRes'!CW398)","v":0},0,0,0,null,-1,3285.59,{"$f":"ROUND((SUM(SmtRes!BQ385:'SmtRes'!BQ398)),2)","v":36.53},{"$f":"ROUND((((SUM(SmtRes!BR385:'SmtRes'!BR398))-(SUM(SmtRes!BS385:'SmtRes'!BS398)))+AE199),2)","v":435.9},{"$f":"ROUND((SUM(SmtRes!BS385:'SmtRes'!BS398)),2)","v":868.62},{"$f":"ROUND((SUM(SmtRes!BT385:'SmtRes'!BT398)),2)","v":2813.16},0,{"$f":"(SUM(SmtRes!BU385:'SmtRes'!BU398))","v":3.76},{"$f":"(SUM(SmtRes!BV385:'SmtRes'!BV398))","v":1.07},0,4154.1937980000002,36.527197999999999,435.89449999999999,868.61529999999993,2813.1567999999997,0,3.76,1.07,0,103,60,1,1,null,null,1,1,1,1,"","","","",0,1,"ГЭСН-2022, 33-04-030-01, приказ Минстроя России от 18.05.2022 г. № 378/пр",null,null,33001,0,"",0,2,0,1,1,1,1,1,1,"",103,60,"",null,null,0,0,0,0,0,0,0,0,0,"",0,{"$f":"(P199+Q199+S199+R199)","v":0},{"$f":"SUMIF(SmtRes!AQ385:'SmtRes'!AQ398,\"=1\",SmtRes!AA385:'SmtRes'!AA398)","v":103875.04000000001},{"$f":"SUMIF(SmtRes!AQ385:'SmtRes'!AQ398,\"=1\",SmtRes!AB385:'SmtRes'!AB398)","v":1147.93},{"$f":"SUMIF(SmtRes!AQ385:'SmtRes'!AQ398,\"=1\",SmtRes!AC385:'SmtRes'!AC398)","v":1623.58},{"$f":"SUMIF(SmtRes!AQ385:'SmtRes'!AQ398,\"=1\",SmtRes!AD385:'SmtRes'!AD398)","v":748.18},{"$f":"AG199","v":0},{"$f":"SUMIF(SmtRes!AQ385:'SmtRes'!AQ398,\"=1\",SmtRes!BU385:'SmtRes'!BU398)","v":3.76},{"$f":"SUMIF(SmtRes!AQ385:'SmtRes'!AQ398,\"=1\",SmtRes!BV385:'SmtRes'!BV398)","v":1.07},{"$f":"AJ199","v":0},{"$f":"(((S199+R199)*AT199)/100)","v":0},{"$f":"(((S199+R199)*AU199)/100)","v":0},null,null,"","","","","","","","","","","",0,0,1,1,null,null,null,1013,"КОМПЛ","КОМПЛ",1,null,"","","","",null,83666879,2,"Общестроительные работы",27,"Линии электропередачи",1,33001,"Линии электропередачи","ФЕР-33",null,"",null,132096,0,0,0,0,0,3.76,1.07,0,null,null,null,null,null,null,null,null,null,null,null,null,null,null,null,null,null,0,0,0,null,null,null,null,103,60,null,"",null,null,1,null,-935967265,2,1,-2,0,0,0,0,0,0,0,null,0,0,0,"",0,1,0,null,null,0,0,{"$f":"GV199*GW199","v":0},null,"","",null,null,null,null,null,null,"","Пр/812-027.0-1","Пр/774-027.0","Линии электропередачи","Линии электропередачи",null,0,null,null,null,null,null,null,null,null,null,null,null,null,null,null,null,null,null,0]
[19,1,null,null,null,"","По ВОР \"Установка РМК-20\". Объем делим на 3, т.к. 3 провода (3 фазы)","",null,null,null,null,null,null,null,null,null,null,null,null,null,null,null,null,null,null,1,null,null,null,null,null,null,null,null,null,null,null,null,null,null,null,null,null,null,null,null,null,null,null,null,null,null,null,null,null,null,null,null,null,null,null,null,null,null,null,null,null,null,null,null,null,null,null,null,null,null,null,null,null,null,null,null,null,null,null,null,null,null,null,null,null,null,null,null,null,null,null,null,null,null,null,null,null,null,null,null,null,null,null,null,null,null,null,null,null,null,null,null,null,null,null,null,null,null,null,null,null,null,null,null,null,null,null,null,null,null,null,null,null,null,null,null,null,null,null,null,null,null,null,null,null,null,null,null,null,null,null,null,null,null,null,null,null,null,null,null,null,null,null,null,null,null,null,null,null,null,null,null,null,null,null,null,null,null,null,null,null,null,null,null,null,null,null,null,null,null,null,null,null,null,null,null,null,null,null,null,null,null,null,null,null,null,null,null,null,null,null,null,null,null,null,null,null,null,null,null,null,null,null,null,null,null,null,null,null,null,null,null,null,null,null,null,null,0]
[18,1,377,null,"","01.7.15.03-0042","Болты с гайками и шайбами строительные","кг",{"$f":"I198*J201","v":0},0,0,0,0,{"$f":"ROUND(L201-M201,4)","v":0},{"$f":"ROUND(CP201,2)","v":0},{"$f":"ROUND(CQ201*I201,2)","v":0},{"$f":"ROUND(CR201*I201,2)","v":0},{"$f":"ROUND(CS201*I201,2)","v":0},{"$f":"ROUND(CT201*I201,2)","v":0},{"$f":"ROUND(CU201*I201,2)","v":0},{"$f":"ROUND(CV201*I201,7)","v":0},{"$f":"ROUND(CW201*I201,7)","v":0},{"$f":"ROUND(CX201*I201,2)","v":0},{"$f":"ROUND(CY201,2)","v":0},{"$f":"ROUND(CZ201,2)","v":0},null,-1,{"$f":"ROUND((AC201+AD201+AF201),2)","v":174.93},{"$f":"ROUND((ES201),2)","v":174.93},{"$f":"ROUND((((ET201)-(EU201))+AE201),2)","v":0},{"$f":"ROUND((EU201),2)","v":0},{"$f":"ROUND((EV201),2)","v":0},{"$f":"ROUND((AP201),2)","v":0},{"$f":"(EW201)","v":0},{"$f":"(EX201)","v":0},{"$f":"(AS201)","v":0},174.93,174.93,0,0,0,0,0,0,0,103,60,1,1,null,null,1,1,1,1.08,"","","","",3,1,"ФСБЦ-2022, 01.7.15.03-0042, приказ Минстроя России от 18.05.2022 г. № 378/пр",null,null,33001,0,"01.7.15.03-0042",1,2,0,1,1,1,1,1,1,"",103,60,"",null,null,0,0,0,0,0,0,0,0,0,"",0,{"$f":"(P201+Q201+S201+R201)","v":0},{"$f":"ROUND(AL201*BC201,2)","v":188.92},{"$f":"ROUND(AM201*BB201,2)","v":0},{"$f":"ROUND(AN201*BS201,2)","v":0},{"$f":"ROUND(AO201*BA201,2)","v":0},{"$f":"AG201","v":0},{"$f":"AH201","v":0},{"$f":"AI201","v":0},{"$f":"AJ201","v":0},{"$f":"(((S201+R201)*AT201)/100)","v":0},{"$f":"(((S201+R201)*AU201)/100)","v":0},null,null,"","","","","","","","","","","",0,0,1,1,null,null,null,1009,"кг","кг",1,null,"","","","",null,83666879,2,"Общестроительные работы",27,"Линии электропередачи",1,33001,"Линии электропередачи","ФЕР-33",null,"",null,1024,174.93,174.93,0,0,0,0,0,null,null,null,null,null,null,null,null,null,null,null,null,null,null,null,null,null,null,0,0,0,null,null,null,null,103,60,null,"",null,null,1,null,1181962216,2,1,2,0,0,{"$f":"ROUND(IF(AND(BH201=3,BI201=3,FS201<>0),P201,0),2)","v":0},{"$f":"ROUND(O201+X201+Y201,2)+GX201","v":0},{"$f":"IF(OR(BI201=0,BI201=1),GM201-GX201,0)","v":0},{"$f":"IF(BI201=2,GM201-GX201,0)","v":0},{"$f":"IF(BI201=4,GM201-GX201,0)","v":0},null,0,0,0,"",{"$f":"ROUND((GT201),2)","v":0},1,{"$f":"ROUND(HC201*I201,2)","v":0},null,null,0,0,{"$f":"GV201*GW201","v":0},null,"","",null,null,null,null,null,null,"","Пр/812-027.0-1","Пр/774-027.0","Линии электропередачи","Линии электропередачи",null,0,null,null,null,null,null,null,null,null,null,null,null,null,null,null,null,null,null,0]
[18,1,391,null,"","01.7.15.03-0042","Болты с гайками и шайбами строительные","кг",{"$f":"I199*J202","v":0},0,0,0,0,0,0,0,0,0,0,0,0,0,0,0,0,null,-1,174.93,174.93,0,0,0,0,0,0,0,174.93,174.93,0,0,0,0,0,0,0,103,60,1,1,null,null,1,1,1,1.08,"","","","",3,1,"ФСБЦ-2022, 01.7.15.03-0042, приказ Минстроя России от 18.05.2022 г. № 378/пр",null,null,33001,0,"01.7.15.03-0042",1,2,0,1,1,1,1,1,1,"",103,60,"",null,null,0,0,0,0,0,0,0,0,0,"",0,0,188.92,0,0,0,0,0,0,0,0,0,null,null,"","","","","","","","","","","",0,0,1,1,null,null,null,1009,"кг","кг",1,null,"","","","",null,83666879,2,"Общестроительные работы",27,"Линии электропередачи",1,33001,"Линии электропередачи","ФЕР-33",null,"",null,1024,174.93,174.93,0,0,0,0,0,null,null,null,null,null,null,null,null,null,null,null,null,null,null,null,null,null,null,0,0,0,null,null,null,null,103,60,null,"",null,null,1,null,1181962216,2,1,2,0,0,0,0,0,0,0,null,0,0,0,"",0,1,0,null,null,0,0,0,null,"","",null,null,null,null,null,null,"","Пр/812-027.0-1","Пр/774-027.0","Линии электропередачи","Линии электропередачи",null,0,null,null,null,null,null,null,null,null,null,null,null,null,null,null,null,null,null,0]
[18,1,379,null,"","07.2.07.13","Хомуты стальные","кг",{"$f":"I198*J203","v":0},0,0,0,0,0,0,0,0,0,0,0,0,0,0,0,0,null,-1,0,0,0,0,0,0,0,0,0,0,0,0,0,0,0,0,0,0,103,60,1,1,null,null,1,1,1,1,"","","","",3,1,"",null,null,33001,0,"",0,2,0,1,1,1,1,1,1,"",103,60,"",null,null,0,0,0,0,0,0,0,0,0,"",0,0,0,0,0,0,0,0,0,0,0,0,null,null,"","","","","","","","","","","",0,0,1,1,null,null,null,1009,"кг","кг",1,null,"","","","",null,83666879,2,"Общестроительные работы",27,"Линии электропередачи",1,33001,"Линии электропередачи","ФЕР-33",null,"",null,1024,0,0,0,0,0,0,0,null,null,null,null,null,null,null,null,null,null,null,null,null,null,null,null,null,null,0,0,0,null,null,null,null,103,60,null,"",null,null,1,null,-1111733769,2,1,-2,0,0,0,0,0,0,0,null,0,0,0,"",0,1,0,null,null,0,0,0,null,"","",null,null,null,null,null,null,"","Пр/812-027.0-1","Пр/774-027.0","Линии электропередачи","Линии электропередачи",null,0,null,null,null,null,null,null,null,null,null,null,null,null,null,null,null,null,null,0]
[18,1,393,null,"","07.2.07.13","Хомуты стальные","кг",{"$f":"I199*J204","v":0},0,0,0,0,0,0,0,0,0,0,0,0,0,0,0,0,null,-1,0,0,0,0,0,0,0,0,0,0,0,0,0,0,0,0,0,0,103,60,1,1,null,null,1,1,1,1,"","","","",3,1,"",null,null,33001,0,"",0,2,0,1,1,1,1,1,1,"",103,60,"",null,null,0,0,0,0,0,0,0,0,0,"",0,0,0,0,0,0,0,0,0,0,0,0,null,null,"","","","","","","","","","","",0,0,1,1,null,null,null,1009,"кг","кг",1,null,"","","","",null,83666879,2,"Общестроительные работы",27,"Линии электропередачи",1,33001,"Линии электропередачи","ФЕР-33",null,"",null,1024,0,0,0,0,0,0,0,null,null,null,null,null,null,null,null,null,null,null,null,null,null,null,null,null,null,0,0,0,null,null,null,null,103,60,null,"",null,null,1,null,-1111733769,2,1,-2,0,0,0,0,0,0,0,null,0,0,0,"",0,1,0,null,null,0,0,0,null,"","",null,null,null,null,null,null,"","Пр/812-027.0-1","Пр/774-027.0","Линии электропередачи","Линии электропередачи",null,0,null,null,null,null,null,null,null,null,null,null,null,null,null,null,null,null,null,0]
[18,1,380,null,"","08.3.04.02","Сталь стержневая диаметром до 10 мм","т",{"$f":"I198*J205","v":0},0,0,0,0,0,0,0,0,0,0,0,0,0,0,0,0,null,-1,0,0,0,0,0,0,0,0,0,0,0,0,0,0,0,0,0,0,103,60,1,1,null,null,1,1,1,1,"","","","",3,1,"",null,null,33001,0,"",0,2,0,1,1,1,1,1,1,"",103,60,"",null,null,0,0,0,0,0,0,0,0,0,"",0,0,0,0,0,0,0,0,0,0,0,0,null,null,"","","","","","","","","","","",0,0,1,1,null,null,null,1009,"т","т",1000,null,"","","","",null,83666879,2,"Общестроительные работы",27,"Линии электропередачи",1,33001,"Линии электропередачи","ФЕР-33",null,"",null,1024,0,0,0,0,0,0,0,null,null,null,null,null,null,null,null,null,null,null,null,null,null,null,null,null,null,0,0,0,null,null,null,null,103,60,null,"",null,null,1,null,1613753229,2,1,-2,0,0,0,0,0,0,0,null,0,0,0,"",0,1,0,null,null,0,0,0,null,"","",null,null,null,null,null,null,"","Пр/812-027.0-1","Пр/774-027.0","Линии электропередачи","Линии электропередачи",null,0,null,null,null,null,null,null,null,null,null,null,null,null,null,null,null,null,null,0]
[18,1,394,null,"","08.3.04.02","Сталь стержневая диаметром до 10 мм","т",{"$f":"I199*J206","v":0},0,0,0,0,0,0,0,0,0,0,0,0,0,0,0,0,null,-1,0,0,0,0,0,0,0,0,0,0,0,0,0,0,0,0,0,0,103,60,1,1,null,null,1,1,1,1,"","","","",3,1,"",null,null,33001,0,"",0,2,0,1,1,1,1,1,1,"",103,60,"",null,null,0,0,0,0,0,0,0,0,0,"",0,0,0,0,0,0,0,0,0,0,0,0,null,null,"","","","","","","","","","","",0,0,1,1,null,null,null,1009,"т","т",1000,null,"","","","",null,83666879,2,"Общестроительные работы",27,"Линии электропередачи",1,33001,"Линии электропередачи","ФЕР-33",null,"",null,1024,0,0,0,0,0,0,0,null,null,null,null,null,null,null,null,null,null,null,null,null,null,null,null,null,null,0,0,0,null,null,null,null,103,60,null,"",null,null,1,null,1613753229,2,1,-2,0,0,0,0,0,0,0,null,0,0,0,"",0,1,0,null,null,0,0,0,null,"","",null,null,null,null,null,null,"","Пр/812-027.0-1","Пр/774-027.0","Линии электропередачи","Линии электропередачи",null,0,null,null,null,null,null,null,null,null,null,null,null,null,null,null,null,null,null,0]
[18,1,383,null,"","22.2.01.04","Изоляторы линейные штыревые фарфоровые","ШТ",{"$f":"I198*J207","v":0},0,0,0,0,0,0,0,0,0,0,0,0,0,0,0,0,null,-1,0,0,0,0,0,0,0,0,0,0,0,0,0,0,0,0,0,0,103,60,1,1,null,null,1,1,1,1,"","","","",3,1,"",null,null,33001,0,"",0,2,0,1,1,1,1,1,1,"",103,60,"",null,null,0,0,0,0,0,0,0,0,0,"",0,0,0,0,0,0,0,0,0,0,0,0,null,null,"","","","","","","","","","","",0,0,1,1,null,null,null,1013,"ШТ","ШТ",1,null,"","","","",null,83666879,2,"Общестроительные работы",27,"Линии электропередачи",1,33001,"Линии электропередачи","ФЕР-33",null,"",null,1024,0,0,0,0,0,0,0,null,null,null,null,null,null,null,null,null,null,null,null,null,null,null,null,null,null,0,0,0,null,null,null,null,103,60,null,"",null,null,1,null,1740798612,2,1,-2,0,0,0,0,0,0,0,null,0,0,0,"",0,1,0,null,null,0,0,0,null,"","",null,null,null,null,null,null,"","Пр/812-027.0-1","Пр/774-027.0","Линии электропередачи","Линии электропередачи",null,0,null,null,null,null,null,null,null,null,null,null,null,null,null,null,null,null,null,0]
[18,1,397,null,"","22.2.01.04","Изоляторы линейные штыревые фарфоровые","ШТ",{"$f":"I199*J208","v":0},0,0,0,0,0,0,0,0,0,0,0,0,0,0,0,0,null,-1,0,0,0,0,0,0,0,0,0,0,0,0,0,0,0,0,0,0,103,60,1,1,null,null,1,1,1,1,"","","","",3,1,"",null,null,33001,0,"",0,2,0,1,1,1,1,1,1,"",103,60,"",null,null,0,0,0,0,0,0,0,0,0,"",0,0,0,0,0,0,0,0,0,0,0,0,null,null,"","","","","","","","","","","",0,0,1,1,null,null,null,1013,"ШТ","ШТ",1,null,"","","","",null,83666879,2,"Общестроительные работы",27,"Линии электропередачи",1,33001,"Линии электропередачи","ФЕР-33",null,"",null,1024,0,0,0,0,0,0,0,null,null,null,null,null,null,null,null,null,null,null,null,null,null,null,null,null,null,0,0,0,null,null,null,null,103,60,null,"",null,null,1,null,1740798612,2,1,-2,0,0,0,0,0,0,0,null,0,0,0,"",0,1,0,null,null,0,0,0,null,"","",null,null,null,null,null,null,"","Пр/812-027.0-1","Пр/774-027.0","Линии электропередачи","Линии электропередачи",null,0,null,null,null,null,null,null,null,null,null,null,null,null,null,null,null,null,null,0]
[18,1,384,null,"","22.2.02.03","Детали крепления стальные","кг",{"$f":"I198*J209","v":0},0,0,0,0,0,0,0,0,0,0,0,0,0,0,0,0,null,-1,0,0,0,0,0,0,0,0,0,0,0,0,0,0,0,0,0,0,103,60,1,1,null,null,1,1,1,1,"","","","",3,1,"",null,null,33001,0,"",0,2,0,1,1,1,1,1,1,"",103,60,"",null,null,0,0,0,0,0,0,0,0,0,"",0,0,0,0,0,0,0,0,0,0,0,0,null,null,"","","","","","","","","","","",0,0,1,1,null,null,null,1009,"кг","кг",1,null,"","","","",null,83666879,2,"Общестроительные работы",27,"Линии электропередачи",1,33001,"Линии электропередачи","ФЕР-33",null,"",null,1024,0,0,0,0,0,0,0,null,null,null,null,null,null,null,null,null,null,null,null,null,null,null,null,null,null,0,0,0,null,null,null,null,103,60,null,"",null,null,1,null,1533393836,2,1,-2,0,0,0,0,0,0,0,null,0,0,0,"",0,1,0,null,null,0,0,0,null,"","",null,null,null,null,null,null,"","Пр/812-027.0-1","Пр/774-027.0","Линии электропередачи","Линии электропередачи",null,0,null,null,null,null,null,null,null,null,null,null,null,null,null,null,null,null,null,0]
[18,1,398,null,"","22.2.02.03","Детали крепления стальные","кг",{"$f":"I199*J210","v":0},0,0,0,0,0,0,0,0,0,0,0,0,0,0,0,0,null,-1,0,0,0,0,0,0,0,0,0,0,0,0,0,0,0,0,0,0,103,60,1,1,null,null,1,1,1,1,"","","","",3,1,"",null,null,33001,0,"",0,2,0,1,1,1,1,1,1,"",103,60,"",null,null,0,0,0,0,0,0,0,0,0,"",0,0,0,0,0,0,0,0,0,0,0,0,null,null,"","","","","","","","","","","",0,0,1,1,null,null,null,1009,"кг","кг",1,null,"","","","",null,83666879,2,"Общестроительные работы",27,"Линии электропередачи",1,33001,"Линии электропередачи","ФЕР-33",null,"",null,1024,0,0,0,0,0,0,0,null,null,null,null,null,null,null,null,null,null,null,null,null,null,null,null,null,null,0,0,0,null,null,null,null,103,60,null,"",null,null,1,null,1533393836,2,1,-2,0,0,0,0,0,0,0,null,0,0,0,"",0,1,0,null,null,0,0,0,null,"","",null,null,null,null,null,null,"","Пр/812-027.0-1","Пр/774-027.0","Линии электропередачи","Линии электропередачи",null,0,null,null,null,null,null,null,null,null,null,null,null,null,null,null,null,null,null,0]
[17,1,{"$f":"ROW(SmtRes!A412)","v":412},{"$f":"ROW(EtalonRes!A412)","v":412},"12","м08-03-574-05","Разводка по устройствам и подключение жил кабелей или проводов сечением: до 95 мм2","100 ШТ",0.04,0,0.04,0.04,0,0.04,2244.3200000000002,{"$f":"SUMIF(SmtRes!AQ399:'SmtRes'!AQ412,\"=1\",SmtRes!DF399:'SmtRes'!DF412)","v":117.04},{"$f":"SUMIF(SmtRes!AQ399:'SmtRes'!AQ412,\"=1\",SmtRes!DG399:'SmtRes'!DG412)","v":16.57},{"$f":"SUMIF(SmtRes!AQ399:'SmtRes'!AQ412,\"=1\",SmtRes!DH399:'SmtRes'!DH412)","v":2.74},{"$f":"SUMIF(SmtRes!AQ399:'SmtRes'!AQ412,\"=1\",SmtRes!DI399:'SmtRes'!DI412)","v":2107.9699999999998},0,{"$f":"SUMIF(SmtRes!AQ399:'SmtRes'!AQ412,\"=1\",SmtRes!CV399:'SmtRes'!CV412)","v":2.5214400000000001},{"$f":"SUMIF(SmtRes!AQ399:'SmtRes'!AQ412,\"=1\",SmtRes!CW399:'SmtRes'!CW412)","v":2.8800000000000002E-3},0,2047.39,1076.46,null,85312357,55928.35,{"$f":"ROUND((SUM(SmtRes!BQ399:'SmtRes'!BQ412)),2)","v":2814.7},{"$f":"ROUND((((SUM(SmtRes!BR399:'SmtRes'!BR412))-(SUM(SmtRes!BS399:'SmtRes'!BS412)))+AE211),2)","v":414.29},{"$f":"ROUND((SUM(SmtRes!BS399:'SmtRes'!BS412)),2)","v":68.48},{"$f":"ROUND((SUM(SmtRes!BT399:'SmtRes'!BT412)),2)","v":52699.360000000001},0,{"$f":"(SUM(SmtRes!BU399:'SmtRes'!BU412))","v":63.036000000000001},{"$f":"(SUM(SmtRes!BV399:'SmtRes'!BV412))","v":7.1999999999999995E-2},0,47133.140979999996,2814.70318,345.23969999999997,57.067499999999995,43916.130599999997,0,52.53,0.06,0,97,51,1,1,null,null,1,1,1,1,"","","","",0,2,"ГЭСНм-2022, м08-03-574-05, приказ Минстроя России от 18.05.2022 г. № 378/пр",null,null,108001,0,"",0,3,0,1,1,1,1,1,1,"",97,51,"",null,null,0,0,0,12,0,0,0,0,0,"Поправка: 421/пр_2020_прил.10_т.1_п.4_гр.5 Наименование: Производство работ осуществляется в охранной зоне действующей воздушной линии электропередачи, вблизи объектов, находящихся под напряжением, внутри объектов капитального строительства, внутренняя проводка в которых не обесточена, если это приведет к ограничению действий рабочих в соответствии с требованиями техники безопасности",0,2244.3199999999997,{"$f":"SUMIF(SmtRes!AQ399:'SmtRes'!AQ412,\"=1\",SmtRes!AA399:'SmtRes'!AA412)","v":372508.79},{"$f":"SUMIF(SmtRes!AQ399:'SmtRes'!AQ412,\"=1\",SmtRes!AB399:'SmtRes'!AB412)","v":2283.83},{"$f":"SUMIF(SmtRes!AQ399:'SmtRes'!AQ412,\"=1\",SmtRes!AC399:'SmtRes'!AC412)","v":1902.25},{"$f":"SUMIF(SmtRes!AQ399:'SmtRes'!AQ412,\"=1\",SmtRes!AD399:'SmtRes'!AD412)","v":836.02},{"$f":"AG211","v":0},{"$f":"SUMIF(SmtRes!AQ399:'SmtRes'!AQ412,\"=1\",SmtRes!BU399:'SmtRes'!BU412)","v":63.036000000000001},{"$f":"SUMIF(SmtRes!AQ399:'SmtRes'!AQ412,\"=1\",SmtRes!BV399:'SmtRes'!BV412)","v":7.1999999999999995E-2},{"$f":"AJ211","v":0},2047.3886999999997,1076.4620999999997,null,23,"","","*(0,2+1)","*(0,2+1)","*(0,2+1)","","*(0,2+1)","*(0,2+1)","","","",0,0,1,1,null,null,null,1013,"100 ШТ","100 ШТ",1,null,"","","","",null,83666702,3,"Монтажные работы",0,"",2,108001,"Электротехнические установки: на других объектах","мФЕР-08",null,"Поправка: 421/пр_2020_прил.10_т.1_п.4_гр.5",null,131072,0,0,0,0,0,52.53,0.06,0,null,null,null,null,null,null,null,null,null,null,null,null,null,null,null,null,null,0,0,0,null,null,null,null,97,51,null,"",null,null,1,null,627319889,2,1,-2,0,0,0,5368.17,0,5368.17,0,null,0,3,0,"",0,1,0,null,null,0,0,0,null,"","",null,null,null,null,null,null,"","Пр/812-049.3-1","Пр/774-049.3","Электротехнические установки: на других объектах","Электротехнические установки: на других объектах",null,0,null,null,null,null,null,null,null,null,null,null,null,null,null,null,null,null,null,0]
[17,1,{"$f":"ROW(SmtRes!A426)","v":426},{"$f":"ROW(EtalonRes!A426)","v":426},"12","м08-03-574-05","Разводка по устройствам и подключение жил кабелей или проводов сечением: до 95 мм2","100 ШТ",0.04,0,0.04,0.04,0,0.04,2244.3200000000002,{"$f":"SUMIF(SmtRes!AQ413:'SmtRes'!AQ426,\"=1\",SmtRes!DF413:'SmtRes'!DF426)","v":117.04},{"$f":"SUMIF(SmtRes!AQ413:'SmtRes'!AQ426,\"=1\",SmtRes!DG413:'SmtRes'!DG426)","v":16.57},{"$f":"SUMIF(SmtRes!AQ413:'SmtRes'!AQ426,\"=1\",SmtRes!DH413:'SmtRes'!DH426)","v":2.74},{"$f":"SUMIF(SmtRes!AQ413:'SmtRes'!AQ426,\"=1\",SmtRes!DI413:'SmtRes'!DI426)","v":2107.9699999999998},0,{"$f":"SUMIF(SmtRes!AQ413:'SmtRes'!AQ426,\"=1\",SmtRes!CV413:'SmtRes'!CV426)","v":2.5214400000000001},{"$f":"SUMIF(SmtRes!AQ413:'SmtRes'!AQ426,\"=1\",SmtRes!CW413:'SmtRes'!CW426)","v":2.8800000000000002E-3},0,2047.39,1076.46,null,85312298,55928.35,{"$f":"ROUND((SUM(SmtRes!BQ413:'SmtRes'!BQ426)),2)","v":2814.7},{"$f":"ROUND((((SUM(SmtRes!BR413:'SmtRes'!BR426))-(SUM(SmtRes!BS413:'SmtRes'!BS426)))+AE212),2)","v":414.29},{"$f":"ROUND((SUM(SmtRes!BS413:'SmtRes'!BS426)),2)","v":68.48},{"$f":"ROUND((SUM(SmtRes!BT413:'SmtRes'!BT426)),2)","v":52699.360000000001},0,{"$f":"(SUM(SmtRes!BU413:'SmtRes'!BU426))","v":63.036000000000001},{"$f":"(SUM(SmtRes!BV413:'SmtRes'!BV426))","v":7.1999999999999995E-2},0,47133.140979999996,2814.70318,345.23969999999997,57.067499999999995,43916.130599999997,0,52.53,0.06,0,97,51,1,1,null,null,1,1,1,1,"","","","",0,2,"ГЭСНм-2022, м08-03-574-05, приказ Минстроя России от 18.05.2022 г. № 378/пр",null,null,108001,0,"",0,3,0,1,1,1,1,1,1,"",97,51,"",null,null,0,0,0,12,0,0,0,0,0,"Поправка: 421/пр_2020_прил.10_т.1_п.4_гр.5 Наименование: Производство работ осуществляется в охранной зоне действующей воздушной линии электропередачи, вблизи объектов, находящихся под напряжением, внутри объектов капитального строительства, внутренняя проводка в которых не обесточена, если это приведет к ограничению действий рабочих в соответствии с требованиями техники безопасности",0,2244.3199999999997,{"$f":"SUMIF(SmtRes!AQ413:'SmtRes'!AQ426,\"=1\",SmtRes!AA413:'SmtRes'!AA426)","v":372508.79},{"$f":"SUMIF(SmtRes!AQ413:'SmtRes'!AQ426,\"=1\",SmtRes!AB413:'SmtRes'!AB426)","v":2283.83},{"$f":"SUMIF(SmtRes!AQ413:'SmtRes'!AQ426,\"=1\",SmtRes!AC413:'SmtRes'!AC426)","v":1902.25},{"$f":"SUMIF(SmtRes!AQ413:'SmtRes'!AQ426,\"=1\",SmtRes!AD413:'SmtRes'!AD426)","v":836.02},{"$f":"AG212","v":0},{"$f":"SUMIF(SmtRes!AQ413:'SmtRes'!AQ426,\"=1\",SmtRes!BU413:'SmtRes'!BU426)","v":63.036000000000001},{"$f":"SUMIF(SmtRes!AQ413:'SmtRes'!AQ426,\"=1\",SmtRes!BV413:'SmtRes'!BV426)","v":7.1999999999999995E-2},{"$f":"AJ212","v":0},2047.3886999999997,1076.4620999999997,null,24,"","","*(0,2+1)","*(0,2+1)","*(0,2+1)","","*(0,2+1)","*(0,2+1)","","","",0,0,1,1,null,null,null,1013,"100 ШТ","100 ШТ",1,null,"","","","",null,83666702,3,"Монтажные работы",0,"",2,108001,"Электротехнические установки: на других объектах","мФЕР-08",null,"Поправка: 421/пр_2020_прил.10_т.1_п.4_гр.5",null,131072,0,0,0,0,0,52.53,0.06,0,null,null,null,null,null,null,null,null,null,null,null,null,null,null,null,null,null,0,0,0,null,null,null,null,97,51,null,"",null,null,1,null,627319889,2,1,-2,0,0,0,5368.17,0,5368.17,0,null,0,3,0,"",0,1,0,null,null,0,0,0,null,"","",null,null,null,null,null,null,"","Пр/812-049.3-1","Пр/774-049.3","Электротехнические установки: на других объектах","Электротехнические установки: на других объектах",null,0,null,null,null,null,null,null,null,null,null,null,null,null,null,null,null,null,null,0]
[19,1,null,null,null,"","По ВОР \"Устройство наконечников CPTAU95\"","",null,null,null,null,null,null,null,null,null,null,null,null,null,null,null,null,null,null,1,null,null,null,null,null,null,null,null,null,null,null,null,null,null,null,null,null,null,null,null,null,null,null,null,null,null,null,null,null,null,null,null,null,null,null,null,null,null,null,null,null,null,null,null,null,null,null,null,null,null,null,null,null,null,null,null,null,null,null,null,null,null,null,null,null,null,null,null,null,null,null,null,null,null,null,null,null,null,null,null,null,null,null,null,null,null,null,null,null,null,null,null,null,null,null,null,null,null,null,null,null,null,null,null,null,null,null,null,null,null,null,null,null,null,null,null,null,null,null,null,null,null,null,null,null,null,null,null,null,null,null,null,null,null,null,null,null,null,null,null,null,null,null,null,null,null,null,null,null,null,null,null,null,null,null,null,null,null,null,null,null,null,null,null,null,null,null,null,null,null,null,null,null,null,null,null,null,null,null,null,null,null,null,null,null,null,null,null,null,null,null,null,null,null,null,null,null,null,null,null,null,null,null,null,null,null,null,null,null,null,null,null,null,null,null,null,null,0]
[18,1,412,null,"12,1","421/пр_2020_п.75_пп.а","Сметная стоимость вспомогательных ненормируемых материальных ресурсов, не учтенная в сметной норме, 2%","%",{"$f":"J214","v":2},2,2,0.08,0,{"$f":"ROUND(L214-M214,4)","v":0.08},{"$f":"ROUND(P214,2)","v":35.130000000000003},{"$f":"ROUND(ROUND(ROUND(SUMIF(SmtRes!AQ413:'SmtRes'!AQ426,\"=1\",SmtRes!CU413:'SmtRes'!CU426),2),2)*I214/100,2)","v":35.130000000000003},{"$f":"ROUND(CR214*I214,2)","v":0},{"$f":"ROUND(CS214*I214,2)","v":0},{"$f":"ROUND(CT214*I214,2)","v":0},{"$f":"ROUND(CU214*I214,2)","v":0},{"$f":"ROUND(CV214*I214,7)","v":0},{"$f":"ROUND(CW214*I214,7)","v":0},{"$f":"ROUND(CX214*I214,2)","v":0},{"$f":"ROUND(CY214,2)","v":0},0,null,85312357,{"$f":"ROUND((AC214+AD214+AF214),2)","v":0},{"$f":"ROUND((ES214),2)","v":0},{"$f":"ROUND((((ET214)-(EU214))+AE214),2)","v":0},{"$f":"ROUND((EU214),2)","v":0},{"$f":"ROUND((EV214),2)","v":0},{"$f":"ROUND((AP214),2)","v":0},{"$f":"(EW214)","v":0},{"$f":"(EX214)","v":0},{"$f":"(AS214)","v":0},0,0,0,0,0,0,0,0,0,97,51,1,1,null,null,1,1,1,1,"","","","",3,2,"",null,null,108001,0,"",0,3,0,1,1,1,1,1,1,"",97,51,"",null,null,0,0,0,12,1,0,0,0,0,"",0,{"$f":"0","v":0},{"$f":"0","v":0},{"$f":"0","v":0},{"$f":"0","v":0},{"$f":"0","v":0},{"$f":"0","v":0},{"$f":"0","v":0},{"$f":"0","v":0},{"$f":"0","v":0},{"$f":"0","v":0},{"$f":"0","v":0},null,null,"","","","","","","","","","","",0,0,1,1,null,null,null,1013,"%","%",1,null,"","","","",null,83666702,3,"Монтажные работы",0,"",2,108001,"Электротехнические установки: на других объектах","мФЕР-08",null,"",null,0,0,0,0,0,0,0,0,null,null,null,null,null,null,null,null,null,null,null,null,null,null,null,null,null,null,0,0,0,null,null,null,null,97,51,null,"",null,null,1,null,274903907,2,1,-2,0,0,{"$f":"ROUND(IF(AND(BH214=3,BI214=3,FS214<>0),P214,0),2)","v":0},{"$f":"ROUND(O214+X214+Y214,2)+GX214","v":35.130000000000003},{"$f":"IF(OR(BI214=0,BI214=1),GM214-GX214,0)","v":0},{"$f":"IF(BI214=2,GM214-GX214,0)","v":35.130000000000003},{"$f":"IF(BI214=4,GM214-GX214,0)","v":0},null,0,3,0,"",{"$f":"ROUND((GT214),2)","v":0},1,{"$f":"ROUND(HC214*I214,2)","v":0},null,null,0,0,{"$f":"0","v":0},null,"","",null,null,null,null,null,null,"","Пр/812-049.3-1","Пр/774-049.3","Электротехнические установки: на других объектах","Электротехнические установки: на других объектах",null,0,null,null,null,null,null,null,null,null,null,null,null,null,null,null,null,null,null,0]
[18,1,426,null,"12,1","421/пр_2020_п.75_пп.а","Сметная стоимость вспомогательных ненормируемых материальных ресурсов, не учтенная в сметной норме, 2%","%",{"$f":"J215","v":2},2,2,0.08,0,{"$f":"ROUND(L215-M215,4)","v":0.08},{"$f":"ROUND(P215,2)","v":35.130000000000003},{"$f":"ROUND(ROUND(ROUND(SUMIF(SmtRes!AQ413:'SmtRes'!AQ426,\"=1\",SmtRes!CU413:'SmtRes'!CU426),2),2)*I215/100,2)","v":35.130000000000003},{"$f":"ROUND(CR215*I215,2)","v":0},{"$f":"ROUND(CS215*I215,2)","v":0},{"$f":"ROUND(CT215*I215,2)","v":0},{"$f":"ROUND(CU215*I215,2)","v":0},{"$f":"ROUND(CV215*I215,7)","v":0},{"$f":"ROUND(CW215*I215,7)","v":0},{"$f":"ROUND(CX215*I215,2)","v":0},0,0,null,85312298,{"$f":"ROUND((AC215+AD215+AF215),2)","v":0},{"$f":"ROUND((ES215),2)","v":0},{"$f":"ROUND((((ET215)-(EU215))+AE215),2)","v":0},{"$f":"ROUND((EU215),2)","v":0},{"$f":"ROUND((EV215),2)","v":0},{"$f":"ROUND((AP215),2)","v":0},{"$f":"(EW215)","v":0},{"$f":"(EX215)","v":0},{"$f":"(AS215)","v":0},0,0,0,0,0,0,0,0,0,97,51,1,1,null,null,1,1,1,1,"","","","",3,2,"",null,null,108001,0,"",0,3,0,1,1,1,1,1,1,"",97,51,"",null,null,0,0,0,12,1,0,0,0,0,"",0,{"$f":"0","v":0},{"$f":"0","v":0},{"$f":"0","v":0},{"$f":"0","v":0},{"$f":"0","v":0},{"$f":"0","v":0},{"$f":"0","v":0},{"$f":"0","v":0},{"$f":"0","v":0},{"$f":"0","v":0},{"$f":"0","v":0},null,null,"","","","","","","","","","","",0,0,1,1,null,null,null,1013,"%","%",1,null,"","","","",null,83666702,3,"Монтажные работы",0,"",2,108001,"Электротехнические установки: на других объектах","мФЕР-08",null,"",null,0,0,0,0,0,0,0,0,null,null,null,null,null,null,null,null,null,null,null,null,null,null,null,null,null,null,0,0,0,null,null,null,null,97,51,null,"",null,null,1,null,274903907,2,1,-2,0,0,{"$f":"ROUND(IF(AND(BH215=3,BI215=3,FS215<>0),P215,0),2)","v":0},{"$f":"ROUND(O215+X215+Y215,2)+GX215","v":35.130000000000003},{"$f":"IF(OR(BI215=0,BI215=1),GM215-GX215,0)","v":0},{"$f":"IF(BI215=2,GM215-GX215,0)","v":35.130000000000003},{"$f":"IF(BI215=4,GM215-GX215,0)","v":0},null,0,3,0,"",{"$f":"ROUND((GT215),2)","v":0},1,{"$f":"ROUND(HC215*I215,2)","v":0},null,null,0,0,{"$f":"0","v":0},null,"","",null,null,null,null,null,null,"","Пр/812-049.3-1","Пр/774-049.3","Электротехнические установки: на других объектах","Электротехнические установки: на других объектах",null,0,null,null,null,null,null,null,null,null,null,null,null,null,null,null,null,null,null,0]
[17,1,{"$f":"ROW(SmtRes!A445)","v":445},{"$f":"ROW(EtalonRes!A445)","v":445},"","м08-03-526-03","Автомат одно-, двух-, трехполюсный, устанавливаемый на конструкции: на стене или колонне, на ток до 250 А","ШТ",0,0,0,1,1,{"$f":"ROUND(L216-M216,4)","v":0},{"$f":"ROUND(CP216,2)","v":0},{"$f":"SUMIF(SmtRes!AQ427:'SmtRes'!AQ445,\"=1\",SmtRes!DF427:'SmtRes'!DF445)","v":0},{"$f":"SUMIF(SmtRes!AQ427:'SmtRes'!AQ445,\"=1\",SmtRes!DG427:'SmtRes'!DG445)","v":0},{"$f":"SUMIF(SmtRes!AQ427:'SmtRes'!AQ445,\"=1\",SmtRes!DH427:'SmtRes'!DH445)","v":0},{"$f":"SUMIF(SmtRes!AQ427:'SmtRes'!AQ445,\"=1\",SmtRes!DI427:'SmtRes'!DI445)","v":0},{"$f":"ROUND(CU216*I216,2)","v":0},{"$f":"SUMIF(SmtRes!AQ427:'SmtRes'!AQ445,\"=1\",SmtRes!CV427:'SmtRes'!CV445)","v":0},{"$f":"SUMIF(SmtRes!AQ427:'SmtRes'!AQ445,\"=1\",SmtRes!CW427:'SmtRes'!CW445)","v":0},{"$f":"ROUND(CX216*I216,2)","v":0},0,0,null,-1,{"$f":"ROUND((AC216+AD216+AF216),2)","v":2232.4299999999998},{"$f":"ROUND((SUM(SmtRes!BQ427:'SmtRes'!BQ445)),2)","v":126.64},{"$f":"ROUND((((SUM(SmtRes!BR427:'SmtRes'!BR445))-(SUM(SmtRes!BS427:'SmtRes'!BS445)))+AE216),2)","v":29.55},{"$f":"ROUND((SUM(SmtRes!BS427:'SmtRes'!BS445)),2)","v":19.02},{"$f":"ROUND((SUM(SmtRes!BT427:'SmtRes'!BT445)),2)","v":2076.2399999999998},{"$f":"ROUND((AP216),2)","v":0},{"$f":"(SUM(SmtRes!BU427:'SmtRes'!BU445))","v":2.38},{"$f":"(SUM(SmtRes!BV427:'SmtRes'!BV445))","v":0.02},{"$f":"(AS216)","v":0},2251.4614959999999,126.64429600000001,29.554100000000002,19.022500000000001,2076.2406000000001,0,2.38,0.02,0,97,51,1,1,null,null,1,1,1,1,"","","","",0,2,"ГЭСНм-2022, м08-03-526-03, приказ Минстроя России от 18.05.2022 г. № 378/пр",null,null,108001,0,"",0,3,0,1,1,1,1,1,1,"",97,51,"",null,null,0,0,0,0,0,0,0,0,0,"",0,{"$f":"(P216+Q216+S216+R216)","v":0},{"$f":"SUMIF(SmtRes!AQ427:'SmtRes'!AQ445,\"=1\",SmtRes!AA427:'SmtRes'!AA445)","v":138808.15},{"$f":"SUMIF(SmtRes!AQ427:'SmtRes'!AQ445,\"=1\",SmtRes!AB427:'SmtRes'!AB445)","v":2318.44},{"$f":"SUMIF(SmtRes!AQ427:'SmtRes'!AQ445,\"=1\",SmtRes!AC427:'SmtRes'!AC445)","v":1902.25},{"$f":"SUMIF(SmtRes!AQ427:'SmtRes'!AQ445,\"=1\",SmtRes!AD427:'SmtRes'!AD445)","v":872.37},{"$f":"AG216","v":0},{"$f":"SUMIF(SmtRes!AQ427:'SmtRes'!AQ445,\"=1\",SmtRes!BU427:'SmtRes'!BU445)","v":2.38},{"$f":"SUMIF(SmtRes!AQ427:'SmtRes'!AQ445,\"=1\",SmtRes!BV427:'SmtRes'!BV445)","v":0.02},{"$f":"AJ216","v":0},{"$f":"(((S216+R216)*AT216)/100)","v":0},{"$f":"(((S216+R216)*AU216)/100)","v":0},null,null,"","","","","","","","","","","",0,0,1,1,null,null,null,1013,"ШТ","ШТ",1,null,"","","","",null,83666702,3,"Монтажные работы",0,"",2,108001,"Электротехнические установки: на других объектах","мФЕР-08",null,"",null,132096,0,0,0,0,0,2.38,0.02,0,null,null,null,null,null,null,null,null,null,null,null,null,null,null,null,null,null,0,0,0,null,null,null,null,97,51,null,"",null,null,1,null,-1224506015,2,1,-2,0,0,{"$f":"ROUND(IF(AND(BH216=3,BI216=3,FS216<>0),P216,0),2)","v":0},{"$f":"ROUND(O216+X216+Y216,2)+GX216","v":0},{"$f":"IF(OR(BI216=0,BI216=1),GM216-GX216,0)","v":0},{"$f":"IF(BI216=2,GM216-GX216,0)","v":0},{"$f":"IF(BI216=4,GM216-GX216,0)","v":0},null,0,0,0,"",{"$f":"ROUND((GT216),2)","v":0},1,{"$f":"ROUND(HC216*I216,2)","v":0},null,null,0,0,{"$f":"GV216*GW216","v":0},null,"","",null,null,null,null,null,null,"","Пр/812-049.3-1","Пр/774-049.3","Электротехнические установки: на других объектах","Электротехнические установки: на других объектах",null,0,null,null,null,null,null,null,null,null,null,null,null,null,null,null,null,null,null,0]
[17,1,{"$f":"ROW(SmtRes!A464)","v":464},{"$f":"ROW(EtalonRes!A464)","v":464},"","м08-03-526-03","Автомат одно-, двух-, трехполюсный, устанавливаемый на конструкции: на стене или колонне, на ток до 250 А","ШТ",0,0,0,1,1,{"$f":"ROUND(L217-M217,4)","v":0},{"$f":"ROUND(CP217,2)","v":0},{"$f":"SUMIF(SmtRes!AQ446:'SmtRes'!AQ464,\"=1\",SmtRes!DF446:'SmtRes'!DF464)","v":0},{"$f":"SUMIF(SmtRes!AQ446:'SmtRes'!AQ464,\"=1\",SmtRes!DG446:'SmtRes'!DG464)","v":0},{"$f":"SUMIF(SmtRes!AQ446:'SmtRes'!AQ464,\"=1\",SmtRes!DH446:'SmtRes'!DH464)","v":0},{"$f":"SUMIF(SmtRes!AQ446:'SmtRes'!AQ464,\"=1\",SmtRes!DI446:'SmtRes'!DI464)","v":0},{"$f":"ROUND(CU217*I217,2)","v":0},{"$f":"SUMIF(SmtRes!AQ446:'SmtRes'!AQ464,\"=1\",SmtRes!CV446:'SmtRes'!CV464)","v":0},{"$f":"SUMIF(SmtRes!AQ446:'SmtRes'!AQ464,\"=1\",SmtRes!CW446:'SmtRes'!CW464)","v":0},{"$f":"ROUND(CX217*I217,2)","v":0},0,0,null,-1,{"$f":"ROUND((AC217+AD217+AF217),2)","v":2232.4299999999998},{"$f":"ROUND((SUM(SmtRes!BQ446:'SmtRes'!BQ464)),2)","v":126.64},{"$f":"ROUND((((SUM(SmtRes!BR446:'SmtRes'!BR464))-(SUM(SmtRes!BS446:'SmtRes'!BS464)))+AE217),2)","v":29.55},{"$f":"ROUND((SUM(SmtRes!BS446:'SmtRes'!BS464)),2)","v":19.02},{"$f":"ROUND((SUM(SmtRes!BT446:'SmtRes'!BT464)),2)","v":2076.2399999999998},{"$f":"ROUND((AP217),2)","v":0},{"$f":"(SUM(SmtRes!BU446:'SmtRes'!BU464))","v":2.38},{"$f":"(SUM(SmtRes!BV446:'SmtRes'!BV464))","v":0.02},{"$f":"(AS217)","v":0},2251.4614959999999,126.64429600000001,29.554100000000002,19.022500000000001,2076.2406000000001,0,2.38,0.02,0,97,51,1,1,null,null,1,1,1,1,"","","","",0,2,"ГЭСНм-2022, м08-03-526-03, приказ Минстроя России от 18.05.2022 г. № 378/пр",null,null,108001,0,"",0,3,0,1,1,1,1,1,1,"",97,51,"",null,null,0,0,0,0,0,0,0,0,0,"",0,{"$f":"(P217+Q217+S217+R217)","v":0},{"$f":"SUMIF(SmtRes!AQ446:'SmtRes'!AQ464,\"=1\",SmtRes!AA446:'SmtRes'!AA464)","v":138808.15},{"$f":"SUMIF(SmtRes!AQ446:'SmtRes'!AQ464,\"=1\",SmtRes!AB446:'SmtRes'!AB464)","v":2318.44},{"$f":"SUMIF(SmtRes!AQ446:'SmtRes'!AQ464,\"=1\",SmtRes!AC446:'SmtRes'!AC464)","v":1902.25},{"$f":"SUMIF(SmtRes!AQ446:'SmtRes'!AQ464,\"=1\",SmtRes!AD446:'SmtRes'!AD464)","v":872.37},{"$f":"AG217","v":0},{"$f":"SUMIF(SmtRes!AQ446:'SmtRes'!AQ464,\"=1\",SmtRes!BU446:'SmtRes'!BU464)","v":2.38},{"$f":"SUMIF(SmtRes!AQ446:'SmtRes'!AQ464,\"=1\",SmtRes!BV446:'SmtRes'!BV464)","v":0.02},{"$f":"AJ217","v":0},{"$f":"(((S217+R217)*AT217)/100)","v":0},{"$f":"(((S217+R217)*AU217)/100)","v":0},null,null,"","","","","","","","","","","",0,0,1,1,null,null,null,1013,"ШТ","ШТ",1,null,"","","","",null,83666702,3,"Монтажные работы",0,"",2,108001,"Электротехнические установки: на других объектах","мФЕР-08",null,"",null,132096,0,0,0,0,0,2.38,0.02,0,null,null,null,null,null,null,null,null,null,null,null,null,null,null,null,null,null,0,0,0,null,null,null,null,97,51,null,"",null,null,1,null,-1224506015,2,1,-2,0,0,{"$f":"ROUND(IF(AND(BH217=3,BI217=3,FS217<>0),P217,0),2)","v":0},{"$f":"ROUND(O217+X217+Y217,2)+GX217","v":0},{"$f":"IF(OR(BI217=0,BI217=1),GM217-GX217,0)","v":0},{"$f":"IF(BI217=2,GM217-GX217,0)","v":0},{"$f":"IF(BI217=4,GM217-GX217,0)","v":0},null,0,0,0,"",{"$f":"ROUND((GT217),2)","v":0},1,{"$f":"ROUND(HC217*I217,2)","v":0},null,null,0,0,{"$f":"GV217*GW217","v":0},null,"","",null,null,null,null,null,null,"","Пр/812-049.3-1","Пр/774-049.3","Электротехнические установки: на других объектах","Электротехнические установки: на других объектах",null,0,null,null,null,null,null,null,null,null,null,null,null,null,null,null,null,null,null,0]
[19,1,null,null,null,"","По ВОР \"Установка выключателя автоматического BA-35 160A в РУ-0,4 кВ КТП\"","",null,null,null,null,null,null,null,null,null,null,null,null,null,null,null,null,null,null,1,null,null,null,null,null,null,null,null,null,null,null,null,null,null,null,null,null,null,null,null,null,null,null,null,null,null,null,null,null,null,null,null,null,null,null,null,null,null,null,null,null,null,null,null,null,null,null,null,null,null,null,null,null,null,null,null,null,null,null,null,null,null,null,null,null,null,null,null,null,null,null,null,null,null,null,null,null,null,null,null,null,null,null,null,null,null,null,null,null,null,null,null,null,null,null,null,null,null,null,null,null,null,null,null,null,null,null,null,null,null,null,null,null,null,null,null,null,null,null,null,null,null,null,null,null,null,null,null,null,null,null,null,null,null,null,null,null,null,null,null,null,null,null,null,null,null,null,null,null,null,null,null,null,null,null,null,null,null,null,null,null,null,null,null,null,null,null,null,null,null,null,null,null,null,null,null,null,null,null,null,null,null,null,null,null,null,null,null,null,null,null,null,null,null,null,null,null,null,null,null,null,null,null,null,null,null,null,null,null,null,null,null,null,null,null,null,null,0]
[18,1,445,null,"","421/пр_2020_п.75_пп.а","Сметная стоимость вспомогательных ненормируемых материальных ресурсов, не учтенная в сметной норме, 2%","%",{"$f":"J219","v":2},2,2,2,2,{"$f":"ROUND(L219-M219,4)","v":0},{"$f":"ROUND(P219,2)","v":0},{"$f":"ROUND(ROUND(ROUND(SUMIF(SmtRes!AQ446:'SmtRes'!AQ464,\"=1\",SmtRes!CU446:'SmtRes'!CU464),2),2)*I219/100,2)","v":0},{"$f":"ROUND(CR219*I219,2)","v":0},{"$f":"ROUND(CS219*I219,2)","v":0},{"$f":"ROUND(CT219*I219,2)","v":0},{"$f":"ROUND(CU219*I219,2)","v":0},{"$f":"ROUND(CV219*I219,7)","v":0},{"$f":"ROUND(CW219*I219,7)","v":0},{"$f":"ROUND(CX219*I219,2)","v":0},{"$f":"ROUND(CY219,2)","v":0},0,null,-1,{"$f":"ROUND((AC219+AD219+AF219),2)","v":0},{"$f":"ROUND((ES219),2)","v":0},{"$f":"ROUND((((ET219)-(EU219))+AE219),2)","v":0},{"$f":"ROUND((EU219),2)","v":0},{"$f":"ROUND((EV219),2)","v":0},{"$f":"ROUND((AP219),2)","v":0},{"$f":"(EW219)","v":0},{"$f":"(EX219)","v":0},{"$f":"(AS219)","v":0},0,0,0,0,0,0,0,0,0,97,51,1,1,null,null,1,1,1,1,"","","","",3,2,"",null,null,108001,0,"",0,3,0,1,1,1,1,1,1,"",97,51,"",null,null,0,0,0,0,0,0,0,0,0,"",0,{"$f":"0","v":0},{"$f":"0","v":0},{"$f":"0","v":0},{"$f":"0","v":0},{"$f":"0","v":0},{"$f":"0","v":0},{"$f":"0","v":0},{"$f":"0","v":0},{"$f":"0","v":0},{"$f":"0","v":0},{"$f":"0","v":0},null,null,"","","","","","","","","","","",0,0,1,1,null,null,null,1013,"%","%",1,null,"","","","",null,83666702,3,"Монтажные работы",0,"",2,108001,"Электротехнические установки: на других объектах","мФЕР-08",null,"",null,1024,0,0,0,0,0,0,0,null,null,null,null,null,null,null,null,null,null,null,null,null,null,null,null,null,null,0,0,0,null,null,null,null,97,51,null,"",null,null,1,null,274903907,2,1,-2,0,0,{"$f":"ROUND(IF(AND(BH219=3,BI219=3,FS219<>0),P219,0),2)","v":0},{"$f":"ROUND(O219+X219+Y219,2)+GX219","v":0},{"$f":"IF(OR(BI219=0,BI219=1),GM219-GX219,0)","v":0},{"$f":"IF(BI219=2,GM219-GX219,0)","v":0},{"$f":"IF(BI219=4,GM219-GX219,0)","v":0},null,0,0,0,"",{"$f":"ROUND((GT219),2)","v":0},1,{"$f":"ROUND(HC219*I219,2)","v":0},null,null,0,0,{"$f":"0","v":0},null,"","",null,null,null,null,null,null,"","Пр/812-049.3-1","Пр/774-049.3","Электротехнические установки: на других объектах","Электротехнические установки: на других объектах",null,0,null,null,null,null,null,null,null,null,null,null,null,null,null,null,null,null,null,0]
[18,1,464,null,"","421/пр_2020_п.75_пп.а","Сметная стоимость вспомогательных ненормируемых материальных ресурсов, не учтенная в сметной норме, 2%","%",{"$f":"J220","v":2},2,2,2,2,0,{"$f":"ROUND(P220,2)","v":0},{"$f":"ROUND(ROUND(ROUND(SUMIF(SmtRes!AQ446:'SmtRes'!AQ464,\"=1\",SmtRes!CU446:'SmtRes'!CU464),2),2)*I220/100,2)","v":0},{"$f":"ROUND(CR220*I220,2)","v":0},{"$f":"ROUND(CS220*I220,2)","v":0},{"$f":"ROUND(CT220*I220,2)","v":0},0,{"$f":"ROUND(CV220*I220,7)","v":0},{"$f":"ROUND(CW220*I220,7)","v":0},0,0,0,null,-1,0,{"$f":"ROUND((ES220),2)","v":0},{"$f":"ROUND((((ET220)-(EU220))+AE220),2)","v":0},{"$f":"ROUND((EU220),2)","v":0},{"$f":"ROUND((EV220),2)","v":0},0,{"$f":"(EW220)","v":0},{"$f":"(EX220)","v":0},0,0,0,0,0,0,0,0,0,0,97,51,1,1,null,null,1,1,1,1,"","","","",3,2,"",null,null,108001,0,"",0,3,0,1,1,1,1,1,1,"",97,51,"",null,null,0,0,0,0,0,0,0,0,0,"",0,{"$f":"0","v":0},{"$f":"0","v":0},{"$f":"0","v":0},{"$f":"0","v":0},{"$f":"0","v":0},{"$f":"0","v":0},{"$f":"0","v":0},{"$f":"0","v":0},{"$f":"0","v":0},{"$f":"0","v":0},{"$f":"0","v":0},null,null,"","","","","","","","","","","",0,0,1,1,null,null,null,1013,"%","%",1,null,"","","","",null,83666702,3,"Монтажные работы",0,"",2,108001,"Электротехнические установки: на других объектах","мФЕР-08",null,"",null,1024,0,0,0,0,0,0,0,null,null,null,null,null,null,null,null,null,null,null,null,null,null,null,null,null,null,0,0,0,null,null,null,null,97,51,null,"",null,null,1,null,274903907,2,1,-2,0,0,0,0,0,0,0,null,0,0,0,"",0,1,0,null,null,0,0,{"$f":"0","v":0},null,"","",null,null,null,null,null,null,"","Пр/812-049.3-1","Пр/774-049.3","Электротехнические установки: на других объектах","Электротехнические установки: на других объектах",null,0,null,null,null,null,null,null,null,null,null,null,null,null,null,null,null,null,null,0]
[17,1,{"$f":"ROW(SmtRes!A478)","v":478},{"$f":"ROW(EtalonRes!A478)","v":478},"","м08-01-068-01","Шина сборная - одна полоса в фазе, медная или алюминиевая сечением: до 250 мм2","100 м",0,0,0,1.4999999999999999E-2,1.4999999999999999E-2,0,{"$f":"ROUND(CP221,2)","v":0},{"$f":"SUMIF(SmtRes!AQ465:'SmtRes'!AQ478,\"=1\",SmtRes!DF465:'SmtRes'!DF478)","v":0},{"$f":"SUMIF(SmtRes!AQ465:'SmtRes'!AQ478,\"=1\",SmtRes!DG465:'SmtRes'!DG478)","v":0},{"$f":"SUMIF(SmtRes!AQ465:'SmtRes'!AQ478,\"=1\",SmtRes!DH465:'SmtRes'!DH478)","v":0},{"$f":"SUMIF(SmtRes!AQ465:'SmtRes'!AQ478,\"=1\",SmtRes!DI465:'SmtRes'!DI478)","v":0},0,{"$f":"SUMIF(SmtRes!AQ465:'SmtRes'!AQ478,\"=1\",SmtRes!CV465:'SmtRes'!CV478)","v":0},{"$f":"SUMIF(SmtRes!AQ465:'SmtRes'!AQ478,\"=1\",SmtRes!CW465:'SmtRes'!CW478)","v":0},0,0,0,null,-1,38243,{"$f":"ROUND((SUM(SmtRes!BQ465:'SmtRes'!BQ478)),2)","v":805.15},{"$f":"ROUND((((SUM(SmtRes!BR465:'SmtRes'!BR478))-(SUM(SmtRes!BS465:'SmtRes'!BS478)))+AE221),2)","v":663.76},{"$f":"ROUND((SUM(SmtRes!BS465:'SmtRes'!BS478)),2)","v":4358.22},{"$f":"ROUND((SUM(SmtRes!BT465:'SmtRes'!BT478)),2)","v":36774.089999999997},0,{"$f":"(SUM(SmtRes!BU465:'SmtRes'!BU478))","v":45.3},{"$f":"(SUM(SmtRes!BV465:'SmtRes'!BV478))","v":5.3000000000000007},0,42601.217961399998,805.15166139999997,663.75830000000008,4358.2210000000005,36774.087,0,45.3,5.3000000000000007,0,97,51,1,1,null,null,1,1,1,1,"","","","",0,2,"ГЭСНм-2022 доп.6, м08-01-068-01, приказ Минстроя России от 11.05.2023 г. № 335/пр",null,null,108001,0,"",0,3,0,1,1,1,1,1,1,"",97,51,"",null,null,0,0,0,0,0,0,0,0,0,"",0,{"$f":"(P221+Q221+S221+R221)","v":0},{"$f":"SUMIF(SmtRes!AQ465:'SmtRes'!AQ478,\"=1\",SmtRes!AA465:'SmtRes'!AA478)","v":1211904.3600000001},{"$f":"SUMIF(SmtRes!AQ465:'SmtRes'!AQ478,\"=1\",SmtRes!AB465:'SmtRes'!AB478)","v":2364.7800000000002},{"$f":"SUMIF(SmtRes!AQ465:'SmtRes'!AQ478,\"=1\",SmtRes!AC465:'SmtRes'!AC478)","v":2714.04},{"$f":"SUMIF(SmtRes!AQ465:'SmtRes'!AQ478,\"=1\",SmtRes!AD465:'SmtRes'!AD478)","v":811.79},{"$f":"AG221","v":0},{"$f":"SUMIF(SmtRes!AQ465:'SmtRes'!AQ478,\"=1\",SmtRes!BU465:'SmtRes'!BU478)","v":45.3},{"$f":"SUMIF(SmtRes!AQ465:'SmtRes'!AQ478,\"=1\",SmtRes!BV465:'SmtRes'!BV478)","v":5.3000000000000007},{"$f":"AJ221","v":0},{"$f":"(((S221+R221)*AT221)/100)","v":0},{"$f":"(((S221+R221)*AU221)/100)","v":0},null,null,"","","","","","","","","","","",0,0,1,1,null,null,null,1003,"100 м","100 м",100,null,"","","","",null,83666702,3,"Монтажные работы",0,"",2,108001,"Электротехнические установки: на других объектах","мФЕР-08",null,"",null,132096,0,0,0,0,0,45.3,5.3,0,null,null,null,null,null,null,null,null,null,null,null,null,null,null,null,null,null,0,0,0,null,null,null,null,97,51,null,"",null,null,1,null,1730572663,2,1,-2,0,0,0,0,0,0,0,null,0,0,0,"",0,1,0,null,null,0,0,{"$f":"GV221*GW221","v":0},null,"","",null,null,null,null,null,null,"","Пр/812-049.3-1","Пр/774-049.3","Электротехнические установки: на других объектах","Электротехнические установки: на других объектах",null,0,null,null,null,null,null,null,null,null,null,null,null,null,null,null,null,null,null,0]
[17,1,{"$f":"ROW(SmtRes!A492)","v":492},{"$f":"ROW(EtalonRes!A492)","v":492},"","м08-01-068-01","Шина сборная - одна полоса в фазе, медная или алюминиевая сечением: до 250 мм2","100 м",0,0,0,1.4999999999999999E-2,1.4999999999999999E-2,0,{"$f":"ROUND(CP222,2)","v":0},{"$f":"SUMIF(SmtRes!AQ479:'SmtRes'!AQ492,\"=1\",SmtRes!DF479:'SmtRes'!DF492)","v":0},{"$f":"SUMIF(SmtRes!AQ479:'SmtRes'!AQ492,\"=1\",SmtRes!DG479:'SmtRes'!DG492)","v":0},{"$f":"SUMIF(SmtRes!AQ479:'SmtRes'!AQ492,\"=1\",SmtRes!DH479:'SmtRes'!DH492)","v":0},{"$f":"SUMIF(SmtRes!AQ479:'SmtRes'!AQ492,\"=1\",SmtRes!DI479:'SmtRes'!DI492)","v":0},0,{"$f":"SUMIF(SmtRes!AQ479:'SmtRes'!AQ492,\"=1\",SmtRes!CV479:'SmtRes'!CV492)","v":0},{"$f":"SUMIF(SmtRes!AQ479:'SmtRes'!AQ492,\"=1\",SmtRes!CW479:'SmtRes'!CW492)","v":0},0,0,0,null,-1,38243,{"$f":"ROUND((SUM(SmtRes!BQ479:'SmtRes'!BQ492)),2)","v":805.15},{"$f":"ROUND((((SUM(SmtRes!BR479:'SmtRes'!BR492))-(SUM(SmtRes!BS479:'SmtRes'!BS492)))+AE222),2)","v":663.76},{"$f":"ROUND((SUM(SmtRes!BS479:'SmtRes'!BS492)),2)","v":4358.22},{"$f":"ROUND((SUM(SmtRes!BT479:'SmtRes'!BT492)),2)","v":36774.089999999997},0,{"$f":"(SUM(SmtRes!BU479:'SmtRes'!BU492))","v":45.3},{"$f":"(SUM(SmtRes!BV479:'SmtRes'!BV492))","v":5.3000000000000007},0,42601.217961399998,805.15166139999997,663.75830000000008,4358.2210000000005,36774.087,0,45.3,5.3000000000000007,0,97,51,1,1,null,null,1,1,1,1,"","","","",0,2,"ГЭСНм-2022 доп.6, м08-01-068-01, приказ Минстроя России от 11.05.2023 г. № 335/пр",null,null,108001,0,"",0,3,0,1,1,1,1,1,1,"",97,51,"",null,null,0,0,0,0,0,0,0,0,0,"",0,{"$f":"(P222+Q222+S222+R222)","v":0},{"$f":"SUMIF(SmtRes!AQ479:'SmtRes'!AQ492,\"=1\",SmtRes!AA479:'SmtRes'!AA492)","v":1211904.3600000001},{"$f":"SUMIF(SmtRes!AQ479:'SmtRes'!AQ492,\"=1\",SmtRes!AB479:'SmtRes'!AB492)","v":2364.7800000000002},{"$f":"SUMIF(SmtRes!AQ479:'SmtRes'!AQ492,\"=1\",SmtRes!AC479:'SmtRes'!AC492)","v":2714.04},{"$f":"SUMIF(SmtRes!AQ479:'SmtRes'!AQ492,\"=1\",SmtRes!AD479:'SmtRes'!AD492)","v":811.79},{"$f":"AG222","v":0},{"$f":"SUMIF(SmtRes!AQ479:'SmtRes'!AQ492,\"=1\",SmtRes!BU479:'SmtRes'!BU492)","v":45.3},{"$f":"SUMIF(SmtRes!AQ479:'SmtRes'!AQ492,\"=1\",SmtRes!BV479:'SmtRes'!BV492)","v":5.3000000000000007},{"$f":"AJ222","v":0},{"$f":"(((S222+R222)*AT222)/100)","v":0},{"$f":"(((S222+R222)*AU222)/100)","v":0},null,null,"","","","","","","","","","","",0,0,1,1,null,null,null,1003,"100 м","100 м",100,null,"","","","",null,83666702,3,"Монтажные работы",0,"",2,108001,"Электротехнические установки: на других объектах","мФЕР-08",null,"",null,132096,0,0,0,0,0,45.3,5.3,0,null,null,null,null,null,null,null,null,null,null,null,null,null,null,null,null,null,0,0,0,null,null,null,null,97,51,null,"",null,null,1,null,1730572663,2,1,-2,0,0,0,0,0,0,0,null,0,0,0,"",0,1,0,null,null,0,0,{"$f":"GV222*GW222","v":0},null,"","",null,null,null,null,null,null,"","Пр/812-049.3-1","Пр/774-049.3","Электротехнические установки: на других объектах","Электротехнические установки: на других объектах",null,0,null,null,null,null,null,null,null,null,null,null,null,null,null,null,null,null,null,0]
[18,1,478,null,"","421/пр_2020_п.75_пп.а","Сметная стоимость вспомогательных ненормируемых материальных ресурсов, не учтенная в сметной норме, 2%","%",{"$f":"J223","v":2},2,2,0.03,0.03,0,{"$f":"ROUND(P223,2)","v":0},{"$f":"ROUND(ROUND(ROUND(SUMIF(SmtRes!AQ479:'SmtRes'!AQ492,\"=1\",SmtRes!CU479:'SmtRes'!CU492),2),2)*I223/100,2)","v":0},{"$f":"ROUND(CR223*I223,2)","v":0},{"$f":"ROUND(CS223*I223,2)","v":0},{"$f":"ROUND(CT223*I223,2)","v":0},0,{"$f":"ROUND(CV223*I223,7)","v":0},{"$f":"ROUND(CW223*I223,7)","v":0},0,0,0,null,-1,0,{"$f":"ROUND((ES223),2)","v":0},{"$f":"ROUND((((ET223)-(EU223))+AE223),2)","v":0},{"$f":"ROUND((EU223),2)","v":0},{"$f":"ROUND((EV223),2)","v":0},0,{"$f":"(EW223)","v":0},{"$f":"(EX223)","v":0},0,0,0,0,0,0,0,0,0,0,97,51,1,1,null,null,1,1,1,1,"","","","",3,2,"",null,null,108001,0,"",0,3,0,1,1,1,1,1,1,"",97,51,"",null,null,0,0,0,0,0,0,0,0,0,"",0,{"$f":"0","v":0},{"$f":"0","v":0},{"$f":"0","v":0},{"$f":"0","v":0},{"$f":"0","v":0},{"$f":"0","v":0},{"$f":"0","v":0},{"$f":"0","v":0},{"$f":"0","v":0},{"$f":"0","v":0},{"$f":"0","v":0},null,null,"","","","","","","","","","","",0,0,1,1,null,null,null,1013,"%","%",1,null,"","","","",null,83666702,3,"Монтажные работы",0,"",2,108001,"Электротехнические установки: на других объектах","мФЕР-08",null,"",null,1024,0,0,0,0,0,0,0,null,null,null,null,null,null,null,null,null,null,null,null,null,null,null,null,null,null,0,0,0,null,null,null,null,97,51,null,"",null,null,1,null,274903907,2,1,-2,0,0,0,0,0,0,0,null,0,0,0,"",0,1,0,null,null,0,0,{"$f":"0","v":0},null,"","",null,null,null,null,null,null,"","Пр/812-049.3-1","Пр/774-049.3","Электротехнические установки: на других объектах","Электротехнические установки: на других объектах",null,0,null,null,null,null,null,null,null,null,null,null,null,null,null,null,null,null,null,0]
[18,1,492,null,"","421/пр_2020_п.75_пп.а","Сметная стоимость вспомогательных ненормируемых материальных ресурсов, не учтенная в сметной норме, 2%","%",{"$f":"J224","v":2},2,2,0.03,0.03,0,{"$f":"ROUND(P224,2)","v":0},{"$f":"ROUND(ROUND(ROUND(SUMIF(SmtRes!AQ479:'SmtRes'!AQ492,\"=1\",SmtRes!CU479:'SmtRes'!CU492),2),2)*I224/100,2)","v":0},{"$f":"ROUND(CR224*I224,2)","v":0},{"$f":"ROUND(CS224*I224,2)","v":0},{"$f":"ROUND(CT224*I224,2)","v":0},0,{"$f":"ROUND(CV224*I224,7)","v":0},{"$f":"ROUND(CW224*I224,7)","v":0},0,0,0,null,-1,0,{"$f":"ROUND((ES224),2)","v":0},{"$f":"ROUND((((ET224)-(EU224))+AE224),2)","v":0},{"$f":"ROUND((EU224),2)","v":0},{"$f":"ROUND((EV224),2)","v":0},0,{"$f":"(EW224)","v":0},{"$f":"(EX224)","v":0},0,0,0,0,0,0,0,0,0,0,97,51,1,1,null,null,1,1,1,1,"","","","",3,2,"",null,null,108001,0,"",0,3,0,1,1,1,1,1,1,"",97,51,"",null,null,0,0,0,0,0,0,0,0,0,"",0,{"$f":"0","v":0},{"$f":"0","v":0},{"$f":"0","v":0},{"$f":"0","v":0},{"$f":"0","v":0},{"$f":"0","v":0},{"$f":"0","v":0},{"$f":"0","v":0},{"$f":"0","v":0},{"$f":"0","v":0},{"$f":"0","v":0},null,null,"","","","","","","","","","","",0,0,1,1,null,null,null,1013,"%","%",1,null,"","","","",null,83666702,3,"Монтажные работы",0,"",2,108001,"Электротехнические установки: на других объектах","мФЕР-08",null,"",null,1024,0,0,0,0,0,0,0,null,null,null,null,null,null,null,null,null,null,null,null,null,null,null,null,null,null,0,0,0,null,null,null,null,97,51,null,"",null,null,1,null,274903907,2,1,-2,0,0,0,0,0,0,0,null,0,0,0,"",0,1,0,null,null,0,0,{"$f":"0","v":0},null,"","",null,null,null,null,null,null,"","Пр/812-049.3-1","Пр/774-049.3","Электротехнические установки: на других объектах","Электротехнические установки: на других объектах",null,0,null,null,null,null,null,null,null,null,null,null,null,null,null,null,null,null,null,0]
[19,1,null,null,null,"","Если в спецификации есть \"Шина электротехническая алюминиевая\", то можем применить эту расценку. Но ее не пропустит Самозвон и Ефимова. ЭТУ РАСЦЕНКУ ПРИМЕНЯТЬ МОЖНО!!!","",null,null,null,null,null,null,null,null,null,null,null,null,null,null,null,null,null,null,1,null,null,null,null,null,null,null,null,null,null,null,null,null,null,null,null,null,null,null,null,null,null,null,null,null,null,null,null,null,null,null,null,null,null,null,null,null,null,null,null,null,null,null,null,null,null,null,null,null,null,null,null,null,null,null,null,null,null,null,null,null,null,null,null,null,null,null,null,null,null,null,null,null,null,null,null,null,null,null,null,null,null,null,null,null,null,null,null,null,null,null,null,null,null,null,null,null,null,null,null,null,null,null,null,null,null,null,null,null,null,null,null,null,null,null,null,null,null,null,null,null,null,null,null,null,null,null,null,null,null,null,null,null,null,null,null,null,null,null,null,null,null,null,null,null,null,null,null,null,null,null,null,null,null,null,null,null,null,null,null,null,null,null,null,null,null,null,null,null,null,null,null,null,null,null,null,null,null,null,null,null,null,null,null,null,null,null,null,null,null,null,null,null,null,null,null,null,null,null,null,null,null,null,null,null,null,null,null,null,null,null,null,null,null,null,null,null,0]
[17,1,{"$f":"ROW(SmtRes!A505)","v":505},{"$f":"ROW(EtalonRes!A505)","v":505},"","м08-03-505-01","Прокладка шин алюминиевых трехфазных сечением: до 360 мм2","100 м",0,0,0,1.4999999999999999E-2,1.4999999999999999E-2,{"$f":"ROUND(L226-M226,4)","v":0},{"$f":"ROUND(CP226,2)","v":0},{"$f":"SUMIF(SmtRes!AQ493:'SmtRes'!AQ505,\"=1\",SmtRes!DF493:'SmtRes'!DF505)","v":0},{"$f":"SUMIF(SmtRes!AQ493:'SmtRes'!AQ505,\"=1\",SmtRes!DG493:'SmtRes'!DG505)","v":0},{"$f":"SUMIF(SmtRes!AQ493:'SmtRes'!AQ505,\"=1\",SmtRes!DH493:'SmtRes'!DH505)","v":0},{"$f":"SUMIF(SmtRes!AQ493:'SmtRes'!AQ505,\"=1\",SmtRes!DI493:'SmtRes'!DI505)","v":0},{"$f":"ROUND(CU226*I226,2)","v":0},{"$f":"SUMIF(SmtRes!AQ493:'SmtRes'!AQ505,\"=1\",SmtRes!CV493:'SmtRes'!CV505)","v":0},{"$f":"SUMIF(SmtRes!AQ493:'SmtRes'!AQ505,\"=1\",SmtRes!CW493:'SmtRes'!CW505)","v":0},{"$f":"ROUND(CX226*I226,2)","v":0},{"$f":"ROUND(CY226,2)","v":0},0,null,-1,{"$f":"ROUND((AC226+AD226+AF226),2)","v":112582.91},{"$f":"ROUND((SUM(SmtRes!BQ493:'SmtRes'!BQ505)),2)","v":3688.82},{"$f":"ROUND((((SUM(SmtRes!BR493:'SmtRes'!BR505))-(SUM(SmtRes!BS493:'SmtRes'!BS505)))+AE226),2)","v":22784.03},{"$f":"ROUND((SUM(SmtRes!BS493:'SmtRes'!BS505)),2)","v":17879.349999999999},{"$f":"ROUND((SUM(SmtRes!BT493:'SmtRes'!BT505)),2)","v":86110.06},{"$f":"ROUND((AP226),2)","v":0},{"$f":"(SUM(SmtRes!BU493:'SmtRes'!BU505))","v":103},{"$f":"(SUM(SmtRes!BV493:'SmtRes'!BV505))","v":20.65},{"$f":"(AS226)","v":0},130462.2589929,3688.8233929000003,22784.027299999998,17879.348300000001,86110.06,0,103,20.65,0,97,51,1,1,null,null,1,1,1,1,"","","","",0,2,"ГЭСНм-2022 доп.6, м08-03-505-01, приказ Минстроя России от 11.05.2023 г. № 335/пр",null,null,108001,0,"",0,3,0,1,1,1,1,1,1,"",97,51,"",null,null,0,0,0,0,0,0,0,0,0,"",0,{"$f":"(P226+Q226+S226+R226)","v":0},{"$f":"SUMIF(SmtRes!AQ493:'SmtRes'!AQ505,\"=1\",SmtRes!AA493:'SmtRes'!AA505)","v":384709.07},{"$f":"SUMIF(SmtRes!AQ493:'SmtRes'!AQ505,\"=1\",SmtRes!AB493:'SmtRes'!AB505)","v":4845.71},{"$f":"SUMIF(SmtRes!AQ493:'SmtRes'!AQ505,\"=1\",SmtRes!AC493:'SmtRes'!AC505)","v":4458.78},{"$f":"SUMIF(SmtRes!AQ493:'SmtRes'!AQ505,\"=1\",SmtRes!AD493:'SmtRes'!AD505)","v":836.02},{"$f":"AG226","v":0},{"$f":"SUMIF(SmtRes!AQ493:'SmtRes'!AQ505,\"=1\",SmtRes!BU493:'SmtRes'!BU505)","v":103},{"$f":"SUMIF(SmtRes!AQ493:'SmtRes'!AQ505,\"=1\",SmtRes!BV493:'SmtRes'!BV505)","v":20.65},{"$f":"AJ226","v":0},{"$f":"(((S226+R226)*AT226)/100)","v":0},{"$f":"(((S226+R226)*AU226)/100)","v":0},null,null,"","","","","","","","","","","",0,0,1,1,null,null,null,1003,"100 м","100 м",100,null,"","","","",null,83666702,3,"Монтажные работы",0,"",2,108001,"Электротехнические установки: на других объектах","мФЕР-08",null,"",null,132096,0,0,0,0,0,103,20.65,0,null,null,null,null,null,null,null,null,null,null,null,null,null,null,null,null,null,0,0,0,null,null,null,null,97,51,null,"",null,null,1,null,1258992133,2,1,-2,0,0,{"$f":"ROUND(IF(AND(BH226=3,BI226=3,FS226<>0),P226,0),2)","v":0},{"$f":"ROUND(O226+X226+Y226,2)+GX226","v":0},{"$f":"IF(OR(BI226=0,BI226=1),GM226-GX226,0)","v":0},{"$f":"IF(BI226=2,GM226-GX226,0)","v":0},{"$f":"IF(BI226=4,GM226-GX226,0)","v":0},null,0,0,0,"",{"$f":"ROUND((GT226),2)","v":0},1,{"$f":"ROUND(HC226*I226,2)","v":0},null,null,0,0,{"$f":"GV226*GW226","v":0},null,"","",null,null,null,null,null,null,"","Пр/812-049.3-1","Пр/774-049.3","Электротехнические установки: на других объектах","Электротехнические установки: на других объектах",null,0,null,null,null,null,null,null,null,null,null,null,null,null,null,null,null,null,null,0]
[17,1,{"$f":"ROW(SmtRes!A518)","v":518},{"$f":"ROW(EtalonRes!A518)","v":518},"","м08-03-505-01","Прокладка шин алюминиевых трехфазных сечением: до 360 мм2","100 м",0,0,0,1.4999999999999999E-2,1.4999999999999999E-2,{"$f":"ROUND(L227-M227,4)","v":0},{"$f":"ROUND(CP227,2)","v":0},{"$f":"SUMIF(SmtRes!AQ506:'SmtRes'!AQ518,\"=1\",SmtRes!DF506:'SmtRes'!DF518)","v":0},{"$f":"SUMIF(SmtRes!AQ506:'SmtRes'!AQ518,\"=1\",SmtRes!DG506:'SmtRes'!DG518)","v":0},{"$f":"SUMIF(SmtRes!AQ506:'SmtRes'!AQ518,\"=1\",SmtRes!DH506:'SmtRes'!DH518)","v":0},{"$f":"SUMIF(SmtRes!AQ506:'SmtRes'!AQ518,\"=1\",SmtRes!DI506:'SmtRes'!DI518)","v":0},{"$f":"ROUND(CU227*I227,2)","v":0},{"$f":"SUMIF(SmtRes!AQ506:'SmtRes'!AQ518,\"=1\",SmtRes!CV506:'SmtRes'!CV518)","v":0},{"$f":"SUMIF(SmtRes!AQ506:'SmtRes'!AQ518,\"=1\",SmtRes!CW506:'SmtRes'!CW518)","v":0},{"$f":"ROUND(CX227*I227,2)","v":0},0,0,null,-1,{"$f":"ROUND((AC227+AD227+AF227),2)","v":112582.91},{"$f":"ROUND((SUM(SmtRes!BQ506:'SmtRes'!BQ518)),2)","v":3688.82},{"$f":"ROUND((((SUM(SmtRes!BR506:'SmtRes'!BR518))-(SUM(SmtRes!BS506:'SmtRes'!BS518)))+AE227),2)","v":22784.03},{"$f":"ROUND((SUM(SmtRes!BS506:'SmtRes'!BS518)),2)","v":17879.349999999999},{"$f":"ROUND((SUM(SmtRes!BT506:'SmtRes'!BT518)),2)","v":86110.06},{"$f":"ROUND((AP227),2)","v":0},{"$f":"(SUM(SmtRes!BU506:'SmtRes'!BU518))","v":103},{"$f":"(SUM(SmtRes!BV506:'SmtRes'!BV518))","v":20.65},{"$f":"(AS227)","v":0},130462.2589929,3688.8233929000003,22784.027299999998,17879.348300000001,86110.06,0,103,20.65,0,97,51,1,1,null,null,1,1,1,1,"","","","",0,2,"ГЭСНм-2022 доп.6, м08-03-505-01, приказ Минстроя России от 11.05.2023 г. № 335/пр",null,null,108001,0,"",0,3,0,1,1,1,1,1,1,"",97,51,"",null,null,0,0,0,0,0,0,0,0,0,"",0,{"$f":"(P227+Q227+S227+R227)","v":0},{"$f":"SUMIF(SmtRes!AQ506:'SmtRes'!AQ518,\"=1\",SmtRes!AA506:'SmtRes'!AA518)","v":384709.07},{"$f":"SUMIF(SmtRes!AQ506:'SmtRes'!AQ518,\"=1\",SmtRes!AB506:'SmtRes'!AB518)","v":4845.71},{"$f":"SUMIF(SmtRes!AQ506:'SmtRes'!AQ518,\"=1\",SmtRes!AC506:'SmtRes'!AC518)","v":4458.78},{"$f":"SUMIF(SmtRes!AQ506:'SmtRes'!AQ518,\"=1\",SmtRes!AD506:'SmtRes'!AD518)","v":836.02},{"$f":"AG227","v":0},{"$f":"SUMIF(SmtRes!AQ506:'SmtRes'!AQ518,\"=1\",SmtRes!BU506:'SmtRes'!BU518)","v":103},{"$f":"SUMIF(SmtRes!AQ506:'SmtRes'!AQ518,\"=1\",SmtRes!BV506:'SmtRes'!BV518)","v":20.65},{"$f":"AJ227","v":0},{"$f":"(((S227+R227)*AT227)/100)","v":0},{"$f":"(((S227+R227)*AU227)/100)","v":0},null,null,"","","","","","","","","","","",0,0,1,1,null,null,null,1003,"100 м","100 м",100,null,"","","","",null,83666702,3,"Монтажные работы",0,"",2,108001,"Электротехнические установки: на других объектах","мФЕР-08",null,"",null,132096,0,0,0,0,0,103,20.65,0,null,null,null,null,null,null,null,null,null,null,null,null,null,null,null,null,null,0,0,0,null,null,null,null,97,51,null,"",null,null,1,null,1258992133,2,1,-2,0,0,{"$f":"ROUND(IF(AND(BH227=3,BI227=3,FS227<>0),P227,0),2)","v":0},{"$f":"ROUND(O227+X227+Y227,2)+GX227","v":0},{"$f":"IF(OR(BI227=0,BI227=1),GM227-GX227,0)","v":0},{"$f":"IF(BI227=2,GM227-GX227,0)","v":0},{"$f":"IF(BI227=4,GM227-GX227,0)","v":0},null,0,0,0,"",{"$f":"ROUND((GT227),2)","v":0},1,{"$f":"ROUND(HC227*I227,2)","v":0},null,null,0,0,{"$f":"GV227*GW227","v":0},null,"","",null,null,null,null,null,null,"","Пр/812-049.3-1","Пр/774-049.3","Электротехнические установки: на других объектах","Электротехнические установки: на других объектах",null,0,null,null,null,null,null,null,null,null,null,null,null,null,null,null,null,null,null,0]
[18,1,505,null,"","421/пр_2020_п.75_пп.а","Сметная стоимость вспомогательных ненормируемых материальных ресурсов, не учтенная в сметной норме, 2%","%",{"$f":"J228","v":2},2,2,0.03,0.03,{"$f":"ROUND(L228-M228,4)","v":0},{"$f":"ROUND(P228,2)","v":0},{"$f":"ROUND(ROUND(ROUND(SUMIF(SmtRes!AQ506:'SmtRes'!AQ518,\"=1\",SmtRes!CU506:'SmtRes'!CU518),2),2)*I228/100,2)","v":0},{"$f":"ROUND(CR228*I228,2)","v":0},{"$f":"ROUND(CS228*I228,2)","v":0},{"$f":"ROUND(CT228*I228,2)","v":0},{"$f":"ROUND(CU228*I228,2)","v":0},{"$f":"ROUND(CV228*I228,7)","v":0},{"$f":"ROUND(CW228*I228,7)","v":0},{"$f":"ROUND(CX228*I228,2)","v":0},0,0,null,-1,{"$f":"ROUND((AC228+AD228+AF228),2)","v":0},{"$f":"ROUND((ES228),2)","v":0},{"$f":"ROUND((((ET228)-(EU228))+AE228),2)","v":0},{"$f":"ROUND((EU228),2)","v":0},{"$f":"ROUND((EV228),2)","v":0},{"$f":"ROUND((AP228),2)","v":0},{"$f":"(EW228)","v":0},{"$f":"(EX228)","v":0},{"$f":"(AS228)","v":0},0,0,0,0,0,0,0,0,0,97,51,1,1,null,null,1,1,1,1,"","","","",3,2,"",null,null,108001,0,"",0,3,0,1,1,1,1,1,1,"",97,51,"",null,null,0,0,0,0,0,0,0,0,0,"",0,{"$f":"0","v":0},{"$f":"0","v":0},{"$f":"0","v":0},{"$f":"0","v":0},{"$f":"0","v":0},{"$f":"0","v":0},{"$f":"0","v":0},{"$f":"0","v":0},{"$f":"0","v":0},{"$f":"0","v":0},{"$f":"0","v":0},null,null,"","","","","","","","","","","",0,0,1,1,null,null,null,1013,"%","%",1,null,"","","","",null,83666702,3,"Монтажные работы",0,"",2,108001,"Электротехнические установки: на других объектах","мФЕР-08",null,"",null,1024,0,0,0,0,0,0,0,null,null,null,null,null,null,null,null,null,null,null,null,null,null,null,null,null,null,0,0,0,null,null,null,null,97,51,null,"",null,null,1,null,274903907,2,1,-2,0,0,{"$f":"ROUND(IF(AND(BH228=3,BI228=3,FS228<>0),P228,0),2)","v":0},{"$f":"ROUND(O228+X228+Y228,2)+GX228","v":0},{"$f":"IF(OR(BI228=0,BI228=1),GM228-GX228,0)","v":0},{"$f":"IF(BI228=2,GM228-GX228,0)","v":0},{"$f":"IF(BI228=4,GM228-GX228,0)","v":0},null,0,0,0,"",{"$f":"ROUND((GT228),2)","v":0},1,{"$f":"ROUND(HC228*I228,2)","v":0},null,null,0,0,{"$f":"0","v":0},null,"","",null,null,null,null,null,null,"","Пр/812-049.3-1","Пр/774-049.3","Электротехнические установки: на других объектах","Электротехнические установки: на других объектах",null,0,null,null,null,null,null,null,null,null,null,null,null,null,null,null,null,null,null,0]
[18,1,518,null,"","421/пр_2020_п.75_пп.а","Сметная стоимость вспомогательных ненормируемых материальных ресурсов, не учтенная в сметной норме, 2%","%",{"$f":"J229","v":2},2,2,0.03,0.03,{"$f":"ROUND(L229-M229,4)","v":0},{"$f":"ROUND(P229,2)","v":0},{"$f":"ROUND(ROUND(ROUND(SUMIF(SmtRes!AQ506:'SmtRes'!AQ518,\"=1\",SmtRes!CU506:'SmtRes'!CU518),2),2)*I229/100,2)","v":0},{"$f":"ROUND(CR229*I229,2)","v":0},{"$f":"ROUND(CS229*I229,2)","v":0},{"$f":"ROUND(CT229*I229,2)","v":0},{"$f":"ROUND(CU229*I229,2)","v":0},{"$f":"ROUND(CV229*I229,7)","v":0},{"$f":"ROUND(CW229*I229,7)","v":0},{"$f":"ROUND(CX229*I229,2)","v":0},0,0,null,-1,{"$f":"ROUND((AC229+AD229+AF229),2)","v":0},{"$f":"ROUND((ES229),2)","v":0},{"$f":"ROUND((((ET229)-(EU229))+AE229),2)","v":0},{"$f":"ROUND((EU229),2)","v":0},{"$f":"ROUND((EV229),2)","v":0},{"$f":"ROUND((AP229),2)","v":0},{"$f":"(EW229)","v":0},{"$f":"(EX229)","v":0},{"$f":"(AS229)","v":0},0,0,0,0,0,0,0,0,0,97,51,1,1,null,null,1,1,1,1,"","","","",3,2,"",null,null,108001,0,"",0,3,0,1,1,1,1,1,1,"",97,51,"",null,null,0,0,0,0,0,0,0,0,0,"",0,{"$f":"0","v":0},{"$f":"0","v":0},{"$f":"0","v":0},{"$f":"0","v":0},{"$f":"0","v":0},{"$f":"0","v":0},{"$f":"0","v":0},{"$f":"0","v":0},{"$f":"0","v":0},{"$f":"0","v":0},{"$f":"0","v":0},null,null,"","","","","","","","","","","",0,0,1,1,null,null,null,1013,"%","%",1,null,"","","","",null,83666702,3,"Монтажные работы",0,"",2,108001,"Электротехнические установки: на других объектах","мФЕР-08",null,"",null,1024,0,0,0,0,0,0,0,null,null,null,null,null,null,null,null,null,null,null,null,null,null,null,null,null,null,0,0,0,null,null,null,null,97,51,null,"",null,null,1,null,274903907,2,1,-2,0,0,{"$f":"ROUND(IF(AND(BH229=3,BI229=3,FS229<>0),P229,0),2)","v":0},{"$f":"ROUND(O229+X229+Y229,2)+GX229","v":0},{"$f":"IF(OR(BI229=0,BI229=1),GM229-GX229,0)","v":0},{"$f":"IF(BI229=2,GM229-GX229,0)","v":0},{"$f":"IF(BI229=4,GM229-GX229,0)","v":0},null,0,0,0,"",{"$f":"ROUND((GT229),2)","v":0},1,{"$f":"ROUND(HC229*I229,2)","v":0},null,null,0,0,{"$f":"0","v":0},null,"","",null,null,null,null,null,null,"","Пр/812-049.3-1","Пр/774-049.3","Электротехнические установки: на других объектах","Электротехнические установки: на других объектах",null,0,null,null,null,null,null,null,null,null,null,null,null,null,null,null,null,null,null,0]
[19,1,null,null,null,"","Если в спецификации есть \"Шина электротехническая алюминиевая\", то можем применить эту расценку. Но ее не пропустит Самозвон и Ефимова. И эту расценку НЕ ПРИМЕНЯЕМ, т.к. она относится к транспорту!!!","",null,null,null,null,null,null,null,null,null,null,null,null,null,null,null,null,null,null,1,null,null,null,null,null,null,null,null,null,null,null,null,null,null,null,null,null,null,null,null,null,null,null,null,null,null,null,null,null,null,null,null,null,null,null,null,null,null,null,null,null,null,null,null,null,null,null,null,null,null,null,null,null,null,null,null,null,null,null,null,null,null,null,null,null,null,null,null,null,null,null,null,null,null,null,null,null,null,null,null,null,null,null,null,null,null,null,null,null,null,null,null,null,null,null,null,null,null,null,null,null,null,null,null,null,null,null,null,null,null,null,null,null,null,null,null,null,null,null,null,null,null,null,null,null,null,null,null,null,null,null,null,null,null,null,null,null,null,null,null,null,null,null,null,null,null,null,null,null,null,null,null,null,null,null,null,null,null,null,null,null,null,null,null,null,null,null,null,null,null,null,null,null,null,null,null,null,null,null,null,null,null,null,null,null,null,null,null,null,null,null,null,null,null,null,null,null,null,null,null,null,null,null,null,null,null,null,null,null,null,null,null,null,null,null,null,null,0]
[17,1,{"$f":"ROW(SmtRes!A533)","v":533},{"$f":"ROW(EtalonRes!A533)","v":533},"","33-04-030-03","Установка разъединителей: с помощью механизмов","КОМПЛ",0,0,0,1,1,{"$f":"ROUND(L231-M231,4)","v":0},{"$f":"ROUND(CP231,2)","v":0},{"$f":"SUMIF(SmtRes!AQ519:'SmtRes'!AQ533,\"=1\",SmtRes!DF519:'SmtRes'!DF533)","v":0},{"$f":"SUMIF(SmtRes!AQ519:'SmtRes'!AQ533,\"=1\",SmtRes!DG519:'SmtRes'!DG533)","v":0},{"$f":"SUMIF(SmtRes!AQ519:'SmtRes'!AQ533,\"=1\",SmtRes!DH519:'SmtRes'!DH533)","v":0},{"$f":"SUMIF(SmtRes!AQ519:'SmtRes'!AQ533,\"=1\",SmtRes!DI519:'SmtRes'!DI533)","v":0},{"$f":"ROUND(CU231*I231,2)","v":0},{"$f":"SUMIF(SmtRes!AQ519:'SmtRes'!AQ533,\"=1\",SmtRes!CV519:'SmtRes'!CV533)","v":0},{"$f":"SUMIF(SmtRes!AQ519:'SmtRes'!AQ533,\"=1\",SmtRes!CW519:'SmtRes'!CW533)","v":0},{"$f":"ROUND(CX231*I231,2)","v":0},{"$f":"ROUND(CY231,2)","v":0},{"$f":"ROUND(CZ231,2)","v":0},null,-1,{"$f":"ROUND((AC231+AD231+AF231),2)","v":7568.79},{"$f":"ROUND((SUM(SmtRes!BQ519:'SmtRes'!BQ533)),2)","v":20.54},{"$f":"ROUND((((SUM(SmtRes!BR519:'SmtRes'!BR533))-(SUM(SmtRes!BS519:'SmtRes'!BS533)))+AE231),2)","v":1255.1300000000001},{"$f":"ROUND((SUM(SmtRes!BS519:'SmtRes'!BS533)),2)","v":998.01},{"$f":"ROUND((SUM(SmtRes!BT519:'SmtRes'!BT533)),2)","v":6293.12},{"$f":"ROUND((AP231),2)","v":0},{"$f":"(SUM(SmtRes!BU519:'SmtRes'!BU533))","v":7.42},{"$f":"(SUM(SmtRes!BV519:'SmtRes'!BV533))","v":1.02},{"$f":"(AS231)","v":0},8566.8080979999995,20.535097999999998,1255.1338999999998,998.0145,6293.1246000000001,0,7.42,1.02,0,103,60,1,1,null,null,1,1,1,1,"","","","",0,1,"ГЭСН-2022, 33-04-030-03, приказ Минстроя России от 18.05.2022 г. № 378/пр",null,null,33001,0,"",0,2,0,1,1,1,1,1,1,"",103,60,"",null,null,0,0,0,0,0,0,0,0,0,"",0,{"$f":"(P231+Q231+S231+R231)","v":0},{"$f":"SUMIF(SmtRes!AQ519:'SmtRes'!AQ533,\"=1\",SmtRes!AA519:'SmtRes'!AA533)","v":103875.04000000001},{"$f":"SUMIF(SmtRes!AQ519:'SmtRes'!AQ533,\"=1\",SmtRes!AB519:'SmtRes'!AB533)","v":2267.9899999999998},{"$f":"SUMIF(SmtRes!AQ519:'SmtRes'!AQ533,\"=1\",SmtRes!AC519:'SmtRes'!AC533)","v":1902.25},{"$f":"SUMIF(SmtRes!AQ519:'SmtRes'!AQ533,\"=1\",SmtRes!AD519:'SmtRes'!AD533)","v":848.13},{"$f":"AG231","v":0},{"$f":"SUMIF(SmtRes!AQ519:'SmtRes'!AQ533,\"=1\",SmtRes!BU519:'SmtRes'!BU533)","v":7.42},{"$f":"SUMIF(SmtRes!AQ519:'SmtRes'!AQ533,\"=1\",SmtRes!BV519:'SmtRes'!BV533)","v":1.02},{"$f":"AJ231","v":0},{"$f":"(((S231+R231)*AT231)/100)","v":0},{"$f":"(((S231+R231)*AU231)/100)","v":0},null,null,"","","","","","","","","","","",0,0,1,1,null,null,null,1013,"КОМПЛ","КОМПЛ",1,null,"","","","",null,83666879,2,"Общестроительные работы",27,"Линии электропередачи",1,33001,"Линии электропередачи","ФЕР-33",null,"",null,132096,0,0,0,0,0,7.42,1.02,0,null,null,null,null,null,null,null,null,null,null,null,null,null,null,null,null,null,0,0,0,null,null,null,null,103,60,null,"",null,null,1,null,-1310870747,2,1,-2,0,0,{"$f":"ROUND(IF(AND(BH231=3,BI231=3,FS231<>0),P231,0),2)","v":0},{"$f":"ROUND(O231+X231+Y231,2)+GX231","v":0},{"$f":"IF(OR(BI231=0,BI231=1),GM231-GX231,0)","v":0},{"$f":"IF(BI231=2,GM231-GX231,0)","v":0},{"$f":"IF(BI231=4,GM231-GX231,0)","v":0},null,0,0,0,"",{"$f":"ROUND((GT231),2)","v":0},1,{"$f":"ROUND(HC231*I231,2)","v":0},null,null,0,0,{"$f":"GV231*GW231","v":0},null,"","",null,null,null,null,null,null,"","Пр/812-027.0-1","Пр/774-027.0","Линии электропередачи","Линии электропередачи",null,0,null,null,null,null,null,null,null,null,null,null,null,null,null,null,null,null,null,0]
[17,1,{"$f":"ROW(SmtRes!A548)","v":548},{"$f":"ROW(EtalonRes!A548)","v":548},"","33-04-030-03","Установка разъединителей: с помощью механизмов","КОМПЛ",0,0,0,1,1,{"$f":"ROUND(L232-M232,4)","v":0},{"$f":"ROUND(CP232,2)","v":0},{"$f":"SUMIF(SmtRes!AQ534:'SmtRes'!AQ548,\"=1\",SmtRes!DF534:'SmtRes'!DF548)","v":0},{"$f":"SUMIF(SmtRes!AQ534:'SmtRes'!AQ548,\"=1\",SmtRes!DG534:'SmtRes'!DG548)","v":0},{"$f":"SUMIF(SmtRes!AQ534:'SmtRes'!AQ548,\"=1\",SmtRes!DH534:'SmtRes'!DH548)","v":0},{"$f":"SUMIF(SmtRes!AQ534:'SmtRes'!AQ548,\"=1\",SmtRes!DI534:'SmtRes'!DI548)","v":0},{"$f":"ROUND(CU232*I232,2)","v":0},{"$f":"SUMIF(SmtRes!AQ534:'SmtRes'!AQ548,\"=1\",SmtRes!CV534:'SmtRes'!CV548)","v":0},{"$f":"SUMIF(SmtRes!AQ534:'SmtRes'!AQ548,\"=1\",SmtRes!CW534:'SmtRes'!CW548)","v":0},{"$f":"ROUND(CX232*I232,2)","v":0},{"$f":"ROUND(CY232,2)","v":0},{"$f":"ROUND(CZ232,2)","v":0},null,-1,{"$f":"ROUND((AC232+AD232+AF232),2)","v":7568.79},{"$f":"ROUND((SUM(SmtRes!BQ534:'SmtRes'!BQ548)),2)","v":20.54},{"$f":"ROUND((((SUM(SmtRes!BR534:'SmtRes'!BR548))-(SUM(SmtRes!BS534:'SmtRes'!BS548)))+AE232),2)","v":1255.1300000000001},{"$f":"ROUND((SUM(SmtRes!BS534:'SmtRes'!BS548)),2)","v":998.01},{"$f":"ROUND((SUM(SmtRes!BT534:'SmtRes'!BT548)),2)","v":6293.12},{"$f":"ROUND((AP232),2)","v":0},{"$f":"(SUM(SmtRes!BU534:'SmtRes'!BU548))","v":7.42},{"$f":"(SUM(SmtRes!BV534:'SmtRes'!BV548))","v":1.02},{"$f":"(AS232)","v":0},8566.8080979999995,20.535097999999998,1255.1338999999998,998.0145,6293.1246000000001,0,7.42,1.02,0,103,60,1,1,null,null,1,1,1,1,"","","","",0,1,"ГЭСН-2022, 33-04-030-03, приказ Минстроя России от 18.05.2022 г. № 378/пр",null,null,33001,0,"",0,2,0,1,1,1,1,1,1,"",103,60,"",null,null,0,0,0,0,0,0,0,0,0,"",0,{"$f":"(P232+Q232+S232+R232)","v":0},{"$f":"SUMIF(SmtRes!AQ534:'SmtRes'!AQ548,\"=1\",SmtRes!AA534:'SmtRes'!AA548)","v":103875.04000000001},{"$f":"SUMIF(SmtRes!AQ534:'SmtRes'!AQ548,\"=1\",SmtRes!AB534:'SmtRes'!AB548)","v":2267.9899999999998},{"$f":"SUMIF(SmtRes!AQ534:'SmtRes'!AQ548,\"=1\",SmtRes!AC534:'SmtRes'!AC548)","v":1902.25},{"$f":"SUMIF(SmtRes!AQ534:'SmtRes'!AQ548,\"=1\",SmtRes!AD534:'SmtRes'!AD548)","v":848.13},{"$f":"AG232","v":0},{"$f":"SUMIF(SmtRes!AQ534:'SmtRes'!AQ548,\"=1\",SmtRes!BU534:'SmtRes'!BU548)","v":7.42},{"$f":"SUMIF(SmtRes!AQ534:'SmtRes'!AQ548,\"=1\",SmtRes!BV534:'SmtRes'!BV548)","v":1.02},{"$f":"AJ232","v":0},{"$f":"(((S232+R232)*AT232)/100)","v":0},{"$f":"(((S232+R232)*AU232)/100)","v":0},null,null,"","","","","","","","","","","",0,0,1,1,null,null,null,1013,"КОМПЛ","КОМПЛ",1,null,"","","","",null,83666879,2,"Общестроительные работы",27,"Линии электропередачи",1,33001,"Линии электропередачи","ФЕР-33",null,"",null,132096,0,0,0,0,0,7.42,1.02,0,null,null,null,null,null,null,null,null,null,null,null,null,null,null,null,null,null,0,0,0,null,null,null,null,103,60,null,"",null,null,1,null,-1310870747,2,1,-2,0,0,{"$f":"ROUND(IF(AND(BH232=3,BI232=3,FS232<>0),P232,0),2)","v":0},{"$f":"ROUND(O232+X232+Y232,2)+GX232","v":0},{"$f":"IF(OR(BI232=0,BI232=1),GM232-GX232,0)","v":0},{"$f":"IF(BI232=2,GM232-GX232,0)","v":0},{"$f":"IF(BI232=4,GM232-GX232,0)","v":0},null,0,0,0,"",{"$f":"ROUND((GT232),2)","v":0},1,{"$f":"ROUND(HC232*I232,2)","v":0},null,null,0,0,{"$f":"GV232*GW232","v":0},null,"","",null,null,null,null,null,null,"","Пр/812-027.0-1","Пр/774-027.0","Линии электропередачи","Линии электропередачи",null,0,null,null,null,null,null,null,null,null,null,null,null,null,null,null,null,null,null,0]
[19,1,null,null,null,"","По ВОР \"Установка РЛР\"","",null,null,null,null,null,null,null,null,null,null,null,null,null,null,null,null,null,null,1,null,null,null,null,null,null,null,null,null,null,null,null,null,null,null,null,null,null,null,null,null,null,null,null,null,null,null,null,null,null,null,null,null,null,null,null,null,null,null,null,null,null,null,null,null,null,null,null,null,null,null,null,null,null,null,null,null,null,null,null,null,null,null,null,null,null,null,null,null,null,null,null,null,null,null,null,null,null,null,null,null,null,null,null,null,null,null,null,null,null,null,null,null,null,null,null,null,null,null,null,null,null,null,null,null,null,null,null,null,null,null,null,null,null,null,null,null,null,null,null,null,null,null,null,null,null,null,null,null,null,null,null,null,null,null,null,null,null,null,null,null,null,null,null,null,null,null,null,null,null,null,null,null,null,null,null,null,null,null,null,null,null,null,null,null,null,null,null,null,null,null,null,null,null,null,null,null,null,null,null,null,null,null,null,null,null,null,null,null,null,null,null,null,null,null,null,null,null,null,null,null,null,null,null,null,null,null,null,null,null,null,null,null,null,null,null,null,0]
[18,1,525,null,"","01.7.15.03-0042","Болты с гайками и шайбами строительные","кг",{"$f":"I231*J234","v":0},0,0,0,0,{"$f":"ROUND(L234-M234,4)","v":0},{"$f":"ROUND(CP234,2)","v":0},{"$f":"ROUND(CQ234*I234,2)","v":0},{"$f":"ROUND(CR234*I234,2)","v":0},{"$f":"ROUND(CS234*I234,2)","v":0},{"$f":"ROUND(CT234*I234,2)","v":0},{"$f":"ROUND(CU234*I234,2)","v":0},{"$f":"ROUND(CV234*I234,7)","v":0},{"$f":"ROUND(CW234*I234,7)","v":0},{"$f":"ROUND(CX234*I234,2)","v":0},{"$f":"ROUND(CY234,2)","v":0},{"$f":"ROUND(CZ234,2)","v":0},null,-1,{"$f":"ROUND((AC234+AD234+AF234),2)","v":174.93},{"$f":"ROUND((ES234),2)","v":174.93},{"$f":"ROUND((((ET234)-(EU234))+AE234),2)","v":0},{"$f":"ROUND((EU234),2)","v":0},{"$f":"ROUND((EV234),2)","v":0},{"$f":"ROUND((AP234),2)","v":0},{"$f":"(EW234)","v":0},{"$f":"(EX234)","v":0},{"$f":"(AS234)","v":0},174.93,174.93,0,0,0,0,0,0,0,103,60,1,1,null,null,1,1,1,1.08,"","","","",3,1,"ФСБЦ-2022, 01.7.15.03-0042, приказ Минстроя России от 18.05.2022 г. № 378/пр",null,null,33001,0,"01.7.15.03-0042",1,2,0,1,1,1,1,1,1,"",103,60,"",null,null,0,0,0,0,0,0,0,0,0,"",0,{"$f":"(P234+Q234+S234+R234)","v":0},{"$f":"ROUND(AL234*BC234,2)","v":188.92},{"$f":"ROUND(AM234*BB234,2)","v":0},{"$f":"ROUND(AN234*BS234,2)","v":0},{"$f":"ROUND(AO234*BA234,2)","v":0},{"$f":"AG234","v":0},{"$f":"AH234","v":0},{"$f":"AI234","v":0},{"$f":"AJ234","v":0},{"$f":"(((S234+R234)*AT234)/100)","v":0},{"$f":"(((S234+R234)*AU234)/100)","v":0},null,null,"","","","","","","","","","","",0,0,1,1,null,null,null,1009,"кг","кг",1,null,"","","","",null,83666879,2,"Общестроительные работы",27,"Линии электропередачи",1,33001,"Линии электропередачи","ФЕР-33",null,"",null,1024,174.93,174.93,0,0,0,0,0,null,null,null,null,null,null,null,null,null,null,null,null,null,null,null,null,null,null,0,0,0,null,null,null,null,103,60,null,"",null,null,1,null,1181962216,2,1,2,0,0,{"$f":"ROUND(IF(AND(BH234=3,BI234=3,FS234<>0),P234,0),2)","v":0},{"$f":"ROUND(O234+X234+Y234,2)+GX234","v":0},{"$f":"IF(OR(BI234=0,BI234=1),GM234-GX234,0)","v":0},{"$f":"IF(BI234=2,GM234-GX234,0)","v":0},{"$f":"IF(BI234=4,GM234-GX234,0)","v":0},null,0,0,0,"",{"$f":"ROUND((GT234),2)","v":0},1,{"$f":"ROUND(HC234*I234,2)","v":0},null,null,0,0,{"$f":"GV234*GW234","v":0},null,"","",null,null,null,null,null,null,"","Пр/812-027.0-1","Пр/774-027.0","Линии электропередачи","Линии электропередачи",null,0,null,null,null,null,null,null,null,null,null,null,null,null,null,null,null,null,null,0]
[18,1,540,null,"","01.7.15.03-0042","Болты с гайками и шайбами строительные","кг",{"$f":"I232*J235","v":0},0,0,0,0,0,0,0,0,0,0,0,0,0,0,0,0,null,-1,174.93,174.93,0,0,0,0,0,0,0,174.93,174.93,0,0,0,0,0,0,0,103,60,1,1,null,null,1,1,1,1.08,"","","","",3,1,"ФСБЦ-2022, 01.7.15.03-0042, приказ Минстроя России от 18.05.2022 г. № 378/пр",null,null,33001,0,"01.7.15.03-0042",1,2,0,1,1,1,1,1,1,"",103,60,"",null,null,0,0,0,0,0,0,0,0,0,"",0,0,188.92,0,0,0,0,0,0,0,0,0,null,null,"","","","","","","","","","","",0,0,1,1,null,null,null,1009,"кг","кг",1,null,"","","","",null,83666879,2,"Общестроительные работы",27,"Линии электропередачи",1,33001,"Линии электропередачи","ФЕР-33",null,"",null,1024,174.93,174.93,0,0,0,0,0,null,null,null,null,null,null,null,null,null,null,null,null,null,null,null,null,null,null,0,0,0,null,null,null,null,103,60,null,"",null,null,1,null,1181962216,2,1,2,0,0,0,0,0,0,0,null,0,0,0,"",0,1,0,null,null,0,0,0,null,"","",null,null,null,null,null,null,"","Пр/812-027.0-1","Пр/774-027.0","Линии электропередачи","Линии электропередачи",null,0,null,null,null,null,null,null,null,null,null,null,null,null,null,null,null,null,null,0]
[18,1,527,null,"","07.2.07.13","Хомуты стальные","кг",{"$f":"I231*J236","v":0},0,0,0,0,0,0,0,0,0,0,0,0,0,0,0,0,null,-1,0,0,0,0,0,0,0,0,0,0,0,0,0,0,0,0,0,0,103,60,1,1,null,null,1,1,1,1,"","","","",3,1,"",null,null,33001,0,"",0,2,0,1,1,1,1,1,1,"",103,60,"",null,null,0,0,0,0,0,0,0,0,0,"",0,0,0,0,0,0,0,0,0,0,0,0,null,null,"","","","","","","","","","","",0,0,1,1,null,null,null,1009,"кг","кг",1,null,"","","","",null,83666879,2,"Общестроительные работы",27,"Линии электропередачи",1,33001,"Линии электропередачи","ФЕР-33",null,"",null,1024,0,0,0,0,0,0,0,null,null,null,null,null,null,null,null,null,null,null,null,null,null,null,null,null,null,0,0,0,null,null,null,null,103,60,null,"",null,null,1,null,-1111733769,2,1,-2,0,0,0,0,0,0,0,null,0,0,0,"",0,1,0,null,null,0,0,0,null,"","",null,null,null,null,null,null,"","Пр/812-027.0-1","Пр/774-027.0","Линии электропередачи","Линии электропередачи",null,0,null,null,null,null,null,null,null,null,null,null,null,null,null,null,null,null,null,0]
[18,1,542,null,"","07.2.07.13","Хомуты стальные","кг",{"$f":"I232*J237","v":0},0,0,0,0,0,0,0,0,0,0,0,0,0,0,0,0,null,-1,0,0,0,0,0,0,0,0,0,0,0,0,0,0,0,0,0,0,103,60,1,1,null,null,1,1,1,1,"","","","",3,1,"",null,null,33001,0,"",0,2,0,1,1,1,1,1,1,"",103,60,"",null,null,0,0,0,0,0,0,0,0,0,"",0,0,0,0,0,0,0,0,0,0,0,0,null,null,"","","","","","","","","","","",0,0,1,1,null,null,null,1009,"кг","кг",1,null,"","","","",null,83666879,2,"Общестроительные работы",27,"Линии электропередачи",1,33001,"Линии электропередачи","ФЕР-33",null,"",null,1024,0,0,0,0,0,0,0,null,null,null,null,null,null,null,null,null,null,null,null,null,null,null,null,null,null,0,0,0,null,null,null,null,103,60,null,"",null,null,1,null,-1111733769,2,1,-2,0,0,0,0,0,0,0,null,0,0,0,"",0,1,0,null,null,0,0,0,null,"","",null,null,null,null,null,null,"","Пр/812-027.0-1","Пр/774-027.0","Линии электропередачи","Линии электропередачи",null,0,null,null,null,null,null,null,null,null,null,null,null,null,null,null,null,null,null,0]
[18,1,528,null,"","08.3.04.02","Сталь стержневая диаметром до 10 мм","т",{"$f":"I231*J238","v":0},0,0,0,0,0,0,0,0,0,0,0,0,0,0,0,0,null,-1,0,0,0,0,0,0,0,0,0,0,0,0,0,0,0,0,0,0,103,60,1,1,null,null,1,1,1,1,"","","","",3,1,"",null,null,33001,0,"",0,2,0,1,1,1,1,1,1,"",103,60,"",null,null,0,0,0,0,0,0,0,0,0,"",0,0,0,0,0,0,0,0,0,0,0,0,null,null,"","","","","","","","","","","",0,0,1,1,null,null,null,1009,"т","т",1000,null,"","","","",null,83666879,2,"Общестроительные работы",27,"Линии электропередачи",1,33001,"Линии электропередачи","ФЕР-33",null,"",null,1024,0,0,0,0,0,0,0,null,null,null,null,null,null,null,null,null,null,null,null,null,null,null,null,null,null,0,0,0,null,null,null,null,103,60,null,"",null,null,1,null,1613753229,2,1,-2,0,0,0,0,0,0,0,null,0,0,0,"",0,1,0,null,null,0,0,0,null,"","",null,null,null,null,null,null,"","Пр/812-027.0-1","Пр/774-027.0","Линии электропередачи","Линии электропередачи",null,0,null,null,null,null,null,null,null,null,null,null,null,null,null,null,null,null,null,0]
[18,1,543,null,"","08.3.04.02","Сталь стержневая диаметром до 10 мм","т",{"$f":"I232*J239","v":0},0,0,0,0,0,0,0,0,0,0,0,0,0,0,0,0,null,-1,0,0,0,0,0,0,0,0,0,0,0,0,0,0,0,0,0,0,103,60,1,1,null,null,1,1,1,1,"","","","",3,1,"",null,null,33001,0,"",0,2,0,1,1,1,1,1,1,"",103,60,"",null,null,0,0,0,0,0,0,0,0,0,"",0,0,0,0,0,0,0,0,0,0,0,0,null,null,"","","","","","","","","","","",0,0,1,1,null,null,null,1009,"т","т",1000,null,"","","","",null,83666879,2,"Общестроительные работы",27,"Линии электропередачи",1,33001,"Линии электропередачи","ФЕР-33",null,"",null,1024,0,0,0,0,0,0,0,null,null,null,null,null,null,null,null,null,null,null,null,null,null,null,null,null,null,0,0,0,null,null,null,null,103,60,null,"",null,null,1,null,1613753229,2,1,-2,0,0,0,0,0,0,0,null,0,0,0,"",0,1,0,null,null,0,0,0,null,"","",null,null,null,null,null,null,"","Пр/812-027.0-1","Пр/774-027.0","Линии электропередачи","Линии электропередачи",null,0,null,null,null,null,null,null,null,null,null,null,null,null,null,null,null,null,null,0]
[18,1,531,null,"","21.2.01.02","Провода неизолированные для воздушных линий электропередач","т",{"$f":"I231*J240","v":0},0,0,0,0,0,0,0,0,0,0,0,0,0,0,0,0,null,-1,0,0,0,0,0,0,0,0,0,0,0,0,0,0,0,0,0,0,103,60,1,1,null,null,1,1,1,1,"","","","",3,1,"",null,null,33001,0,"",0,2,0,1,1,1,1,1,1,"",103,60,"",null,null,0,0,0,0,0,0,0,0,0,"",0,0,0,0,0,0,0,0,0,0,0,0,null,null,"","","","","","","","","","","",0,0,1,1,null,null,null,1009,"т","т",1000,null,"","","","",null,83666879,2,"Общестроительные работы",27,"Линии электропередачи",1,33001,"Линии электропередачи","ФЕР-33",null,"",null,1024,0,0,0,0,0,0,0,null,null,null,null,null,null,null,null,null,null,null,null,null,null,null,null,null,null,0,0,0,null,null,null,null,103,60,null,"",null,null,1,null,-2074906300,2,1,-2,0,0,0,0,0,0,0,null,0,0,0,"",0,1,0,null,null,0,0,0,null,"","",null,null,null,null,null,null,"","Пр/812-027.0-1","Пр/774-027.0","Линии электропередачи","Линии электропередачи",null,0,null,null,null,null,null,null,null,null,null,null,null,null,null,null,null,null,null,0]
[18,1,546,null,"","21.2.01.02","Провода неизолированные для воздушных линий электропередач","т",{"$f":"I232*J241","v":0},0,0,0,0,0,0,0,0,0,0,0,0,0,0,0,0,null,-1,0,0,0,0,0,0,0,0,0,0,0,0,0,0,0,0,0,0,103,60,1,1,null,null,1,1,1,1,"","","","",3,1,"",null,null,33001,0,"",0,2,0,1,1,1,1,1,1,"",103,60,"",null,null,0,0,0,0,0,0,0,0,0,"",0,0,0,0,0,0,0,0,0,0,0,0,null,null,"","","","","","","","","","","",0,0,1,1,null,null,null,1009,"т","т",1000,null,"","","","",null,83666879,2,"Общестроительные работы",27,"Линии электропередачи",1,33001,"Линии электропередачи","ФЕР-33",null,"",null,1024,0,0,0,0,0,0,0,null,null,null,null,null,null,null,null,null,null,null,null,null,null,null,null,null,null,0,0,0,null,null,null,null,103,60,null,"",null,null,1,null,-2074906300,2,1,-2,0,0,0,0,0,0,0,null,0,0,0,"",0,1,0,null,null,0,0,0,null,"","",null,null,null,null,null,null,"","Пр/812-027.0-1","Пр/774-027.0","Линии электропередачи","Линии электропередачи",null,0,null,null,null,null,null,null,null,null,null,null,null,null,null,null,null,null,null,0]
[18,1,532,null,"","22.2.01.04","Изоляторы линейные штыревые фарфоровые","ШТ",{"$f":"I231*J242","v":0},0,0,0,0,0,0,0,0,0,0,0,0,0,0,0,0,null,-1,0,0,0,0,0,0,0,0,0,0,0,0,0,0,0,0,0,0,103,60,1,1,null,null,1,1,1,1,"","","","",3,1,"",null,null,33001,0,"",0,2,0,1,1,1,1,1,1,"",103,60,"",null,null,0,0,0,0,0,0,0,0,0,"",0,0,0,0,0,0,0,0,0,0,0,0,null,null,"","","","","","","","","","","",0,0,1,1,null,null,null,1013,"ШТ","ШТ",1,null,"","","","",null,83666879,2,"Общестроительные работы",27,"Линии электропередачи",1,33001,"Линии электропередачи","ФЕР-33",null,"",null,1024,0,0,0,0,0,0,0,null,null,null,null,null,null,null,null,null,null,null,null,null,null,null,null,null,null,0,0,0,null,null,null,null,103,60,null,"",null,null,1,null,1740798612,2,1,-2,0,0,0,0,0,0,0,null,0,0,0,"",0,1,0,null,null,0,0,0,null,"","",null,null,null,null,null,null,"","Пр/812-027.0-1","Пр/774-027.0","Линии электропередачи","Линии электропередачи",null,0,null,null,null,null,null,null,null,null,null,null,null,null,null,null,null,null,null,0]
[18,1,547,null,"","22.2.01.04","Изоляторы линейные штыревые фарфоровые","ШТ",{"$f":"I232*J243","v":0},0,0,0,0,0,0,0,0,0,0,0,0,0,0,0,0,null,-1,0,0,0,0,0,0,0,0,0,0,0,0,0,0,0,0,0,0,103,60,1,1,null,null,1,1,1,1,"","","","",3,1,"",null,null,33001,0,"",0,2,0,1,1,1,1,1,1,"",103,60,"",null,null,0,0,0,0,0,0,0,0,0,"",0,0,0,0,0,0,0,0,0,0,0,0,null,null,"","","","","","","","","","","",0,0,1,1,null,null,null,1013,"ШТ","ШТ",1,null,"","","","",null,83666879,2,"Общестроительные работы",27,"Линии электропередачи",1,33001,"Линии электропередачи","ФЕР-33",null,"",null,1024,0,0,0,0,0,0,0,null,null,null,null,null,null,null,null,null,null,null,null,null,null,null,null,null,null,0,0,0,null,null,null,null,103,60,null,"",null,null,1,null,1740798612,2,1,-2,0,0,0,0,0,0,0,null,0,0,0,"",0,1,0,null,null,0,0,0,null,"","",null,null,null,null,null,null,"","Пр/812-027.0-1","Пр/774-027.0","Линии электропередачи","Линии электропередачи",null,0,null,null,null,null,null,null,null,null,null,null,null,null,null,null,null,null,null,0]
[18,1,533,null,"","22.2.02.03","Детали крепления стальные","кг",{"$f":"I231*J244","v":0},0,0,0,0,0,0,0,0,0,0,0,0,0,0,0,0,null,-1,0,0,0,0,0,0,0,0,0,0,0,0,0,0,0,0,0,0,103,60,1,1,null,null,1,1,1,1,"","","","",3,1,"",null,null,33001,0,"",0,2,0,1,1,1,1,1,1,"",103,60,"",null,null,0,0,0,0,0,0,0,0,0,"",0,0,0,0,0,0,0,0,0,0,0,0,null,null,"","","","","","","","","","","",0,0,1,1,null,null,null,1009,"кг","кг",1,null,"","","","",null,83666879,2,"Общестроительные работы",27,"Линии электропередачи",1,33001,"Линии электропередачи","ФЕР-33",null,"",null,1024,0,0,0,0,0,0,0,null,null,null,null,null,null,null,null,null,null,null,null,null,null,null,null,null,null,0,0,0,null,null,null,null,103,60,null,"",null,null,1,null,1533393836,2,1,-2,0,0,0,0,0,0,0,null,0,0,0,"",0,1,0,null,null,0,0,0,null,"","",null,null,null,null,null,null,"","Пр/812-027.0-1","Пр/774-027.0","Линии электропередачи","Линии электропередачи",null,0,null,null,null,null,null,null,null,null,null,null,null,null,null,null,null,null,null,0]
[18,1,548,null,"","22.2.02.03","Детали крепления стальные","кг",{"$f":"I232*J245","v":0},0,0,0,0,0,0,0,0,0,0,0,0,0,0,0,0,null,-1,0,0,0,0,0,0,0,0,0,0,0,0,0,0,0,0,0,0,103,60,1,1,null,null,1,1,1,1,"","","","",3,1,"",null,null,33001,0,"",0,2,0,1,1,1,1,1,1,"",103,60,"",null,null,0,0,0,0,0,0,0,0,0,"",0,0,0,0,0,0,0,0,0,0,0,0,null,null,"","","","","","","","","","","",0,0,1,1,null,null,null,1009,"кг","кг",1,null,"","","","",null,83666879,2,"Общестроительные работы",27,"Линии электропередачи",1,33001,"Линии электропередачи","ФЕР-33",null,"",null,1024,0,0,0,0,0,0,0,null,null,null,null,null,null,null,null,null,null,null,null,null,null,null,null,null,null,0,0,0,null,null,null,null,103,60,null,"",null,null,1,null,1533393836,2,1,-2,0,0,0,0,0,0,0,null,0,0,0,"",0,1,0,null,null,0,0,0,null,"","",null,null,null,null,null,null,"","Пр/812-027.0-1","Пр/774-027.0","Линии электропередачи","Линии электропередачи",null,0,null,null,null,null,null,null,null,null,null,null,null,null,null,null,null,null,null,0]
[17,1,{"$f":"ROW(SmtRes!A558)","v":558},{"$f":"ROW(EtalonRes!A558)","v":558},"13","15-04-024-08","Простая окраска масляными составами по штукатурке и сборным конструкциям: стен, подготовленных под окраску","100 м2",9.5200000000000007E-2,0,9.5200000000000007E-2,9.5200000000000007E-2,0,9.5200000000000007E-2,1778.49,{"$f":"SUMIF(SmtRes!AQ549:'SmtRes'!AQ558,\"=1\",SmtRes!DF549:'SmtRes'!DF558)","v":148.16},{"$f":"SUMIF(SmtRes!AQ549:'SmtRes'!AQ558,\"=1\",SmtRes!DG549:'SmtRes'!DG558)","v":3.7399999999999998},{"$f":"SUMIF(SmtRes!AQ549:'SmtRes'!AQ558,\"=1\",SmtRes!DH549:'SmtRes'!DH558)","v":5.46},{"$f":"SUMIF(SmtRes!AQ549:'SmtRes'!AQ558,\"=1\",SmtRes!DI549:'SmtRes'!DI558)","v":1621.13},0,{"$f":"SUMIF(SmtRes!AQ549:'SmtRes'!AQ558,\"=1\",SmtRes!CV549:'SmtRes'!CV558)","v":2.1934079999999998},{"$f":"SUMIF(SmtRes!AQ549:'SmtRes'!AQ558,\"=1\",SmtRes!CW549:'SmtRes'!CW558)","v":6.8544000000000001E-3},0,1626.59,797.03,null,85312357,18231.32,{"$f":"ROUND((SUM(SmtRes!BQ549:'SmtRes'!BQ558)),2)","v":1163.74},{"$f":"ROUND((((SUM(SmtRes!BR549:'SmtRes'!BR558))-(SUM(SmtRes!BS549:'SmtRes'!BS558)))+AE246),2)","v":38.950000000000003},{"$f":"ROUND((SUM(SmtRes!BS549:'SmtRes'!BS558)),2)","v":57.36},{"$f":"ROUND((SUM(SmtRes!BT549:'SmtRes'!BT558)),2)","v":17028.63},0,{"$f":"(SUM(SmtRes!BU549:'SmtRes'!BU558))","v":23.04},{"$f":"(SUM(SmtRes!BV549:'SmtRes'!BV558))","v":7.1999999999999995E-2},0,15434.52535,1163.7405500000002,32.458199999999998,47.7986,14190.528,0,19.2,6.0000000000000005E-2,0,100,49,1,1,null,null,1,1,1,1,"","","","",0,1,"ГЭСН-2022 доп.17, 15-04-024-08, приказ Минстроя России от 17.02.2026 г. № 91/пр",null,null,15001,0,"",0,2,0,1,1,1,1,1,1,"",100,49,"",null,null,0,0,0,13,0,0,0,0,0,"Поправка: 421/пр_2020_прил.10_т.1_п.4_гр.5 Наименование: Производство работ осуществляется в охранной зоне действующей воздушной линии электропередачи, вблизи объектов, находящихся под напряжением, внутри объектов капитального строительства, внутренняя проводка в которых не обесточена, если это приведет к ограничению действий рабочих в соответствии с требованиями техники безопасности",0,1778.4900000000002,{"$f":"SUMIF(SmtRes!AQ549:'SmtRes'!AQ558,\"=1\",SmtRes!AA549:'SmtRes'!AA558)","v":40591.15},{"$f":"SUMIF(SmtRes!AQ549:'SmtRes'!AQ558,\"=1\",SmtRes!AB549:'SmtRes'!AB558)","v":699.55000000000007},{"$f":"SUMIF(SmtRes!AQ549:'SmtRes'!AQ558,\"=1\",SmtRes!AC549:'SmtRes'!AC558)","v":1532.6999999999998},{"$f":"SUMIF(SmtRes!AQ549:'SmtRes'!AQ558,\"=1\",SmtRes!AD549:'SmtRes'!AD558)","v":739.09},{"$f":"AG246","v":0},{"$f":"SUMIF(SmtRes!AQ549:'SmtRes'!AQ558,\"=1\",SmtRes!BU549:'SmtRes'!BU558)","v":23.04},{"$f":"SUMIF(SmtRes!AQ549:'SmtRes'!AQ558,\"=1\",SmtRes!BV549:'SmtRes'!BV558)","v":7.1999999999999995E-2},{"$f":"AJ246","v":0},1626.59,797.02910000000008,null,25,"","","*(0,2+1)","*(0,2+1)","*(0,2+1)","","*(0,2+1)","*(0,2+1)","","","",0,0,1,1,null,null,null,1005,"100 м2","100 м2",100,null,"","","","",null,83666851,2,"Общестроительные работы",15,"Отделочные работы",1,15001,"Отделочные работы","ФЕР-15",null,"Поправка: 421/пр_2020_прил.10_т.1_п.4_гр.5",null,131072,0,0,0,0,0,19.2,0.06,0,null,null,null,null,null,null,null,null,null,null,null,null,null,null,null,null,null,0,0,0,null,null,null,null,100,49,null,"",null,null,1,null,301005375,2,1,-2,0,0,0,4202.1099999999997,4202.1099999999997,0,0,null,0,3,0,"",0,1,0,null,null,0,0,0,null,"","",null,null,null,null,null,null,"","Пр/812-015.0-1","Пр/774-015.0","Отделочные работы","Отделочные работы",null,0,null,null,null,null,null,null,null,null,null,null,null,null,null,null,null,null,null,0]
[17,1,{"$f":"ROW(SmtRes!A568)","v":568},{"$f":"ROW(EtalonRes!A568)","v":568},"13","15-04-024-08","Простая окраска масляными составами по штукатурке и сборным конструкциям: стен, подготовленных под окраску","100 м2",9.5200000000000007E-2,0,9.5200000000000007E-2,9.5200000000000007E-2,0,9.5200000000000007E-2,1778.49,{"$f":"SUMIF(SmtRes!AQ559:'SmtRes'!AQ568,\"=1\",SmtRes!DF559:'SmtRes'!DF568)","v":148.16},{"$f":"SUMIF(SmtRes!AQ559:'SmtRes'!AQ568,\"=1\",SmtRes!DG559:'SmtRes'!DG568)","v":3.7399999999999998},{"$f":"SUMIF(SmtRes!AQ559:'SmtRes'!AQ568,\"=1\",SmtRes!DH559:'SmtRes'!DH568)","v":5.46},{"$f":"SUMIF(SmtRes!AQ559:'SmtRes'!AQ568,\"=1\",SmtRes!DI559:'SmtRes'!DI568)","v":1621.13},0,{"$f":"SUMIF(SmtRes!AQ559:'SmtRes'!AQ568,\"=1\",SmtRes!CV559:'SmtRes'!CV568)","v":2.1934079999999998},{"$f":"SUMIF(SmtRes!AQ559:'SmtRes'!AQ568,\"=1\",SmtRes!CW559:'SmtRes'!CW568)","v":6.8544000000000001E-3},0,1626.59,797.03,null,85312298,18231.32,{"$f":"ROUND((SUM(SmtRes!BQ559:'SmtRes'!BQ568)),2)","v":1163.74},{"$f":"ROUND((((SUM(SmtRes!BR559:'SmtRes'!BR568))-(SUM(SmtRes!BS559:'SmtRes'!BS568)))+AE247),2)","v":38.950000000000003},{"$f":"ROUND((SUM(SmtRes!BS559:'SmtRes'!BS568)),2)","v":57.36},{"$f":"ROUND((SUM(SmtRes!BT559:'SmtRes'!BT568)),2)","v":17028.63},0,{"$f":"(SUM(SmtRes!BU559:'SmtRes'!BU568))","v":23.04},{"$f":"(SUM(SmtRes!BV559:'SmtRes'!BV568))","v":7.1999999999999995E-2},0,15434.52535,1163.7405500000002,32.458199999999998,47.7986,14190.528,0,19.2,6.0000000000000005E-2,0,100,49,1,1,null,null,1,1,1,1,"","","","",0,1,"ГЭСН-2022 доп.17, 15-04-024-08, приказ Минстроя России от 17.02.2026 г. № 91/пр",null,null,15001,0,"",0,2,0,1,1,1,1,1,1,"",100,49,"",null,null,0,0,0,13,0,0,0,0,0,"Поправка: 421/пр_2020_прил.10_т.1_п.4_гр.5 Наименование: Производство работ осуществляется в охранной зоне действующей воздушной линии электропередачи, вблизи объектов, находящихся под напряжением, внутри объектов капитального строительства, внутренняя проводка в которых не обесточена, если это приведет к ограничению действий рабочих в соответствии с требованиями техники безопасности",0,1778.4900000000002,{"$f":"SUMIF(SmtRes!AQ559:'SmtRes'!AQ568,\"=1\",SmtRes!AA559:'SmtRes'!AA568)","v":40591.15},{"$f":"SUMIF(SmtRes!AQ559:'SmtRes'!AQ568,\"=1\",SmtRes!AB559:'SmtRes'!AB568)","v":699.55000000000007},{"$f":"SUMIF(SmtRes!AQ559:'SmtRes'!AQ568,\"=1\",SmtRes!AC559:'SmtRes'!AC568)","v":1532.6999999999998},{"$f":"SUMIF(SmtRes!AQ559:'SmtRes'!AQ568,\"=1\",SmtRes!AD559:'SmtRes'!AD568)","v":739.09},{"$f":"AG247","v":0},{"$f":"SUMIF(SmtRes!AQ559:'SmtRes'!AQ568,\"=1\",SmtRes!BU559:'SmtRes'!BU568)","v":23.04},{"$f":"SUMIF(SmtRes!AQ559:'SmtRes'!AQ568,\"=1\",SmtRes!BV559:'SmtRes'!BV568)","v":7.1999999999999995E-2},{"$f":"AJ247","v":0},1626.59,797.02910000000008,null,26,"","","*(0,2+1)","*(0,2+1)","*(0,2+1)","","*(0,2+1)","*(0,2+1)","","","",0,0,1,1,null,null,null,1005,"100 м2","100 м2",100,null,"","","","",null,83666851,2,"Общестроительные работы",15,"Отделочные работы",1,15001,"Отделочные работы","ФЕР-15",null,"Поправка: 421/пр_2020_прил.10_т.1_п.4_гр.5",null,131072,0,0,0,0,0,19.2,0.06,0,null,null,null,null,null,null,null,null,null,null,null,null,null,null,null,null,null,0,0,0,null,null,null,null,100,49,null,"",null,null,1,null,301005375,2,1,-2,0,0,0,4202.1099999999997,4202.1099999999997,0,0,null,0,3,0,"",0,1,0,null,null,0,0,0,null,"","",null,null,null,null,null,null,"","Пр/812-015.0-1","Пр/774-015.0","Отделочные работы","Отделочные работы",null,0,null,null,null,null,null,null,null,null,null,null,null,null,null,null,null,null,null,0]
[19,1,null,null,null,"","По ВОР \"Окраска стоек\". Считается по последней странице проекта, там где \"Схема окраски опор ВЛИ\". В зависимости от того какая опора, такая и площадь окраски. Окрашивается только белый и синий цвета. Формула выше уже не актуальная","",null,null,null,null,null,null,null,null,null,null,null,null,null,null,null,null,null,null,1,null,null,null,null,null,null,null,null,null,null,null,null,null,null,null,null,null,null,null,null,null,null,null,null,null,null,null,null,null,null,null,null,null,null,null,null,null,null,null,null,null,null,null,null,null,null,null,null,null,null,null,null,null,null,null,null,null,null,null,null,null,null,null,null,null,null,null,null,null,null,null,null,null,null,null,null,null,null,null,null,null,null,null,null,null,null,null,null,null,null,null,null,null,null,null,null,null,null,null,null,null,null,null,null,null,null,null,null,null,null,null,null,null,null,null,null,null,null,null,null,null,null,null,null,null,null,null,null,null,null,null,null,null,null,null,null,null,null,null,null,null,null,null,null,null,null,null,null,null,null,null,null,null,null,null,null,null,null,null,null,null,null,null,null,null,null,null,null,null,null,null,null,null,null,null,null,null,null,null,null,null,null,null,null,null,null,null,null,null,null,null,null,null,null,null,null,null,null,null,null,null,null,null,null,null,null,null,null,null,null,null,null,null,null,null,null,null,0]
[18,1,556,null,"13,1","14.4.02.04","Краски для внутренних работ масляные готовые к применению","кг",{"$f":"I246*J249","v":2.5418400000000001},26.7,26.7,2.5418400000000001,0,{"$f":"ROUND(L249-M249,4)","v":2.5417999999999998},{"$f":"ROUND(CP249,2)","v":0},{"$f":"ROUND(CQ249*I249,2)","v":0},{"$f":"ROUND(CR249*I249,2)","v":0},{"$f":"ROUND(CS249*I249,2)","v":0},{"$f":"ROUND(CT249*I249,2)","v":0},{"$f":"ROUND(CU249*I249,2)","v":0},{"$f":"ROUND(CV249*I249,7)","v":0},{"$f":"ROUND(CW249*I249,7)","v":0},{"$f":"ROUND(CX249*I249,2)","v":0},{"$f":"ROUND(CY249,2)","v":0},0,null,85312357,{"$f":"ROUND((AC249+AD249+AF249),2)","v":0},{"$f":"ROUND((ES249),2)","v":0},{"$f":"ROUND((((ET249)-(EU249))+AE249),2)","v":0},{"$f":"ROUND((EU249),2)","v":0},0,{"$f":"ROUND((AP249),2)","v":0},{"$f":"(EW249)","v":0},0,{"$f":"(AS249)","v":0},0,0,0,0,0,0,0,0,0,100,49,1,1,null,null,1,1,1,1,"","","","",3,1,"",null,null,15001,0,"",0,2,0,1,1,1,1,1,1,"",100,49,"",null,null,0,0,0,13,1,0,0,0,0,"",0,{"$f":"(P249+Q249+S249+R249)","v":0},{"$f":"ROUND(AL249*BC249,2)","v":0},{"$f":"ROUND(AM249*BB249,2)","v":0},{"$f":"ROUND(AN249*BS249,2)","v":0},{"$f":"ROUND(AO249*BA249,2)","v":0},{"$f":"AG249","v":0},0,0,0,{"$f":"(((S249+R249)*AT249)/100)","v":0},{"$f":"(((S249+R249)*AU249)/100)","v":0},null,null,"","","","","","","","","","","",0,0,1,1,null,null,null,1009,"кг","кг",1,null,"","","","",null,83666851,2,"Общестроительные работы",15,"Отделочные работы",1,15001,"Отделочные работы","ФЕР-15",null,"",null,0,0,0,0,0,0,0,0,null,null,null,null,null,null,null,null,null,null,null,null,null,null,null,null,null,null,0,0,0,null,null,null,null,100,49,null,"",null,null,1,null,-438754628,2,1,-2,0,0,{"$f":"ROUND(IF(AND(BH249=3,BI249=3,FS249<>0),P249,0),2)","v":0},{"$f":"ROUND(O249+X249+Y249,2)+GX249","v":0},{"$f":"IF(OR(BI249=0,BI249=1),GM249-GX249,0)","v":0},{"$f":"IF(BI249=2,GM249-GX249,0)","v":0},{"$f":"IF(BI249=4,GM249-GX249,0)","v":0},null,0,3,0,"",{"$f":"ROUND((GT249),2)","v":0},1,{"$f":"ROUND(HC249*I249,2)","v":0},null,null,0,0,{"$f":"GV249*GW249","v":0},null,"","",null,null,null,null,null,null,"","Пр/812-015.0-1","Пр/774-015.0","Отделочные работы","Отделочные работы",null,0,null,null,null,null,null,null,null,null,null,null,null,null,null,null,null,null,null,0]
[18,1,566,null,"13,1","14.4.02.04","Краски для внутренних работ масляные готовые к применению","кг",{"$f":"I247*J250","v":2.5418400000000001},26.7,26.7,2.5418400000000001,0,{"$f":"ROUND(L250-M250,4)","v":2.5417999999999998},{"$f":"ROUND(CP250,2)","v":0},{"$f":"ROUND(CQ250*I250,2)","v":0},{"$f":"ROUND(CR250*I250,2)","v":0},{"$f":"ROUND(CS250*I250,2)","v":0},{"$f":"ROUND(CT250*I250,2)","v":0},{"$f":"ROUND(CU250*I250,2)","v":0},{"$f":"ROUND(CV250*I250,7)","v":0},{"$f":"ROUND(CW250*I250,7)","v":0},{"$f":"ROUND(CX250*I250,2)","v":0},0,0,null,85312298,{"$f":"ROUND((AC250+AD250+AF250),2)","v":0},{"$f":"ROUND((ES250),2)","v":0},{"$f":"ROUND((((ET250)-(EU250))+AE250),2)","v":0},0,0,{"$f":"ROUND((AP250),2)","v":0},0,0,{"$f":"(AS250)","v":0},0,0,0,0,0,0,0,0,0,100,49,1,1,null,null,1,1,1,1,"","","","",3,1,"",null,null,15001,0,"",0,2,0,1,1,1,1,1,1,"",100,49,"",null,null,0,0,0,13,1,0,0,0,0,"",0,{"$f":"(P250+Q250+S250+R250)","v":0},{"$f":"ROUND(AL250*BC250,2)","v":0},{"$f":"ROUND(AM250*BB250,2)","v":0},{"$f":"ROUND(AN250*BS250,2)","v":0},{"$f":"ROUND(AO250*BA250,2)","v":0},0,0,0,0,{"$f":"(((S250+R250)*AT250)/100)","v":0},{"$f":"(((S250+R250)*AU250)/100)","v":0},null,null,"","","","","","","","","","","",0,0,1,1,null,null,null,1009,"кг","кг",1,null,"","","","",null,83666851,2,"Общестроительные работы",15,"Отделочные работы",1,15001,"Отделочные работы","ФЕР-15",null,"",null,0,0,0,0,0,0,0,0,null,null,null,null,null,null,null,null,null,null,null,null,null,null,null,null,null,null,0,0,0,null,null,null,null,100,49,null,"",null,null,1,null,-438754628,2,1,-2,0,0,{"$f":"ROUND(IF(AND(BH250=3,BI250=3,FS250<>0),P250,0),2)","v":0},{"$f":"ROUND(O250+X250+Y250,2)+GX250","v":0},{"$f":"IF(OR(BI250=0,BI250=1),GM250-GX250,0)","v":0},{"$f":"IF(BI250=2,GM250-GX250,0)","v":0},{"$f":"IF(BI250=4,GM250-GX250,0)","v":0},null,0,3,0,"",{"$f":"ROUND((GT250),2)","v":0},1,{"$f":"ROUND(HC250*I250,2)","v":0},null,null,0,0,{"$f":"GV250*GW250","v":0},null,"","",null,null,null,null,null,null,"","Пр/812-015.0-1","Пр/774-015.0","Отделочные работы","Отделочные работы",null,0,null,null,null,null,null,null,null,null,null,null,null,null,null,null,null,null,null,0]
[18,1,557,null,"13,2","14.5.05.01","Олифы комбинированные","т",{"$f":"I246*J251","v":9.8060000000000009E-4},1.0300420168067228E-2,1.03E-2,9.8056000000000011E-4,0,{"$f":"ROUND(L251-M251,4)","v":1E-3},{"$f":"ROUND(CP251,2)","v":0},{"$f":"ROUND(CQ251*I251,2)","v":0},{"$f":"ROUND(CR251*I251,2)","v":0},{"$f":"ROUND(CS251*I251,2)","v":0},{"$f":"ROUND(CT251*I251,2)","v":0},{"$f":"ROUND(CU251*I251,2)","v":0},{"$f":"ROUND(CV251*I251,7)","v":0},{"$f":"ROUND(CW251*I251,7)","v":0},{"$f":"ROUND(CX251*I251,2)","v":0},0,0,null,85312357,{"$f":"ROUND((AC251+AD251+AF251),2)","v":0},{"$f":"ROUND((ES251),2)","v":0},{"$f":"ROUND((((ET251)-(EU251))+AE251),2)","v":0},0,0,{"$f":"ROUND((AP251),2)","v":0},0,0,{"$f":"(AS251)","v":0},0,0,0,0,0,0,0,0,0,100,49,1,1,null,null,1,1,1,1,"","","","",3,1,"",null,null,15001,0,"",0,2,0,1,1,1,1,1,1,"",100,49,"",null,null,0,0,0,13,2,0,0,0,0,"",0,{"$f":"(P251+Q251+S251+R251)","v":0},{"$f":"ROUND(AL251*BC251,2)","v":0},{"$f":"ROUND(AM251*BB251,2)","v":0},{"$f":"ROUND(AN251*BS251,2)","v":0},{"$f":"ROUND(AO251*BA251,2)","v":0},0,0,0,0,{"$f":"(((S251+R251)*AT251)/100)","v":0},{"$f":"(((S251+R251)*AU251)/100)","v":0},null,null,"","","","","","","","","","","",0,0,1,1,null,null,null,1009,"т","т",1000,null,"","","","",null,83666851,2,"Общестроительные работы",15,"Отделочные работы",1,15001,"Отделочные работы","ФЕР-15",null,"",null,0,0,0,0,0,0,0,0,null,null,null,null,null,null,null,null,null,null,null,null,null,null,null,null,null,null,0,0,0,null,null,null,null,100,49,null,"",null,null,1,null,-827349247,2,1,-2,0,0,{"$f":"ROUND(IF(AND(BH251=3,BI251=3,FS251<>0),P251,0),2)","v":0},{"$f":"ROUND(O251+X251+Y251,2)+GX251","v":0},{"$f":"IF(OR(BI251=0,BI251=1),GM251-GX251,0)","v":0},{"$f":"IF(BI251=2,GM251-GX251,0)","v":0},{"$f":"IF(BI251=4,GM251-GX251,0)","v":0},null,0,3,0,"",{"$f":"ROUND((GT251),2)","v":0},1,{"$f":"ROUND(HC251*I251,2)","v":0},null,null,0,0,{"$f":"GV251*GW251","v":0},null,"","",null,null,null,null,null,null,"","Пр/812-015.0-1","Пр/774-015.0","Отделочные работы","Отделочные работы",null,0,null,null,null,null,null,null,null,null,null,null,null,null,null,null,null,null,null,0]
[18,1,567,null,"13,2","14.5.05.01","Олифы комбинированные","т",{"$f":"I247*J252","v":9.8060000000000009E-4},1.0300420168067228E-2,1.03E-2,9.8056000000000011E-4,0,{"$f":"ROUND(L252-M252,4)","v":1E-3},{"$f":"ROUND(CP252,2)","v":0},{"$f":"ROUND(CQ252*I252,2)","v":0},{"$f":"ROUND(CR252*I252,2)","v":0},{"$f":"ROUND(CS252*I252,2)","v":0},{"$f":"ROUND(CT252*I252,2)","v":0},{"$f":"ROUND(CU252*I252,2)","v":0},{"$f":"ROUND(CV252*I252,7)","v":0},{"$f":"ROUND(CW252*I252,7)","v":0},{"$f":"ROUND(CX252*I252,2)","v":0},0,0,null,85312298,{"$f":"ROUND((AC252+AD252+AF252),2)","v":0},{"$f":"ROUND((ES252),2)","v":0},{"$f":"ROUND((((ET252)-(EU252))+AE252),2)","v":0},0,0,{"$f":"ROUND((AP252),2)","v":0},0,0,{"$f":"(AS252)","v":0},0,0,0,0,0,0,0,0,0,100,49,1,1,null,null,1,1,1,1,"","","","",3,1,"",null,null,15001,0,"",0,2,0,1,1,1,1,1,1,"",100,49,"",null,null,0,0,0,13,2,0,0,0,0,"",0,{"$f":"(P252+Q252+S252+R252)","v":0},{"$f":"ROUND(AL252*BC252,2)","v":0},{"$f":"ROUND(AM252*BB252,2)","v":0},{"$f":"ROUND(AN252*BS252,2)","v":0},{"$f":"ROUND(AO252*BA252,2)","v":0},0,0,0,0,{"$f":"(((S252+R252)*AT252)/100)","v":0},{"$f":"(((S252+R252)*AU252)/100)","v":0},null,null,"","","","","","","","","","","",0,0,1,1,null,null,null,1009,"т","т",1000,null,"","","","",null,83666851,2,"Общестроительные работы",15,"Отделочные работы",1,15001,"Отделочные работы","ФЕР-15",null,"",null,0,0,0,0,0,0,0,0,null,null,null,null,null,null,null,null,null,null,null,null,null,null,null,null,null,null,0,0,0,null,null,null,null,100,49,null,"",null,null,1,null,-827349247,2,1,-2,0,0,{"$f":"ROUND(IF(AND(BH252=3,BI252=3,FS252<>0),P252,0),2)","v":0},{"$f":"ROUND(O252+X252+Y252,2)+GX252","v":0},{"$f":"IF(OR(BI252=0,BI252=1),GM252-GX252,0)","v":0},{"$f":"IF(BI252=2,GM252-GX252,0)","v":0},{"$f":"IF(BI252=4,GM252-GX252,0)","v":0},null,0,3,0,"",{"$f":"ROUND((GT252),2)","v":0},1,{"$f":"ROUND(HC252*I252,2)","v":0},null,null,0,0,{"$f":"GV252*GW252","v":0},null,"","",null,null,null,null,null,null,"","Пр/812-015.0-1","Пр/774-015.0","Отделочные работы","Отделочные работы",null,0,null,null,null,null,null,null,null,null,null,null,null,null,null,null,null,null,null,0]
[]
[51,{"$f":"B24","v":1},{"$f":"A24","v":4},{"$f":"ROW(A24)","v":24},null,{"$f":"IF(F24<>\"\",F24,\"\")","v":"Новый раздел"},{"$f":"IF(G24<>\"\",G24,\"\")","v":"СМР"},0,null,null,null,null,null,null,{"$f":"ROUND(AB254,2)","v":16347.95},419.9,821.24,1158.1300000000001,13948.68,0,{"$f":"AH254","v":17.486015999999999},{"$f":"AI254","v":1.4022504},{"$f":"ROUND(AJ254,2)","v":0},{"$f":"ROUND(AK254,2)","v":15009.76},{"$f":"ROUND(AL254,2)","v":8132.98},null,null,{"$f":"ROUND(SUMIF(AA28:AA252,\"=85312357\",O28:O252),2)","v":16347.95},{"$f":"ROUND(SUMIF(AA28:AA252,\"=85312357\",P28:P252),2)","v":419.9},{"$f":"ROUND(SUMIF(AA28:AA252,\"=85312357\",Q28:Q252),2)","v":821.24},{"$f":"ROUND(SUMIF(AA28:AA252,\"=85312357\",R28:R252),2)","v":1158.1300000000001},{"$f":"ROUND(SUMIF(AA28:AA252,\"=85312357\",S28:S252),2)","v":13948.68},{"$f":"ROUND(SUMIF(AA28:AA252,\"=85312357\",T28:T252),2)","v":0},{"$f":"SUMIF(AA28:AA252,\"=85312357\",U28:U252)","v":17.486015999999999},{"$f":"SUMIF(AA28:AA252,\"=85312357\",V28:V252)","v":1.4022504},{"$f":"ROUND(SUMIF(AA28:AA252,\"=85312357\",W28:W252),2)","v":0},{"$f":"ROUND(SUMIF(AA28:AA252,\"=85312357\",X28:X252),2)","v":15009.76},{"$f":"ROUND(SUMIF(AA28:AA252,\"=85312357\",Y28:Y252),2)","v":8132.98},null,null,{"$f":"ROUND(BX254,2)","v":0},0,0,39490.69,18320.71,21169.98,0,419.9,419.9,0,419.9,0,0,0,0,0,null,null,null,null,null,null,null,null,null,null,null,null,null,null,null,null,null,null,null,{"$f":"ROUND(SUMIF(AA28:AA252,\"=85312357\",FQ28:FQ252),2)","v":0},{"$f":"ROUND(SUMIF(AA28:AA252,\"=85312357\",FR28:FR252),2)","v":0},{"$f":"ROUND(SUMIF(AA28:AA252,\"=85312357\",GL28:GL252),2)","v":0},{"$f":"ROUND(SUMIF(AA28:AA252,\"=85312357\",GM28:GM252),2)","v":39490.69},{"$f":"ROUND(SUMIF(AA28:AA252,\"=85312357\",GN28:GN252),2)","v":18320.71},{"$f":"ROUND(SUMIF(AA28:AA252,\"=85312357\",GO28:GO252),2)","v":21169.98},{"$f":"ROUND(SUMIF(AA28:AA252,\"=85312357\",GP28:GP252),2)","v":0},{"$f":"AC254-BX254","v":419.9},{"$f":"AC254-BY254","v":419.9},{"$f":"BX254-BZ254","v":0},{"$f":"AC254-BX254-BY254+BZ254","v":419.9},{"$f":"BY254-BZ254","v":0},{"$f":"ROUND(SUMIF(AA28:AA252,\"=85312357\",GX28:GX252),2)","v":0},{"$f":"ROUND(SUMIF(AA28:AA252,\"=85312357\",GY28:GY252),2)","v":0},{"$f":"ROUND(SUMIF(AA28:AA252,\"=85312357\",GZ28:GZ252),2)","v":0},{"$f":"ROUND(SUMIF(AA28:AA252,\"=85312357\",HD28:HD252),2)","v":0},null,null,null,null,null,null,null,null,null,null,null,null,null,null,null,null,null,null,null,{"$f":"ROUND(DT254,2)","v":16347.95},419.9,821.24,1158.1300000000001,13948.68,0,{"$f":"DZ254","v":17.486015999999999},{"$f":"EA254","v":1.4022504},{"$f":"ROUND(EB254,2)","v":0},{"$f":"ROUND(EC254,2)","v":15009.76},{"$f":"ROUND(ED254,2)","v":8132.98},null,null,{"$f":"ROUND(SUMIF(AA28:AA252,\"=85312298\",O28:O252),2)","v":16347.95},{"$f":"ROUND(SUMIF(AA28:AA252,\"=85312298\",P28:P252),2)","v":419.9},{"$f":"ROUND(SUMIF(AA28:AA252,\"=85312298\",Q28:Q252),2)","v":821.24},{"$f":"ROUND(SUMIF(AA28:AA252,\"=85312298\",R28:R252),2)","v":1158.1300000000001},{"$f":"ROUND(SUMIF(AA28:AA252,\"=85312298\",S28:S252),2)","v":13948.68},{"$f":"ROUND(SUMIF(AA28:AA252,\"=85312298\",T28:T252),2)","v":0},{"$f":"SUMIF(AA28:AA252,\"=85312298\",U28:U252)","v":17.486015999999999},{"$f":"SUMIF(AA28:AA252,\"=85312298\",V28:V252)","v":1.4022504},{"$f":"ROUND(SUMIF(AA28:AA252,\"=85312298\",W28:W252),2)","v":0},{"$f":"ROUND(SUMIF(AA28:AA252,\"=85312298\",X28:X252),2)","v":15009.76},{"$f":"ROUND(SUMIF(AA28:AA252,\"=85312298\",Y28:Y252),2)","v":8132.98},null,null,{"$f":"ROUND(FP254,2)","v":0},0,0,39490.69,18320.71,21169.98,0,419.9,419.9,0,419.9,0,0,0,0,0,null,null,null,null,null,null,null,null,null,null,null,null,null,null,null,null,null,null,null,{"$f":"ROUND(SUMIF(AA28:AA252,\"=85312298\",FQ28:FQ252),2)","v":0},{"$f":"ROUND(SUMIF(AA28:AA252,\"=85312298\",FR28:FR252),2)","v":0},{"$f":"ROUND(SUMIF(AA28:AA252,\"=85312298\",GL28:GL252),2)","v":0},{"$f":"ROUND(SUMIF(AA28:AA252,\"=85312298\",GM28:GM252),2)","v":39490.69},{"$f":"ROUND(SUMIF(AA28:AA252,\"=85312298\",GN28:GN252),2)","v":18320.71},{"$f":"ROUND(SUMIF(AA28:AA252,\"=85312298\",GO28:GO252),2)","v":21169.98},{"$f":"ROUND(SUMIF(AA28:AA252,\"=85312298\",GP28:GP252),2)","v":0},{"$f":"DU254-FP254","v":419.9},{"$f":"DU254-FQ254","v":419.9},{"$f":"FP254-FR254","v":0},{"$f":"DU254-FP254-FQ254+FR254","v":419.9},{"$f":"FQ254-FR254","v":0},{"$f":"ROUND(SUMIF(AA28:AA252,\"=85312298\",GX28:GX252),2)","v":0},{"$f":"ROUND(SUMIF(AA28:AA252,\"=85312298\",GY28:GY252),2)","v":0},{"$f":"ROUND(SUMIF(AA28:AA252,\"=85312298\",GZ28:GZ252),2)","v":0},{"$f":"ROUND(SUMIF(AA28:AA252,\"=85312298\",HD28:HD252),2)","v":0},null,null,null,null,null,null,null,null,null,null,null,null,null,null,null,null,null,null,0]
[]
[50,0,0,1,201,{"$f":"ROUND(Source!O254,O256)","v":16347.95},"ПЗ","Прямые затраты",null,null,201,1,3,"",2,{"$f":"ROUND(Source!DG254,O256)","v":16347.95},null,null,null,null,null,null,16347.949999999997,1,16347.949999999997,16347.949999999997,1,16347.949999999997]
[50,0,0,1,202,{"$f":"ROUND(Source!P254,O257)","v":419.9},"СтМатОб","Стоимость материальных ресурсов (всего)",null,null,202,2,3,"",2,{"$f":"ROUND(Source!DH254,O257)","v":419.9},null,null,null,null,null,null,419.9,1,419.9,419.9,1,419.9]
[50,0,0,1,222,{"$f":"ROUND(Source!AO254,O258)","v":0},"СтМатОбЗак","Стоимость материалов и оборудования заказчика",null,null,222,3,3,"",2,{"$f":"ROUND(Source!EG254,O258)","v":0},null,null,null,null,null,null,0,1,0,0,1,0]
[50,0,0,1,225,{"$f":"ROUND(Source!AV254,O259)","v":419.9},"СтМатОбПод","Стоимость материалов и оборудования подрядчика",null,null,225,4,3,"",2,{"$f":"ROUND(Source!EN254,O259)","v":419.9},null,null,null,null,null,null,419.9,1,419.9,419.9,1,419.9]
[50,0,0,1,226,{"$f":"ROUND(Source!AW254,O260)","v":419.9},"СтМат","Стоимость материалов (всего)",null,null,226,5,3,"",2,{"$f":"ROUND(Source!EO254,O260)","v":419.9},null,null,null,null,null,null,419.9,1,419.9,419.9,1,419.9]
[50,0,0,1,227,{"$f":"ROUND(Source!AX254,O261)","v":0},"СтМатЗак","Стоимость материалов заказчика",null,null,227,6,3,"",2,{"$f":"ROUND(Source!EP254,O261)","v":0},null,null,null,null,null,null,0,1,0,0,1,0]
[50,0,0,1,228,{"$f":"ROUND(Source!AY254,O262)","v":419.9},"СтМатПод","Стоимость материалов подрядчика",null,null,228,7,3,"",2,{"$f":"ROUND(Source!EQ254,O262)","v":419.9},null,null,null,null,null,null,419.9,1,419.9,419.9,1,419.9]
[50,0,0,1,216,{"$f":"ROUND(Source!AP254,O263)","v":0},"Оборуд","Стоимость оборудования (всего)",null,null,216,8,3,"",2,{"$f":"ROUND(Source!EH254,O263)","v":0},null,null,null,null,null,null,0,1,0,0,1,0]
[50,0,0,1,223,{"$f":"ROUND(Source!AQ254,O264)","v":0},"ОборудЗак","Стоимость оборудования заказчика",null,null,223,9,3,"",2,{"$f":"ROUND(Source!EI254,O264)","v":0},null,null,null,null,null,null,0,1,0,0,1,0]
[50,0,0,1,229,{"$f":"ROUND(Source!AZ254,O265)","v":0},"ОборудПод","Стоимость оборудования подрядчика",null,null,229,10,3,"",2,{"$f":"ROUND(Source!ER254,O265)","v":0},null,null,null,null,null,null,0,1,0,0,1,0]
[50,0,0,1,203,{"$f":"ROUND(Source!Q254,O266)","v":821.24},"ЭММ","Эксплуатация машин",null,null,203,11,3,"",2,{"$f":"ROUND(Source!DI254,O266)","v":821.24},null,null,null,null,null,null,821.24000000000012,1,821.24000000000012,821.24000000000012,1,821.24000000000012]
[50,0,0,1,231,{"$f":"ROUND(Source!BB254,O267)","v":0},"ЭММсНРиСП","Эксплуатация машин по ТСН-2001.16",null,null,231,12,3,"",2,{"$f":"ROUND(Source!ET254,O267)","v":0},null,null,null,null,null,null,0,1,0,0,1,0]
[50,0,0,1,204,{"$f":"ROUND(Source!R254,O268)","v":1158.1300000000001},"ЗПМ","ЗП машинистов",null,null,204,13,3,"",2,{"$f":"ROUND(Source!DJ254,O268)","v":1158.1300000000001},null,null,null,null,null,null,1158.1300000000001,1,1158.1300000000001,1158.1300000000001,1,1158.1300000000001]
[50,0,0,1,205,{"$f":"ROUND(Source!S254,O269)","v":13948.68},"ОЗП","Основная ЗП рабочих",null,null,205,14,3,"",2,{"$f":"ROUND(Source!DK254,O269)","v":13948.68},null,null,null,null,null,null,13948.679999999997,1,13948.679999999997,13948.679999999997,1,13948.679999999997]
[50,0,0,1,232,{"$f":"ROUND(Source!BC254,O270)","v":0},"ОЗПсНРиСП","Основная ЗП рабочих по ТСН-2001.16",null,null,232,15,3,"",2,{"$f":"ROUND(Source!EU254,O270)","v":0},null,null,null,null,null,null,0,1,0,0,1,0]
[50,0,0,1,214,{"$f":"ROUND(Source!AS254,O271)","v":18320.71},"Строит","Строительные работы с НР и СП",null,null,214,16,3,"",2,{"$f":"ROUND(Source!EK254,O271)","v":18320.71},null,null,null,null,null,null,18320.71,1,18320.71,18320.71,1,18320.71]
[50,0,0,1,215,{"$f":"ROUND(Source!AT254,O272)","v":21169.98},"Монтаж","Монтажные работы с НР и СП",null,null,215,17,3,"",2,{"$f":"ROUND(Source!EL254,O272)","v":21169.98},null,null,null,null,null,null,21169.98,1,21169.98,21169.98,1,21169.98]
[50,0,0,1,217,{"$f":"ROUND(Source!AU254,O273)","v":0},"Прочие","Прочие работы с НР и СП",null,null,217,18,3,"",2,{"$f":"ROUND(Source!EM254,O273)","v":0},null,null,null,null,null,null,0,1,0,0,1,0]
[50,0,0,1,230,{"$f":"ROUND(Source!BA254,O274)","v":0},"ПрочиеЗатр","Прочие затраты по ТСН-2001.16",null,null,230,19,3,"",2,{"$f":"ROUND(Source!ES254,O274)","v":0},null,null,null,null,null,null,0,1,0,0,1,0]
[50,0,0,1,206,{"$f":"ROUND(Source!T254,O275)","v":0},"ВозврМат","Возврат материалов",null,null,206,20,3,"",2,{"$f":"ROUND(Source!DL254,O275)","v":0},null,null,null,null,null,null,0,1,0,0,1,0]
[50,0,0,1,207,{"$f":"ROUND(Source!U254,O276)","v":17.486015999999999},"ТрудСтр","Трудозатраты строителей",null,null,207,21,3,"",7,{"$f":"ROUND(Source!DM254,O276)","v":17.486015999999999},null,null,null,null,null,null,17.486015999999999,1,17.486015999999999,17.486015999999999,1,17.486015999999999]
[50,0,0,1,208,{"$f":"ROUND(Source!V254,O277)","v":1.4022504},"ТрудМаш","Трудозатраты машинистов",null,null,208,22,3,"",7,{"$f":"ROUND(Source!DN254,O277)","v":1.4022504},null,null,null,null,null,null,1.4022504,1,1.4022504,1.4022504,1,1.4022504]
[50,0,0,1,209,{"$f":"ROUND(Source!W254,O278)","v":0},"ТранспМат","Транспорт материалов",null,null,209,23,3,"",2,{"$f":"ROUND(Source!DO254,O278)","v":0},null,null,null,null,null,null,0,1,0,0,1,0]
[50,0,0,1,233,{"$f":"ROUND(Source!BD254,O279)","v":0},"Перевозка","Перевозка грузов",null,null,233,24,3,"",2,{"$f":"ROUND(Source!EV254,O279)","v":0},null,null,null,null,null,null,0,1,0,0,1,0]
[50,0,0,1,210,{"$f":"ROUND(Source!X254,O280)","v":15009.76},"НР","Накладные расходы",null,null,210,25,3,"",2,{"$f":"ROUND(Source!DP254,O280)","v":15009.76},null,null,null,null,null,null,15009.76,1,15009.76,15009.76,1,15009.76]
[50,0,0,1,211,{"$f":"ROUND(Source!Y254,O281)","v":8132.98},"СмПриб","Сметная прибыль",null,null,211,26,3,"",2,{"$f":"ROUND(Source!DQ254,O281)","v":8132.98},null,null,null,null,null,null,8132.98,1,8132.98,8132.98,1,8132.98]
[50,0,0,1,224,{"$f":"ROUND(Source!AR254,O282)","v":39490.69},"Всего","Всего с НР и СП",null,null,224,27,3,"",2,{"$f":"ROUND(Source!EJ254,O282)","v":39490.69},null,null,null,null,null,null,39490.69,1,39490.69,39490.69,1,39490.69]
[]
[4,1,null,{"$f":"ROW(A319)","v":319},null,"Новый раздел","Заземление","",0,null,0,null,"",null,null,null,null,null,0,0,"",0,null,null,null,null,null,"","","","","","",null,null,null,null,null,null,null,null,"","","",null,null,null,null,null,null,null,"",null,"","","","","","","","","","","","","","","",null,null,null,null,null,null,null,0,null,null,null,null,null,null,null,null,null,null,null,0]
[]
[52,{"$f":"B319","v":1},4,284,0,"Новый раздел","Заземление",null,null,null,null,null,null,null,{"$f":"O319","v":23022.34},10222.790000000001,395.79,278.13,12125.63,0,16.085760000000001,0.29241600000000001,0,11799.1,6006.15,0,0,23022.34,10222.790000000001,395.79,278.13,12125.63,0,16.085760000000001,0.29241600000000001,0,11799.1,6006.15,0,0,0,0,0,40827.589999999997,14817.99,26009.599999999999,{"$f":"AU319","v":0},10222.790000000001,10222.790000000001,0,10222.790000000001,0,0,0,0,0,0,0,0,0,0,0,0,0,0,0,0,0,0,0,0,0,0,0,0,0,0,0,{"$f":"CA319","v":40827.589999999997},14817.99,26009.599999999999,0,10222.790000000001,10222.790000000001,0,10222.790000000001,0,0,0,0,0,0,0,0,0,0,0,0,0,0,0,0,0,0,0,0,0,0,0,0,{"$f":"DG319","v":23022.34},10222.790000000001,395.79,278.13,12125.63,0,16.085760000000001,0.29241600000000001,0,11799.1,6006.15,0,0,23022.34,10222.790000000001,395.79,278.13,12125.63,0,16.085760000000001,0.29241600000000001,0,11799.1,6006.15,0,0,0,0,0,40827.589999999997,14817.99,26009.599999999999,{"$f":"EM319","v":0},10222.790000000001,10222.790000000001,0,10222.790000000001,0,0,0,0,0,0,0,0,0,0,0,0,0,0,0,0,0,0,0,0,0,0,0,0,0,0,0,{"$f":"FS319","v":40827.589999999997},14817.99,26009.599999999999,0,10222.790000000001,10222.790000000001,0,10222.790000000001,0,0,0,0,0,0,0,0,0,0,0,0,0,0,0,0,0,0,0,0,0,0,0,0]
[]
[17,1,{"$f":"ROW(SmtRes!A569)","v":569},{"$f":"ROW(EtalonRes!A569)","v":569},"14","01-02-057-02","Разработка грунта вручную в траншеях глубиной до 2 м без креплений с откосами, группа грунтов: 2","100 м3",1.536E-2,0,1.536E-2,1.536E-2,0,{"$f":"ROUND(L288-M288,4)","v":1.54E-2},{"$f":"ROUND(CP288,2)","v":1874.37},{"$f":"SUMIF(SmtRes!AQ569:'SmtRes'!AQ569,\"=1\",SmtRes!DF569:'SmtRes'!DF569)","v":0},{"$f":"SUMIF(SmtRes!AQ569:'SmtRes'!AQ569,\"=1\",SmtRes!DG569:'SmtRes'!DG569)","v":0},{"$f":"SUMIF(SmtRes!AQ569:'SmtRes'!AQ569,\"=1\",SmtRes!DH569:'SmtRes'!DH569)","v":0},{"$f":"SUMIF(SmtRes!AQ569:'SmtRes'!AQ569,\"=1\",SmtRes!DI569:'SmtRes'!DI569)","v":1874.37},{"$f":"ROUND(CU288*I288,2)","v":0},{"$f":"SUMIF(SmtRes!AQ569:'SmtRes'!AQ569,\"=1\",SmtRes!CV569:'SmtRes'!CV569)","v":2.8385280000000002},{"$f":"SUMIF(SmtRes!AQ569:'SmtRes'!AQ569,\"=1\",SmtRes!CW569:'SmtRes'!CW569)","v":0},{"$f":"ROUND(CX288*I288,2)","v":0},{"$f":"ROUND(CY288,2)","v":1668.19},749.75,null,85312357,{"$f":"ROUND((AC288+AD288+AF288),2)","v":122028.98},{"$f":"ROUND((0),2)","v":0},{"$f":"ROUND((((0)-(0))+AE288),2)","v":0},{"$f":"ROUND((0),2)","v":0},{"$f":"ROUND((SUM(SmtRes!BT569:'SmtRes'!BT569)),2)","v":122028.98},{"$f":"ROUND((AP288),2)","v":0},{"$f":"(SUM(SmtRes!BU569:'SmtRes'!BU569))","v":184.79999999999998},{"$f":"(0)","v":0},{"$f":"(AS288)","v":0},101690.82,0,0,0,101690.82,0,154,0,0,89,40,1,1,null,null,1,1,1,1,"","","","",0,1,"ГЭСН-2022, 01-02-057-02, приказ Минстроя России от 18.05.2022 г. № 378/пр",null,null,1003,0,"",0,2,0,1,1,1,1,1,1,"",89,40,"",null,null,0,0,0,14,0,0,0,0,0,"Поправка: 421/пр_2020_прил.10_т.1_п.4_гр.5 Наименование: Производство работ осуществляется в охранной зоне действующей воздушной линии электропередачи, вблизи объектов, находящихся под напряжением, внутри объектов капитального строительства, внутренняя проводка в которых не обесточена, если это приведет к ограничению действий рабочих в соответствии с требованиями техники безопасности",0,{"$f":"(P288+Q288+S288+R288)","v":1874.37},{"$f":"SUMIF(SmtRes!AQ569:'SmtRes'!AQ569,\"=1\",SmtRes!AA569:'SmtRes'!AA569)","v":0},{"$f":"SUMIF(SmtRes!AQ569:'SmtRes'!AQ569,\"=1\",SmtRes!AB569:'SmtRes'!AB569)","v":0},{"$f":"SUMIF(SmtRes!AQ569:'SmtRes'!AQ569,\"=1\",SmtRes!AC569:'SmtRes'!AC569)","v":0},{"$f":"SUMIF(SmtRes!AQ569:'SmtRes'!AQ569,\"=1\",SmtRes!AD569:'SmtRes'!AD569)","v":660.33},{"$f":"AG288","v":0},{"$f":"SUMIF(SmtRes!AQ569:'SmtRes'!AQ569,\"=1\",SmtRes!BU569:'SmtRes'!BU569)","v":184.79999999999998},{"$f":"SUMIF(SmtRes!AQ569:'SmtRes'!AQ569,\"=1\",SmtRes!BV569:'SmtRes'!BV569)","v":0},{"$f":"AJ288","v":0},{"$f":"(((S288+R288)*AT288)/100)","v":1668.1893},{"$f":"(((S288+R288)*AU288)/100)","v":749.74799999999993},null,27,"","","*(0,2+1)","*(0,2+1)","*(0,2+1)","","*(0,2+1)","*(0,2+1)","","","",0,0,1,1,null,null,null,1007,"100 м3","100 м3",100,null,"","","","",null,83666801,2,"Общестроительные работы",1,"Земляные работы",1,1003,"Земляные работы, выполняемые: ручным способом","ФЕР-01",null,"Поправка: 421/пр_2020_прил.10_т.1_п.4_гр.5",null,131072,0,0,0,0,0,154,0,0,null,null,null,null,null,null,null,null,null,null,null,null,null,null,null,null,null,0,0,0,null,null,null,null,89,40,null,"",null,null,1,null,-179514182,2,1,-2,0,0,{"$f":"ROUND(IF(AND(BH288=3,BI288=3,FS288<>0),P288,0),2)","v":0},{"$f":"ROUND(O288+X288+Y288,2)+GX288","v":4292.3100000000004},{"$f":"IF(OR(BI288=0,BI288=1),GM288-GX288,0)","v":4292.3100000000004},{"$f":"IF(BI288=2,GM288-GX288,0)","v":0},{"$f":"IF(BI288=4,GM288-GX288,0)","v":0},null,0,3,0,"",{"$f":"ROUND((GT288),2)","v":0},1,{"$f":"ROUND(HC288*I288,2)","v":0},null,null,0,0,{"$f":"GV288*GW288","v":0},null,"","",null,null,null,null,null,null,"","Пр/812-001.2-1","Пр/774-001.2","Земляные работы, выполняемые: ручным способом","Земляные работы, выполняемые: ручным способом",null,0,null,null,null,null,null,null,null,null,null,null,null,null,null,null,null,null,null,0]
[17,1,{"$f":"ROW(SmtRes!A570)","v":570},{"$f":"ROW(EtalonRes!A570)","v":570},"14","01-02-057-02","Разработка грунта вручную в траншеях глубиной до 2 м без креплений с откосами, группа грунтов: 2","100 м3",1.536E-2,0,1.536E-2,1.536E-2,0,1.54E-2,1874.37,{"$f":"SUMIF(SmtRes!AQ570:'SmtRes'!AQ570,\"=1\",SmtRes!DF570:'SmtRes'!DF570)","v":0},{"$f":"SUMIF(SmtRes!AQ570:'SmtRes'!AQ570,\"=1\",SmtRes!DG570:'SmtRes'!DG570)","v":0},{"$f":"SUMIF(SmtRes!AQ570:'SmtRes'!AQ570,\"=1\",SmtRes!DH570:'SmtRes'!DH570)","v":0},{"$f":"SUMIF(SmtRes!AQ570:'SmtRes'!AQ570,\"=1\",SmtRes!DI570:'SmtRes'!DI570)","v":1874.37},0,{"$f":"SUMIF(SmtRes!AQ570:'SmtRes'!AQ570,\"=1\",SmtRes!CV570:'SmtRes'!CV570)","v":2.8385280000000002},{"$f":"SUMIF(SmtRes!AQ570:'SmtRes'!AQ570,\"=1\",SmtRes!CW570:'SmtRes'!CW570)","v":0},0,1668.19,749.75,null,85312298,122028.98,{"$f":"ROUND((0),2)","v":0},{"$f":"ROUND((((0)-(0))+AE289),2)","v":0},{"$f":"ROUND((0),2)","v":0},{"$f":"ROUND((SUM(SmtRes!BT570:'SmtRes'!BT570)),2)","v":122028.98},0,{"$f":"(SUM(SmtRes!BU570:'SmtRes'!BU570))","v":184.79999999999998},{"$f":"(0)","v":0},0,101690.82,0,0,0,101690.82,0,154,0,0,89,40,1,1,null,null,1,1,1,1,"","","","",0,1,"ГЭСН-2022, 01-02-057-02, приказ Минстроя России от 18.05.2022 г. № 378/пр",null,null,1003,0,"",0,2,0,1,1,1,1,1,1,"",89,40,"",null,null,0,0,0,14,0,0,0,0,0,"Поправка: 421/пр_2020_прил.10_т.1_п.4_гр.5 Наименование: Производство работ осуществляется в охранной зоне действующей воздушной линии электропередачи, вблизи объектов, находящихся под напряжением, внутри объектов капитального строительства, внутренняя проводка в которых не обесточена, если это приведет к ограничению действий рабочих в соответствии с требованиями техники безопасности",0,1874.37,{"$f":"SUMIF(SmtRes!AQ570:'SmtRes'!AQ570,\"=1\",SmtRes!AA570:'SmtRes'!AA570)","v":0},{"$f":"SUMIF(SmtRes!AQ570:'SmtRes'!AQ570,\"=1\",SmtRes!AB570:'SmtRes'!AB570)","v":0},{"$f":"SUMIF(SmtRes!AQ570:'SmtRes'!AQ570,\"=1\",SmtRes!AC570:'SmtRes'!AC570)","v":0},{"$f":"SUMIF(SmtRes!AQ570:'SmtRes'!AQ570,\"=1\",SmtRes!AD570:'SmtRes'!AD570)","v":660.33},0,{"$f":"SUMIF(SmtRes!AQ570:'SmtRes'!AQ570,\"=1\",SmtRes!BU570:'SmtRes'!BU570)","v":184.79999999999998},{"$f":"SUMIF(SmtRes!AQ570:'SmtRes'!AQ570,\"=1\",SmtRes!BV570:'SmtRes'!BV570)","v":0},0,1668.1893,749.74799999999993,null,28,"","","*(0,2+1)","*(0,2+1)","*(0,2+1)","","*(0,2+1)","*(0,2+1)","","","",0,0,1,1,null,null,null,1007,"100 м3","100 м3",100,null,"","","","",null,83666801,2,"Общестроительные работы",1,"Земляные работы",1,1003,"Земляные работы, выполняемые: ручным способом","ФЕР-01",null,"Поправка: 421/пр_2020_прил.10_т.1_п.4_гр.5",null,131072,0,0,0,0,0,154,0,0,null,null,null,null,null,null,null,null,null,null,null,null,null,null,null,null,null,0,0,0,null,null,null,null,89,40,null,"",null,null,1,null,-179514182,2,1,-2,0,0,0,4292.3100000000004,4292.3100000000004,0,0,null,0,3,0,"",0,1,0,null,null,0,0,0,null,"","",null,null,null,null,null,null,"","Пр/812-001.2-1","Пр/774-001.2","Земляные работы, выполняемые: ручным способом","Земляные работы, выполняемые: ручным способом",null,0,null,null,null,null,null,null,null,null,null,null,null,null,null,null,null,null,null,0]
[17,1,{"$f":"ROW(SmtRes!A571)","v":571},{"$f":"ROW(EtalonRes!A571)","v":571},"15","01-02-061-01","Засыпка вручную траншей, пазух котлованов и ям, группа грунтов: 1","100 м3",1.536E-2,0,1.536E-2,1.536E-2,0,1.54E-2,1032.68,{"$f":"SUMIF(SmtRes!AQ571:'SmtRes'!AQ571,\"=1\",SmtRes!DF571:'SmtRes'!DF571)","v":0},{"$f":"SUMIF(SmtRes!AQ571:'SmtRes'!AQ571,\"=1\",SmtRes!DG571:'SmtRes'!DG571)","v":0},{"$f":"SUMIF(SmtRes!AQ571:'SmtRes'!AQ571,\"=1\",SmtRes!DH571:'SmtRes'!DH571)","v":0},{"$f":"SUMIF(SmtRes!AQ571:'SmtRes'!AQ571,\"=1\",SmtRes!DI571:'SmtRes'!DI571)","v":1032.68},0,{"$f":"SUMIF(SmtRes!AQ571:'SmtRes'!AQ571,\"=1\",SmtRes!CV571:'SmtRes'!CV571)","v":1.631232},{"$f":"SUMIF(SmtRes!AQ571:'SmtRes'!AQ571,\"=1\",SmtRes!CW571:'SmtRes'!CW571)","v":0},0,919.09,413.07,null,85312357,67232.03,{"$f":"ROUND((0),2)","v":0},{"$f":"ROUND((((0)-(0))+AE290),2)","v":0},{"$f":"ROUND((0),2)","v":0},{"$f":"ROUND((SUM(SmtRes!BT571:'SmtRes'!BT571)),2)","v":67232.03},0,{"$f":"(SUM(SmtRes!BU571:'SmtRes'!BU571))","v":106.2},{"$f":"(0)","v":0},0,56026.695000000007,0,0,0,56026.695000000007,0,88.5,0,0,89,40,1,1,null,null,1,1,1,1,"","","","",0,1,"ГЭСН-2022, 01-02-061-01, приказ Минстроя России от 18.05.2022 г. № 378/пр",null,null,1003,0,"",0,2,0,1,1,1,1,1,1,"",89,40,"",null,null,0,0,0,15,0,0,0,0,0,"Поправка: 421/пр_2020_прил.10_т.1_п.4_гр.5 Наименование: Производство работ осуществляется в охранной зоне действующей воздушной линии электропередачи, вблизи объектов, находящихся под напряжением, внутри объектов капитального строительства, внутренняя проводка в которых не обесточена, если это приведет к ограничению действий рабочих в соответствии с требованиями техники безопасности",0,1032.68,{"$f":"SUMIF(SmtRes!AQ571:'SmtRes'!AQ571,\"=1\",SmtRes!AA571:'SmtRes'!AA571)","v":0},{"$f":"SUMIF(SmtRes!AQ571:'SmtRes'!AQ571,\"=1\",SmtRes!AB571:'SmtRes'!AB571)","v":0},{"$f":"SUMIF(SmtRes!AQ571:'SmtRes'!AQ571,\"=1\",SmtRes!AC571:'SmtRes'!AC571)","v":0},{"$f":"SUMIF(SmtRes!AQ571:'SmtRes'!AQ571,\"=1\",SmtRes!AD571:'SmtRes'!AD571)","v":633.07000000000005},0,{"$f":"SUMIF(SmtRes!AQ571:'SmtRes'!AQ571,\"=1\",SmtRes!BU571:'SmtRes'!BU571)","v":106.2},{"$f":"SUMIF(SmtRes!AQ571:'SmtRes'!AQ571,\"=1\",SmtRes!BV571:'SmtRes'!BV571)","v":0},0,919.08519999999999,413.07200000000006,null,29,"","","*(0,2+1)","*(0,2+1)","*(0,2+1)","","*(0,2+1)","*(0,2+1)","","","",0,0,1,1,null,null,null,1007,"100 м3","100 м3",100,null,"","","","",null,83666801,2,"Общестроительные работы",1,"Земляные работы",1,1003,"Земляные работы, выполняемые: ручным способом","ФЕР-01",null,"Поправка: 421/пр_2020_прил.10_т.1_п.4_гр.5",null,131072,0,0,0,0,0,88.5,0,0,null,null,null,null,null,null,null,null,null,null,null,null,null,null,null,null,null,0,0,0,null,null,null,null,89,40,null,"",null,null,1,null,-554441893,2,1,-2,0,0,0,2364.84,2364.84,0,0,null,0,3,0,"",0,1,0,null,null,0,0,0,null,"","",null,null,null,null,null,null,"","Пр/812-001.2-1","Пр/774-001.2","Земляные работы, выполняемые: ручным способом","Земляные работы, выполняемые: ручным способом",null,0,null,null,null,null,null,null,null,null,null,null,null,null,null,null,null,null,null,0]
[17,1,{"$f":"ROW(SmtRes!A572)","v":572},{"$f":"ROW(EtalonRes!A572)","v":572},"15","01-02-061-01","Засыпка вручную траншей, пазух котлованов и ям, группа грунтов: 1","100 м3",1.536E-2,0,1.536E-2,1.536E-2,0,1.54E-2,1032.68,{"$f":"SUMIF(SmtRes!AQ572:'SmtRes'!AQ572,\"=1\",SmtRes!DF572:'SmtRes'!DF572)","v":0},{"$f":"SUMIF(SmtRes!AQ572:'SmtRes'!AQ572,\"=1\",SmtRes!DG572:'SmtRes'!DG572)","v":0},{"$f":"SUMIF(SmtRes!AQ572:'SmtRes'!AQ572,\"=1\",SmtRes!DH572:'SmtRes'!DH572)","v":0},{"$f":"SUMIF(SmtRes!AQ572:'SmtRes'!AQ572,\"=1\",SmtRes!DI572:'SmtRes'!DI572)","v":1032.68},0,{"$f":"SUMIF(SmtRes!AQ572:'SmtRes'!AQ572,\"=1\",SmtRes!CV572:'SmtRes'!CV572)","v":1.631232},{"$f":"SUMIF(SmtRes!AQ572:'SmtRes'!AQ572,\"=1\",SmtRes!CW572:'SmtRes'!CW572)","v":0},0,919.09,413.07,null,85312298,67232.03,{"$f":"ROUND((0),2)","v":0},{"$f":"ROUND((((0)-(0))+AE291),2)","v":0},{"$f":"ROUND((0),2)","v":0},{"$f":"ROUND((SUM(SmtRes!BT572:'SmtRes'!BT572)),2)","v":67232.03},0,{"$f":"(SUM(SmtRes!BU572:'SmtRes'!BU572))","v":106.2},{"$f":"(0)","v":0},0,56026.695000000007,0,0,0,56026.695000000007,0,88.5,0,0,89,40,1,1,null,null,1,1,1,1,"","","","",0,1,"ГЭСН-2022, 01-02-061-01, приказ Минстроя России от 18.05.2022 г. № 378/пр",null,null,1003,0,"",0,2,0,1,1,1,1,1,1,"",89,40,"",null,null,0,0,0,15,0,0,0,0,0,"Поправка: 421/пр_2020_прил.10_т.1_п.4_гр.5 Наименование: Производство работ осуществляется в охранной зоне действующей воздушной линии электропередачи, вблизи объектов, находящихся под напряжением, внутри объектов капитального строительства, внутренняя проводка в которых не обесточена, если это приведет к ограничению действий рабочих в соответствии с требованиями техники безопасности",0,1032.68,{"$f":"SUMIF(SmtRes!AQ572:'SmtRes'!AQ572,\"=1\",SmtRes!AA572:'SmtRes'!AA572)","v":0},{"$f":"SUMIF(SmtRes!AQ572:'SmtRes'!AQ572,\"=1\",SmtRes!AB572:'SmtRes'!AB572)","v":0},{"$f":"SUMIF(SmtRes!AQ572:'SmtRes'!AQ572,\"=1\",SmtRes!AC572:'SmtRes'!AC572)","v":0},{"$f":"SUMIF(SmtRes!AQ572:'SmtRes'!AQ572,\"=1\",SmtRes!AD572:'SmtRes'!AD572)","v":633.07000000000005},0,{"$f":"SUMIF(SmtRes!AQ572:'SmtRes'!AQ572,\"=1\",SmtRes!BU572:'SmtRes'!BU572)","v":106.2},{"$f":"SUMIF(SmtRes!AQ572:'SmtRes'!AQ572,\"=1\",SmtRes!BV572:'SmtRes'!BV572)","v":0},0,919.08519999999999,413.07200000000006,null,30,"","","*(0,2+1)","*(0,2+1)","*(0,2+1)","","*(0,2+1)","*(0,2+1)","","","",0,0,1,1,null,null,null,1007,"100 м3","100 м3",100,null,"","","","",null,83666801,2,"Общестроительные работы",1,"Земляные работы",1,1003,"Земляные работы, выполняемые: ручным способом","ФЕР-01",null,"Поправка: 421/пр_2020_прил.10_т.1_п.4_гр.5",null,131072,0,0,0,0,0,88.5,0,0,null,null,null,null,null,null,null,null,null,null,null,null,null,null,null,null,null,0,0,0,null,null,null,null,89,40,null,"",null,null,1,null,-554441893,2,1,-2,0,0,0,2364.84,2364.84,0,0,null,0,3,0,"",0,1,0,null,null,0,0,0,null,"","",null,null,null,null,null,null,"","Пр/812-001.2-1","Пр/774-001.2","Земляные работы, выполняемые: ручным способом","Земляные работы, выполняемые: ручным способом",null,0,null,null,null,null,null,null,null,null,null,null,null,null,null,null,null,null,null,0]
[17,1,{"$f":"ROW(SmtRes!A580)","v":580},{"$f":"ROW(EtalonRes!A580)","v":580},"16","м08-02-471-01","Заземлитель вертикальный из угловой стали размером: 50х50х5 мм","10 ШТ",0.4,0,0.4,0.4,0,0.4,4839.75,{"$f":"SUMIF(SmtRes!AQ573:'SmtRes'!AQ580,\"=1\",SmtRes!DF573:'SmtRes'!DF580)","v":943.11999999999989},{"$f":"SUMIF(SmtRes!AQ573:'SmtRes'!AQ580,\"=1\",SmtRes!DG573:'SmtRes'!DG580)","v":210.16},{"$f":"SUMIF(SmtRes!AQ573:'SmtRes'!AQ580,\"=1\",SmtRes!DH573:'SmtRes'!DH580)","v":155.22},{"$f":"SUMIF(SmtRes!AQ573:'SmtRes'!AQ580,\"=1\",SmtRes!DI573:'SmtRes'!DI580)","v":3531.25},0,{"$f":"SUMIF(SmtRes!AQ573:'SmtRes'!AQ580,\"=1\",SmtRes!CV573:'SmtRes'!CV580)","v":4.4496000000000002},{"$f":"SUMIF(SmtRes!AQ573:'SmtRes'!AQ580,\"=1\",SmtRes!CW573:'SmtRes'!CW580)","v":0.16320000000000001},0,3575.88,1880.1,null,85312357,11277.78,{"$f":"ROUND((SUM(SmtRes!BQ573:'SmtRes'!BQ580)),2)","v":1924.28},{"$f":"ROUND((((SUM(SmtRes!BR573:'SmtRes'!BR580))-(SUM(SmtRes!BS573:'SmtRes'!BS580)))+AE292),2)","v":525.38},{"$f":"ROUND((SUM(SmtRes!BS573:'SmtRes'!BS580)),2)","v":388.06},{"$f":"ROUND((SUM(SmtRes!BT573:'SmtRes'!BT580)),2)","v":8828.1200000000008},0,{"$f":"(SUM(SmtRes!BU573:'SmtRes'!BU580))","v":11.123999999999999},{"$f":"(SUM(SmtRes!BV573:'SmtRes'!BV580))","v":0.40800000000000003},0,10042.2461,1924.2794999999999,437.81940000000003,323.38250000000005,7356.7646999999997,0,9.27,0.34,0,97,51,1,1,null,null,1,1,1,1,"","","","",0,2,"ГЭСНм-2022 доп.8, м08-02-471-01, приказ Минстроя России от 14.11.2023 г. № 817/пр",null,null,108001,0,"",0,3,0,1,1,1,1,1,1,"",97,51,"",null,null,0,0,0,16,0,0,0,0,0,"Поправка: 421/пр_2020_прил.10_т.1_п.4_гр.5 Наименование: Производство работ осуществляется в охранной зоне действующей воздушной линии электропередачи, вблизи объектов, находящихся под напряжением, внутри объектов капитального строительства, внутренняя проводка в которых не обесточена, если это приведет к ограничению действий рабочих в соответствии с требованиями техники безопасности",0,4839.75,{"$f":"SUMIF(SmtRes!AQ573:'SmtRes'!AQ580,\"=1\",SmtRes!AA573:'SmtRes'!AA580)","v":1260.8400000000001},{"$f":"SUMIF(SmtRes!AQ573:'SmtRes'!AQ580,\"=1\",SmtRes!AB573:'SmtRes'!AB580)","v":2302.6},{"$f":"SUMIF(SmtRes!AQ573:'SmtRes'!AQ580,\"=1\",SmtRes!AC573:'SmtRes'!AC580)","v":1902.25},{"$f":"SUMIF(SmtRes!AQ573:'SmtRes'!AQ580,\"=1\",SmtRes!AD573:'SmtRes'!AD580)","v":793.61},0,{"$f":"SUMIF(SmtRes!AQ573:'SmtRes'!AQ580,\"=1\",SmtRes!BU573:'SmtRes'!BU580)","v":11.123999999999999},{"$f":"SUMIF(SmtRes!AQ573:'SmtRes'!AQ580,\"=1\",SmtRes!BV573:'SmtRes'!BV580)","v":0.40800000000000003},0,3575.8758999999995,1880.0997,null,31,"","","*(0,2+1)","*(0,2+1)","*(0,2+1)","","*(0,2+1)","*(0,2+1)","","","",0,0,1,1,null,null,null,1013,"10 ШТ","10 ШТ",1,null,"","","","",null,83666702,3,"Монтажные работы",0,"",2,108001,"Электротехнические установки: на других объектах","мФЕР-08",null,"Поправка: 421/пр_2020_прил.10_т.1_п.4_гр.5",null,131072,0,0,0,0,0,9.27,0.34,0,null,null,null,null,null,null,null,null,null,null,null,null,null,null,null,null,null,0,0,0,null,null,null,null,97,51,null,"",null,null,1,null,-489921820,2,1,-2,0,0,0,10295.73,0,10295.73,0,null,0,3,0,"",0,1,0,null,null,0,0,0,null,"","",null,null,null,null,null,null,"","Пр/812-049.3-1","Пр/774-049.3","Электротехнические установки: на других объектах","Электротехнические установки: на других объектах",null,0,null,null,null,null,null,null,null,null,null,null,null,null,null,null,null,null,null,0]
[17,1,{"$f":"ROW(SmtRes!A588)","v":588},{"$f":"ROW(EtalonRes!A588)","v":588},"16","м08-02-471-01","Заземлитель вертикальный из угловой стали размером: 50х50х5 мм","10 ШТ",0.4,0,0.4,0.4,0,0.4,4839.75,{"$f":"SUMIF(SmtRes!AQ581:'SmtRes'!AQ588,\"=1\",SmtRes!DF581:'SmtRes'!DF588)","v":943.11999999999989},{"$f":"SUMIF(SmtRes!AQ581:'SmtRes'!AQ588,\"=1\",SmtRes!DG581:'SmtRes'!DG588)","v":210.16},{"$f":"SUMIF(SmtRes!AQ581:'SmtRes'!AQ588,\"=1\",SmtRes!DH581:'SmtRes'!DH588)","v":155.22},{"$f":"SUMIF(SmtRes!AQ581:'SmtRes'!AQ588,\"=1\",SmtRes!DI581:'SmtRes'!DI588)","v":3531.25},0,{"$f":"SUMIF(SmtRes!AQ581:'SmtRes'!AQ588,\"=1\",SmtRes!CV581:'SmtRes'!CV588)","v":4.4496000000000002},{"$f":"SUMIF(SmtRes!AQ581:'SmtRes'!AQ588,\"=1\",SmtRes!CW581:'SmtRes'!CW588)","v":0.16320000000000001},0,3575.88,1880.1,null,85312298,11277.78,{"$f":"ROUND((SUM(SmtRes!BQ581:'SmtRes'!BQ588)),2)","v":1924.28},{"$f":"ROUND((((SUM(SmtRes!BR581:'SmtRes'!BR588))-(SUM(SmtRes!BS581:'SmtRes'!BS588)))+AE293),2)","v":525.38},{"$f":"ROUND((SUM(SmtRes!BS581:'SmtRes'!BS588)),2)","v":388.06},{"$f":"ROUND((SUM(SmtRes!BT581:'SmtRes'!BT588)),2)","v":8828.1200000000008},0,{"$f":"(SUM(SmtRes!BU581:'SmtRes'!BU588))","v":11.123999999999999},{"$f":"(SUM(SmtRes!BV581:'SmtRes'!BV588))","v":0.40800000000000003},0,10042.2461,1924.2794999999999,437.81940000000003,323.38250000000005,7356.7646999999997,0,9.27,0.34,0,97,51,1,1,null,null,1,1,1,1,"","","","",0,2,"ГЭСНм-2022 доп.8, м08-02-471-01, приказ Минстроя России от 14.11.2023 г. № 817/пр",null,null,108001,0,"",0,3,0,1,1,1,1,1,1,"",97,51,"",null,null,0,0,0,16,0,0,0,0,0,"Поправка: 421/пр_2020_прил.10_т.1_п.4_гр.5 Наименование: Производство работ осуществляется в охранной зоне действующей воздушной линии электропередачи, вблизи объектов, находящихся под напряжением, внутри объектов капитального строительства, внутренняя проводка в которых не обесточена, если это приведет к ограничению действий рабочих в соответствии с требованиями техники безопасности",0,4839.75,{"$f":"SUMIF(SmtRes!AQ581:'SmtRes'!AQ588,\"=1\",SmtRes!AA581:'SmtRes'!AA588)","v":1260.8400000000001},{"$f":"SUMIF(SmtRes!AQ581:'SmtRes'!AQ588,\"=1\",SmtRes!AB581:'SmtRes'!AB588)","v":2302.6},{"$f":"SUMIF(SmtRes!AQ581:'SmtRes'!AQ588,\"=1\",SmtRes!AC581:'SmtRes'!AC588)","v":1902.25},{"$f":"SUMIF(SmtRes!AQ581:'SmtRes'!AQ588,\"=1\",SmtRes!AD581:'SmtRes'!AD588)","v":793.61},0,{"$f":"SUMIF(SmtRes!AQ581:'SmtRes'!AQ588,\"=1\",SmtRes!BU581:'SmtRes'!BU588)","v":11.123999999999999},{"$f":"SUMIF(SmtRes!AQ581:'SmtRes'!AQ588,\"=1\",SmtRes!BV581:'SmtRes'!BV588)","v":0.40800000000000003},0,3575.8758999999995,1880.0997,null,32,"","","*(0,2+1)","*(0,2+1)","*(0,2+1)","","*(0,2+1)","*(0,2+1)","","","",0,0,1,1,null,null,null,1013,"10 ШТ","10 ШТ",1,null,"","","","",null,83666702,3,"Монтажные работы",0,"",2,108001,"Электротехнические установки: на других объектах","мФЕР-08",null,"Поправка: 421/пр_2020_прил.10_т.1_п.4_гр.5",null,131072,0,0,0,0,0,9.27,0.34,0,null,null,null,null,null,null,null,null,null,null,null,null,null,null,null,null,null,0,0,0,null,null,null,null,97,51,null,"",null,null,1,null,-489921820,2,1,-2,0,0,0,10295.73,0,10295.73,0,null,0,3,0,"",0,1,0,null,null,0,0,0,null,"","",null,null,null,null,null,null,"","Пр/812-049.3-1","Пр/774-049.3","Электротехнические установки: на других объектах","Электротехнические установки: на других объектах",null,0,null,null,null,null,null,null,null,null,null,null,null,null,null,null,null,null,null,0]
[19,1,null,null,null,"","Монтаж уголка длинной 2,5м в грунт","",null,null,null,null,null,null,null,null,null,null,null,null,null,null,null,null,null,null,1,null,null,null,null,null,null,null,null,null,null,null,null,null,null,null,null,null,null,null,null,null,null,null,null,null,null,null,null,null,null,null,null,null,null,null,null,null,null,null,null,null,null,null,null,null,null,null,null,null,null,null,null,null,null,null,null,null,null,null,null,null,null,null,null,null,null,null,null,null,null,null,null,null,null,null,null,null,null,null,null,null,null,null,null,null,null,null,null,null,null,null,null,null,null,null,null,null,null,null,null,null,null,null,null,null,null,null,null,null,null,null,null,null,null,null,null,null,null,null,null,null,null,null,null,null,null,null,null,null,null,null,null,null,null,null,null,null,null,null,null,null,null,null,null,null,null,null,null,null,null,null,null,null,null,null,null,null,null,null,null,null,null,null,null,null,null,null,null,null,null,null,null,null,null,null,null,null,null,null,null,null,null,null,null,null,null,null,null,null,null,null,null,null,null,null,null,null,null,null,null,null,null,null,null,null,null,null,null,null,null,null,null,null,null,null,null,null,0]
[18,1,580,null,"16,1","421/пр_2020_п.75_пп.а","Сметная стоимость вспомогательных ненормируемых материальных ресурсов, не учтенная в сметной норме, 2%","%",{"$f":"J295","v":2},2,2,0.8,0,{"$f":"ROUND(L295-M295,4)","v":0.8},{"$f":"ROUND(P295,2)","v":58.85},{"$f":"ROUND(ROUND(ROUND(SUMIF(SmtRes!AQ581:'SmtRes'!AQ588,\"=1\",SmtRes!CU581:'SmtRes'!CU588),2),2)*I295/100,2)","v":58.85},{"$f":"ROUND(CR295*I295,2)","v":0},{"$f":"ROUND(CS295*I295,2)","v":0},{"$f":"ROUND(CT295*I295,2)","v":0},{"$f":"ROUND(CU295*I295,2)","v":0},{"$f":"ROUND(CV295*I295,7)","v":0},{"$f":"ROUND(CW295*I295,7)","v":0},{"$f":"ROUND(CX295*I295,2)","v":0},{"$f":"ROUND(CY295,2)","v":0},0,null,85312357,{"$f":"ROUND((AC295+AD295+AF295),2)","v":0},{"$f":"ROUND((ES295),2)","v":0},{"$f":"ROUND((((ET295)-(EU295))+AE295),2)","v":0},{"$f":"ROUND((EU295),2)","v":0},0,{"$f":"ROUND((AP295),2)","v":0},{"$f":"(EW295)","v":0},0,{"$f":"(AS295)","v":0},0,0,0,0,0,0,0,0,0,97,51,1,1,null,null,1,1,1,1,"","","","",3,2,"",null,null,108001,0,"",0,3,0,1,1,1,1,1,1,"",97,51,"",null,null,0,0,0,16,1,0,0,0,0,"",0,{"$f":"0","v":0},{"$f":"0","v":0},{"$f":"0","v":0},{"$f":"0","v":0},{"$f":"0","v":0},{"$f":"0","v":0},{"$f":"0","v":0},{"$f":"0","v":0},{"$f":"0","v":0},{"$f":"0","v":0},{"$f":"0","v":0},null,null,"","","","","","","","","","","",0,0,1,1,null,null,null,1013,"%","%",1,null,"","","","",null,83666702,3,"Монтажные работы",0,"",2,108001,"Электротехнические установки: на других объектах","мФЕР-08",null,"",null,0,0,0,0,0,0,0,0,null,null,null,null,null,null,null,null,null,null,null,null,null,null,null,null,null,null,0,0,0,null,null,null,null,97,51,null,"",null,null,1,null,274903907,2,1,-2,0,0,{"$f":"ROUND(IF(AND(BH295=3,BI295=3,FS295<>0),P295,0),2)","v":0},{"$f":"ROUND(O295+X295+Y295,2)+GX295","v":58.85},{"$f":"IF(OR(BI295=0,BI295=1),GM295-GX295,0)","v":0},{"$f":"IF(BI295=2,GM295-GX295,0)","v":58.85},{"$f":"IF(BI295=4,GM295-GX295,0)","v":0},null,0,3,0,"",{"$f":"ROUND((GT295),2)","v":0},1,{"$f":"ROUND(HC295*I295,2)","v":0},null,null,0,0,{"$f":"0","v":0},null,"","",null,null,null,null,null,null,"","Пр/812-049.3-1","Пр/774-049.3","Электротехнические установки: на других объектах","Электротехнические установки: на других объектах",null,0,null,null,null,null,null,null,null,null,null,null,null,null,null,null,null,null,null,0]
[18,1,588,null,"16,1","421/пр_2020_п.75_пп.а","Сметная стоимость вспомогательных ненормируемых материальных ресурсов, не учтенная в сметной норме, 2%","%",{"$f":"J296","v":2},2,2,0.8,0,0.8,{"$f":"ROUND(P296,2)","v":58.85},{"$f":"ROUND(ROUND(ROUND(SUMIF(SmtRes!AQ581:'SmtRes'!AQ588,\"=1\",SmtRes!CU581:'SmtRes'!CU588),2),2)*I296/100,2)","v":58.85},{"$f":"ROUND(CR296*I296,2)","v":0},{"$f":"ROUND(CS296*I296,2)","v":0},{"$f":"ROUND(CT296*I296,2)","v":0},0,{"$f":"ROUND(CV296*I296,7)","v":0},{"$f":"ROUND(CW296*I296,7)","v":0},0,0,0,null,85312298,0,{"$f":"ROUND((ES296),2)","v":0},{"$f":"ROUND((((ET296)-(EU296))+AE296),2)","v":0},0,0,0,0,0,0,0,0,0,0,0,0,0,0,0,97,51,1,1,null,null,1,1,1,1,"","","","",3,2,"",null,null,108001,0,"",0,3,0,1,1,1,1,1,1,"",97,51,"",null,null,0,0,0,16,1,0,0,0,0,"",0,{"$f":"0","v":0},{"$f":"0","v":0},{"$f":"0","v":0},{"$f":"0","v":0},{"$f":"0","v":0},{"$f":"0","v":0},{"$f":"0","v":0},{"$f":"0","v":0},{"$f":"0","v":0},{"$f":"0","v":0},{"$f":"0","v":0},null,null,"","","","","","","","","","","",0,0,1,1,null,null,null,1013,"%","%",1,null,"","","","",null,83666702,3,"Монтажные работы",0,"",2,108001,"Электротехнические установки: на других объектах","мФЕР-08",null,"",null,0,0,0,0,0,0,0,0,null,null,null,null,null,null,null,null,null,null,null,null,null,null,null,null,null,null,0,0,0,null,null,null,null,97,51,null,"",null,null,1,null,274903907,2,1,-2,0,0,0,58.85,0,58.85,0,null,0,3,0,"",0,1,0,null,null,0,0,{"$f":"0","v":0},null,"","",null,null,null,null,null,null,"","Пр/812-049.3-1","Пр/774-049.3","Электротехнические установки: на других объектах","Электротехнические установки: на других объектах",null,0,null,null,null,null,null,null,null,null,null,null,null,null,null,null,null,null,null,0]
[17,1,null,null,"17","ТЦ_01.7.11.00_77_7736281025_12.01.2026_02_41.1","Уголок 50х50х5","м",10,0,10,10,0,10,{"$f":"ROUND(CP297,2)","v":5182.6000000000004},{"$f":"ROUND(CQ297*I297,2)","v":5182.6000000000004},{"$f":"ROUND(CR297*I297,2)","v":0},{"$f":"ROUND(CS297*I297,2)","v":0},{"$f":"ROUND(CT297*I297,2)","v":0},0,{"$f":"ROUND(CV297*I297,7)","v":0},{"$f":"ROUND(CW297*I297,7)","v":0},0,0,0,null,85312357,518.26,{"$f":"ROUND((ES297),2)","v":518.26},{"$f":"ROUND((ET297),2)","v":0},0,0,0,0,0,0,518.26,518.26,0,0,0,0,0,0,0,0,0,1,1,null,null,1,1,1,1,"","","","",3,1,"ТЦ_01.7.11.00_77_7736281025_12.01.2026_02_41.1",null,null,900,0,"",0,90,0,1,1,1,1,1,1,"",0,0,"",null,null,0,0,0,17,0,0,0,0,0,"",0,{"$f":"(P297+Q297+S297+R297)","v":5182.6000000000004},{"$f":"ROUND(AL297,2)","v":518.26},{"$f":"ROUND(AM297,2)","v":0},{"$f":"ROUND(AN297*BS297,2)","v":0},{"$f":"ROUND(AO297*BA297,2)","v":0},{"$f":"AG297","v":0},0,0,0,{"$f":"0","v":0},{"$f":"0","v":0},null,null,"","","","","","","","","","","",0,0,1,1,null,null,null,1003,"м","м",1,null,"","","","",null,83667261,90,"Материалы, отсутствующие в СНБ (Строительные)",0,"",1,900,"Материалы, отсутствующие в СНБ (Строительные)","МР КА Строительные",null,"",null,131088,0,518.26,0,0,0,0,0,0,5,null,null,0,18,null,518.26,null,null,null,null,null,null,null,null,null,null,0,0,0,null,null,null,null,0,0,null,"",null,null,1,null,-1981188980,2,3,-2,0,0,0,5182.6000000000004,5182.6000000000004,0,0,null,1,1,0,"",0,1,0,null,null,0,0,{"$f":"GV297*GW297","v":0},null,"","",{"$f":"ROUND(ROUND(AL297,2)*I297,2)","v":5182.6000000000004},null,null,null,null,null,"","","","","",null,0,null,null,null,null,null,null,null,null,null,null,null,null,null,null,null,null,null,0]
[17,1,null,null,"17","ТЦ_01.7.11.00_77_7736281025_12.01.2026_02_41.1","Уголок 50х50х5","м",10,0,10,10,0,10,{"$f":"ROUND(CP298,2)","v":5182.6000000000004},{"$f":"ROUND(CQ298*I298,2)","v":5182.6000000000004},{"$f":"ROUND(CR298*I298,2)","v":0},{"$f":"ROUND(CS298*I298,2)","v":0},{"$f":"ROUND(CT298*I298,2)","v":0},0,{"$f":"ROUND(CV298*I298,7)","v":0},{"$f":"ROUND(CW298*I298,7)","v":0},0,0,0,null,85312298,518.26,{"$f":"ROUND((ES298),2)","v":518.26},{"$f":"ROUND((ET298),2)","v":0},0,0,0,0,0,0,518.26,518.26,0,0,0,0,0,0,0,0,0,1,1,null,null,1,1,1,1,"","","","",3,1,"ТЦ_01.7.11.00_77_7736281025_12.01.2026_02_41.1",null,null,900,0,"",0,90,0,1,1,1,1,1,1,"",0,0,"",null,null,0,0,0,17,0,0,0,0,0,"",0,{"$f":"(P298+Q298+S298+R298)","v":5182.6000000000004},{"$f":"ROUND(AL298,2)","v":518.26},{"$f":"ROUND(AM298,2)","v":0},{"$f":"ROUND(AN298*BS298,2)","v":0},{"$f":"ROUND(AO298*BA298,2)","v":0},0,0,0,0,{"$f":"0","v":0},{"$f":"0","v":0},null,null,"","","","","","","","","","","",0,0,1,1,null,null,null,1003,"м","м",1,null,"","","","",null,83667261,90,"Материалы, отсутствующие в СНБ (Строительные)",0,"",1,900,"Материалы, отсутствующие в СНБ (Строительные)","МР КА Строительные",null,"",null,131088,0,518.26,0,0,0,0,0,0,5,null,null,0,18,null,518.26,null,null,null,null,null,null,null,null,null,null,0,0,0,null,null,null,null,0,0,null,"",null,null,1,null,-1981188980,2,3,-2,0,0,0,5182.6000000000004,5182.6000000000004,0,0,null,1,1,0,"",0,1,0,null,null,0,0,{"$f":"GV298*GW298","v":0},null,"","",{"$f":"ROUND(ROUND(AL298,2)*I298,2)","v":5182.6000000000004},null,null,null,null,null,"","","","","",null,0,null,null,null,null,null,null,null,null,null,null,null,null,null,null,null,null,null,0]
[17,1,{"$f":"ROW(SmtRes!A596)","v":596},{"$f":"ROW(EtalonRes!A596)","v":596},"18","м08-02-472-01","Заземлитель горизонтальный из стали: круглой диаметром 12 мм","100 м",4.8000000000000001E-2,0,4.8000000000000001E-2,4.8000000000000001E-2,0,4.8000000000000001E-2,{"$f":"ROUND(CP299,2)","v":903.76},{"$f":"SUMIF(SmtRes!AQ589:'SmtRes'!AQ596,\"=1\",SmtRes!DF589:'SmtRes'!DF596)","v":112.89},{"$f":"SUMIF(SmtRes!AQ589:'SmtRes'!AQ596,\"=1\",SmtRes!DG589:'SmtRes'!DG596)","v":22.369999999999997},{"$f":"SUMIF(SmtRes!AQ589:'SmtRes'!AQ596,\"=1\",SmtRes!DH589:'SmtRes'!DH596)","v":14.25},{"$f":"SUMIF(SmtRes!AQ589:'SmtRes'!AQ596,\"=1\",SmtRes!DI589:'SmtRes'!DI596)","v":754.25},0,{"$f":"SUMIF(SmtRes!AQ589:'SmtRes'!AQ596,\"=1\",SmtRes!CV589:'SmtRes'!CV596)","v":0.95040000000000002},{"$f":"SUMIF(SmtRes!AQ589:'SmtRes'!AQ596,\"=1\",SmtRes!CW589:'SmtRes'!CW596)","v":1.4976E-2},0,745.45,391.94,null,85312357,18095.919999999998,{"$f":"ROUND((SUM(SmtRes!BQ589:'SmtRes'!BQ596)),2)","v":1916.5},{"$f":"ROUND((((SUM(SmtRes!BR589:'SmtRes'!BR596))-(SUM(SmtRes!BS589:'SmtRes'!BS596)))+AE299),2)","v":465.94},{"$f":"ROUND((SUM(SmtRes!BS589:'SmtRes'!BS596)),2)","v":296.75},{"$f":"ROUND((SUM(SmtRes!BT589:'SmtRes'!BT596)),2)","v":15713.48},0,{"$f":"(SUM(SmtRes!BU589:'SmtRes'!BU596))","v":19.8},{"$f":"(SUM(SmtRes!BV589:'SmtRes'!BV596))","v":0.312},0,15646.6412,1916.4979999999998,388.28570000000002,247.29250000000002,13094.565000000001,0,16.5,0.26,0,97,51,1,1,null,null,1,1,1,1,"","","","",0,2,"ГЭСНм-2022 доп.8, м08-02-472-01, приказ Минстроя России от 14.11.2023 г. № 817/пр",null,null,108001,0,"",0,3,0,1,1,1,1,1,1,"",97,51,"",null,null,0,0,0,18,0,0,0,0,0,"Поправка: 421/пр_2020_прил.10_т.1_п.4_гр.5 Наименование: Производство работ осуществляется в охранной зоне действующей воздушной линии электропередачи, вблизи объектов, находящихся под напряжением, внутри объектов капитального строительства, внутренняя проводка в которых не обесточена, если это приведет к ограничению действий рабочих в соответствии с требованиями техники безопасности",0,{"$f":"(P299+Q299+S299+R299)","v":903.76},{"$f":"SUMIF(SmtRes!AQ589:'SmtRes'!AQ596,\"=1\",SmtRes!AA589:'SmtRes'!AA596)","v":1260.8400000000001},{"$f":"SUMIF(SmtRes!AQ589:'SmtRes'!AQ596,\"=1\",SmtRes!AB589:'SmtRes'!AB596)","v":2302.6},{"$f":"SUMIF(SmtRes!AQ589:'SmtRes'!AQ596,\"=1\",SmtRes!AC589:'SmtRes'!AC596)","v":1902.25},{"$f":"SUMIF(SmtRes!AQ589:'SmtRes'!AQ596,\"=1\",SmtRes!AD589:'SmtRes'!AD596)","v":793.61},{"$f":"AG299","v":0},{"$f":"SUMIF(SmtRes!AQ589:'SmtRes'!AQ596,\"=1\",SmtRes!BU589:'SmtRes'!BU596)","v":19.8},{"$f":"SUMIF(SmtRes!AQ589:'SmtRes'!AQ596,\"=1\",SmtRes!BV589:'SmtRes'!BV596)","v":0.312},{"$f":"AJ299","v":0},{"$f":"(((S299+R299)*AT299)/100)","v":745.44500000000005},{"$f":"(((S299+R299)*AU299)/100)","v":391.935},null,33,"","","*(0,2+1)","*(0,2+1)","*(0,2+1)","","*(0,2+1)","*(0,2+1)","","","",0,0,1,1,null,null,null,1003,"100 м","100 м",100,null,"","","","",null,83666702,3,"Монтажные работы",0,"",2,108001,"Электротехнические установки: на других объектах","мФЕР-08",null,"Поправка: 421/пр_2020_прил.10_т.1_п.4_гр.5",null,131072,0,0,0,0,0,16.5,0.26,0,null,null,null,null,null,null,null,null,null,null,null,null,null,null,null,null,null,0,0,0,null,null,null,null,97,51,null,"",null,null,1,null,-1815355656,2,1,-2,0,0,0,2041.15,0,2041.15,0,null,0,3,0,"",0,1,0,null,null,0,0,{"$f":"GV299*GW299","v":0},null,"","",null,null,null,null,null,null,"","Пр/812-049.3-1","Пр/774-049.3","Электротехнические установки: на других объектах","Электротехнические установки: на других объектах",null,0,null,null,null,null,null,null,null,null,null,null,null,null,null,null,null,null,null,0]
[17,1,{"$f":"ROW(SmtRes!A604)","v":604},{"$f":"ROW(EtalonRes!A604)","v":604},"18","м08-02-472-01","Заземлитель горизонтальный из стали: круглой диаметром 12 мм","100 м",4.8000000000000001E-2,0,4.8000000000000001E-2,4.8000000000000001E-2,0,4.8000000000000001E-2,{"$f":"ROUND(CP300,2)","v":903.76},{"$f":"SUMIF(SmtRes!AQ597:'SmtRes'!AQ604,\"=1\",SmtRes!DF597:'SmtRes'!DF604)","v":112.89},{"$f":"SUMIF(SmtRes!AQ597:'SmtRes'!AQ604,\"=1\",SmtRes!DG597:'SmtRes'!DG604)","v":22.369999999999997},{"$f":"SUMIF(SmtRes!AQ597:'SmtRes'!AQ604,\"=1\",SmtRes!DH597:'SmtRes'!DH604)","v":14.25},{"$f":"SUMIF(SmtRes!AQ597:'SmtRes'!AQ604,\"=1\",SmtRes!DI597:'SmtRes'!DI604)","v":754.25},0,{"$f":"SUMIF(SmtRes!AQ597:'SmtRes'!AQ604,\"=1\",SmtRes!CV597:'SmtRes'!CV604)","v":0.95040000000000002},{"$f":"SUMIF(SmtRes!AQ597:'SmtRes'!AQ604,\"=1\",SmtRes!CW597:'SmtRes'!CW604)","v":1.4976E-2},0,745.45,391.94,null,85312298,18095.919999999998,{"$f":"ROUND((SUM(SmtRes!BQ597:'SmtRes'!BQ604)),2)","v":1916.5},{"$f":"ROUND((((SUM(SmtRes!BR597:'SmtRes'!BR604))-(SUM(SmtRes!BS597:'SmtRes'!BS604)))+AE300),2)","v":465.94},{"$f":"ROUND((SUM(SmtRes!BS597:'SmtRes'!BS604)),2)","v":296.75},{"$f":"ROUND((SUM(SmtRes!BT597:'SmtRes'!BT604)),2)","v":15713.48},0,{"$f":"(SUM(SmtRes!BU597:'SmtRes'!BU604))","v":19.8},{"$f":"(SUM(SmtRes!BV597:'SmtRes'!BV604))","v":0.312},0,15646.6412,1916.4979999999998,388.28570000000002,247.29250000000002,13094.565000000001,0,16.5,0.26,0,97,51,1,1,null,null,1,1,1,1,"","","","",0,2,"ГЭСНм-2022 доп.8, м08-02-472-01, приказ Минстроя России от 14.11.2023 г. № 817/пр",null,null,108001,0,"",0,3,0,1,1,1,1,1,1,"",97,51,"",null,null,0,0,0,18,0,0,0,0,0,"Поправка: 421/пр_2020_прил.10_т.1_п.4_гр.5 Наименование: Производство работ осуществляется в охранной зоне действующей воздушной линии электропередачи, вблизи объектов, находящихся под напряжением, внутри объектов капитального строительства, внутренняя проводка в которых не обесточена, если это приведет к ограничению действий рабочих в соответствии с требованиями техники безопасности",0,{"$f":"(P300+Q300+S300+R300)","v":903.76},{"$f":"SUMIF(SmtRes!AQ597:'SmtRes'!AQ604,\"=1\",SmtRes!AA597:'SmtRes'!AA604)","v":1260.8400000000001},{"$f":"SUMIF(SmtRes!AQ597:'SmtRes'!AQ604,\"=1\",SmtRes!AB597:'SmtRes'!AB604)","v":2302.6},{"$f":"SUMIF(SmtRes!AQ597:'SmtRes'!AQ604,\"=1\",SmtRes!AC597:'SmtRes'!AC604)","v":1902.25},{"$f":"SUMIF(SmtRes!AQ597:'SmtRes'!AQ604,\"=1\",SmtRes!AD597:'SmtRes'!AD604)","v":793.61},{"$f":"AG300","v":0},{"$f":"SUMIF(SmtRes!AQ597:'SmtRes'!AQ604,\"=1\",SmtRes!BU597:'SmtRes'!BU604)","v":19.8},{"$f":"SUMIF(SmtRes!AQ597:'SmtRes'!AQ604,\"=1\",SmtRes!BV597:'SmtRes'!BV604)","v":0.312},{"$f":"AJ300","v":0},{"$f":"(((S300+R300)*AT300)/100)","v":745.44500000000005},{"$f":"(((S300+R300)*AU300)/100)","v":391.935},null,34,"","","*(0,2+1)","*(0,2+1)","*(0,2+1)","","*(0,2+1)","*(0,2+1)","","","",0,0,1,1,null,null,null,1003,"100 м","100 м",100,null,"","","","",null,83666702,3,"Монтажные работы",0,"",2,108001,"Электротехнические установки: на других объектах","мФЕР-08",null,"Поправка: 421/пр_2020_прил.10_т.1_п.4_гр.5",null,131072,0,0,0,0,0,16.5,0.26,0,null,null,null,null,null,null,null,null,null,null,null,null,null,null,null,null,null,0,0,0,null,null,null,null,97,51,null,"",null,null,1,null,-1815355656,2,1,-2,0,0,0,2041.15,0,2041.15,0,null,0,3,0,"",0,1,0,null,null,0,0,{"$f":"GV300*GW300","v":0},null,"","",null,null,null,null,null,null,"","Пр/812-049.3-1","Пр/774-049.3","Электротехнические установки: на других объектах","Электротехнические установки: на других объектах",null,0,null,null,null,null,null,null,null,null,null,null,null,null,null,null,null,null,null,0]
[19,1,null,null,null,"","Монтаж горизонтальной части круглой стали по опоре длинной круга 1,2м (можно посмотреть в разделе \"заземление опор\")","",null,null,null,null,null,null,null,null,null,null,null,null,null,null,null,null,null,null,1,null,null,null,null,null,null,null,null,null,null,null,null,null,null,null,null,null,null,null,null,null,null,null,null,null,null,null,null,null,null,null,null,null,null,null,null,null,null,null,null,null,null,null,null,null,null,null,null,null,null,null,null,null,null,null,null,null,null,null,null,null,null,null,null,null,null,null,null,null,null,null,null,null,null,null,null,null,null,null,null,null,null,null,null,null,null,null,null,null,null,null,null,null,null,null,null,null,null,null,null,null,null,null,null,null,null,null,null,null,null,null,null,null,null,null,null,null,null,null,null,null,null,null,null,null,null,null,null,null,null,null,null,null,null,null,null,null,null,null,null,null,null,null,null,null,null,null,null,null,null,null,null,null,null,null,null,null,null,null,null,null,null,null,null,null,null,null,null,null,null,null,null,null,null,null,null,null,null,null,null,null,null,null,null,null,null,null,null,null,null,null,null,null,null,null,null,null,null,null,null,null,null,null,null,null,null,null,null,null,null,null,null,null,null,null,null,null,0]
[18,1,596,null,"18,1","421/пр_2020_п.75_пп.а","Сметная стоимость вспомогательных ненормируемых материальных ресурсов, не учтенная в сметной норме, 2%","%",{"$f":"J302","v":2},2,2,9.6000000000000002E-2,0,{"$f":"ROUND(L302-M302,4)","v":9.6000000000000002E-2},{"$f":"ROUND(P302,2)","v":12.57},{"$f":"ROUND(ROUND(ROUND(SUMIF(SmtRes!AQ597:'SmtRes'!AQ604,\"=1\",SmtRes!CU597:'SmtRes'!CU604),2),2)*I302/100,2)","v":12.57},{"$f":"ROUND(CR302*I302,2)","v":0},{"$f":"ROUND(CS302*I302,2)","v":0},{"$f":"ROUND(CT302*I302,2)","v":0},{"$f":"ROUND(CU302*I302,2)","v":0},{"$f":"ROUND(CV302*I302,7)","v":0},{"$f":"ROUND(CW302*I302,7)","v":0},{"$f":"ROUND(CX302*I302,2)","v":0},{"$f":"ROUND(CY302,2)","v":0},0,null,85312357,{"$f":"ROUND((AC302+AD302+AF302),2)","v":0},{"$f":"ROUND((ES302),2)","v":0},{"$f":"ROUND((((ET302)-(EU302))+AE302),2)","v":0},{"$f":"ROUND((EU302),2)","v":0},{"$f":"ROUND((EV302),2)","v":0},{"$f":"ROUND((AP302),2)","v":0},{"$f":"(EW302)","v":0},{"$f":"(EX302)","v":0},{"$f":"(AS302)","v":0},0,0,0,0,0,0,0,0,0,97,51,1,1,null,null,1,1,1,1,"","","","",3,2,"",null,null,108001,0,"",0,3,0,1,1,1,1,1,1,"",97,51,"",null,null,0,0,0,18,1,0,0,0,0,"",0,{"$f":"0","v":0},{"$f":"0","v":0},{"$f":"0","v":0},{"$f":"0","v":0},{"$f":"0","v":0},{"$f":"0","v":0},{"$f":"0","v":0},{"$f":"0","v":0},{"$f":"0","v":0},{"$f":"0","v":0},{"$f":"0","v":0},null,null,"","","","","","","","","","","",0,0,1,1,null,null,null,1013,"%","%",1,null,"","","","",null,83666702,3,"Монтажные работы",0,"",2,108001,"Электротехнические установки: на других объектах","мФЕР-08",null,"",null,0,0,0,0,0,0,0,0,null,null,null,null,null,null,null,null,null,null,null,null,null,null,null,null,null,null,0,0,0,null,null,null,null,97,51,null,"",null,null,1,null,274903907,2,1,-2,0,0,{"$f":"ROUND(IF(AND(BH302=3,BI302=3,FS302<>0),P302,0),2)","v":0},{"$f":"ROUND(O302+X302+Y302,2)+GX302","v":12.57},{"$f":"IF(OR(BI302=0,BI302=1),GM302-GX302,0)","v":0},{"$f":"IF(BI302=2,GM302-GX302,0)","v":12.57},{"$f":"IF(BI302=4,GM302-GX302,0)","v":0},null,0,3,0,"",{"$f":"ROUND((GT302),2)","v":0},1,{"$f":"ROUND(HC302*I302,2)","v":0},null,null,0,0,{"$f":"0","v":0},null,"","",null,null,null,null,null,null,"","Пр/812-049.3-1","Пр/774-049.3","Электротехнические установки: на других объектах","Электротехнические установки: на других объектах",null,0,null,null,null,null,null,null,null,null,null,null,null,null,null,null,null,null,null,0]
[18,1,604,null,"18,1","421/пр_2020_п.75_пп.а","Сметная стоимость вспомогательных ненормируемых материальных ресурсов, не учтенная в сметной норме, 2%","%",{"$f":"J303","v":2},2,2,9.6000000000000002E-2,0,{"$f":"ROUND(L303-M303,4)","v":9.6000000000000002E-2},{"$f":"ROUND(P303,2)","v":12.57},{"$f":"ROUND(ROUND(ROUND(SUMIF(SmtRes!AQ597:'SmtRes'!AQ604,\"=1\",SmtRes!CU597:'SmtRes'!CU604),2),2)*I303/100,2)","v":12.57},{"$f":"ROUND(CR303*I303,2)","v":0},{"$f":"ROUND(CS303*I303,2)","v":0},{"$f":"ROUND(CT303*I303,2)","v":0},{"$f":"ROUND(CU303*I303,2)","v":0},{"$f":"ROUND(CV303*I303,7)","v":0},{"$f":"ROUND(CW303*I303,7)","v":0},{"$f":"ROUND(CX303*I303,2)","v":0},0,0,null,85312298,{"$f":"ROUND((AC303+AD303+AF303),2)","v":0},{"$f":"ROUND((ES303),2)","v":0},{"$f":"ROUND((((ET303)-(EU303))+AE303),2)","v":0},{"$f":"ROUND((EU303),2)","v":0},{"$f":"ROUND((EV303),2)","v":0},{"$f":"ROUND((AP303),2)","v":0},{"$f":"(EW303)","v":0},{"$f":"(EX303)","v":0},{"$f":"(AS303)","v":0},0,0,0,0,0,0,0,0,0,97,51,1,1,null,null,1,1,1,1,"","","","",3,2,"",null,null,108001,0,"",0,3,0,1,1,1,1,1,1,"",97,51,"",null,null,0,0,0,18,1,0,0,0,0,"",0,{"$f":"0","v":0},{"$f":"0","v":0},{"$f":"0","v":0},{"$f":"0","v":0},{"$f":"0","v":0},{"$f":"0","v":0},{"$f":"0","v":0},{"$f":"0","v":0},{"$f":"0","v":0},{"$f":"0","v":0},{"$f":"0","v":0},null,null,"","","","","","","","","","","",0,0,1,1,null,null,null,1013,"%","%",1,null,"","","","",null,83666702,3,"Монтажные работы",0,"",2,108001,"Электротехнические установки: на других объектах","мФЕР-08",null,"",null,0,0,0,0,0,0,0,0,null,null,null,null,null,null,null,null,null,null,null,null,null,null,null,null,null,null,0,0,0,null,null,null,null,97,51,null,"",null,null,1,null,274903907,2,1,-2,0,0,{"$f":"ROUND(IF(AND(BH303=3,BI303=3,FS303<>0),P303,0),2)","v":0},{"$f":"ROUND(O303+X303+Y303,2)+GX303","v":12.57},{"$f":"IF(OR(BI303=0,BI303=1),GM303-GX303,0)","v":0},{"$f":"IF(BI303=2,GM303-GX303,0)","v":12.57},{"$f":"IF(BI303=4,GM303-GX303,0)","v":0},null,0,3,0,"",{"$f":"ROUND((GT303),2)","v":0},1,{"$f":"ROUND(HC303*I303,2)","v":0},null,null,0,0,{"$f":"0","v":0},null,"","",null,null,null,null,null,null,"","Пр/812-049.3-1","Пр/774-049.3","Электротехнические установки: на других объектах","Электротехнические установки: на других объектах",null,0,null,null,null,null,null,null,null,null,null,null,null,null,null,null,null,null,null,0]
[17,1,{"$f":"ROW(SmtRes!A613)","v":613},{"$f":"ROW(EtalonRes!A613)","v":613},"19","м08-02-472-09","Проводник заземляющий открыто по строительным основаниям: из круглой стали диаметром 12 мм","100 м",0.28000000000000003,0,0.28000000000000003,0.28000000000000003,0,{"$f":"ROUND(L304-M304,4)","v":0.28000000000000003},{"$f":"ROUND(CP304,2)","v":6057.3},{"$f":"SUMIF(SmtRes!AQ605:'SmtRes'!AQ613,\"=1\",SmtRes!DF605:'SmtRes'!DF613)","v":852.30000000000007},{"$f":"SUMIF(SmtRes!AQ605:'SmtRes'!AQ613,\"=1\",SmtRes!DG605:'SmtRes'!DG613)","v":163.26},{"$f":"SUMIF(SmtRes!AQ605:'SmtRes'!AQ613,\"=1\",SmtRes!DH605:'SmtRes'!DH613)","v":108.66},{"$f":"SUMIF(SmtRes!AQ605:'SmtRes'!AQ613,\"=1\",SmtRes!DI605:'SmtRes'!DI613)","v":4933.08},{"$f":"ROUND(CU304*I304,2)","v":0},{"$f":"SUMIF(SmtRes!AQ605:'SmtRes'!AQ613,\"=1\",SmtRes!CV605:'SmtRes'!CV613)","v":6.2160000000000002},{"$f":"SUMIF(SmtRes!AQ605:'SmtRes'!AQ613,\"=1\",SmtRes!CW605:'SmtRes'!CW613)","v":0.11423999999999999},{"$f":"ROUND(CX304*I304,2)","v":0},4890.49,2571.29,null,85312357,{"$f":"ROUND((AC304+AD304+AF304),2)","v":20729.04},{"$f":"ROUND((SUM(SmtRes!BQ605:'SmtRes'!BQ613)),2)","v":2527.79},{"$f":"ROUND((((SUM(SmtRes!BR605:'SmtRes'!BR613))-(SUM(SmtRes!BS605:'SmtRes'!BS613)))+AE304),2)","v":583.11},{"$f":"ROUND((SUM(SmtRes!BS605:'SmtRes'!BS613)),2)","v":388.06},{"$f":"ROUND((SUM(SmtRes!BT605:'SmtRes'!BT613)),2)","v":17618.14},{"$f":"ROUND((AP304),2)","v":0},{"$f":"(SUM(SmtRes!BU605:'SmtRes'!BU613))","v":22.2},{"$f":"(SUM(SmtRes!BV605:'SmtRes'!BV613))","v":0.40800000000000003},{"$f":"(AS304)","v":0},18018.888879999999,2527.7940799999997,485.92730000000006,323.38250000000005,14681.785,0,18.5,0.34,0,97,51,1,1,null,null,1,1,1,1,"","","","",0,2,"ГЭСНм-2022 доп.8, м08-02-472-09, приказ Минстроя России от 14.11.2023 г. № 817/пр",null,null,108001,0,"",0,3,0,1,1,1,1,1,1,"",97,51,"",null,null,0,0,0,19,0,0,0,0,0,"Поправка: 421/пр_2020_прил.10_т.1_п.4_гр.5 Наименование: Производство работ осуществляется в охранной зоне действующей воздушной линии электропередачи, вблизи объектов, находящихся под напряжением, внутри объектов капитального строительства, внутренняя проводка в которых не обесточена, если это приведет к ограничению действий рабочих в соответствии с требованиями техники безопасности",0,{"$f":"(P304+Q304+S304+R304)","v":6057.3},{"$f":"SUMIF(SmtRes!AQ605:'SmtRes'!AQ613,\"=1\",SmtRes!AA605:'SmtRes'!AA613)","v":51256.609999999993},{"$f":"SUMIF(SmtRes!AQ605:'SmtRes'!AQ613,\"=1\",SmtRes!AB605:'SmtRes'!AB613)","v":2302.6},{"$f":"SUMIF(SmtRes!AQ605:'SmtRes'!AQ613,\"=1\",SmtRes!AC605:'SmtRes'!AC613)","v":1902.25},{"$f":"SUMIF(SmtRes!AQ605:'SmtRes'!AQ613,\"=1\",SmtRes!AD605:'SmtRes'!AD613)","v":793.61},{"$f":"AG304","v":0},{"$f":"SUMIF(SmtRes!AQ605:'SmtRes'!AQ613,\"=1\",SmtRes!BU605:'SmtRes'!BU613)","v":22.2},{"$f":"SUMIF(SmtRes!AQ605:'SmtRes'!AQ613,\"=1\",SmtRes!BV605:'SmtRes'!BV613)","v":0.40800000000000003},{"$f":"AJ304","v":0},{"$f":"(((S304+R304)*AT304)/100)","v":4890.4877999999999},{"$f":"(((S304+R304)*AU304)/100)","v":2571.2873999999997},null,35,"","","*(0,2+1)","*(0,2+1)","*(0,2+1)","","*(0,2+1)","*(0,2+1)","","","",0,0,1,1,null,null,null,1003,"100 м","100 м",100,null,"","","","",null,83666702,3,"Монтажные работы",0,"",2,108001,"Электротехнические установки: на других объектах","мФЕР-08",null,"Поправка: 421/пр_2020_прил.10_т.1_п.4_гр.5",null,131072,0,0,0,0,0,18.5,0.34,0,null,null,null,null,null,null,null,null,null,null,null,null,null,null,null,null,null,0,0,0,null,null,null,null,97,51,null,"",null,null,1,null,1494873545,2,1,-2,0,0,{"$f":"ROUND(IF(AND(BH304=3,BI304=3,FS304<>0),P304,0),2)","v":0},{"$f":"ROUND(O304+X304+Y304,2)+GX304","v":13519.08},{"$f":"IF(OR(BI304=0,BI304=1),GM304-GX304,0)","v":0},{"$f":"IF(BI304=2,GM304-GX304,0)","v":13519.08},{"$f":"IF(BI304=4,GM304-GX304,0)","v":0},null,0,3,0,"",{"$f":"ROUND((GT304),2)","v":0},1,{"$f":"ROUND(HC304*I304,2)","v":0},null,null,0,0,{"$f":"GV304*GW304","v":0},null,"","",null,null,null,null,null,null,"","Пр/812-049.3-1","Пр/774-049.3","Электротехнические установки: на других объектах","Электротехнические установки: на других объектах",null,0,null,null,null,null,null,null,null,null,null,null,null,null,null,null,null,null,null,0]
[17,1,{"$f":"ROW(SmtRes!A622)","v":622},{"$f":"ROW(EtalonRes!A622)","v":622},"19","м08-02-472-09","Проводник заземляющий открыто по строительным основаниям: из круглой стали диаметром 12 мм","100 м",0.28000000000000003,0,0.28000000000000003,0.28000000000000003,0,{"$f":"ROUND(L305-M305,4)","v":0.28000000000000003},{"$f":"ROUND(CP305,2)","v":6057.3},{"$f":"SUMIF(SmtRes!AQ614:'SmtRes'!AQ622,\"=1\",SmtRes!DF614:'SmtRes'!DF622)","v":852.30000000000007},{"$f":"SUMIF(SmtRes!AQ614:'SmtRes'!AQ622,\"=1\",SmtRes!DG614:'SmtRes'!DG622)","v":163.26},{"$f":"SUMIF(SmtRes!AQ614:'SmtRes'!AQ622,\"=1\",SmtRes!DH614:'SmtRes'!DH622)","v":108.66},{"$f":"SUMIF(SmtRes!AQ614:'SmtRes'!AQ622,\"=1\",SmtRes!DI614:'SmtRes'!DI622)","v":4933.08},{"$f":"ROUND(CU305*I305,2)","v":0},{"$f":"SUMIF(SmtRes!AQ614:'SmtRes'!AQ622,\"=1\",SmtRes!CV614:'SmtRes'!CV622)","v":6.2160000000000002},{"$f":"SUMIF(SmtRes!AQ614:'SmtRes'!AQ622,\"=1\",SmtRes!CW614:'SmtRes'!CW622)","v":0.11423999999999999},{"$f":"ROUND(CX305*I305,2)","v":0},4890.49,2571.29,null,85312298,{"$f":"ROUND((AC305+AD305+AF305),2)","v":20729.04},{"$f":"ROUND((SUM(SmtRes!BQ614:'SmtRes'!BQ622)),2)","v":2527.79},{"$f":"ROUND((((SUM(SmtRes!BR614:'SmtRes'!BR622))-(SUM(SmtRes!BS614:'SmtRes'!BS622)))+AE305),2)","v":583.11},{"$f":"ROUND((SUM(SmtRes!BS614:'SmtRes'!BS622)),2)","v":388.06},{"$f":"ROUND((SUM(SmtRes!BT614:'SmtRes'!BT622)),2)","v":17618.14},{"$f":"ROUND((AP305),2)","v":0},{"$f":"(SUM(SmtRes!BU614:'SmtRes'!BU622))","v":22.2},{"$f":"(SUM(SmtRes!BV614:'SmtRes'!BV622))","v":0.40800000000000003},{"$f":"(AS305)","v":0},18018.888879999999,2527.7940799999997,485.92730000000006,323.38250000000005,14681.785,0,18.5,0.34,0,97,51,1,1,null,null,1,1,1,1,"","","","",0,2,"ГЭСНм-2022 доп.8, м08-02-472-09, приказ Минстроя России от 14.11.2023 г. № 817/пр",null,null,108001,0,"",0,3,0,1,1,1,1,1,1,"",97,51,"",null,null,0,0,0,19,0,0,0,0,0,"Поправка: 421/пр_2020_прил.10_т.1_п.4_гр.5 Наименование: Производство работ осуществляется в охранной зоне действующей воздушной линии электропередачи, вблизи объектов, находящихся под напряжением, внутри объектов капитального строительства, внутренняя проводка в которых не обесточена, если это приведет к ограничению действий рабочих в соответствии с требованиями техники безопасности",0,{"$f":"(P305+Q305+S305+R305)","v":6057.3},{"$f":"SUMIF(SmtRes!AQ614:'SmtRes'!AQ622,\"=1\",SmtRes!AA614:'SmtRes'!AA622)","v":51256.609999999993},{"$f":"SUMIF(SmtRes!AQ614:'SmtRes'!AQ622,\"=1\",SmtRes!AB614:'SmtRes'!AB622)","v":2302.6},{"$f":"SUMIF(SmtRes!AQ614:'SmtRes'!AQ622,\"=1\",SmtRes!AC614:'SmtRes'!AC622)","v":1902.25},{"$f":"SUMIF(SmtRes!AQ614:'SmtRes'!AQ622,\"=1\",SmtRes!AD614:'SmtRes'!AD622)","v":793.61},{"$f":"AG305","v":0},{"$f":"SUMIF(SmtRes!AQ614:'SmtRes'!AQ622,\"=1\",SmtRes!BU614:'SmtRes'!BU622)","v":22.2},{"$f":"SUMIF(SmtRes!AQ614:'SmtRes'!AQ622,\"=1\",SmtRes!BV614:'SmtRes'!BV622)","v":0.40800000000000003},{"$f":"AJ305","v":0},{"$f":"(((S305+R305)*AT305)/100)","v":4890.4877999999999},{"$f":"(((S305+R305)*AU305)/100)","v":2571.2873999999997},null,36,"","","*(0,2+1)","*(0,2+1)","*(0,2+1)","","*(0,2+1)","*(0,2+1)","","","",0,0,1,1,null,null,null,1003,"100 м","100 м",100,null,"","","","",null,83666702,3,"Монтажные работы",0,"",2,108001,"Электротехнические установки: на других объектах","мФЕР-08",null,"Поправка: 421/пр_2020_прил.10_т.1_п.4_гр.5",null,131072,0,0,0,0,0,18.5,0.34,0,null,null,null,null,null,null,null,null,null,null,null,null,null,null,null,null,null,0,0,0,null,null,null,null,97,51,null,"",null,null,1,null,1494873545,2,1,-2,0,0,{"$f":"ROUND(IF(AND(BH305=3,BI305=3,FS305<>0),P305,0),2)","v":0},{"$f":"ROUND(O305+X305+Y305,2)+GX305","v":13519.08},{"$f":"IF(OR(BI305=0,BI305=1),GM305-GX305,0)","v":0},{"$f":"IF(BI305=2,GM305-GX305,0)","v":13519.08},{"$f":"IF(BI305=4,GM305-GX305,0)","v":0},null,0,3,0,"",{"$f":"ROUND((GT305),2)","v":0},1,{"$f":"ROUND(HC305*I305,2)","v":0},null,null,0,0,{"$f":"GV305*GW305","v":0},null,"","",null,null,null,null,null,null,"","Пр/812-049.3-1","Пр/774-049.3","Электротехнические установки: на других объектах","Электротехнические установки: на других объектах",null,0,null,null,null,null,null,null,null,null,null,null,null,null,null,null,null,null,null,0]
[19,1,null,null,null,"","Монтаж вертикальной части круглой стали по опоре длинной, которая зависит от опоры.  Если СВ95=7м, если СВ110=8,5м. Чертеж можно посмотреть в разделе \"заземление опор\")","",null,null,null,null,null,null,null,null,null,null,null,null,null,null,null,null,null,null,1,null,null,null,null,null,null,null,null,null,null,null,null,null,null,null,null,null,null,null,null,null,null,null,null,null,null,null,null,null,null,null,null,null,null,null,null,null,null,null,null,null,null,null,null,null,null,null,null,null,null,null,null,null,null,null,null,null,null,null,null,null,null,null,null,null,null,null,null,null,null,null,null,null,null,null,null,null,null,null,null,null,null,null,null,null,null,null,null,null,null,null,null,null,null,null,null,null,null,null,null,null,null,null,null,null,null,null,null,null,null,null,null,null,null,null,null,null,null,null,null,null,null,null,null,null,null,null,null,null,null,null,null,null,null,null,null,null,null,null,null,null,null,null,null,null,null,null,null,null,null,null,null,null,null,null,null,null,null,null,null,null,null,null,null,null,null,null,null,null,null,null,null,null,null,null,null,null,null,null,null,null,null,null,null,null,null,null,null,null,null,null,null,null,null,null,null,null,null,null,null,null,null,null,null,null,null,null,null,null,null,null,null,null,null,null,null,null,0]
[18,1,613,null,"19,1","421/пр_2020_п.75_пп.а","Сметная стоимость вспомогательных ненормируемых материальных ресурсов, не учтенная в сметной норме, 2%","%",{"$f":"J307","v":2},2,2,0.56000000000000005,0,{"$f":"ROUND(L307-M307,4)","v":0.56000000000000005},{"$f":"ROUND(P307,2)","v":82.22},{"$f":"ROUND(ROUND(ROUND(SUMIF(SmtRes!AQ614:'SmtRes'!AQ622,\"=1\",SmtRes!CU614:'SmtRes'!CU622),2),2)*I307/100,2)","v":82.22},{"$f":"ROUND(CR307*I307,2)","v":0},{"$f":"ROUND(CS307*I307,2)","v":0},{"$f":"ROUND(CT307*I307,2)","v":0},{"$f":"ROUND(CU307*I307,2)","v":0},{"$f":"ROUND(CV307*I307,7)","v":0},{"$f":"ROUND(CW307*I307,7)","v":0},{"$f":"ROUND(CX307*I307,2)","v":0},{"$f":"ROUND(CY307,2)","v":0},0,null,85312357,{"$f":"ROUND((AC307+AD307+AF307),2)","v":0},{"$f":"ROUND((ES307),2)","v":0},{"$f":"ROUND((((ET307)-(EU307))+AE307),2)","v":0},{"$f":"ROUND((EU307),2)","v":0},0,{"$f":"ROUND((AP307),2)","v":0},{"$f":"(EW307)","v":0},0,{"$f":"(AS307)","v":0},0,0,0,0,0,0,0,0,0,97,51,1,1,null,null,1,1,1,1,"","","","",3,2,"",null,null,108001,0,"",0,3,0,1,1,1,1,1,1,"",97,51,"",null,null,0,0,0,19,1,0,0,0,0,"",0,{"$f":"0","v":0},{"$f":"0","v":0},{"$f":"0","v":0},{"$f":"0","v":0},{"$f":"0","v":0},{"$f":"0","v":0},{"$f":"0","v":0},{"$f":"0","v":0},{"$f":"0","v":0},{"$f":"0","v":0},{"$f":"0","v":0},null,null,"","","","","","","","","","","",0,0,1,1,null,null,null,1013,"%","%",1,null,"","","","",null,83666702,3,"Монтажные работы",0,"",2,108001,"Электротехнические установки: на других объектах","мФЕР-08",null,"",null,0,0,0,0,0,0,0,0,null,null,null,null,null,null,null,null,null,null,null,null,null,null,null,null,null,null,0,0,0,null,null,null,null,97,51,null,"",null,null,1,null,274903907,2,1,-2,0,0,{"$f":"ROUND(IF(AND(BH307=3,BI307=3,FS307<>0),P307,0),2)","v":0},{"$f":"ROUND(O307+X307+Y307,2)+GX307","v":82.22},{"$f":"IF(OR(BI307=0,BI307=1),GM307-GX307,0)","v":0},{"$f":"IF(BI307=2,GM307-GX307,0)","v":82.22},{"$f":"IF(BI307=4,GM307-GX307,0)","v":0},null,0,3,0,"",{"$f":"ROUND((GT307),2)","v":0},1,{"$f":"ROUND(HC307*I307,2)","v":0},null,null,0,0,{"$f":"0","v":0},null,"","",null,null,null,null,null,null,"","Пр/812-049.3-1","Пр/774-049.3","Электротехнические установки: на других объектах","Электротехнические установки: на других объектах",null,0,null,null,null,null,null,null,null,null,null,null,null,null,null,null,null,null,null,0]
[18,1,622,null,"19,1","421/пр_2020_п.75_пп.а","Сметная стоимость вспомогательных ненормируемых материальных ресурсов, не учтенная в сметной норме, 2%","%",{"$f":"J308","v":2},2,2,0.56000000000000005,0,0.56000000000000005,{"$f":"ROUND(P308,2)","v":82.22},{"$f":"ROUND(ROUND(ROUND(SUMIF(SmtRes!AQ614:'SmtRes'!AQ622,\"=1\",SmtRes!CU614:'SmtRes'!CU622),2),2)*I308/100,2)","v":82.22},{"$f":"ROUND(CR308*I308,2)","v":0},{"$f":"ROUND(CS308*I308,2)","v":0},{"$f":"ROUND(CT308*I308,2)","v":0},0,{"$f":"ROUND(CV308*I308,7)","v":0},{"$f":"ROUND(CW308*I308,7)","v":0},0,0,0,null,85312298,0,{"$f":"ROUND((ES308),2)","v":0},{"$f":"ROUND((((ET308)-(EU308))+AE308),2)","v":0},0,0,0,0,0,0,0,0,0,0,0,0,0,0,0,97,51,1,1,null,null,1,1,1,1,"","","","",3,2,"",null,null,108001,0,"",0,3,0,1,1,1,1,1,1,"",97,51,"",null,null,0,0,0,19,1,0,0,0,0,"",0,{"$f":"0","v":0},{"$f":"0","v":0},{"$f":"0","v":0},{"$f":"0","v":0},{"$f":"0","v":0},{"$f":"0","v":0},{"$f":"0","v":0},{"$f":"0","v":0},{"$f":"0","v":0},{"$f":"0","v":0},{"$f":"0","v":0},null,null,"","","","","","","","","","","",0,0,1,1,null,null,null,1013,"%","%",1,null,"","","","",null,83666702,3,"Монтажные работы",0,"",2,108001,"Электротехнические установки: на других объектах","мФЕР-08",null,"",null,0,0,0,0,0,0,0,0,null,null,null,null,null,null,null,null,null,null,null,null,null,null,null,null,null,null,0,0,0,null,null,null,null,97,51,null,"",null,null,1,null,274903907,2,1,-2,0,0,0,82.22,0,82.22,0,null,0,3,0,"",0,1,0,null,null,0,0,{"$f":"0","v":0},null,"","",null,null,null,null,null,null,"","Пр/812-049.3-1","Пр/774-049.3","Электротехнические установки: на других объектах","Электротехнические установки: на других объектах",null,0,null,null,null,null,null,null,null,null,null,null,null,null,null,null,null,null,null,0]
[17,1,null,null,"20","ТЦ_08.3.05.00_77_7736281025_12.01.2026_02_42.1","Сталь круглая D=10 мм","м",32.799999999999997,0,32.799999999999997,32.799999999999997,0,32.799999999999997,{"$f":"ROUND(CP309,2)","v":2978.24},{"$f":"ROUND(CQ309*I309,2)","v":2978.24},{"$f":"ROUND(CR309*I309,2)","v":0},{"$f":"ROUND(CS309*I309,2)","v":0},{"$f":"ROUND(CT309*I309,2)","v":0},0,{"$f":"ROUND(CV309*I309,7)","v":0},{"$f":"ROUND(CW309*I309,7)","v":0},0,0,0,null,85312357,90.8,{"$f":"ROUND((ES309),2)","v":90.8},{"$f":"ROUND((ET309),2)","v":0},0,0,0,0,0,0,90.8,90.8,0,0,0,0,0,0,0,0,0,1,1,null,null,1,1,1,1,"","","","",3,1,"ТЦ_08.3.05.00_77_7736281025_12.01.2026_02_42.1",null,null,900,0,"",0,90,0,1,1,1,1,1,1,"",0,0,"",null,null,0,0,0,20,0,0,0,0,0,"",0,{"$f":"(P309+Q309+S309+R309)","v":2978.24},{"$f":"ROUND(AL309,2)","v":90.8},{"$f":"ROUND(AM309,2)","v":0},{"$f":"ROUND(AN309*BS309,2)","v":0},{"$f":"ROUND(AO309*BA309,2)","v":0},{"$f":"AG309","v":0},0,0,0,{"$f":"0","v":0},{"$f":"0","v":0},null,null,"","","","","","","","","","","",0,0,1,1,null,null,null,1003,"м","м",1,null,"","","","",null,83667261,90,"Материалы, отсутствующие в СНБ (Строительные)",0,"",1,900,"Материалы, отсутствующие в СНБ (Строительные)","МР КА Строительные",null,"",null,131088,0,90.8,0,0,0,0,0,0,5,null,null,0,18,null,90.8,null,null,null,null,null,null,null,null,null,null,0,0,0,null,null,null,null,0,0,null,"",null,null,1,null,1749194627,2,3,-2,0,0,0,2978.24,2978.24,0,0,null,1,1,0,"",0,1,0,null,null,0,0,{"$f":"GV309*GW309","v":0},null,"","",{"$f":"ROUND(ROUND(AL309,2)*I309,2)","v":2978.24},null,null,null,null,null,"","","","","",null,0,null,null,null,null,null,null,null,null,null,null,null,null,null,null,null,null,null,0]
[17,1,null,null,"20","ТЦ_08.3.05.00_77_7736281025_12.01.2026_02_42.1","Сталь круглая D=10 мм","м",32.799999999999997,0,32.799999999999997,32.799999999999997,0,32.799999999999997,{"$f":"ROUND(CP310,2)","v":2978.24},{"$f":"ROUND(CQ310*I310,2)","v":2978.24},{"$f":"ROUND(CR310*I310,2)","v":0},{"$f":"ROUND(CS310*I310,2)","v":0},{"$f":"ROUND(CT310*I310,2)","v":0},0,{"$f":"ROUND(CV310*I310,7)","v":0},{"$f":"ROUND(CW310*I310,7)","v":0},0,0,0,null,85312298,90.8,{"$f":"ROUND((ES310),2)","v":90.8},{"$f":"ROUND((ET310),2)","v":0},0,0,0,0,0,0,90.8,90.8,0,0,0,0,0,0,0,0,0,1,1,null,null,1,1,1,1,"","","","",3,1,"ТЦ_08.3.05.00_77_7736281025_12.01.2026_02_42.1",null,null,900,0,"",0,90,0,1,1,1,1,1,1,"",0,0,"",null,null,0,0,0,20,0,0,0,0,0,"",0,{"$f":"(P310+Q310+S310+R310)","v":2978.24},{"$f":"ROUND(AL310,2)","v":90.8},{"$f":"ROUND(AM310,2)","v":0},{"$f":"ROUND(AN310*BS310,2)","v":0},{"$f":"ROUND(AO310*BA310,2)","v":0},0,0,0,0,{"$f":"0","v":0},{"$f":"0","v":0},null,null,"","","","","","","","","","","",0,0,1,1,null,null,null,1003,"м","м",1,null,"","","","",null,83667261,90,"Материалы, отсутствующие в СНБ (Строительные)",0,"",1,900,"Материалы, отсутствующие в СНБ (Строительные)","МР КА Строительные",null,"",null,131088,0,90.8,0,0,0,0,0,0,5,null,null,0,18,null,90.8,null,null,null,null,null,null,null,null,null,null,0,0,0,null,null,null,null,0,0,null,"",null,null,1,null,1749194627,2,3,-2,0,0,0,2978.24,2978.24,0,0,null,1,1,0,"",0,1,0,null,null,0,0,{"$f":"GV310*GW310","v":0},null,"","",{"$f":"ROUND(ROUND(AL310,2)*I310,2)","v":2978.24},null,null,null,null,null,"","","","","",null,0,null,null,null,null,null,null,null,null,null,null,null,null,null,null,null,null,null,0]
[17,1,{"$f":"ROW(SmtRes!A631)","v":631},{"$f":"ROW(EtalonRes!A631)","v":631},"","м08-01-082-01","Зажим наборный без кожуха","100 ШТ",0.17,0,0.17,0.17,0,0.17,{"$f":"ROUND(CP311,2)","v":5756.68},{"$f":"SUMIF(SmtRes!AQ623:'SmtRes'!AQ631,\"=1\",SmtRes!DF623:'SmtRes'!DF631)","v":0},{"$f":"SUMIF(SmtRes!AQ623:'SmtRes'!AQ631,\"=1\",SmtRes!DG623:'SmtRes'!DG631)","v":38.56},{"$f":"SUMIF(SmtRes!AQ623:'SmtRes'!AQ631,\"=1\",SmtRes!DH623:'SmtRes'!DH631)","v":32.340000000000003},{"$f":"SUMIF(SmtRes!AQ623:'SmtRes'!AQ631,\"=1\",SmtRes!DI623:'SmtRes'!DI631)","v":5685.78},0,{"$f":"SUMIF(SmtRes!AQ623:'SmtRes'!AQ631,\"=1\",SmtRes!CV623:'SmtRes'!CV631)","v":7.0039999999999996},{"$f":"SUMIF(SmtRes!AQ623:'SmtRes'!AQ631,\"=1\",SmtRes!CW623:'SmtRes'!CW631)","v":3.4000000000000002E-2},0,5546.58,2916.24,null,-1,33672.550000000003,{"$f":"ROUND((0),2)","v":0},{"$f":"ROUND((((SUM(SmtRes!BR623:'SmtRes'!BR631))-(SUM(SmtRes!BS623:'SmtRes'!BS631)))+AE311),2)","v":226.8},{"$f":"ROUND((SUM(SmtRes!BS623:'SmtRes'!BS631)),2)","v":190.23},{"$f":"ROUND((SUM(SmtRes!BT623:'SmtRes'!BT631)),2)","v":33445.75},0,{"$f":"(SUM(SmtRes!BU623:'SmtRes'!BU631))","v":41.2},{"$f":"(SUM(SmtRes!BV623:'SmtRes'!BV631))","v":0.2},0,33862.771999999997,0,226.79900000000004,190.22500000000002,33445.748,0,41.2,0.2,0,97,51,1,1,null,null,1,1,1,1,"","","","",0,2,"ГЭСНм-2022, м08-01-082-01, приказ Минстроя России от 18.05.2022 г. № 378/пр",null,null,108001,0,"",0,3,0,1,1,1,1,1,1,"",97,51,"",null,null,0,0,0,0,0,0,0,0,0,"",0,{"$f":"(P311+Q311+S311+R311)","v":5756.68},{"$f":"SUMIF(SmtRes!AQ623:'SmtRes'!AQ631,\"=1\",SmtRes!AA623:'SmtRes'!AA631)","v":52144.76},{"$f":"SUMIF(SmtRes!AQ623:'SmtRes'!AQ631,\"=1\",SmtRes!AB623:'SmtRes'!AB631)","v":2302.6},{"$f":"SUMIF(SmtRes!AQ623:'SmtRes'!AQ631,\"=1\",SmtRes!AC623:'SmtRes'!AC631)","v":1902.25},{"$f":"SUMIF(SmtRes!AQ623:'SmtRes'!AQ631,\"=1\",SmtRes!AD623:'SmtRes'!AD631)","v":811.79},{"$f":"AG311","v":0},{"$f":"SUMIF(SmtRes!AQ623:'SmtRes'!AQ631,\"=1\",SmtRes!BU623:'SmtRes'!BU631)","v":41.2},{"$f":"SUMIF(SmtRes!AQ623:'SmtRes'!AQ631,\"=1\",SmtRes!BV623:'SmtRes'!BV631)","v":0.2},{"$f":"AJ311","v":0},{"$f":"(((S311+R311)*AT311)/100)","v":5546.5763999999999},{"$f":"(((S311+R311)*AU311)/100)","v":2916.2411999999999},null,null,"","","","","","","","","","","",0,0,1,1,null,null,null,1013,"100 ШТ","100 ШТ",1,null,"","","","",null,83666702,3,"Монтажные работы",0,"",2,108001,"Электротехнические установки: на других объектах","мФЕР-08",null,"",null,132096,0,0,0,0,0,41.2,0.2,0,null,null,null,null,null,null,null,null,null,null,null,null,null,null,null,null,null,0,0,0,null,null,null,null,97,51,null,"",null,null,1,null,1145402398,2,1,-2,0,0,0,14219.5,0,14219.5,0,null,0,3,0,"",0,1,0,null,null,0,0,{"$f":"GV311*GW311","v":0},null,"","",null,null,null,null,null,null,"","Пр/812-049.3-1","Пр/774-049.3","Электротехнические установки: на других объектах","Электротехнические установки: на других объектах",null,0,null,null,null,null,null,null,null,null,null,null,null,null,null,null,null,null,null,0]
[17,1,{"$f":"ROW(SmtRes!A640)","v":640},{"$f":"ROW(EtalonRes!A640)","v":640},"","м08-01-082-01","Зажим наборный без кожуха","100 ШТ",0.17,0,0.17,0.17,0,0.17,{"$f":"ROUND(CP312,2)","v":5756.68},{"$f":"SUMIF(SmtRes!AQ632:'SmtRes'!AQ640,\"=1\",SmtRes!DF632:'SmtRes'!DF640)","v":0},{"$f":"SUMIF(SmtRes!AQ632:'SmtRes'!AQ640,\"=1\",SmtRes!DG632:'SmtRes'!DG640)","v":38.56},{"$f":"SUMIF(SmtRes!AQ632:'SmtRes'!AQ640,\"=1\",SmtRes!DH632:'SmtRes'!DH640)","v":32.340000000000003},{"$f":"SUMIF(SmtRes!AQ632:'SmtRes'!AQ640,\"=1\",SmtRes!DI632:'SmtRes'!DI640)","v":5685.78},0,{"$f":"SUMIF(SmtRes!AQ632:'SmtRes'!AQ640,\"=1\",SmtRes!CV632:'SmtRes'!CV640)","v":7.0039999999999996},{"$f":"SUMIF(SmtRes!AQ632:'SmtRes'!AQ640,\"=1\",SmtRes!CW632:'SmtRes'!CW640)","v":3.4000000000000002E-2},0,5546.58,2916.24,null,-1,33672.550000000003,{"$f":"ROUND((0),2)","v":0},{"$f":"ROUND((((SUM(SmtRes!BR632:'SmtRes'!BR640))-(SUM(SmtRes!BS632:'SmtRes'!BS640)))+AE312),2)","v":226.8},{"$f":"ROUND((SUM(SmtRes!BS632:'SmtRes'!BS640)),2)","v":190.23},{"$f":"ROUND((SUM(SmtRes!BT632:'SmtRes'!BT640)),2)","v":33445.75},0,{"$f":"(SUM(SmtRes!BU632:'SmtRes'!BU640))","v":41.2},{"$f":"(SUM(SmtRes!BV632:'SmtRes'!BV640))","v":0.2},0,33862.771999999997,0,226.79900000000004,190.22500000000002,33445.748,0,41.2,0.2,0,97,51,1,1,null,null,1,1,1,1,"","","","",0,2,"ГЭСНм-2022, м08-01-082-01, приказ Минстроя России от 18.05.2022 г. № 378/пр",null,null,108001,0,"",0,3,0,1,1,1,1,1,1,"",97,51,"",null,null,0,0,0,0,0,0,0,0,0,"",0,{"$f":"(P312+Q312+S312+R312)","v":5756.68},{"$f":"SUMIF(SmtRes!AQ632:'SmtRes'!AQ640,\"=1\",SmtRes!AA632:'SmtRes'!AA640)","v":52144.76},{"$f":"SUMIF(SmtRes!AQ632:'SmtRes'!AQ640,\"=1\",SmtRes!AB632:'SmtRes'!AB640)","v":2302.6},{"$f":"SUMIF(SmtRes!AQ632:'SmtRes'!AQ640,\"=1\",SmtRes!AC632:'SmtRes'!AC640)","v":1902.25},{"$f":"SUMIF(SmtRes!AQ632:'SmtRes'!AQ640,\"=1\",SmtRes!AD632:'SmtRes'!AD640)","v":811.79},{"$f":"AG312","v":0},{"$f":"SUMIF(SmtRes!AQ632:'SmtRes'!AQ640,\"=1\",SmtRes!BU632:'SmtRes'!BU640)","v":41.2},{"$f":"SUMIF(SmtRes!AQ632:'SmtRes'!AQ640,\"=1\",SmtRes!BV632:'SmtRes'!BV640)","v":0.2},{"$f":"AJ312","v":0},{"$f":"(((S312+R312)*AT312)/100)","v":5546.5763999999999},{"$f":"(((S312+R312)*AU312)/100)","v":2916.2411999999999},null,null,"","","","","","","","","","","",0,0,1,1,null,null,null,1013,"100 ШТ","100 ШТ",1,null,"","","","",null,83666702,3,"Монтажные работы",0,"",2,108001,"Электротехнические установки: на других объектах","мФЕР-08",null,"",null,132096,0,0,0,0,0,41.2,0.2,0,null,null,null,null,null,null,null,null,null,null,null,null,null,null,null,null,null,0,0,0,null,null,null,null,97,51,null,"",null,null,1,null,1145402398,2,1,-2,0,0,0,14219.5,0,14219.5,0,null,0,3,0,"",0,1,0,null,null,0,0,{"$f":"GV312*GW312","v":0},null,"","",null,null,null,null,null,null,"","Пр/812-049.3-1","Пр/774-049.3","Электротехнические установки: на других объектах","Электротехнические установки: на других объектах",null,0,null,null,null,null,null,null,null,null,null,null,null,null,null,null,null,null,null,0]
[19,1,null,null,null,"","По ВОР \"Установка плашечных зажимов ПС-1-1 для устройства заземления\" и складываем если есть \"Установка зажимов для переносного заземления CMCC+CT70P\"","",null,null,null,null,null,null,null,null,null,null,null,null,null,null,null,null,null,null,1,null,null,null,null,null,null,null,null,null,null,null,null,null,null,null,null,null,null,null,null,null,null,null,null,null,null,null,null,null,null,null,null,null,null,null,null,null,null,null,null,null,null,null,null,null,null,null,null,null,null,null,null,null,null,null,null,null,null,null,null,null,null,null,null,null,null,null,null,null,null,null,null,null,null,null,null,null,null,null,null,null,null,null,null,null,null,null,null,null,null,null,null,null,null,null,null,null,null,null,null,null,null,null,null,null,null,null,null,null,null,null,null,null,null,null,null,null,null,null,null,null,null,null,null,null,null,null,null,null,null,null,null,null,null,null,null,null,null,null,null,null,null,null,null,null,null,null,null,null,null,null,null,null,null,null,null,null,null,null,null,null,null,null,null,null,null,null,null,null,null,null,null,null,null,null,null,null,null,null,null,null,null,null,null,null,null,null,null,null,null,null,null,null,null,null,null,null,null,null,null,null,null,null,null,null,null,null,null,null,null,null,null,null,null,null,null,null,0]
[18,1,631,null,"","421/пр_2020_п.75_пп.а","Сметная стоимость вспомогательных ненормируемых материальных ресурсов, не учтенная в сметной норме, 2%","%",{"$f":"J314","v":2},2,2,0.34,0,{"$f":"ROUND(L314-M314,4)","v":0.34},{"$f":"ROUND(P314,2)","v":113.72},{"$f":"ROUND(ROUND(ROUND(SUMIF(SmtRes!AQ632:'SmtRes'!AQ640,\"=1\",SmtRes!CU632:'SmtRes'!CU640),2),2)*I314/100,2)","v":113.72},{"$f":"ROUND(CR314*I314,2)","v":0},{"$f":"ROUND(CS314*I314,2)","v":0},{"$f":"ROUND(CT314*I314,2)","v":0},{"$f":"ROUND(CU314*I314,2)","v":0},{"$f":"ROUND(CV314*I314,7)","v":0},{"$f":"ROUND(CW314*I314,7)","v":0},{"$f":"ROUND(CX314*I314,2)","v":0},{"$f":"ROUND(CY314,2)","v":0},0,null,-1,{"$f":"ROUND((AC314+AD314+AF314),2)","v":0},{"$f":"ROUND((ES314),2)","v":0},{"$f":"ROUND((((ET314)-(EU314))+AE314),2)","v":0},{"$f":"ROUND((EU314),2)","v":0},0,{"$f":"ROUND((AP314),2)","v":0},{"$f":"(EW314)","v":0},0,{"$f":"(AS314)","v":0},0,0,0,0,0,0,0,0,0,97,51,1,1,null,null,1,1,1,1,"","","","",3,2,"",null,null,108001,0,"",0,3,0,1,1,1,1,1,1,"",97,51,"",null,null,0,0,0,0,0,0,0,0,0,"",0,{"$f":"0","v":0},{"$f":"0","v":0},{"$f":"0","v":0},{"$f":"0","v":0},{"$f":"0","v":0},{"$f":"0","v":0},{"$f":"0","v":0},{"$f":"0","v":0},{"$f":"0","v":0},{"$f":"0","v":0},{"$f":"0","v":0},null,null,"","","","","","","","","","","",0,0,1,1,null,null,null,1013,"%","%",1,null,"","","","",null,83666702,3,"Монтажные работы",0,"",2,108001,"Электротехнические установки: на других объектах","мФЕР-08",null,"",null,1024,0,0,0,0,0,0,0,null,null,null,null,null,null,null,null,null,null,null,null,null,null,null,null,null,null,0,0,0,null,null,null,null,97,51,null,"",null,null,1,null,274903907,2,1,-2,0,0,{"$f":"ROUND(IF(AND(BH314=3,BI314=3,FS314<>0),P314,0),2)","v":0},{"$f":"ROUND(O314+X314+Y314,2)+GX314","v":113.72},{"$f":"IF(OR(BI314=0,BI314=1),GM314-GX314,0)","v":0},{"$f":"IF(BI314=2,GM314-GX314,0)","v":113.72},{"$f":"IF(BI314=4,GM314-GX314,0)","v":0},null,0,3,0,"",{"$f":"ROUND((GT314),2)","v":0},1,{"$f":"ROUND(HC314*I314,2)","v":0},null,null,0,0,{"$f":"0","v":0},null,"","",null,null,null,null,null,null,"","Пр/812-049.3-1","Пр/774-049.3","Электротехнические установки: на других объектах","Электротехнические установки: на других объектах",null,0,null,null,null,null,null,null,null,null,null,null,null,null,null,null,null,null,null,0]
[18,1,640,null,"","421/пр_2020_п.75_пп.а","Сметная стоимость вспомогательных ненормируемых материальных ресурсов, не учтенная в сметной норме, 2%","%",{"$f":"J315","v":2},2,2,0.34,0,{"$f":"ROUND(L315-M315,4)","v":0.34},{"$f":"ROUND(P315,2)","v":113.72},{"$f":"ROUND(ROUND(ROUND(SUMIF(SmtRes!AQ632:'SmtRes'!AQ640,\"=1\",SmtRes!CU632:'SmtRes'!CU640),2),2)*I315/100,2)","v":113.72},{"$f":"ROUND(CR315*I315,2)","v":0},{"$f":"ROUND(CS315*I315,2)","v":0},{"$f":"ROUND(CT315*I315,2)","v":0},{"$f":"ROUND(CU315*I315,2)","v":0},{"$f":"ROUND(CV315*I315,7)","v":0},{"$f":"ROUND(CW315*I315,7)","v":0},{"$f":"ROUND(CX315*I315,2)","v":0},0,0,null,-1,{"$f":"ROUND((AC315+AD315+AF315),2)","v":0},{"$f":"ROUND((ES315),2)","v":0},{"$f":"ROUND((((ET315)-(EU315))+AE315),2)","v":0},0,0,{"$f":"ROUND((AP315),2)","v":0},0,0,{"$f":"(AS315)","v":0},0,0,0,0,0,0,0,0,0,97,51,1,1,null,null,1,1,1,1,"","","","",3,2,"",null,null,108001,0,"",0,3,0,1,1,1,1,1,1,"",97,51,"",null,null,0,0,0,0,0,0,0,0,0,"",0,{"$f":"0","v":0},{"$f":"0","v":0},{"$f":"0","v":0},{"$f":"0","v":0},{"$f":"0","v":0},{"$f":"0","v":0},{"$f":"0","v":0},{"$f":"0","v":0},{"$f":"0","v":0},{"$f":"0","v":0},{"$f":"0","v":0},null,null,"","","","","","","","","","","",0,0,1,1,null,null,null,1013,"%","%",1,null,"","","","",null,83666702,3,"Монтажные работы",0,"",2,108001,"Электротехнические установки: на других объектах","мФЕР-08",null,"",null,1024,0,0,0,0,0,0,0,null,null,null,null,null,null,null,null,null,null,null,null,null,null,null,null,null,null,0,0,0,null,null,null,null,97,51,null,"",null,null,1,null,274903907,2,1,-2,0,0,{"$f":"ROUND(IF(AND(BH315=3,BI315=3,FS315<>0),P315,0),2)","v":0},{"$f":"ROUND(O315+X315+Y315,2)+GX315","v":113.72},{"$f":"IF(OR(BI315=0,BI315=1),GM315-GX315,0)","v":0},{"$f":"IF(BI315=2,GM315-GX315,0)","v":113.72},{"$f":"IF(BI315=4,GM315-GX315,0)","v":0},null,0,3,0,"",{"$f":"ROUND((GT315),2)","v":0},1,{"$f":"ROUND(HC315*I315,2)","v":0},null,null,0,0,{"$f":"0","v":0},null,"","",null,null,null,null,null,null,"","Пр/812-049.3-1","Пр/774-049.3","Электротехнические установки: на других объектах","Электротехнические установки: на других объектах",null,0,null,null,null,null,null,null,null,null,null,null,null,null,null,null,null,null,null,0]
[18,1,630,null,"","20.5.04.03-0002","Зажимы наборные проходные ЗН24-4П25","100 ШТ",{"$f":"I311*J316","v":-0.17340000000000003},-1.02,-1.02,-0.1734,0,{"$f":"ROUND(L316-M316,4)","v":-0.1734},{"$f":"ROUND(CP316,2)","v":-177.22},{"$f":"ROUND(CQ316*I316,2)","v":-177.22},{"$f":"ROUND(CR316*I316,2)","v":0},{"$f":"ROUND(CS316*I316,2)","v":0},{"$f":"ROUND(CT316*I316,2)","v":0},{"$f":"ROUND(CU316*I316,2)","v":0},{"$f":"ROUND(CV316*I316,7)","v":0},{"$f":"ROUND(CW316*I316,7)","v":0},{"$f":"ROUND(CX316*I316,2)","v":0},0,0,null,-1,{"$f":"ROUND((AC316+AD316+AF316),2)","v":896.51},{"$f":"ROUND((ES316),2)","v":896.51},{"$f":"ROUND((((ET316)-(EU316))+AE316),2)","v":0},0,0,{"$f":"ROUND((AP316),2)","v":0},0,0,{"$f":"(AS316)","v":0},896.51,896.51,0,0,0,0,0,0,0,97,51,1,1,null,null,1,1,1,1.1399999999999999,"","","","",3,2,"ФСБЦ-2022, 20.5.04.03-0002, приказ Минстроя России от 18.05.2022 г. № 378/пр",null,null,108001,0,"20.5.04.03-0002",1,3,0,1,1,1,1,1,1,"",97,51,"",null,null,0,0,0,0,0,0,0,0,0,"",0,{"$f":"(P316+Q316+S316+R316)","v":-177.22},{"$f":"ROUND(AL316*BC316,2)","v":1022.02},{"$f":"ROUND(AM316*BB316,2)","v":0},{"$f":"ROUND(AN316*BS316,2)","v":0},{"$f":"ROUND(AO316*BA316,2)","v":0},{"$f":"AG316","v":0},0,0,0,{"$f":"(((S316+R316)*AT316)/100)","v":0},{"$f":"(((S316+R316)*AU316)/100)","v":0},null,null,"","","","","","","","","","","",0,0,1,1,null,null,null,1013,"100 ШТ","100 ШТ",1,null,"","","","",null,83666702,3,"Монтажные работы",0,"",2,108001,"Электротехнические установки: на других объектах","мФЕР-08",null,"",null,1024,896.51,896.51,0,0,0,0,0,null,null,null,null,null,null,null,null,null,null,null,null,null,null,null,null,null,null,0,0,0,null,null,null,null,97,51,null,"",null,null,1,null,-568563229,2,1,2,0,0,{"$f":"ROUND(IF(AND(BH316=3,BI316=3,FS316<>0),P316,0),2)","v":0},{"$f":"ROUND(O316+X316+Y316,2)+GX316","v":-177.22},{"$f":"IF(OR(BI316=0,BI316=1),GM316-GX316,0)","v":0},{"$f":"IF(BI316=2,GM316-GX316,0)","v":-177.22},{"$f":"IF(BI316=4,GM316-GX316,0)","v":0},null,0,3,0,"",{"$f":"ROUND((GT316),2)","v":0},1,{"$f":"ROUND(HC316*I316,2)","v":0},null,null,0,0,{"$f":"GV316*GW316","v":0},null,"","",null,null,null,null,null,null,"","Пр/812-049.3-1","Пр/774-049.3","Электротехнические установки: на других объектах","Электротехнические установки: на других объектах",null,0,null,null,null,null,null,null,null,null,null,null,null,null,null,null,null,null,null,0]
[18,1,639,null,"","20.5.04.03-0002","Зажимы наборные проходные ЗН24-4П25","100 ШТ",{"$f":"I312*J317","v":-0.17340000000000003},-1.02,-1.02,-0.1734,0,{"$f":"ROUND(L317-M317,4)","v":-0.1734},{"$f":"ROUND(CP317,2)","v":-177.22},{"$f":"ROUND(CQ317*I317,2)","v":-177.22},{"$f":"ROUND(CR317*I317,2)","v":0},{"$f":"ROUND(CS317*I317,2)","v":0},{"$f":"ROUND(CT317*I317,2)","v":0},{"$f":"ROUND(CU317*I317,2)","v":0},{"$f":"ROUND(CV317*I317,7)","v":0},{"$f":"ROUND(CW317*I317,7)","v":0},{"$f":"ROUND(CX317*I317,2)","v":0},0,0,null,-1,{"$f":"ROUND((AC317+AD317+AF317),2)","v":896.51},{"$f":"ROUND((ES317),2)","v":896.51},{"$f":"ROUND((((ET317)-(EU317))+AE317),2)","v":0},0,0,{"$f":"ROUND((AP317),2)","v":0},0,0,{"$f":"(AS317)","v":0},896.51,896.51,0,0,0,0,0,0,0,97,51,1,1,null,null,1,1,1,1.1399999999999999,"","","","",3,2,"ФСБЦ-2022, 20.5.04.03-0002, приказ Минстроя России от 18.05.2022 г. № 378/пр",null,null,108001,0,"20.5.04.03-0002",1,3,0,1,1,1,1,1,1,"",97,51,"",null,null,0,0,0,0,0,0,0,0,0,"",0,{"$f":"(P317+Q317+S317+R317)","v":-177.22},{"$f":"ROUND(AL317*BC317,2)","v":1022.02},{"$f":"ROUND(AM317*BB317,2)","v":0},{"$f":"ROUND(AN317*BS317,2)","v":0},{"$f":"ROUND(AO317*BA317,2)","v":0},0,0,0,0,{"$f":"(((S317+R317)*AT317)/100)","v":0},{"$f":"(((S317+R317)*AU317)/100)","v":0},null,null,"","","","","","","","","","","",0,0,1,1,null,null,null,1013,"100 ШТ","100 ШТ",1,null,"","","","",null,83666702,3,"Монтажные работы",0,"",2,108001,"Электротехнические установки: на других объектах","мФЕР-08",null,"",null,1024,896.51,896.51,0,0,0,0,0,null,null,null,null,null,null,null,null,null,null,null,null,null,null,null,null,null,null,0,0,0,null,null,null,null,97,51,null,"",null,null,1,null,-568563229,2,1,2,0,0,{"$f":"ROUND(IF(AND(BH317=3,BI317=3,FS317<>0),P317,0),2)","v":0},{"$f":"ROUND(O317+X317+Y317,2)+GX317","v":-177.22},{"$f":"IF(OR(BI317=0,BI317=1),GM317-GX317,0)","v":0},{"$f":"IF(BI317=2,GM317-GX317,0)","v":-177.22},{"$f":"IF(BI317=4,GM317-GX317,0)","v":0},null,0,3,0,"",{"$f":"ROUND((GT317),2)","v":0},1,{"$f":"ROUND(HC317*I317,2)","v":0},null,null,0,0,{"$f":"GV317*GW317","v":0},null,"","",null,null,null,null,null,null,"","Пр/812-049.3-1","Пр/774-049.3","Электротехнические установки: на других объектах","Электротехнические установки: на других объектах",null,0,null,null,null,null,null,null,null,null,null,null,null,null,null,null,null,null,null,0]
[]
[51,{"$f":"B284","v":1},{"$f":"A284","v":4},{"$f":"ROW(A284)","v":284},null,{"$f":"IF(F284<>\"\",F284,\"\")","v":"Новый раздел"},{"$f":"IF(G284<>\"\",G284,\"\")","v":"Заземление"},0,null,null,null,null,null,null,{"$f":"ROUND(AB319,2)","v":23022.34},10222.790000000001,395.79,278.13,12125.63,0,{"$f":"AH319","v":16.085760000000001},{"$f":"AI319","v":0.29241600000000001},{"$f":"ROUND(AJ319,2)","v":0},{"$f":"ROUND(AK319,2)","v":11799.1},{"$f":"ROUND(AL319,2)","v":6006.15},null,null,{"$f":"ROUND(SUMIF(AA288:AA317,\"=85312357\",O288:O317),2)","v":23022.34},{"$f":"ROUND(SUMIF(AA288:AA317,\"=85312357\",P288:P317),2)","v":10222.790000000001},{"$f":"ROUND(SUMIF(AA288:AA317,\"=85312357\",Q288:Q317),2)","v":395.79},{"$f":"ROUND(SUMIF(AA288:AA317,\"=85312357\",R288:R317),2)","v":278.13},{"$f":"ROUND(SUMIF(AA288:AA317,\"=85312357\",S288:S317),2)","v":12125.63},{"$f":"ROUND(SUMIF(AA288:AA317,\"=85312357\",T288:T317),2)","v":0},{"$f":"SUMIF(AA288:AA317,\"=85312357\",U288:U317)","v":16.085760000000001},{"$f":"SUMIF(AA288:AA317,\"=85312357\",V288:V317)","v":0.29241600000000001},{"$f":"ROUND(SUMIF(AA288:AA317,\"=85312357\",W288:W317),2)","v":0},{"$f":"ROUND(SUMIF(AA288:AA317,\"=85312357\",X288:X317),2)","v":11799.1},{"$f":"ROUND(SUMIF(AA288:AA317,\"=85312357\",Y288:Y317),2)","v":6006.15},null,null,{"$f":"ROUND(BX319,2)","v":0},0,0,40827.589999999997,14817.99,26009.599999999999,0,10222.790000000001,10222.790000000001,0,10222.790000000001,0,0,0,0,0,null,null,null,null,null,null,null,null,null,null,null,null,null,null,null,null,null,null,null,{"$f":"ROUND(SUMIF(AA288:AA317,\"=85312357\",FQ288:FQ317),2)","v":0},{"$f":"ROUND(SUMIF(AA288:AA317,\"=85312357\",FR288:FR317),2)","v":0},{"$f":"ROUND(SUMIF(AA288:AA317,\"=85312357\",GL288:GL317),2)","v":0},{"$f":"ROUND(SUMIF(AA288:AA317,\"=85312357\",GM288:GM317),2)","v":40827.589999999997},{"$f":"ROUND(SUMIF(AA288:AA317,\"=85312357\",GN288:GN317),2)","v":14817.99},{"$f":"ROUND(SUMIF(AA288:AA317,\"=85312357\",GO288:GO317),2)","v":26009.599999999999},{"$f":"ROUND(SUMIF(AA288:AA317,\"=85312357\",GP288:GP317),2)","v":0},{"$f":"AC319-BX319","v":10222.790000000001},{"$f":"AC319-BY319","v":10222.790000000001},{"$f":"BX319-BZ319","v":0},{"$f":"AC319-BX319-BY319+BZ319","v":10222.790000000001},{"$f":"BY319-BZ319","v":0},{"$f":"ROUND(SUMIF(AA288:AA317,\"=85312357\",GX288:GX317),2)","v":0},{"$f":"ROUND(SUMIF(AA288:AA317,\"=85312357\",GY288:GY317),2)","v":0},{"$f":"ROUND(SUMIF(AA288:AA317,\"=85312357\",GZ288:GZ317),2)","v":0},{"$f":"ROUND(SUMIF(AA288:AA317,\"=85312357\",HD288:HD317),2)","v":0},null,null,null,null,null,null,null,null,null,null,null,null,null,null,null,null,null,null,null,{"$f":"ROUND(DT319,2)","v":23022.34},10222.790000000001,395.79,278.13,12125.63,0,{"$f":"DZ319","v":16.085760000000001},{"$f":"EA319","v":0.29241600000000001},{"$f":"ROUND(EB319,2)","v":0},{"$f":"ROUND(EC319,2)","v":11799.1},{"$f":"ROUND(ED319,2)","v":6006.15},null,null,{"$f":"ROUND(SUMIF(AA288:AA317,\"=85312298\",O288:O317),2)","v":23022.34},{"$f":"ROUND(SUMIF(AA288:AA317,\"=85312298\",P288:P317),2)","v":10222.790000000001},{"$f":"ROUND(SUMIF(AA288:AA317,\"=85312298\",Q288:Q317),2)","v":395.79},{"$f":"ROUND(SUMIF(AA288:AA317,\"=85312298\",R288:R317),2)","v":278.13},{"$f":"ROUND(SUMIF(AA288:AA317,\"=85312298\",S288:S317),2)","v":12125.63},{"$f":"ROUND(SUMIF(AA288:AA317,\"=85312298\",T288:T317),2)","v":0},{"$f":"SUMIF(AA288:AA317,\"=85312298\",U288:U317)","v":16.085760000000001},{"$f":"SUMIF(AA288:AA317,\"=85312298\",V288:V317)","v":0.29241600000000001},{"$f":"ROUND(SUMIF(AA288:AA317,\"=85312298\",W288:W317),2)","v":0},{"$f":"ROUND(SUMIF(AA288:AA317,\"=85312298\",X288:X317),2)","v":11799.1},{"$f":"ROUND(SUMIF(AA288:AA317,\"=85312298\",Y288:Y317),2)","v":6006.15},null,null,{"$f":"ROUND(FP319,2)","v":0},0,0,40827.589999999997,14817.99,26009.599999999999,0,10222.790000000001,10222.790000000001,0,10222.790000000001,0,0,0,0,0,null,null,null,null,null,null,null,null,null,null,null,null,null,null,null,null,null,null,null,{"$f":"ROUND(SUMIF(AA288:AA317,\"=85312298\",FQ288:FQ317),2)","v":0},{"$f":"ROUND(SUMIF(AA288:AA317,\"=85312298\",FR288:FR317),2)","v":0},{"$f":"ROUND(SUMIF(AA288:AA317,\"=85312298\",GL288:GL317),2)","v":0},{"$f":"ROUND(SUMIF(AA288:AA317,\"=85312298\",GM288:GM317),2)","v":40827.589999999997},{"$f":"ROUND(SUMIF(AA288:AA317,\"=85312298\",GN288:GN317),2)","v":14817.99},{"$f":"ROUND(SUMIF(AA288:AA317,\"=85312298\",GO288:GO317),2)","v":26009.599999999999},{"$f":"ROUND(SUMIF(AA288:AA317,\"=85312298\",GP288:GP317),2)","v":0},{"$f":"DU319-FP319","v":10222.790000000001},{"$f":"DU319-FQ319","v":10222.790000000001},{"$f":"FP319-FR319","v":0},{"$f":"DU319-FP319-FQ319+FR319","v":10222.790000000001},{"$f":"FQ319-FR319","v":0},{"$f":"ROUND(SUMIF(AA288:AA317,\"=85312298\",GX288:GX317),2)","v":0},{"$f":"ROUND(SUMIF(AA288:AA317,\"=85312298\",GY288:GY317),2)","v":0},{"$f":"ROUND(SUMIF(AA288:AA317,\"=85312298\",GZ288:GZ317),2)","v":0},{"$f":"ROUND(SUMIF(AA288:AA317,\"=85312298\",HD288:HD317),2)","v":0},null,null,null,null,null,null,null,null,null,null,null,null,null,null,null,null,null,null,0]
[]
[50,0,0,1,201,{"$f":"ROUND(Source!O319,O321)","v":23022.34},"ПЗ","Прямые затраты",null,null,201,1,3,"",2,{"$f":"ROUND(Source!DG319,O321)","v":23022.34},null,null,null,null,null,null,23022.340000000004,1,23022.340000000004,23022.340000000004,1,23022.340000000004]
[50,0,0,1,202,{"$f":"ROUND(Source!P319,O322)","v":10222.790000000001},"СтМатОб","Стоимость материальных ресурсов (всего)",null,null,202,2,3,"",2,{"$f":"ROUND(Source!DH319,O322)","v":10222.790000000001},null,null,null,null,null,null,10222.790000000001,1,10222.790000000001,10222.790000000001,1,10222.790000000001]
[50,0,0,1,222,{"$f":"ROUND(Source!AO319,O323)","v":0},"СтМатОбЗак","Стоимость материалов и оборудования заказчика",null,null,222,3,3,"",2,{"$f":"ROUND(Source!EG319,O323)","v":0},null,null,null,null,null,null,0,1,0,0,1,0]
[50,0,0,1,225,{"$f":"ROUND(Source!AV319,O324)","v":10222.790000000001},"СтМатОбПод","Стоимость материалов и оборудования подрядчика",null,null,225,4,3,"",2,{"$f":"ROUND(Source!EN319,O324)","v":10222.790000000001},null,null,null,null,null,null,10222.790000000001,1,10222.790000000001,10222.790000000001,1,10222.790000000001]
[50,0,0,1,226,{"$f":"ROUND(Source!AW319,O325)","v":10222.790000000001},"СтМат","Стоимость материалов (всего)",null,null,226,5,3,"",2,{"$f":"ROUND(Source!EO319,O325)","v":10222.790000000001},null,null,null,null,null,null,10222.790000000001,1,10222.790000000001,10222.790000000001,1,10222.790000000001]
[50,0,0,1,227,{"$f":"ROUND(Source!AX319,O326)","v":0},"СтМатЗак","Стоимость материалов заказчика",null,null,227,6,3,"",2,{"$f":"ROUND(Source!EP319,O326)","v":0},null,null,null,null,null,null,0,1,0,0,1,0]
[50,0,0,1,228,{"$f":"ROUND(Source!AY319,O327)","v":10222.790000000001},"СтМатПод","Стоимость материалов подрядчика",null,null,228,7,3,"",2,{"$f":"ROUND(Source!EQ319,O327)","v":10222.790000000001},null,null,null,null,null,null,10222.790000000001,1,10222.790000000001,10222.790000000001,1,10222.790000000001]
[50,0,0,1,216,{"$f":"ROUND(Source!AP319,O328)","v":0},"Оборуд","Стоимость оборудования (всего)",null,null,216,8,3,"",2,{"$f":"ROUND(Source!EH319,O328)","v":0},null,null,null,null,null,null,0,1,0,0,1,0]
[50,0,0,1,223,{"$f":"ROUND(Source!AQ319,O329)","v":0},"ОборудЗак","Стоимость оборудования заказчика",null,null,223,9,3,"",2,{"$f":"ROUND(Source!EI319,O329)","v":0},null,null,null,null,null,null,0,1,0,0,1,0]
[50,0,0,1,229,{"$f":"ROUND(Source!AZ319,O330)","v":0},"ОборудПод","Стоимость оборудования подрядчика",null,null,229,10,3,"",2,{"$f":"ROUND(Source!ER319,O330)","v":0},null,null,null,null,null,null,0,1,0,0,1,0]
[50,0,0,1,203,{"$f":"ROUND(Source!Q319,O331)","v":395.79},"ЭММ","Эксплуатация машин",null,null,203,11,3,"",2,{"$f":"ROUND(Source!DI319,O331)","v":395.79},null,null,null,null,null,null,395.78999999999996,1,395.78999999999996,395.78999999999996,1,395.78999999999996]
[50,0,0,1,231,{"$f":"ROUND(Source!BB319,O332)","v":0},"ЭММсНРиСП","Эксплуатация машин по ТСН-2001.16",null,null,231,12,3,"",2,{"$f":"ROUND(Source!ET319,O332)","v":0},null,null,null,null,null,null,0,1,0,0,1,0]
[50,0,0,1,204,{"$f":"ROUND(Source!R319,O333)","v":278.13},"ЗПМ","ЗП машинистов",null,null,204,13,3,"",2,{"$f":"ROUND(Source!DJ319,O333)","v":278.13},null,null,null,null,null,null,278.13,1,278.13,278.13,1,278.13]
[50,0,0,1,205,{"$f":"ROUND(Source!S319,O334)","v":12125.63},"ОЗП","Основная ЗП рабочих",null,null,205,14,3,"",2,{"$f":"ROUND(Source!DK319,O334)","v":12125.63},null,null,null,null,null,null,12125.630000000001,1,12125.630000000001,12125.630000000001,1,12125.630000000001]
[50,0,0,1,232,{"$f":"ROUND(Source!BC319,O335)","v":0},"ОЗПсНРиСП","Основная ЗП рабочих по ТСН-2001.16",null,null,232,15,3,"",2,{"$f":"ROUND(Source!EU319,O335)","v":0},null,null,null,null,null,null,0,1,0,0,1,0]
[50,0,0,1,214,{"$f":"ROUND(Source!AS319,O336)","v":14817.99},"Строит","Строительные работы с НР и СП",null,null,214,16,3,"",2,{"$f":"ROUND(Source!EK319,O336)","v":14817.99},null,null,null,null,null,null,14817.99,1,14817.99,14817.99,1,14817.99]
[50,0,0,1,215,{"$f":"ROUND(Source!AT319,O337)","v":26009.599999999999},"Монтаж","Монтажные работы с НР и СП",null,null,215,17,3,"",2,{"$f":"ROUND(Source!EL319,O337)","v":26009.599999999999},null,null,null,null,null,null,26009.599999999999,1,26009.599999999999,26009.599999999999,1,26009.599999999999]
[50,0,0,1,217,{"$f":"ROUND(Source!AU319,O338)","v":0},"Прочие","Прочие работы с НР и СП",null,null,217,18,3,"",2,{"$f":"ROUND(Source!EM319,O338)","v":0},null,null,null,null,null,null,0,1,0,0,1,0]
[50,0,0,1,230,{"$f":"ROUND(Source!BA319,O339)","v":0},"ПрочиеЗатр","Прочие затраты по ТСН-2001.16",null,null,230,19,3,"",2,{"$f":"ROUND(Source!ES319,O339)","v":0},null,null,null,null,null,null,0,1,0,0,1,0]
[50,0,0,1,206,{"$f":"ROUND(Source!T319,O340)","v":0},"ВозврМат","Возврат материалов",null,null,206,20,3,"",2,{"$f":"ROUND(Source!DL319,O340)","v":0},null,null,null,null,null,null,0,1,0,0,1,0]
[50,0,0,1,207,{"$f":"ROUND(Source!U319,O341)","v":16.085760000000001},"ТрудСтр","Трудозатраты строителей",null,null,207,21,3,"",7,{"$f":"ROUND(Source!DM319,O341)","v":16.085760000000001},null,null,null,null,null,null,16.085760000000001,1,16.085760000000001,16.085760000000001,1,16.085760000000001]
[50,0,0,1,208,{"$f":"ROUND(Source!V319,O342)","v":0.29241600000000001},"ТрудМаш","Трудозатраты машинистов",null,null,208,22,3,"",7,{"$f":"ROUND(Source!DN319,O342)","v":0.29241600000000001},null,null,null,null,null,null,0.29241600000000001,1,0.29241600000000001,0.29241600000000001,1,0.29241600000000001]
[50,0,0,1,209,{"$f":"ROUND(Source!W319,O343)","v":0},"ТранспМат","Транспорт материалов",null,null,209,23,3,"",2,{"$f":"ROUND(Source!DO319,O343)","v":0},null,null,null,null,null,null,0,1,0,0,1,0]
[50,0,0,1,233,{"$f":"ROUND(Source!BD319,O344)","v":0},"Перевозка","Перевозка грузов",null,null,233,24,3,"",2,{"$f":"ROUND(Source!EV319,O344)","v":0},null,null,null,null,null,null,0,1,0,0,1,0]
[50,0,0,1,210,{"$f":"ROUND(Source!X319,O345)","v":11799.1},"НР","Накладные расходы",null,null,210,25,3,"",2,{"$f":"ROUND(Source!DP319,O345)","v":11799.1},null,null,null,null,null,null,11799.1,1,11799.1,11799.1,1,11799.1]
[50,0,0,1,211,{"$f":"ROUND(Source!Y319,O346)","v":6006.15},"СмПриб","Сметная прибыль",null,null,211,26,3,"",2,{"$f":"ROUND(Source!DQ319,O346)","v":6006.15},null,null,null,null,null,null,6006.15,1,6006.15,6006.15,1,6006.15]
[50,0,0,1,224,{"$f":"ROUND(Source!AR319,O347)","v":40827.589999999997},"Всего","Всего с НР и СП",null,null,224,27,3,"",2,{"$f":"ROUND(Source!EJ319,O347)","v":40827.589999999997},null,null,null,null,null,null,40827.589999999997,1,40827.589999999997,40827.589999999997,1,40827.589999999997]
[]
[4,1,null,{"$f":"ROW(A434)","v":434},null,"Новый раздел","Материалы","",0,null,0,null,"",null,null,null,null,null,0,0,"",0,null,null,null,null,null,"","","","","","",null,null,null,null,null,null,null,null,"","","",null,null,null,null,null,null,null,"",null,"","","","","","","","","","","","","","","",null,null,null,null,null,null,null,0,null,null,null,null,null,null,null,null,null,null,null,0]
[]
[52,{"$f":"B434","v":1},4,349,0,"Новый раздел","Материалы",null,null,null,null,null,null,null,{"$f":"O434","v":18746.2},18746.2,0,0,0,0,0,0,0,0,0,0,0,18746.2,18746.2,0,0,0,0,0,0,0,0,0,0,0,0,0,0,18746.2,18746.2,0,{"$f":"AU434","v":0},18746.2,18746.2,0,18746.2,0,0,0,0,0,0,0,0,0,0,0,0,0,0,0,0,0,0,0,0,0,0,0,0,0,0,0,{"$f":"CA434","v":18746.2},18746.2,0,0,18746.2,18746.2,0,18746.2,0,0,0,0,0,0,0,0,0,0,0,0,0,0,0,0,0,0,0,0,0,0,0,0,{"$f":"DG434","v":18746.2},18746.2,0,0,0,0,0,0,0,0,0,0,0,18746.2,18746.2,0,0,0,0,0,0,0,0,0,0,0,0,0,0,18746.2,18746.2,0,{"$f":"EM434","v":0},18746.2,18746.2,0,18746.2,0,0,0,0,0,0,0,0,0,0,0,0,0,0,0,0,0,0,0,0,0,0,0,0,0,0,0,{"$f":"FS434","v":18746.2},18746.2,0,0,18746.2,18746.2,0,18746.2,0,0,0,0,0,0,0,0,0,0,0,0,0,0,0,0,0,0,0,0,0,0,0,0]
[]
[17,1,null,null,"21","ПАО РОССЕТИ МР","Провод магистральный СИП-2 3х95+1х95","м",15,0,15,163,148,{"$f":"ROUND(L353-M353,4)","v":15},{"$f":"ROUND(CP353,2)","v":7690.35},{"$f":"ROUND(CQ353*I353,2)","v":7690.35},{"$f":"ROUND(CR353*I353,2)","v":0},{"$f":"ROUND(CS353*I353,2)","v":0},{"$f":"ROUND(CT353*I353,2)","v":0},{"$f":"ROUND(CU353*I353,2)","v":0},{"$f":"ROUND(CV353*I353,7)","v":0},{"$f":"ROUND(CW353*I353,7)","v":0},{"$f":"ROUND(CX353*I353,2)","v":0},{"$f":"ROUND(CY353,2)","v":0},{"$f":"ROUND(CZ353,2)","v":0},null,85312357,{"$f":"ROUND((AC353+AD353+AF353),2)","v":512.69000000000005},{"$f":"ROUND((ES353),2)","v":512.69000000000005},{"$f":"ROUND((((ET353)-(EU353))+AE353),2)","v":0},{"$f":"ROUND((EU353),2)","v":0},{"$f":"ROUND((EV353),2)","v":0},{"$f":"ROUND((AP353),2)","v":0},{"$f":"(EW353)","v":0},{"$f":"(EX353)","v":0},{"$f":"(AS353)","v":0},512.68999999999994,512.68999999999994,0,0,0,0,0,0,0,0,0,1,1,null,null,1,1,1,1,"","","","",3,1,"",null,null,1100,0,"",0,8,0,1,1,1,1,1,1,"",0,0,"",null,null,0,0,0,21,0,0,0,0,0,"",0,{"$f":"(P353+Q353+S353+R353)","v":7690.35},{"$f":"ROUND(AL353,2)","v":512.69000000000005},{"$f":"ROUND(AM353,2)","v":0},{"$f":"ROUND(AN353*BS353,2)","v":0},{"$f":"ROUND(AO353*BA353,2)","v":0},{"$f":"AG353","v":0},{"$f":"AH353","v":0},{"$f":"AI353","v":0},{"$f":"AJ353","v":0},{"$f":"(((S353+R353)*AT353)/100)","v":0},{"$f":"(((S353+R353)*AU353)/100)","v":0},null,null,"","","","","","","","","","","",0,0,1,1,null,null,null,1003,"м","м",1,null,"","","","",null,83667004,8,"Материалы строительные",0,"",1,1100,"Материалы, изделия и конструкции","материалы (03)",null,"",null,131072,512.68999999999994,512.68999999999994,0,0,0,0,0,0,5,null,null,0,18,null,488,null,null,null,null,null,null,null,null,null,null,0,0,0,null,null,null,null,0,0,null,"488 +  3% Трансп +  2% Заг.скл",null,null,1,null,-648273396,2,3,-2,0,0,{"$f":"ROUND(IF(AND(BH353=3,BI353=3,FS353<>0),P353,0),2)","v":0},{"$f":"ROUND(O353+X353+Y353,2)+GX353","v":7690.35},{"$f":"IF(OR(BI353=0,BI353=1),GM353-GX353,0)","v":7690.35},{"$f":"IF(BI353=2,GM353-GX353,0)","v":0},{"$f":"IF(BI353=4,GM353-GX353,0)","v":0},null,1,1,0,"",{"$f":"ROUND((GT353),2)","v":0},1,{"$f":"ROUND(HC353*I353,2)","v":0},null,null,0,0,{"$f":"GV353*GW353","v":0},null,"3","2",{"$f":"ROUND(ROUND(AL353,2)*I353,2)","v":7690.35},null,null,null,null,null,"","","","","",null,0,null,null,null,null,null,null,null,null,null,null,null,null,null,null,null,null,null,0]
[17,1,null,null,"21","ПАО РОССЕТИ МР","Провод магистральный СИП-2 3х95+1х95","м",15,0,15,163,148,15,7690.35,7690.35,0,0,0,0,0,0,0,0,0,null,85312298,512.69000000000005,512.69000000000005,0,0,0,0,0,0,0,512.68999999999994,512.68999999999994,0,0,0,0,0,0,0,0,0,1,1,null,null,1,1,1,1,"","","","",3,1,"",null,null,1100,0,"",0,8,0,1,1,1,1,1,1,"",0,0,"",null,null,0,0,0,21,0,0,0,0,0,"",0,7690.35,{"$f":"ROUND(AL354,2)","v":512.69000000000005},{"$f":"ROUND(AM354,2)","v":0},0,0,0,0,0,0,0,0,null,null,"","","","","","","","","","","",0,0,1,1,null,null,null,1003,"м","м",1,null,"","","","",null,83667004,8,"Материалы строительные",0,"",1,1100,"Материалы, изделия и конструкции","материалы (03)",null,"",null,131072,512.68999999999994,512.68999999999994,0,0,0,0,0,0,5,null,null,0,18,null,488,null,null,null,null,null,null,null,null,null,null,0,0,0,null,null,null,null,0,0,null,"488 +  3% Трансп +  2% Заг.скл",null,null,1,null,-648273396,2,3,-2,0,0,0,7690.35,7690.35,0,0,null,1,1,0,"",0,1,0,null,null,0,0,0,null,"3","2",{"$f":"ROUND(ROUND(AL354,2)*I354,2)","v":7690.35},null,null,null,null,null,"","","","","",null,0,null,null,null,null,null,null,null,null,null,null,null,null,null,null,null,null,null,0]
[17,1,null,null,"","ПАО РОССЕТИ МР","Провод магистральный СИП-2 3х70+1х70","м",0,0,0,1,1,0,0,0,0,0,0,0,0,0,0,0,0,null,-1,395.03,395.03,0,0,0,0,0,0,0,395.03,395.03,0,0,0,0,0,0,0,0,0,1,1,null,null,1,1,1,1,"","","","",3,1,"",null,null,1100,0,"",0,8,0,1,1,1,1,1,1,"",0,0,"",null,null,0,0,0,0,0,0,0,0,0,"",0,0,{"$f":"ROUND(AL355*BC355,2)","v":395.03},{"$f":"ROUND(AM355*BB355,2)","v":0},0,0,0,0,0,0,0,0,null,null,"","","","","","","","","","","",0,0,1,1,null,null,null,1003,"м","м",1,null,"","","","",null,83667004,8,"Материалы строительные",0,"",1,1100,"Материалы, изделия и конструкции","материалы (03)",null,"",null,132096,395.03,395.03,0,0,0,0,0,0,null,null,null,null,null,null,null,null,null,null,null,null,null,null,null,null,null,0,0,0,null,null,null,null,0,0,null,"",null,null,1,null,-1127617054,2,0,-2,0,0,0,0,0,0,0,null,0,0,0,"",0,1,0,null,null,0,0,0,null,"","",null,null,null,null,null,null,"","","","","",null,0,null,null,null,null,null,null,null,null,null,null,null,null,null,null,null,null,null,0]
[17,1,null,null,"","ПАО РОССЕТИ МР","Провод магистральный СИП-2 3х70+1х70","м",0,0,0,1,1,0,0,0,0,0,0,0,0,0,0,0,0,null,-1,395.03,395.03,0,0,0,0,0,0,0,395.03,395.03,0,0,0,0,0,0,0,0,0,1,1,null,null,1,1,1,1,"","","","",3,1,"",null,null,1100,0,"",0,8,0,1,1,1,1,1,1,"",0,0,"",null,null,0,0,0,0,0,0,0,0,0,"",0,0,395.03,0,0,0,0,0,0,0,0,0,null,null,"","","","","","","","","","","",0,0,1,1,null,null,null,1003,"м","м",1,null,"","","","",null,83667004,8,"Материалы строительные",0,"",1,1100,"Материалы, изделия и конструкции","материалы (03)",null,"",null,132096,395.03,395.03,0,0,0,0,0,0,null,null,null,null,null,null,null,null,null,null,null,null,null,null,null,null,null,0,0,0,null,null,null,null,0,0,null,"",null,null,1,null,-1127617054,2,0,-2,0,0,0,0,0,0,0,null,0,0,0,"",0,1,0,null,null,0,0,0,null,"","",null,null,null,null,null,null,"","","","","",null,0,null,null,null,null,null,null,null,null,null,null,null,null,null,null,null,null,null,0]
[17,1,null,null,"","ПАО РОССЕТИ МР","Провод магистральный СИП-2 3х95+1х70","м",0,0,0,1,1,0,0,0,0,0,0,0,0,0,0,0,0,null,-1,478.02,478.02,0,0,0,0,0,0,0,478.02,478.02,0,0,0,0,0,0,0,0,0,1,1,null,null,1,1,1,1,"","","","",3,1,"",null,null,1100,0,"",0,8,0,1,1,1,1,1,1,"",0,0,"",null,null,0,0,0,0,0,0,0,0,0,"",0,0,478.02,0,0,0,0,0,0,0,0,0,null,null,"","","","","","","","","","","",0,0,1,1,null,null,null,1003,"м","м",1,null,"","","","",null,83667004,8,"Материалы строительные",0,"",1,1100,"Материалы, изделия и конструкции","материалы (03)",null,"",null,132096,478.02,478.02,0,0,0,0,0,0,null,null,null,null,null,null,null,null,null,null,null,null,null,null,null,null,null,0,0,0,null,null,null,null,0,0,null,"",null,null,1,null,1380899297,2,0,-2,0,0,0,0,0,0,0,null,0,0,0,"",0,1,0,null,null,0,0,0,null,"","",null,null,null,null,null,null,"","","","","",null,0,null,null,null,null,null,null,null,null,null,null,null,null,null,null,null,null,null,0]
[17,1,null,null,"","ПАО РОССЕТИ МР","Провод магистральный СИП-2 3х95+1х70","м",0,0,0,1,1,0,0,0,0,0,0,0,0,0,0,0,0,null,-1,478.02,478.02,0,0,0,0,0,0,0,478.02,478.02,0,0,0,0,0,0,0,0,0,1,1,null,null,1,1,1,1,"","","","",3,1,"",null,null,1100,0,"",0,8,0,1,1,1,1,1,1,"",0,0,"",null,null,0,0,0,0,0,0,0,0,0,"",0,0,478.02,0,0,0,0,0,0,0,0,0,null,null,"","","","","","","","","","","",0,0,1,1,null,null,null,1003,"м","м",1,null,"","","","",null,83667004,8,"Материалы строительные",0,"",1,1100,"Материалы, изделия и конструкции","материалы (03)",null,"",null,132096,478.02,478.02,0,0,0,0,0,0,null,null,null,null,null,null,null,null,null,null,null,null,null,null,null,null,null,0,0,0,null,null,null,null,0,0,null,"",null,null,1,null,1380899297,2,0,-2,0,0,0,0,0,0,0,null,0,0,0,"",0,1,0,null,null,0,0,0,null,"","",null,null,null,null,null,null,"","","","","",null,0,null,null,null,null,null,null,null,null,null,null,null,null,null,null,null,null,null,0]
[17,1,null,null,"","ПАО РОССЕТИ МР","Провод СИП-3 1х95","м",0,0,0,1,1,0,0,0,0,0,0,0,0,0,0,0,0,null,-1,144.46,144.46,0,0,0,0,0,0,0,144.46,144.46,0,0,0,0,0,0,0,0,0,1,1,null,null,1,1,1,1,"","","","",3,1,"",null,null,1100,0,"",0,8,0,1,1,1,1,1,1,"",0,0,"",null,null,0,0,0,0,0,0,0,0,0,"",0,0,144.46,0,0,0,0,0,0,0,0,0,null,null,"","","","","","","","","","","",0,0,1,1,null,null,null,1003,"м","м",1,null,"","","","",null,83667004,8,"Материалы строительные",0,"",1,1100,"Материалы, изделия и конструкции","материалы (03)",null,"",null,132096,144.46,144.46,0,0,0,0,0,0,null,null,null,null,null,null,null,null,null,null,null,null,null,null,null,null,null,0,0,0,null,null,null,null,0,0,null,"",null,null,1,null,-304613340,2,0,-2,0,0,0,0,0,0,0,null,0,0,0,"",0,1,0,null,null,0,0,0,null,"","",null,null,null,null,null,null,"","","","","",null,0,null,null,null,null,null,null,null,null,null,null,null,null,null,null,null,null,null,0]
[17,1,null,null,"","ПАО РОССЕТИ МР","Провод СИП-3 1х95","м",0,0,0,1,1,0,0,0,0,0,0,0,0,0,0,0,0,null,-1,144.46,144.46,0,0,0,0,0,0,0,144.46,144.46,0,0,0,0,0,0,0,0,0,1,1,null,null,1,1,1,1,"","","","",3,1,"",null,null,1100,0,"",0,8,0,1,1,1,1,1,1,"",0,0,"",null,null,0,0,0,0,0,0,0,0,0,"",0,0,144.46,0,0,0,0,0,0,0,0,0,null,null,"","","","","","","","","","","",0,0,1,1,null,null,null,1003,"м","м",1,null,"","","","",null,83667004,8,"Материалы строительные",0,"",1,1100,"Материалы, изделия и конструкции","материалы (03)",null,"",null,132096,144.46,144.46,0,0,0,0,0,0,null,null,null,null,null,null,null,null,null,null,null,null,null,null,null,null,null,0,0,0,null,null,null,null,0,0,null,"",null,null,1,null,-304613340,2,0,-2,0,0,0,0,0,0,0,null,0,0,0,"",0,1,0,null,null,0,0,0,null,"","",null,null,null,null,null,null,"","","","","",null,0,null,null,null,null,null,null,null,null,null,null,null,null,null,null,null,null,null,0]
[17,1,null,null,"","ПАО РОССЕТИ МР","Провод СИП-3 1х70","м",0,0,0,1,1,0,0,0,0,0,0,0,0,0,0,0,0,null,-1,109.57,109.57,0,0,0,0,0,0,0,109.57000000000001,109.57000000000001,0,0,0,0,0,0,0,0,0,1,1,null,null,1,1,1,1,"","","","",3,1,"",null,null,1100,0,"",0,8,0,1,1,1,1,1,1,"",0,0,"",null,null,0,0,0,0,0,0,0,0,0,"",0,0,109.57,0,0,0,0,0,0,0,0,0,null,null,"","","","","","","","","","","",0,0,1,1,null,null,null,1003,"м","м",1,null,"","","","",null,83667004,8,"Материалы строительные",0,"",1,1100,"Материалы, изделия и конструкции","материалы (03)",null,"",null,132096,109.57000000000001,109.57000000000001,0,0,0,0,0,0,null,null,null,null,null,null,null,null,null,null,null,null,null,null,null,null,null,0,0,0,null,null,null,null,0,0,null,"",null,null,1,null,1031420165,2,0,-2,0,0,0,0,0,0,0,null,0,0,0,"",0,1,0,null,null,0,0,0,null,"","",null,null,null,null,null,null,"","","","","",null,0,null,null,null,null,null,null,null,null,null,null,null,null,null,null,null,null,null,0]
[17,1,null,null,"","ПАО РОССЕТИ МР","Провод СИП-3 1х70","м",0,0,0,1,1,0,0,0,0,0,0,0,0,0,0,0,0,null,-1,109.57,109.57,0,0,0,0,0,0,0,109.57000000000001,109.57000000000001,0,0,0,0,0,0,0,0,0,1,1,null,null,1,1,1,1,"","","","",3,1,"",null,null,1100,0,"",0,8,0,1,1,1,1,1,1,"",0,0,"",null,null,0,0,0,0,0,0,0,0,0,"",0,0,109.57,0,0,0,0,0,0,0,0,0,null,null,"","","","","","","","","","","",0,0,1,1,null,null,null,1003,"м","м",1,null,"","","","",null,83667004,8,"Материалы строительные",0,"",1,1100,"Материалы, изделия и конструкции","материалы (03)",null,"",null,132096,109.57000000000001,109.57000000000001,0,0,0,0,0,0,null,null,null,null,null,null,null,null,null,null,null,null,null,null,null,null,null,0,0,0,null,null,null,null,0,0,null,"",null,null,1,null,1031420165,2,0,-2,0,0,0,0,0,0,0,null,0,0,0,"",0,1,0,null,null,0,0,0,null,"","",null,null,null,null,null,null,"","","","","",null,0,null,null,null,null,null,null,null,null,null,null,null,null,null,null,null,null,null,0]
[17,1,null,null,"22","ПАО РОССЕТИ МР","Стойка СВ95-3","ШТ",0,0,0,11,11,0,0,0,0,0,0,0,0,0,0,0,0,null,85312357,12593.29,12593.29,0,0,0,0,0,0,0,12593.29,12593.29,0,0,0,0,0,0,0,0,0,1,1,null,null,1,1,1,1,"","","","",3,1,"",null,null,1100,0,"",0,8,0,1,1,1,1,1,1,"",0,0,"",null,null,0,0,0,22,0,0,0,0,0,"",0,0,{"$f":"ROUND(AL363,2)","v":12593.29},{"$f":"ROUND(AM363,2)","v":0},0,0,0,0,0,0,0,0,null,null,"","","","","","","","","","","",0,0,1,1,null,null,null,1013,"ШТ","ШТ",1,null,"","","","",null,83667004,8,"Материалы строительные",0,"",1,1100,"Материалы, изделия и конструкции","материалы (03)",null,"",null,131072,12593.29,12593.29,0,0,0,0,0,0,5,null,null,0,18,null,11986.76,null,null,null,null,null,null,null,null,null,null,0,0,0,null,null,null,null,0,0,null,"11 986,76 +  3% Трансп +  2% Заг.скл",null,null,1,null,-1189824079,2,3,-2,0,0,0,0,0,0,0,null,1,1,0,"",0,1,0,null,null,0,0,0,null,"3","2",{"$f":"ROUND(ROUND(AL363,2)*I363,2)","v":0},null,null,null,null,null,"","","","","",null,0,null,null,null,null,null,null,null,null,null,null,null,null,null,null,null,null,null,0]
[17,1,null,null,"22","ПАО РОССЕТИ МР","Стойка СВ95-3","ШТ",0,0,0,11,11,0,0,0,0,0,0,0,0,0,0,0,0,null,85312298,12593.29,12593.29,0,0,0,0,0,0,0,12593.29,12593.29,0,0,0,0,0,0,0,0,0,1,1,null,null,1,1,1,1,"","","","",3,1,"",null,null,1100,0,"",0,8,0,1,1,1,1,1,1,"",0,0,"",null,null,0,0,0,22,0,0,0,0,0,"",0,0,{"$f":"ROUND(AL364,2)","v":12593.29},{"$f":"ROUND(AM364,2)","v":0},0,0,0,0,0,0,0,0,null,null,"","","","","","","","","","","",0,0,1,1,null,null,null,1013,"ШТ","ШТ",1,null,"","","","",null,83667004,8,"Материалы строительные",0,"",1,1100,"Материалы, изделия и конструкции","материалы (03)",null,"",null,131072,12593.29,12593.29,0,0,0,0,0,0,5,null,null,0,18,null,11986.76,null,null,null,null,null,null,null,null,null,null,0,0,0,null,null,null,null,0,0,null,"11 986,76 +  3% Трансп +  2% Заг.скл",null,null,1,null,-1189824079,2,3,-2,0,0,0,0,0,0,0,null,1,1,0,"",0,1,0,null,null,0,0,0,null,"3","2",{"$f":"ROUND(ROUND(AL364,2)*I364,2)","v":0},null,null,null,null,null,"","","","","",null,0,null,null,null,null,null,null,null,null,null,null,null,null,null,null,null,null,null,0]
[17,1,null,null,"","ПАО РОССЕТИ МР","Стойка СВ 110-5","ШТ",0,0,0,1,1,0,0,0,0,0,0,0,0,0,0,0,0,null,-1,15911.73,15911.73,0,0,0,0,0,0,0,15911.73,15911.73,0,0,0,0,0,0,0,0,0,1,1,null,null,1,1,1,1,"","","","",3,1,"",null,null,1100,0,"",0,8,0,1,1,1,1,1,1,"",0,0,"",null,null,0,0,0,0,0,0,0,0,0,"",0,0,{"$f":"ROUND(AL365*BC365,2)","v":15911.73},{"$f":"ROUND(AM365*BB365,2)","v":0},0,0,0,0,0,0,0,0,null,null,"","","","","","","","","","","",0,0,1,1,null,null,null,1013,"ШТ","ШТ",1,null,"","","","",null,83667004,8,"Материалы строительные",0,"",1,1100,"Материалы, изделия и конструкции","материалы (03)",null,"",null,132096,15911.73,15911.73,0,0,0,0,0,0,null,null,null,null,null,null,null,null,null,null,null,null,null,null,null,null,null,0,0,0,null,null,null,null,0,0,null,"",null,null,1,null,943226648,2,0,-2,0,0,0,0,0,0,0,null,0,0,0,"",0,1,0,null,null,0,0,0,null,"","",null,null,null,null,null,null,"","","","","",null,0,null,null,null,null,null,null,null,null,null,null,null,null,null,null,null,null,null,0]
[17,1,null,null,"","ПАО РОССЕТИ МР","Стойка СВ 110-5","ШТ",0,0,0,1,1,0,0,0,0,0,0,0,0,0,0,0,0,null,-1,15911.73,15911.73,0,0,0,0,0,0,0,15911.73,15911.73,0,0,0,0,0,0,0,0,0,1,1,null,null,1,1,1,1,"","","","",3,1,"",null,null,1100,0,"",0,8,0,1,1,1,1,1,1,"",0,0,"",null,null,0,0,0,0,0,0,0,0,0,"",0,0,{"$f":"ROUND(AL366*BC366,2)","v":15911.73},{"$f":"ROUND(AM366*BB366,2)","v":0},0,0,0,0,0,0,0,0,null,null,"","","","","","","","","","","",0,0,1,1,null,null,null,1013,"ШТ","ШТ",1,null,"","","","",null,83667004,8,"Материалы строительные",0,"",1,1100,"Материалы, изделия и конструкции","материалы (03)",null,"",null,132096,15911.73,15911.73,0,0,0,0,0,0,null,null,null,null,null,null,null,null,null,null,null,null,null,null,null,null,null,0,0,0,null,null,null,null,0,0,null,"",null,null,1,null,943226648,2,0,-2,0,0,0,0,0,0,0,null,0,0,0,"",0,1,0,null,null,0,0,0,null,"","",null,null,null,null,null,null,"","","","","",null,0,null,null,null,null,null,null,null,null,null,null,null,null,null,null,null,null,null,0]
[17,1,null,null,"","ТЦ_20.1.02.18_77_7736281025_12.01.2026_02_66.1","Стяжка Х89 см.21.0112-16","ШТ",0,0,0,1,1,0,0,0,0,0,0,0,0,0,0,0,0,null,-1,4120.9799999999996,4120.9799999999996,{"$f":"ROUND((ET367),2)","v":0},0,0,0,0,0,0,4120.9799999999996,4120.9799999999996,0,0,0,0,0,0,0,0,0,1,1,null,null,1,1,1,1,"","","","",3,1,"ТЦ_20.1.02.18_77_7736281025_12.01.2026_02_66.1",null,null,900,0,"",0,90,0,1,1,1,1,1,1,"",0,0,"",null,null,0,0,0,0,0,0,0,0,0,"",0,0,{"$f":"ROUND(AL367,2)","v":4120.9799999999996},{"$f":"ROUND(AM367,2)","v":0},0,0,0,0,0,0,{"$f":"0","v":0},{"$f":"0","v":0},null,null,"","","","","","","","","","","",0,0,1,1,null,null,null,1013,"ШТ","ШТ",1,null,"","","","",null,83667261,90,"Материалы, отсутствующие в СНБ (Строительные)",0,"",1,900,"Материалы, отсутствующие в СНБ (Строительные)","МР КА Строительные",null,"",null,132112,0,4120.9799999999996,0,0,0,0,0,0,null,null,null,null,null,null,null,null,null,null,null,null,null,null,null,null,null,0,0,0,null,null,null,null,0,0,null,"",null,null,1,null,79949208,2,0,-2,0,0,0,0,0,0,0,null,0,0,0,"",0,1,0,null,null,0,0,0,null,"","",null,null,null,null,null,null,"","","","","",null,0,null,null,null,null,null,null,null,null,null,null,null,null,null,null,null,null,null,0]
[17,1,null,null,"","ТЦ_20.1.02.18_77_7736281025_12.01.2026_02_66.1","Стяжка Х89 см.21.0112-16","ШТ",0,0,0,1,1,0,0,0,0,0,0,0,0,0,0,0,0,null,-1,4120.9799999999996,4120.9799999999996,0,0,0,0,0,0,0,4120.9799999999996,4120.9799999999996,0,0,0,0,0,0,0,0,0,1,1,null,null,1,1,1,1,"","","","",3,1,"ТЦ_20.1.02.18_77_7736281025_12.01.2026_02_66.1",null,null,900,0,"",0,90,0,1,1,1,1,1,1,"",0,0,"",null,null,0,0,0,0,0,0,0,0,0,"",0,0,4120.9799999999996,0,0,0,0,0,0,0,{"$f":"0","v":0},{"$f":"0","v":0},null,null,"","","","","","","","","","","",0,0,1,1,null,null,null,1013,"ШТ","ШТ",1,null,"","","","",null,83667261,90,"Материалы, отсутствующие в СНБ (Строительные)",0,"",1,900,"Материалы, отсутствующие в СНБ (Строительные)","МР КА Строительные",null,"",null,132112,0,4120.9799999999996,0,0,0,0,0,0,null,null,null,null,null,null,null,null,null,null,null,null,null,null,null,null,null,0,0,0,null,null,null,null,0,0,null,"",null,null,1,null,79949208,2,0,-2,0,0,0,0,0,0,0,null,0,0,0,"",0,1,0,null,null,0,0,0,null,"","",null,null,null,null,null,null,"","","","","",null,0,null,null,null,null,null,null,null,null,null,null,null,null,null,null,null,null,null,0]
[17,1,null,null,"23","ТЦ_20.2.06.00_77_7736281025_12.01.2026_02_43.1","Кронштейн У4","ШТ",0,0,0,4,4,0,0,0,0,0,0,0,0,0,0,0,0,null,85312357,3076.65,3076.65,0,0,0,0,0,0,0,3076.65,3076.65,0,0,0,0,0,0,0,0,0,1,1,null,null,1,1,1,1,"","","","",3,1,"ТЦ_20.2.06.00_77_7736281025_12.01.2026_02_43.1",null,null,900,0,"",0,90,0,1,1,1,1,1,1,"",0,0,"",null,null,0,0,0,23,0,0,0,0,0,"",0,0,3076.65,0,0,0,0,0,0,0,{"$f":"0","v":0},{"$f":"0","v":0},null,null,"","","","","","","","","","","",0,0,1,1,null,null,null,1013,"ШТ","ШТ",1,null,"","","","",null,83667261,90,"Материалы, отсутствующие в СНБ (Строительные)",0,"",1,900,"Материалы, отсутствующие в СНБ (Строительные)","МР КА Строительные",null,"",null,131088,0,3076.65,0,0,0,0,0,0,5,null,null,0,18,null,3076.65,null,null,null,null,null,null,null,null,null,null,0,0,0,null,null,null,null,0,0,null,"",null,null,1,null,-1470241868,2,3,-2,0,0,0,0,0,0,0,null,1,1,0,"",0,1,0,null,null,0,0,0,null,"","",{"$f":"ROUND(ROUND(AL369,2)*I369,2)","v":0},null,null,null,null,null,"","","","","",null,0,null,null,null,null,null,null,null,null,null,null,null,null,null,null,null,null,null,0]
[17,1,null,null,"23","ТЦ_20.2.06.00_77_7736281025_12.01.2026_02_43.1","Кронштейн У4","ШТ",0,0,0,4,4,0,0,0,0,0,0,0,0,0,0,0,0,null,85312298,3076.65,3076.65,0,0,0,0,0,0,0,3076.65,3076.65,0,0,0,0,0,0,0,0,0,1,1,null,null,1,1,1,1,"","","","",3,1,"ТЦ_20.2.06.00_77_7736281025_12.01.2026_02_43.1",null,null,900,0,"",0,90,0,1,1,1,1,1,1,"",0,0,"",null,null,0,0,0,23,0,0,0,0,0,"",0,0,3076.65,0,0,0,0,0,0,0,{"$f":"0","v":0},{"$f":"0","v":0},null,null,"","","","","","","","","","","",0,0,1,1,null,null,null,1013,"ШТ","ШТ",1,null,"","","","",null,83667261,90,"Материалы, отсутствующие в СНБ (Строительные)",0,"",1,900,"Материалы, отсутствующие в СНБ (Строительные)","МР КА Строительные",null,"",null,131088,0,3076.65,0,0,0,0,0,0,5,null,null,0,18,null,3076.65,null,null,null,null,null,null,null,null,null,null,0,0,0,null,null,null,null,0,0,null,"",null,null,1,null,-1470241868,2,3,-2,0,0,0,0,0,0,0,null,1,1,0,"",0,1,0,null,null,0,0,0,null,"","",0,null,null,null,null,null,"","","","","",null,0,null,null,null,null,null,null,null,null,null,null,null,null,null,null,null,null,null,0]
[17,1,null,null,"24","ТЦ_22.2.02.19_77_7736281025_12.01.2026_02_44.1","УПЗ 16","ШТ",0,0,0,3,3,0,0,0,0,0,0,0,0,0,0,0,0,null,85312357,2129.38,2129.38,0,0,0,0,0,0,0,2129.38,2129.38,0,0,0,0,0,0,0,0,0,1,1,null,null,1,1,1,1,"","","","",3,1,"ТЦ_22.2.02.19_77_7736281025_12.01.2026_02_44.1",null,null,900,0,"",0,90,0,1,1,1,1,1,1,"",0,0,"",null,null,0,0,0,24,0,0,0,0,0,"",0,0,2129.38,0,0,0,0,0,0,0,{"$f":"0","v":0},{"$f":"0","v":0},null,null,"","","","","","","","","","","",0,0,1,1,null,null,null,1013,"ШТ","ШТ",1,null,"","","","",null,83667261,90,"Материалы, отсутствующие в СНБ (Строительные)",0,"",1,900,"Материалы, отсутствующие в СНБ (Строительные)","МР КА Строительные",null,"",null,131088,0,2129.38,0,0,0,0,0,0,5,null,null,0,18,null,2129.38,null,null,null,null,null,null,null,null,null,null,0,0,0,null,null,null,null,0,0,null,"",null,null,1,null,-1545385410,2,3,-2,0,0,0,0,0,0,0,null,1,1,0,"",0,1,0,null,null,0,0,0,null,"","",0,null,null,null,null,null,"","","","","",null,0,null,null,null,null,null,null,null,null,null,null,null,null,null,null,null,null,null,0]
[17,1,null,null,"24","ТЦ_22.2.02.19_77_7736281025_12.01.2026_02_44.1","УПЗ 16","ШТ",0,0,0,3,3,0,0,0,0,0,0,0,0,0,0,0,0,null,85312298,2129.38,2129.38,0,0,0,0,0,0,0,2129.38,2129.38,0,0,0,0,0,0,0,0,0,1,1,null,null,1,1,1,1,"","","","",3,1,"ТЦ_22.2.02.19_77_7736281025_12.01.2026_02_44.1",null,null,900,0,"",0,90,0,1,1,1,1,1,1,"",0,0,"",null,null,0,0,0,24,0,0,0,0,0,"",0,0,2129.38,0,0,0,0,0,0,0,{"$f":"0","v":0},{"$f":"0","v":0},null,null,"","","","","","","","","","","",0,0,1,1,null,null,null,1013,"ШТ","ШТ",1,null,"","","","",null,83667261,90,"Материалы, отсутствующие в СНБ (Строительные)",0,"",1,900,"Материалы, отсутствующие в СНБ (Строительные)","МР КА Строительные",null,"",null,131088,0,2129.38,0,0,0,0,0,0,5,null,null,0,18,null,2129.38,null,null,null,null,null,null,null,null,null,null,0,0,0,null,null,null,null,0,0,null,"",null,null,1,null,-1545385410,2,3,-2,0,0,0,0,0,0,0,null,1,1,0,"",0,1,0,null,null,0,0,0,null,"","",0,null,null,null,null,null,"","","","","",null,0,null,null,null,null,null,null,null,null,null,null,null,null,null,null,null,null,null,0]
[17,1,null,null,"25","ТЦ_22.2.02.19_77_7736281025_12.01.2026_02_45.1","УПЗ 16А","ШТ",0,0,0,4,4,0,0,0,0,0,0,0,0,0,0,0,0,null,85312357,3937.79,3937.79,0,0,0,0,0,0,0,3937.79,3937.79,0,0,0,0,0,0,0,0,0,1,1,null,null,1,1,1,1,"","","","",3,1,"ТЦ_22.2.02.19_77_7736281025_12.01.2026_02_45.1",null,null,900,0,"",0,90,0,1,1,1,1,1,1,"",0,0,"",null,null,0,0,0,25,0,0,0,0,0,"",0,0,3937.79,0,0,0,0,0,0,0,{"$f":"0","v":0},{"$f":"0","v":0},null,null,"","","","","","","","","","","",0,0,1,1,null,null,null,1013,"ШТ","ШТ",1,null,"","","","",null,83667261,90,"Материалы, отсутствующие в СНБ (Строительные)",0,"",1,900,"Материалы, отсутствующие в СНБ (Строительные)","МР КА Строительные",null,"",null,131088,0,3937.79,0,0,0,0,0,0,5,null,null,0,18,null,3937.79,null,null,null,null,null,null,null,null,null,null,0,0,0,null,null,null,null,0,0,null,"",null,null,1,null,605032630,2,3,-2,0,0,0,0,0,0,0,null,1,1,0,"",0,1,0,null,null,0,0,0,null,"","",0,null,null,null,null,null,"","","","","",null,0,null,null,null,null,null,null,null,null,null,null,null,null,null,null,null,null,null,0]
[17,1,null,null,"25","ТЦ_22.2.02.19_77_7736281025_12.01.2026_02_45.1","УПЗ 16А","ШТ",0,0,0,4,4,0,0,0,0,0,0,0,0,0,0,0,0,null,85312298,3937.79,3937.79,0,0,0,0,0,0,0,3937.79,3937.79,0,0,0,0,0,0,0,0,0,1,1,null,null,1,1,1,1,"","","","",3,1,"ТЦ_22.2.02.19_77_7736281025_12.01.2026_02_45.1",null,null,900,0,"",0,90,0,1,1,1,1,1,1,"",0,0,"",null,null,0,0,0,25,0,0,0,0,0,"",0,0,3937.79,0,0,0,0,0,0,0,{"$f":"0","v":0},{"$f":"0","v":0},null,null,"","","","","","","","","","","",0,0,1,1,null,null,null,1013,"ШТ","ШТ",1,null,"","","","",null,83667261,90,"Материалы, отсутствующие в СНБ (Строительные)",0,"",1,900,"Материалы, отсутствующие в СНБ (Строительные)","МР КА Строительные",null,"",null,131088,0,3937.79,0,0,0,0,0,0,5,null,null,0,18,null,3937.79,null,null,null,null,null,null,null,null,null,null,0,0,0,null,null,null,null,0,0,null,"",null,null,1,null,605032630,2,3,-2,0,0,0,0,0,0,0,null,1,1,0,"",0,1,0,null,null,0,0,0,null,"","",0,null,null,null,null,null,"","","","","",null,0,null,null,null,null,null,null,null,null,null,null,null,null,null,null,null,null,null,0]
[17,1,null,null,"26","ТЦ_20.1.02.00_77_7736281025_12.01.2026_02_46.1","Заземляющий проводник ЗП6","м",0,0,0,2.6,2.6,0,0,0,0,0,0,0,0,0,0,0,0,null,85312357,219.21,219.21,0,0,0,0,0,0,0,219.21,219.21,0,0,0,0,0,0,0,0,0,1,1,null,null,1,1,1,1,"","","","",3,1,"ТЦ_20.1.02.00_77_7736281025_12.01.2026_02_46.1",null,null,900,0,"",0,90,0,1,1,1,1,1,1,"",0,0,"",null,null,0,0,0,26,0,0,0,0,0,"",0,0,219.21,0,0,0,0,0,0,0,{"$f":"0","v":0},{"$f":"0","v":0},null,null,"","","","","","","","","","","",0,0,1,1,null,null,null,1003,"м","м",1,null,"","","","",null,83667261,90,"Материалы, отсутствующие в СНБ (Строительные)",0,"",1,900,"Материалы, отсутствующие в СНБ (Строительные)","МР КА Строительные",null,"",null,131088,0,219.21,0,0,0,0,0,0,5,null,null,0,18,null,219.21,null,null,null,null,null,null,null,null,null,null,0,0,0,null,null,null,null,0,0,null,"",null,null,1,null,1027157620,2,3,-2,0,0,0,0,0,0,0,null,1,1,0,"",0,1,0,null,null,0,0,0,null,"","",0,null,null,null,null,null,"","","","","",null,0,null,null,null,null,null,null,null,null,null,null,null,null,null,null,null,null,null,0]
[17,1,null,null,"26","ТЦ_20.1.02.00_77_7736281025_12.01.2026_02_46.1","Заземляющий проводник ЗП6","м",0,0,0,2.6,2.6,0,0,0,0,0,0,0,0,0,0,0,0,null,85312298,219.21,219.21,0,0,0,0,0,0,0,219.21,219.21,0,0,0,0,0,0,0,0,0,1,1,null,null,1,1,1,1,"","","","",3,1,"ТЦ_20.1.02.00_77_7736281025_12.01.2026_02_46.1",null,null,900,0,"",0,90,0,1,1,1,1,1,1,"",0,0,"",null,null,0,0,0,26,0,0,0,0,0,"",0,0,219.21,0,0,0,0,0,0,0,{"$f":"0","v":0},{"$f":"0","v":0},null,null,"","","","","","","","","","","",0,0,1,1,null,null,null,1003,"м","м",1,null,"","","","",null,83667261,90,"Материалы, отсутствующие в СНБ (Строительные)",0,"",1,900,"Материалы, отсутствующие в СНБ (Строительные)","МР КА Строительные",null,"",null,131088,0,219.21,0,0,0,0,0,0,5,null,null,0,18,null,219.21,null,null,null,null,null,null,null,null,null,null,0,0,0,null,null,null,null,0,0,null,"",null,null,1,null,1027157620,2,3,-2,0,0,0,0,0,0,0,null,1,1,0,"",0,1,0,null,null,0,0,0,null,"","",0,null,null,null,null,null,"","","","","",null,0,null,null,null,null,null,null,null,null,null,null,null,null,null,null,null,null,null,0]
[17,1,null,null,"","ТЦ_24.3.01.02_77_7736281025_12.01.2026_02_39.1","Труба гофрированная ПВХ d=63мм","м",0,0,0,4,4,0,0,0,0,0,0,0,0,0,0,0,0,null,-1,353.07,353.07,0,0,0,0,0,0,0,353.07,353.07,0,0,0,0,0,0,0,0,0,1,1,null,null,1,1,1,1,"","","","",3,1,"ТЦ_24.3.01.02_77_7736281025_12.01.2026_02_39.1",null,null,900,0,"",0,90,0,1,1,1,1,1,1,"",0,0,"",null,null,0,0,0,0,0,0,0,0,0,"",0,0,353.07,0,0,0,0,0,0,0,{"$f":"0","v":0},{"$f":"0","v":0},null,null,"","","","","","","","","","","",0,0,1,1,null,null,null,1003,"м","м",1,null,"","","","",null,83667261,90,"Материалы, отсутствующие в СНБ (Строительные)",0,"",1,900,"Материалы, отсутствующие в СНБ (Строительные)","МР КА Строительные",null,"",null,132112,0,353.07,0,0,0,0,0,0,null,null,null,null,null,null,null,null,null,null,null,null,null,null,null,null,null,0,0,0,null,null,null,null,0,0,null,"",null,null,1,null,-1034100534,2,0,-2,0,0,0,0,0,0,0,null,0,0,0,"",0,1,0,null,null,0,0,0,null,"","",null,null,null,null,null,null,"","","","","",null,0,null,null,null,null,null,null,null,null,null,null,null,null,null,null,null,null,null,0]
[17,1,null,null,"","ТЦ_24.3.01.02_77_7736281025_12.01.2026_02_39.1","Труба гофрированная ПВХ d=63мм","м",0,0,0,4,4,0,0,0,0,0,0,0,0,0,0,0,0,null,-1,353.07,353.07,0,0,0,0,0,0,0,353.07,353.07,0,0,0,0,0,0,0,0,0,1,1,null,null,1,1,1,1,"","","","",3,1,"ТЦ_24.3.01.02_77_7736281025_12.01.2026_02_39.1",null,null,900,0,"",0,90,0,1,1,1,1,1,1,"",0,0,"",null,null,0,0,0,0,0,0,0,0,0,"",0,0,353.07,0,0,0,0,0,0,0,{"$f":"0","v":0},{"$f":"0","v":0},null,null,"","","","","","","","","","","",0,0,1,1,null,null,null,1003,"м","м",1,null,"","","","",null,83667261,90,"Материалы, отсутствующие в СНБ (Строительные)",0,"",1,900,"Материалы, отсутствующие в СНБ (Строительные)","МР КА Строительные",null,"",null,132112,0,353.07,0,0,0,0,0,0,null,null,null,null,null,null,null,null,null,null,null,null,null,null,null,null,null,0,0,0,null,null,null,null,0,0,null,"",null,null,1,null,-1034100534,2,0,-2,0,0,0,0,0,0,0,null,0,0,0,"",0,1,0,null,null,0,0,0,null,"","",null,null,null,null,null,null,"","","","","",null,0,null,null,null,null,null,null,null,null,null,null,null,null,null,null,null,null,null,0]
[17,1,null,null,"27","ТЦ_24.3.01.02_77_7736281025_12.01.2026_02_40.1","Труба гофрированная ПВХ d=75мм","м",4,0,4,4,0,4,1509.32,1509.32,0,0,0,0,0,0,0,0,0,null,85312357,377.33,377.33,0,0,0,0,0,0,0,377.33,377.33,0,0,0,0,0,0,0,0,0,1,1,null,null,1,1,1,1,"","","","",3,1,"ТЦ_24.3.01.02_77_7736281025_12.01.2026_02_40.1",null,null,900,0,"",0,90,0,1,1,1,1,1,1,"",0,0,"",null,null,0,0,0,27,0,0,0,0,0,"",0,1509.32,377.33,0,0,0,0,0,0,0,{"$f":"0","v":0},{"$f":"0","v":0},null,null,"","","","","","","","","","","",0,0,1,1,null,null,null,1003,"м","м",1,null,"","","","",null,83667261,90,"Материалы, отсутствующие в СНБ (Строительные)",0,"",1,900,"Материалы, отсутствующие в СНБ (Строительные)","МР КА Строительные",null,"",null,131088,0,377.33,0,0,0,0,0,0,5,null,null,0,18,null,377.33,null,null,null,null,null,null,null,null,null,null,0,0,0,null,null,null,null,0,0,null,"",null,null,1,null,-794459116,2,3,-2,0,0,0,1509.32,1509.32,0,0,null,1,1,0,"",0,1,0,null,null,0,0,0,null,"","",{"$f":"ROUND(ROUND(AL379,2)*I379,2)","v":1509.32},null,null,null,null,null,"","","","","",null,0,null,null,null,null,null,null,null,null,null,null,null,null,null,null,null,null,null,0]
[17,1,null,null,"27","ТЦ_24.3.01.02_77_7736281025_12.01.2026_02_40.1","Труба гофрированная ПВХ d=75мм","м",4,0,4,4,0,4,1509.32,1509.32,0,0,0,0,0,0,0,0,0,null,85312298,377.33,377.33,0,0,0,0,0,0,0,377.33,377.33,0,0,0,0,0,0,0,0,0,1,1,null,null,1,1,1,1,"","","","",3,1,"ТЦ_24.3.01.02_77_7736281025_12.01.2026_02_40.1",null,null,900,0,"",0,90,0,1,1,1,1,1,1,"",0,0,"",null,null,0,0,0,27,0,0,0,0,0,"",0,1509.32,377.33,0,0,0,0,0,0,0,{"$f":"0","v":0},{"$f":"0","v":0},null,null,"","","","","","","","","","","",0,0,1,1,null,null,null,1003,"м","м",1,null,"","","","",null,83667261,90,"Материалы, отсутствующие в СНБ (Строительные)",0,"",1,900,"Материалы, отсутствующие в СНБ (Строительные)","МР КА Строительные",null,"",null,131088,0,377.33,0,0,0,0,0,0,5,null,null,0,18,null,377.33,null,null,null,null,null,null,null,null,null,null,0,0,0,null,null,null,null,0,0,null,"",null,null,1,null,-794459116,2,3,-2,0,0,0,1509.32,1509.32,0,0,null,1,1,0,"",0,1,0,null,null,0,0,0,null,"","",1509.32,null,null,null,null,null,"","","","","",null,0,null,null,null,null,null,null,null,null,null,null,null,null,null,null,null,null,null,0]
[17,1,null,null,"28","ТЦ_08.3.02.00_77_7736281025_12.01.2026_02_47.1","Металлическая лента F20.7","м",5,0,5,35,30,5,998.15,998.15,0,0,0,0,0,0,0,0,0,null,85312357,199.63,199.63,0,0,0,0,0,0,0,199.63,199.63,0,0,0,0,0,0,0,0,0,1,1,null,null,1,1,1,1,"","","","",3,1,"ТЦ_08.3.02.00_77_7736281025_12.01.2026_02_47.1",null,null,900,0,"",0,90,0,1,1,1,1,1,1,"",0,0,"",null,null,0,0,0,28,0,0,0,0,0,"",0,998.15,199.63,0,0,0,0,0,0,0,{"$f":"0","v":0},{"$f":"0","v":0},null,null,"","","","","","","","","","","",0,0,1,1,null,null,null,1003,"м","м",1,null,"","","","",null,83667261,90,"Материалы, отсутствующие в СНБ (Строительные)",0,"",1,900,"Материалы, отсутствующие в СНБ (Строительные)","МР КА Строительные",null,"",null,131088,0,199.63,0,0,0,0,0,0,5,null,null,0,18,null,199.63,null,null,null,null,null,null,null,null,null,null,0,0,0,null,null,null,null,0,0,null,"",null,null,1,null,1914823060,2,3,-2,0,0,0,998.15,998.15,0,0,null,1,1,0,"",0,1,0,null,null,0,0,0,null,"","",998.15,null,null,null,null,null,"","","","","",null,0,null,null,null,null,null,null,null,null,null,null,null,null,null,null,null,null,null,0]
[17,1,null,null,"28","ТЦ_08.3.02.00_77_7736281025_12.01.2026_02_47.1","Металлическая лента F20.7","м",5,0,5,35,30,5,998.15,998.15,0,0,0,0,0,0,0,0,0,null,85312298,199.63,199.63,0,0,0,0,0,0,0,199.63,199.63,0,0,0,0,0,0,0,0,0,1,1,null,null,1,1,1,1,"","","","",3,1,"ТЦ_08.3.02.00_77_7736281025_12.01.2026_02_47.1",null,null,900,0,"",0,90,0,1,1,1,1,1,1,"",0,0,"",null,null,0,0,0,28,0,0,0,0,0,"",0,998.15,199.63,0,0,0,0,0,0,0,{"$f":"0","v":0},{"$f":"0","v":0},null,null,"","","","","","","","","","","",0,0,1,1,null,null,null,1003,"м","м",1,null,"","","","",null,83667261,90,"Материалы, отсутствующие в СНБ (Строительные)",0,"",1,900,"Материалы, отсутствующие в СНБ (Строительные)","МР КА Строительные",null,"",null,131088,0,199.63,0,0,0,0,0,0,5,null,null,0,18,null,199.63,null,null,null,null,null,null,null,null,null,null,0,0,0,null,null,null,null,0,0,null,"",null,null,1,null,1914823060,2,3,-2,0,0,0,998.15,998.15,0,0,null,1,1,0,"",0,1,0,null,null,0,0,0,null,"","",998.15,null,null,null,null,null,"","","","","",null,0,null,null,null,null,null,null,null,null,null,null,null,null,null,null,null,null,null,0]
[17,1,null,null,"29","ТЦ_22.2.02.15_77_7736281025_12.01.2026_02_48.1","Скрепа С 20","ШТ",4,0,4,19,15,4,172.84,172.84,0,0,0,0,0,0,0,0,0,null,85312357,43.21,43.21,0,0,0,0,0,0,0,43.21,43.21,0,0,0,0,0,0,0,0,0,1,1,null,null,1,1,1,1,"","","","",3,1,"ТЦ_22.2.02.15_77_7736281025_12.01.2026_02_48.1",null,null,900,0,"",0,90,0,1,1,1,1,1,1,"",0,0,"",null,null,0,0,0,29,0,0,0,0,0,"",0,172.84,43.21,0,0,0,0,0,0,0,{"$f":"0","v":0},{"$f":"0","v":0},null,null,"","","","","","","","","","","",0,0,1,1,null,null,null,1013,"ШТ","ШТ",1,null,"","","","",null,83667261,90,"Материалы, отсутствующие в СНБ (Строительные)",0,"",1,900,"Материалы, отсутствующие в СНБ (Строительные)","МР КА Строительные",null,"",null,131088,0,43.21,0,0,0,0,0,0,5,null,null,0,18,null,43.21,null,null,null,null,null,null,null,null,null,null,0,0,0,null,null,null,null,0,0,null,"",null,null,1,null,1563139761,2,3,-2,0,0,0,172.84,172.84,0,0,null,1,1,0,"",0,1,0,null,null,0,0,0,null,"","",172.84,null,null,null,null,null,"","","","","",null,0,null,null,null,null,null,null,null,null,null,null,null,null,null,null,null,null,null,0]
[17,1,null,null,"29","ТЦ_22.2.02.15_77_7736281025_12.01.2026_02_48.1","Скрепа С 20","ШТ",4,0,4,19,15,4,172.84,172.84,0,0,0,0,0,0,0,0,0,null,85312298,43.21,43.21,0,0,0,0,0,0,0,43.21,43.21,0,0,0,0,0,0,0,0,0,1,1,null,null,1,1,1,1,"","","","",3,1,"ТЦ_22.2.02.15_77_7736281025_12.01.2026_02_48.1",null,null,900,0,"",0,90,0,1,1,1,1,1,1,"",0,0,"",null,null,0,0,0,29,0,0,0,0,0,"",0,172.84,43.21,0,0,0,0,0,0,0,{"$f":"0","v":0},{"$f":"0","v":0},null,null,"","","","","","","","","","","",0,0,1,1,null,null,null,1013,"ШТ","ШТ",1,null,"","","","",null,83667261,90,"Материалы, отсутствующие в СНБ (Строительные)",0,"",1,900,"Материалы, отсутствующие в СНБ (Строительные)","МР КА Строительные",null,"",null,131088,0,43.21,0,0,0,0,0,0,5,null,null,0,18,null,43.21,null,null,null,null,null,null,null,null,null,null,0,0,0,null,null,null,null,0,0,null,"",null,null,1,null,1563139761,2,3,-2,0,0,0,172.84,172.84,0,0,null,1,1,0,"",0,1,0,null,null,0,0,0,null,"","",172.84,null,null,null,null,null,"","","","","",null,0,null,null,null,null,null,null,null,null,null,null,null,null,null,null,null,null,null,0]
[17,1,null,null,"30","ТЦ_25.2.01.02_77_7736281025_12.01.2026_02_49.1","Бугель B 20","ШТ",4,0,4,16,12,{"$f":"ROUND(L385-M385,4)","v":4},{"$f":"ROUND(CP385,2)","v":228},{"$f":"ROUND(CQ385*I385,2)","v":228},{"$f":"ROUND(CR385*I385,2)","v":0},{"$f":"ROUND(CS385*I385,2)","v":0},{"$f":"ROUND(CT385*I385,2)","v":0},{"$f":"ROUND(CU385*I385,2)","v":0},{"$f":"ROUND(CV385*I385,7)","v":0},{"$f":"ROUND(CW385*I385,7)","v":0},{"$f":"ROUND(CX385*I385,2)","v":0},{"$f":"ROUND(CY385,2)","v":0},{"$f":"ROUND(CZ385,2)","v":0},null,85312357,{"$f":"ROUND((AC385+AD385+AF385),2)","v":57},{"$f":"ROUND((ES385),2)","v":57},0,{"$f":"ROUND((EU385),2)","v":0},{"$f":"ROUND((EV385),2)","v":0},{"$f":"ROUND((AP385),2)","v":0},{"$f":"(EW385)","v":0},{"$f":"(EX385)","v":0},{"$f":"(AS385)","v":0},57,57,0,0,0,0,0,0,0,0,0,1,1,null,null,1,1,1,1,"","","","",3,1,"ТЦ_25.2.01.02_77_7736281025_12.01.2026_02_49.1",null,null,900,0,"",0,90,0,1,1,1,1,1,1,"",0,0,"",null,null,0,0,0,30,0,0,0,0,0,"",0,{"$f":"(P385+Q385+S385+R385)","v":228},57,0,{"$f":"ROUND(AN385*BS385,2)","v":0},{"$f":"ROUND(AO385*BA385,2)","v":0},{"$f":"AG385","v":0},{"$f":"AH385","v":0},{"$f":"AI385","v":0},{"$f":"AJ385","v":0},{"$f":"0","v":0},{"$f":"0","v":0},null,null,"","","","","","","","","","","",0,0,1,1,null,null,null,1013,"ШТ","ШТ",1,null,"","","","",null,83667261,90,"Материалы, отсутствующие в СНБ (Строительные)",0,"",1,900,"Материалы, отсутствующие в СНБ (Строительные)","МР КА Строительные",null,"",null,131088,0,57,0,0,0,0,0,0,5,null,null,0,18,null,57,null,null,null,null,null,null,null,null,null,null,0,0,0,null,null,null,null,0,0,null,"",null,null,1,null,276363477,2,3,-2,0,0,{"$f":"ROUND(IF(AND(BH385=3,BI385=3,FS385<>0),P385,0),2)","v":0},{"$f":"ROUND(O385+X385+Y385,2)+GX385","v":228},{"$f":"IF(OR(BI385=0,BI385=1),GM385-GX385,0)","v":228},{"$f":"IF(BI385=2,GM385-GX385,0)","v":0},{"$f":"IF(BI385=4,GM385-GX385,0)","v":0},null,1,1,0,"",{"$f":"ROUND((GT385),2)","v":0},1,{"$f":"ROUND(HC385*I385,2)","v":0},null,null,0,0,{"$f":"GV385*GW385","v":0},null,"","",228,null,null,null,null,null,"","","","","",null,0,null,null,null,null,null,null,null,null,null,null,null,null,null,null,null,null,null,0]
[17,1,null,null,"30","ТЦ_25.2.01.02_77_7736281025_12.01.2026_02_49.1","Бугель B 20","ШТ",4,0,4,16,12,4,228,228,0,0,0,0,0,0,0,0,0,null,85312298,57,57,0,0,0,0,0,0,0,57,57,0,0,0,0,0,0,0,0,0,1,1,null,null,1,1,1,1,"","","","",3,1,"ТЦ_25.2.01.02_77_7736281025_12.01.2026_02_49.1",null,null,900,0,"",0,90,0,1,1,1,1,1,1,"",0,0,"",null,null,0,0,0,30,0,0,0,0,0,"",0,228,57,0,0,0,0,0,0,0,{"$f":"0","v":0},{"$f":"0","v":0},null,null,"","","","","","","","","","","",0,0,1,1,null,null,null,1013,"ШТ","ШТ",1,null,"","","","",null,83667261,90,"Материалы, отсутствующие в СНБ (Строительные)",0,"",1,900,"Материалы, отсутствующие в СНБ (Строительные)","МР КА Строительные",null,"",null,131088,0,57,0,0,0,0,0,0,5,null,null,0,18,null,57,null,null,null,null,null,null,null,null,null,null,0,0,0,null,null,null,null,0,0,null,"",null,null,1,null,276363477,2,3,-2,0,0,0,228,228,0,0,null,1,1,0,"",0,1,0,null,null,0,0,0,null,"","",228,null,null,null,null,null,"","","","","",null,0,null,null,null,null,null,null,null,null,null,null,null,null,null,null,null,null,null,0]
[17,1,null,null,"31","ТЦ_59.1.25.00_77_7736281025_12.01.2026_02_50.1","Кронштейн анкерный СA 2000","ШТ",0,0,0,8,8,0,0,0,0,0,0,0,0,0,0,0,0,null,85312357,374.22,374.22,0,0,0,0,0,0,0,374.22,374.22,0,0,0,0,0,0,0,0,0,1,1,null,null,1,1,1,1,"","","","",3,1,"ТЦ_59.1.25.00_77_7736281025_12.01.2026_02_50.1",null,null,900,0,"",0,90,0,1,1,1,1,1,1,"",0,0,"",null,null,0,0,0,31,0,0,0,0,0,"",0,0,374.22,0,0,0,0,0,0,0,{"$f":"0","v":0},{"$f":"0","v":0},null,null,"","","","","","","","","","","",0,0,1,1,null,null,null,1013,"ШТ","ШТ",1,null,"","","","",null,83667261,90,"Материалы, отсутствующие в СНБ (Строительные)",0,"",1,900,"Материалы, отсутствующие в СНБ (Строительные)","МР КА Строительные",null,"",null,131088,0,374.22,0,0,0,0,0,0,5,null,null,0,18,null,374.22,null,null,null,null,null,null,null,null,null,null,0,0,0,null,null,null,null,0,0,null,"",null,null,1,null,-1001055491,2,3,-2,0,0,0,0,0,0,0,null,1,1,0,"",0,1,0,null,null,0,0,0,null,"","",0,null,null,null,null,null,"","","","","",null,0,null,null,null,null,null,null,null,null,null,null,null,null,null,null,null,null,null,0]
[17,1,null,null,"31","ТЦ_59.1.25.00_77_7736281025_12.01.2026_02_50.1","Кронштейн анкерный СA 2000","ШТ",0,0,0,8,8,0,0,0,0,0,0,0,0,0,0,0,0,null,85312298,374.22,374.22,0,0,0,0,0,0,0,374.22,374.22,0,0,0,0,0,0,0,0,0,1,1,null,null,1,1,1,1,"","","","",3,1,"ТЦ_59.1.25.00_77_7736281025_12.01.2026_02_50.1",null,null,900,0,"",0,90,0,1,1,1,1,1,1,"",0,0,"",null,null,0,0,0,31,0,0,0,0,0,"",0,0,374.22,0,0,0,0,0,0,0,{"$f":"0","v":0},{"$f":"0","v":0},null,null,"","","","","","","","","","","",0,0,1,1,null,null,null,1013,"ШТ","ШТ",1,null,"","","","",null,83667261,90,"Материалы, отсутствующие в СНБ (Строительные)",0,"",1,900,"Материалы, отсутствующие в СНБ (Строительные)","МР КА Строительные",null,"",null,131088,0,374.22,0,0,0,0,0,0,5,null,null,0,18,null,374.22,null,null,null,null,null,null,null,null,null,null,0,0,0,null,null,null,null,0,0,null,"",null,null,1,null,-1001055491,2,3,-2,0,0,0,0,0,0,0,null,1,1,0,"",0,1,0,null,null,0,0,0,null,"","",0,null,null,null,null,null,"","","","","",null,0,null,null,null,null,null,null,null,null,null,null,null,null,null,null,null,null,null,0]
[17,1,null,null,"","ТЦ_59.1.25.00_77_7736281025_12.01.2026_02_28.1","Кронштейн анкерный CA 25","ШТ",0,0,0,2,2,0,0,0,0,0,0,0,0,0,0,0,0,null,-1,68.89,68.89,0,0,0,0,0,0,0,68.89,68.89,0,0,0,0,0,0,0,0,0,1,1,null,null,1,1,1,1,"","","","",3,1,"ТЦ_59.1.25.00_77_7736281025_12.01.2026_02_28.1",null,null,900,0,"",0,90,0,1,1,1,1,1,1,"",0,0,"",null,null,0,0,0,0,0,0,0,0,0,"",0,0,68.89,0,0,0,0,0,0,0,{"$f":"0","v":0},{"$f":"0","v":0},null,null,"","","","","","","","","","","",0,0,1,1,null,null,null,1013,"ШТ","ШТ",1,null,"","","","",null,83667261,90,"Материалы, отсутствующие в СНБ (Строительные)",0,"",1,900,"Материалы, отсутствующие в СНБ (Строительные)","МР КА Строительные",null,"",null,132112,0,68.89,0,0,0,0,0,0,null,null,null,null,null,null,null,null,null,null,null,null,null,null,null,null,null,0,0,0,null,null,null,null,0,0,null,"",null,null,1,null,-320246776,2,0,-2,0,0,0,0,0,0,0,null,0,0,0,"",0,1,0,null,null,0,0,0,null,"","",null,null,null,null,null,null,"","","","","",null,0,null,null,null,null,null,null,null,null,null,null,null,null,null,null,null,null,null,0]
[17,1,null,null,"","ТЦ_59.1.25.00_77_7736281025_12.01.2026_02_28.1","Кронштейн анкерный CA 25","ШТ",0,0,0,2,2,0,0,0,0,0,0,0,0,0,0,0,0,null,-1,68.89,68.89,0,0,0,0,0,0,0,68.89,68.89,0,0,0,0,0,0,0,0,0,1,1,null,null,1,1,1,1,"","","","",3,1,"ТЦ_59.1.25.00_77_7736281025_12.01.2026_02_28.1",null,null,900,0,"",0,90,0,1,1,1,1,1,1,"",0,0,"",null,null,0,0,0,0,0,0,0,0,0,"",0,0,68.89,0,0,0,0,0,0,0,{"$f":"0","v":0},{"$f":"0","v":0},null,null,"","","","","","","","","","","",0,0,1,1,null,null,null,1013,"ШТ","ШТ",1,null,"","","","",null,83667261,90,"Материалы, отсутствующие в СНБ (Строительные)",0,"",1,900,"Материалы, отсутствующие в СНБ (Строительные)","МР КА Строительные",null,"",null,132112,0,68.89,0,0,0,0,0,0,null,null,null,null,null,null,null,null,null,null,null,null,null,null,null,null,null,0,0,0,null,null,null,null,0,0,null,"",null,null,1,null,-320246776,2,0,-2,0,0,0,0,0,0,0,null,0,0,0,"",0,1,0,null,null,0,0,0,null,"","",null,null,null,null,null,null,"","","","","",null,0,null,null,null,null,null,null,null,null,null,null,null,null,null,null,null,null,null,0]
[17,1,null,null,"","ТЦ_20.5.04.00_77_7736281025_12.01.2026_02_65.1","Натяжной зажим РА1500P","ШТ",0,0,0,0,0,0,0,0,0,0,0,0,0,0,0,0,0,null,-1,757.81,757.81,0,0,0,0,0,0,0,757.81,757.81,0,0,0,0,0,0,0,0,0,1,1,null,null,1,1,1,1,"","","","",3,1,"ТЦ_20.5.04.00_77_7736281025_12.01.2026_02_65.1",null,null,900,0,"",0,90,0,1,1,1,1,1,1,"",0,0,"",null,null,0,0,0,0,0,0,0,0,0,"",0,0,757.81,0,0,0,0,0,0,0,{"$f":"0","v":0},{"$f":"0","v":0},null,null,"","","","","","","","","","","",0,0,1,1,null,null,null,1013,"ШТ","ШТ",1,null,"","","","",null,83667261,90,"Материалы, отсутствующие в СНБ (Строительные)",0,"",1,900,"Материалы, отсутствующие в СНБ (Строительные)","МР КА Строительные",null,"",null,132112,0,757.81,0,0,0,0,0,0,null,null,null,null,null,null,null,null,null,null,null,null,null,null,null,null,null,0,0,0,null,null,null,null,0,0,null,"",null,null,1,null,-287439171,2,0,-2,0,0,0,0,0,0,0,null,0,0,0,"",0,1,0,null,null,0,0,0,null,"","",null,null,null,null,null,null,"","","","","",null,0,null,null,null,null,null,null,null,null,null,null,null,null,null,null,null,null,null,0]
[17,1,null,null,"","ТЦ_20.5.04.00_77_7736281025_12.01.2026_02_65.1","Натяжной зажим РА1500P","ШТ",0,0,0,0,0,0,0,0,0,0,0,0,0,0,0,0,0,null,-1,757.81,757.81,0,0,0,0,0,0,0,757.81,757.81,0,0,0,0,0,0,0,0,0,1,1,null,null,1,1,1,1,"","","","",3,1,"ТЦ_20.5.04.00_77_7736281025_12.01.2026_02_65.1",null,null,900,0,"",0,90,0,1,1,1,1,1,1,"",0,0,"",null,null,0,0,0,0,0,0,0,0,0,"",0,0,757.81,0,0,0,0,0,0,0,{"$f":"0","v":0},{"$f":"0","v":0},null,null,"","","","","","","","","","","",0,0,1,1,null,null,null,1013,"ШТ","ШТ",1,null,"","","","",null,83667261,90,"Материалы, отсутствующие в СНБ (Строительные)",0,"",1,900,"Материалы, отсутствующие в СНБ (Строительные)","МР КА Строительные",null,"",null,132112,0,757.81,0,0,0,0,0,0,null,null,null,null,null,null,null,null,null,null,null,null,null,null,null,null,null,0,0,0,null,null,null,null,0,0,null,"",null,null,1,null,-287439171,2,0,-2,0,0,0,0,0,0,0,null,0,0,0,"",0,1,0,null,null,0,0,0,null,"","",null,null,null,null,null,null,"","","","","",null,0,null,null,null,null,null,null,null,null,null,null,null,null,null,null,null,null,null,0]
[17,1,null,null,"32","ТЦ_20.5.04.00_77_7736281025_12.01.2026_02_51.1","Натяжной зажим РА2000P","ШТ",0,0,0,8,8,0,0,0,0,0,0,0,0,0,0,0,0,null,85312357,1127.31,1127.31,0,0,0,0,0,0,0,1127.31,1127.31,0,0,0,0,0,0,0,0,0,1,1,null,null,1,1,1,1,"","","","",3,1,"ТЦ_20.5.04.00_77_7736281025_12.01.2026_02_51.1",null,null,900,0,"",0,90,0,1,1,1,1,1,1,"",0,0,"",null,null,0,0,0,32,0,0,0,0,0,"",0,0,1127.31,0,0,0,0,0,0,0,{"$f":"0","v":0},{"$f":"0","v":0},null,null,"","","","","","","","","","","",0,0,1,1,null,null,null,1013,"ШТ","ШТ",1,null,"","","","",null,83667261,90,"Материалы, отсутствующие в СНБ (Строительные)",0,"",1,900,"Материалы, отсутствующие в СНБ (Строительные)","МР КА Строительные",null,"",null,131088,0,1127.31,0,0,0,0,0,0,5,null,null,0,18,null,1127.31,null,null,null,null,null,null,null,null,null,null,0,0,0,null,null,null,null,0,0,null,"",null,null,1,null,-1868457209,2,3,-2,0,0,0,0,0,0,0,null,1,1,0,"",0,1,0,null,null,0,0,0,null,"","",{"$f":"ROUND(ROUND(AL393,2)*I393,2)","v":0},null,null,null,null,null,"","","","","",null,0,null,null,null,null,null,null,null,null,null,null,null,null,null,null,null,null,null,0]
[17,1,null,null,"32","ТЦ_20.5.04.00_77_7736281025_12.01.2026_02_51.1","Натяжной зажим РА2000P","ШТ",0,0,0,8,8,0,0,0,0,0,0,0,0,0,0,0,0,null,85312298,1127.31,1127.31,0,0,0,0,0,0,0,1127.31,1127.31,0,0,0,0,0,0,0,0,0,1,1,null,null,1,1,1,1,"","","","",3,1,"ТЦ_20.5.04.00_77_7736281025_12.01.2026_02_51.1",null,null,900,0,"",0,90,0,1,1,1,1,1,1,"",0,0,"",null,null,0,0,0,32,0,0,0,0,0,"",0,0,1127.31,0,0,0,0,0,0,0,{"$f":"0","v":0},{"$f":"0","v":0},null,null,"","","","","","","","","","","",0,0,1,1,null,null,null,1013,"ШТ","ШТ",1,null,"","","","",null,83667261,90,"Материалы, отсутствующие в СНБ (Строительные)",0,"",1,900,"Материалы, отсутствующие в СНБ (Строительные)","МР КА Строительные",null,"",null,131088,0,1127.31,0,0,0,0,0,0,5,null,null,0,18,null,1127.31,null,null,null,null,null,null,null,null,null,null,0,0,0,null,null,null,null,0,0,null,"",null,null,1,null,-1868457209,2,3,-2,0,0,0,0,0,0,0,null,1,1,0,"",0,1,0,null,null,0,0,0,null,"","",{"$f":"ROUND(ROUND(AL394,2)*I394,2)","v":0},null,null,null,null,null,"","","","","",null,0,null,null,null,null,null,null,null,null,null,null,null,null,null,null,null,null,null,0]
[17,1,null,null,"","ТЦ_20.5.04.00_77_7736281025_12.01.2026_02_29.1","Натяжной зажим PA 25S","ШТ",0,0,0,2,2,0,0,0,0,0,0,0,0,0,0,0,0,null,-1,122.13,122.13,0,0,0,0,0,0,0,122.13,122.13,0,0,0,0,0,0,0,0,0,1,1,null,null,1,1,1,1,"","","","",3,1,"ТЦ_20.5.04.00_77_7736281025_12.01.2026_02_29.1",null,null,900,0,"",0,90,0,1,1,1,1,1,1,"",0,0,"",null,null,0,0,0,0,0,0,0,0,0,"",0,0,122.13,0,0,0,0,0,0,0,{"$f":"0","v":0},{"$f":"0","v":0},null,null,"","","","","","","","","","","",0,0,1,1,null,null,null,1013,"ШТ","ШТ",1,null,"","","","",null,83667261,90,"Материалы, отсутствующие в СНБ (Строительные)",0,"",1,900,"Материалы, отсутствующие в СНБ (Строительные)","МР КА Строительные",null,"",null,132112,0,122.13,0,0,0,0,0,0,null,null,null,null,null,null,null,null,null,null,null,null,null,null,null,null,null,0,0,0,null,null,null,null,0,0,null,"",null,null,1,null,-1039263425,2,0,-2,0,0,0,0,0,0,0,null,0,0,0,"",0,1,0,null,null,0,0,0,null,"","",null,null,null,null,null,null,"","","","","",null,0,null,null,null,null,null,null,null,null,null,null,null,null,null,null,null,null,null,0]
[17,1,null,null,"","ТЦ_20.5.04.00_77_7736281025_12.01.2026_02_29.1","Натяжной зажим PA 25S","ШТ",0,0,0,2,2,0,0,0,0,0,0,0,0,0,0,0,0,null,-1,122.13,122.13,0,0,0,0,0,0,0,122.13,122.13,0,0,0,0,0,0,0,0,0,1,1,null,null,1,1,1,1,"","","","",3,1,"ТЦ_20.5.04.00_77_7736281025_12.01.2026_02_29.1",null,null,900,0,"",0,90,0,1,1,1,1,1,1,"",0,0,"",null,null,0,0,0,0,0,0,0,0,0,"",0,0,122.13,0,0,0,0,0,0,0,{"$f":"0","v":0},{"$f":"0","v":0},null,null,"","","","","","","","","","","",0,0,1,1,null,null,null,1013,"ШТ","ШТ",1,null,"","","","",null,83667261,90,"Материалы, отсутствующие в СНБ (Строительные)",0,"",1,900,"Материалы, отсутствующие в СНБ (Строительные)","МР КА Строительные",null,"",null,132112,0,122.13,0,0,0,0,0,0,null,null,null,null,null,null,null,null,null,null,null,null,null,null,null,null,null,0,0,0,null,null,null,null,0,0,null,"",null,null,1,null,-1039263425,2,0,-2,0,0,0,0,0,0,0,null,0,0,0,"",0,1,0,null,null,0,0,0,null,"","",null,null,null,null,null,null,"","","","","",null,0,null,null,null,null,null,null,null,null,null,null,null,null,null,null,null,null,null,0]
[17,1,null,null,"33","ТЦ_25.2.02.00_77_7736281025_12.01.2026_02_14.1","Комплект промежуточной подвески ES 54-14 P","ШТ",0,0,0,3,3,0,0,0,0,0,0,0,0,0,0,0,0,null,85312357,583.23,583.23,0,0,0,0,0,0,0,583.23,583.23,0,0,0,0,0,0,0,0,0,1,1,null,null,1,1,1,1,"","","","",3,1,"ТЦ_25.2.02.00_77_7736281025_12.01.2026_02_14.1",null,null,900,0,"",0,90,0,1,1,1,1,1,1,"",0,0,"",null,null,0,0,0,33,0,0,0,0,0,"",0,0,583.23,0,0,0,0,0,0,0,{"$f":"0","v":0},{"$f":"0","v":0},null,null,"","","","","","","","","","","",0,0,1,1,null,null,null,1013,"ШТ","ШТ",1,null,"","","","",null,83667261,90,"Материалы, отсутствующие в СНБ (Строительные)",0,"",1,900,"Материалы, отсутствующие в СНБ (Строительные)","МР КА Строительные",null,"",null,131088,0,583.23,0,0,0,0,0,0,5,null,null,0,18,null,583.23,null,null,null,null,null,null,null,null,null,null,0,0,0,null,null,null,null,0,0,null,"",null,null,1,null,570334633,2,3,-2,0,0,0,0,0,0,0,null,1,1,0,"",0,1,0,null,null,0,0,0,null,"","",{"$f":"ROUND(ROUND(AL397,2)*I397,2)","v":0},null,null,null,null,null,"","","","","",null,0,null,null,null,null,null,null,null,null,null,null,null,null,null,null,null,null,null,0]
[17,1,null,null,"33","ТЦ_25.2.02.00_77_7736281025_12.01.2026_02_14.1","Комплект промежуточной подвески ES 54-14 P","ШТ",0,0,0,3,3,0,0,0,0,0,0,0,0,0,0,0,0,null,85312298,583.23,583.23,0,0,0,0,0,0,0,583.23,583.23,0,0,0,0,0,0,0,0,0,1,1,null,null,1,1,1,1,"","","","",3,1,"ТЦ_25.2.02.00_77_7736281025_12.01.2026_02_14.1",null,null,900,0,"",0,90,0,1,1,1,1,1,1,"",0,0,"",null,null,0,0,0,33,0,0,0,0,0,"",0,0,583.23,0,0,0,0,0,0,0,{"$f":"0","v":0},{"$f":"0","v":0},null,null,"","","","","","","","","","","",0,0,1,1,null,null,null,1013,"ШТ","ШТ",1,null,"","","","",null,83667261,90,"Материалы, отсутствующие в СНБ (Строительные)",0,"",1,900,"Материалы, отсутствующие в СНБ (Строительные)","МР КА Строительные",null,"",null,131088,0,583.23,0,0,0,0,0,0,5,null,null,0,18,null,583.23,null,null,null,null,null,null,null,null,null,null,0,0,0,null,null,null,null,0,0,null,"",null,null,1,null,570334633,2,3,-2,0,0,0,0,0,0,0,null,1,1,0,"",0,1,0,null,null,0,0,0,null,"","",0,null,null,null,null,null,"","","","","",null,0,null,null,null,null,null,null,null,null,null,null,null,null,null,null,null,null,null,0]
[17,1,null,null,"34","ТЦ_25.2.01.06_77_7736281025_12.01.2026_02_53.1","СВР-1","ШТ",0,0,0,7,7,0,0,0,0,0,0,0,0,0,0,0,0,null,85312357,660.74,660.74,{"$f":"ROUND((ET399),2)","v":0},0,0,0,0,0,0,660.74,660.74,0,0,0,0,0,0,0,0,0,1,1,null,null,1,1,1,1,"","","","",3,1,"ТЦ_25.2.01.06_77_7736281025_12.01.2026_02_53.1",null,null,900,0,"",0,90,0,1,1,1,1,1,1,"",0,0,"",null,null,0,0,0,34,0,0,0,0,0,"",0,0,{"$f":"ROUND(AL399,2)","v":660.74},{"$f":"ROUND(AM399,2)","v":0},0,0,0,0,0,0,{"$f":"0","v":0},{"$f":"0","v":0},null,null,"","","","","","","","","","","",0,0,1,1,null,null,null,1013,"ШТ","ШТ",1,null,"","","","",null,83667261,90,"Материалы, отсутствующие в СНБ (Строительные)",0,"",1,900,"Материалы, отсутствующие в СНБ (Строительные)","МР КА Строительные",null,"",null,131088,0,660.74,0,0,0,0,0,0,5,null,null,0,18,null,660.74,null,null,null,null,null,null,null,null,null,null,0,0,0,null,null,null,null,0,0,null,"",null,null,1,null,1370368709,2,3,-2,0,0,0,0,0,0,0,null,1,1,0,"",0,1,0,null,null,0,0,0,null,"","",0,null,null,null,null,null,"","","","","",null,0,null,null,null,null,null,null,null,null,null,null,null,null,null,null,null,null,null,0]
[17,1,null,null,"34","ТЦ_25.2.01.06_77_7736281025_12.01.2026_02_53.1","СВР-1","ШТ",0,0,0,7,7,0,0,0,0,0,0,0,0,0,0,0,0,null,85312298,660.74,660.74,0,0,0,0,0,0,0,660.74,660.74,0,0,0,0,0,0,0,0,0,1,1,null,null,1,1,1,1,"","","","",3,1,"ТЦ_25.2.01.06_77_7736281025_12.01.2026_02_53.1",null,null,900,0,"",0,90,0,1,1,1,1,1,1,"",0,0,"",null,null,0,0,0,34,0,0,0,0,0,"",0,0,660.74,0,0,0,0,0,0,0,{"$f":"0","v":0},{"$f":"0","v":0},null,null,"","","","","","","","","","","",0,0,1,1,null,null,null,1013,"ШТ","ШТ",1,null,"","","","",null,83667261,90,"Материалы, отсутствующие в СНБ (Строительные)",0,"",1,900,"Материалы, отсутствующие в СНБ (Строительные)","МР КА Строительные",null,"",null,131088,0,660.74,0,0,0,0,0,0,5,null,null,0,18,null,660.74,null,null,null,null,null,null,null,null,null,null,0,0,0,null,null,null,null,0,0,null,"",null,null,1,null,1370368709,2,3,-2,0,0,0,0,0,0,0,null,1,1,0,"",0,1,0,null,null,0,0,0,null,"","",0,null,null,null,null,null,"","","","","",null,0,null,null,null,null,null,null,null,null,null,null,null,null,null,null,null,null,null,0]
[17,1,null,null,"35","ТЦ_25.2.01.06_77_7736281025_12.01.2026_02_54.1","Плашечный зажим ПС-1-1","ШТ",8,0,8,23,15,8,901.84,901.84,0,0,0,0,0,0,0,0,0,null,85312357,112.73,112.73,0,0,0,0,0,0,0,112.73,112.73,0,0,0,0,0,0,0,0,0,1,1,null,null,1,1,1,1,"","","","",3,1,"ТЦ_25.2.01.06_77_7736281025_12.01.2026_02_54.1",null,null,900,0,"",0,90,0,1,1,1,1,1,1,"",0,0,"",null,null,0,0,0,35,0,0,0,0,0,"",0,901.84,112.73,0,0,0,0,0,0,0,{"$f":"0","v":0},{"$f":"0","v":0},null,null,"","","","","","","","","","","",0,0,1,1,null,null,null,1013,"ШТ","ШТ",1,null,"","","","",null,83667261,90,"Материалы, отсутствующие в СНБ (Строительные)",0,"",1,900,"Материалы, отсутствующие в СНБ (Строительные)","МР КА Строительные",null,"",null,131088,0,112.73,0,0,0,0,0,0,5,null,null,0,18,null,112.73,null,null,null,null,null,null,null,null,null,null,0,0,0,null,null,null,null,0,0,null,"",null,null,1,null,268191890,2,3,-2,0,0,0,901.84,901.84,0,0,null,1,1,0,"",0,1,0,null,null,0,0,0,null,"","",901.84,null,null,null,null,null,"","","","","",null,0,null,null,null,null,null,null,null,null,null,null,null,null,null,null,null,null,null,0]
[17,1,null,null,"35","ТЦ_25.2.01.06_77_7736281025_12.01.2026_02_54.1","Плашечный зажим ПС-1-1","ШТ",8,0,8,23,15,8,901.84,901.84,0,0,0,0,0,0,0,0,0,null,85312298,112.73,112.73,0,0,0,0,0,0,0,112.73,112.73,0,0,0,0,0,0,0,0,0,1,1,null,null,1,1,1,1,"","","","",3,1,"ТЦ_25.2.01.06_77_7736281025_12.01.2026_02_54.1",null,null,900,0,"",0,90,0,1,1,1,1,1,1,"",0,0,"",null,null,0,0,0,35,0,0,0,0,0,"",0,901.84,112.73,0,0,0,0,0,0,0,{"$f":"0","v":0},{"$f":"0","v":0},null,null,"","","","","","","","","","","",0,0,1,1,null,null,null,1013,"ШТ","ШТ",1,null,"","","","",null,83667261,90,"Материалы, отсутствующие в СНБ (Строительные)",0,"",1,900,"Материалы, отсутствующие в СНБ (Строительные)","МР КА Строительные",null,"",null,131088,0,112.73,0,0,0,0,0,0,5,null,null,0,18,null,112.73,null,null,null,null,null,null,null,null,null,null,0,0,0,null,null,null,null,0,0,null,"",null,null,1,null,268191890,2,3,-2,0,0,0,901.84,901.84,0,0,null,1,1,0,"",0,1,0,null,null,0,0,0,null,"","",901.84,null,null,null,null,null,"","","","","",null,0,null,null,null,null,null,null,null,null,null,null,null,null,null,null,null,null,null,0]
[17,1,null,null,"36","ТЦ_20.1.02.18_77_7736281025_12.01.2026_02_55.1","Стяжной ремешок CSL 180","ШТ",0,0,0,18,18,0,0,0,0,0,0,0,0,0,0,0,0,null,85312357,14.09,14.09,0,0,0,0,0,0,0,14.09,14.09,0,0,0,0,0,0,0,0,0,1,1,null,null,1,1,1,1,"","","","",3,1,"ТЦ_20.1.02.18_77_7736281025_12.01.2026_02_55.1",null,null,900,0,"",0,90,0,1,1,1,1,1,1,"",0,0,"",null,null,0,0,0,36,0,0,0,0,0,"",0,0,14.09,0,0,0,0,0,0,0,{"$f":"0","v":0},{"$f":"0","v":0},null,null,"","","","","","","","","","","",0,0,1,1,null,null,null,1013,"ШТ","ШТ",1,null,"","","","",null,83667261,90,"Материалы, отсутствующие в СНБ (Строительные)",0,"",1,900,"Материалы, отсутствующие в СНБ (Строительные)","МР КА Строительные",null,"",null,131088,0,14.09,0,0,0,0,0,0,5,null,null,0,18,null,14.09,null,null,null,null,null,null,null,null,null,null,0,0,0,null,null,null,null,0,0,null,"",null,null,1,null,-1799424492,2,3,-2,0,0,0,0,0,0,0,null,1,1,0,"",0,1,0,null,null,0,0,0,null,"","",0,null,null,null,null,null,"","","","","",null,0,null,null,null,null,null,null,null,null,null,null,null,null,null,null,null,null,null,0]
[17,1,null,null,"36","ТЦ_20.1.02.18_77_7736281025_12.01.2026_02_55.1","Стяжной ремешок CSL 180","ШТ",0,0,0,18,18,0,0,0,0,0,0,0,0,0,0,0,0,null,85312298,14.09,14.09,0,0,0,0,0,0,0,14.09,14.09,0,0,0,0,0,0,0,0,0,1,1,null,null,1,1,1,1,"","","","",3,1,"ТЦ_20.1.02.18_77_7736281025_12.01.2026_02_55.1",null,null,900,0,"",0,90,0,1,1,1,1,1,1,"",0,0,"",null,null,0,0,0,36,0,0,0,0,0,"",0,0,14.09,0,0,0,0,0,0,0,{"$f":"0","v":0},{"$f":"0","v":0},null,null,"","","","","","","","","","","",0,0,1,1,null,null,null,1013,"ШТ","ШТ",1,null,"","","","",null,83667261,90,"Материалы, отсутствующие в СНБ (Строительные)",0,"",1,900,"Материалы, отсутствующие в СНБ (Строительные)","МР КА Строительные",null,"",null,131088,0,14.09,0,0,0,0,0,0,5,null,null,0,18,null,14.09,null,null,null,null,null,null,null,null,null,null,0,0,0,null,null,null,null,0,0,null,"",null,null,1,null,-1799424492,2,3,-2,0,0,0,0,0,0,0,null,1,1,0,"",0,1,0,null,null,0,0,0,null,"","",0,null,null,null,null,null,"","","","","",null,0,null,null,null,null,null,null,null,null,null,null,null,null,null,null,null,null,null,0]
[17,1,null,null,"37","ТЦ_59.1.24.00_77_7736281025_12.01.2026_02_18.1","Защитный колпачек CE 25-150","ШТ",0,0,0,4,4,0,0,0,0,0,0,0,0,0,0,0,0,null,85312357,37.58,37.58,0,0,0,0,0,0,0,37.58,37.58,0,0,0,0,0,0,0,0,0,1,1,null,null,1,1,1,1,"","","","",3,1,"ТЦ_59.1.24.00_77_7736281025_12.01.2026_02_18.1",null,null,900,0,"",0,90,0,1,1,1,1,1,1,"",0,0,"",null,null,0,0,0,37,0,0,0,0,0,"",0,0,37.58,0,0,0,0,0,0,0,{"$f":"0","v":0},{"$f":"0","v":0},null,null,"","","","","","","","","","","",0,0,1,1,null,null,null,1013,"ШТ","ШТ",1,null,"","","","",null,83667261,90,"Материалы, отсутствующие в СНБ (Строительные)",0,"",1,900,"Материалы, отсутствующие в СНБ (Строительные)","МР КА Строительные",null,"",null,131088,0,37.58,0,0,0,0,0,0,5,null,null,0,18,null,37.58,null,null,null,null,null,null,null,null,null,null,0,0,0,null,null,null,null,0,0,null,"",null,null,1,null,896860990,2,3,-2,0,0,0,0,0,0,0,null,1,1,0,"",0,1,0,null,null,0,0,0,null,"","",0,null,null,null,null,null,"","","","","",null,0,null,null,null,null,null,null,null,null,null,null,null,null,null,null,null,null,null,0]
[17,1,null,null,"37","ТЦ_59.1.24.00_77_7736281025_12.01.2026_02_18.1","Защитный колпачек CE 25-150","ШТ",0,0,0,4,4,0,0,0,0,0,0,0,0,0,0,0,0,null,85312298,37.58,37.58,0,0,0,0,0,0,0,37.58,37.58,0,0,0,0,0,0,0,0,0,1,1,null,null,1,1,1,1,"","","","",3,1,"ТЦ_59.1.24.00_77_7736281025_12.01.2026_02_18.1",null,null,900,0,"",0,90,0,1,1,1,1,1,1,"",0,0,"",null,null,0,0,0,37,0,0,0,0,0,"",0,0,37.58,0,0,0,0,0,0,0,{"$f":"0","v":0},{"$f":"0","v":0},null,null,"","","","","","","","","","","",0,0,1,1,null,null,null,1013,"ШТ","ШТ",1,null,"","","","",null,83667261,90,"Материалы, отсутствующие в СНБ (Строительные)",0,"",1,900,"Материалы, отсутствующие в СНБ (Строительные)","МР КА Строительные",null,"",null,131088,0,37.58,0,0,0,0,0,0,5,null,null,0,18,null,37.58,null,null,null,null,null,null,null,null,null,null,0,0,0,null,null,null,null,0,0,null,"",null,null,1,null,896860990,2,3,-2,0,0,0,0,0,0,0,null,1,1,0,"",0,1,0,null,null,0,0,0,null,"","",0,null,null,null,null,null,"","","","","",null,0,null,null,null,null,null,null,null,null,null,null,null,null,null,null,null,null,null,0]
[17,1,null,null,"","ТЦ_59.1.24.00_77_7736281025_12.01.2026_02_30.1","Защитный колпачек СЕ 6-35","ШТ",0,0,0,4,4,0,0,0,0,0,0,0,0,0,0,0,0,null,-1,34.450000000000003,34.450000000000003,0,0,0,0,0,0,0,34.450000000000003,34.450000000000003,0,0,0,0,0,0,0,0,0,1,1,null,null,1,1,1,1,"","","","",3,1,"ТЦ_59.1.24.00_77_7736281025_12.01.2026_02_30.1",null,null,900,0,"",0,90,0,1,1,1,1,1,1,"",0,0,"",null,null,0,0,0,0,0,0,0,0,0,"",0,0,34.450000000000003,0,0,0,0,0,0,0,{"$f":"0","v":0},{"$f":"0","v":0},null,null,"","","","","","","","","","","",0,0,1,1,null,null,null,1013,"ШТ","ШТ",1,null,"","","","",null,83667261,90,"Материалы, отсутствующие в СНБ (Строительные)",0,"",1,900,"Материалы, отсутствующие в СНБ (Строительные)","МР КА Строительные",null,"",null,132112,0,34.450000000000003,0,0,0,0,0,0,null,null,null,null,null,null,null,null,null,null,null,null,null,null,null,null,null,0,0,0,null,null,null,null,0,0,null,"",null,null,1,null,2133850270,2,0,-2,0,0,0,0,0,0,0,null,0,0,0,"",0,1,0,null,null,0,0,0,null,"","",null,null,null,null,null,null,"","","","","",null,0,null,null,null,null,null,null,null,null,null,null,null,null,null,null,null,null,null,0]
[17,1,null,null,"","ТЦ_59.1.24.00_77_7736281025_12.01.2026_02_30.1","Защитный колпачек СЕ 6-35","ШТ",0,0,0,4,4,0,0,0,0,0,0,0,0,0,0,0,0,null,-1,34.450000000000003,34.450000000000003,0,0,0,0,0,0,0,34.450000000000003,34.450000000000003,0,0,0,0,0,0,0,0,0,1,1,null,null,1,1,1,1,"","","","",3,1,"ТЦ_59.1.24.00_77_7736281025_12.01.2026_02_30.1",null,null,900,0,"",0,90,0,1,1,1,1,1,1,"",0,0,"",null,null,0,0,0,0,0,0,0,0,0,"",0,0,34.450000000000003,0,0,0,0,0,0,0,{"$f":"0","v":0},{"$f":"0","v":0},null,null,"","","","","","","","","","","",0,0,1,1,null,null,null,1013,"ШТ","ШТ",1,null,"","","","",null,83667261,90,"Материалы, отсутствующие в СНБ (Строительные)",0,"",1,900,"Материалы, отсутствующие в СНБ (Строительные)","МР КА Строительные",null,"",null,132112,0,34.450000000000003,0,0,0,0,0,0,null,null,null,null,null,null,null,null,null,null,null,null,null,null,null,null,null,0,0,0,null,null,null,null,0,0,null,"",null,null,1,null,2133850270,2,0,-2,0,0,0,0,0,0,0,null,0,0,0,"",0,1,0,null,null,0,0,0,null,"","",null,null,null,null,null,null,"","","","","",null,0,null,null,null,null,null,null,null,null,null,null,null,null,null,null,null,null,null,0]
[17,1,null,null,"38","ТЦ_20.2.05.00_77_7736281025_12.01.2026_02_56.1","Бандаж дистанционный BIC-120","ШТ",0,0,0,1,1,0,0,0,0,0,0,0,0,0,0,0,0,null,85312357,111.96,111.96,0,0,0,0,0,0,0,111.96,111.96,0,0,0,0,0,0,0,0,0,1,1,null,null,1,1,1,1,"","","","",3,1,"ТЦ_20.2.05.00_77_7736281025_12.01.2026_02_56.1",null,null,900,0,"",0,90,0,1,1,1,1,1,1,"",0,0,"",null,null,0,0,0,38,0,0,0,0,0,"",0,0,111.96,0,0,0,0,0,0,0,{"$f":"0","v":0},{"$f":"0","v":0},null,null,"","","","","","","","","","","",0,0,1,1,null,null,null,1013,"ШТ","ШТ",1,null,"","","","",null,83667261,90,"Материалы, отсутствующие в СНБ (Строительные)",0,"",1,900,"Материалы, отсутствующие в СНБ (Строительные)","МР КА Строительные",null,"",null,131088,0,111.96,0,0,0,0,0,0,5,null,null,0,18,null,111.96,null,null,null,null,null,null,null,null,null,null,0,0,0,null,null,null,null,0,0,null,"",null,null,1,null,215578040,2,3,-2,0,0,0,0,0,0,0,null,1,1,0,"",0,1,0,null,null,0,0,0,null,"","",{"$f":"ROUND(ROUND(AL409,2)*I409,2)","v":0},null,null,null,null,null,"","","","","",null,0,null,null,null,null,null,null,null,null,null,null,null,null,null,null,null,null,null,0]
[17,1,null,null,"38","ТЦ_20.2.05.00_77_7736281025_12.01.2026_02_56.1","Бандаж дистанционный BIC-120","ШТ",0,0,0,1,1,0,0,0,0,0,0,0,0,0,0,0,0,null,85312298,111.96,111.96,0,0,0,0,0,0,0,111.96,111.96,0,0,0,0,0,0,0,0,0,1,1,null,null,1,1,1,1,"","","","",3,1,"ТЦ_20.2.05.00_77_7736281025_12.01.2026_02_56.1",null,null,900,0,"",0,90,0,1,1,1,1,1,1,"",0,0,"",null,null,0,0,0,38,0,0,0,0,0,"",0,0,111.96,0,0,0,0,0,0,0,{"$f":"0","v":0},{"$f":"0","v":0},null,null,"","","","","","","","","","","",0,0,1,1,null,null,null,1013,"ШТ","ШТ",1,null,"","","","",null,83667261,90,"Материалы, отсутствующие в СНБ (Строительные)",0,"",1,900,"Материалы, отсутствующие в СНБ (Строительные)","МР КА Строительные",null,"",null,131088,0,111.96,0,0,0,0,0,0,5,null,null,0,18,null,111.96,null,null,null,null,null,null,null,null,null,null,0,0,0,null,null,null,null,0,0,null,"",null,null,1,null,215578040,2,3,-2,0,0,0,0,0,0,0,null,1,1,0,"",0,1,0,null,null,0,0,0,null,"","",0,null,null,null,null,null,"","","","","",null,0,null,null,null,null,null,null,null,null,null,null,null,null,null,null,null,null,null,0]
[17,1,null,null,"39","ТЦ_22.2.02.19_77_7736281025_12.01.2026_02_57.1","Оборудование для закороток и заземления CMCC","ШТ",4,0,4,4,0,4,1722.32,1722.32,0,0,0,0,0,0,0,0,0,null,85312357,430.58,430.58,0,0,0,0,0,0,0,430.58,430.58,0,0,0,0,0,0,0,0,0,1,1,null,null,1,1,1,1,"","","","",3,1,"ТЦ_22.2.02.19_77_7736281025_12.01.2026_02_57.1",null,null,900,0,"",0,90,0,1,1,1,1,1,1,"",0,0,"",null,null,0,0,0,39,0,0,0,0,0,"",0,1722.32,430.58,0,0,0,0,0,0,0,{"$f":"0","v":0},{"$f":"0","v":0},null,null,"","","","","","","","","","","",0,0,1,1,null,null,null,1013,"ШТ","ШТ",1,null,"","","","",null,83667261,90,"Материалы, отсутствующие в СНБ (Строительные)",0,"",1,900,"Материалы, отсутствующие в СНБ (Строительные)","МР КА Строительные",null,"",null,131088,0,430.58,0,0,0,0,0,0,5,null,null,0,18,null,430.58,null,null,null,null,null,null,null,null,null,null,0,0,0,null,null,null,null,0,0,null,"",null,null,1,null,-467269285,2,3,-2,0,0,0,1722.32,1722.32,0,0,null,1,1,0,"",0,1,0,null,null,0,0,0,null,"","",1722.32,null,null,null,null,null,"","","","","",null,0,null,null,null,null,null,null,null,null,null,null,null,null,null,null,null,null,null,0]
[17,1,null,null,"39","ТЦ_22.2.02.19_77_7736281025_12.01.2026_02_57.1","Оборудование для закороток и заземления CMCC","ШТ",4,0,4,4,0,4,1722.32,1722.32,0,0,0,0,0,0,0,0,0,null,85312298,430.58,430.58,0,0,0,0,0,0,0,430.58,430.58,0,0,0,0,0,0,0,0,0,1,1,null,null,1,1,1,1,"","","","",3,1,"ТЦ_22.2.02.19_77_7736281025_12.01.2026_02_57.1",null,null,900,0,"",0,90,0,1,1,1,1,1,1,"",0,0,"",null,null,0,0,0,39,0,0,0,0,0,"",0,1722.32,430.58,0,0,0,0,0,0,0,{"$f":"0","v":0},{"$f":"0","v":0},null,null,"","","","","","","","","","","",0,0,1,1,null,null,null,1013,"ШТ","ШТ",1,null,"","","","",null,83667261,90,"Материалы, отсутствующие в СНБ (Строительные)",0,"",1,900,"Материалы, отсутствующие в СНБ (Строительные)","МР КА Строительные",null,"",null,131088,0,430.58,0,0,0,0,0,0,5,null,null,0,18,null,430.58,null,null,null,null,null,null,null,null,null,null,0,0,0,null,null,null,null,0,0,null,"",null,null,1,null,-467269285,2,3,-2,0,0,0,1722.32,1722.32,0,0,null,1,1,0,"",0,1,0,null,null,0,0,0,null,"","",1722.32,null,null,null,null,null,"","","","","",null,0,null,null,null,null,null,null,null,null,null,null,null,null,null,null,null,null,null,0]
[17,1,null,null,"40","ТЦ_20.1.01.08_77_7736281025_12.01.2026_02_58.1","Зажим ответвительный CT 70 P","ШТ",4,0,4,4,0,4,870.56,870.56,0,0,0,0,0,0,0,0,0,null,85312357,217.64,217.64,0,0,0,0,0,0,0,217.64,217.64,0,0,0,0,0,0,0,0,0,1,1,null,null,1,1,1,1,"","","","",3,1,"ТЦ_20.1.01.08_77_7736281025_12.01.2026_02_58.1",null,null,900,0,"",0,90,0,1,1,1,1,1,1,"",0,0,"",null,null,0,0,0,40,0,0,0,0,0,"",0,870.56,217.64,0,0,0,0,0,0,0,{"$f":"0","v":0},{"$f":"0","v":0},null,null,"","","","","","","","","","","",0,0,1,1,null,null,null,1013,"ШТ","ШТ",1,null,"","","","",null,83667261,90,"Материалы, отсутствующие в СНБ (Строительные)",0,"",1,900,"Материалы, отсутствующие в СНБ (Строительные)","МР КА Строительные",null,"",null,131088,0,217.64,0,0,0,0,0,0,5,null,null,0,18,null,217.64,null,null,null,null,null,null,null,null,null,null,0,0,0,null,null,null,null,0,0,null,"",null,null,1,null,1819170388,2,3,-2,0,0,0,870.56,870.56,0,0,null,1,1,0,"",0,1,0,null,null,0,0,0,null,"","",870.56,null,null,null,null,null,"","","","","",null,0,null,null,null,null,null,null,null,null,null,null,null,null,null,null,null,null,null,0]
[17,1,null,null,"40","ТЦ_20.1.01.08_77_7736281025_12.01.2026_02_58.1","Зажим ответвительный CT 70 P","ШТ",4,0,4,4,0,4,870.56,870.56,0,0,0,0,0,0,0,0,0,null,85312298,217.64,217.64,0,0,0,0,0,0,0,217.64,217.64,0,0,0,0,0,0,0,0,0,1,1,null,null,1,1,1,1,"","","","",3,1,"ТЦ_20.1.01.08_77_7736281025_12.01.2026_02_58.1",null,null,900,0,"",0,90,0,1,1,1,1,1,1,"",0,0,"",null,null,0,0,0,40,0,0,0,0,0,"",0,870.56,217.64,0,0,0,0,0,0,0,{"$f":"0","v":0},{"$f":"0","v":0},null,null,"","","","","","","","","","","",0,0,1,1,null,null,null,1013,"ШТ","ШТ",1,null,"","","","",null,83667261,90,"Материалы, отсутствующие в СНБ (Строительные)",0,"",1,900,"Материалы, отсутствующие в СНБ (Строительные)","МР КА Строительные",null,"",null,131088,0,217.64,0,0,0,0,0,0,5,null,null,0,18,null,217.64,null,null,null,null,null,null,null,null,null,null,0,0,0,null,null,null,null,0,0,null,"",null,null,1,null,1819170388,2,3,-2,0,0,0,870.56,870.56,0,0,null,1,1,0,"",0,1,0,null,null,0,0,0,null,"","",870.56,null,null,null,null,null,"","","","","",null,0,null,null,null,null,null,null,null,null,null,null,null,null,null,null,null,null,null,0]
[17,1,null,null,"","ТЦ_20.1.01.08_77_7736281025_12.01.2026_02_59.1","Зажим ответвительный CT 25-150 P","ШТ",0,0,0,4,4,0,0,0,0,0,0,0,0,0,0,0,0,null,-1,540.16999999999996,540.16999999999996,0,0,0,0,0,0,0,540.16999999999996,540.16999999999996,0,0,0,0,0,0,0,0,0,1,1,null,null,1,1,1,1,"","","","",3,1,"ТЦ_20.1.01.08_77_7736281025_12.01.2026_02_59.1",null,null,900,0,"",0,90,0,1,1,1,1,1,1,"",0,0,"",null,null,0,0,0,0,0,0,0,0,0,"",0,0,540.16999999999996,0,0,0,0,0,0,0,{"$f":"0","v":0},{"$f":"0","v":0},null,null,"","","","","","","","","","","",0,0,1,1,null,null,null,1013,"ШТ","ШТ",1,null,"","","","",null,83667261,90,"Материалы, отсутствующие в СНБ (Строительные)",0,"",1,900,"Материалы, отсутствующие в СНБ (Строительные)","МР КА Строительные",null,"",null,132112,0,540.16999999999996,0,0,0,0,0,0,5,null,null,0,18,null,540.16999999999996,null,null,null,null,null,null,null,null,null,null,0,0,0,null,null,null,null,0,0,null,"",null,null,1,null,664688943,2,3,-2,0,0,0,0,0,0,0,null,1,1,0,"",0,1,0,null,null,0,0,0,null,"","",0,null,null,null,null,null,"","","","","",null,0,null,null,null,null,null,null,null,null,null,null,null,null,null,null,null,null,null,0]
[17,1,null,null,"","ТЦ_20.1.01.08_77_7736281025_12.01.2026_02_59.1","Зажим ответвительный CT 25-150 P","ШТ",0,0,0,4,4,0,0,0,0,0,0,0,0,0,0,0,0,null,-1,540.16999999999996,540.16999999999996,0,0,0,0,0,0,0,540.16999999999996,540.16999999999996,0,0,0,0,0,0,0,0,0,1,1,null,null,1,1,1,1,"","","","",3,1,"ТЦ_20.1.01.08_77_7736281025_12.01.2026_02_59.1",null,null,900,0,"",0,90,0,1,1,1,1,1,1,"",0,0,"",null,null,0,0,0,0,0,0,0,0,0,"",0,0,540.16999999999996,0,0,0,0,0,0,0,{"$f":"0","v":0},{"$f":"0","v":0},null,null,"","","","","","","","","","","",0,0,1,1,null,null,null,1013,"ШТ","ШТ",1,null,"","","","",null,83667261,90,"Материалы, отсутствующие в СНБ (Строительные)",0,"",1,900,"Материалы, отсутствующие в СНБ (Строительные)","МР КА Строительные",null,"",null,132112,0,540.16999999999996,0,0,0,0,0,0,5,null,null,0,18,null,540.16999999999996,null,null,null,null,null,null,null,null,null,null,0,0,0,null,null,null,null,0,0,null,"",null,null,1,null,664688943,2,3,-2,0,0,0,0,0,0,0,null,1,1,0,"",0,1,0,null,null,0,0,0,null,"","",0,null,null,null,null,null,"","","","","",null,0,null,null,null,null,null,null,null,null,null,null,null,null,null,null,null,null,null,0]
[17,1,null,null,"41","ТЦ_59.1.25.03_77_7736281025_12.01.2026_02_60.1","Наконечник для СИП CPTAU 95","ШТ",4,0,4,4,0,{"$f":"ROUND(L417-M417,4)","v":4},{"$f":"ROUND(CP417,2)","v":2304.7199999999998},{"$f":"ROUND(CQ417*I417,2)","v":2304.7199999999998},{"$f":"ROUND(CR417*I417,2)","v":0},{"$f":"ROUND(CS417*I417,2)","v":0},{"$f":"ROUND(CT417*I417,2)","v":0},{"$f":"ROUND(CU417*I417,2)","v":0},{"$f":"ROUND(CV417*I417,7)","v":0},{"$f":"ROUND(CW417*I417,7)","v":0},{"$f":"ROUND(CX417*I417,2)","v":0},{"$f":"ROUND(CY417,2)","v":0},{"$f":"ROUND(CZ417,2)","v":0},null,85312357,{"$f":"ROUND((AC417+AD417+AF417),2)","v":576.17999999999995},{"$f":"ROUND((ES417),2)","v":576.17999999999995},0,{"$f":"ROUND((EU417),2)","v":0},{"$f":"ROUND((EV417),2)","v":0},{"$f":"ROUND((AP417),2)","v":0},{"$f":"(EW417)","v":0},{"$f":"(EX417)","v":0},{"$f":"(AS417)","v":0},576.17999999999995,576.17999999999995,0,0,0,0,0,0,0,0,0,1,1,null,null,1,1,1,1,"","","","",3,1,"ТЦ_59.1.25.03_77_7736281025_12.01.2026_02_60.1",null,null,900,0,"",0,90,0,1,1,1,1,1,1,"",0,0,"",null,null,0,0,0,41,0,0,0,0,0,"",0,{"$f":"(P417+Q417+S417+R417)","v":2304.7199999999998},576.17999999999995,0,{"$f":"ROUND(AN417*BS417,2)","v":0},{"$f":"ROUND(AO417*BA417,2)","v":0},{"$f":"AG417","v":0},{"$f":"AH417","v":0},{"$f":"AI417","v":0},{"$f":"AJ417","v":0},{"$f":"0","v":0},{"$f":"0","v":0},null,null,"","","","","","","","","","","",0,0,1,1,null,null,null,1013,"ШТ","ШТ",1,null,"","","","",null,83667261,90,"Материалы, отсутствующие в СНБ (Строительные)",0,"",1,900,"Материалы, отсутствующие в СНБ (Строительные)","МР КА Строительные",null,"",null,131088,0,576.17999999999995,0,0,0,0,0,0,5,null,null,0,18,null,576.17999999999995,null,null,null,null,null,null,null,null,null,null,0,0,0,null,null,null,null,0,0,null,"",null,null,1,null,-283182982,2,3,-2,0,0,{"$f":"ROUND(IF(AND(BH417=3,BI417=3,FS417<>0),P417,0),2)","v":0},{"$f":"ROUND(O417+X417+Y417,2)+GX417","v":2304.7199999999998},{"$f":"IF(OR(BI417=0,BI417=1),GM417-GX417,0)","v":2304.7199999999998},{"$f":"IF(BI417=2,GM417-GX417,0)","v":0},{"$f":"IF(BI417=4,GM417-GX417,0)","v":0},null,1,1,0,"",{"$f":"ROUND((GT417),2)","v":0},1,{"$f":"ROUND(HC417*I417,2)","v":0},null,null,0,0,{"$f":"GV417*GW417","v":0},null,"","",2304.7199999999998,null,null,null,null,null,"","","","","",null,0,null,null,null,null,null,null,null,null,null,null,null,null,null,null,null,null,null,0]
[17,1,null,null,"41","ТЦ_59.1.25.03_77_7736281025_12.01.2026_02_60.1","Наконечник для СИП CPTAU 95","ШТ",4,0,4,4,0,4,2304.7199999999998,2304.7199999999998,0,0,0,0,0,0,0,0,0,null,85312298,576.17999999999995,576.17999999999995,0,0,0,0,0,0,0,576.17999999999995,576.17999999999995,0,0,0,0,0,0,0,0,0,1,1,null,null,1,1,1,1,"","","","",3,1,"ТЦ_59.1.25.03_77_7736281025_12.01.2026_02_60.1",null,null,900,0,"",0,90,0,1,1,1,1,1,1,"",0,0,"",null,null,0,0,0,41,0,0,0,0,0,"",0,2304.7199999999998,576.17999999999995,0,0,0,0,0,0,0,{"$f":"0","v":0},{"$f":"0","v":0},null,null,"","","","","","","","","","","",0,0,1,1,null,null,null,1013,"ШТ","ШТ",1,null,"","","","",null,83667261,90,"Материалы, отсутствующие в СНБ (Строительные)",0,"",1,900,"Материалы, отсутствующие в СНБ (Строительные)","МР КА Строительные",null,"",null,131088,0,576.17999999999995,0,0,0,0,0,0,5,null,null,0,18,null,576.17999999999995,null,null,null,null,null,null,null,null,null,null,0,0,0,null,null,null,null,0,0,null,"",null,null,1,null,-283182982,2,3,-2,0,0,0,2304.7199999999998,2304.7199999999998,0,0,null,1,1,0,"",0,1,0,null,null,0,0,0,null,"","",2304.7199999999998,null,null,null,null,null,"","","","","",null,0,null,null,null,null,null,null,null,null,null,null,null,null,null,null,null,null,null,0]
[17,1,null,null,"","ТЦ_20.5.03.00_77_7736281025_12.01.2026_02_33.1","Шина АД 31Т 3х25","м",0,0,0,1.5,1.5,0,0,0,0,0,0,0,0,0,0,0,0,null,-1,485.38,485.38,0,0,0,0,0,0,0,485.38,485.38,0,0,0,0,0,0,0,0,0,1,1,null,null,1,1,1,1,"","","","",3,1,"ТЦ_20.5.03.00_77_7736281025_12.01.2026_02_33.1",null,null,900,0,"",0,90,0,1,1,1,1,1,1,"",0,0,"",null,null,0,0,0,0,0,0,0,0,0,"",0,0,485.38,0,0,0,0,0,0,0,{"$f":"0","v":0},{"$f":"0","v":0},null,null,"","","","","","","","","","","",0,0,1,1,null,null,null,1003,"м","м",1,null,"","","","",null,83667261,90,"Материалы, отсутствующие в СНБ (Строительные)",0,"",1,900,"Материалы, отсутствующие в СНБ (Строительные)","МР КА Строительные",null,"",null,132112,0,485.38,0,0,0,0,0,0,null,null,null,null,null,null,null,null,null,null,null,null,null,null,null,null,null,0,0,0,null,null,null,null,0,0,null,"",null,null,1,null,-1930256212,2,0,-2,0,0,0,0,0,0,0,null,0,0,0,"",0,1,0,null,null,0,0,0,null,"","",null,null,null,null,null,null,"","","","","",null,0,null,null,null,null,null,null,null,null,null,null,null,null,null,null,null,null,null,0]
[17,1,null,null,"","ТЦ_20.5.03.00_77_7736281025_12.01.2026_02_33.1","Шина АД 31Т 3х25","м",0,0,0,1.5,1.5,0,0,0,0,0,0,0,0,0,0,0,0,null,-1,485.38,485.38,0,0,0,0,0,0,0,485.38,485.38,0,0,0,0,0,0,0,0,0,1,1,null,null,1,1,1,1,"","","","",3,1,"ТЦ_20.5.03.00_77_7736281025_12.01.2026_02_33.1",null,null,900,0,"",0,90,0,1,1,1,1,1,1,"",0,0,"",null,null,0,0,0,0,0,0,0,0,0,"",0,0,485.38,0,0,0,0,0,0,0,{"$f":"0","v":0},{"$f":"0","v":0},null,null,"","","","","","","","","","","",0,0,1,1,null,null,null,1003,"м","м",1,null,"","","","",null,83667261,90,"Материалы, отсутствующие в СНБ (Строительные)",0,"",1,900,"Материалы, отсутствующие в СНБ (Строительные)","МР КА Строительные",null,"",null,132112,0,485.38,0,0,0,0,0,0,null,null,null,null,null,null,null,null,null,null,null,null,null,null,null,null,null,0,0,0,null,null,null,null,0,0,null,"",null,null,1,null,-1930256212,2,0,-2,0,0,0,0,0,0,0,null,0,0,0,"",0,1,0,null,null,0,0,0,null,"","",null,null,null,null,null,null,"","","","","",null,0,null,null,null,null,null,null,null,null,null,null,null,null,null,null,null,null,null,0]
[17,1,null,null,"","ТЦ_01.7.15.02_77_7736281025_12.01.2026_02_34.1","Болт М10х40 с шестигранной головой","ШТ",0,0,0,6,6,0,0,0,0,0,0,0,0,0,0,0,0,null,-1,27.56,27.56,0,0,0,0,0,0,0,27.56,27.56,0,0,0,0,0,0,0,0,0,1,1,null,null,1,1,1,1,"","","","",3,1,"ТЦ_01.7.15.02_77_7736281025_12.01.2026_02_34.1",null,null,900,0,"",0,90,0,1,1,1,1,1,1,"",0,0,"",null,null,0,0,0,0,0,0,0,0,0,"",0,0,27.56,0,0,0,0,0,0,0,{"$f":"0","v":0},{"$f":"0","v":0},null,null,"","","","","","","","","","","",0,0,1,1,null,null,null,1013,"ШТ","ШТ",1,null,"","","","",null,83667261,90,"Материалы, отсутствующие в СНБ (Строительные)",0,"",1,900,"Материалы, отсутствующие в СНБ (Строительные)","МР КА Строительные",null,"",null,132112,0,27.56,0,0,0,0,0,0,null,null,null,null,null,null,null,null,null,null,null,null,null,null,null,null,null,0,0,0,null,null,null,null,0,0,null,"",null,null,1,null,-1810379406,2,0,-2,0,0,0,0,0,0,0,null,0,0,0,"",0,1,0,null,null,0,0,0,null,"","",null,null,null,null,null,null,"","","","","",null,0,null,null,null,null,null,null,null,null,null,null,null,null,null,null,null,null,null,0]
[17,1,null,null,"","ТЦ_01.7.15.02_77_7736281025_12.01.2026_02_34.1","Болт М10х40 с шестигранной головой","ШТ",0,0,0,6,6,0,0,0,0,0,0,0,0,0,0,0,0,null,-1,27.56,27.56,0,0,0,0,0,0,0,27.56,27.56,0,0,0,0,0,0,0,0,0,1,1,null,null,1,1,1,1,"","","","",3,1,"ТЦ_01.7.15.02_77_7736281025_12.01.2026_02_34.1",null,null,900,0,"",0,90,0,1,1,1,1,1,1,"",0,0,"",null,null,0,0,0,0,0,0,0,0,0,"",0,0,27.56,0,0,0,0,0,0,0,{"$f":"0","v":0},{"$f":"0","v":0},null,null,"","","","","","","","","","","",0,0,1,1,null,null,null,1013,"ШТ","ШТ",1,null,"","","","",null,83667261,90,"Материалы, отсутствующие в СНБ (Строительные)",0,"",1,900,"Материалы, отсутствующие в СНБ (Строительные)","МР КА Строительные",null,"",null,132112,0,27.56,0,0,0,0,0,0,null,null,null,null,null,null,null,null,null,null,null,null,null,null,null,null,null,0,0,0,null,null,null,null,0,0,null,"",null,null,1,null,-1810379406,2,0,-2,0,0,0,0,0,0,0,null,0,0,0,"",0,1,0,null,null,0,0,0,null,"","",null,null,null,null,null,null,"","","","","",null,0,null,null,null,null,null,null,null,null,null,null,null,null,null,null,null,null,null,0]
[17,1,null,null,"","ТЦ_01.7.15.05_77_7736281025_12.01.2026_02_35.1","Гайка М10","ШТ",0,0,0,3,3,0,0,0,0,0,0,0,0,0,0,0,0,null,-1,13.77,13.77,0,0,0,0,0,0,0,13.77,13.77,0,0,0,0,0,0,0,0,0,1,1,null,null,1,1,1,1,"","","","",3,1,"ТЦ_01.7.15.05_77_7736281025_12.01.2026_02_35.1",null,null,900,0,"",0,90,0,1,1,1,1,1,1,"",0,0,"",null,null,0,0,0,0,0,0,0,0,0,"",0,0,13.77,0,0,0,0,0,0,0,{"$f":"0","v":0},{"$f":"0","v":0},null,null,"","","","","","","","","","","",0,0,1,1,null,null,null,1013,"ШТ","ШТ",1,null,"","","","",null,83667261,90,"Материалы, отсутствующие в СНБ (Строительные)",0,"",1,900,"Материалы, отсутствующие в СНБ (Строительные)","МР КА Строительные",null,"",null,132112,0,13.77,0,0,0,0,0,0,null,null,null,null,null,null,null,null,null,null,null,null,null,null,null,null,null,0,0,0,null,null,null,null,0,0,null,"",null,null,1,null,1085818571,2,0,-2,0,0,0,0,0,0,0,null,0,0,0,"",0,1,0,null,null,0,0,0,null,"","",null,null,null,null,null,null,"","","","","",null,0,null,null,null,null,null,null,null,null,null,null,null,null,null,null,null,null,null,0]
[17,1,null,null,"","ТЦ_01.7.15.05_77_7736281025_12.01.2026_02_35.1","Гайка М10","ШТ",0,0,0,3,3,0,0,0,0,0,0,0,0,0,0,0,0,null,-1,13.77,13.77,0,0,0,0,0,0,0,13.77,13.77,0,0,0,0,0,0,0,0,0,1,1,null,null,1,1,1,1,"","","","",3,1,"ТЦ_01.7.15.05_77_7736281025_12.01.2026_02_35.1",null,null,900,0,"",0,90,0,1,1,1,1,1,1,"",0,0,"",null,null,0,0,0,0,0,0,0,0,0,"",0,0,13.77,0,0,0,0,0,0,0,{"$f":"0","v":0},{"$f":"0","v":0},null,null,"","","","","","","","","","","",0,0,1,1,null,null,null,1013,"ШТ","ШТ",1,null,"","","","",null,83667261,90,"Материалы, отсутствующие в СНБ (Строительные)",0,"",1,900,"Материалы, отсутствующие в СНБ (Строительные)","МР КА Строительные",null,"",null,132112,0,13.77,0,0,0,0,0,0,null,null,null,null,null,null,null,null,null,null,null,null,null,null,null,null,null,0,0,0,null,null,null,null,0,0,null,"",null,null,1,null,1085818571,2,0,-2,0,0,0,0,0,0,0,null,0,0,0,"",0,1,0,null,null,0,0,0,null,"","",null,null,null,null,null,null,"","","","","",null,0,null,null,null,null,null,null,null,null,null,null,null,null,null,null,null,null,null,0]
[17,1,null,null,"","ТЦ_01.7.15.11_77_7736281025_12.01.2026_02_36.1","Шайба М10","ШТ",0,0,0,3,3,0,0,0,0,0,0,0,0,0,0,0,0,null,-1,5.17,5.17,0,0,0,0,0,0,0,5.17,5.17,0,0,0,0,0,0,0,0,0,1,1,null,null,1,1,1,1,"","","","",3,1,"ТЦ_01.7.15.11_77_7736281025_12.01.2026_02_36.1",null,null,900,0,"",0,90,0,1,1,1,1,1,1,"",0,0,"",null,null,0,0,0,0,0,0,0,0,0,"",0,0,5.17,0,0,0,0,0,0,0,{"$f":"0","v":0},{"$f":"0","v":0},null,null,"","","","","","","","","","","",0,0,1,1,null,null,null,1013,"ШТ","ШТ",1,null,"","","","",null,83667261,90,"Материалы, отсутствующие в СНБ (Строительные)",0,"",1,900,"Материалы, отсутствующие в СНБ (Строительные)","МР КА Строительные",null,"",null,132112,0,5.17,0,0,0,0,0,0,null,null,null,null,null,null,null,null,null,null,null,null,null,null,null,null,null,0,0,0,null,null,null,null,0,0,null,"",null,null,1,null,646224242,2,0,-2,0,0,0,0,0,0,0,null,0,0,0,"",0,1,0,null,null,0,0,0,null,"","",null,null,null,null,null,null,"","","","","",null,0,null,null,null,null,null,null,null,null,null,null,null,null,null,null,null,null,null,0]
[17,1,null,null,"","ТЦ_01.7.15.11_77_7736281025_12.01.2026_02_36.1","Шайба М10","ШТ",0,0,0,3,3,0,0,0,0,0,0,0,0,0,0,0,0,null,-1,5.17,5.17,0,0,0,0,0,0,0,5.17,5.17,0,0,0,0,0,0,0,0,0,1,1,null,null,1,1,1,1,"","","","",3,1,"ТЦ_01.7.15.11_77_7736281025_12.01.2026_02_36.1",null,null,900,0,"",0,90,0,1,1,1,1,1,1,"",0,0,"",null,null,0,0,0,0,0,0,0,0,0,"",0,0,5.17,0,0,0,0,0,0,0,{"$f":"0","v":0},{"$f":"0","v":0},null,null,"","","","","","","","","","","",0,0,1,1,null,null,null,1013,"ШТ","ШТ",1,null,"","","","",null,83667261,90,"Материалы, отсутствующие в СНБ (Строительные)",0,"",1,900,"Материалы, отсутствующие в СНБ (Строительные)","МР КА Строительные",null,"",null,132112,0,5.17,0,0,0,0,0,0,null,null,null,null,null,null,null,null,null,null,null,null,null,null,null,null,null,0,0,0,null,null,null,null,0,0,null,"",null,null,1,null,646224242,2,0,-2,0,0,0,0,0,0,0,null,0,0,0,"",0,1,0,null,null,0,0,0,null,"","",null,null,null,null,null,null,"","","","","",null,0,null,null,null,null,null,null,null,null,null,null,null,null,null,null,null,null,null,0]
[17,1,null,null,"42","ТЦ_14.4.04.03_77_7736281025_12.01.2026_02_61.1","Эмаль алкидная, белая ПФ-115","кг",0.84,0,0.84,0.84,0,0.84,499.78,499.78,0,0,0,0,0,0,0,0,0,null,85312357,594.98,594.98,0,0,0,0,0,0,0,594.98,594.98,0,0,0,0,0,0,0,0,0,1,1,null,null,1,1,1,1,"","","","",3,1,"ТЦ_14.4.04.03_77_7736281025_12.01.2026_02_61.1",null,null,900,0,"",0,90,0,1,1,1,1,1,1,"",0,0,"",null,null,0,0,0,42,0,0,0,0,0,"",0,499.78,594.98,0,0,0,0,0,0,0,{"$f":"0","v":0},{"$f":"0","v":0},null,null,"","","","","","","","","","","",0,0,1,1,null,null,null,1009,"кг","кг",1,null,"","","","",null,83667261,90,"Материалы, отсутствующие в СНБ (Строительные)",0,"",1,900,"Материалы, отсутствующие в СНБ (Строительные)","МР КА Строительные",null,"",null,131088,0,594.98,0,0,0,0,0,0,5,null,null,0,18,null,594.98,null,null,null,null,null,null,null,null,null,null,0,0,0,null,null,null,null,0,0,null,"",null,null,1,null,240564716,2,3,-2,0,0,0,499.78,499.78,0,0,null,1,1,0,"",0,1,0,null,null,0,0,0,null,"","",{"$f":"ROUND(ROUND(AL427,2)*I427,2)","v":499.78},null,null,null,null,null,"","","","","",null,0,null,null,null,null,null,null,null,null,null,null,null,null,null,null,null,null,null,0]
[17,1,null,null,"42","ТЦ_14.4.04.03_77_7736281025_12.01.2026_02_61.1","Эмаль алкидная, белая ПФ-115","кг",0.84,0,0.84,0.84,0,0.84,499.78,499.78,0,0,0,0,0,0,0,0,0,null,85312298,594.98,594.98,0,0,0,0,0,0,0,594.98,594.98,0,0,0,0,0,0,0,0,0,1,1,null,null,1,1,1,1,"","","","",3,1,"ТЦ_14.4.04.03_77_7736281025_12.01.2026_02_61.1",null,null,900,0,"",0,90,0,1,1,1,1,1,1,"",0,0,"",null,null,0,0,0,42,0,0,0,0,0,"",0,499.78,594.98,0,0,0,0,0,0,0,{"$f":"0","v":0},{"$f":"0","v":0},null,null,"","","","","","","","","","","",0,0,1,1,null,null,null,1009,"кг","кг",1,null,"","","","",null,83667261,90,"Материалы, отсутствующие в СНБ (Строительные)",0,"",1,900,"Материалы, отсутствующие в СНБ (Строительные)","МР КА Строительные",null,"",null,131088,0,594.98,0,0,0,0,0,0,5,null,null,0,18,null,594.98,null,null,null,null,null,null,null,null,null,null,0,0,0,null,null,null,null,0,0,null,"",null,null,1,null,240564716,2,3,-2,0,0,0,499.78,499.78,0,0,null,1,1,0,"",0,1,0,null,null,0,0,0,null,"","",499.78,null,null,null,null,null,"","","","","",null,0,null,null,null,null,null,null,null,null,null,null,null,null,null,null,null,null,null,0]
[17,1,null,null,"43","ТЦ_14.4.04.03_77_7736281025_12.01.2026_02_62.1","Эмаль алкидная, синяя ПФ-115","кг",1.54,0,1.54,1.54,0,1.54,858.4,858.4,0,0,0,0,0,0,0,0,0,null,85312357,557.4,557.4,0,0,0,0,0,0,0,557.4,557.4,0,0,0,0,0,0,0,0,0,1,1,null,null,1,1,1,1,"","","","",3,1,"ТЦ_14.4.04.03_77_7736281025_12.01.2026_02_62.1",null,null,900,0,"",0,90,0,1,1,1,1,1,1,"",0,0,"",null,null,0,0,0,43,0,0,0,0,0,"",0,858.4,557.4,0,0,0,0,0,0,0,{"$f":"0","v":0},{"$f":"0","v":0},null,null,"","","","","","","","","","","",0,0,1,1,null,null,null,1009,"кг","кг",1,null,"","","","",null,83667261,90,"Материалы, отсутствующие в СНБ (Строительные)",0,"",1,900,"Материалы, отсутствующие в СНБ (Строительные)","МР КА Строительные",null,"",null,131088,0,557.4,0,0,0,0,0,0,5,null,null,0,18,null,557.4,null,null,null,null,null,null,null,null,null,null,0,0,0,null,null,null,null,0,0,null,"",null,null,1,null,1302363564,2,3,-2,0,0,0,858.4,858.4,0,0,null,1,1,0,"",0,1,0,null,null,0,0,0,null,"","",858.4,null,null,null,null,null,"","","","","",null,0,null,null,null,null,null,null,null,null,null,null,null,null,null,null,null,null,null,0]
[17,1,null,null,"43","ТЦ_14.4.04.03_77_7736281025_12.01.2026_02_62.1","Эмаль алкидная, синяя ПФ-115","кг",1.54,0,1.54,1.54,0,1.54,858.4,858.4,0,0,0,0,0,0,0,0,0,null,85312298,557.4,557.4,0,0,0,0,0,0,0,557.4,557.4,0,0,0,0,0,0,0,0,0,1,1,null,null,1,1,1,1,"","","","",3,1,"ТЦ_14.4.04.03_77_7736281025_12.01.2026_02_62.1",null,null,900,0,"",0,90,0,1,1,1,1,1,1,"",0,0,"",null,null,0,0,0,43,0,0,0,0,0,"",0,858.4,557.4,0,0,0,0,0,0,0,{"$f":"0","v":0},{"$f":"0","v":0},null,null,"","","","","","","","","","","",0,0,1,1,null,null,null,1009,"кг","кг",1,null,"","","","",null,83667261,90,"Материалы, отсутствующие в СНБ (Строительные)",0,"",1,900,"Материалы, отсутствующие в СНБ (Строительные)","МР КА Строительные",null,"",null,131088,0,557.4,0,0,0,0,0,0,5,null,null,0,18,null,557.4,null,null,null,null,null,null,null,null,null,null,0,0,0,null,null,null,null,0,0,null,"",null,null,1,null,1302363564,2,3,-2,0,0,0,858.4,858.4,0,0,null,1,1,0,"",0,1,0,null,null,0,0,0,null,"","",858.4,null,null,null,null,null,"","","","","",null,0,null,null,null,null,null,null,null,null,null,null,null,null,null,null,null,null,null,0]
[17,1,null,null,"44","ТЦ_14.4.02.00_77_7736281025_12.01.2026_02_63.1","Краска аэрозольная, черная","л",0.56000000000000005,0,0.56000000000000005,0.56000000000000005,0,0.56000000000000005,989.92,989.92,0,0,0,0,0,0,0,0,0,null,85312357,1767.71,1767.71,0,0,0,0,0,0,0,1767.71,1767.71,0,0,0,0,0,0,0,0,0,1,1,null,null,1,1,1,1,"","","","",3,1,"ТЦ_14.4.02.00_77_7736281025_12.01.2026_02_63.1",null,null,900,0,"",0,90,0,1,1,1,1,1,1,"",0,0,"",null,null,0,0,0,44,0,0,0,0,0,"",0,989.92,1767.71,0,0,0,0,0,0,0,{"$f":"0","v":0},{"$f":"0","v":0},null,null,"","","","","","","","","","","",0,0,1,1,null,null,null,1002,"л","л",1,null,"","","","",null,83667261,90,"Материалы, отсутствующие в СНБ (Строительные)",0,"",1,900,"Материалы, отсутствующие в СНБ (Строительные)","МР КА Строительные",null,"",null,131088,0,1767.71,0,0,0,0,0,0,5,null,null,0,18,null,1767.71,null,null,null,null,null,null,null,null,null,null,0,0,0,null,null,null,null,0,0,null,"",null,null,1,null,1816095535,2,3,-2,0,0,0,989.92,989.92,0,0,null,1,1,0,"",0,1,0,null,null,0,0,0,null,"","",989.92,null,null,null,null,null,"","","","","",null,0,null,null,null,null,null,null,null,null,null,null,null,null,null,null,null,null,null,0]
[17,1,null,null,"44","ТЦ_14.4.02.00_77_7736281025_12.01.2026_02_63.1","Краска аэрозольная, черная","л",0.56000000000000005,0,0.56000000000000005,0.56000000000000005,0,0.56000000000000005,989.92,989.92,0,0,0,0,0,0,0,0,0,null,85312298,1767.71,1767.71,0,0,0,0,0,0,0,1767.71,1767.71,0,0,0,0,0,0,0,0,0,1,1,null,null,1,1,1,1,"","","","",3,1,"ТЦ_14.4.02.00_77_7736281025_12.01.2026_02_63.1",null,null,900,0,"",0,90,0,1,1,1,1,1,1,"",0,0,"",null,null,0,0,0,44,0,0,0,0,0,"",0,989.92,1767.71,0,0,0,0,0,0,0,{"$f":"0","v":0},{"$f":"0","v":0},null,null,"","","","","","","","","","","",0,0,1,1,null,null,null,1002,"л","л",1,null,"","","","",null,83667261,90,"Материалы, отсутствующие в СНБ (Строительные)",0,"",1,900,"Материалы, отсутствующие в СНБ (Строительные)","МР КА Строительные",null,"",null,131088,0,1767.71,0,0,0,0,0,0,5,null,null,0,18,null,1767.71,null,null,null,null,null,null,null,null,null,null,0,0,0,null,null,null,null,0,0,null,"",null,null,1,null,1816095535,2,3,-2,0,0,0,989.92,989.92,0,0,null,1,1,0,"",0,1,0,null,null,0,0,0,null,"","",989.92,null,null,null,null,null,"","","","","",null,0,null,null,null,null,null,null,null,null,null,null,null,null,null,null,null,null,null,0]
[]
[51,{"$f":"B349","v":1},{"$f":"A349","v":4},{"$f":"ROW(A349)","v":349},null,{"$f":"IF(F349<>\"\",F349,\"\")","v":"Новый раздел"},{"$f":"IF(G349<>\"\",G349,\"\")","v":"Материалы"},0,null,null,null,null,null,null,{"$f":"ROUND(AB434,2)","v":18746.2},18746.2,0,0,0,0,{"$f":"AH434","v":0},{"$f":"AI434","v":0},{"$f":"ROUND(AJ434,2)","v":0},{"$f":"ROUND(AK434,2)","v":0},{"$f":"ROUND(AL434,2)","v":0},null,null,{"$f":"ROUND(SUMIF(AA353:AA432,\"=85312357\",O353:O432),2)","v":18746.2},{"$f":"ROUND(SUMIF(AA353:AA432,\"=85312357\",P353:P432),2)","v":18746.2},{"$f":"ROUND(SUMIF(AA353:AA432,\"=85312357\",Q353:Q432),2)","v":0},{"$f":"ROUND(SUMIF(AA353:AA432,\"=85312357\",R353:R432),2)","v":0},{"$f":"ROUND(SUMIF(AA353:AA432,\"=85312357\",S353:S432),2)","v":0},{"$f":"ROUND(SUMIF(AA353:AA432,\"=85312357\",T353:T432),2)","v":0},{"$f":"SUMIF(AA353:AA432,\"=85312357\",U353:U432)","v":0},{"$f":"SUMIF(AA353:AA432,\"=85312357\",V353:V432)","v":0},{"$f":"ROUND(SUMIF(AA353:AA432,\"=85312357\",W353:W432),2)","v":0},{"$f":"ROUND(SUMIF(AA353:AA432,\"=85312357\",X353:X432),2)","v":0},{"$f":"ROUND(SUMIF(AA353:AA432,\"=85312357\",Y353:Y432),2)","v":0},null,null,{"$f":"ROUND(BX434,2)","v":0},0,0,18746.2,18746.2,0,0,18746.2,18746.2,0,18746.2,0,0,0,0,0,null,null,null,null,null,null,null,null,null,null,null,null,null,null,null,null,null,null,null,{"$f":"ROUND(SUMIF(AA353:AA432,\"=85312357\",FQ353:FQ432),2)","v":0},{"$f":"ROUND(SUMIF(AA353:AA432,\"=85312357\",FR353:FR432),2)","v":0},{"$f":"ROUND(SUMIF(AA353:AA432,\"=85312357\",GL353:GL432),2)","v":0},{"$f":"ROUND(SUMIF(AA353:AA432,\"=85312357\",GM353:GM432),2)","v":18746.2},{"$f":"ROUND(SUMIF(AA353:AA432,\"=85312357\",GN353:GN432),2)","v":18746.2},{"$f":"ROUND(SUMIF(AA353:AA432,\"=85312357\",GO353:GO432),2)","v":0},{"$f":"ROUND(SUMIF(AA353:AA432,\"=85312357\",GP353:GP432),2)","v":0},{"$f":"AC434-BX434","v":18746.2},{"$f":"AC434-BY434","v":18746.2},{"$f":"BX434-BZ434","v":0},{"$f":"AC434-BX434-BY434+BZ434","v":18746.2},{"$f":"BY434-BZ434","v":0},{"$f":"ROUND(SUMIF(AA353:AA432,\"=85312357\",GX353:GX432),2)","v":0},{"$f":"ROUND(SUMIF(AA353:AA432,\"=85312357\",GY353:GY432),2)","v":0},{"$f":"ROUND(SUMIF(AA353:AA432,\"=85312357\",GZ353:GZ432),2)","v":0},{"$f":"ROUND(SUMIF(AA353:AA432,\"=85312357\",HD353:HD432),2)","v":0},null,null,null,null,null,null,null,null,null,null,null,null,null,null,null,null,null,null,null,{"$f":"ROUND(DT434,2)","v":18746.2},18746.2,0,0,0,0,{"$f":"DZ434","v":0},{"$f":"EA434","v":0},{"$f":"ROUND(EB434,2)","v":0},{"$f":"ROUND(EC434,2)","v":0},{"$f":"ROUND(ED434,2)","v":0},null,null,{"$f":"ROUND(SUMIF(AA353:AA432,\"=85312298\",O353:O432),2)","v":18746.2},{"$f":"ROUND(SUMIF(AA353:AA432,\"=85312298\",P353:P432),2)","v":18746.2},{"$f":"ROUND(SUMIF(AA353:AA432,\"=85312298\",Q353:Q432),2)","v":0},{"$f":"ROUND(SUMIF(AA353:AA432,\"=85312298\",R353:R432),2)","v":0},{"$f":"ROUND(SUMIF(AA353:AA432,\"=85312298\",S353:S432),2)","v":0},{"$f":"ROUND(SUMIF(AA353:AA432,\"=85312298\",T353:T432),2)","v":0},{"$f":"SUMIF(AA353:AA432,\"=85312298\",U353:U432)","v":0},{"$f":"SUMIF(AA353:AA432,\"=85312298\",V353:V432)","v":0},{"$f":"ROUND(SUMIF(AA353:AA432,\"=85312298\",W353:W432),2)","v":0},{"$f":"ROUND(SUMIF(AA353:AA432,\"=85312298\",X353:X432),2)","v":0},{"$f":"ROUND(SUMIF(AA353:AA432,\"=85312298\",Y353:Y432),2)","v":0},null,null,{"$f":"ROUND(FP434,2)","v":0},0,0,18746.2,18746.2,0,0,18746.2,18746.2,0,18746.2,0,0,0,0,0,null,null,null,null,null,null,null,null,null,null,null,null,null,null,null,null,null,null,null,{"$f":"ROUND(SUMIF(AA353:AA432,\"=85312298\",FQ353:FQ432),2)","v":0},{"$f":"ROUND(SUMIF(AA353:AA432,\"=85312298\",FR353:FR432),2)","v":0},{"$f":"ROUND(SUMIF(AA353:AA432,\"=85312298\",GL353:GL432),2)","v":0},{"$f":"ROUND(SUMIF(AA353:AA432,\"=85312298\",GM353:GM432),2)","v":18746.2},{"$f":"ROUND(SUMIF(AA353:AA432,\"=85312298\",GN353:GN432),2)","v":18746.2},{"$f":"ROUND(SUMIF(AA353:AA432,\"=85312298\",GO353:GO432),2)","v":0},{"$f":"ROUND(SUMIF(AA353:AA432,\"=85312298\",GP353:GP432),2)","v":0},{"$f":"DU434-FP434","v":18746.2},{"$f":"DU434-FQ434","v":18746.2},{"$f":"FP434-FR434","v":0},{"$f":"DU434-FP434-FQ434+FR434","v":18746.2},{"$f":"FQ434-FR434","v":0},{"$f":"ROUND(SUMIF(AA353:AA432,\"=85312298\",GX353:GX432),2)","v":0},{"$f":"ROUND(SUMIF(AA353:AA432,\"=85312298\",GY353:GY432),2)","v":0},{"$f":"ROUND(SUMIF(AA353:AA432,\"=85312298\",GZ353:GZ432),2)","v":0},{"$f":"ROUND(SUMIF(AA353:AA432,\"=85312298\",HD353:HD432),2)","v":0},null,null,null,null,null,null,null,null,null,null,null,null,null,null,null,null,null,null,0]
[]
[50,0,0,1,201,{"$f":"ROUND(Source!O434,O436)","v":18746.2},"ПЗ","Прямые затраты",null,null,201,1,3,"",2,{"$f":"ROUND(Source!DG434,O436)","v":18746.2},null,null,null,null,null,null,18746.2,1,18746.2,18746.2,1,18746.2]
[50,0,0,1,202,{"$f":"ROUND(Source!P434,O437)","v":18746.2},"СтМатОб","Стоимость материальных ресурсов (всего)",null,null,202,2,3,"",2,{"$f":"ROUND(Source!DH434,O437)","v":18746.2},null,null,null,null,null,null,18746.2,1,18746.2,18746.2,1,18746.2]
[50,0,0,1,222,{"$f":"ROUND(Source!AO434,O438)","v":0},"СтМатОбЗак","Стоимость материалов и оборудования заказчика",null,null,222,3,3,"",2,{"$f":"ROUND(Source!EG434,O438)","v":0},null,null,null,null,null,null,0,1,0,0,1,0]
[50,0,0,1,225,{"$f":"ROUND(Source!AV434,O439)","v":18746.2},"СтМатОбПод","Стоимость материалов и оборудования подрядчика",null,null,225,4,3,"",2,{"$f":"ROUND(Source!EN434,O439)","v":18746.2},null,null,null,null,null,null,18746.2,1,18746.2,18746.2,1,18746.2]
[50,0,0,1,226,{"$f":"ROUND(Source!AW434,O440)","v":18746.2},"СтМат","Стоимость материалов (всего)",null,null,226,5,3,"",2,{"$f":"ROUND(Source!EO434,O440)","v":18746.2},null,null,null,null,null,null,18746.2,1,18746.2,18746.2,1,18746.2]
[50,0,0,1,227,{"$f":"ROUND(Source!AX434,O441)","v":0},"СтМатЗак","Стоимость материалов заказчика",null,null,227,6,3,"",2,{"$f":"ROUND(Source!EP434,O441)","v":0},null,null,null,null,null,null,0,1,0,0,1,0]
[50,0,0,1,228,{"$f":"ROUND(Source!AY434,O442)","v":18746.2},"СтМатПод","Стоимость материалов подрядчика",null,null,228,7,3,"",2,{"$f":"ROUND(Source!EQ434,O442)","v":18746.2},null,null,null,null,null,null,18746.2,1,18746.2,18746.2,1,18746.2]
[50,0,0,1,216,{"$f":"ROUND(Source!AP434,O443)","v":0},"Оборуд","Стоимость оборудования (всего)",null,null,216,8,3,"",2,{"$f":"ROUND(Source!EH434,O443)","v":0},null,null,null,null,null,null,0,1,0,0,1,0]
[50,0,0,1,223,{"$f":"ROUND(Source!AQ434,O444)","v":0},"ОборудЗак","Стоимость оборудования заказчика",null,null,223,9,3,"",2,{"$f":"ROUND(Source!EI434,O444)","v":0},null,null,null,null,null,null,0,1,0,0,1,0]
[50,0,0,1,229,{"$f":"ROUND(Source!AZ434,O445)","v":0},"ОборудПод","Стоимость оборудования подрядчика",null,null,229,10,3,"",2,{"$f":"ROUND(Source!ER434,O445)","v":0},null,null,null,null,null,null,0,1,0,0,1,0]
[50,0,0,1,203,{"$f":"ROUND(Source!Q434,O446)","v":0},"ЭММ","Эксплуатация машин",null,null,203,11,3,"",2,{"$f":"ROUND(Source!DI434,O446)","v":0},null,null,null,null,null,null,0,1,0,0,1,0]
[50,0,0,1,231,{"$f":"ROUND(Source!BB434,O447)","v":0},"ЭММсНРиСП","Эксплуатация машин по ТСН-2001.16",null,null,231,12,3,"",2,{"$f":"ROUND(Source!ET434,O447)","v":0},null,null,null,null,null,null,0,1,0,0,1,0]
[50,0,0,1,204,{"$f":"ROUND(Source!R434,O448)","v":0},"ЗПМ","ЗП машинистов",null,null,204,13,3,"",2,{"$f":"ROUND(Source!DJ434,O448)","v":0},null,null,null,null,null,null,0,1,0,0,1,0]
[50,0,0,1,205,{"$f":"ROUND(Source!S434,O449)","v":0},"ОЗП","Основная ЗП рабочих",null,null,205,14,3,"",2,{"$f":"ROUND(Source!DK434,O449)","v":0},null,null,null,null,null,null,0,1,0,0,1,0]
[50,0,0,1,232,{"$f":"ROUND(Source!BC434,O450)","v":0},"ОЗПсНРиСП","Основная ЗП рабочих по ТСН-2001.16",null,null,232,15,3,"",2,{"$f":"ROUND(Source!EU434,O450)","v":0},null,null,null,null,null,null,0,1,0,0,1,0]
[50,0,0,1,214,{"$f":"ROUND(Source!AS434,O451)","v":18746.2},"Строит","Строительные работы с НР и СП",null,null,214,16,3,"",2,{"$f":"ROUND(Source!EK434,O451)","v":18746.2},null,null,null,null,null,null,18746.2,1,18746.2,18746.2,1,18746.2]
[50,0,0,1,215,{"$f":"ROUND(Source!AT434,O452)","v":0},"Монтаж","Монтажные работы с НР и СП",null,null,215,17,3,"",2,{"$f":"ROUND(Source!EL434,O452)","v":0},null,null,null,null,null,null,0,1,0,0,1,0]
[50,0,0,1,217,{"$f":"ROUND(Source!AU434,O453)","v":0},"Прочие","Прочие работы с НР и СП",null,null,217,18,3,"",2,{"$f":"ROUND(Source!EM434,O453)","v":0},null,null,null,null,null,null,0,1,0,0,1,0]
[50,0,0,1,230,{"$f":"ROUND(Source!BA434,O454)","v":0},"ПрочиеЗатр","Прочие затраты по ТСН-2001.16",null,null,230,19,3,"",2,{"$f":"ROUND(Source!ES434,O454)","v":0},null,null,null,null,null,null,0,1,0,0,1,0]
[50,0,0,1,206,{"$f":"ROUND(Source!T434,O455)","v":0},"ВозврМат","Возврат материалов",null,null,206,20,3,"",2,{"$f":"ROUND(Source!DL434,O455)","v":0},null,null,null,null,null,null,0,1,0,0,1,0]
[50,0,0,1,207,{"$f":"ROUND(Source!U434,O456)","v":0},"ТрудСтр","Трудозатраты строителей",null,null,207,21,3,"",7,{"$f":"ROUND(Source!DM434,O456)","v":0},null,null,null,null,null,null,0,1,0,0,1,0]
[50,0,0,1,208,{"$f":"ROUND(Source!V434,O457)","v":0},"ТрудМаш","Трудозатраты машинистов",null,null,208,22,3,"",7,{"$f":"ROUND(Source!DN434,O457)","v":0},null,null,null,null,null,null,0,1,0,0,1,0]
[50,0,0,1,209,{"$f":"ROUND(Source!W434,O458)","v":0},"ТранспМат","Транспорт материалов",null,null,209,23,3,"",2,{"$f":"ROUND(Source!DO434,O458)","v":0},null,null,null,null,null,null,0,1,0,0,1,0]
[50,0,0,1,233,{"$f":"ROUND(Source!BD434,O459)","v":0},"Перевозка","Перевозка грузов",null,null,233,24,3,"",2,{"$f":"ROUND(Source!EV434,O459)","v":0},null,null,null,null,null,null,0,1,0,0,1,0]
[50,0,0,1,210,{"$f":"ROUND(Source!X434,O460)","v":0},"НР","Накладные расходы",null,null,210,25,3,"",2,{"$f":"ROUND(Source!DP434,O460)","v":0},null,null,null,null,null,null,0,1,0,0,1,0]
[50,0,0,1,211,{"$f":"ROUND(Source!Y434,O461)","v":0},"СмПриб","Сметная прибыль",null,null,211,26,3,"",2,{"$f":"ROUND(Source!DQ434,O461)","v":0},null,null,null,null,null,null,0,1,0,0,1,0]
[50,0,0,1,224,{"$f":"ROUND(Source!AR434,O462)","v":18746.2},"Всего","Всего с НР и СП",null,null,224,27,3,"",2,{"$f":"ROUND(Source!EJ434,O462)","v":18746.2},null,null,null,null,null,null,18746.2,1,18746.2,18746.2,1,18746.2]
[]
[4,0,null,{"$f":"ROW(A471)","v":471},null,"Новый раздел","Оборудование","",0,null,0,null,"",null,null,null,null,null,0,0,"",0,null,null,null,null,null,"","","","","","",null,null,null,null,null,null,null,null,"","","",null,null,null,null,null,null,null,"",null,"","","","","","","","","","","","","","","",null,null,null,null,null,null,null,0,null,null,null,null,null,null,null,null,null,null,null,0]
[]
[52,{"$f":"B471","v":0},4,464,0,"Новый раздел","Оборудование",null,null,null,null,null,null,null,{"$f":"O471","v":0},0,0,0,0,0,0,0,0,0,0,0,0,0,0,0,0,0,0,0,0,0,0,0,0,0,0,0,0,0,0,0,{"$f":"AU471","v":0},0,0,0,0,0,0,0,0,0,0,0,0,0,0,0,0,0,0,0,0,0,0,0,0,0,0,0,0,0,0,0,{"$f":"CA471","v":0},0,0,0,0,0,0,0,0,0,0,0,0,0,0,0,0,0,0,0,0,0,0,0,0,0,0,0,0,0,0,0,{"$f":"DG471","v":0},0,0,0,0,0,0,0,0,0,0,0,0,0,0,0,0,0,0,0,0,0,0,0,0,0,0,0,0,0,0,0,{"$f":"EM471","v":0},0,0,0,0,0,0,0,0,0,0,0,0,0,0,0,0,0,0,0,0,0,0,0,0,0,0,0,0,0,0,0,{"$f":"FS471","v":0},0,0,0,0,0,0,0,0,0,0,0,0,0,0,0,0,0,0,0,0,0,0,0,0,0,0,0,0,0,0,0]
[]
[17,0,null,null,"","ТЦ_62.1.01.09_77_7736281025_12.01.2026_02_64.1","Автоматический выключатель ВА 57-35 160А","ШТ",1,0,1,1,0,{"$f":"ROUND(L468-M468,4)","v":1},{"$f":"ROUND(CP468,2)","v":12603.08},{"$f":"ROUND(CQ468*I468,2)","v":12603.08},{"$f":"ROUND(CR468*I468,2)","v":0},{"$f":"ROUND(CS468*I468,2)","v":0},{"$f":"ROUND(CT468*I468,2)","v":0},{"$f":"ROUND(CU468*I468,2)","v":0},{"$f":"ROUND(CV468*I468,7)","v":0},{"$f":"ROUND(CW468*I468,7)","v":0},{"$f":"ROUND(CX468*I468,2)","v":0},{"$f":"ROUND(CY468,2)","v":0},{"$f":"ROUND(CZ468,2)","v":0},null,-1,{"$f":"ROUND((AC468+AD468+AF468),2)","v":12603.08},{"$f":"ROUND((ES468),2)","v":12603.08},0,0,0,{"$f":"ROUND((AP468),2)","v":0},{"$f":"(EW468)","v":0},{"$f":"(EX468)","v":0},{"$f":"(AS468)","v":0},12603.08,12603.08,0,0,0,0,0,0,0,0,0,1,1,null,null,1,1,1,1,"","","","",3,3,"ТЦ_62.1.01.09_77_7736281025_12.01.2026_02_64.1",null,null,902,0,"",0,92,0,1,1,1,1,1,1,"",0,0,"",null,null,0,0,0,0,0,0,0,0,0,"",0,{"$f":"(P468+Q468+S468+R468)","v":12603.08},{"$f":"ROUND(AL468,2)","v":12603.08},{"$f":"ROUND(AM468,2)","v":0},{"$f":"ROUND(AN468*BS468,2)","v":0},{"$f":"ROUND(AO468*BA468,2)","v":0},{"$f":"AG468","v":0},0,0,0,{"$f":"0","v":0},{"$f":"0","v":0},null,null,"","","","","","","","","","","",0,0,1,1,null,null,null,1013,"ШТ","ШТ",1,null,"","","","",null,83667263,92,"Оборудование, отсутствующее в СНБ",0,"",3,902,"Оборудование, отсутствующее в СНБ","Оборуд. КА",null,"",null,132112,0,12603.08,0,0,0,0,0,0,null,null,null,null,null,null,null,null,null,null,null,null,null,null,null,null,null,0,{"$f":"P468","v":12603.08},0,null,null,null,null,0,0,null,"",null,null,1,null,1925777819,2,0,-2,0,0,{"$f":"ROUND(IF(AND(BH468=3,BI468=3,FS468<>0),P468,0),2)","v":0},{"$f":"ROUND(O468+X468+Y468,2)+GX468","v":12603.08},{"$f":"IF(OR(BI468=0,BI468=1),GM468-GX468,0)","v":0},{"$f":"IF(BI468=2,GM468-GX468,0)","v":0},{"$f":"IF(BI468=4,GM468-GX468,0)","v":0},null,0,0,0,"",{"$f":"ROUND((GT468),2)","v":0},1,{"$f":"ROUND(HC468*I468,2)","v":0},null,null,0,0,{"$f":"GV468*GW468","v":0},null,"","",null,null,null,null,null,null,"","","","","",null,0,null,null,null,null,null,null,null,null,null,null,null,null,null,null,null,null,null,0]
[17,0,null,null,"","ТЦ_62.1.01.09_77_7736281025_12.01.2026_02_64.1","Автоматический выключатель ВА 57-35 160А","ШТ",1,0,1,1,0,{"$f":"ROUND(L469-M469,4)","v":1},{"$f":"ROUND(CP469,2)","v":12603.08},{"$f":"ROUND(CQ469*I469,2)","v":12603.08},{"$f":"ROUND(CR469*I469,2)","v":0},{"$f":"ROUND(CS469*I469,2)","v":0},{"$f":"ROUND(CT469*I469,2)","v":0},{"$f":"ROUND(CU469*I469,2)","v":0},{"$f":"ROUND(CV469*I469,7)","v":0},{"$f":"ROUND(CW469*I469,7)","v":0},{"$f":"ROUND(CX469*I469,2)","v":0},{"$f":"ROUND(CY469,2)","v":0},{"$f":"ROUND(CZ469,2)","v":0},null,-1,{"$f":"ROUND((AC469+AD469+AF469),2)","v":12603.08},12603.08,0,0,0,{"$f":"ROUND((AP469),2)","v":0},{"$f":"(EW469)","v":0},{"$f":"(EX469)","v":0},{"$f":"(AS469)","v":0},12603.08,12603.08,0,0,0,0,0,0,0,0,0,1,1,null,null,1,1,1,1,"","","","",3,3,"ТЦ_62.1.01.09_77_7736281025_12.01.2026_02_64.1",null,null,902,0,"",0,92,0,1,1,1,1,1,1,"",0,0,"",null,null,0,0,0,0,0,0,0,0,0,"",0,{"$f":"(P469+Q469+S469+R469)","v":12603.08},{"$f":"ROUND(AL469,2)","v":12603.08},{"$f":"ROUND(AM469,2)","v":0},{"$f":"ROUND(AN469*BS469,2)","v":0},{"$f":"ROUND(AO469*BA469,2)","v":0},0,0,0,0,{"$f":"0","v":0},{"$f":"0","v":0},null,null,"","","","","","","","","","","",0,0,1,1,null,null,null,1013,"ШТ","ШТ",1,null,"","","","",null,83667263,92,"Оборудование, отсутствующее в СНБ",0,"",3,902,"Оборудование, отсутствующее в СНБ","Оборуд. КА",null,"",null,132112,0,12603.08,0,0,0,0,0,0,null,null,null,null,null,null,null,null,null,null,null,null,null,null,null,null,null,0,{"$f":"P469","v":12603.08},0,null,null,null,null,0,0,null,"",null,null,1,null,1925777819,2,0,-2,0,0,{"$f":"ROUND(IF(AND(BH469=3,BI469=3,FS469<>0),P469,0),2)","v":0},{"$f":"ROUND(O469+X469+Y469,2)+GX469","v":12603.08},{"$f":"IF(OR(BI469=0,BI469=1),GM469-GX469,0)","v":0},{"$f":"IF(BI469=2,GM469-GX469,0)","v":0},{"$f":"IF(BI469=4,GM469-GX469,0)","v":0},null,0,0,0,"",{"$f":"ROUND((GT469),2)","v":0},1,{"$f":"ROUND(HC469*I469,2)","v":0},null,null,0,0,{"$f":"GV469*GW469","v":0},null,"","",null,null,null,null,null,null,"","","","","",null,0,null,null,null,null,null,null,null,null,null,null,null,null,null,null,null,null,null,0]
[]
[51,{"$f":"B464","v":0},{"$f":"A464","v":4},{"$f":"ROW(A464)","v":464},null,{"$f":"IF(F464<>\"\",F464,\"\")","v":"Новый раздел"},{"$f":"IF(G464<>\"\",G464,\"\")","v":"Оборудование"},0,null,null,null,null,null,null,{"$f":"ROUND(AB471,2)","v":0},0,0,0,0,0,{"$f":"AH471","v":0},{"$f":"AI471","v":0},{"$f":"ROUND(AJ471,2)","v":0},{"$f":"ROUND(AK471,2)","v":0},{"$f":"ROUND(AL471,2)","v":0},null,null,{"$f":"ROUND(SUMIF(AA468:AA469,\"=85312357\",O468:O469),2)","v":0},{"$f":"ROUND(SUMIF(AA468:AA469,\"=85312357\",P468:P469),2)","v":0},{"$f":"ROUND(SUMIF(AA468:AA469,\"=85312357\",Q468:Q469),2)","v":0},{"$f":"ROUND(SUMIF(AA468:AA469,\"=85312357\",R468:R469),2)","v":0},{"$f":"ROUND(SUMIF(AA468:AA469,\"=85312357\",S468:S469),2)","v":0},{"$f":"ROUND(SUMIF(AA468:AA469,\"=85312357\",T468:T469),2)","v":0},{"$f":"SUMIF(AA468:AA469,\"=85312357\",U468:U469)","v":0},{"$f":"SUMIF(AA468:AA469,\"=85312357\",V468:V469)","v":0},{"$f":"ROUND(SUMIF(AA468:AA469,\"=85312357\",W468:W469),2)","v":0},{"$f":"ROUND(SUMIF(AA468:AA469,\"=85312357\",X468:X469),2)","v":0},{"$f":"ROUND(SUMIF(AA468:AA469,\"=85312357\",Y468:Y469),2)","v":0},null,null,{"$f":"ROUND(BX471,2)","v":0},0,0,0,0,0,0,0,0,0,0,0,0,0,0,0,null,null,null,null,null,null,null,null,null,null,null,null,null,null,null,null,null,null,null,{"$f":"ROUND(SUMIF(AA468:AA469,\"=85312357\",FQ468:FQ469),2)","v":0},{"$f":"ROUND(SUMIF(AA468:AA469,\"=85312357\",FR468:FR469),2)","v":0},{"$f":"ROUND(SUMIF(AA468:AA469,\"=85312357\",GL468:GL469),2)","v":0},{"$f":"ROUND(SUMIF(AA468:AA469,\"=85312357\",GM468:GM469),2)","v":0},{"$f":"ROUND(SUMIF(AA468:AA469,\"=85312357\",GN468:GN469),2)","v":0},{"$f":"ROUND(SUMIF(AA468:AA469,\"=85312357\",GO468:GO469),2)","v":0},{"$f":"ROUND(SUMIF(AA468:AA469,\"=85312357\",GP468:GP469),2)","v":0},{"$f":"AC471-BX471","v":0},{"$f":"AC471-BY471","v":0},{"$f":"BX471-BZ471","v":0},{"$f":"AC471-BX471-BY471+BZ471","v":0},{"$f":"BY471-BZ471","v":0},{"$f":"ROUND(SUMIF(AA468:AA469,\"=85312357\",GX468:GX469),2)","v":0},{"$f":"ROUND(SUMIF(AA468:AA469,\"=85312357\",GY468:GY469),2)","v":0},{"$f":"ROUND(SUMIF(AA468:AA469,\"=85312357\",GZ468:GZ469),2)","v":0},{"$f":"ROUND(SUMIF(AA468:AA469,\"=85312357\",HD468:HD469),2)","v":0},null,null,null,null,null,null,null,null,null,null,null,null,null,null,null,null,null,null,null,{"$f":"ROUND(DT471,2)","v":0},0,0,0,0,0,{"$f":"DZ471","v":0},{"$f":"EA471","v":0},{"$f":"ROUND(EB471,2)","v":0},{"$f":"ROUND(EC471,2)","v":0},{"$f":"ROUND(ED471,2)","v":0},null,null,{"$f":"ROUND(SUMIF(AA468:AA469,\"=85312298\",O468:O469),2)","v":0},{"$f":"ROUND(SUMIF(AA468:AA469,\"=85312298\",P468:P469),2)","v":0},{"$f":"ROUND(SUMIF(AA468:AA469,\"=85312298\",Q468:Q469),2)","v":0},{"$f":"ROUND(SUMIF(AA468:AA469,\"=85312298\",R468:R469),2)","v":0},{"$f":"ROUND(SUMIF(AA468:AA469,\"=85312298\",S468:S469),2)","v":0},{"$f":"ROUND(SUMIF(AA468:AA469,\"=85312298\",T468:T469),2)","v":0},{"$f":"SUMIF(AA468:AA469,\"=85312298\",U468:U469)","v":0},{"$f":"SUMIF(AA468:AA469,\"=85312298\",V468:V469)","v":0},{"$f":"ROUND(SUMIF(AA468:AA469,\"=85312298\",W468:W469),2)","v":0},{"$f":"ROUND(SUMIF(AA468:AA469,\"=85312298\",X468:X469),2)","v":0},{"$f":"ROUND(SUMIF(AA468:AA469,\"=85312298\",Y468:Y469),2)","v":0},null,null,{"$f":"ROUND(FP471,2)","v":0},0,0,0,0,0,0,0,0,0,0,0,0,0,0,0,null,null,null,null,null,null,null,null,null,null,null,null,null,null,null,null,null,null,null,{"$f":"ROUND(SUMIF(AA468:AA469,\"=85312298\",FQ468:FQ469),2)","v":0},{"$f":"ROUND(SUMIF(AA468:AA469,\"=85312298\",FR468:FR469),2)","v":0},{"$f":"ROUND(SUMIF(AA468:AA469,\"=85312298\",GL468:GL469),2)","v":0},{"$f":"ROUND(SUMIF(AA468:AA469,\"=85312298\",GM468:GM469),2)","v":0},{"$f":"ROUND(SUMIF(AA468:AA469,\"=85312298\",GN468:GN469),2)","v":0},{"$f":"ROUND(SUMIF(AA468:AA469,\"=85312298\",GO468:GO469),2)","v":0},{"$f":"ROUND(SUMIF(AA468:AA469,\"=85312298\",GP468:GP469),2)","v":0},{"$f":"DU471-FP471","v":0},{"$f":"DU471-FQ471","v":0},{"$f":"FP471-FR471","v":0},{"$f":"DU471-FP471-FQ471+FR471","v":0},{"$f":"FQ471-FR471","v":0},{"$f":"ROUND(SUMIF(AA468:AA469,\"=85312298\",GX468:GX469),2)","v":0},{"$f":"ROUND(SUMIF(AA468:AA469,\"=85312298\",GY468:GY469),2)","v":0},{"$f":"ROUND(SUMIF(AA468:AA469,\"=85312298\",GZ468:GZ469),2)","v":0},{"$f":"ROUND(SUMIF(AA468:AA469,\"=85312298\",HD468:HD469),2)","v":0},null,null,null,null,null,null,null,null,null,null,null,null,null,null,null,null,null,null,0]
[]
[50,0,0,1,201,{"$f":"ROUND(Source!O471,O473)","v":0},"ПЗ","Прямые затраты",null,null,201,1,3,"",2,{"$f":"ROUND(Source!DG471,O473)","v":0},null,null,null,null,null,null,0,1,0,0,1,0]
[50,0,0,1,202,{"$f":"ROUND(Source!P471,O474)","v":0},"СтМатОб","Стоимость материальных ресурсов (всего)",null,null,202,2,3,"",2,{"$f":"ROUND(Source!DH471,O474)","v":0},null,null,null,null,null,null,0,1,0,0,1,0]
[50,0,0,1,222,{"$f":"ROUND(Source!AO471,O475)","v":0},"СтМатОбЗак","Стоимость материалов и оборудования заказчика",null,null,222,3,3,"",2,{"$f":"ROUND(Source!EG471,O475)","v":0},null,null,null,null,null,null,0,1,0,0,1,0]
[50,0,0,1,225,{"$f":"ROUND(Source!AV471,O476)","v":0},"СтМатОбПод","Стоимость материалов и оборудования подрядчика",null,null,225,4,3,"",2,{"$f":"ROUND(Source!EN471,O476)","v":0},null,null,null,null,null,null,0,1,0,0,1,0]
[50,0,0,1,226,{"$f":"ROUND(Source!AW471,O477)","v":0},"СтМат","Стоимость материалов (всего)",null,null,226,5,3,"",2,{"$f":"ROUND(Source!EO471,O477)","v":0},null,null,null,null,null,null,0,1,0,0,1,0]
[50,0,0,1,227,{"$f":"ROUND(Source!AX471,O478)","v":0},"СтМатЗак","Стоимость материалов заказчика",null,null,227,6,3,"",2,{"$f":"ROUND(Source!EP471,O478)","v":0},null,null,null,null,null,null,0,1,0,0,1,0]
[50,0,0,1,228,{"$f":"ROUND(Source!AY471,O479)","v":0},"СтМатПод","Стоимость материалов подрядчика",null,null,228,7,3,"",2,{"$f":"ROUND(Source!EQ471,O479)","v":0},null,null,null,null,null,null,0,1,0,0,1,0]
[50,0,0,1,216,{"$f":"ROUND(Source!AP471,O480)","v":0},"Оборуд","Стоимость оборудования (всего)",null,null,216,8,3,"",2,{"$f":"ROUND(Source!EH471,O480)","v":0},null,null,null,null,null,null,0,1,0,0,1,0]
[50,0,0,1,223,{"$f":"ROUND(Source!AQ471,O481)","v":0},"ОборудЗак","Стоимость оборудования заказчика",null,null,223,9,3,"",2,{"$f":"ROUND(Source!EI471,O481)","v":0},null,null,null,null,null,null,0,1,0,0,1,0]
[50,0,0,1,229,{"$f":"ROUND(Source!AZ471,O482)","v":0},"ОборудПод","Стоимость оборудования подрядчика",null,null,229,10,3,"",2,{"$f":"ROUND(Source!ER471,O482)","v":0},null,null,null,null,null,null,0,1,0,0,1,0]
[50,0,0,1,203,{"$f":"ROUND(Source!Q471,O483)","v":0},"ЭММ","Эксплуатация машин",null,null,203,11,3,"",2,{"$f":"ROUND(Source!DI471,O483)","v":0},null,null,null,null,null,null,0,1,0,0,1,0]
[50,0,0,1,231,{"$f":"ROUND(Source!BB471,O484)","v":0},"ЭММсНРиСП","Эксплуатация машин по ТСН-2001.16",null,null,231,12,3,"",2,{"$f":"ROUND(Source!ET471,O484)","v":0},null,null,null,null,null,null,0,1,0,0,1,0]
[50,0,0,1,204,{"$f":"ROUND(Source!R471,O485)","v":0},"ЗПМ","ЗП машинистов",null,null,204,13,3,"",2,{"$f":"ROUND(Source!DJ471,O485)","v":0},null,null,null,null,null,null,0,1,0,0,1,0]
[50,0,0,1,205,{"$f":"ROUND(Source!S471,O486)","v":0},"ОЗП","Основная ЗП рабочих",null,null,205,14,3,"",2,{"$f":"ROUND(Source!DK471,O486)","v":0},null,null,null,null,null,null,0,1,0,0,1,0]
[50,0,0,1,232,{"$f":"ROUND(Source!BC471,O487)","v":0},"ОЗПсНРиСП","Основная ЗП рабочих по ТСН-2001.16",null,null,232,15,3,"",2,{"$f":"ROUND(Source!EU471,O487)","v":0},null,null,null,null,null,null,0,1,0,0,1,0]
[50,0,0,1,214,{"$f":"ROUND(Source!AS471,O488)","v":0},"Строит","Строительные работы с НР и СП",null,null,214,16,3,"",2,{"$f":"ROUND(Source!EK471,O488)","v":0},null,null,null,null,null,null,0,1,0,0,1,0]
[50,0,0,1,215,{"$f":"ROUND(Source!AT471,O489)","v":0},"Монтаж","Монтажные работы с НР и СП",null,null,215,17,3,"",2,{"$f":"ROUND(Source!EL471,O489)","v":0},null,null,null,null,null,null,0,1,0,0,1,0]
[50,0,0,1,217,{"$f":"ROUND(Source!AU471,O490)","v":0},"Прочие","Прочие работы с НР и СП",null,null,217,18,3,"",2,{"$f":"ROUND(Source!EM471,O490)","v":0},null,null,null,null,null,null,0,1,0,0,1,0]
[50,0,0,1,230,{"$f":"ROUND(Source!BA471,O491)","v":0},"ПрочиеЗатр","Прочие затраты по ТСН-2001.16",null,null,230,19,3,"",2,{"$f":"ROUND(Source!ES471,O491)","v":0},null,null,null,null,null,null,0,1,0,0,1,0]
[50,0,0,1,206,{"$f":"ROUND(Source!T471,O492)","v":0},"ВозврМат","Возврат материалов",null,null,206,20,3,"",2,{"$f":"ROUND(Source!DL471,O492)","v":0},null,null,null,null,null,null,0,1,0,0,1,0]
[50,0,0,1,207,{"$f":"ROUND(Source!U471,O493)","v":0},"ТрудСтр","Трудозатраты строителей",null,null,207,21,3,"",7,{"$f":"ROUND(Source!DM471,O493)","v":0},null,null,null,null,null,null,0,1,0,0,1,0]
[50,0,0,1,208,{"$f":"ROUND(Source!V471,O494)","v":0},"ТрудМаш","Трудозатраты машинистов",null,null,208,22,3,"",7,{"$f":"ROUND(Source!DN471,O494)","v":0},null,null,null,null,null,null,0,1,0,0,1,0]
[50,0,0,1,209,{"$f":"ROUND(Source!W471,O495)","v":0},"ТранспМат","Транспорт материалов",null,null,209,23,3,"",2,{"$f":"ROUND(Source!DO471,O495)","v":0},null,null,null,null,null,null,0,1,0,0,1,0]
[50,0,0,1,233,{"$f":"ROUND(Source!BD471,O496)","v":0},"Перевозка","Перевозка грузов",null,null,233,24,3,"",2,{"$f":"ROUND(Source!EV471,O496)","v":0},null,null,null,null,null,null,0,1,0,0,1,0]
[50,0,0,1,210,{"$f":"ROUND(Source!X471,O497)","v":0},"НР","Накладные расходы",null,null,210,25,3,"",2,{"$f":"ROUND(Source!DP471,O497)","v":0},null,null,null,null,null,null,0,1,0,0,1,0]
[50,0,0,1,211,{"$f":"ROUND(Source!Y471,O498)","v":0},"СмПриб","Сметная прибыль",null,null,211,26,3,"",2,{"$f":"ROUND(Source!DQ471,O498)","v":0},null,null,null,null,null,null,0,1,0,0,1,0]
[50,0,0,1,224,{"$f":"ROUND(Source!AR471,O499)","v":0},"Всего","Всего с НР и СП",null,null,224,27,3,"",2,{"$f":"ROUND(Source!EJ471,O499)","v":0},null,null,null,null,null,null,0,1,0,0,1,0]
[]
[51,{"$f":"B20","v":1},{"$f":"A20","v":3},{"$f":"ROW(A20)","v":20},null,{"$f":"IF(F20<>\"\",F20,\"\")","v":"02-01-01"},{"$f":"IF(G20<>\"\",G20,\"\")","v":"Строительство ВЛИ-0,4 кВ"},0,null,null,null,null,null,null,{"$f":"ROUND(O254+O319+O434+O471+AB501,2)","v":58116.49},29388.89,1217.03,1436.26,26074.31,0,{"$f":"U254+U319+U434+U471+AH501","v":33.571776},{"$f":"V254+V319+V434+V471+AI501","v":1.6946664},{"$f":"ROUND(W254+W319+W434+W471+AJ501,2)","v":0},{"$f":"ROUND(X254+X319+X434+X471+AK501,2)","v":26808.86},{"$f":"ROUND(Y254+Y319+Y434+Y471+AL501,2)","v":14139.13},null,null,null,null,null,null,null,null,null,null,null,null,null,null,null,{"$f":"ROUND(AO254+AO319+AO434+AO471+BX501,2)","v":0},0,0,99064.48,51884.9,47179.58,0,29388.89,29388.89,0,29388.89,0,0,0,0,0,null,null,null,null,null,null,null,null,null,null,null,null,null,null,null,null,null,null,null,null,null,null,null,null,null,null,null,null,null,null,null,null,null,null,null,null,null,null,null,null,null,null,null,null,null,null,null,null,null,null,null,null,null,null,{"$f":"ROUND(DG254+DG319+DG434+DG471+DT501,2)","v":58116.49},29388.89,1217.03,1436.26,26074.31,0,{"$f":"DM254+DM319+DM434+DM471+DZ501","v":33.571776},{"$f":"DN254+DN319+DN434+DN471+EA501","v":1.6946664},{"$f":"ROUND(DO254+DO319+DO434+DO471+EB501,2)","v":0},{"$f":"ROUND(DP254+DP319+DP434+DP471+EC501,2)","v":26808.86},{"$f":"ROUND(DQ254+DQ319+DQ434+DQ471+ED501,2)","v":14139.13},null,null,null,null,null,null,null,null,null,null,null,null,null,null,null,{"$f":"ROUND(EG254+EG319+EG434+EG471+FP501,2)","v":0},0,0,99064.48,51884.9,47179.58,0,29388.89,29388.89,0,29388.89,0,0,0,0,0,null,null,null,null,null,null,null,null,null,null,null,null,null,null,null,null,null,null,null,null,null,null,null,null,null,null,null,null,null,null,null,null,null,null,null,null,null,null,null,null,null,null,null,null,null,null,null,null,null,null,null,null,null,0]
[]
[50,0,0,1,201,{"$f":"ROUND(Source!O501,O503)","v":58116.49},"ПЗ","Прямые затраты",null,null,201,1,3,"",2,{"$f":"ROUND(Source!DG501,O503)","v":58116.49},null,null,null,null,null,null,58116.49,1,58116.49,58116.49,1,58116.49]
[50,0,0,1,202,{"$f":"ROUND(Source!P501,O504)","v":29388.89},"СтМатОб","Стоимость материальных ресурсов (всего)",null,null,202,2,3,"",2,{"$f":"ROUND(Source!DH501,O504)","v":29388.89},null,null,null,null,null,null,29388.89,1,29388.89,29388.89,1,29388.89]
[50,0,0,1,222,{"$f":"ROUND(Source!AO501,O505)","v":0},"СтМатОбЗак","Стоимость материалов и оборудования заказчика",null,null,222,3,3,"",2,{"$f":"ROUND(Source!EG501,O505)","v":0},null,null,null,null,null,null,0,1,0,0,1,0]
[50,0,0,1,225,{"$f":"ROUND(Source!AV501,O506)","v":29388.89},"СтМатОбПод","Стоимость материалов и оборудования подрядчика",null,null,225,4,3,"",2,{"$f":"ROUND(Source!EN501,O506)","v":29388.89},null,null,null,null,null,null,29388.89,1,29388.89,29388.89,1,29388.89]
[50,0,0,1,226,{"$f":"ROUND(Source!AW501,O507)","v":29388.89},"СтМат","Стоимость материалов (всего)",null,null,226,5,3,"",2,{"$f":"ROUND(Source!EO501,O507)","v":29388.89},null,null,null,null,null,null,29388.89,1,29388.89,29388.89,1,29388.89]
[50,0,0,1,227,{"$f":"ROUND(Source!AX501,O508)","v":0},"СтМатЗак","Стоимость материалов заказчика",null,null,227,6,3,"",2,{"$f":"ROUND(Source!EP501,O508)","v":0},null,null,null,null,null,null,0,1,0,0,1,0]
[50,0,0,1,228,{"$f":"ROUND(Source!AY501,O509)","v":29388.89},"СтМатПод","Стоимость материалов подрядчика",null,null,228,7,3,"",2,{"$f":"ROUND(Source!EQ501,O509)","v":29388.89},null,null,null,null,null,null,29388.89,1,29388.89,29388.89,1,29388.89]
[50,0,0,1,216,{"$f":"ROUND(Source!AP501,O510)","v":0},"Оборуд","Стоимость оборудования (всего)",null,null,216,8,3,"",2,{"$f":"ROUND(Source!EH501,O510)","v":0},null,null,null,null,null,null,0,1,0,0,1,0]
[50,0,0,1,223,{"$f":"ROUND(Source!AQ501,O511)","v":0},"ОборудЗак","Стоимость оборудования заказчика",null,null,223,9,3,"",2,{"$f":"ROUND(Source!EI501,O511)","v":0},null,null,null,null,null,null,0,1,0,0,1,0]
[50,0,0,1,229,{"$f":"ROUND(Source!AZ501,O512)","v":0},"ОборудПод","Стоимость оборудования подрядчика",null,null,229,10,3,"",2,{"$f":"ROUND(Source!ER501,O512)","v":0},null,null,null,null,null,null,0,1,0,0,1,0]
[50,0,0,1,203,{"$f":"ROUND(Source!Q501,O513)","v":1217.03},"ЭММ","Эксплуатация машин",null,null,203,11,3,"",2,{"$f":"ROUND(Source!DI501,O513)","v":1217.03},null,null,null,null,null,null,1217.0300000000002,1,1217.0300000000002,1217.0300000000002,1,1217.0300000000002]
[50,0,0,1,231,{"$f":"ROUND(Source!BB501,O514)","v":0},"ЭММсНРиСП","Эксплуатация машин по ТСН-2001.16",null,null,231,12,3,"",2,{"$f":"ROUND(Source!ET501,O514)","v":0},null,null,null,null,null,null,0,1,0,0,1,0]
[50,0,0,1,204,{"$f":"ROUND(Source!R501,O515)","v":1436.26},"ЗПМ","ЗП машинистов",null,null,204,13,3,"",2,{"$f":"ROUND(Source!DJ501,O515)","v":1436.26},null,null,null,null,null,null,1436.2600000000002,1,1436.2600000000002,1436.2600000000002,1,1436.2600000000002]
[50,0,0,1,205,{"$f":"ROUND(Source!S501,O516)","v":26074.31},"ОЗП","Основная ЗП рабочих",null,null,205,14,3,"",2,{"$f":"ROUND(Source!DK501,O516)","v":26074.31},null,null,null,null,null,null,26074.309999999998,1,26074.309999999998,26074.309999999998,1,26074.309999999998]
[50,0,0,1,232,{"$f":"ROUND(Source!BC501,O517)","v":0},"ОЗПсНРиСП","Основная ЗП рабочих по ТСН-2001.16",null,null,232,15,3,"",2,{"$f":"ROUND(Source!EU501,O517)","v":0},null,null,null,null,null,null,0,1,0,0,1,0]
[50,0,0,1,214,{"$f":"ROUND(Source!AS501,O518)+0.03","v":51884.93},"Строит","Строительные работы с НР и СП",null,null,214,16,3,"",2,{"$f":"ROUND(Source!EK501,O518)","v":51884.9},null,null,null,null,null,null,51884.9,1,51884.9,51884.9,1,51884.9]
[50,0,0,1,215,{"$f":"ROUND(Source!AT501,O519)","v":47179.58},"Монтаж","Монтажные работы с НР и СП",null,null,215,17,3,"",2,{"$f":"ROUND(Source!EL501,O519)","v":47179.58},null,null,null,null,null,null,47179.58,1,47179.58,47179.58,1,47179.58]
[50,0,0,1,217,{"$f":"ROUND(Source!AU501,O520)","v":0},"Прочие","Прочие работы с НР и СП",null,null,217,18,3,"",2,{"$f":"ROUND(Source!EM501,O520)","v":0},null,null,null,null,null,null,0,1,0,0,1,0]
[50,0,0,1,230,{"$f":"ROUND(Source!BA501,O521)","v":0},"ПрочиеЗатр","Прочие затраты по ТСН-2001.16",null,null,230,19,3,"",2,{"$f":"ROUND(Source!ES501,O521)","v":0},null,null,null,null,null,null,0,1,0,0,1,0]
[50,0,0,1,206,{"$f":"ROUND(Source!T501,O522)","v":0},"ВозврМат","Возврат материалов",null,null,206,20,3,"",2,{"$f":"ROUND(Source!DL501,O522)","v":0},null,null,null,null,null,null,0,1,0,0,1,0]
[50,0,0,1,207,{"$f":"ROUND(Source!U501,O523)","v":33.571776},"ТрудСтр","Трудозатраты строителей",null,null,207,21,3,"",7,{"$f":"ROUND(Source!DM501,O523)","v":33.571776},null,null,null,null,null,null,33.571776,1,33.571776,33.571776,1,33.571776]
[50,0,0,1,208,{"$f":"ROUND(Source!V501,O524)","v":1.6946664},"ТрудМаш","Трудозатраты машинистов",null,null,208,22,3,"",7,{"$f":"ROUND(Source!DN501,O524)","v":1.6946664},null,null,null,null,null,null,1.6946664,1,1.6946664,1.6946664,1,1.6946664]
[50,0,0,1,209,{"$f":"ROUND(Source!W501,O525)","v":0},"ТранспМат","Транспорт материалов",null,null,209,23,3,"",2,{"$f":"ROUND(Source!DO501,O525)","v":0},null,null,null,null,null,null,0,1,0,0,1,0]
[50,0,0,1,233,{"$f":"ROUND(Source!BD501,O526)","v":0},"Перевозка","Перевозка грузов",null,null,233,24,3,"",2,{"$f":"ROUND(Source!EV501,O526)","v":0},null,null,null,null,null,null,0,1,0,0,1,0]
[50,0,0,1,210,{"$f":"ROUND(Source!X501,O527)","v":26808.86},"НР","Накладные расходы",null,null,210,25,3,"",2,{"$f":"ROUND(Source!DP501,O527)","v":26808.86},null,null,null,null,null,null,26808.86,1,26808.86,26808.86,1,26808.86]
[50,0,0,1,211,{"$f":"ROUND(Source!Y501,O528)","v":14139.13},"СмПриб","Сметная прибыль",null,null,211,26,3,"",2,{"$f":"ROUND(Source!DQ501,O528)","v":14139.13},null,null,null,null,null,null,14139.13,1,14139.13,14139.13,1,14139.13]
[50,0,0,1,224,{"$f":"ROUND(Source!AR501,O529)","v":99064.48},"Всего","Всего с НР и СП",null,null,224,27,3,"",2,{"$f":"ROUND(Source!EJ501,O529)","v":99064.48},null,null,null,null,null,null,99064.48000000001,1,99064.48000000001,99064.48000000001,1,99064.48000000001]
[50,1,0,2,0,{"$f":"ROUND(F529,O530)","v":99064.48},"и1","Итого",null,null,212,28,0,"",2,{"$f":"ROUND(P529,O530)","v":99064.48},null,null,null,null,null,null,99064.48,1,99064.48,99064.48,1,99064.48]
[50,1,0,2,0,{"$f":"ROUND(F530*0.2,O531)","v":19812.900000000001},"и2","НДС 20%",null,null,212,29,0,"",2,{"$f":"ROUND(P530*0.2,O531)","v":19812.900000000001},null,null,null,null,null,null,19812.900000000001,1,19812.900000000001,19812.900000000001,1,19812.900000000001]
[50,1,0,2,213,{"$f":"ROUND(F530+F531,O532)","v":118877.38},"и3","Всего",null,null,212,30,0,"",2,{"$f":"ROUND(P530+P531,O532)","v":118877.38},null,null,null,null,null,null,118877.38,1,118877.38,118877.38,1,118877.38]
[]
[3,1,null,{"$f":"ROW(A597)","v":597},null,"09-01-01","ПНР ВЛИ-0,4 кВ","",0,"",-1,"09-01-01","",null,null,null,null,null,0,0,"",0,null,null,null,null,null,"","","","","","",null,null,null,null,null,null,null,null,"","","",null,null,null,null,null,null,null,"",null,"","","","","","","","","","","","","","","",null,null,null,null,null,null,null,0,null,null,null,null,null,null,null,0,0,null,"","","","","","","","",""]
[]
[52,{"$f":"B597","v":1},3,534,0,"09-01-01","ПНР ВЛИ-0,4 кВ",null,null,null,null,null,null,null,{"$f":"O597","v":15601.67},0,0,0,15601.67,0,14.468159999999999,0,0,11545.24,5616.61,0,0,0,0,0,0,0,0,0,0,0,0,0,0,0,0,0,0,32763.52,0,0,{"$f":"AU597","v":32763.52},0,0,0,0,0,0,0,0,0,0,0,0,0,0,0,0,0,0,0,0,0,0,0,0,0,0,0,0,0,0,0,{"$f":"CA597","v":0},0,0,0,0,0,0,0,0,0,0,0,0,0,0,0,0,0,0,0,0,0,0,0,0,0,0,0,0,0,0,0,{"$f":"DG597","v":15601.67},0,0,0,15601.67,0,14.468159999999999,0,0,11545.24,5616.61,0,0,0,0,0,0,0,0,0,0,0,0,0,0,0,0,0,0,32763.52,0,0,{"$f":"EM597","v":32763.52},0,0,0,0,0,0,0,0,0,0,0,0,0,0,0,0,0,0,0,0,0,0,0,0,0,0,0,0,0,0,0,{"$f":"FS597","v":0},0,0,0,0,0,0,0,0,0,0,0,0,0,0,0,0,0,0,0,0,0,0,0,0,0,0,0,0,0,0,0]
[]
[4,1,null,{"$f":"ROW(A567)","v":567},null,"Новый раздел","ПНР","",0,null,0,null,"",null,null,null,null,null,0,0,"",0,null,null,null,null,null,"","","","","","",null,null,null,null,null,null,null,null,"","","",null,null,null,null,null,null,null,"",null,"","","","","","","","","","","","","","","",null,null,null,null,null,null,null,0,null,null,null,null,null,null,null,null,null,null,null,0]
[]
[52,{"$f":"B567","v":1},4,538,0,"Новый раздел","ПНР",null,null,null,null,null,null,null,{"$f":"O567","v":15601.67},0,0,0,15601.67,0,14.468159999999999,0,0,11545.24,5616.61,0,0,15601.67,0,0,0,15601.67,0,14.468159999999999,0,0,11545.24,5616.61,0,0,0,0,0,32763.52,0,0,{"$f":"AU567","v":32763.52},0,0,0,0,0,0,0,0,0,0,0,0,0,0,0,0,0,0,0,0,0,0,0,0,0,0,0,0,0,0,0,{"$f":"CA567","v":32763.52},0,0,32763.52,0,0,0,0,0,0,0,0,0,0,0,0,0,0,0,0,0,0,0,0,0,0,0,0,0,0,0,0,{"$f":"DG567","v":15601.67},0,0,0,15601.67,0,14.468159999999999,0,0,11545.24,5616.61,0,0,15601.67,0,0,0,15601.67,0,14.468159999999999,0,0,11545.24,5616.61,0,0,0,0,0,32763.52,0,0,{"$f":"EM567","v":32763.52},0,0,0,0,0,0,0,0,0,0,0,0,0,0,0,0,0,0,0,0,0,0,0,0,0,0,0,0,0,0,0,{"$f":"FS567","v":32763.52},0,0,32763.52,0,0,0,0,0,0,0,0,0,0,0,0,0,0,0,0,0,0,0,0,0,0,0,0,0,0,0,0]
[]
[17,1,{"$f":"ROW(SmtRes!A642)","v":642},{"$f":"ROW(EtalonRes!A642)","v":642},"1","п01-11-010-01","Измерение сопротивления растеканию тока: заземлителя","измерение",4,0,4,4,0,{"$f":"ROUND(L542-M542,4)","v":4},{"$f":"ROUND(CP542,2)","v":5176.05},{"$f":"SUMIF(SmtRes!AQ641:'SmtRes'!AQ642,\"=1\",SmtRes!DF641:'SmtRes'!DF642)","v":0},{"$f":"SUMIF(SmtRes!AQ641:'SmtRes'!AQ642,\"=1\",SmtRes!DG641:'SmtRes'!DG642)","v":0},{"$f":"SUMIF(SmtRes!AQ641:'SmtRes'!AQ642,\"=1\",SmtRes!DH641:'SmtRes'!DH642)","v":0},{"$f":"SUMIF(SmtRes!AQ641:'SmtRes'!AQ642,\"=1\",SmtRes!DI641:'SmtRes'!DI642)","v":5176.0499999999993},{"$f":"ROUND(CU542*I542,2)","v":0},{"$f":"SUMIF(SmtRes!AQ641:'SmtRes'!AQ642,\"=1\",SmtRes!CV641:'SmtRes'!CV642)","v":4.8},{"$f":"SUMIF(SmtRes!AQ641:'SmtRes'!AQ642,\"=1\",SmtRes!CW641:'SmtRes'!CW642)","v":0},{"$f":"ROUND(CX542*I542,2)","v":0},{"$f":"ROUND(CY542,2)","v":3830.28},{"$f":"ROUND(CZ542,2)","v":1863.38},null,85312357,{"$f":"ROUND((AC542+AD542+AF542),2)","v":1294.01},{"$f":"ROUND((0),2)","v":0},{"$f":"ROUND((((0)-(0))+AE542),2)","v":0},{"$f":"ROUND((0),2)","v":0},{"$f":"ROUND((SUM(SmtRes!BT641:'SmtRes'!BT642)),2)","v":1294.01},{"$f":"ROUND((AP542),2)","v":0},{"$f":"(SUM(SmtRes!BU641:'SmtRes'!BU642))","v":1.2},{"$f":"(0)","v":0},{"$f":"(AS542)","v":0},1078.345,0,0,0,1078.345,0,1,0,0,74,36,1,1,null,null,1,1,1,1,"","","","",0,4,"ГЭСНп-2022, п01-11-010-01, приказ Минстроя России от 18.05.2022 г. № 378/пр",null,null,200001,0,"",0,4,0,1,1,1,1,1,1,"",74,36,"",null,null,0,0,0,1,0,0,0,0,0,"Поправка: 421/пр_2020_прил.10_т.1_п.4_гр.3 Наименование: Производство работ осуществляется в охранной зоне действующей воздушной линии электропередачи, вблизи объектов, находящихся под напряжением, внутри объектов капитального строительства, внутренняя проводка в которых не обесточена, если это приведет к ограничению действий рабочих в соответствии с требованиями техники безопасности",0,{"$f":"(P542+Q542+S542+R542)","v":5176.0499999999993},{"$f":"SUMIF(SmtRes!AQ641:'SmtRes'!AQ642,\"=1\",SmtRes!AA641:'SmtRes'!AA642)","v":0},{"$f":"SUMIF(SmtRes!AQ641:'SmtRes'!AQ642,\"=1\",SmtRes!AB641:'SmtRes'!AB642)","v":0},{"$f":"SUMIF(SmtRes!AQ641:'SmtRes'!AQ642,\"=1\",SmtRes!AC641:'SmtRes'!AC642)","v":0},{"$f":"SUMIF(SmtRes!AQ641:'SmtRes'!AQ642,\"=1\",SmtRes!AD641:'SmtRes'!AD642)","v":2156.69},{"$f":"AG542","v":0},{"$f":"SUMIF(SmtRes!AQ641:'SmtRes'!AQ642,\"=1\",SmtRes!BU641:'SmtRes'!BU642)","v":1.2},{"$f":"SUMIF(SmtRes!AQ641:'SmtRes'!AQ642,\"=1\",SmtRes!BV641:'SmtRes'!BV642)","v":0},{"$f":"AJ542","v":0},{"$f":"(((S542+R542)*AT542)/100)","v":3830.2769999999996},{"$f":"(((S542+R542)*AU542)/100)","v":1863.3779999999999},null,37,"","","*(0,2+1)","*(0,2+1)","*(0,2+1)","","*(0,2+1)","*(0,2+1)","","","",0,0,1,1,null,null,null,1013,"измерение","измерение",1,null,"","","","",null,83666744,4,"Пусконаладочные работы",83,"Пусконаладочные работы",4,200001,"Пусконаладочные работы Электротехнические устройства","ФЕРп",null,"Поправка: 421/пр_2020_прил.10_т.1_п.4_гр.3",null,131072,0,0,0,0,0,1,0,0,null,null,null,null,null,null,null,null,null,null,null,null,null,null,null,null,null,0,0,0,null,null,null,null,74,36,null,"",null,null,1,null,-888698134,2,1,-2,0,0,{"$f":"ROUND(IF(AND(BH542=3,BI542=3,FS542<>0),P542,0),2)","v":0},{"$f":"ROUND(O542+X542+Y542,2)+GX542","v":10869.71},{"$f":"IF(OR(BI542=0,BI542=1),GM542-GX542,0)","v":0},{"$f":"IF(BI542=2,GM542-GX542,0)","v":0},{"$f":"IF(BI542=4,GM542-GX542,0)","v":10869.71},null,0,3,0,"",{"$f":"ROUND((GT542),2)","v":0},1,{"$f":"ROUND(HC542*I542,2)","v":0},null,null,0,0,{"$f":"GV542*GW542","v":0},null,"","",null,null,null,null,null,null,"","Пр/812-083.0-1","Пр/774-083.0","Пусконаладочные работы","Пусконаладочные работы",null,0,null,null,null,null,null,null,null,null,null,null,null,null,null,null,null,null,null,0]
[17,1,{"$f":"ROW(SmtRes!A644)","v":644},{"$f":"ROW(EtalonRes!A644)","v":644},"1","п01-11-010-01","Измерение сопротивления растеканию тока: заземлителя","измерение",4,0,4,4,0,{"$f":"ROUND(L543-M543,4)","v":4},{"$f":"ROUND(CP543,2)","v":5176.05},{"$f":"SUMIF(SmtRes!AQ643:'SmtRes'!AQ644,\"=1\",SmtRes!DF643:'SmtRes'!DF644)","v":0},{"$f":"SUMIF(SmtRes!AQ643:'SmtRes'!AQ644,\"=1\",SmtRes!DG643:'SmtRes'!DG644)","v":0},{"$f":"SUMIF(SmtRes!AQ643:'SmtRes'!AQ644,\"=1\",SmtRes!DH643:'SmtRes'!DH644)","v":0},{"$f":"SUMIF(SmtRes!AQ643:'SmtRes'!AQ644,\"=1\",SmtRes!DI643:'SmtRes'!DI644)","v":5176.0499999999993},{"$f":"ROUND(CU543*I543,2)","v":0},{"$f":"SUMIF(SmtRes!AQ643:'SmtRes'!AQ644,\"=1\",SmtRes!CV643:'SmtRes'!CV644)","v":4.8},{"$f":"SUMIF(SmtRes!AQ643:'SmtRes'!AQ644,\"=1\",SmtRes!CW643:'SmtRes'!CW644)","v":0},{"$f":"ROUND(CX543*I543,2)","v":0},{"$f":"ROUND(CY543,2)","v":3830.28},{"$f":"ROUND(CZ543,2)","v":1863.38},null,85312298,{"$f":"ROUND((AC543+AD543+AF543),2)","v":1294.01},{"$f":"ROUND((0),2)","v":0},{"$f":"ROUND((((0)-(0))+AE543),2)","v":0},{"$f":"ROUND((0),2)","v":0},{"$f":"ROUND((SUM(SmtRes!BT643:'SmtRes'!BT644)),2)","v":1294.01},{"$f":"ROUND((AP543),2)","v":0},{"$f":"(SUM(SmtRes!BU643:'SmtRes'!BU644))","v":1.2},{"$f":"(0)","v":0},{"$f":"(AS543)","v":0},1078.345,0,0,0,1078.345,0,1,0,0,74,36,1,1,null,null,1,1,1,1,"","","","",0,4,"ГЭСНп-2022, п01-11-010-01, приказ Минстроя России от 18.05.2022 г. № 378/пр",null,null,200001,0,"",0,4,0,1,1,1,1,1,1,"",74,36,"",null,null,0,0,0,1,0,0,0,0,0,"Поправка: 421/пр_2020_прил.10_т.1_п.4_гр.3 Наименование: Производство работ осуществляется в охранной зоне действующей воздушной линии электропередачи, вблизи объектов, находящихся под напряжением, внутри объектов капитального строительства, внутренняя проводка в которых не обесточена, если это приведет к ограничению действий рабочих в соответствии с требованиями техники безопасности",0,{"$f":"(P543+Q543+S543+R543)","v":5176.0499999999993},{"$f":"SUMIF(SmtRes!AQ643:'SmtRes'!AQ644,\"=1\",SmtRes!AA643:'SmtRes'!AA644)","v":0},{"$f":"SUMIF(SmtRes!AQ643:'SmtRes'!AQ644,\"=1\",SmtRes!AB643:'SmtRes'!AB644)","v":0},{"$f":"SUMIF(SmtRes!AQ643:'SmtRes'!AQ644,\"=1\",SmtRes!AC643:'SmtRes'!AC644)","v":0},{"$f":"SUMIF(SmtRes!AQ643:'SmtRes'!AQ644,\"=1\",SmtRes!AD643:'SmtRes'!AD644)","v":2156.69},{"$f":"AG543","v":0},{"$f":"SUMIF(SmtRes!AQ643:'SmtRes'!AQ644,\"=1\",SmtRes!BU643:'SmtRes'!BU644)","v":1.2},{"$f":"SUMIF(SmtRes!AQ643:'SmtRes'!AQ644,\"=1\",SmtRes!BV643:'SmtRes'!BV644)","v":0},{"$f":"AJ543","v":0},{"$f":"(((S543+R543)*AT543)/100)","v":3830.2769999999996},{"$f":"(((S543+R543)*AU543)/100)","v":1863.3779999999999},null,38,"","","*(0,2+1)","*(0,2+1)","*(0,2+1)","","*(0,2+1)","*(0,2+1)","","","",0,0,1,1,null,null,null,1013,"измерение","измерение",1,null,"","","","",null,83666744,4,"Пусконаладочные работы",83,"Пусконаладочные работы",4,200001,"Пусконаладочные работы Электротехнические устройства","ФЕРп",null,"Поправка: 421/пр_2020_прил.10_т.1_п.4_гр.3",null,131072,0,0,0,0,0,1,0,0,null,null,null,null,null,null,null,null,null,null,null,null,null,null,null,null,null,0,0,0,null,null,null,null,74,36,null,"",null,null,1,null,-888698134,2,1,-2,0,0,{"$f":"ROUND(IF(AND(BH543=3,BI543=3,FS543<>0),P543,0),2)","v":0},{"$f":"ROUND(O543+X543+Y543,2)+GX543","v":10869.71},{"$f":"IF(OR(BI543=0,BI543=1),GM543-GX543,0)","v":0},{"$f":"IF(BI543=2,GM543-GX543,0)","v":0},{"$f":"IF(BI543=4,GM543-GX543,0)","v":10869.71},null,0,3,0,"",{"$f":"ROUND((GT543),2)","v":0},1,{"$f":"ROUND(HC543*I543,2)","v":0},null,null,0,0,{"$f":"GV543*GW543","v":0},null,"","",null,null,null,null,null,null,"","Пр/812-083.0-1","Пр/774-083.0","Пусконаладочные работы","Пусконаладочные работы",null,0,null,null,null,null,null,null,null,null,null,null,null,null,null,null,null,null,null,0]
[19,1,null,null,null,"","Объем берется из кол-ва заземляющих стоек. Сколько заземляющих стоек, столько и в кол-ве","",null,null,null,null,null,null,null,null,null,null,null,null,null,null,null,null,null,null,1,null,null,null,null,null,null,null,null,null,null,null,null,null,null,null,null,null,null,null,null,null,null,null,null,null,null,null,null,null,null,null,null,null,null,null,null,null,null,null,null,null,null,null,null,null,null,null,null,null,null,null,null,null,null,null,null,null,null,null,null,null,null,null,null,null,null,null,null,null,null,null,null,null,null,null,null,null,null,null,null,null,null,null,null,null,null,null,null,null,null,null,null,null,null,null,null,null,null,null,null,null,null,null,null,null,null,null,null,null,null,null,null,null,null,null,null,null,null,null,null,null,null,null,null,null,null,null,null,null,null,null,null,null,null,null,null,null,null,null,null,null,null,null,null,null,null,null,null,null,null,null,null,null,null,null,null,null,null,null,null,null,null,null,null,null,null,null,null,null,null,null,null,null,null,null,null,null,null,null,null,null,null,null,null,null,null,null,null,null,null,null,null,null,null,null,null,null,null,null,null,null,null,null,null,null,null,null,null,null,null,null,null,null,null,null,null,null,0]
[17,1,{"$f":"ROW(SmtRes!A646)","v":646},{"$f":"ROW(EtalonRes!A646)","v":646},"2","п01-11-011-01","Проверка наличия цепи между заземлителями и заземленными элементами","100 измерений",0.08,0,0.08,0.08,0,{"$f":"ROUND(L545-M545,4)","v":0.08},{"$f":"ROUND(CP545,2)","v":1341.63},{"$f":"SUMIF(SmtRes!AQ645:'SmtRes'!AQ646,\"=1\",SmtRes!DF645:'SmtRes'!DF646)","v":0},{"$f":"SUMIF(SmtRes!AQ645:'SmtRes'!AQ646,\"=1\",SmtRes!DG645:'SmtRes'!DG646)","v":0},{"$f":"SUMIF(SmtRes!AQ645:'SmtRes'!AQ646,\"=1\",SmtRes!DH645:'SmtRes'!DH646)","v":0},{"$f":"SUMIF(SmtRes!AQ645:'SmtRes'!AQ646,\"=1\",SmtRes!DI645:'SmtRes'!DI646)","v":1341.63},{"$f":"ROUND(CU545*I545,2)","v":0},{"$f":"SUMIF(SmtRes!AQ645:'SmtRes'!AQ646,\"=1\",SmtRes!CV645:'SmtRes'!CV646)","v":1.2441599999999999},{"$f":"SUMIF(SmtRes!AQ645:'SmtRes'!AQ646,\"=1\",SmtRes!CW645:'SmtRes'!CW646)","v":0},{"$f":"ROUND(CX545*I545,2)","v":0},{"$f":"ROUND(CY545,2)","v":992.81},{"$f":"ROUND(CZ545,2)","v":482.99},null,85312357,{"$f":"ROUND((AC545+AD545+AF545),2)","v":16770.419999999998},{"$f":"ROUND((0),2)","v":0},{"$f":"ROUND((((0)-(0))+AE545),2)","v":0},{"$f":"ROUND((0),2)","v":0},{"$f":"ROUND((SUM(SmtRes!BT645:'SmtRes'!BT646)),2)","v":16770.419999999998},{"$f":"ROUND((AP545),2)","v":0},{"$f":"(SUM(SmtRes!BU645:'SmtRes'!BU646))","v":15.552},{"$f":"(0)","v":0},{"$f":"(AS545)","v":0},13975.351200000001,0,0,0,13975.351200000001,0,12.96,0,0,74,36,1,1,null,null,1,1,1,1,"","","","",0,4,"ГЭСНп-2022, п01-11-011-01, приказ Минстроя России от 18.05.2022 г. № 378/пр",null,null,200001,0,"",0,4,0,1,1,1,1,1,1,"",74,36,"",null,null,0,0,0,2,0,0,0,0,0,"Поправка: 421/пр_2020_прил.10_т.1_п.4_гр.3 Наименование: Производство работ осуществляется в охранной зоне действующей воздушной линии электропередачи, вблизи объектов, находящихся под напряжением, внутри объектов капитального строительства, внутренняя проводка в которых не обесточена, если это приведет к ограничению действий рабочих в соответствии с требованиями техники безопасности",0,{"$f":"(P545+Q545+S545+R545)","v":1341.63},{"$f":"SUMIF(SmtRes!AQ645:'SmtRes'!AQ646,\"=1\",SmtRes!AA645:'SmtRes'!AA646)","v":0},{"$f":"SUMIF(SmtRes!AQ645:'SmtRes'!AQ646,\"=1\",SmtRes!AB645:'SmtRes'!AB646)","v":0},{"$f":"SUMIF(SmtRes!AQ645:'SmtRes'!AQ646,\"=1\",SmtRes!AC645:'SmtRes'!AC646)","v":0},{"$f":"SUMIF(SmtRes!AQ645:'SmtRes'!AQ646,\"=1\",SmtRes!AD645:'SmtRes'!AD646)","v":2156.69},{"$f":"AG545","v":0},{"$f":"SUMIF(SmtRes!AQ645:'SmtRes'!AQ646,\"=1\",SmtRes!BU645:'SmtRes'!BU646)","v":15.552},{"$f":"SUMIF(SmtRes!AQ645:'SmtRes'!AQ646,\"=1\",SmtRes!BV645:'SmtRes'!BV646)","v":0},{"$f":"AJ545","v":0},{"$f":"(((S545+R545)*AT545)/100)","v":992.8062000000001},{"$f":"(((S545+R545)*AU545)/100)","v":482.98680000000007},null,39,"","","*(0,2+1)","*(0,2+1)","*(0,2+1)","","*(0,2+1)","*(0,2+1)","","","",0,0,1,1,null,null,null,1013,"100 измерений","100 измерений",1,null,"","","","",null,83666744,4,"Пусконаладочные работы",83,"Пусконаладочные работы",4,200001,"Пусконаладочные работы Электротехнические устройства","ФЕРп",null,"Поправка: 421/пр_2020_прил.10_т.1_п.4_гр.3",null,131072,0,0,0,0,0,12.96,0,0,null,null,null,null,null,null,null,null,null,null,null,null,null,null,null,null,null,0,0,0,null,null,null,null,74,36,null,"",null,null,1,null,953704228,2,1,-2,0,0,{"$f":"ROUND(IF(AND(BH545=3,BI545=3,FS545<>0),P545,0),2)","v":0},{"$f":"ROUND(O545+X545+Y545,2)+GX545","v":2817.43},{"$f":"IF(OR(BI545=0,BI545=1),GM545-GX545,0)","v":0},{"$f":"IF(BI545=2,GM545-GX545,0)","v":0},{"$f":"IF(BI545=4,GM545-GX545,0)","v":2817.43},null,0,3,0,"",{"$f":"ROUND((GT545),2)","v":0},1,{"$f":"ROUND(HC545*I545,2)","v":0},null,null,0,0,{"$f":"GV545*GW545","v":0},null,"","",null,null,null,null,null,null,"","Пр/812-083.0-1","Пр/774-083.0","Пусконаладочные работы","Пусконаладочные работы",null,0,null,null,null,null,null,null,null,null,null,null,null,null,null,null,null,null,null,0]
[17,1,{"$f":"ROW(SmtRes!A648)","v":648},{"$f":"ROW(EtalonRes!A648)","v":648},"2","п01-11-011-01","Проверка наличия цепи между заземлителями и заземленными элементами","100 измерений",0.08,0,0.08,0.08,0,{"$f":"ROUND(L546-M546,4)","v":0.08},{"$f":"ROUND(CP546,2)","v":1341.63},{"$f":"SUMIF(SmtRes!AQ647:'SmtRes'!AQ648,\"=1\",SmtRes!DF647:'SmtRes'!DF648)","v":0},{"$f":"SUMIF(SmtRes!AQ647:'SmtRes'!AQ648,\"=1\",SmtRes!DG647:'SmtRes'!DG648)","v":0},{"$f":"SUMIF(SmtRes!AQ647:'SmtRes'!AQ648,\"=1\",SmtRes!DH647:'SmtRes'!DH648)","v":0},{"$f":"SUMIF(SmtRes!AQ647:'SmtRes'!AQ648,\"=1\",SmtRes!DI647:'SmtRes'!DI648)","v":1341.63},{"$f":"ROUND(CU546*I546,2)","v":0},{"$f":"SUMIF(SmtRes!AQ647:'SmtRes'!AQ648,\"=1\",SmtRes!CV647:'SmtRes'!CV648)","v":1.2441599999999999},{"$f":"SUMIF(SmtRes!AQ647:'SmtRes'!AQ648,\"=1\",SmtRes!CW647:'SmtRes'!CW648)","v":0},{"$f":"ROUND(CX546*I546,2)","v":0},{"$f":"ROUND(CY546,2)","v":992.81},{"$f":"ROUND(CZ546,2)","v":482.99},null,85312298,{"$f":"ROUND((AC546+AD546+AF546),2)","v":16770.419999999998},{"$f":"ROUND((0),2)","v":0},{"$f":"ROUND((((0)-(0))+AE546),2)","v":0},{"$f":"ROUND((0),2)","v":0},{"$f":"ROUND((SUM(SmtRes!BT647:'SmtRes'!BT648)),2)","v":16770.419999999998},{"$f":"ROUND((AP546),2)","v":0},{"$f":"(SUM(SmtRes!BU647:'SmtRes'!BU648))","v":15.552},{"$f":"(0)","v":0},{"$f":"(AS546)","v":0},13975.351200000001,0,0,0,13975.351200000001,0,12.96,0,0,74,36,1,1,null,null,1,1,1,1,"","","","",0,4,"ГЭСНп-2022, п01-11-011-01, приказ Минстроя России от 18.05.2022 г. № 378/пр",null,null,200001,0,"",0,4,0,1,1,1,1,1,1,"",74,36,"",null,null,0,0,0,2,0,0,0,0,0,"Поправка: 421/пр_2020_прил.10_т.1_п.4_гр.3 Наименование: Производство работ осуществляется в охранной зоне действующей воздушной линии электропередачи, вблизи объектов, находящихся под напряжением, внутри объектов капитального строительства, внутренняя проводка в которых не обесточена, если это приведет к ограничению действий рабочих в соответствии с требованиями техники безопасности",0,{"$f":"(P546+Q546+S546+R546)","v":1341.63},{"$f":"SUMIF(SmtRes!AQ647:'SmtRes'!AQ648,\"=1\",SmtRes!AA647:'SmtRes'!AA648)","v":0},{"$f":"SUMIF(SmtRes!AQ647:'SmtRes'!AQ648,\"=1\",SmtRes!AB647:'SmtRes'!AB648)","v":0},{"$f":"SUMIF(SmtRes!AQ647:'SmtRes'!AQ648,\"=1\",SmtRes!AC647:'SmtRes'!AC648)","v":0},{"$f":"SUMIF(SmtRes!AQ647:'SmtRes'!AQ648,\"=1\",SmtRes!AD647:'SmtRes'!AD648)","v":2156.69},{"$f":"AG546","v":0},{"$f":"SUMIF(SmtRes!AQ647:'SmtRes'!AQ648,\"=1\",SmtRes!BU647:'SmtRes'!BU648)","v":15.552},{"$f":"SUMIF(SmtRes!AQ647:'SmtRes'!AQ648,\"=1\",SmtRes!BV647:'SmtRes'!BV648)","v":0},{"$f":"AJ546","v":0},{"$f":"(((S546+R546)*AT546)/100)","v":992.8062000000001},{"$f":"(((S546+R546)*AU546)/100)","v":482.98680000000007},null,40,"","","*(0,2+1)","*(0,2+1)","*(0,2+1)","","*(0,2+1)","*(0,2+1)","","","",0,0,1,1,null,null,null,1013,"100 измерений","100 измерений",1,null,"","","","",null,83666744,4,"Пусконаладочные работы",83,"Пусконаладочные работы",4,200001,"Пусконаладочные работы Электротехнические устройства","ФЕРп",null,"Поправка: 421/пр_2020_прил.10_т.1_п.4_гр.3",null,131072,0,0,0,0,0,12.96,0,0,null,null,null,null,null,null,null,null,null,null,null,null,null,null,null,null,null,0,0,0,null,null,null,null,74,36,null,"",null,null,1,null,953704228,2,1,-2,0,0,{"$f":"ROUND(IF(AND(BH546=3,BI546=3,FS546<>0),P546,0),2)","v":0},{"$f":"ROUND(O546+X546+Y546,2)+GX546","v":2817.43},{"$f":"IF(OR(BI546=0,BI546=1),GM546-GX546,0)","v":0},{"$f":"IF(BI546=2,GM546-GX546,0)","v":0},{"$f":"IF(BI546=4,GM546-GX546,0)","v":2817.43},null,0,3,0,"",{"$f":"ROUND((GT546),2)","v":0},1,{"$f":"ROUND(HC546*I546,2)","v":0},null,null,0,0,{"$f":"GV546*GW546","v":0},null,"","",null,null,null,null,null,null,"","Пр/812-083.0-1","Пр/774-083.0","Пусконаладочные работы","Пусконаладочные работы",null,0,null,null,null,null,null,null,null,null,null,null,null,null,null,null,null,null,null,0]
[19,1,null,null,null,"","Для самозвон = расценке выше (п01-11-010-01); Для всех остальных кол-во выше (п01-11-010-01)*2","",null,null,null,null,null,null,null,null,null,null,null,null,null,null,null,null,null,null,1,null,null,null,null,null,null,null,null,null,null,null,null,null,null,null,null,null,null,null,null,null,null,null,null,null,null,null,null,null,null,null,null,null,null,null,null,null,null,null,null,null,null,null,null,null,null,null,null,null,null,null,null,null,null,null,null,null,null,null,null,null,null,null,null,null,null,null,null,null,null,null,null,null,null,null,null,null,null,null,null,null,null,null,null,null,null,null,null,null,null,null,null,null,null,null,null,null,null,null,null,null,null,null,null,null,null,null,null,null,null,null,null,null,null,null,null,null,null,null,null,null,null,null,null,null,null,null,null,null,null,null,null,null,null,null,null,null,null,null,null,null,null,null,null,null,null,null,null,null,null,null,null,null,null,null,null,null,null,null,null,null,null,null,null,null,null,null,null,null,null,null,null,null,null,null,null,null,null,null,null,null,null,null,null,null,null,null,null,null,null,null,null,null,null,null,null,null,null,null,null,null,null,null,null,null,null,null,null,null,null,null,null,null,null,null,null,null,0]
[17,1,{"$f":"ROW(SmtRes!A650)","v":650},{"$f":"ROW(EtalonRes!A650)","v":650},"3","п01-11-024-01","Фазировка электрической линии или трансформатора с сетью напряжением: до 1 кВ","ШТ",3,0,3,3,0,{"$f":"ROUND(L548-M548,4)","v":3},{"$f":"ROUND(CP548,2)","v":3183.28},{"$f":"SUMIF(SmtRes!AQ649:'SmtRes'!AQ650,\"=1\",SmtRes!DF649:'SmtRes'!DF650)","v":0},{"$f":"SUMIF(SmtRes!AQ649:'SmtRes'!AQ650,\"=1\",SmtRes!DG649:'SmtRes'!DG650)","v":0},{"$f":"SUMIF(SmtRes!AQ649:'SmtRes'!AQ650,\"=1\",SmtRes!DH649:'SmtRes'!DH650)","v":0},{"$f":"SUMIF(SmtRes!AQ649:'SmtRes'!AQ650,\"=1\",SmtRes!DI649:'SmtRes'!DI650)","v":3183.2799999999997},{"$f":"ROUND(CU548*I548,2)","v":0},{"$f":"SUMIF(SmtRes!AQ649:'SmtRes'!AQ650,\"=1\",SmtRes!CV649:'SmtRes'!CV650)","v":2.952},{"$f":"SUMIF(SmtRes!AQ649:'SmtRes'!AQ650,\"=1\",SmtRes!CW649:'SmtRes'!CW650)","v":0},{"$f":"ROUND(CX548*I548,2)","v":0},{"$f":"ROUND(CY548,2)","v":2355.63},{"$f":"ROUND(CZ548,2)","v":1145.98},null,85312357,{"$f":"ROUND((AC548+AD548+AF548),2)","v":1061.0899999999999},{"$f":"ROUND((0),2)","v":0},{"$f":"ROUND((((0)-(0))+AE548),2)","v":0},{"$f":"ROUND((0),2)","v":0},{"$f":"ROUND((SUM(SmtRes!BT649:'SmtRes'!BT650)),2)","v":1061.0899999999999},{"$f":"ROUND((AP548),2)","v":0},{"$f":"(SUM(SmtRes!BU649:'SmtRes'!BU650))","v":0.98399999999999999},{"$f":"(0)","v":0},{"$f":"(AS548)","v":0},884.24289999999996,0,0,0,884.24289999999996,0,0.82,0,0,74,36,1,1,null,null,1,1,1,1,"","","","",0,4,"ГЭСНп-2022, п01-11-024-01, приказ Минстроя России от 18.05.2022 г. № 378/пр",null,null,200001,0,"",0,4,0,1,1,1,1,1,1,"",74,36,"",null,null,0,0,0,3,0,0,0,0,0,"Поправка: 421/пр_2020_прил.10_т.1_п.4_гр.3 Наименование: Производство работ осуществляется в охранной зоне действующей воздушной линии электропередачи, вблизи объектов, находящихся под напряжением, внутри объектов капитального строительства, внутренняя проводка в которых не обесточена, если это приведет к ограничению действий рабочих в соответствии с требованиями техники безопасности",0,{"$f":"(P548+Q548+S548+R548)","v":3183.2799999999997},{"$f":"SUMIF(SmtRes!AQ649:'SmtRes'!AQ650,\"=1\",SmtRes!AA649:'SmtRes'!AA650)","v":0},{"$f":"SUMIF(SmtRes!AQ649:'SmtRes'!AQ650,\"=1\",SmtRes!AB649:'SmtRes'!AB650)","v":0},{"$f":"SUMIF(SmtRes!AQ649:'SmtRes'!AQ650,\"=1\",SmtRes!AC649:'SmtRes'!AC650)","v":0},{"$f":"SUMIF(SmtRes!AQ649:'SmtRes'!AQ650,\"=1\",SmtRes!AD649:'SmtRes'!AD650)","v":2156.69},{"$f":"AG548","v":0},{"$f":"SUMIF(SmtRes!AQ649:'SmtRes'!AQ650,\"=1\",SmtRes!BU649:'SmtRes'!BU650)","v":0.98399999999999999},{"$f":"SUMIF(SmtRes!AQ649:'SmtRes'!AQ650,\"=1\",SmtRes!BV649:'SmtRes'!BV650)","v":0},{"$f":"AJ548","v":0},{"$f":"(((S548+R548)*AT548)/100)","v":2355.6271999999999},{"$f":"(((S548+R548)*AU548)/100)","v":1145.9807999999998},null,41,"","","*(0,2+1)","*(0,2+1)","*(0,2+1)","","*(0,2+1)","*(0,2+1)","","","",0,0,1,1,null,null,null,1013,"ШТ","ШТ",1,null,"","","","",null,83666744,4,"Пусконаладочные работы",83,"Пусконаладочные работы",4,200001,"Пусконаладочные работы Электротехнические устройства","ФЕРп",null,"Поправка: 421/пр_2020_прил.10_т.1_п.4_гр.3",null,131072,0,0,0,0,0,0.82,0,0,null,null,null,null,null,null,null,null,null,null,null,null,null,null,null,null,null,0,0,0,null,null,null,null,74,36,null,"",null,null,1,null,-1304719433,2,1,-2,0,0,{"$f":"ROUND(IF(AND(BH548=3,BI548=3,FS548<>0),P548,0),2)","v":0},{"$f":"ROUND(O548+X548+Y548,2)+GX548","v":6684.89},{"$f":"IF(OR(BI548=0,BI548=1),GM548-GX548,0)","v":0},{"$f":"IF(BI548=2,GM548-GX548,0)","v":0},{"$f":"IF(BI548=4,GM548-GX548,0)","v":6684.89},null,0,0,0,"",{"$f":"ROUND((GT548),2)","v":0},1,{"$f":"ROUND(HC548*I548,2)","v":0},null,null,0,0,{"$f":"GV548*GW548","v":0},null,"","",null,null,null,null,null,null,"","Пр/812-083.0-1","Пр/774-083.0","Пусконаладочные работы","Пусконаладочные работы",null,0,null,null,null,null,null,null,null,null,null,null,null,null,null,null,null,null,null,0]
[17,1,{"$f":"ROW(SmtRes!A652)","v":652},{"$f":"ROW(EtalonRes!A652)","v":652},"3","п01-11-024-01","Фазировка электрической линии или трансформатора с сетью напряжением: до 1 кВ","ШТ",3,0,3,3,0,{"$f":"ROUND(L549-M549,4)","v":3},{"$f":"ROUND(CP549,2)","v":3183.28},{"$f":"SUMIF(SmtRes!AQ651:'SmtRes'!AQ652,\"=1\",SmtRes!DF651:'SmtRes'!DF652)","v":0},{"$f":"SUMIF(SmtRes!AQ651:'SmtRes'!AQ652,\"=1\",SmtRes!DG651:'SmtRes'!DG652)","v":0},{"$f":"SUMIF(SmtRes!AQ651:'SmtRes'!AQ652,\"=1\",SmtRes!DH651:'SmtRes'!DH652)","v":0},{"$f":"SUMIF(SmtRes!AQ651:'SmtRes'!AQ652,\"=1\",SmtRes!DI651:'SmtRes'!DI652)","v":3183.2799999999997},{"$f":"ROUND(CU549*I549,2)","v":0},{"$f":"SUMIF(SmtRes!AQ651:'SmtRes'!AQ652,\"=1\",SmtRes!CV651:'SmtRes'!CV652)","v":2.952},{"$f":"SUMIF(SmtRes!AQ651:'SmtRes'!AQ652,\"=1\",SmtRes!CW651:'SmtRes'!CW652)","v":0},{"$f":"ROUND(CX549*I549,2)","v":0},{"$f":"ROUND(CY549,2)","v":2355.63},{"$f":"ROUND(CZ549,2)","v":1145.98},null,85312298,{"$f":"ROUND((AC549+AD549+AF549),2)","v":1061.0899999999999},{"$f":"ROUND((0),2)","v":0},{"$f":"ROUND((((0)-(0))+AE549),2)","v":0},{"$f":"ROUND((0),2)","v":0},{"$f":"ROUND((SUM(SmtRes!BT651:'SmtRes'!BT652)),2)","v":1061.0899999999999},{"$f":"ROUND((AP549),2)","v":0},{"$f":"(SUM(SmtRes!BU651:'SmtRes'!BU652))","v":0.98399999999999999},{"$f":"(0)","v":0},{"$f":"(AS549)","v":0},884.24289999999996,0,0,0,884.24289999999996,0,0.82,0,0,74,36,1,1,null,null,1,1,1,1,"","","","",0,4,"ГЭСНп-2022, п01-11-024-01, приказ Минстроя России от 18.05.2022 г. № 378/пр",null,null,200001,0,"",0,4,0,1,1,1,1,1,1,"",74,36,"",null,null,0,0,0,3,0,0,0,0,0,"Поправка: 421/пр_2020_прил.10_т.1_п.4_гр.3 Наименование: Производство работ осуществляется в охранной зоне действующей воздушной линии электропередачи, вблизи объектов, находящихся под напряжением, внутри объектов капитального строительства, внутренняя проводка в которых не обесточена, если это приведет к ограничению действий рабочих в соответствии с требованиями техники безопасности",0,{"$f":"(P549+Q549+S549+R549)","v":3183.2799999999997},{"$f":"SUMIF(SmtRes!AQ651:'SmtRes'!AQ652,\"=1\",SmtRes!AA651:'SmtRes'!AA652)","v":0},{"$f":"SUMIF(SmtRes!AQ651:'SmtRes'!AQ652,\"=1\",SmtRes!AB651:'SmtRes'!AB652)","v":0},{"$f":"SUMIF(SmtRes!AQ651:'SmtRes'!AQ652,\"=1\",SmtRes!AC651:'SmtRes'!AC652)","v":0},{"$f":"SUMIF(SmtRes!AQ651:'SmtRes'!AQ652,\"=1\",SmtRes!AD651:'SmtRes'!AD652)","v":2156.69},{"$f":"AG549","v":0},{"$f":"SUMIF(SmtRes!AQ651:'SmtRes'!AQ652,\"=1\",SmtRes!BU651:'SmtRes'!BU652)","v":0.98399999999999999},{"$f":"SUMIF(SmtRes!AQ651:'SmtRes'!AQ652,\"=1\",SmtRes!BV651:'SmtRes'!BV652)","v":0},{"$f":"AJ549","v":0},{"$f":"(((S549+R549)*AT549)/100)","v":2355.6271999999999},{"$f":"(((S549+R549)*AU549)/100)","v":1145.9807999999998},null,42,"","","*(0,2+1)","*(0,2+1)","*(0,2+1)","","*(0,2+1)","*(0,2+1)","","","",0,0,1,1,null,null,null,1013,"ШТ","ШТ",1,null,"","","","",null,83666744,4,"Пусконаладочные работы",83,"Пусконаладочные работы",4,200001,"Пусконаладочные работы Электротехнические устройства","ФЕРп",null,"Поправка: 421/пр_2020_прил.10_т.1_п.4_гр.3",null,131072,0,0,0,0,0,0.82,0,0,null,null,null,null,null,null,null,null,null,null,null,null,null,null,null,null,null,0,0,0,null,null,null,null,74,36,null,"",null,null,1,null,-1304719433,2,1,-2,0,0,{"$f":"ROUND(IF(AND(BH549=3,BI549=3,FS549<>0),P549,0),2)","v":0},{"$f":"ROUND(O549+X549+Y549,2)+GX549","v":6684.89},{"$f":"IF(OR(BI549=0,BI549=1),GM549-GX549,0)","v":0},{"$f":"IF(BI549=2,GM549-GX549,0)","v":0},{"$f":"IF(BI549=4,GM549-GX549,0)","v":6684.89},null,0,0,0,"",{"$f":"ROUND((GT549),2)","v":0},1,{"$f":"ROUND(HC549*I549,2)","v":0},null,null,0,0,{"$f":"GV549*GW549","v":0},null,"","",null,null,null,null,null,null,"","Пр/812-083.0-1","Пр/774-083.0","Пусконаладочные работы","Пусконаладочные работы",null,0,null,null,null,null,null,null,null,null,null,null,null,null,null,null,null,null,null,0]
[19,1,null,null,null,"","Расценка зависит от напряжения. Если у нас ВЛИ 0,4кВ, то объем = 1шт(т.к. один провод на опоре); если у нас ВЛИ от 6кВ, то объем=3шт (т.к. у нас 3 провода на опоре)","",null,null,null,null,null,null,null,null,null,null,null,null,null,null,null,null,null,null,1,null,null,null,null,null,null,null,null,null,null,null,null,null,null,null,null,null,null,null,null,null,null,null,null,null,null,null,null,null,null,null,null,null,null,null,null,null,null,null,null,null,null,null,null,null,null,null,null,null,null,null,null,null,null,null,null,null,null,null,null,null,null,null,null,null,null,null,null,null,null,null,null,null,null,null,null,null,null,null,null,null,null,null,null,null,null,null,null,null,null,null,null,null,null,null,null,null,null,null,null,null,null,null,null,null,null,null,null,null,null,null,null,null,null,null,null,null,null,null,null,null,null,null,null,null,null,null,null,null,null,null,null,null,null,null,null,null,null,null,null,null,null,null,null,null,null,null,null,null,null,null,null,null,null,null,null,null,null,null,null,null,null,null,null,null,null,null,null,null,null,null,null,null,null,null,null,null,null,null,null,null,null,null,null,null,null,null,null,null,null,null,null,null,null,null,null,null,null,null,null,null,null,null,null,null,null,null,null,null,null,null,null,null,null,null,null,null,0]
[17,1,{"$f":"ROW(SmtRes!A654)","v":654},{"$f":"ROW(EtalonRes!A654)","v":654},"4","п01-11-012-01","Определение удельного сопротивления грунта","измерение",1,0,1,1,0,{"$f":"ROUND(L551-M551,4)","v":1},{"$f":"ROUND(CP551,2)","v":4192.6000000000004},{"$f":"SUMIF(SmtRes!AQ653:'SmtRes'!AQ654,\"=1\",SmtRes!DF653:'SmtRes'!DF654)","v":0},{"$f":"SUMIF(SmtRes!AQ653:'SmtRes'!AQ654,\"=1\",SmtRes!DG653:'SmtRes'!DG654)","v":0},{"$f":"SUMIF(SmtRes!AQ653:'SmtRes'!AQ654,\"=1\",SmtRes!DH653:'SmtRes'!DH654)","v":0},{"$f":"SUMIF(SmtRes!AQ653:'SmtRes'!AQ654,\"=1\",SmtRes!DI653:'SmtRes'!DI654)","v":4192.6000000000004},{"$f":"ROUND(CU551*I551,2)","v":0},{"$f":"SUMIF(SmtRes!AQ653:'SmtRes'!AQ654,\"=1\",SmtRes!CV653:'SmtRes'!CV654)","v":3.8879999999999999},{"$f":"SUMIF(SmtRes!AQ653:'SmtRes'!AQ654,\"=1\",SmtRes!CW653:'SmtRes'!CW654)","v":0},{"$f":"ROUND(CX551*I551,2)","v":0},{"$f":"ROUND(CY551,2)","v":3102.52},{"$f":"ROUND(CZ551,2)","v":1509.34},null,85312357,{"$f":"ROUND((AC551+AD551+AF551),2)","v":4192.6099999999997},{"$f":"ROUND((0),2)","v":0},{"$f":"ROUND((((0)-(0))+AE551),2)","v":0},{"$f":"ROUND((0),2)","v":0},{"$f":"ROUND((SUM(SmtRes!BT653:'SmtRes'!BT654)),2)","v":4192.6099999999997},{"$f":"ROUND((AP551),2)","v":0},{"$f":"(SUM(SmtRes!BU653:'SmtRes'!BU654))","v":3.8879999999999999},{"$f":"(0)","v":0},{"$f":"(AS551)","v":0},3493.8378000000002,0,0,0,3493.8378000000002,0,3.24,0,0,74,36,1,1,null,null,1,1,1,1,"","","","",0,4,"ГЭСНп-2022, п01-11-012-01, приказ Минстроя России от 18.05.2022 г. № 378/пр",null,null,200001,0,"",0,4,0,1,1,1,1,1,1,"",74,36,"",null,null,0,0,0,4,0,0,0,0,0,"Поправка: 421/пр_2020_прил.10_т.1_п.4_гр.3 Наименование: Производство работ осуществляется в охранной зоне действующей воздушной линии электропередачи, вблизи объектов, находящихся под напряжением, внутри объектов капитального строительства, внутренняя проводка в которых не обесточена, если это приведет к ограничению действий рабочих в соответствии с требованиями техники безопасности",0,{"$f":"(P551+Q551+S551+R551)","v":4192.6000000000004},{"$f":"SUMIF(SmtRes!AQ653:'SmtRes'!AQ654,\"=1\",SmtRes!AA653:'SmtRes'!AA654)","v":0},{"$f":"SUMIF(SmtRes!AQ653:'SmtRes'!AQ654,\"=1\",SmtRes!AB653:'SmtRes'!AB654)","v":0},{"$f":"SUMIF(SmtRes!AQ653:'SmtRes'!AQ654,\"=1\",SmtRes!AC653:'SmtRes'!AC654)","v":0},{"$f":"SUMIF(SmtRes!AQ653:'SmtRes'!AQ654,\"=1\",SmtRes!AD653:'SmtRes'!AD654)","v":2156.69},{"$f":"AG551","v":0},{"$f":"SUMIF(SmtRes!AQ653:'SmtRes'!AQ654,\"=1\",SmtRes!BU653:'SmtRes'!BU654)","v":3.8879999999999999},{"$f":"SUMIF(SmtRes!AQ653:'SmtRes'!AQ654,\"=1\",SmtRes!BV653:'SmtRes'!BV654)","v":0},{"$f":"AJ551","v":0},{"$f":"(((S551+R551)*AT551)/100)","v":3102.5240000000003},{"$f":"(((S551+R551)*AU551)/100)","v":1509.336},null,43,"","","*(0,2+1)","*(0,2+1)","*(0,2+1)","","*(0,2+1)","*(0,2+1)","","","",0,0,1,1,null,null,null,1013,"измерение","измерение",1,null,"","","","",null,83666744,4,"Пусконаладочные работы",83,"Пусконаладочные работы",4,200001,"Пусконаладочные работы Электротехнические устройства","ФЕРп",null,"Поправка: 421/пр_2020_прил.10_т.1_п.4_гр.3",null,131072,0,0,0,0,0,3.24,0,0,null,null,null,null,null,null,null,null,null,null,null,null,null,null,null,null,null,0,0,0,null,null,null,null,74,36,null,"",null,null,1,null,-651577506,2,1,-2,0,0,{"$f":"ROUND(IF(AND(BH551=3,BI551=3,FS551<>0),P551,0),2)","v":0},{"$f":"ROUND(O551+X551+Y551,2)+GX551","v":8804.4599999999991},{"$f":"IF(OR(BI551=0,BI551=1),GM551-GX551,0)","v":0},{"$f":"IF(BI551=2,GM551-GX551,0)","v":0},{"$f":"IF(BI551=4,GM551-GX551,0)","v":8804.4599999999991},null,0,0,0,"",{"$f":"ROUND((GT551),2)","v":0},1,{"$f":"ROUND(HC551*I551,2)","v":0},null,null,0,0,{"$f":"GV551*GW551","v":0},null,"","",null,null,null,null,null,null,"","Пр/812-083.0-1","Пр/774-083.0","Пусконаладочные работы","Пусконаладочные работы",null,0,null,null,null,null,null,null,null,null,null,null,null,null,null,null,null,null,null,0]
[17,1,{"$f":"ROW(SmtRes!A656)","v":656},{"$f":"ROW(EtalonRes!A656)","v":656},"4","п01-11-012-01","Определение удельного сопротивления грунта","измерение",1,0,1,1,0,{"$f":"ROUND(L552-M552,4)","v":1},{"$f":"ROUND(CP552,2)","v":4192.6000000000004},{"$f":"SUMIF(SmtRes!AQ655:'SmtRes'!AQ656,\"=1\",SmtRes!DF655:'SmtRes'!DF656)","v":0},{"$f":"SUMIF(SmtRes!AQ655:'SmtRes'!AQ656,\"=1\",SmtRes!DG655:'SmtRes'!DG656)","v":0},{"$f":"SUMIF(SmtRes!AQ655:'SmtRes'!AQ656,\"=1\",SmtRes!DH655:'SmtRes'!DH656)","v":0},{"$f":"SUMIF(SmtRes!AQ655:'SmtRes'!AQ656,\"=1\",SmtRes!DI655:'SmtRes'!DI656)","v":4192.6000000000004},{"$f":"ROUND(CU552*I552,2)","v":0},{"$f":"SUMIF(SmtRes!AQ655:'SmtRes'!AQ656,\"=1\",SmtRes!CV655:'SmtRes'!CV656)","v":3.8879999999999999},{"$f":"SUMIF(SmtRes!AQ655:'SmtRes'!AQ656,\"=1\",SmtRes!CW655:'SmtRes'!CW656)","v":0},{"$f":"ROUND(CX552*I552,2)","v":0},{"$f":"ROUND(CY552,2)","v":3102.52},{"$f":"ROUND(CZ552,2)","v":1509.34},null,85312298,{"$f":"ROUND((AC552+AD552+AF552),2)","v":4192.6099999999997},{"$f":"ROUND((0),2)","v":0},{"$f":"ROUND((((0)-(0))+AE552),2)","v":0},{"$f":"ROUND((0),2)","v":0},{"$f":"ROUND((SUM(SmtRes!BT655:'SmtRes'!BT656)),2)","v":4192.6099999999997},{"$f":"ROUND((AP552),2)","v":0},{"$f":"(SUM(SmtRes!BU655:'SmtRes'!BU656))","v":3.8879999999999999},{"$f":"(0)","v":0},{"$f":"(AS552)","v":0},3493.8378000000002,0,0,0,3493.8378000000002,0,3.24,0,0,74,36,1,1,null,null,1,1,1,1,"","","","",0,4,"ГЭСНп-2022, п01-11-012-01, приказ Минстроя России от 18.05.2022 г. № 378/пр",null,null,200001,0,"",0,4,0,1,1,1,1,1,1,"",74,36,"",null,null,0,0,0,4,0,0,0,0,0,"Поправка: 421/пр_2020_прил.10_т.1_п.4_гр.3 Наименование: Производство работ осуществляется в охранной зоне действующей воздушной линии электропередачи, вблизи объектов, находящихся под напряжением, внутри объектов капитального строительства, внутренняя проводка в которых не обесточена, если это приведет к ограничению действий рабочих в соответствии с требованиями техники безопасности",0,{"$f":"(P552+Q552+S552+R552)","v":4192.6000000000004},{"$f":"SUMIF(SmtRes!AQ655:'SmtRes'!AQ656,\"=1\",SmtRes!AA655:'SmtRes'!AA656)","v":0},{"$f":"SUMIF(SmtRes!AQ655:'SmtRes'!AQ656,\"=1\",SmtRes!AB655:'SmtRes'!AB656)","v":0},{"$f":"SUMIF(SmtRes!AQ655:'SmtRes'!AQ656,\"=1\",SmtRes!AC655:'SmtRes'!AC656)","v":0},{"$f":"SUMIF(SmtRes!AQ655:'SmtRes'!AQ656,\"=1\",SmtRes!AD655:'SmtRes'!AD656)","v":2156.69},{"$f":"AG552","v":0},{"$f":"SUMIF(SmtRes!AQ655:'SmtRes'!AQ656,\"=1\",SmtRes!BU655:'SmtRes'!BU656)","v":3.8879999999999999},{"$f":"SUMIF(SmtRes!AQ655:'SmtRes'!AQ656,\"=1\",SmtRes!BV655:'SmtRes'!BV656)","v":0},{"$f":"AJ552","v":0},{"$f":"(((S552+R552)*AT552)/100)","v":3102.5240000000003},{"$f":"(((S552+R552)*AU552)/100)","v":1509.336},null,44,"","","*(0,2+1)","*(0,2+1)","*(0,2+1)","","*(0,2+1)","*(0,2+1)","","","",0,0,1,1,null,null,null,1013,"измерение","измерение",1,null,"","","","",null,83666744,4,"Пусконаладочные работы",83,"Пусконаладочные работы",4,200001,"Пусконаладочные работы Электротехнические устройства","ФЕРп",null,"Поправка: 421/пр_2020_прил.10_т.1_п.4_гр.3",null,131072,0,0,0,0,0,3.24,0,0,null,null,null,null,null,null,null,null,null,null,null,null,null,null,null,null,null,0,0,0,null,null,null,null,74,36,null,"",null,null,1,null,-651577506,2,1,-2,0,0,{"$f":"ROUND(IF(AND(BH552=3,BI552=3,FS552<>0),P552,0),2)","v":0},{"$f":"ROUND(O552+X552+Y552,2)+GX552","v":8804.4599999999991},{"$f":"IF(OR(BI552=0,BI552=1),GM552-GX552,0)","v":0},{"$f":"IF(BI552=2,GM552-GX552,0)","v":0},{"$f":"IF(BI552=4,GM552-GX552,0)","v":8804.4599999999991},null,0,0,0,"",{"$f":"ROUND((GT552),2)","v":0},1,{"$f":"ROUND(HC552*I552,2)","v":0},null,null,0,0,{"$f":"GV552*GW552","v":0},null,"","",null,null,null,null,null,null,"","Пр/812-083.0-1","Пр/774-083.0","Пусконаладочные работы","Пусконаладочные работы",null,0,null,null,null,null,null,null,null,null,null,null,null,null,null,null,null,null,null,0]
[19,1,null,null,null,"","Всегда объем = 1шт, но при РЕКОНСТРУКЦИИ расценка не применяется!","",null,null,null,null,null,null,null,null,null,null,null,null,null,null,null,null,null,null,1,null,null,null,null,null,null,null,null,null,null,null,null,null,null,null,null,null,null,null,null,null,null,null,null,null,null,null,null,null,null,null,null,null,null,null,null,null,null,null,null,null,null,null,null,null,null,null,null,null,null,null,null,null,null,null,null,null,null,null,null,null,null,null,null,null,null,null,null,null,null,null,null,null,null,null,null,null,null,null,null,null,null,null,null,null,null,null,null,null,null,null,null,null,null,null,null,null,null,null,null,null,null,null,null,null,null,null,null,null,null,null,null,null,null,null,null,null,null,null,null,null,null,null,null,null,null,null,null,null,null,null,null,null,null,null,null,null,null,null,null,null,null,null,null,null,null,null,null,null,null,null,null,null,null,null,null,null,null,null,null,null,null,null,null,null,null,null,null,null,null,null,null,null,null,null,null,null,null,null,null,null,null,null,null,null,null,null,null,null,null,null,null,null,null,null,null,null,null,null,null,null,null,null,null,null,null,null,null,null,null,null,null,null,null,null,null,null,0]
[17,1,{"$f":"ROW(SmtRes!A658)","v":658},{"$f":"ROW(EtalonRes!A658)","v":658},"","п01-03-002-05","Выключатель трехполюсный напряжением до 1 кВ с: электромагнитным, тепловым или комбинированным расцепителем, номинальный ток до 200 А","ШТ",1,0,1,1,0,{"$f":"ROUND(L554-M554,4)","v":1},{"$f":"ROUND(CP554,2)","v":2571.31},{"$f":"SUMIF(SmtRes!AQ657:'SmtRes'!AQ658,\"=1\",SmtRes!DF657:'SmtRes'!DF658)","v":0},{"$f":"SUMIF(SmtRes!AQ657:'SmtRes'!AQ658,\"=1\",SmtRes!DG657:'SmtRes'!DG658)","v":0},{"$f":"SUMIF(SmtRes!AQ657:'SmtRes'!AQ658,\"=1\",SmtRes!DH657:'SmtRes'!DH658)","v":0},{"$f":"SUMIF(SmtRes!AQ657:'SmtRes'!AQ658,\"=1\",SmtRes!DI657:'SmtRes'!DI658)","v":2571.31},{"$f":"ROUND(CU554*I554,2)","v":0},{"$f":"SUMIF(SmtRes!AQ657:'SmtRes'!AQ658,\"=1\",SmtRes!CV657:'SmtRes'!CV658)","v":3.24},{"$f":"SUMIF(SmtRes!AQ657:'SmtRes'!AQ658,\"=1\",SmtRes!CW657:'SmtRes'!CW658)","v":0},{"$f":"ROUND(CX554*I554,2)","v":0},{"$f":"ROUND(CY554,2)","v":1902.77},{"$f":"ROUND(CZ554,2)","v":925.67},null,-1,{"$f":"ROUND((AC554+AD554+AF554),2)","v":2571.31},{"$f":"ROUND((0),2)","v":0},{"$f":"ROUND((((0)-(0))+AE554),2)","v":0},{"$f":"ROUND((0),2)","v":0},{"$f":"ROUND((SUM(SmtRes!BT657:'SmtRes'!BT658)),2)","v":2571.31},{"$f":"ROUND((AP554),2)","v":0},{"$f":"(SUM(SmtRes!BU657:'SmtRes'!BU658))","v":3.24},{"$f":"(0)","v":0},{"$f":"(AS554)","v":0},2142.7605000000003,0,0,0,2142.7605000000003,0,2.7,0,0,74,36,1,1,null,null,1,1,1,1,"","","","",0,4,"ГЭСНп-2022, п01-03-002-05, приказ Минстроя России от 18.05.2022 г. № 378/пр",null,null,200001,0,"",0,4,0,1,1,1,1,1,1,"",74,36,"",null,null,0,0,0,0,0,0,0,0,0,"Поправка: 421/пр_2020_прил.10_т.1_п.4_гр.3 Наименование: Производство работ осуществляется в охранной зоне действующей воздушной линии электропередачи, вблизи объектов, находящихся под напряжением, внутри объектов капитального строительства, внутренняя проводка в которых не обесточена, если это приведет к ограничению действий рабочих в соответствии с требованиями техники безопасности",0,{"$f":"(P554+Q554+S554+R554)","v":2571.31},{"$f":"SUMIF(SmtRes!AQ657:'SmtRes'!AQ658,\"=1\",SmtRes!AA657:'SmtRes'!AA658)","v":0},{"$f":"SUMIF(SmtRes!AQ657:'SmtRes'!AQ658,\"=1\",SmtRes!AB657:'SmtRes'!AB658)","v":0},{"$f":"SUMIF(SmtRes!AQ657:'SmtRes'!AQ658,\"=1\",SmtRes!AC657:'SmtRes'!AC658)","v":0},{"$f":"SUMIF(SmtRes!AQ657:'SmtRes'!AQ658,\"=1\",SmtRes!AD657:'SmtRes'!AD658)","v":1587.23},{"$f":"AG554","v":0},{"$f":"SUMIF(SmtRes!AQ657:'SmtRes'!AQ658,\"=1\",SmtRes!BU657:'SmtRes'!BU658)","v":3.24},{"$f":"SUMIF(SmtRes!AQ657:'SmtRes'!AQ658,\"=1\",SmtRes!BV657:'SmtRes'!BV658)","v":0},{"$f":"AJ554","v":0},{"$f":"(((S554+R554)*AT554)/100)","v":1902.7694000000001},{"$f":"(((S554+R554)*AU554)/100)","v":925.67160000000001},null,45,"","","*(0,2+1)","*(0,2+1)","*(0,2+1)","","*(0,2+1)","*(0,2+1)","","","",0,0,1,1,null,null,null,1013,"ШТ","ШТ",1,null,"","","","",null,83666744,4,"Пусконаладочные работы",83,"Пусконаладочные работы",4,200001,"Пусконаладочные работы Электротехнические устройства","ФЕРп",null,"Поправка: 421/пр_2020_прил.10_т.1_п.4_гр.3",null,132096,0,0,0,0,0,2.7,0,0,null,null,null,null,null,null,null,null,null,null,null,null,null,null,null,null,null,0,0,0,null,null,null,null,74,36,null,"",null,null,1,null,-956557318,2,1,-2,0,0,{"$f":"ROUND(IF(AND(BH554=3,BI554=3,FS554<>0),P554,0),2)","v":0},{"$f":"ROUND(O554+X554+Y554,2)+GX554","v":5399.75},{"$f":"IF(OR(BI554=0,BI554=1),GM554-GX554,0)","v":0},{"$f":"IF(BI554=2,GM554-GX554,0)","v":0},{"$f":"IF(BI554=4,GM554-GX554,0)","v":5399.75},null,0,0,0,"",{"$f":"ROUND((GT554),2)","v":0},1,{"$f":"ROUND(HC554*I554,2)","v":0},null,null,0,0,{"$f":"GV554*GW554","v":0},null,"","",null,null,null,null,null,null,"","Пр/812-083.0-1","Пр/774-083.0","Пусконаладочные работы","Пусконаладочные работы",null,0,null,null,null,null,null,null,null,null,null,null,null,null,null,null,null,null,null,0]
[17,1,{"$f":"ROW(SmtRes!A660)","v":660},{"$f":"ROW(EtalonRes!A660)","v":660},"","п01-03-002-05","Выключатель трехполюсный напряжением до 1 кВ с: электромагнитным, тепловым или комбинированным расцепителем, номинальный ток до 200 А","ШТ",1,0,1,1,0,{"$f":"ROUND(L555-M555,4)","v":1},{"$f":"ROUND(CP555,2)","v":2571.31},{"$f":"SUMIF(SmtRes!AQ659:'SmtRes'!AQ660,\"=1\",SmtRes!DF659:'SmtRes'!DF660)","v":0},{"$f":"SUMIF(SmtRes!AQ659:'SmtRes'!AQ660,\"=1\",SmtRes!DG659:'SmtRes'!DG660)","v":0},{"$f":"SUMIF(SmtRes!AQ659:'SmtRes'!AQ660,\"=1\",SmtRes!DH659:'SmtRes'!DH660)","v":0},{"$f":"SUMIF(SmtRes!AQ659:'SmtRes'!AQ660,\"=1\",SmtRes!DI659:'SmtRes'!DI660)","v":2571.31},{"$f":"ROUND(CU555*I555,2)","v":0},{"$f":"SUMIF(SmtRes!AQ659:'SmtRes'!AQ660,\"=1\",SmtRes!CV659:'SmtRes'!CV660)","v":3.24},{"$f":"SUMIF(SmtRes!AQ659:'SmtRes'!AQ660,\"=1\",SmtRes!CW659:'SmtRes'!CW660)","v":0},{"$f":"ROUND(CX555*I555,2)","v":0},{"$f":"ROUND(CY555,2)","v":1902.77},{"$f":"ROUND(CZ555,2)","v":925.67},null,-1,{"$f":"ROUND((AC555+AD555+AF555),2)","v":2571.31},{"$f":"ROUND((0),2)","v":0},{"$f":"ROUND((((0)-(0))+AE555),2)","v":0},{"$f":"ROUND((0),2)","v":0},{"$f":"ROUND((SUM(SmtRes!BT659:'SmtRes'!BT660)),2)","v":2571.31},{"$f":"ROUND((AP555),2)","v":0},{"$f":"(SUM(SmtRes!BU659:'SmtRes'!BU660))","v":3.24},{"$f":"(0)","v":0},{"$f":"(AS555)","v":0},2142.7605000000003,0,0,0,2142.7605000000003,0,2.7,0,0,74,36,1,1,null,null,1,1,1,1,"","","","",0,4,"ГЭСНп-2022, п01-03-002-05, приказ Минстроя России от 18.05.2022 г. № 378/пр",null,null,200001,0,"",0,4,0,1,1,1,1,1,1,"",74,36,"",null,null,0,0,0,0,0,0,0,0,0,"Поправка: 421/пр_2020_прил.10_т.1_п.4_гр.3 Наименование: Производство работ осуществляется в охранной зоне действующей воздушной линии электропередачи, вблизи объектов, находящихся под напряжением, внутри объектов капитального строительства, внутренняя проводка в которых не обесточена, если это приведет к ограничению действий рабочих в соответствии с требованиями техники безопасности",0,{"$f":"(P555+Q555+S555+R555)","v":2571.31},{"$f":"SUMIF(SmtRes!AQ659:'SmtRes'!AQ660,\"=1\",SmtRes!AA659:'SmtRes'!AA660)","v":0},{"$f":"SUMIF(SmtRes!AQ659:'SmtRes'!AQ660,\"=1\",SmtRes!AB659:'SmtRes'!AB660)","v":0},{"$f":"SUMIF(SmtRes!AQ659:'SmtRes'!AQ660,\"=1\",SmtRes!AC659:'SmtRes'!AC660)","v":0},{"$f":"SUMIF(SmtRes!AQ659:'SmtRes'!AQ660,\"=1\",SmtRes!AD659:'SmtRes'!AD660)","v":1587.23},{"$f":"AG555","v":0},{"$f":"SUMIF(SmtRes!AQ659:'SmtRes'!AQ660,\"=1\",SmtRes!BU659:'SmtRes'!BU660)","v":3.24},{"$f":"SUMIF(SmtRes!AQ659:'SmtRes'!AQ660,\"=1\",SmtRes!BV659:'SmtRes'!BV660)","v":0},{"$f":"AJ555","v":0},{"$f":"(((S555+R555)*AT555)/100)","v":1902.7694000000001},{"$f":"(((S555+R555)*AU555)/100)","v":925.67160000000001},null,46,"","","*(0,2+1)","*(0,2+1)","*(0,2+1)","","*(0,2+1)","*(0,2+1)","","","",0,0,1,1,null,null,null,1013,"ШТ","ШТ",1,null,"","","","",null,83666744,4,"Пусконаладочные работы",83,"Пусконаладочные работы",4,200001,"Пусконаладочные работы Электротехнические устройства","ФЕРп",null,"Поправка: 421/пр_2020_прил.10_т.1_п.4_гр.3",null,132096,0,0,0,0,0,2.7,0,0,null,null,null,null,null,null,null,null,null,null,null,null,null,null,null,null,null,0,0,0,null,null,null,null,74,36,null,"",null,null,1,null,-956557318,2,1,-2,0,0,{"$f":"ROUND(IF(AND(BH555=3,BI555=3,FS555<>0),P555,0),2)","v":0},{"$f":"ROUND(O555+X555+Y555,2)+GX555","v":5399.75},{"$f":"IF(OR(BI555=0,BI555=1),GM555-GX555,0)","v":0},{"$f":"IF(BI555=2,GM555-GX555,0)","v":0},{"$f":"IF(BI555=4,GM555-GX555,0)","v":5399.75},null,0,0,0,"",{"$f":"ROUND((GT555),2)","v":0},1,{"$f":"ROUND(HC555*I555,2)","v":0},null,null,0,0,{"$f":"GV555*GW555","v":0},null,"","",null,null,null,null,null,null,"","Пр/812-083.0-1","Пр/774-083.0","Пусконаладочные работы","Пусконаладочные работы",null,0,null,null,null,null,null,null,null,null,null,null,null,null,null,null,null,null,null,0]
[19,1,null,null,null,"","Если есть выключатель автоматический, то эта расценка должна быть! Кол-во по ВОР","",null,null,null,null,null,null,null,null,null,null,null,null,null,null,null,null,null,null,1,null,null,null,null,null,null,null,null,null,null,null,null,null,null,null,null,null,null,null,null,null,null,null,null,null,null,null,null,null,null,null,null,null,null,null,null,null,null,null,null,null,null,null,null,null,null,null,null,null,null,null,null,null,null,null,null,null,null,null,null,null,null,null,null,null,null,null,null,null,null,null,null,null,null,null,null,null,null,null,null,null,null,null,null,null,null,null,null,null,null,null,null,null,null,null,null,null,null,null,null,null,null,null,null,null,null,null,null,null,null,null,null,null,null,null,null,null,null,null,null,null,null,null,null,null,null,null,null,null,null,null,null,null,null,null,null,null,null,null,null,null,null,null,null,null,null,null,null,null,null,null,null,null,null,null,null,null,null,null,null,null,null,null,null,null,null,null,null,null,null,null,null,null,null,null,null,null,null,null,null,null,null,null,null,null,null,null,null,null,null,null,null,null,null,null,null,null,null,null,null,null,null,null,null,null,null,null,null,null,null,null,null,null,null,null,null,null,0]
[17,1,{"$f":"ROW(SmtRes!A662)","v":662},{"$f":"ROW(EtalonRes!A662)","v":662},"5","п01-11-013-01","Замер полного сопротивления цепи \"фаза-нуль\"","ШТ",1,0,1,1,0,{"$f":"ROUND(L557-M557,4)","v":1},{"$f":"ROUND(CP557,2)","v":1294.02},{"$f":"SUMIF(SmtRes!AQ661:'SmtRes'!AQ662,\"=1\",SmtRes!DF661:'SmtRes'!DF662)","v":0},{"$f":"SUMIF(SmtRes!AQ661:'SmtRes'!AQ662,\"=1\",SmtRes!DG661:'SmtRes'!DG662)","v":0},{"$f":"SUMIF(SmtRes!AQ661:'SmtRes'!AQ662,\"=1\",SmtRes!DH661:'SmtRes'!DH662)","v":0},{"$f":"SUMIF(SmtRes!AQ661:'SmtRes'!AQ662,\"=1\",SmtRes!DI661:'SmtRes'!DI662)","v":1294.02},{"$f":"ROUND(CU557*I557,2)","v":0},{"$f":"SUMIF(SmtRes!AQ661:'SmtRes'!AQ662,\"=1\",SmtRes!CV661:'SmtRes'!CV662)","v":1.2},{"$f":"SUMIF(SmtRes!AQ661:'SmtRes'!AQ662,\"=1\",SmtRes!CW661:'SmtRes'!CW662)","v":0},{"$f":"ROUND(CX557*I557,2)","v":0},{"$f":"ROUND(CY557,2)","v":957.57},{"$f":"ROUND(CZ557,2)","v":465.85},null,85312357,{"$f":"ROUND((AC557+AD557+AF557),2)","v":1294.01},{"$f":"ROUND((0),2)","v":0},{"$f":"ROUND((((0)-(0))+AE557),2)","v":0},{"$f":"ROUND((0),2)","v":0},{"$f":"ROUND((SUM(SmtRes!BT661:'SmtRes'!BT662)),2)","v":1294.01},{"$f":"ROUND((AP557),2)","v":0},{"$f":"(SUM(SmtRes!BU661:'SmtRes'!BU662))","v":1.2},{"$f":"(0)","v":0},{"$f":"(AS557)","v":0},1078.345,0,0,0,1078.345,0,1,0,0,74,36,1,1,null,null,1,1,1,1,"","","","",0,4,"ГЭСНп-2022, п01-11-013-01, приказ Минстроя России от 18.05.2022 г. № 378/пр",null,null,200001,0,"",0,4,0,1,1,1,1,1,1,"",74,36,"",null,null,0,0,0,5,0,0,0,0,0,"Поправка: 421/пр_2020_прил.10_т.1_п.4_гр.3 Наименование: Производство работ осуществляется в охранной зоне действующей воздушной линии электропередачи, вблизи объектов, находящихся под напряжением, внутри объектов капитального строительства, внутренняя проводка в которых не обесточена, если это приведет к ограничению действий рабочих в соответствии с требованиями техники безопасности",0,{"$f":"(P557+Q557+S557+R557)","v":1294.02},{"$f":"SUMIF(SmtRes!AQ661:'SmtRes'!AQ662,\"=1\",SmtRes!AA661:'SmtRes'!AA662)","v":0},{"$f":"SUMIF(SmtRes!AQ661:'SmtRes'!AQ662,\"=1\",SmtRes!AB661:'SmtRes'!AB662)","v":0},{"$f":"SUMIF(SmtRes!AQ661:'SmtRes'!AQ662,\"=1\",SmtRes!AC661:'SmtRes'!AC662)","v":0},{"$f":"SUMIF(SmtRes!AQ661:'SmtRes'!AQ662,\"=1\",SmtRes!AD661:'SmtRes'!AD662)","v":2156.69},{"$f":"AG557","v":0},{"$f":"SUMIF(SmtRes!AQ661:'SmtRes'!AQ662,\"=1\",SmtRes!BU661:'SmtRes'!BU662)","v":1.2},{"$f":"SUMIF(SmtRes!AQ661:'SmtRes'!AQ662,\"=1\",SmtRes!BV661:'SmtRes'!BV662)","v":0},{"$f":"AJ557","v":0},{"$f":"(((S557+R557)*AT557)/100)","v":957.57479999999998},{"$f":"(((S557+R557)*AU557)/100)","v":465.84719999999999},null,47,"","","*(0,2+1)","*(0,2+1)","*(0,2+1)","","*(0,2+1)","*(0,2+1)","","","",0,0,1,1,null,null,null,1013,"ШТ","ШТ",1,null,"","","","",null,83666744,4,"Пусконаладочные работы",83,"Пусконаладочные работы",4,200001,"Пусконаладочные работы Электротехнические устройства","ФЕРп",null,"Поправка: 421/пр_2020_прил.10_т.1_п.4_гр.3",null,131072,0,0,0,0,0,1,0,0,null,null,null,null,null,null,null,null,null,null,null,null,null,null,null,null,null,0,0,0,null,null,null,null,74,36,null,"",null,null,1,null,1347420768,2,1,-2,0,0,{"$f":"ROUND(IF(AND(BH557=3,BI557=3,FS557<>0),P557,0),2)","v":0},{"$f":"ROUND(O557+X557+Y557,2)+GX557","v":2717.44},{"$f":"IF(OR(BI557=0,BI557=1),GM557-GX557,0)","v":0},{"$f":"IF(BI557=2,GM557-GX557,0)","v":0},{"$f":"IF(BI557=4,GM557-GX557,0)","v":2717.44},null,0,0,0,"",{"$f":"ROUND((GT557),2)","v":0},1,{"$f":"ROUND(HC557*I557,2)","v":0},null,null,0,0,{"$f":"GV557*GW557","v":0},null,"","",null,null,null,null,null,null,"","Пр/812-083.0-1","Пр/774-083.0","Пусконаладочные работы","Пусконаладочные работы",null,0,null,null,null,null,null,null,null,null,null,null,null,null,null,null,null,null,null,0]
[17,1,{"$f":"ROW(SmtRes!A664)","v":664},{"$f":"ROW(EtalonRes!A664)","v":664},"5","п01-11-013-01","Замер полного сопротивления цепи \"фаза-нуль\"","ШТ",1,0,1,1,0,{"$f":"ROUND(L558-M558,4)","v":1},{"$f":"ROUND(CP558,2)","v":1294.02},{"$f":"SUMIF(SmtRes!AQ663:'SmtRes'!AQ664,\"=1\",SmtRes!DF663:'SmtRes'!DF664)","v":0},{"$f":"SUMIF(SmtRes!AQ663:'SmtRes'!AQ664,\"=1\",SmtRes!DG663:'SmtRes'!DG664)","v":0},{"$f":"SUMIF(SmtRes!AQ663:'SmtRes'!AQ664,\"=1\",SmtRes!DH663:'SmtRes'!DH664)","v":0},{"$f":"SUMIF(SmtRes!AQ663:'SmtRes'!AQ664,\"=1\",SmtRes!DI663:'SmtRes'!DI664)","v":1294.02},{"$f":"ROUND(CU558*I558,2)","v":0},{"$f":"SUMIF(SmtRes!AQ663:'SmtRes'!AQ664,\"=1\",SmtRes!CV663:'SmtRes'!CV664)","v":1.2},{"$f":"SUMIF(SmtRes!AQ663:'SmtRes'!AQ664,\"=1\",SmtRes!CW663:'SmtRes'!CW664)","v":0},{"$f":"ROUND(CX558*I558,2)","v":0},{"$f":"ROUND(CY558,2)","v":957.57},{"$f":"ROUND(CZ558,2)","v":465.85},null,85312298,{"$f":"ROUND((AC558+AD558+AF558),2)","v":1294.01},{"$f":"ROUND((0),2)","v":0},{"$f":"ROUND((((0)-(0))+AE558),2)","v":0},{"$f":"ROUND((0),2)","v":0},{"$f":"ROUND((SUM(SmtRes!BT663:'SmtRes'!BT664)),2)","v":1294.01},{"$f":"ROUND((AP558),2)","v":0},{"$f":"(SUM(SmtRes!BU663:'SmtRes'!BU664))","v":1.2},{"$f":"(0)","v":0},{"$f":"(AS558)","v":0},1078.345,0,0,0,1078.345,0,1,0,0,74,36,1,1,null,null,1,1,1,1,"","","","",0,4,"ГЭСНп-2022, п01-11-013-01, приказ Минстроя России от 18.05.2022 г. № 378/пр",null,null,200001,0,"",0,4,0,1,1,1,1,1,1,"",74,36,"",null,null,0,0,0,5,0,0,0,0,0,"Поправка: 421/пр_2020_прил.10_т.1_п.4_гр.3 Наименование: Производство работ осуществляется в охранной зоне действующей воздушной линии электропередачи, вблизи объектов, находящихся под напряжением, внутри объектов капитального строительства, внутренняя проводка в которых не обесточена, если это приведет к ограничению действий рабочих в соответствии с требованиями техники безопасности",0,{"$f":"(P558+Q558+S558+R558)","v":1294.02},{"$f":"SUMIF(SmtRes!AQ663:'SmtRes'!AQ664,\"=1\",SmtRes!AA663:'SmtRes'!AA664)","v":0},{"$f":"SUMIF(SmtRes!AQ663:'SmtRes'!AQ664,\"=1\",SmtRes!AB663:'SmtRes'!AB664)","v":0},{"$f":"SUMIF(SmtRes!AQ663:'SmtRes'!AQ664,\"=1\",SmtRes!AC663:'SmtRes'!AC664)","v":0},{"$f":"SUMIF(SmtRes!AQ663:'SmtRes'!AQ664,\"=1\",SmtRes!AD663:'SmtRes'!AD664)","v":2156.69},{"$f":"AG558","v":0},{"$f":"SUMIF(SmtRes!AQ663:'SmtRes'!AQ664,\"=1\",SmtRes!BU663:'SmtRes'!BU664)","v":1.2},{"$f":"SUMIF(SmtRes!AQ663:'SmtRes'!AQ664,\"=1\",SmtRes!BV663:'SmtRes'!BV664)","v":0},{"$f":"AJ558","v":0},{"$f":"(((S558+R558)*AT558)/100)","v":957.57479999999998},{"$f":"(((S558+R558)*AU558)/100)","v":465.84719999999999},null,48,"","","*(0,2+1)","*(0,2+1)","*(0,2+1)","","*(0,2+1)","*(0,2+1)","","","",0,0,1,1,null,null,null,1013,"ШТ","ШТ",1,null,"","","","",null,83666744,4,"Пусконаладочные работы",83,"Пусконаладочные работы",4,200001,"Пусконаладочные работы Электротехнические устройства","ФЕРп",null,"Поправка: 421/пр_2020_прил.10_т.1_п.4_гр.3",null,131072,0,0,0,0,0,1,0,0,null,null,null,null,null,null,null,null,null,null,null,null,null,null,null,null,null,0,0,0,null,null,null,null,74,36,null,"",null,null,1,null,1347420768,2,1,-2,0,0,{"$f":"ROUND(IF(AND(BH558=3,BI558=3,FS558<>0),P558,0),2)","v":0},{"$f":"ROUND(O558+X558+Y558,2)+GX558","v":2717.44},{"$f":"IF(OR(BI558=0,BI558=1),GM558-GX558,0)","v":0},{"$f":"IF(BI558=2,GM558-GX558,0)","v":0},{"$f":"IF(BI558=4,GM558-GX558,0)","v":2717.44},null,0,0,0,"",{"$f":"ROUND((GT558),2)","v":0},1,{"$f":"ROUND(HC558*I558,2)","v":0},null,null,0,0,{"$f":"GV558*GW558","v":0},null,"","",null,null,null,null,null,null,"","Пр/812-083.0-1","Пр/774-083.0","Пусконаладочные работы","Пусконаладочные работы",null,0,null,null,null,null,null,null,null,null,null,null,null,null,null,null,null,null,null,0]
[19,1,null,null,null,"","Если есть выключатель автоматический, то эта расценка должна быть! Кол-во по ВОР","",null,null,null,null,null,null,null,null,null,null,null,null,null,null,null,null,null,null,1,null,null,null,null,null,null,null,null,null,null,null,null,null,null,null,null,null,null,null,null,null,null,null,null,null,null,null,null,null,null,null,null,null,null,null,null,null,null,null,null,null,null,null,null,null,null,null,null,null,null,null,null,null,null,null,null,null,null,null,null,null,null,null,null,null,null,null,null,null,null,null,null,null,null,null,null,null,null,null,null,null,null,null,null,null,null,null,null,null,null,null,null,null,null,null,null,null,null,null,null,null,null,null,null,null,null,null,null,null,null,null,null,null,null,null,null,null,null,null,null,null,null,null,null,null,null,null,null,null,null,null,null,null,null,null,null,null,null,null,null,null,null,null,null,null,null,null,null,null,null,null,null,null,null,null,null,null,null,null,null,null,null,null,null,null,null,null,null,null,null,null,null,null,null,null,null,null,null,null,null,null,null,null,null,null,null,null,null,null,null,null,null,null,null,null,null,null,null,null,null,null,null,null,null,null,null,null,null,null,null,null,null,null,null,null,null,null,0]
[17,1,{"$f":"ROW(SmtRes!A666)","v":666},{"$f":"ROW(EtalonRes!A666)","v":666},"6","п01-11-028-01","Измерение сопротивления изоляции (на линию) мегаомметром кабельных и других линий напряжением до 1 кВ, предназначенных для передачи электроэнергии к распределительным устройствам, щитам, шкафам, коммутационным аппаратам и электропотребителям","ШТ",1,0,1,1,0,{"$f":"ROUND(L560-M560,4)","v":1},{"$f":"ROUND(CP560,2)","v":414.09},{"$f":"SUMIF(SmtRes!AQ665:'SmtRes'!AQ666,\"=1\",SmtRes!DF665:'SmtRes'!DF666)","v":0},{"$f":"SUMIF(SmtRes!AQ665:'SmtRes'!AQ666,\"=1\",SmtRes!DG665:'SmtRes'!DG666)","v":0},{"$f":"SUMIF(SmtRes!AQ665:'SmtRes'!AQ666,\"=1\",SmtRes!DH665:'SmtRes'!DH666)","v":0},{"$f":"SUMIF(SmtRes!AQ665:'SmtRes'!AQ666,\"=1\",SmtRes!DI665:'SmtRes'!DI666)","v":414.09000000000003},{"$f":"ROUND(CU560*I560,2)","v":0},{"$f":"SUMIF(SmtRes!AQ665:'SmtRes'!AQ666,\"=1\",SmtRes!CV665:'SmtRes'!CV666)","v":0.38400000000000001},{"$f":"SUMIF(SmtRes!AQ665:'SmtRes'!AQ666,\"=1\",SmtRes!CW665:'SmtRes'!CW666)","v":0},{"$f":"ROUND(CX560*I560,2)","v":0},{"$f":"ROUND(CY560,2)","v":306.43},{"$f":"ROUND(CZ560,2)","v":149.07},null,85312357,{"$f":"ROUND((AC560+AD560+AF560),2)","v":414.08},{"$f":"ROUND((0),2)","v":0},{"$f":"ROUND((((0)-(0))+AE560),2)","v":0},{"$f":"ROUND((0),2)","v":0},{"$f":"ROUND((SUM(SmtRes!BT665:'SmtRes'!BT666)),2)","v":414.08},{"$f":"ROUND((AP560),2)","v":0},{"$f":"(SUM(SmtRes!BU665:'SmtRes'!BU666))","v":0.38400000000000001},{"$f":"(0)","v":0},{"$f":"(AS560)","v":0},345.07040000000001,0,0,0,345.07040000000001,0,0.32,0,0,74,36,1,1,null,null,1,1,1,1,"","","","",0,4,"ГЭСНп-2022, п01-11-028-01, приказ Минстроя России от 18.05.2022 г. № 378/пр",null,null,200001,0,"",0,4,0,1,1,1,1,1,1,"",74,36,"",null,null,0,0,0,6,0,0,0,0,0,"Поправка: 421/пр_2020_прил.10_т.7_п.3_гр.3 Наименование: Производство работ осуществляется в охранной зоне действующей воздушной линии электропередачи, вблизи объектов, находящихся под напряжением, внутри объектов капитального строительства, внутренняя проводка в которых не обесточена, если это приведет к ограничению действий рабочих в соответствии с требованиями техники безопасности",0,{"$f":"(P560+Q560+S560+R560)","v":414.09000000000003},{"$f":"SUMIF(SmtRes!AQ665:'SmtRes'!AQ666,\"=1\",SmtRes!AA665:'SmtRes'!AA666)","v":0},{"$f":"SUMIF(SmtRes!AQ665:'SmtRes'!AQ666,\"=1\",SmtRes!AB665:'SmtRes'!AB666)","v":0},{"$f":"SUMIF(SmtRes!AQ665:'SmtRes'!AQ666,\"=1\",SmtRes!AC665:'SmtRes'!AC666)","v":0},{"$f":"SUMIF(SmtRes!AQ665:'SmtRes'!AQ666,\"=1\",SmtRes!AD665:'SmtRes'!AD666)","v":2156.69},{"$f":"AG560","v":0},{"$f":"SUMIF(SmtRes!AQ665:'SmtRes'!AQ666,\"=1\",SmtRes!BU665:'SmtRes'!BU666)","v":0.38400000000000001},{"$f":"SUMIF(SmtRes!AQ665:'SmtRes'!AQ666,\"=1\",SmtRes!BV665:'SmtRes'!BV666)","v":0},{"$f":"AJ560","v":0},{"$f":"(((S560+R560)*AT560)/100)","v":306.42660000000001},{"$f":"(((S560+R560)*AU560)/100)","v":149.07240000000002},null,49,"","","*(0,2+1)","*(0,2+1)","*(0,2+1)","","*(0,2+1)","*(0,2+1)","","","",0,0,1,1,null,null,null,1013,"ШТ","ШТ",1,null,"","","","",null,83666744,4,"Пусконаладочные работы",83,"Пусконаладочные работы",4,200001,"Пусконаладочные работы Электротехнические устройства","ФЕРп",null,"Поправка: 421/пр_2020_прил.10_т.7_п.3_гр.3",null,131072,0,0,0,0,0,0.32,0,0,null,null,null,null,null,null,null,null,null,null,null,null,null,null,null,null,null,0,0,0,null,null,null,null,74,36,null,"",null,null,1,null,-105858117,2,1,-2,0,0,{"$f":"ROUND(IF(AND(BH560=3,BI560=3,FS560<>0),P560,0),2)","v":0},{"$f":"ROUND(O560+X560+Y560,2)+GX560","v":869.59},{"$f":"IF(OR(BI560=0,BI560=1),GM560-GX560,0)","v":0},{"$f":"IF(BI560=2,GM560-GX560,0)","v":0},{"$f":"IF(BI560=4,GM560-GX560,0)","v":869.59},null,0,0,0,"",{"$f":"ROUND((GT560),2)","v":0},1,{"$f":"ROUND(HC560*I560,2)","v":0},null,null,0,0,{"$f":"GV560*GW560","v":0},null,"","",null,null,null,null,null,null,"","Пр/812-083.0-1","Пр/774-083.0","Пусконаладочные работы","Пусконаладочные работы",null,0,null,null,null,null,null,null,null,null,null,null,null,null,null,null,null,null,null,0]
[17,1,{"$f":"ROW(SmtRes!A668)","v":668},{"$f":"ROW(EtalonRes!A668)","v":668},"6","п01-11-028-01","Измерение сопротивления изоляции (на линию) мегаомметром кабельных и других линий напряжением до 1 кВ, предназначенных для передачи электроэнергии к распределительным устройствам, щитам, шкафам, коммутационным аппаратам и электропотребителям","ШТ",1,0,1,1,0,{"$f":"ROUND(L561-M561,4)","v":1},{"$f":"ROUND(CP561,2)","v":414.09},{"$f":"SUMIF(SmtRes!AQ667:'SmtRes'!AQ668,\"=1\",SmtRes!DF667:'SmtRes'!DF668)","v":0},{"$f":"SUMIF(SmtRes!AQ667:'SmtRes'!AQ668,\"=1\",SmtRes!DG667:'SmtRes'!DG668)","v":0},{"$f":"SUMIF(SmtRes!AQ667:'SmtRes'!AQ668,\"=1\",SmtRes!DH667:'SmtRes'!DH668)","v":0},{"$f":"SUMIF(SmtRes!AQ667:'SmtRes'!AQ668,\"=1\",SmtRes!DI667:'SmtRes'!DI668)","v":414.09000000000003},{"$f":"ROUND(CU561*I561,2)","v":0},{"$f":"SUMIF(SmtRes!AQ667:'SmtRes'!AQ668,\"=1\",SmtRes!CV667:'SmtRes'!CV668)","v":0.38400000000000001},{"$f":"SUMIF(SmtRes!AQ667:'SmtRes'!AQ668,\"=1\",SmtRes!CW667:'SmtRes'!CW668)","v":0},{"$f":"ROUND(CX561*I561,2)","v":0},{"$f":"ROUND(CY561,2)","v":306.43},{"$f":"ROUND(CZ561,2)","v":149.07},null,85312298,{"$f":"ROUND((AC561+AD561+AF561),2)","v":414.08},{"$f":"ROUND((0),2)","v":0},{"$f":"ROUND((((0)-(0))+AE561),2)","v":0},{"$f":"ROUND((0),2)","v":0},{"$f":"ROUND((SUM(SmtRes!BT667:'SmtRes'!BT668)),2)","v":414.08},{"$f":"ROUND((AP561),2)","v":0},{"$f":"(SUM(SmtRes!BU667:'SmtRes'!BU668))","v":0.38400000000000001},{"$f":"(0)","v":0},{"$f":"(AS561)","v":0},345.07040000000001,0,0,0,345.07040000000001,0,0.32,0,0,74,36,1,1,null,null,1,1,1,1,"","","","",0,4,"ГЭСНп-2022, п01-11-028-01, приказ Минстроя России от 18.05.2022 г. № 378/пр",null,null,200001,0,"",0,4,0,1,1,1,1,1,1,"",74,36,"",null,null,0,0,0,6,0,0,0,0,0,"Поправка: 421/пр_2020_прил.10_т.7_п.3_гр.3 Наименование: Производство работ осуществляется в охранной зоне действующей воздушной линии электропередачи, вблизи объектов, находящихся под напряжением, внутри объектов капитального строительства, внутренняя проводка в которых не обесточена, если это приведет к ограничению действий рабочих в соответствии с требованиями техники безопасности",0,{"$f":"(P561+Q561+S561+R561)","v":414.09000000000003},{"$f":"SUMIF(SmtRes!AQ667:'SmtRes'!AQ668,\"=1\",SmtRes!AA667:'SmtRes'!AA668)","v":0},{"$f":"SUMIF(SmtRes!AQ667:'SmtRes'!AQ668,\"=1\",SmtRes!AB667:'SmtRes'!AB668)","v":0},{"$f":"SUMIF(SmtRes!AQ667:'SmtRes'!AQ668,\"=1\",SmtRes!AC667:'SmtRes'!AC668)","v":0},{"$f":"SUMIF(SmtRes!AQ667:'SmtRes'!AQ668,\"=1\",SmtRes!AD667:'SmtRes'!AD668)","v":2156.69},{"$f":"AG561","v":0},{"$f":"SUMIF(SmtRes!AQ667:'SmtRes'!AQ668,\"=1\",SmtRes!BU667:'SmtRes'!BU668)","v":0.38400000000000001},{"$f":"SUMIF(SmtRes!AQ667:'SmtRes'!AQ668,\"=1\",SmtRes!BV667:'SmtRes'!BV668)","v":0},{"$f":"AJ561","v":0},{"$f":"(((S561+R561)*AT561)/100)","v":306.42660000000001},{"$f":"(((S561+R561)*AU561)/100)","v":149.07240000000002},null,50,"","","*(0,2+1)","*(0,2+1)","*(0,2+1)","","*(0,2+1)","*(0,2+1)","","","",0,0,1,1,null,null,null,1013,"ШТ","ШТ",1,null,"","","","",null,83666744,4,"Пусконаладочные работы",83,"Пусконаладочные работы",4,200001,"Пусконаладочные работы Электротехнические устройства","ФЕРп",null,"Поправка: 421/пр_2020_прил.10_т.7_п.3_гр.3",null,131072,0,0,0,0,0,0.32,0,0,null,null,null,null,null,null,null,null,null,null,null,null,null,null,null,null,null,0,0,0,null,null,null,null,74,36,null,"",null,null,1,null,-105858117,2,1,-2,0,0,{"$f":"ROUND(IF(AND(BH561=3,BI561=3,FS561<>0),P561,0),2)","v":0},{"$f":"ROUND(O561+X561+Y561,2)+GX561","v":869.59},{"$f":"IF(OR(BI561=0,BI561=1),GM561-GX561,0)","v":0},{"$f":"IF(BI561=2,GM561-GX561,0)","v":0},{"$f":"IF(BI561=4,GM561-GX561,0)","v":869.59},null,0,0,0,"",{"$f":"ROUND((GT561),2)","v":0},1,{"$f":"ROUND(HC561*I561,2)","v":0},null,null,0,0,{"$f":"GV561*GW561","v":0},null,"","",null,null,null,null,null,null,"","Пр/812-083.0-1","Пр/774-083.0","Пусконаладочные работы","Пусконаладочные работы",null,0,null,null,null,null,null,null,null,null,null,null,null,null,null,null,null,null,null,0]
[19,1,null,null,null,"","Применяется в том случае, если у нас есть подключение к щитам, шкафам, ТП и так далее","",null,null,null,null,null,null,null,null,null,null,null,null,null,null,null,null,null,null,1,null,null,null,null,null,null,null,null,null,null,null,null,null,null,null,null,null,null,null,null,null,null,null,null,null,null,null,null,null,null,null,null,null,null,null,null,null,null,null,null,null,null,null,null,null,null,null,null,null,null,null,null,null,null,null,null,null,null,null,null,null,null,null,null,null,null,null,null,null,null,null,null,null,null,null,null,null,null,null,null,null,null,null,null,null,null,null,null,null,null,null,null,null,null,null,null,null,null,null,null,null,null,null,null,null,null,null,null,null,null,null,null,null,null,null,null,null,null,null,null,null,null,null,null,null,null,null,null,null,null,null,null,null,null,null,null,null,null,null,null,null,null,null,null,null,null,null,null,null,null,null,null,null,null,null,null,null,null,null,null,null,null,null,null,null,null,null,null,null,null,null,null,null,null,null,null,null,null,null,null,null,null,null,null,null,null,null,null,null,null,null,null,null,null,null,null,null,null,null,null,null,null,null,null,null,null,null,null,null,null,null,null,null,null,null,null,null,0]
[17,1,{"$f":"ROW(SmtRes!A670)","v":670},{"$f":"ROW(EtalonRes!A670)","v":670},"","п01-12-020-01","Испытание сборных и соединительных шин напряжением: до 11 кВ","испытание",1,0,1,1,0,{"$f":"ROUND(L563-M563,4)","v":1},{"$f":"ROUND(CP563,2)","v":8435.82},{"$f":"SUMIF(SmtRes!AQ669:'SmtRes'!AQ670,\"=1\",SmtRes!DF669:'SmtRes'!DF670)","v":0},{"$f":"SUMIF(SmtRes!AQ669:'SmtRes'!AQ670,\"=1\",SmtRes!DG669:'SmtRes'!DG670)","v":0},{"$f":"SUMIF(SmtRes!AQ669:'SmtRes'!AQ670,\"=1\",SmtRes!DH669:'SmtRes'!DH670)","v":0},{"$f":"SUMIF(SmtRes!AQ669:'SmtRes'!AQ670,\"=1\",SmtRes!DI669:'SmtRes'!DI670)","v":8435.82},{"$f":"ROUND(CU563*I563,2)","v":0},{"$f":"SUMIF(SmtRes!AQ669:'SmtRes'!AQ670,\"=1\",SmtRes!CV669:'SmtRes'!CV670)","v":8.7479999999999993},{"$f":"SUMIF(SmtRes!AQ669:'SmtRes'!AQ670,\"=1\",SmtRes!CW669:'SmtRes'!CW670)","v":0},{"$f":"ROUND(CX563*I563,2)","v":0},{"$f":"ROUND(CY563,2)","v":6242.51},{"$f":"ROUND(CZ563,2)","v":3036.9},null,-1,{"$f":"ROUND((AC563+AD563+AF563),2)","v":8435.82},{"$f":"ROUND((0),2)","v":0},{"$f":"ROUND((((0)-(0))+AE563),2)","v":0},{"$f":"ROUND((0),2)","v":0},{"$f":"ROUND((SUM(SmtRes!BT669:'SmtRes'!BT670)),2)","v":8435.82},{"$f":"ROUND((AP563),2)","v":0},{"$f":"(SUM(SmtRes!BU669:'SmtRes'!BU670))","v":8.7479999999999993},{"$f":"(0)","v":0},{"$f":"(AS563)","v":0},7029.8518999999997,0,0,0,7029.8518999999997,0,7.29,0,0,74,36,1,1,null,null,1,1,1,1,"","","","",0,4,"ГЭСНп-2022, п01-12-020-01, приказ Минстроя России от 18.05.2022 г. № 378/пр",null,null,200001,0,"",0,4,0,1,1,1,1,1,1,"",74,36,"",null,null,0,0,0,0,0,0,0,0,0,"Поправка: 421/пр_2020_прил.10_т.1_п.4_гр.3 Наименование: Производство работ осуществляется в охранной зоне действующей воздушной линии электропередачи, вблизи объектов, находящихся под напряжением, внутри объектов капитального строительства, внутренняя проводка в которых не обесточена, если это приведет к ограничению действий рабочих в соответствии с требованиями техники безопасности",0,{"$f":"(P563+Q563+S563+R563)","v":8435.82},{"$f":"SUMIF(SmtRes!AQ669:'SmtRes'!AQ670,\"=1\",SmtRes!AA669:'SmtRes'!AA670)","v":0},{"$f":"SUMIF(SmtRes!AQ669:'SmtRes'!AQ670,\"=1\",SmtRes!AB669:'SmtRes'!AB670)","v":0},{"$f":"SUMIF(SmtRes!AQ669:'SmtRes'!AQ670,\"=1\",SmtRes!AC669:'SmtRes'!AC670)","v":0},{"$f":"SUMIF(SmtRes!AQ669:'SmtRes'!AQ670,\"=1\",SmtRes!AD669:'SmtRes'!AD670)","v":1878.02},{"$f":"AG563","v":0},{"$f":"SUMIF(SmtRes!AQ669:'SmtRes'!AQ670,\"=1\",SmtRes!BU669:'SmtRes'!BU670)","v":8.7479999999999993},{"$f":"SUMIF(SmtRes!AQ669:'SmtRes'!AQ670,\"=1\",SmtRes!BV669:'SmtRes'!BV670)","v":0},{"$f":"AJ563","v":0},{"$f":"(((S563+R563)*AT563)/100)","v":6242.5067999999992},{"$f":"(((S563+R563)*AU563)/100)","v":3036.8952000000004},null,51,"","","*(0,2+1)","*(0,2+1)","*(0,2+1)","","*(0,2+1)","*(0,2+1)","","","",0,0,1,1,null,null,null,1013,"испытание","испытание",1,null,"","","","",null,83666744,4,"Пусконаладочные работы",83,"Пусконаладочные работы",4,200001,"Пусконаладочные работы Электротехнические устройства","ФЕРп",null,"Поправка: 421/пр_2020_прил.10_т.1_п.4_гр.3",null,132096,0,0,0,0,0,7.29,0,0,null,null,null,null,null,null,null,null,null,null,null,null,null,null,null,null,null,0,0,0,null,null,null,null,74,36,null,"",null,null,1,null,1597745428,2,1,-2,0,0,{"$f":"ROUND(IF(AND(BH563=3,BI563=3,FS563<>0),P563,0),2)","v":0},{"$f":"ROUND(O563+X563+Y563,2)+GX563","v":17715.23},{"$f":"IF(OR(BI563=0,BI563=1),GM563-GX563,0)","v":0},{"$f":"IF(BI563=2,GM563-GX563,0)","v":0},{"$f":"IF(BI563=4,GM563-GX563,0)","v":17715.23},null,0,0,0,"",{"$f":"ROUND((GT563),2)","v":0},1,{"$f":"ROUND(HC563*I563,2)","v":0},null,null,0,0,{"$f":"GV563*GW563","v":0},null,"","",null,null,null,null,null,null,"","Пр/812-083.0-1","Пр/774-083.0","Пусконаладочные работы","Пусконаладочные работы",null,0,null,null,null,null,null,null,null,null,null,null,null,null,null,null,null,null,null,0]
[17,1,{"$f":"ROW(SmtRes!A672)","v":672},{"$f":"ROW(EtalonRes!A672)","v":672},"","п01-12-020-01","Испытание сборных и соединительных шин напряжением: до 11 кВ","испытание",1,0,1,1,0,{"$f":"ROUND(L564-M564,4)","v":1},{"$f":"ROUND(CP564,2)","v":8435.82},{"$f":"SUMIF(SmtRes!AQ671:'SmtRes'!AQ672,\"=1\",SmtRes!DF671:'SmtRes'!DF672)","v":0},{"$f":"SUMIF(SmtRes!AQ671:'SmtRes'!AQ672,\"=1\",SmtRes!DG671:'SmtRes'!DG672)","v":0},{"$f":"SUMIF(SmtRes!AQ671:'SmtRes'!AQ672,\"=1\",SmtRes!DH671:'SmtRes'!DH672)","v":0},{"$f":"SUMIF(SmtRes!AQ671:'SmtRes'!AQ672,\"=1\",SmtRes!DI671:'SmtRes'!DI672)","v":8435.82},{"$f":"ROUND(CU564*I564,2)","v":0},{"$f":"SUMIF(SmtRes!AQ671:'SmtRes'!AQ672,\"=1\",SmtRes!CV671:'SmtRes'!CV672)","v":8.7479999999999993},{"$f":"SUMIF(SmtRes!AQ671:'SmtRes'!AQ672,\"=1\",SmtRes!CW671:'SmtRes'!CW672)","v":0},{"$f":"ROUND(CX564*I564,2)","v":0},{"$f":"ROUND(CY564,2)","v":6242.51},{"$f":"ROUND(CZ564,2)","v":3036.9},null,-1,{"$f":"ROUND((AC564+AD564+AF564),2)","v":8435.82},{"$f":"ROUND((0),2)","v":0},{"$f":"ROUND((((0)-(0))+AE564),2)","v":0},{"$f":"ROUND((0),2)","v":0},{"$f":"ROUND((SUM(SmtRes!BT671:'SmtRes'!BT672)),2)","v":8435.82},{"$f":"ROUND((AP564),2)","v":0},{"$f":"(SUM(SmtRes!BU671:'SmtRes'!BU672))","v":8.7479999999999993},{"$f":"(0)","v":0},{"$f":"(AS564)","v":0},7029.8518999999997,0,0,0,7029.8518999999997,0,7.29,0,0,74,36,1,1,null,null,1,1,1,1,"","","","",0,4,"ГЭСНп-2022, п01-12-020-01, приказ Минстроя России от 18.05.2022 г. № 378/пр",null,null,200001,0,"",0,4,0,1,1,1,1,1,1,"",74,36,"",null,null,0,0,0,0,0,0,0,0,0,"Поправка: 421/пр_2020_прил.10_т.1_п.4_гр.3 Наименование: Производство работ осуществляется в охранной зоне действующей воздушной линии электропередачи, вблизи объектов, находящихся под напряжением, внутри объектов капитального строительства, внутренняя проводка в которых не обесточена, если это приведет к ограничению действий рабочих в соответствии с требованиями техники безопасности",0,{"$f":"(P564+Q564+S564+R564)","v":8435.82},{"$f":"SUMIF(SmtRes!AQ671:'SmtRes'!AQ672,\"=1\",SmtRes!AA671:'SmtRes'!AA672)","v":0},{"$f":"SUMIF(SmtRes!AQ671:'SmtRes'!AQ672,\"=1\",SmtRes!AB671:'SmtRes'!AB672)","v":0},{"$f":"SUMIF(SmtRes!AQ671:'SmtRes'!AQ672,\"=1\",SmtRes!AC671:'SmtRes'!AC672)","v":0},{"$f":"SUMIF(SmtRes!AQ671:'SmtRes'!AQ672,\"=1\",SmtRes!AD671:'SmtRes'!AD672)","v":1878.02},{"$f":"AG564","v":0},{"$f":"SUMIF(SmtRes!AQ671:'SmtRes'!AQ672,\"=1\",SmtRes!BU671:'SmtRes'!BU672)","v":8.7479999999999993},{"$f":"SUMIF(SmtRes!AQ671:'SmtRes'!AQ672,\"=1\",SmtRes!BV671:'SmtRes'!BV672)","v":0},{"$f":"AJ564","v":0},{"$f":"(((S564+R564)*AT564)/100)","v":6242.5067999999992},{"$f":"(((S564+R564)*AU564)/100)","v":3036.8952000000004},null,52,"","","*(0,2+1)","*(0,2+1)","*(0,2+1)","","*(0,2+1)","*(0,2+1)","","","",0,0,1,1,null,null,null,1013,"испытание","испытание",1,null,"","","","",null,83666744,4,"Пусконаладочные работы",83,"Пусконаладочные работы",4,200001,"Пусконаладочные работы Электротехнические устройства","ФЕРп",null,"Поправка: 421/пр_2020_прил.10_т.1_п.4_гр.3",null,132096,0,0,0,0,0,7.29,0,0,null,null,null,null,null,null,null,null,null,null,null,null,null,null,null,null,null,0,0,0,null,null,null,null,74,36,null,"",null,null,1,null,1597745428,2,1,-2,0,0,{"$f":"ROUND(IF(AND(BH564=3,BI564=3,FS564<>0),P564,0),2)","v":0},{"$f":"ROUND(O564+X564+Y564,2)+GX564","v":17715.23},{"$f":"IF(OR(BI564=0,BI564=1),GM564-GX564,0)","v":0},{"$f":"IF(BI564=2,GM564-GX564,0)","v":0},{"$f":"IF(BI564=4,GM564-GX564,0)","v":17715.23},null,0,0,0,"",{"$f":"ROUND((GT564),2)","v":0},1,{"$f":"ROUND(HC564*I564,2)","v":0},null,null,0,0,{"$f":"GV564*GW564","v":0},null,"","",null,null,null,null,null,null,"","Пр/812-083.0-1","Пр/774-083.0","Пусконаладочные работы","Пусконаладочные работы",null,0,null,null,null,null,null,null,null,null,null,null,null,null,null,null,null,null,null,0]
[19,1,null,null,null,"","В ВОР \"Установка ОПН-6кВ\" или если в спецификации есть \"Ограничитель перенапряжения ОПН-6\" тогда можно применить эту расценку даже для Самозвон. Кол-во берем по кол-ву ОПН в спеецификации или из ВОР (они должны равняться). Из Спецификации в метрах. Обычно 1,5 метра на 1 выключатель, т.е. по 0,5 метра на каждую фазу. Картинку можно посмотреть из ватсап проеектировщика \"Жидовленко Андрей\" по поиску: \"автоматы а сверху эти маленькие шинки\" (см фото)","",null,null,null,null,null,null,null,null,null,null,null,null,null,null,null,null,null,null,1,null,null,null,null,null,null,null,null,null,null,null,null,null,null,null,null,null,null,null,null,null,null,null,null,null,null,null,null,null,null,null,null,null,null,null,null,null,null,null,null,null,null,null,null,null,null,null,null,null,null,null,null,null,null,null,null,null,null,null,null,null,null,null,null,null,null,null,null,null,null,null,null,null,null,null,null,null,null,null,null,null,null,null,null,null,null,null,null,null,null,null,null,null,null,null,null,null,null,null,null,null,null,null,null,null,null,null,null,null,null,null,null,null,null,null,null,null,null,null,null,null,null,null,null,null,null,null,null,null,null,null,null,null,null,null,null,null,null,null,null,null,null,null,null,null,null,null,null,null,null,null,null,null,null,null,null,null,null,null,null,null,null,null,null,null,null,null,null,null,null,null,null,null,null,null,null,null,null,null,null,null,null,null,null,null,null,null,null,null,null,null,null,null,null,null,null,null,null,null,null,null,null,null,null,null,null,null,null,null,null,null,null,null,null,null,null,null,0]
[]
[51,{"$f":"B538","v":1},{"$f":"A538","v":4},{"$f":"ROW(A538)","v":538},null,{"$f":"IF(F538<>\"\",F538,\"\")","v":"Новый раздел"},{"$f":"IF(G538<>\"\",G538,\"\")","v":"ПНР"},0,null,null,null,null,null,null,{"$f":"ROUND(AB567,2)","v":15601.67},0,0,0,15601.67,0,{"$f":"AH567","v":14.468159999999999},{"$f":"AI567","v":0},{"$f":"ROUND(AJ567,2)","v":0},{"$f":"ROUND(AK567,2)","v":11545.24},{"$f":"ROUND(AL567,2)","v":5616.61},null,null,{"$f":"ROUND(SUMIF(AA542:AA564,\"=85312357\",O542:O564),2)","v":15601.67},{"$f":"ROUND(SUMIF(AA542:AA564,\"=85312357\",P542:P564),2)","v":0},{"$f":"ROUND(SUMIF(AA542:AA564,\"=85312357\",Q542:Q564),2)","v":0},{"$f":"ROUND(SUMIF(AA542:AA564,\"=85312357\",R542:R564),2)","v":0},{"$f":"ROUND(SUMIF(AA542:AA564,\"=85312357\",S542:S564),2)","v":15601.67},{"$f":"ROUND(SUMIF(AA542:AA564,\"=85312357\",T542:T564),2)","v":0},{"$f":"SUMIF(AA542:AA564,\"=85312357\",U542:U564)","v":14.468159999999999},{"$f":"SUMIF(AA542:AA564,\"=85312357\",V542:V564)","v":0},{"$f":"ROUND(SUMIF(AA542:AA564,\"=85312357\",W542:W564),2)","v":0},{"$f":"ROUND(SUMIF(AA542:AA564,\"=85312357\",X542:X564),2)","v":11545.24},{"$f":"ROUND(SUMIF(AA542:AA564,\"=85312357\",Y542:Y564),2)","v":5616.61},null,null,{"$f":"ROUND(BX567,2)","v":0},0,0,32763.52,0,0,32763.52,0,0,0,0,0,0,0,0,0,null,null,null,null,null,null,null,null,null,null,null,null,null,null,null,null,null,null,null,{"$f":"ROUND(SUMIF(AA542:AA564,\"=85312357\",FQ542:FQ564),2)","v":0},{"$f":"ROUND(SUMIF(AA542:AA564,\"=85312357\",FR542:FR564),2)","v":0},{"$f":"ROUND(SUMIF(AA542:AA564,\"=85312357\",GL542:GL564),2)","v":0},{"$f":"ROUND(SUMIF(AA542:AA564,\"=85312357\",GM542:GM564),2)","v":32763.52},{"$f":"ROUND(SUMIF(AA542:AA564,\"=85312357\",GN542:GN564),2)","v":0},{"$f":"ROUND(SUMIF(AA542:AA564,\"=85312357\",GO542:GO564),2)","v":0},{"$f":"ROUND(SUMIF(AA542:AA564,\"=85312357\",GP542:GP564),2)","v":32763.52},{"$f":"AC567-BX567","v":0},{"$f":"AC567-BY567","v":0},{"$f":"BX567-BZ567","v":0},{"$f":"AC567-BX567-BY567+BZ567","v":0},{"$f":"BY567-BZ567","v":0},{"$f":"ROUND(SUMIF(AA542:AA564,\"=85312357\",GX542:GX564),2)","v":0},{"$f":"ROUND(SUMIF(AA542:AA564,\"=85312357\",GY542:GY564),2)","v":0},{"$f":"ROUND(SUMIF(AA542:AA564,\"=85312357\",GZ542:GZ564),2)","v":0},{"$f":"ROUND(SUMIF(AA542:AA564,\"=85312357\",HD542:HD564),2)","v":0},null,null,null,null,null,null,null,null,null,null,null,null,null,null,null,null,null,null,null,{"$f":"ROUND(DT567,2)","v":15601.67},0,0,0,15601.67,0,{"$f":"DZ567","v":14.468159999999999},{"$f":"EA567","v":0},{"$f":"ROUND(EB567,2)","v":0},{"$f":"ROUND(EC567,2)","v":11545.24},{"$f":"ROUND(ED567,2)","v":5616.61},null,null,{"$f":"ROUND(SUMIF(AA542:AA564,\"=85312298\",O542:O564),2)","v":15601.67},{"$f":"ROUND(SUMIF(AA542:AA564,\"=85312298\",P542:P564),2)","v":0},{"$f":"ROUND(SUMIF(AA542:AA564,\"=85312298\",Q542:Q564),2)","v":0},{"$f":"ROUND(SUMIF(AA542:AA564,\"=85312298\",R542:R564),2)","v":0},{"$f":"ROUND(SUMIF(AA542:AA564,\"=85312298\",S542:S564),2)","v":15601.67},{"$f":"ROUND(SUMIF(AA542:AA564,\"=85312298\",T542:T564),2)","v":0},{"$f":"SUMIF(AA542:AA564,\"=85312298\",U542:U564)","v":14.468159999999999},{"$f":"SUMIF(AA542:AA564,\"=85312298\",V542:V564)","v":0},{"$f":"ROUND(SUMIF(AA542:AA564,\"=85312298\",W542:W564),2)","v":0},{"$f":"ROUND(SUMIF(AA542:AA564,\"=85312298\",X542:X564),2)","v":11545.24},{"$f":"ROUND(SUMIF(AA542:AA564,\"=85312298\",Y542:Y564),2)","v":5616.61},null,null,{"$f":"ROUND(FP567,2)","v":0},0,0,32763.52,0,0,32763.52,0,0,0,0,0,0,0,0,0,null,null,null,null,null,null,null,null,null,null,null,null,null,null,null,null,null,null,null,{"$f":"ROUND(SUMIF(AA542:AA564,\"=85312298\",FQ542:FQ564),2)","v":0},{"$f":"ROUND(SUMIF(AA542:AA564,\"=85312298\",FR542:FR564),2)","v":0},{"$f":"ROUND(SUMIF(AA542:AA564,\"=85312298\",GL542:GL564),2)","v":0},{"$f":"ROUND(SUMIF(AA542:AA564,\"=85312298\",GM542:GM564),2)","v":32763.52},{"$f":"ROUND(SUMIF(AA542:AA564,\"=85312298\",GN542:GN564),2)","v":0},{"$f":"ROUND(SUMIF(AA542:AA564,\"=85312298\",GO542:GO564),2)","v":0},{"$f":"ROUND(SUMIF(AA542:AA564,\"=85312298\",GP542:GP564),2)","v":32763.52},{"$f":"DU567-FP567","v":0},{"$f":"DU567-FQ567","v":0},{"$f":"FP567-FR567","v":0},{"$f":"DU567-FP567-FQ567+FR567","v":0},{"$f":"FQ567-FR567","v":0},{"$f":"ROUND(SUMIF(AA542:AA564,\"=85312298\",GX542:GX564),2)","v":0},{"$f":"ROUND(SUMIF(AA542:AA564,\"=85312298\",GY542:GY564),2)","v":0},{"$f":"ROUND(SUMIF(AA542:AA564,\"=85312298\",GZ542:GZ564),2)","v":0},{"$f":"ROUND(SUMIF(AA542:AA564,\"=85312298\",HD542:HD564),2)","v":0},null,null,null,null,null,null,null,null,null,null,null,null,null,null,null,null,null,null,0]
[]
[50,0,0,1,201,{"$f":"ROUND(Source!O567,O569)","v":15601.67},"ПЗ","Прямые затраты",null,null,201,1,3,"",2,{"$f":"ROUND(Source!DG567,O569)","v":15601.67},null,null,null,null,null,null,15601.67,1,15601.67,15601.67,1,15601.67]
[50,0,0,1,202,{"$f":"ROUND(Source!P567,O570)","v":0},"СтМатОб","Стоимость материальных ресурсов (всего)",null,null,202,2,3,"",2,{"$f":"ROUND(Source!DH567,O570)","v":0},null,null,null,null,null,null,0,1,0,0,1,0]
[50,0,0,1,222,{"$f":"ROUND(Source!AO567,O571)","v":0},"СтМатОбЗак","Стоимость материалов и оборудования заказчика",null,null,222,3,3,"",2,{"$f":"ROUND(Source!EG567,O571)","v":0},null,null,null,null,null,null,0,1,0,0,1,0]
[50,0,0,1,225,{"$f":"ROUND(Source!AV567,O572)","v":0},"СтМатОбПод","Стоимость материалов и оборудования подрядчика",null,null,225,4,3,"",2,{"$f":"ROUND(Source!EN567,O572)","v":0},null,null,null,null,null,null,0,1,0,0,1,0]
[50,0,0,1,226,{"$f":"ROUND(Source!AW567,O573)","v":0},"СтМат","Стоимость материалов (всего)",null,null,226,5,3,"",2,{"$f":"ROUND(Source!EO567,O573)","v":0},null,null,null,null,null,null,0,1,0,0,1,0]
[50,0,0,1,227,{"$f":"ROUND(Source!AX567,O574)","v":0},"СтМатЗак","Стоимость материалов заказчика",null,null,227,6,3,"",2,{"$f":"ROUND(Source!EP567,O574)","v":0},null,null,null,null,null,null,0,1,0,0,1,0]
[50,0,0,1,228,{"$f":"ROUND(Source!AY567,O575)","v":0},"СтМатПод","Стоимость материалов подрядчика",null,null,228,7,3,"",2,{"$f":"ROUND(Source!EQ567,O575)","v":0},null,null,null,null,null,null,0,1,0,0,1,0]
[50,0,0,1,216,{"$f":"ROUND(Source!AP567,O576)","v":0},"Оборуд","Стоимость оборудования (всего)",null,null,216,8,3,"",2,{"$f":"ROUND(Source!EH567,O576)","v":0},null,null,null,null,null,null,0,1,0,0,1,0]
[50,0,0,1,223,{"$f":"ROUND(Source!AQ567,O577)","v":0},"ОборудЗак","Стоимость оборудования заказчика",null,null,223,9,3,"",2,{"$f":"ROUND(Source!EI567,O577)","v":0},null,null,null,null,null,null,0,1,0,0,1,0]
[50,0,0,1,229,{"$f":"ROUND(Source!AZ567,O578)","v":0},"ОборудПод","Стоимость оборудования подрядчика",null,null,229,10,3,"",2,{"$f":"ROUND(Source!ER567,O578)","v":0},null,null,null,null,null,null,0,1,0,0,1,0]
[50,0,0,1,203,{"$f":"ROUND(Source!Q567,O579)","v":0},"ЭММ","Эксплуатация машин",null,null,203,11,3,"",2,{"$f":"ROUND(Source!DI567,O579)","v":0},null,null,null,null,null,null,0,1,0,0,1,0]
[50,0,0,1,231,{"$f":"ROUND(Source!BB567,O580)","v":0},"ЭММсНРиСП","Эксплуатация машин по ТСН-2001.16",null,null,231,12,3,"",2,{"$f":"ROUND(Source!ET567,O580)","v":0},null,null,null,null,null,null,0,1,0,0,1,0]
[50,0,0,1,204,{"$f":"ROUND(Source!R567,O581)","v":0},"ЗПМ","ЗП машинистов",null,null,204,13,3,"",2,{"$f":"ROUND(Source!DJ567,O581)","v":0},null,null,null,null,null,null,0,1,0,0,1,0]
[50,0,0,1,205,{"$f":"ROUND(Source!S567,O582)","v":15601.67},"ОЗП","Основная ЗП рабочих",null,null,205,14,3,"",2,{"$f":"ROUND(Source!DK567,O582)","v":15601.67},null,null,null,null,null,null,15601.67,1,15601.67,15601.67,1,15601.67]
[50,0,0,1,232,{"$f":"ROUND(Source!BC567,O583)","v":0},"ОЗПсНРиСП","Основная ЗП рабочих по ТСН-2001.16",null,null,232,15,3,"",2,{"$f":"ROUND(Source!EU567,O583)","v":0},null,null,null,null,null,null,0,1,0,0,1,0]
[50,0,0,1,214,{"$f":"ROUND(Source!AS567,O584)","v":0},"Строит","Строительные работы с НР и СП",null,null,214,16,3,"",2,{"$f":"ROUND(Source!EK567,O584)","v":0},null,null,null,null,null,null,0,1,0,0,1,0]
[50,0,0,1,215,{"$f":"ROUND(Source!AT567,O585)","v":0},"Монтаж","Монтажные работы с НР и СП",null,null,215,17,3,"",2,{"$f":"ROUND(Source!EL567,O585)","v":0},null,null,null,null,null,null,0,1,0,0,1,0]
[50,0,0,1,217,{"$f":"ROUND(Source!AU567,O586)","v":32763.52},"Прочие","Прочие работы с НР и СП",null,null,217,18,3,"",2,{"$f":"ROUND(Source!EM567,O586)","v":32763.52},null,null,null,null,null,null,32763.52,1,32763.52,32763.52,1,32763.52]
[50,0,0,1,230,{"$f":"ROUND(Source!BA567,O587)","v":0},"ПрочиеЗатр","Прочие затраты по ТСН-2001.16",null,null,230,19,3,"",2,{"$f":"ROUND(Source!ES567,O587)","v":0},null,null,null,null,null,null,0,1,0,0,1,0]
[50,0,0,1,206,{"$f":"ROUND(Source!T567,O588)","v":0},"ВозврМат","Возврат материалов",null,null,206,20,3,"",2,{"$f":"ROUND(Source!DL567,O588)","v":0},null,null,null,null,null,null,0,1,0,0,1,0]
[50,0,0,1,207,{"$f":"ROUND(Source!U567,O589)","v":14.468159999999999},"ТрудСтр","Трудозатраты строителей",null,null,207,21,3,"",7,{"$f":"ROUND(Source!DM567,O589)","v":14.468159999999999},null,null,null,null,null,null,14.468159999999999,1,14.468159999999999,14.468159999999999,1,14.468159999999999]
[50,0,0,1,208,{"$f":"ROUND(Source!V567,O590)","v":0},"ТрудМаш","Трудозатраты машинистов",null,null,208,22,3,"",7,{"$f":"ROUND(Source!DN567,O590)","v":0},null,null,null,null,null,null,0,1,0,0,1,0]
[50,0,0,1,209,{"$f":"ROUND(Source!W567,O591)","v":0},"ТранспМат","Транспорт материалов",null,null,209,23,3,"",2,{"$f":"ROUND(Source!DO567,O591)","v":0},null,null,null,null,null,null,0,1,0,0,1,0]
[50,0,0,1,233,{"$f":"ROUND(Source!BD567,O592)","v":0},"Перевозка","Перевозка грузов",null,null,233,24,3,"",2,{"$f":"ROUND(Source!EV567,O592)","v":0},null,null,null,null,null,null,0,1,0,0,1,0]
[50,0,0,1,210,{"$f":"ROUND(Source!X567,O593)","v":11545.24},"НР","Накладные расходы",null,null,210,25,3,"",2,{"$f":"ROUND(Source!DP567,O593)","v":11545.24},null,null,null,null,null,null,11545.24,1,11545.24,11545.24,1,11545.24]
[50,0,0,1,211,{"$f":"ROUND(Source!Y567,O594)","v":5616.61},"СмПриб","Сметная прибыль",null,null,211,26,3,"",2,{"$f":"ROUND(Source!DQ567,O594)","v":5616.61},null,null,null,null,null,null,5616.61,1,5616.61,5616.61,1,5616.61]
[50,0,0,1,224,{"$f":"ROUND(Source!AR567,O595)","v":32763.52},"Всего","Всего с НР и СП",null,null,224,27,3,"",2,{"$f":"ROUND(Source!EJ567,O595)","v":32763.52},null,null,null,null,null,null,32763.52,1,32763.52,32763.52,1,32763.52]
[]
[51,{"$f":"B534","v":1},{"$f":"A534","v":3},{"$f":"ROW(A534)","v":534},null,{"$f":"IF(F534<>\"\",F534,\"\")","v":"09-01-01"},{"$f":"IF(G534<>\"\",G534,\"\")","v":"ПНР ВЛИ-0,4 кВ"},0,null,null,null,null,null,null,{"$f":"ROUND(O567+AB597,2)","v":15601.67},0,0,0,15601.67,0,{"$f":"U567+AH597","v":14.468159999999999},{"$f":"V567+AI597","v":0},{"$f":"ROUND(W567+AJ597,2)","v":0},{"$f":"ROUND(X567+AK597,2)","v":11545.24},{"$f":"ROUND(Y567+AL597,2)","v":5616.61},null,null,null,null,null,null,null,null,null,null,null,null,null,null,null,{"$f":"ROUND(AO567+BX597,2)","v":0},0,0,32763.52,0,0,32763.52,0,0,0,0,0,0,0,0,0,null,null,null,null,null,null,null,null,null,null,null,null,null,null,null,null,null,null,null,null,null,null,null,null,null,null,null,null,null,null,null,null,null,null,null,null,null,null,null,null,null,null,null,null,null,null,null,null,null,null,null,null,null,null,{"$f":"ROUND(DG567+DT597,2)","v":15601.67},0,0,0,15601.67,0,{"$f":"DM567+DZ597","v":14.468159999999999},{"$f":"DN567+EA597","v":0},{"$f":"ROUND(DO567+EB597,2)","v":0},{"$f":"ROUND(DP567+EC597,2)","v":11545.24},{"$f":"ROUND(DQ567+ED597,2)","v":5616.61},null,null,null,null,null,null,null,null,null,null,null,null,null,null,null,{"$f":"ROUND(EG567+FP597,2)","v":0},0,0,32763.52,0,0,32763.52,0,0,0,0,0,0,0,0,0,null,null,null,null,null,null,null,null,null,null,null,null,null,null,null,null,null,null,null,null,null,null,null,null,null,null,null,null,null,null,null,null,null,null,null,null,null,null,null,null,null,null,null,null,null,null,null,null,null,null,null,null,null,0]
[]
[50,0,0,1,201,{"$f":"ROUND(Source!O597,O599)","v":15601.67},"ПЗ","Прямые затраты",null,null,201,1,3,"",2,{"$f":"ROUND(Source!DG597,O599)","v":15601.67},null,null,null,null,null,null,15601.67,1,15601.67,15601.67,1,15601.67]
[50,0,0,1,202,{"$f":"ROUND(Source!P597,O600)","v":0},"СтМатОб","Стоимость материальных ресурсов (всего)",null,null,202,2,3,"",2,{"$f":"ROUND(Source!DH597,O600)","v":0},null,null,null,null,null,null,0,1,0,0,1,0]
[50,0,0,1,222,{"$f":"ROUND(Source!AO597,O601)","v":0},"СтМатОбЗак","Стоимость материалов и оборудования заказчика",null,null,222,3,3,"",2,{"$f":"ROUND(Source!EG597,O601)","v":0},null,null,null,null,null,null,0,1,0,0,1,0]
[50,0,0,1,225,{"$f":"ROUND(Source!AV597,O602)","v":0},"СтМатОбПод","Стоимость материалов и оборудования подрядчика",null,null,225,4,3,"",2,{"$f":"ROUND(Source!EN597,O602)","v":0},null,null,null,null,null,null,0,1,0,0,1,0]
[50,0,0,1,226,{"$f":"ROUND(Source!AW597,O603)","v":0},"СтМат","Стоимость материалов (всего)",null,null,226,5,3,"",2,{"$f":"ROUND(Source!EO597,O603)","v":0},null,null,null,null,null,null,0,1,0,0,1,0]
[50,0,0,1,227,{"$f":"ROUND(Source!AX597,O604)","v":0},"СтМатЗак","Стоимость материалов заказчика",null,null,227,6,3,"",2,{"$f":"ROUND(Source!EP597,O604)","v":0},null,null,null,null,null,null,0,1,0,0,1,0]
[50,0,0,1,228,{"$f":"ROUND(Source!AY597,O605)","v":0},"СтМатПод","Стоимость материалов подрядчика",null,null,228,7,3,"",2,{"$f":"ROUND(Source!EQ597,O605)","v":0},null,null,null,null,null,null,0,1,0,0,1,0]
[50,0,0,1,216,{"$f":"ROUND(Source!AP597,O606)","v":0},"Оборуд","Стоимость оборудования (всего)",null,null,216,8,3,"",2,{"$f":"ROUND(Source!EH597,O606)","v":0},null,null,null,null,null,null,0,1,0,0,1,0]
[50,0,0,1,223,{"$f":"ROUND(Source!AQ597,O607)","v":0},"ОборудЗак","Стоимость оборудования заказчика",null,null,223,9,3,"",2,{"$f":"ROUND(Source!EI597,O607)","v":0},null,null,null,null,null,null,0,1,0,0,1,0]
[50,0,0,1,229,{"$f":"ROUND(Source!AZ597,O608)","v":0},"ОборудПод","Стоимость оборудования подрядчика",null,null,229,10,3,"",2,{"$f":"ROUND(Source!ER597,O608)","v":0},null,null,null,null,null,null,0,1,0,0,1,0]
[50,0,0,1,203,{"$f":"ROUND(Source!Q597,O609)","v":0},"ЭММ","Эксплуатация машин",null,null,203,11,3,"",2,{"$f":"ROUND(Source!DI597,O609)","v":0},null,null,null,null,null,null,0,1,0,0,1,0]
[50,0,0,1,231,{"$f":"ROUND(Source!BB597,O610)","v":0},"ЭММсНРиСП","Эксплуатация машин по ТСН-2001.16",null,null,231,12,3,"",2,{"$f":"ROUND(Source!ET597,O610)","v":0},null,null,null,null,null,null,0,1,0,0,1,0]
[50,0,0,1,204,{"$f":"ROUND(Source!R597,O611)","v":0},"ЗПМ","ЗП машинистов",null,null,204,13,3,"",2,{"$f":"ROUND(Source!DJ597,O611)","v":0},null,null,null,null,null,null,0,1,0,0,1,0]
[50,0,0,1,205,{"$f":"ROUND(Source!S597,O612)","v":15601.67},"ОЗП","Основная ЗП рабочих",null,null,205,14,3,"",2,{"$f":"ROUND(Source!DK597,O612)","v":15601.67},null,null,null,null,null,null,15601.67,1,15601.67,15601.67,1,15601.67]
[50,0,0,1,232,{"$f":"ROUND(Source!BC597,O613)","v":0},"ОЗПсНРиСП","Основная ЗП рабочих по ТСН-2001.16",null,null,232,15,3,"",2,{"$f":"ROUND(Source!EU597,O613)","v":0},null,null,null,null,null,null,0,1,0,0,1,0]
[50,0,0,1,214,{"$f":"ROUND(Source!AS597,O614)","v":0},"Строит","Строительные работы с НР и СП",null,null,214,16,3,"",2,{"$f":"ROUND(Source!EK597,O614)","v":0},null,null,null,null,null,null,0,1,0,0,1,0]
[50,0,0,1,215,{"$f":"ROUND(Source!AT597,O615)","v":0},"Монтаж","Монтажные работы с НР и СП",null,null,215,17,3,"",2,{"$f":"ROUND(Source!EL597,O615)","v":0},null,null,null,null,null,null,0,1,0,0,1,0]
[50,0,0,1,217,{"$f":"ROUND(Source!AU597,O616)","v":32763.52},"Прочие","Прочие работы с НР и СП",null,null,217,18,3,"",2,{"$f":"ROUND(Source!EM597,O616)","v":32763.52},null,null,null,null,null,null,32763.52,1,32763.52,32763.52,1,32763.52]
[50,0,0,1,230,{"$f":"ROUND(Source!BA597,O617)","v":0},"ПрочиеЗатр","Прочие затраты по ТСН-2001.16",null,null,230,19,3,"",2,{"$f":"ROUND(Source!ES597,O617)","v":0},null,null,null,null,null,null,0,1,0,0,1,0]
[50,0,0,1,206,{"$f":"ROUND(Source!T597,O618)","v":0},"ВозврМат","Возврат материалов",null,null,206,20,3,"",2,{"$f":"ROUND(Source!DL597,O618)","v":0},null,null,null,null,null,null,0,1,0,0,1,0]
[50,0,0,1,207,{"$f":"ROUND(Source!U597,O619)","v":14.468159999999999},"ТрудСтр","Трудозатраты строителей",null,null,207,21,3,"",7,{"$f":"ROUND(Source!DM597,O619)","v":14.468159999999999},null,null,null,null,null,null,14.468159999999999,1,14.468159999999999,14.468159999999999,1,14.468159999999999]
[50,0,0,1,208,{"$f":"ROUND(Source!V597,O620)","v":0},"ТрудМаш","Трудозатраты машинистов",null,null,208,22,3,"",7,{"$f":"ROUND(Source!DN597,O620)","v":0},null,null,null,null,null,null,0,1,0,0,1,0]
[50,0,0,1,209,{"$f":"ROUND(Source!W597,O621)","v":0},"ТранспМат","Транспорт материалов",null,null,209,23,3,"",2,{"$f":"ROUND(Source!DO597,O621)","v":0},null,null,null,null,null,null,0,1,0,0,1,0]
[50,0,0,1,233,{"$f":"ROUND(Source!BD597,O622)","v":0},"Перевозка","Перевозка грузов",null,null,233,24,3,"",2,{"$f":"ROUND(Source!EV597,O622)","v":0},null,null,null,null,null,null,0,1,0,0,1,0]
[50,0,0,1,210,{"$f":"ROUND(Source!X597,O623)","v":11545.24},"НР","Накладные расходы",null,null,210,25,3,"",2,{"$f":"ROUND(Source!DP597,O623)","v":11545.24},null,null,null,null,null,null,11545.24,1,11545.24,11545.24,1,11545.24]
[50,0,0,1,211,{"$f":"ROUND(Source!Y597,O624)","v":5616.61},"СмПриб","Сметная прибыль",null,null,211,26,3,"",2,{"$f":"ROUND(Source!DQ597,O624)","v":5616.61},null,null,null,null,null,null,5616.61,1,5616.61,5616.61,1,5616.61]
[50,0,0,1,224,{"$f":"ROUND(Source!AR597,O625)","v":32763.52},"Всего","Всего с НР и СП",null,null,224,27,3,"",2,{"$f":"ROUND(Source!EJ597,O625)","v":32763.52},null,null,null,null,null,null,32763.52,1,32763.52,32763.52,1,32763.52]
[]
[51,{"$f":"B12","v":692},{"$f":"A12","v":1},{"$f":"ROW(A12)","v":12},null,{"$f":"IF(F12<>\"\",F12,\"\")","v":"Новый объект"},{"$f":"IF(G12<>\"\",G12,\"\")","v":"355838_Талантбеков_ВЛИ_Катасонова_РАЗБИВКА_ПС_С"},0,null,null,null,null,null,null,{"$f":"ROUND(O501+O597,2)","v":73718.16},29388.89,1217.03,1436.26,41675.980000000003,0,{"$f":"U501+U597","v":48.039935999999997},{"$f":"V501+V597","v":1.6946664},{"$f":"ROUND(W501+W597,2)","v":0},{"$f":"ROUND(X501+X597,2)","v":38354.1},{"$f":"ROUND(Y501+Y597,2)","v":19755.740000000002},null,null,null,null,null,null,null,null,null,null,null,null,null,null,null,{"$f":"ROUND(AO501+AO597,2)","v":0},0,0,131828,51884.9,47179.58,32763.52,29388.89,29388.89,0,29388.89,0,0,0,0,0,null,null,null,null,null,null,null,null,null,null,null,null,null,null,null,null,null,null,null,null,null,null,null,null,null,null,null,null,null,null,null,null,null,null,null,null,null,null,null,null,null,null,null,null,null,null,null,null,null,null,null,null,null,null,{"$f":"ROUND(DG501+DG597,2)","v":73718.16},29388.89,1217.03,1436.26,41675.980000000003,0,{"$f":"DM501+DM597","v":48.039935999999997},{"$f":"DN501+DN597","v":1.6946664},{"$f":"ROUND(DO501+DO597,2)","v":0},{"$f":"ROUND(DP501+DP597,2)","v":38354.1},{"$f":"ROUND(DQ501+DQ597,2)","v":19755.740000000002},null,null,null,null,null,null,null,null,null,null,null,null,null,null,null,{"$f":"ROUND(EG501+EG597,2)","v":0},0,0,131828,51884.9,47179.58,32763.52,29388.89,29388.89,0,29388.89,0,0,0,0,0,null,null,null,null,null,null,null,null,null,null,null,null,null,null,null,null,null,null,null,null,null,null,null,null,null,null,null,null,null,null,null,null,null,null,null,null,null,null,null,null,null,null,null,null,null,null,null,null,null,null,null,null,null,0]
[]
[50,0,0,1,201,{"$f":"ROUND(Source!O627,O629)","v":73718.16},"ПЗ","Прямые затраты",null,null,201,1,3,"",2,{"$f":"ROUND(Source!DG627,O629)","v":73718.16},null,null,null,null,null,null,73718.159999999989,1,73718.159999999989,73718.159999999989,1,73718.159999999989]
[50,0,0,1,202,{"$f":"ROUND(Source!P627,O630)","v":29388.89},"СтМатОб","Стоимость материальных ресурсов (всего)",null,null,202,2,3,"",2,{"$f":"ROUND(Source!DH627,O630)","v":29388.89},null,null,null,null,null,null,29388.89,1,29388.89,29388.89,1,29388.89]
[50,0,0,1,222,{"$f":"ROUND(Source!AO627,O631)","v":0},"СтМатОбЗак","Стоимость материалов и оборудования заказчика",null,null,222,3,3,"",2,{"$f":"ROUND(Source!EG627,O631)","v":0},null,null,null,null,null,null,0,1,0,0,1,0]
[50,0,0,1,225,{"$f":"ROUND(Source!AV627,O632)","v":29388.89},"СтМатОбПод","Стоимость материалов и оборудования подрядчика",null,null,225,4,3,"",2,{"$f":"ROUND(Source!EN627,O632)","v":29388.89},null,null,null,null,null,null,29388.89,1,29388.89,29388.89,1,29388.89]
[50,0,0,1,226,{"$f":"ROUND(Source!AW627,O633)","v":29388.89},"СтМат","Стоимость материалов (всего)",null,null,226,5,3,"",2,{"$f":"ROUND(Source!EO627,O633)","v":29388.89},null,null,null,null,null,null,29388.89,1,29388.89,29388.89,1,29388.89]
[50,0,0,1,227,{"$f":"ROUND(Source!AX627,O634)","v":0},"СтМатЗак","Стоимость материалов заказчика",null,null,227,6,3,"",2,{"$f":"ROUND(Source!EP627,O634)","v":0},null,null,null,null,null,null,0,1,0,0,1,0]
[50,0,0,1,228,{"$f":"ROUND(Source!AY627,O635)","v":29388.89},"СтМатПод","Стоимость материалов подрядчика",null,null,228,7,3,"",2,{"$f":"ROUND(Source!EQ627,O635)","v":29388.89},null,null,null,null,null,null,29388.89,1,29388.89,29388.89,1,29388.89]
[50,0,0,1,216,{"$f":"ROUND(Source!AP627,O636)","v":0},"Оборуд","Стоимость оборудования (всего)",null,null,216,8,3,"",2,{"$f":"ROUND(Source!EH627,O636)","v":0},null,null,null,null,null,null,0,1,0,0,1,0]
[50,0,0,1,223,{"$f":"ROUND(Source!AQ627,O637)","v":0},"ОборудЗак","Стоимость оборудования заказчика",null,null,223,9,3,"",2,{"$f":"ROUND(Source!EI627,O637)","v":0},null,null,null,null,null,null,0,1,0,0,1,0]
[50,0,0,1,229,{"$f":"ROUND(Source!AZ627,O638)","v":0},"ОборудПод","Стоимость оборудования подрядчика",null,null,229,10,3,"",2,{"$f":"ROUND(Source!ER627,O638)","v":0},null,null,null,null,null,null,0,1,0,0,1,0]
[50,0,0,1,203,{"$f":"ROUND(Source!Q627,O639)","v":1217.03},"ЭММ","Эксплуатация машин",null,null,203,11,3,"",2,{"$f":"ROUND(Source!DI627,O639)","v":1217.03},null,null,null,null,null,null,1217.03,1,1217.03,1217.03,1,1217.03]
[50,0,0,1,231,{"$f":"ROUND(Source!BB627,O640)","v":0},"ЭММсНРиСП","Эксплуатация машин по ТСН-2001.16",null,null,231,12,3,"",2,{"$f":"ROUND(Source!ET627,O640)","v":0},null,null,null,null,null,null,0,1,0,0,1,0]
[50,0,0,1,204,{"$f":"ROUND(Source!R627,O641)","v":1436.26},"ЗПМ","ЗП машинистов",null,null,204,13,3,"",2,{"$f":"ROUND(Source!DJ627,O641)","v":1436.26},null,null,null,null,null,null,1436.2600000000002,1,1436.2600000000002,1436.2600000000002,1,1436.2600000000002]
[50,0,0,1,205,{"$f":"ROUND(Source!S627,O642)","v":41675.980000000003},"ОЗП","Основная ЗП рабочих",null,null,205,14,3,"",2,{"$f":"ROUND(Source!DK627,O642)","v":41675.980000000003},null,null,null,null,null,null,41675.979999999989,1,41675.979999999989,41675.979999999989,1,41675.979999999989]
[50,0,0,1,232,{"$f":"ROUND(Source!BC627,O643)","v":0},"ОЗПсНРиСП","Основная ЗП рабочих по ТСН-2001.16",null,null,232,15,3,"",2,{"$f":"ROUND(Source!EU627,O643)","v":0},null,null,null,null,null,null,0,1,0,0,1,0]
[50,0,0,1,214,{"$f":"ROUND(Source!AS627,O644)","v":51884.9},"Строит","Строительные работы с НР и СП",null,null,214,16,3,"",2,{"$f":"ROUND(Source!EK627,O644)","v":51884.9},null,null,null,null,null,null,51884.9,1,51884.9,51884.9,1,51884.9]
[50,0,0,1,215,{"$f":"ROUND(Source!AT627,O645)","v":47179.58},"Монтаж","Монтажные работы с НР и СП",null,null,215,17,3,"",2,{"$f":"ROUND(Source!EL627,O645)","v":47179.58},null,null,null,null,null,null,47179.58,1,47179.58,47179.58,1,47179.58]
[50,0,0,1,217,{"$f":"ROUND(Source!AU627,O646)","v":32763.52},"Прочие","Прочие работы с НР и СП",null,null,217,18,3,"",2,{"$f":"ROUND(Source!EM627,O646)","v":32763.52},null,null,null,null,null,null,32763.52,1,32763.52,32763.52,1,32763.52]
[50,0,0,1,230,{"$f":"ROUND(Source!BA627,O647)","v":0},"ПрочиеЗатр","Прочие затраты по ТСН-2001.16",null,null,230,19,3,"",2,{"$f":"ROUND(Source!ES627,O647)","v":0},null,null,null,null,null,null,0,1,0,0,1,0]
[50,0,0,1,206,{"$f":"ROUND(Source!T627,O648)","v":0},"ВозврМат","Возврат материалов",null,null,206,20,3,"",2,{"$f":"ROUND(Source!DL627,O648)","v":0},null,null,null,null,null,null,0,1,0,0,1,0]
[50,0,0,1,207,{"$f":"ROUND(Source!U627,O649)","v":48.039935999999997},"ТрудСтр","Трудозатраты строителей",null,null,207,21,3,"",7,{"$f":"ROUND(Source!DM627,O649)","v":48.039935999999997},null,null,null,null,null,null,48.039935999999997,1,48.039935999999997,48.039935999999997,1,48.039935999999997]
[50,0,0,1,208,{"$f":"ROUND(Source!V627,O650)","v":1.6946664},"ТрудМаш","Трудозатраты машинистов",null,null,208,22,3,"",7,{"$f":"ROUND(Source!DN627,O650)","v":1.6946664},null,null,null,null,null,null,1.6946664,1,1.6946664,1.6946664,1,1.6946664]
[50,0,0,1,209,{"$f":"ROUND(Source!W627,O651)","v":0},"ТранспМат","Транспорт материалов",null,null,209,23,3,"",2,{"$f":"ROUND(Source!DO627,O651)","v":0},null,null,null,null,null,null,0,1,0,0,1,0]
[50,0,0,1,233,{"$f":"ROUND(Source!BD627,O652)","v":0},"Перевозка","Перевозка грузов",null,null,233,24,3,"",2,{"$f":"ROUND(Source!EV627,O652)","v":0},null,null,null,null,null,null,0,1,0,0,1,0]
[50,0,0,1,210,{"$f":"ROUND(Source!X627,O653)","v":38354.1},"НР","Накладные расходы",null,null,210,25,3,"",2,{"$f":"ROUND(Source!DP627,O653)","v":38354.1},null,null,null,null,null,null,38354.1,1,38354.1,38354.1,1,38354.1]
[50,0,0,1,211,{"$f":"ROUND(Source!Y627,O654)","v":19755.740000000002},"СмПриб","Сметная прибыль",null,null,211,26,3,"",2,{"$f":"ROUND(Source!DQ627,O654)","v":19755.740000000002},null,null,null,null,null,null,19755.740000000002,1,19755.740000000002,19755.740000000002,1,19755.740000000002]
[50,0,0,1,224,{"$f":"ROUND(Source!AR627,O655)","v":131828},"Всего","Всего с НР и СП",null,null,224,27,3,"",2,{"$f":"ROUND(Source!EJ627,O655)","v":131828},null,null,null,null,null,null,131828,1,131828,131828,1,131828]
[50,0,0,2,0,{"$f":"ROUND(F644+F645+F636,O656)","v":99064.48},"ССР01","Строительно-монтажные работы",null,null,212,28,3,"",2,{"$f":"ROUND(P644+P645+P636,O656)","v":99064.48},null,null,null,null,null,null,99064.48,1,99064.48,99064.48,1,99064.48]
[50,0,0,2,0,{"$f":"ROUND(F644*0.019,O657)","v":985.81},"ССР02","ЗУ Строительные работы",null,null,212,29,3,"",2,{"$f":"ROUND(P644*0.019,O657)","v":985.81},null,null,null,null,null,null,985.81,1,985.81,985.81,1,985.81]
[50,1,0,2,0,{"$f":"ROUND(F645*0.019,O658)","v":896.41},"ССР03","ЗУ Монтажные работы",null,null,212,30,0,"",2,{"$f":"ROUND(P645*0.019,O658)","v":896.41},null,null,null,null,null,null,896.41,1,896.41,896.41,1,896.41]
[50,1,0,2,0,{"$f":"ROUND(F657+F658,O659)","v":1882.22},"ССР04","Итого ЗУ СМР",null,null,212,31,0,"",2,{"$f":"ROUND(P657+P658,O659)","v":1882.22},null,null,null,null,null,null,1882.22,1,1882.22,1882.22,1,1882.22]
[50,0,0,2,0,{"$f":"ROUND(F646,O660)","v":32763.52},"ССР05","ПНР ИТОГИ",null,null,212,32,3,"",2,{"$f":"ROUND(P646,O660)","v":32763.52},null,null,null,null,null,null,32763.52,1,32763.52,32763.52,1,32763.52]
[50,0,0,2,213,{"$f":"ROUND(F656+F659+F660,O661)","v":133710.22},"ССР_ИТОГ","Итого СМР по ССР БЕЗ НДС",null,null,212,33,3,"",2,{"$f":"ROUND(P656+P659+P660,O661)","v":133710.22},null,null,null,null,null,null,133710.22,1,133710.22,133710.22,1,133710.22]
[]
[71,1,null,200001,65386684,"Электротехнические устройства","Мет. 421/пр. 04.08.20. пр. 8; п.1",80,20]
[]
[]
[70,1,null,1,"СТР_РЕК","СТРОИТЕЛЬСТВО и РЕКОНСТРУКЦИЯ  зданий и сооружений всех назначений",1,0,"",1,0,"","",0,1,"Строительство и реконструкция"]
[70,1,null,2,"РЕМ_ЖИЛ","КАП. РЕМ. ЖИЛЫХ И ОБЩЕСТВЕННЫХ ЗДАНИЙ",0,0,"",1,0,"","",0,0,"Капитальный ремонт жилых и общественных зданий"]
[70,1,null,3,"РЕМ_ПР","КАП. РЕМ. ПРОИЗВОДСТВЕННЫХ ЗД. и СООРУЖЕНИЙ,  НАРУЖНЫХ ИНЖЕНЕРНЫХ СЕТЕЙ, УЛИЦ И ДОРОГ МЕСТНОГО ЗНАЧЕНИЯ, ИНЖ,СООРУЖЕНИЙ ( ГИДРОТЕХ,СООРУЖ, МОСТОВ И ПУТЕПРОВОДОВ И Т.П.)",0,0,"",1,0,"","",0,0,"Капитальный ремонт прозводственных зданий"]
[70,1,null,4,"Территория","для территории Российской Федерации, не относящейся к районам Крайнего Севера и приравненным к ним местностям",1,0,"",2,0,"","",0,1,""]
[70,1,null,5,"МПРКС","для территории Российской Федерации, относящейся к местностям, приравненным к районам Крайнего Севера",0,0,"",2,0,"","",0,0,""]
[70,1,null,6,"РКС","для территории Российской Федерации, относящейся к районам Крайнего Севера",0,0,"",2,0,"","",0,0,""]
[70,1,null,7,"СЛЖ","При определении сметной стоимости строительства объектов капитального строительства, относящихся к особо опасным и технически сложным. За исключением АЭС.",0,0,"Для сборников ФЕР ( при производстве работ на технически сложных объектах ):  ·  { СЛЖ } - (вкл.)    - работа на сложных объектах  (к=1,2 к НР)           ·  { СЛЖ } - (выкл.) - работа на обычных объектах",0,0,"","",0,0,"Сложные объекты"]
[70,1,null,8,"СТНДРТ","При определении сметной стоимости строительства объектов капитального строительства (за исключением АЭС).",1,0,"",5,0,"","",0,1,""]
[70,1,null,9,"АЭС_ПНР","При определении сметной стоимости строительства объектов капитального строительства АЭС. Пусконаладочные работы (за исключением технологического оборудования АЭС).",0,0,"",5,0,"","",0,0,"АЭС"]
[70,1,null,10,"АЭС_ПНР_ТЕХ","При определении сметной стоимости строительства объектов капитального строительства АЭС. Пусконаладочные работы технологического оборудования АЭС.",0,0,"Для сборника ФЕРм -39  и ФЕРМ-08  ( при работах по контролю сварных соединений) :    {мАЭС} - ( вкл.)  -     при выполнении работ по на АЭС  (HР=101%; СП= 68%;             {мАЭС} - (выкл.) -  при выполнении работ  на обычных объектах",5,0,"","",0,0,"АЭС, ПНР технологического оборудования АЭС."]
[70,1,null,11,"ОПТ/В","{вкл}    - Прокладка  МЕЖДУГОРОДНЫХ  ВОЛОКОННО-ОПТИЧЕСКИХ ЛИНИЙ (для ФЕРм10, отд. 6 разд.3)  {выкл} - Прокладка  ГОРОДСКИХ               ВОЛОКОННО-ОПТИЧЕСКИХ ЛИНИЙ  (для ФЕРм10, отд. 6 разд.3)",0,0,"Для сборников ФЕРм-10  ( волоконно-оптические линии связи ): ·  {М_ГОР_опт} -  ( вкл.)  - междугородные сети связи ( НР=120% , СП=70% )           ·  {М_ГОР_опт} - ( выкл.) - городские сети связи  ( НР=100%; СП=65%)",0,0,"","",0,0,"Прокладка междугородных в/опт. кабелей"]
[70,1,null,12,"АВИ","(вкл)   -  При работах по ДИСПЕТЧЕРИЗАЦИИ управления движением АВИАТРАНСПОРТОМ {вкл}  (монтажные работы )",0,0,"Для сборников ФЕРм 08;10;11 :    · {мАВИА} -  (вкл.)     -  производство монтажных  работы по диспетчеризации управления  движением авиатранспортном (НР=95%, СП=55%) ;    ·            {мАВИА} -  (выкл. ) -  при производстве работ на прочих объектах , кром",0,0,"","",0,0,"Диспетчеризация авиатранспорта"]
[70,1,null,13,"ЗАКР","{вкл}   -  Обслуживающие и сопутствующие работы в тоннелях при  производстве работ ЗАКРЫТЫМ СПОСОБОМ   {выкл} - Обслуживающие и сопутствующие работы в тоннелях при  производстве работ  ОТКРЫТЫМ",0,0,"Для сборника ФЕР -29 ( сопутствующие работы в тоннелях и метро. ): ·  {ЗАКР} - (вкл.)     -  при выполнении работ в тоннелях  и метро закрытым способом  (НР=145% , СП=75%); ·                {ЗАКР} - (выкл.) -   при выполнении работ в тоннелях и метро  отк",0,0,"","",0,0,"Производство работ закрытым способом (обслуживающие процессы)"]
[70,1,null,14,"АВТО_ДРГ","{вкл} - НР и СП по п.021.0 \"Автомобильные дороги\" (раздел 2 нормы 27-02-010-01:07)  {выкл} - НР и СП по п.021.1 Устройство покрытий дорожек, тротуаров, мостовых и площадок и прочее (раздел 2 нормы 27-02-010-01:07)",0,0,"",0,0,"","",0,0,""]
[70,1,null,15,"ГОР","(вкл) - ФЕРм-08, выполнение работ на горнорудных объектах  (выкл) - ФЕРм-08, выполнение работ на других объектах",0,0,"",0,0,"","",0,0,"Выполнение работ на горнорудных объектах"]
[70,1,null,16,"ОБ_ПР","Объект производственного назначения",0,0,"",3,0,"","",0,0,""]
[70,1,null,17,"ОБ_НПР","Объект непроизводственного назначения",1,0,"",3,0,"","",0,1,""]
[70,1,null,1,"К_НР_РЕМ","при ремонте жилых и общественных зданий если  ( если {РЕМ_ЖИЛ}= [вкл.]",0.9,1,"Для сборников  ФЕР и  ФЕРмр :  · Значение {_МДСрем_НР}= 0,90 -  при ремонте зданий жилого и гражданского назначений ( 0,90 к НР) ;  · Значение {_МДСрем_НР}= 1,00  - при строительстве  и реконструкции  объектов всех назначений",0,0,"","",0,0.9,"п.25"]
[70,1,null,2,"К_СП_РЕМ","к нормам СП при капитальном ремонте зданий и сооружений всех назначений ( если или {РЕМ_ЖИЛ}=[вкл] , или (РЕМ_ПР}=[вкл] )",0.85,1,"Для сборников  ФЕР и  ФЕРмр :   · Значение {_МДСрем_СП} = 0.85  -  при ремонте зданий всех назначений ( 0,85 к СП);   · Значение {_МДСрем_СП} = 1,00 -  при строительстве  и реконструкции  объектов всех назначений",0,0,"","",0,0.85,"п.16"]
[70,1,null,3,"К_НР_СЛЖ","При определении сметной стоимости строительства объектов капитального строительства, относящихся к особо опасным и технически сложным. За исключением объектов атомных электрических станций.  ( если {СЛЖ} = [вкл] )",1.03,0,"",0,0,"","",0,1.03,"п.27 СЛОЖН"]
[70,1,null,4,"К_НР_АЭС","При определении сметной стоимости строительства объектов капитального строительства, относящихся к особо опасным и технически сложным. Для объектов атомных электрических станций.  ( если {АЭС} = [вкл] )",1.1499999999999999,0,"",0,0,"","",0,1.1499999999999999,"п.27 АЭС"]
[70,1,null,5,"Р_ОКР","Разрядность округления результата расчета НР и СП  (с 05.04.2020 - до семи знаков после запятой)",7,0,"",0,0,"","",0,7,""]
[70,1,null,6,"Лист_НРиСП","",2,0,"",0,0,"","",0,2,""]
[]
[-1]
[]
[75,"Текущий уровень цен",2026,0,4,1,0,1,0,1,0,0,0,85312357,1]
[2,"Вид цен","Московская область, КТЦ к ФСНБ-2022 (ПАО Россети), 1 квартал 2026 г",0,0,0,null,null,null,null,null,null,null,null,null,null,null,null,null,null,null,null,null,null,null,null,null,null,null,null,null,null,null,null,null,null,null,null,null,85315741]
[1,"Сборник индексов","Московская область к ФСНБ-2022 ФГИС ЦС (ПАО  Россети )",2026,3,1,1,0,2,1,1,1,1,1,1,1,1,"","","","","","","","","","",null,null,null,null,null,null,null,null,null,null,null,null,85315742,"Письмо Минстроя России  «О размещении индексов изменения сметной стоимости строительства по группам однородных строительных ресурсов на I квартал 2026 года»","Справочная информация",46078,409,"Письмо Минстроя России от 25.02.2026 № 9859-ИФ/09","Приказ ПАО 'РОССЕТИ'","Справочная информация",45652,612,"Приказ ПАО 'РОССЕТИ' от 26.12.2024 № 612"]
[75,"Текущий уровень цен",2026,0,4,0,0,1,0,1,0,0,1,85312298,2]
[2,"Вид цен","Московская область, КТЦ к ФСНБ-2022 (ПАО Россети), 1 квартал 2026 г",0,0,0,null,null,null,null,null,null,null,null,null,null,null,null,null,null,null,null,null,null,null,null,null,null,null,null,null,null,null,null,null,null,null,null,null,85315749]
[1,"Сборник индексов","Московская область к ФСНБ-2022 ФГИС ЦС (ПАО  Россети )",2026,3,1,1,0,2,1,1,1,1,1,1,1,1,"","","","","","","","","","",null,null,null,null,null,null,null,null,null,null,null,null,85315750,"Письмо Минстроя России  «О размещении индексов изменения сметной стоимости строительства по группам однородных строительных ресурсов на I квартал 2026 года»","Справочная информация",46078,409,"Письмо Минстроя России от 25.02.2026 № 9859-ИФ/09","Приказ ПАО 'РОССЕТИ'","Справочная информация",45652,612,"Приказ ПАО 'РОССЕТИ' от 26.12.2024 № 612"]
[]
[]
[]
[65,null,1,0,245]

{"sheet":"SourceObSm","index":3,"n_rows":30,"n_cols":133,"rows_kept":30,"cut":false,"hidden":false,"merged":[]}
[0,"Smeta.RU Flash  (495) 974-1589",null,"_OBSM_",null,0,0,0,"Smeta.RU Flash","",1,68757,10,12,0,0,3]
[]
[]
[]
[]
[]
[]
[]
[]
[]
[]
[1,25,0,null,0,"Новый объект","355838_Талантбеков_ВЛИ_Катасонова_РАЗБИВКА_ПС_С","",0,"",0,0,523,null,0,0,7,0,0,4,"",0,"","","","","","Чайкин А.В.","","","","","","","","",null,"","","",null,"","","",null,null,null,null,null,"","","",null,0,null,null,null,null,null,"Сметные нормы списания","Коды ценников",1,1,0,0,1,0,2,2,1,0,0,0,1,0,0,"ФСНБ-2022_И17","Версия 1.17.0 для ФСНБ-2022 И17","ФСНБ-2022 - Изменения И17","ФСНБ-2022 - Изменения И17","ФСНБ-2022 - Изменения И17","ФСНБ-2022 - Изменения И17","Поправки для ФСНБ-2022 от 25.02.2026 г И17 (55/пр) Строительство",0,0,487096330,"","",17,null,null,null,null,null,"Приказ Минстроя России от 30.12.2021 г. № 1046/пр;  Приказ Минстроя России от 04.08.2020 г. № 421/пр;  Приказ Минстроя России от 21.12.2020 г. № 812/пр;  Приказ Минстроя России от 11.12.2020 г. № 774/пр","ГСН",46073,540,17,"Приказ Минстроя России от 18.05.2022 г. № 378/пр; Приказ Минстроя России от 26.08.2022 г. № 703/пр; Приказ Минстроя России от 26.10.2022 г. № 905/пр;  Приказ Минстроя России от 27.12.2022 г. № 1133/пр; Приказ Минстроя России от 10.02.2023 г. № 84/пр; Приказ Минстроя России от 11.05.2023 г. № 335/пр;  Приказ Минстроя России от 02.08.2023 г. № 551/пр; Приказ Минстроя России от 14.11.2023 г. № 817/пр; Приказ Минстроя России от 16.02.2024 г. № 102/пр;  Приказ Минстроя России от 13.05.2024 г. № 323/пр; Приказ Минстроя России от 09.08.2024 г. № 524/пр; Приказ Минстроя России от 07.11.2024 г. № 747/пр;  Приказ Минстроя России от 07.02.2025 г. № 69/пр; Приказ Минстроя России от 19.05.2025 г. № 299/пр; Приказ Минстроя России от 14.08.2025 г. № 490/пр;  Приказ Минстроя России от 12.11.2025 г. № 696/пр; Приказ Минстроя России от 17.02.2026 г. № 91/пр;  Приказ Минстроя России от 07.07.2022 г. № 557/пр; Приказ Минстроя России от 30.01.2024 г. № 55/пр; Приказ Минстроя России от 23.01.2025 г. № 30/пр;  Приказ Минстроя России от 02.09.2021 г. № 636/пр; Приказ Минстроя России от 26.07.2022 г. № 611/пр; Приказ Минстроя России от 22.04.2022 г. № 317/пр",null,null,0,"","",null,null,null,null,null,null,null,null,null,null,null,null,null,null,null,null,null,null,null,null,null,null,null,null,null,null,null,0]
[]
[22,1,0,85312357,85312298,2,1]
[]
[3,1,"02-01-01","Строительство ВЛИ-0,4 кВ",{"$f":"ROUND((Source!F518)/1000,2)","v":51.88},{"$f":"ROUND((Source!F519)/1000,2)","v":47.18},{"$f":"ROUND((Source!F510)/1000,2)","v":0},{"$f":"ROUND((Source!F520)/1000+(Source!F521)/1000,2)","v":0},{"$f":"E16+F16+G16+H16","v":99.06},{"$f":"ROUND((Source!F516+Source!F515)/1000,2)","v":27.51},87.51,0,0,{"$f":"I16+L16+M16","v":99.06},null,null,null,null,null,{"$f":"ROUND((Source!P518)/1000,2)","v":51.88},{"$f":"ROUND((Source!P519)/1000,2)","v":47.18},{"$f":"ROUND((Source!P510)/1000,2)","v":0},{"$f":"ROUND((Source!P520)/1000+(Source!P521)/1000,2)","v":0},{"$f":"T16+U16+V16+W16","v":99.06},{"$f":"ROUND((Source!P516+Source!P515)/1000,2)","v":27.51},87.51,0,0,{"$f":"X16+AA16+AB16","v":99.06},null,null,null,null,null,0,-1,"","","",0,"","",null,null,null,58116.49,29388.89,0,0,0,1217.0300000000002,1436.2600000000002,26074.309999999998,51884.9,47179.58,0,0,33.571776,1.6946664,0,26808.86,14139.13,99064.48000000001,null,null,null,null,null,null,58116.49,29388.89,0,0,0,1217.0300000000002,1436.2600000000002,26074.309999999998,51884.9,47179.58,0,0,33.571776,1.6946664,0,26808.86,14139.13,99064.48000000001]
[3,2,"09-01-01","ПНР ВЛИ-0,4 кВ",{"$f":"ROUND((Source!F614)/1000,2)","v":0},{"$f":"ROUND((Source!F615)/1000,2)","v":0},{"$f":"ROUND((Source!F606)/1000,2)","v":0},{"$f":"ROUND((Source!F616)/1000+(Source!F617)/1000,2)","v":32.76},{"$f":"E17+F17+G17+H17","v":32.76},{"$f":"ROUND((Source!F612+Source!F611)/1000,2)","v":15.6},15.6,0,0,{"$f":"I17+L17+M17","v":32.76},null,null,null,null,null,{"$f":"ROUND((Source!P614)/1000,2)","v":0},{"$f":"ROUND((Source!P615)/1000,2)","v":0},{"$f":"ROUND((Source!P606)/1000,2)","v":0},{"$f":"ROUND((Source!P616)/1000+(Source!P617)/1000,2)","v":32.76},{"$f":"T17+U17+V17+W17","v":32.76},{"$f":"ROUND((Source!P612+Source!P611)/1000,2)","v":15.6},15.6,0,0,{"$f":"X17+AA17+AB17","v":32.76},null,null,null,null,null,0,-1,"","","",0,"","",null,null,null,15601.67,0,0,0,0,0,0,15601.67,0,0,32763.52,0,14.468159999999999,0,0,11545.24,5616.61,32763.52,null,null,null,null,null,null,15601.67,0,0,0,0,0,0,15601.67,0,0,32763.52,0,14.468159999999999,0,0,11545.24,5616.61,32763.52]
[]
[51,null,null,null,51.88,47.18,0,32.76,131.82,43.11,103.11,0,0,131.82,null,null,null,null,null,51.88,47.18,0,32.76,131.82,43.11,103.11,0,0,131.82]
[]
[]
[-1]
[]
[]
[75,"Текущий уровень цен",2026,0,4,1,0,1,0,1,0,0,0,85312357,1]
[2,"Вид цен","Московская область, КТЦ к ФСНБ-2022 (ПАО Россети), 1 квартал 2026 г",0,0,0,null,null,null,null,null,null,null,null,null,null,null,null,null,null,null,null,null,null,null,null,null,null,null,null,null,null,null,null,null,null,null,null,null,85315741]
[1,"Сборник индексов","Московская область к ФСНБ-2022 ФГИС ЦС (ПАО  Россети )",2026,3,1,1,0,2,1,1,1,1,1,1,1,1,"","","","","","","","","","",null,null,null,null,null,null,null,null,null,null,null,null,85315742,"Письмо Минстроя России  «О размещении индексов изменения сметной стоимости строительства по группам однородных строительных ресурсов на I квартал 2026 года»","Справочная информация",46078,409,"Письмо Минстроя России от 25.02.2026 № 9859-ИФ/09","Приказ ПАО 'РОССЕТИ'","Справочная информация",45652,612,"Приказ ПАО 'РОССЕТИ' от 26.12.2024 № 612"]
[75,"Текущий уровень цен",2026,0,4,0,0,1,0,1,0,0,1,85312298,2]
[2,"Вид цен","Московская область, КТЦ к ФСНБ-2022 (ПАО Россети), 1 квартал 2026 г",0,0,0,null,null,null,null,null,null,null,null,null,null,null,null,null,null,null,null,null,null,null,null,null,null,null,null,null,null,null,null,null,null,null,null,null,85315749]
[1,"Сборник индексов","Московская область к ФСНБ-2022 ФГИС ЦС (ПАО  Россети )",2026,3,1,1,0,2,1,1,1,1,1,1,1,1,"","","","","","","","","","",null,null,null,null,null,null,null,null,null,null,null,null,85315750,"Письмо Минстроя России  «О размещении индексов изменения сметной стоимости строительства по группам однородных строительных ресурсов на I квартал 2026 года»","Справочная информация",46078,409,"Письмо Минстроя России от 25.02.2026 № 9859-ИФ/09","Приказ ПАО 'РОССЕТИ'","Справочная информация",45652,612,"Приказ ПАО 'РОССЕТИ' от 26.12.2024 № 612"]

{"sheet":"SmtRes","index":4,"n_rows":672,"n_cols":119,"rows_kept":672,"cut":false,"hidden":false,"merged":[]}
[{"$f":"ROW(Source!A28)","v":28},85312357,85315758,83777501,117,1,1,1,"1-100-33","","Средний разряд работы 3,3",1191,null,1013,"чел.-ч.","чел.-ч.",1,null,null,null,null,null,0,32079103,{"$f":"AT1","v":7.41},null,0,0,0,748.18,0,0,0,748.18,1,1,1,1,-2,0,0,1,1,0,"",7.41,"",1,2,85315762,1,0,1,1,0,0,0,0,0,0,0,0,0,0,5544.0137999999997,7.41,0,1,0,0,0,5544.0137999999997,7.41,0,1,null,null,null,null,null,null,null,null,null,null,null,null,null,null,null,null,null,null,null,null,null,null,null,{"$f":"ROUND(AT1*Source!I28*AH1*AL1,2)","v":0},{"$f":"ROUND(Y1*Source!I28,7)","v":0},0,{"$f":"ROUND(Y1*Source!I28,7)","v":0},{"$f":"AD1","v":748.18},{"$f":"AH1","v":748.18},{"$f":"AL1","v":1},{"$f":"ROUND(ROUND(AT1*CZ1,2),2)","v":5544.01},{"$f":"ROUND(ROUND(AT1*AG1,2),2)","v":0},"","",{"$f":"ROUND(ROUND(AE1,2)*CX1,2)","v":0},{"$f":"ROUND(ROUND(AF1,2)*CX1,2)","v":0},{"$f":"ROUND(ROUND(AG1,2)*CX1,2)","v":0},{"$f":"ROUND(ROUND(AH1,2)*CX1,2)","v":0},{"$f":"DI1","v":0},1,"",0,"",0]
[{"$f":"ROW(Source!A28)","v":28},85312357,85315758,83854480,1,1,1,3,"01.7.20.07-0002","ФСБЦ-2022, 01.7.20.07-0002, приказ Минстроя России от 18.05.2022 г. № 378/пр","Шпагат из пенькового волокна, диаметр 1,7 мм",1346,null,1009,"кг","кг",1,null,null,null,null,null,0,2095784816,0.2,null,330.28,0,0,0,214.47,0,0,0,1.54,1,1,1,2,0,0,1,1,0,"",0.2,"",0,2,85315763,1,0,2,1,0,0,0,0,0,0,0,42.894000000000005,0,0,0,0,0,1,42.894000000000005,0,0,0,0,0,1,null,null,null,null,null,null,null,null,null,null,null,null,null,null,null,null,null,null,null,null,null,null,null,null,0,0,{"$f":"ROUND(Y2*Source!I28,7)","v":0},{"$f":"AA2","v":330.28},{"$f":"AE2","v":214.47},{"$f":"AI2","v":1.54},42.89,0,"","",{"$f":"ROUND(ROUND(AE2*AI2,2)*CX2,2)","v":0},0,0,0,{"$f":"DF2","v":0},0,"",0,"",0]
[{"$f":"ROW(Source!A28)","v":28},85312357,85315758,83862755,1,1,1,3,"11.1.03.05-0074","ФСБЦ-2022, 11.1.03.05-0074, приказ Минстроя России от 18.05.2022 г. № 378/пр","Доска необрезная хвойных пород, естественной влажности, длина 4-6,5 м, ширина 100-250, толщина 20 мм, сорт IV",1339,null,1007,"м3","м3",1,null,null,null,null,null,0,-1627553690,1E-3,null,12012.45,0,0,0,7555,0,0,0,1.59,1,1,1,2,0,0,1,1,0,"",1E-3,"",0,2,85315764,1,0,3,1,0,0,0,0,0,0,0,7.5549999999999997,0,0,0,0,0,1,7.5549999999999997,0,0,0,0,0,1,null,null,null,null,null,null,null,null,null,null,null,null,null,null,null,null,null,null,null,null,null,null,null,null,0,0,{"$f":"ROUND(Y3*Source!I28,7)","v":0},{"$f":"AA3","v":12012.45},{"$f":"AE3","v":7555},{"$f":"AI3","v":1.59},7.56,0,"","",{"$f":"ROUND(ROUND(AE3*AI3,2)*CX3,2)","v":0},0,0,0,{"$f":"DF3","v":0},0,"",0,"",0]
[{"$f":"ROW(Source!A29)","v":29},85312298,85315758,83777501,117,1,1,1,"1-100-33","","Средний разряд работы 3,3",1191,null,1013,"чел.-ч.","чел.-ч.",1,null,null,null,null,null,0,32079103,7.41,null,0,0,0,748.18,0,0,0,748.18,1,1,1,1,-2,0,0,1,1,0,"",7.41,"",1,2,85315762,1,0,4,1,0,0,0,0,0,0,0,0,0,0,5544.0137999999997,7.41,0,1,0,0,0,5544.0137999999997,7.41,0,1,null,null,null,null,null,null,null,null,null,null,null,null,null,null,null,null,null,null,null,null,null,null,null,{"$f":"ROUND(AT4*Source!I29*AH4*AL4,2)","v":0},{"$f":"ROUND(Y4*Source!I29,7)","v":0},0,{"$f":"ROUND(Y4*Source!I29,7)","v":0},{"$f":"AD4","v":748.18},{"$f":"AH4","v":748.18},{"$f":"AL4","v":1},5544.01,0,"","",{"$f":"ROUND(ROUND(AE4,2)*CX4,2)","v":0},0,0,0,{"$f":"DI4","v":0},1,"",0,"",0]
[{"$f":"ROW(Source!A29)","v":29},85312298,85315758,83854480,1,1,1,3,"01.7.20.07-0002","ФСБЦ-2022, 01.7.20.07-0002, приказ Минстроя России от 18.05.2022 г. № 378/пр","Шпагат из пенькового волокна, диаметр 1,7 мм",1346,null,1009,"кг","кг",1,null,null,null,null,null,0,2095784816,0.2,null,330.28,0,0,0,214.47,0,0,0,1.54,1,1,1,2,0,0,1,1,0,"",0.2,"",0,2,85315763,1,0,5,1,0,0,0,0,0,0,0,42.894000000000005,0,0,0,0,0,1,42.894000000000005,0,0,0,0,0,1,null,null,null,null,null,null,null,null,null,null,null,null,null,null,null,null,null,null,null,null,null,null,null,null,0,0,{"$f":"ROUND(Y5*Source!I29,7)","v":0},{"$f":"AA5","v":330.28},{"$f":"AE5","v":214.47},{"$f":"AI5","v":1.54},42.89,0,"","",{"$f":"ROUND(ROUND(AE5*AI5,2)*CX5,2)","v":0},0,0,0,{"$f":"DF5","v":0},0,"",0,"",0]
[{"$f":"ROW(Source!A29)","v":29},85312298,85315758,83862755,1,1,1,3,"11.1.03.05-0074","ФСБЦ-2022, 11.1.03.05-0074, приказ Минстроя России от 18.05.2022 г. № 378/пр","Доска необрезная хвойных пород, естественной влажности, длина 4-6,5 м, ширина 100-250, толщина 20 мм, сорт IV",1339,null,1007,"м3","м3",1,null,null,null,null,null,0,-1627553690,1E-3,null,12012.45,0,0,0,7555,0,0,0,1.59,1,1,1,2,0,0,1,1,0,"",1E-3,"",0,2,85315764,1,0,6,1,0,0,0,0,0,0,0,7.5549999999999997,0,0,0,0,0,1,7.5549999999999997,0,0,0,0,0,1,null,null,null,null,null,null,null,null,null,null,null,null,null,null,null,null,null,null,null,null,null,null,null,null,0,0,{"$f":"ROUND(Y6*Source!I29,7)","v":0},{"$f":"AA6","v":12012.45},{"$f":"AE6","v":7555},{"$f":"AI6","v":1.59},7.56,0,"","",{"$f":"ROUND(ROUND(AE6*AI6,2)*CX6,2)","v":0},0,0,0,{"$f":"DF6","v":0},0,"",0,"",0]
[{"$f":"ROW(Source!A31)","v":31},85312357,85315766,77306545,114,1,1,1,"4-100-00","","Затраты труда машинистов",1191,null,1013,"чел.-ч.","чел.-ч.",1,null,null,null,null,null,0,-1417349443,0.99,null,0,0,0,0,0,0,0,0,1,1,1,1,-2,0,0,1,1,0,"",0.99,"",2,2,85315770,1,0,7,1,0,0,0,0,0,0,0,0,0,0,0,0,0,0,0,0,0,0,0,0,0,null,null,null,null,null,null,null,null,null,null,null,null,null,null,null,null,null,null,null,null,null,null,null,null,0,0,{"$f":"ROUND(Y7*Source!I31,7)","v":0},{"$f":"AD7","v":0},{"$f":"AH7","v":0},{"$f":"AL7","v":1},0,0,"","",{"$f":"ROUND(ROUND(AE7,2)*CX7,2)","v":0},0,0,0,{"$f":"DI7","v":0},0,"",0,"",0]
[{"$f":"ROW(Source!A31)","v":31},85312357,85315766,77430562,1,1,1,2,"91.01.01-035","ФСЭМ-2022, 91.01.01-035, приказ Минстроя России от 18.05.2022 г. № 378/пр","Бульдозеры, мощность 79 кВт (108 л.с.)",1368,null,1011,"маш.-ч","маш.-ч",1,null,null,null,null,null,0,-1290093107,0.61,null,0,1207.05,1090.46,0,0,887.54,1090.46,0,1,1.36,1,1,2,0,0,1,1,0,"",0.61,"",1,2,85315771,2,65536,8,1,0,0,0,0,0,0,0,0,541.39940000000001,665.18060000000003,0,0,0.61,1,0,541.39940000000001,665.18060000000003,0,0,0.61,1,null,null,null,null,null,null,null,null,null,null,null,null,null,null,null,null,null,null,null,null,null,null,null,null,0,{"$f":"ROUND(Y8*Source!I31*DO8,7)","v":0},{"$f":"ROUND(Y8*Source!I31,7)","v":0},{"$f":"AB8","v":1207.05},{"$f":"AF8","v":887.54},{"$f":"AJ8","v":1.36},541.4,665.18,"","",0,{"$f":"ROUND(ROUND(AF8*AJ8,2)*CX8,2)","v":0},0,0,{"$f":"DG8+DH8","v":0},0,"4-100-060",6,"чел.-ч.",1]
[{"$f":"ROW(Source!A31)","v":31},85312357,85315766,77430573,1,1,1,2,"91.01.02-004","ФСЭМ-2022 доп.11, 91.01.02-004, приказ Минстроя России от 09.08.2024 г. № 524/пр","Автогрейдеры среднего типа, мощность 99 кВт (135 л.с.)",1368,null,1011,"маш.-ч","маш.-ч",1,null,null,null,null,null,0,-888233505,0.38,null,0,2628.88,1090.46,0,0,1933,1090.46,0,1,1.36,1,1,2,0,0,1,1,0,"",0.38,"",1,2,85315772,2,65536,9,1,0,0,0,0,0,0,0,0,734.54,414.37479999999999,0,0,0.38,1,0,734.54,414.37479999999999,0,0,0.38,1,null,null,null,null,null,null,null,null,null,null,null,null,null,null,null,null,null,null,null,null,null,null,null,null,0,{"$f":"ROUND(Y9*Source!I31*DO9,7)","v":0},{"$f":"ROUND(Y9*Source!I31,7)","v":0},{"$f":"AB9","v":2628.88},{"$f":"AF9","v":1933},{"$f":"AJ9","v":1.36},734.54,414.37,"","",0,{"$f":"ROUND(ROUND(AF9*AJ9,2)*CX9,2)","v":0},0,0,{"$f":"DG9+DH9","v":0},0,"4-100-060",6,"чел.-ч.",1]
[{"$f":"ROW(Source!A32)","v":32},85312298,85315766,77306545,114,1,1,1,"4-100-00","","Затраты труда машинистов",1191,null,1013,"чел.-ч.","чел.-ч.",1,null,null,null,null,null,0,-1417349443,0.99,null,0,0,0,0,0,0,0,0,1,1,1,1,-2,0,0,1,1,0,"",0.99,"",2,2,85315770,1,0,10,1,0,0,0,0,0,0,0,0,0,0,0,0,0,0,0,0,0,0,0,0,0,null,null,null,null,null,null,null,null,null,null,null,null,null,null,null,null,null,null,null,null,null,null,null,null,0,0,{"$f":"ROUND(Y10*Source!I32,7)","v":0},{"$f":"AD10","v":0},{"$f":"AH10","v":0},{"$f":"AL10","v":1},0,0,"","",0,{"$f":"ROUND(ROUND(AF10,2)*CX10,2)","v":0},0,0,{"$f":"DI10","v":0},0,"",0,"",0]
[{"$f":"ROW(Source!A32)","v":32},85312298,85315766,77430562,1,1,1,2,"91.01.01-035","ФСЭМ-2022, 91.01.01-035, приказ Минстроя России от 18.05.2022 г. № 378/пр","Бульдозеры, мощность 79 кВт (108 л.с.)",1368,null,1011,"маш.-ч","маш.-ч",1,null,null,null,null,null,0,-1290093107,0.61,null,0,1207.05,1090.46,0,0,887.54,1090.46,0,1,1.36,1,1,2,0,0,1,1,0,"",0.61,"",1,2,85315771,2,65536,11,1,0,0,0,0,0,0,0,0,541.39940000000001,665.18060000000003,0,0,0.61,1,0,541.39940000000001,665.18060000000003,0,0,0.61,1,null,null,null,null,null,null,null,null,null,null,null,null,null,null,null,null,null,null,null,null,null,null,null,null,0,{"$f":"ROUND(Y11*Source!I32*DO11,7)","v":0},{"$f":"ROUND(Y11*Source!I32,7)","v":0},{"$f":"AB11","v":1207.05},{"$f":"AF11","v":887.54},{"$f":"AJ11","v":1.36},541.4,665.18,"","",0,{"$f":"ROUND(ROUND(AF11*AJ11,2)*CX11,2)","v":0},0,0,{"$f":"DG11+DH11","v":0},0,"4-100-060",6,"чел.-ч.",1]
[{"$f":"ROW(Source!A32)","v":32},85312298,85315766,77430573,1,1,1,2,"91.01.02-004","ФСЭМ-2022 доп.11, 91.01.02-004, приказ Минстроя России от 09.08.2024 г. № 524/пр","Автогрейдеры среднего типа, мощность 99 кВт (135 л.с.)",1368,null,1011,"маш.-ч","маш.-ч",1,null,null,null,null,null,0,-888233505,0.38,null,0,2628.88,1090.46,0,0,1933,1090.46,0,1,1.36,1,1,2,0,0,1,1,0,"",0.38,"",1,2,85315772,2,65536,12,1,0,0,0,0,0,0,0,0,734.54,414.37479999999999,0,0,0.38,1,0,734.54,414.37479999999999,0,0,0.38,1,null,null,null,null,null,null,null,null,null,null,null,null,null,null,null,null,null,null,null,null,null,null,null,null,0,{"$f":"ROUND(Y12*Source!I32*DO12,7)","v":0},{"$f":"ROUND(Y12*Source!I32,7)","v":0},{"$f":"AB12","v":2628.88},{"$f":"AF12","v":1933},{"$f":"AJ12","v":1.36},734.54,414.37,"","",0,{"$f":"ROUND(ROUND(AF12*AJ12,2)*CX12,2)","v":0},0,0,{"$f":"DG12+DH12","v":0},0,"4-100-060",6,"чел.-ч.",1]
[{"$f":"ROW(Source!A34)","v":34},85312357,85315774,77306386,114,1,1,1,"1-100-45","","Средний разряд работы 4,5",1191,null,1013,"чел.-ч.","чел.-ч.",1,null,null,null,null,null,0,1903532093,0.68,null,0,0,0,872.37,0,0,0,872.37,1,1,1,1,-2,0,0,1,1,0,"",0.68,"",1,2,85315778,2,131072,13,1,0,0,0,0,0,0,0,0,0,0,593.21160000000009,0.68,0,1,0,0,0,593.21160000000009,0.68,0,1,null,null,null,null,null,null,null,null,null,null,null,null,null,null,null,null,null,null,null,null,null,null,null,{"$f":"ROUND(AT13*Source!I34*AH13*AL13,2)","v":0},{"$f":"ROUND(Y13*Source!I34,7)","v":0},0,{"$f":"ROUND(Y13*Source!I34,7)","v":0},{"$f":"AD13","v":872.37},{"$f":"AH13","v":872.37},{"$f":"AL13","v":1},593.21,0,"","",0,{"$f":"ROUND(ROUND(AF13,2)*CX13,2)","v":0},0,0,{"$f":"DI13","v":0},1,"",0,"",0]
[{"$f":"ROW(Source!A34)","v":34},85312357,85315774,77306545,114,1,1,1,"4-100-00","","Затраты труда машинистов",1191,null,1013,"чел.-ч.","чел.-ч.",1,null,null,null,null,null,0,-1417349443,0.33,null,0,0,0,0,0,0,0,0,1,1,1,1,-2,0,0,1,1,0,"",0.33,"",2,2,85315779,1,0,14,1,0,0,0,0,0,0,0,0,0,0,0,0,0,0,0,0,0,0,0,0,0,null,null,null,null,null,null,null,null,null,null,null,null,null,null,null,null,null,null,null,null,null,null,null,null,0,0,{"$f":"ROUND(Y14*Source!I34,7)","v":0},{"$f":"AD14","v":0},{"$f":"AH14","v":0},{"$f":"AL14","v":1},0,0,"","",0,0,0,0,{"$f":"DI14","v":0},0,"",0,"",0]
[{"$f":"ROW(Source!A34)","v":34},85312357,85315774,77431162,1,1,1,2,"91.06.06-012","ФСЭМ-2022, 91.06.06-012, приказ Минстроя России от 18.05.2022 г. № 378/пр","Автогидроподъемники, высота подъема 18 м",1368,null,1011,"маш.-ч","маш.-ч",1,null,null,null,null,null,0,-1681054019,0.33,null,0,930.99,932.95,0,0,930.99,932.95,0,1,1,1,1,-2,0,0,1,1,0,"",0.33,"",1,2,85315780,1,0,15,1,0,0,0,0,0,0,0,0,307.22669999999999,307.87350000000004,0,0,0.33,1,0,307.22669999999999,307.87350000000004,0,0,0.33,1,null,null,null,null,null,null,null,null,null,null,null,null,null,null,null,null,null,null,null,null,null,null,null,null,0,{"$f":"ROUND(Y15*Source!I34*DO15,7)","v":0},{"$f":"ROUND(Y15*Source!I34,7)","v":0},{"$f":"AB15","v":930.99},{"$f":"AF15","v":930.99},{"$f":"AJ15","v":1},307.23,307.87,"","",0,0,0,0,{"$f":"DG15+DH15","v":0},1,"4-100-050",5,"чел.-ч.",1]
[{"$f":"ROW(Source!A35)","v":35},85312298,85315774,77306386,114,1,1,1,"1-100-45","","Средний разряд работы 4,5",1191,null,1013,"чел.-ч.","чел.-ч.",1,null,null,null,null,null,0,1903532093,0.68,null,0,0,0,872.37,0,0,0,872.37,1,1,1,1,-2,0,0,1,1,0,"",0.68,"",1,2,85315778,2,131072,16,1,0,0,0,0,0,0,0,0,0,0,593.21160000000009,0.68,0,1,0,0,0,593.21160000000009,0.68,0,1,null,null,null,null,null,null,null,null,null,null,null,null,null,null,null,null,null,null,null,null,null,null,null,{"$f":"ROUND(AT16*Source!I35*AH16*AL16,2)","v":0},{"$f":"ROUND(Y16*Source!I35,7)","v":0},0,{"$f":"ROUND(Y16*Source!I35,7)","v":0},{"$f":"AD16","v":872.37},{"$f":"AH16","v":872.37},{"$f":"AL16","v":1},593.21,0,"","",0,0,0,0,{"$f":"DI16","v":0},1,"",0,"",0]
[{"$f":"ROW(Source!A35)","v":35},85312298,85315774,77306545,114,1,1,1,"4-100-00","","Затраты труда машинистов",1191,null,1013,"чел.-ч.","чел.-ч.",1,null,null,null,null,null,0,-1417349443,0.33,null,0,0,0,0,0,0,0,0,1,1,1,1,-2,0,0,1,1,0,"",0.33,"",2,2,85315779,1,0,17,1,0,0,0,0,0,0,0,0,0,0,0,0,0,0,0,0,0,0,0,0,0,null,null,null,null,null,null,null,null,null,null,null,null,null,null,null,null,null,null,null,null,null,null,null,null,0,0,{"$f":"ROUND(Y17*Source!I35,7)","v":0},{"$f":"AD17","v":0},{"$f":"AH17","v":0},{"$f":"AL17","v":1},0,0,"","",0,0,0,0,{"$f":"DI17","v":0},0,"",0,"",0]
[{"$f":"ROW(Source!A35)","v":35},85312298,85315774,77431162,1,1,1,2,"91.06.06-012","ФСЭМ-2022, 91.06.06-012, приказ Минстроя России от 18.05.2022 г. № 378/пр","Автогидроподъемники, высота подъема 18 м",1368,null,1011,"маш.-ч","маш.-ч",1,null,null,null,null,null,0,-1681054019,0.33,null,0,930.99,932.95,0,0,930.99,932.95,0,1,1,1,1,-2,0,0,1,1,0,"",0.33,"",1,2,85315780,1,0,18,1,0,0,0,0,0,0,0,0,307.22669999999999,307.87350000000004,0,0,0.33,1,0,307.22669999999999,307.87350000000004,0,0,0.33,1,null,null,null,null,null,null,null,null,null,null,null,null,null,null,null,null,null,null,null,null,null,null,null,null,0,{"$f":"ROUND(Y18*Source!I35*DO18,7)","v":0},{"$f":"ROUND(Y18*Source!I35,7)","v":0},{"$f":"AB18","v":930.99},{"$f":"AF18","v":930.99},{"$f":"AJ18","v":1},307.23,307.87,"","",0,0,0,0,{"$f":"DG18+DH18","v":0},1,"4-100-050",5,"чел.-ч.",1]
[{"$f":"ROW(Source!A37)","v":37},85312357,85315782,77306346,114,1,1,1,"1-100-29","","Средний разряд работы 2,9",1191,null,1013,"чел.-ч.","чел.-ч.",1,null,null,null,null,null,0,1014935341,0.98,null,0,0,0,714.86,0,0,0,714.86,1,1,1,1,-2,0,0,1,1,0,"",0.98,"",1,2,85315784,2,131072,19,1,0,0,0,0,0,0,0,0,0,0,700.56280000000004,0.98,0,1,0,0,0,700.56280000000004,0.98,0,1,null,null,null,null,null,null,null,null,null,null,null,null,null,null,null,null,null,null,null,null,null,null,null,{"$f":"ROUND(AT19*Source!I37*AH19*AL19,2)","v":0},{"$f":"ROUND(Y19*Source!I37,7)","v":0},0,{"$f":"ROUND(Y19*Source!I37,7)","v":0},{"$f":"AD19","v":714.86},{"$f":"AH19","v":714.86},{"$f":"AL19","v":1},700.56,0,"","",0,0,0,0,{"$f":"DI19","v":0},1,"",0,"",0]
[{"$f":"ROW(Source!A38)","v":38},85312298,85315782,77306346,114,1,1,1,"1-100-29","","Средний разряд работы 2,9",1191,null,1013,"чел.-ч.","чел.-ч.",1,null,null,null,null,null,0,1014935341,0.98,null,0,0,0,714.86,0,0,0,714.86,1,1,1,1,-2,0,0,1,1,0,"",0.98,"",1,2,85315784,2,131072,20,1,0,0,0,0,0,0,0,0,0,0,700.56280000000004,0.98,0,1,0,0,0,700.56280000000004,0.98,0,1,null,null,null,null,null,null,null,null,null,null,null,null,null,null,null,null,null,null,null,null,null,null,null,{"$f":"ROUND(AT20*Source!I38*AH20*AL20,2)","v":0},{"$f":"ROUND(Y20*Source!I38,7)","v":0},0,{"$f":"ROUND(Y20*Source!I38,7)","v":0},{"$f":"AD20","v":714.86},{"$f":"AH20","v":714.86},{"$f":"AL20","v":1},700.56,0,"","",0,0,0,0,{"$f":"DI20","v":0},1,"",0,"",0]
[{"$f":"ROW(Source!A40)","v":40},85312357,85315786,83777477,117,1,1,1,"1-100-25","","Средний разряд работы 2,5",1191,null,1013,"чел.-ч.","чел.-ч.",1,null,null,null,null,null,0,-1991603921,{"$f":"(AT21*ROUND((0.2+1),7))","v":0.52800000000000002},null,0,0,0,690.62,0,0,0,690.62,1,1,1,1,-2,0,0,1,1,0,"",0.44,"*(0,2+1)",1,2,85315792,1,0,21,1,0,0,0,0,0,0,0,0,0,0,303.87279999999998,0.44,0,1,0,0,0,364.64735999999999,0.52800000000000002,0,1,null,null,null,null,null,null,null,null,null,null,null,null,null,null,null,null,null,null,null,null,null,null,null,{"$f":"ROUND(AT21*Source!I40*AH21*AL21,2)","v":0},{"$f":"ROUND(Y21*Source!I40,7)","v":0},0,{"$f":"ROUND(Y21*Source!I40,7)","v":0},{"$f":"AD21","v":690.62},{"$f":"AH21","v":690.62},{"$f":"AL21","v":1},{"$f":"ROUND((ROUND(AT21*CZ21,2)*ROUND((0.2+1),7)),2)","v":364.64},{"$f":"ROUND((ROUND(AT21*AG21,2)*ROUND((0.2+1),7)),2)","v":0},"","",0,0,0,0,{"$f":"DI21","v":0},1,"",0,"",0]
[{"$f":"ROW(Source!A40)","v":40},85312357,85315786,83777689,117,1,1,1,"4-100-00","","Затраты труда машинистов",1191,null,1013,"чел.-ч.","чел.-ч.",1,null,null,null,null,null,0,-1417349443,0.57599999999999996,null,0,0,0,0,0,0,0,0,1,1,1,1,-2,0,0,1,1,0,"",0.48,"*(0,2+1)",2,2,85315793,1,0,22,1,0,0,0,0,0,0,0,0,0,0,0,0,0,0,0,0,0,0,0,0,0,null,null,null,null,null,null,null,null,null,null,null,null,null,null,null,null,null,null,null,null,null,null,null,null,0,0,{"$f":"ROUND(Y22*Source!I40,7)","v":0},{"$f":"AD22","v":0},{"$f":"AH22","v":0},{"$f":"AL22","v":1},0,0,"","",0,0,0,0,{"$f":"DI22","v":0},0,"",0,"",0]
[{"$f":"ROW(Source!A40)","v":40},85312357,85315786,83784178,1,1,1,2,"91.05.05-015","ФСЭМ-2022, 91.05.05-015, приказ Минстроя России от 18.05.2022 г. № 378/пр","Краны на автомобильном ходу, грузоподъемность 16 т",1368,null,1011,"маш.-ч","маш.-ч",1,null,null,null,null,null,0,639918019,0.28799999999999998,null,0,1626.29,1090.46,0,0,1626.29,1090.46,0,1,1,1,1,-2,0,0,1,1,0,"",0.24,"*(0,2+1)",1,2,85315794,1,0,23,1,0,0,0,0,0,0,0,0,390.30959999999999,261.71039999999999,0,0,0.24,1,0,468.37151999999998,314.05248,0,0,0.28799999999999998,1,null,null,null,null,null,null,null,null,null,null,null,null,null,null,null,null,null,null,null,null,null,null,null,null,0,{"$f":"ROUND(Y23*Source!I40*DO23,7)","v":0},{"$f":"ROUND(Y23*Source!I40,7)","v":0},{"$f":"AB23","v":1626.29},{"$f":"AF23","v":1626.29},{"$f":"AJ23","v":1},468.37,314.05,"","",0,0,0,0,{"$f":"DG23+DH23","v":0},1,"4-100-060",6,"чел.-ч.",1]
[{"$f":"ROW(Source!A40)","v":40},85312357,85315786,83785137,1,1,1,2,"91.15.01-001","ФСЭМ-2022, 91.15.01-001, приказ Минстроя России от 18.05.2022 г. № 378/пр","Прицепы тракторные, грузоподъемность до 2 т",1368,null,1011,"маш.-ч","маш.-ч",1,null,null,null,null,null,0,1256142057,0.28799999999999998,null,0,13.86,0,0,0,13.86,0,0,1,1,1,1,-2,0,0,1,1,0,"",0.24,"*(0,2+1)",1,2,85315795,1,0,24,1,0,0,0,0,0,0,0,0,3.3263999999999996,0,0,0,0,1,0,3.9916799999999997,0,0,0,0,1,null,null,null,null,null,null,null,null,null,null,null,null,null,null,null,null,null,null,null,null,null,null,null,null,0,{"$f":"ROUND(Y24*Source!I40*DO24,7)","v":0},{"$f":"ROUND(Y24*Source!I40,7)","v":0},{"$f":"AB24","v":13.86},{"$f":"AF24","v":13.86},{"$f":"AJ24","v":1},4,0,"","",0,0,0,0,{"$f":"DG24+DH24","v":0},1,"",0,"",0]
[{"$f":"ROW(Source!A40)","v":40},85312357,85315786,83785155,1,1,1,2,"91.15.03-014","ФСЭМ-2022 доп.11, 91.15.03-014, приказ Минстроя России от 09.08.2024 г. № 524/пр","Тракторы на пневмоколесном ходу, мощность 59 кВт (80 л.с.)",1368,null,1011,"маш.-ч","маш.-ч",1,null,null,null,null,null,0,1638899965,0.28799999999999998,null,0,634.32000000000005,811.79,0,0,487.94,811.79,0,1,1.3,1,1,2,0,0,1,1,0,"",0.24,"*(0,2+1)",1,2,85315796,1,0,25,1,0,0,0,0,0,0,0,0,117.1056,194.82959999999997,0,0,0.24,1,0,140.52671999999998,233.79551999999998,0,0,0.28799999999999998,1,null,null,null,null,null,null,null,null,null,null,null,null,null,null,null,null,null,null,null,null,null,null,null,null,0,{"$f":"ROUND(Y25*Source!I40*DO25,7)","v":0},{"$f":"ROUND(Y25*Source!I40,7)","v":0},{"$f":"AB25","v":634.32000000000005},{"$f":"AF25","v":487.94},{"$f":"AJ25","v":1.3},140.53,233.8,"","",0,{"$f":"ROUND(ROUND(AF25*AJ25,2)*CX25,2)","v":0},0,0,{"$f":"DG25+DH25","v":0},0,"4-100-040",4,"чел.-ч.",1]
[{"$f":"ROW(Source!A41)","v":41},85312298,85315786,83777477,117,1,1,1,"1-100-25","","Средний разряд работы 2,5",1191,null,1013,"чел.-ч.","чел.-ч.",1,null,null,null,null,null,0,-1991603921,0.52800000000000002,null,0,0,0,690.62,0,0,0,690.62,1,1,1,1,-2,0,0,1,1,0,"",0.44,"*(0,2+1)",1,2,85315792,1,0,26,1,0,0,0,0,0,0,0,0,0,0,303.87279999999998,0.44,0,1,0,0,0,364.64735999999999,0.52800000000000002,0,1,null,null,null,null,null,null,null,null,null,null,null,null,null,null,null,null,null,null,null,null,null,null,null,{"$f":"ROUND(AT26*Source!I41*AH26*AL26,2)","v":0},{"$f":"ROUND(Y26*Source!I41,7)","v":0},0,{"$f":"ROUND(Y26*Source!I41,7)","v":0},{"$f":"AD26","v":690.62},{"$f":"AH26","v":690.62},{"$f":"AL26","v":1},364.64,0,"","",0,{"$f":"ROUND(ROUND(AF26,2)*CX26,2)","v":0},0,0,{"$f":"DI26","v":0},1,"",0,"",0]
[{"$f":"ROW(Source!A41)","v":41},85312298,85315786,83777689,117,1,1,1,"4-100-00","","Затраты труда машинистов",1191,null,1013,"чел.-ч.","чел.-ч.",1,null,null,null,null,null,0,-1417349443,0.57599999999999996,null,0,0,0,0,0,0,0,0,1,1,1,1,-2,0,0,1,1,0,"",0.48,"*(0,2+1)",2,2,85315793,1,0,27,1,0,0,0,0,0,0,0,0,0,0,0,0,0,0,0,0,0,0,0,0,0,null,null,null,null,null,null,null,null,null,null,null,null,null,null,null,null,null,null,null,null,null,null,null,null,0,0,{"$f":"ROUND(Y27*Source!I41,7)","v":0},{"$f":"AD27","v":0},{"$f":"AH27","v":0},{"$f":"AL27","v":1},0,0,"","",0,{"$f":"ROUND(ROUND(AF27,2)*CX27,2)","v":0},0,0,{"$f":"DI27","v":0},0,"",0,"",0]
[{"$f":"ROW(Source!A41)","v":41},85312298,85315786,83784178,1,1,1,2,"91.05.05-015","ФСЭМ-2022, 91.05.05-015, приказ Минстроя России от 18.05.2022 г. № 378/пр","Краны на автомобильном ходу, грузоподъемность 16 т",1368,null,1011,"маш.-ч","маш.-ч",1,null,null,null,null,null,0,639918019,0.28799999999999998,null,0,1626.29,1090.46,0,0,1626.29,1090.46,0,1,1,1,1,-2,0,0,1,1,0,"",0.24,"*(0,2+1)",1,2,85315794,1,0,28,1,0,0,0,0,0,0,0,0,390.30959999999999,261.71039999999999,0,0,0.24,1,0,468.37151999999998,314.05248,0,0,0.28799999999999998,1,null,null,null,null,null,null,null,null,null,null,null,null,null,null,null,null,null,null,null,null,null,null,null,null,0,{"$f":"ROUND(Y28*Source!I41*DO28,7)","v":0},{"$f":"ROUND(Y28*Source!I41,7)","v":0},{"$f":"AB28","v":1626.29},{"$f":"AF28","v":1626.29},{"$f":"AJ28","v":1},468.37,314.05,"","",0,{"$f":"ROUND(ROUND(AF28,2)*CX28,2)","v":0},0,0,{"$f":"DG28+DH28","v":0},1,"4-100-060",6,"чел.-ч.",1]
[{"$f":"ROW(Source!A41)","v":41},85312298,85315786,83785137,1,1,1,2,"91.15.01-001","ФСЭМ-2022, 91.15.01-001, приказ Минстроя России от 18.05.2022 г. № 378/пр","Прицепы тракторные, грузоподъемность до 2 т",1368,null,1011,"маш.-ч","маш.-ч",1,null,null,null,null,null,0,1256142057,0.28799999999999998,null,0,13.86,0,0,0,13.86,0,0,1,1,1,1,-2,0,0,1,1,0,"",0.24,"*(0,2+1)",1,2,85315795,1,0,29,1,0,0,0,0,0,0,0,0,3.3263999999999996,0,0,0,0,1,0,3.9916799999999997,0,0,0,0,1,null,null,null,null,null,null,null,null,null,null,null,null,null,null,null,null,null,null,null,null,null,null,null,null,0,{"$f":"ROUND(Y29*Source!I41*DO29,7)","v":0},{"$f":"ROUND(Y29*Source!I41,7)","v":0},{"$f":"AB29","v":13.86},{"$f":"AF29","v":13.86},{"$f":"AJ29","v":1},4,0,"","",0,{"$f":"ROUND(ROUND(AF29,2)*CX29,2)","v":0},0,0,{"$f":"DG29+DH29","v":0},1,"",0,"",0]
[{"$f":"ROW(Source!A41)","v":41},85312298,85315786,83785155,1,1,1,2,"91.15.03-014","ФСЭМ-2022 доп.11, 91.15.03-014, приказ Минстроя России от 09.08.2024 г. № 524/пр","Тракторы на пневмоколесном ходу, мощность 59 кВт (80 л.с.)",1368,null,1011,"маш.-ч","маш.-ч",1,null,null,null,null,null,0,1638899965,0.28799999999999998,null,0,634.32000000000005,811.79,0,0,487.94,811.79,0,1,1.3,1,1,2,0,0,1,1,0,"",0.24,"*(0,2+1)",1,2,85315796,1,0,30,1,0,0,0,0,0,0,0,0,117.1056,194.82959999999997,0,0,0.24,1,0,140.52671999999998,233.79551999999998,0,0,0.28799999999999998,1,null,null,null,null,null,null,null,null,null,null,null,null,null,null,null,null,null,null,null,null,null,null,null,null,0,{"$f":"ROUND(Y30*Source!I41*DO30,7)","v":0},{"$f":"ROUND(Y30*Source!I41,7)","v":0},{"$f":"AB30","v":634.32000000000005},{"$f":"AF30","v":487.94},{"$f":"AJ30","v":1.3},140.53,233.8,"","",0,{"$f":"ROUND(ROUND(AF30*AJ30,2)*CX30,2)","v":0},0,0,{"$f":"DG30+DH30","v":0},0,"4-100-040",4,"чел.-ч.",1]
[{"$f":"ROW(Source!A43)","v":43},85312357,85315798,77306332,114,1,1,1,"1-100-25","","Средний разряд работы 2,5",1191,null,1013,"чел.-ч.","чел.-ч.",1,null,null,null,null,null,0,-1991603921,{"$f":"AT31","v":0.41},null,0,0,0,690.62,0,0,0,690.62,1,1,1,1,-2,0,0,1,1,0,"",0.41,"",1,2,85315804,2,131072,31,1,0,0,0,0,0,0,0,0,0,0,283.1542,0.41,0,1,0,0,0,283.1542,0.41,0,1,null,null,null,null,null,null,null,null,null,null,null,null,null,null,null,null,null,null,null,null,null,null,null,{"$f":"ROUND(AT31*Source!I43*AH31*AL31,2)","v":0},{"$f":"ROUND(Y31*Source!I43,7)","v":0},0,{"$f":"ROUND(Y31*Source!I43,7)","v":0},{"$f":"AD31","v":690.62},{"$f":"AH31","v":690.62},{"$f":"AL31","v":1},{"$f":"ROUND(ROUND(AT31*CZ31,2),2)","v":283.14999999999998},{"$f":"ROUND(ROUND(AT31*AG31,2),2)","v":0},"","",0,{"$f":"ROUND(ROUND(AF31,2)*CX31,2)","v":0},0,0,{"$f":"DI31","v":0},1,"",0,"",0]
[{"$f":"ROW(Source!A43)","v":43},85312357,85315798,77306545,114,1,1,1,"4-100-00","","Затраты труда машинистов",1191,null,1013,"чел.-ч.","чел.-ч.",1,null,null,null,null,null,0,-1417349443,0.44,null,0,0,0,0,0,0,0,0,1,1,1,1,-2,0,0,1,1,0,"",0.44,"",2,2,85315805,1,0,32,1,0,0,0,0,0,0,0,0,0,0,0,0,0,0,0,0,0,0,0,0,0,null,null,null,null,null,null,null,null,null,null,null,null,null,null,null,null,null,null,null,null,null,null,null,null,0,0,{"$f":"ROUND(Y32*Source!I43,7)","v":0},{"$f":"AD32","v":0},{"$f":"AH32","v":0},{"$f":"AL32","v":1},0,0,"","",0,{"$f":"ROUND(ROUND(AF32,2)*CX32,2)","v":0},0,0,{"$f":"DI32","v":0},0,"",0,"",0]
[{"$f":"ROW(Source!A43)","v":43},85312357,85315798,77430988,1,1,1,2,"91.05.05-015","ФСЭМ-2022, 91.05.05-015, приказ Минстроя России от 18.05.2022 г. № 378/пр","Краны на автомобильном ходу, грузоподъемность 16 т",1368,null,1011,"маш.-ч","маш.-ч",1,null,null,null,null,null,0,-468861091,0.22,null,0,1626.29,1090.46,0,0,1626.29,1090.46,0,1,1,1,1,-2,0,0,1,1,0,"",0.22,"",1,2,85315806,1,0,33,1,0,0,0,0,0,0,0,0,357.78379999999999,239.90120000000002,0,0,0.22,1,0,357.78379999999999,239.90120000000002,0,0,0.22,1,null,null,null,null,null,null,null,null,null,null,null,null,null,null,null,null,null,null,null,null,null,null,null,null,0,{"$f":"ROUND(Y33*Source!I43*DO33,7)","v":0},{"$f":"ROUND(Y33*Source!I43,7)","v":0},{"$f":"AB33","v":1626.29},{"$f":"AF33","v":1626.29},{"$f":"AJ33","v":1},357.78,239.9,"","",0,{"$f":"ROUND(ROUND(AF33,2)*CX33,2)","v":0},0,0,{"$f":"DG33+DH33","v":0},1,"4-100-060",6,"чел.-ч.",1]
[{"$f":"ROW(Source!A43)","v":43},85312357,85315798,77431943,1,1,1,2,"91.15.01-001","ФСЭМ-2022, 91.15.01-001, приказ Минстроя России от 18.05.2022 г. № 378/пр","Прицепы тракторные, грузоподъемность до 2 т",1368,null,1011,"маш.-ч","маш.-ч",1,null,null,null,null,null,0,1571464010,0.22,null,0,13.86,0,0,0,13.86,0,0,1,1,1,1,-2,0,0,1,1,0,"",0.22,"",1,2,85315807,1,0,34,1,0,0,0,0,0,0,0,0,3.0491999999999999,0,0,0,0,1,0,3.0491999999999999,0,0,0,0,1,null,null,null,null,null,null,null,null,null,null,null,null,null,null,null,null,null,null,null,null,null,null,null,null,0,{"$f":"ROUND(Y34*Source!I43*DO34,7)","v":0},{"$f":"ROUND(Y34*Source!I43,7)","v":0},{"$f":"AB34","v":13.86},{"$f":"AF34","v":13.86},{"$f":"AJ34","v":1},3.05,0,"","",0,{"$f":"ROUND(ROUND(AF34,2)*CX34,2)","v":0},0,0,{"$f":"DG34+DH34","v":0},1,"",0,"",0]
[{"$f":"ROW(Source!A43)","v":43},85312357,85315798,77431961,1,1,1,2,"91.15.03-014","ФСЭМ-2022 доп.11, 91.15.03-014, приказ Минстроя России от 09.08.2024 г. № 524/пр","Тракторы на пневмоколесном ходу, мощность 59 кВт (80 л.с.)",1368,null,1011,"маш.-ч","маш.-ч",1,null,null,null,null,null,0,-662053402,0.22,null,0,634.32000000000005,811.79,0,0,487.94,811.79,0,1,1.3,1,1,2,0,0,1,1,0,"",0.22,"",1,2,85315808,2,65536,35,1,0,0,0,0,0,0,0,0,107.3468,178.59379999999999,0,0,0.22,1,0,107.3468,178.59379999999999,0,0,0.22,1,null,null,null,null,null,null,null,null,null,null,null,null,null,null,null,null,null,null,null,null,null,null,null,null,0,{"$f":"ROUND(Y35*Source!I43*DO35,7)","v":0},{"$f":"ROUND(Y35*Source!I43,7)","v":0},{"$f":"AB35","v":634.32000000000005},{"$f":"AF35","v":487.94},{"$f":"AJ35","v":1.3},107.35,178.59,"","",0,{"$f":"ROUND(ROUND(AF35*AJ35,2)*CX35,2)","v":0},0,0,{"$f":"DG35+DH35","v":0},0,"4-100-040",4,"чел.-ч.",1]
[{"$f":"ROW(Source!A44)","v":44},85312298,85315798,77306332,114,1,1,1,"1-100-25","","Средний разряд работы 2,5",1191,null,1013,"чел.-ч.","чел.-ч.",1,null,null,null,null,null,0,-1991603921,0.41,null,0,0,0,690.62,0,0,0,690.62,1,1,1,1,-2,0,0,1,1,0,"",0.41,"",1,2,85315804,2,131072,36,1,0,0,0,0,0,0,0,0,0,0,283.1542,0.41,0,1,0,0,0,283.1542,0.41,0,1,null,null,null,null,null,null,null,null,null,null,null,null,null,null,null,null,null,null,null,null,null,null,null,{"$f":"ROUND(AT36*Source!I44*AH36*AL36,2)","v":0},{"$f":"ROUND(Y36*Source!I44,7)","v":0},0,{"$f":"ROUND(Y36*Source!I44,7)","v":0},{"$f":"AD36","v":690.62},{"$f":"AH36","v":690.62},{"$f":"AL36","v":1},283.14999999999998,0,"","",0,{"$f":"ROUND(ROUND(AF36,2)*CX36,2)","v":0},0,0,{"$f":"DI36","v":0},1,"",0,"",0]
[{"$f":"ROW(Source!A44)","v":44},85312298,85315798,77306545,114,1,1,1,"4-100-00","","Затраты труда машинистов",1191,null,1013,"чел.-ч.","чел.-ч.",1,null,null,null,null,null,0,-1417349443,0.44,null,0,0,0,0,0,0,0,0,1,1,1,1,-2,0,0,1,1,0,"",0.44,"",2,2,85315805,1,0,37,1,0,0,0,0,0,0,0,0,0,0,0,0,0,0,0,0,0,0,0,0,0,null,null,null,null,null,null,null,null,null,null,null,null,null,null,null,null,null,null,null,null,null,null,null,null,0,0,{"$f":"ROUND(Y37*Source!I44,7)","v":0},{"$f":"AD37","v":0},{"$f":"AH37","v":0},{"$f":"AL37","v":1},0,0,"","",0,{"$f":"ROUND(ROUND(AF37,2)*CX37,2)","v":0},0,0,{"$f":"DI37","v":0},0,"",0,"",0]
[{"$f":"ROW(Source!A44)","v":44},85312298,85315798,77430988,1,1,1,2,"91.05.05-015","ФСЭМ-2022, 91.05.05-015, приказ Минстроя России от 18.05.2022 г. № 378/пр","Краны на автомобильном ходу, грузоподъемность 16 т",1368,null,1011,"маш.-ч","маш.-ч",1,null,null,null,null,null,0,-468861091,0.22,null,0,1626.29,1090.46,0,0,1626.29,1090.46,0,1,1,1,1,-2,0,0,1,1,0,"",0.22,"",1,2,85315806,1,0,38,1,0,0,0,0,0,0,0,0,357.78379999999999,239.90120000000002,0,0,0.22,1,0,357.78379999999999,239.90120000000002,0,0,0.22,1,null,null,null,null,null,null,null,null,null,null,null,null,null,null,null,null,null,null,null,null,null,null,null,null,0,{"$f":"ROUND(Y38*Source!I44*DO38,7)","v":0},{"$f":"ROUND(Y38*Source!I44,7)","v":0},{"$f":"AB38","v":1626.29},{"$f":"AF38","v":1626.29},{"$f":"AJ38","v":1},357.78,239.9,"","",0,{"$f":"ROUND(ROUND(AF38,2)*CX38,2)","v":0},0,0,{"$f":"DG38+DH38","v":0},1,"4-100-060",6,"чел.-ч.",1]
[{"$f":"ROW(Source!A44)","v":44},85312298,85315798,77431943,1,1,1,2,"91.15.01-001","ФСЭМ-2022, 91.15.01-001, приказ Минстроя России от 18.05.2022 г. № 378/пр","Прицепы тракторные, грузоподъемность до 2 т",1368,null,1011,"маш.-ч","маш.-ч",1,null,null,null,null,null,0,1571464010,0.22,null,0,13.86,0,0,0,13.86,0,0,1,1,1,1,-2,0,0,1,1,0,"",0.22,"",1,2,85315807,1,0,39,1,0,0,0,0,0,0,0,0,3.0491999999999999,0,0,0,0,1,0,3.0491999999999999,0,0,0,0,1,null,null,null,null,null,null,null,null,null,null,null,null,null,null,null,null,null,null,null,null,null,null,null,null,0,{"$f":"ROUND(Y39*Source!I44*DO39,7)","v":0},{"$f":"ROUND(Y39*Source!I44,7)","v":0},{"$f":"AB39","v":13.86},{"$f":"AF39","v":13.86},{"$f":"AJ39","v":1},3.05,0,"","",{"$f":"ROUND(ROUND(AE39,2)*CX39,2)","v":0},{"$f":"ROUND(ROUND(AF39,2)*CX39,2)","v":0},0,0,{"$f":"DG39+DH39","v":0},1,"",0,"",0]
[{"$f":"ROW(Source!A44)","v":44},85312298,85315798,77431961,1,1,1,2,"91.15.03-014","ФСЭМ-2022 доп.11, 91.15.03-014, приказ Минстроя России от 09.08.2024 г. № 524/пр","Тракторы на пневмоколесном ходу, мощность 59 кВт (80 л.с.)",1368,null,1011,"маш.-ч","маш.-ч",1,null,null,null,null,null,0,-662053402,0.22,null,0,634.32000000000005,811.79,0,0,487.94,811.79,0,1,1.3,1,1,2,0,0,1,1,0,"",0.22,"",1,2,85315808,2,65536,40,1,0,0,0,0,0,0,0,0,107.3468,178.59379999999999,0,0,0.22,1,0,107.3468,178.59379999999999,0,0,0.22,1,null,null,null,null,null,null,null,null,null,null,null,null,null,null,null,null,null,null,null,null,null,null,null,null,0,{"$f":"ROUND(Y40*Source!I44*DO40,7)","v":0},{"$f":"ROUND(Y40*Source!I44,7)","v":0},{"$f":"AB40","v":634.32000000000005},{"$f":"AF40","v":487.94},{"$f":"AJ40","v":1.3},107.35,178.59,"","",0,{"$f":"ROUND(ROUND(AF40*AJ40,2)*CX40,2)","v":0},0,0,{"$f":"DG40+DH40","v":0},0,"4-100-040",4,"чел.-ч.",1]
[{"$f":"ROW(Source!A46)","v":46},85312357,85315810,83777477,117,1,1,1,"1-100-25","","Средний разряд работы 2,5",1191,null,1013,"чел.-ч.","чел.-ч.",1,null,null,null,null,null,0,-1991603921,{"$f":"(AT41*ROUND((0.2+1),7))","v":0.3},null,0,0,0,690.62,0,0,0,690.62,1,1,1,1,-2,0,0,1,1,0,"",0.25,"*(0,2+1)",1,2,85315815,1,0,41,1,0,0,0,0,0,0,0,0,0,0,172.655,0.25,0,1,0,0,0,207.18600000000001,0.3,0,1,null,null,null,null,null,null,null,null,null,null,null,null,null,null,null,null,null,null,null,null,null,null,null,{"$f":"ROUND(AT41*Source!I46*AH41*AL41,2)","v":0},{"$f":"ROUND(Y41*Source!I46,7)","v":0},0,{"$f":"ROUND(Y41*Source!I46,7)","v":0},{"$f":"AD41","v":690.62},{"$f":"AH41","v":690.62},{"$f":"AL41","v":1},{"$f":"ROUND((ROUND(AT41*CZ41,2)*ROUND((0.2+1),7)),2)","v":207.19},{"$f":"ROUND((ROUND(AT41*AG41,2)*ROUND((0.2+1),7)),2)","v":0},"","",0,{"$f":"ROUND(ROUND(AF41,2)*CX41,2)","v":0},0,0,{"$f":"DI41","v":0},1,"",0,"",0]
[{"$f":"ROW(Source!A46)","v":46},85312357,85315810,83777689,117,1,1,1,"4-100-00","","Затраты труда машинистов",1191,null,1013,"чел.-ч.","чел.-ч.",1,null,null,null,null,null,0,-1417349443,0.16800000000000001,null,0,0,0,0,0,0,0,0,1,1,1,1,-2,0,0,1,1,0,"",0.14000000000000001,"*(0,2+1)",2,2,85315816,1,0,42,1,0,0,0,0,0,0,0,0,0,0,0,0,0,0,0,0,0,0,0,0,0,null,null,null,null,null,null,null,null,null,null,null,null,null,null,null,null,null,null,null,null,null,null,null,null,0,0,{"$f":"ROUND(Y42*Source!I46,7)","v":0},{"$f":"AD42","v":0},{"$f":"AH42","v":0},{"$f":"AL42","v":1},0,0,"","",0,{"$f":"ROUND(ROUND(AF42,2)*CX42,2)","v":0},0,0,{"$f":"DI42","v":0},0,"",0,"",0]
[{"$f":"ROW(Source!A46)","v":46},85312357,85315810,83785137,1,1,1,2,"91.15.01-001","ФСЭМ-2022, 91.15.01-001, приказ Минстроя России от 18.05.2022 г. № 378/пр","Прицепы тракторные, грузоподъемность до 2 т",1368,null,1011,"маш.-ч","маш.-ч",1,null,null,null,null,null,0,1256142057,0.16800000000000001,null,0,13.86,0,0,0,13.86,0,0,1,1,1,1,-2,0,0,1,1,0,"",0.14000000000000001,"*(0,2+1)",1,2,85315817,1,0,43,1,0,0,0,0,0,0,0,0,1.9404000000000001,0,0,0,0,1,0,2.3284799999999999,0,0,0,0,1,null,null,null,null,null,null,null,null,null,null,null,null,null,null,null,null,null,null,null,null,null,null,null,null,0,{"$f":"ROUND(Y43*Source!I46*DO43,7)","v":0},{"$f":"ROUND(Y43*Source!I46,7)","v":0},{"$f":"AB43","v":13.86},{"$f":"AF43","v":13.86},{"$f":"AJ43","v":1},2.33,0,"","",0,{"$f":"ROUND(ROUND(AF43,2)*CX43,2)","v":0},0,0,{"$f":"DG43+DH43","v":0},1,"",0,"",0]
[{"$f":"ROW(Source!A46)","v":46},85312357,85315810,83785155,1,1,1,2,"91.15.03-014","ФСЭМ-2022 доп.11, 91.15.03-014, приказ Минстроя России от 09.08.2024 г. № 524/пр","Тракторы на пневмоколесном ходу, мощность 59 кВт (80 л.с.)",1368,null,1011,"маш.-ч","маш.-ч",1,null,null,null,null,null,0,1638899965,0.16800000000000001,null,0,634.32000000000005,811.79,0,0,487.94,811.79,0,1,1.3,1,1,2,0,0,1,1,0,"",0.14000000000000001,"*(0,2+1)",1,2,85315818,1,0,44,1,0,0,0,0,0,0,0,0,68.311600000000013,113.65060000000001,0,0,0.14000000000000001,1,0,81.973920000000007,136.38072,0,0,0.16800000000000001,1,null,null,null,null,null,null,null,null,null,null,null,null,null,null,null,null,null,null,null,null,null,null,null,null,0,{"$f":"ROUND(Y44*Source!I46*DO44,7)","v":0},{"$f":"ROUND(Y44*Source!I46,7)","v":0},{"$f":"AB44","v":634.32000000000005},{"$f":"AF44","v":487.94},{"$f":"AJ44","v":1.3},81.97,136.38,"","",0,{"$f":"ROUND(ROUND(AF44*AJ44,2)*CX44,2)","v":0},0,0,{"$f":"DG44+DH44","v":0},0,"4-100-040",4,"чел.-ч.",1]
[{"$f":"ROW(Source!A47)","v":47},85312298,85315810,83777477,117,1,1,1,"1-100-25","","Средний разряд работы 2,5",1191,null,1013,"чел.-ч.","чел.-ч.",1,null,null,null,null,null,0,-1991603921,0.3,null,0,0,0,690.62,0,0,0,690.62,1,1,1,1,-2,0,0,1,1,0,"",0.25,"*(0,2+1)",1,2,85315815,1,0,45,1,0,0,0,0,0,0,0,0,0,0,172.655,0.25,0,1,0,0,0,207.18600000000001,0.3,0,1,null,null,null,null,null,null,null,null,null,null,null,null,null,null,null,null,null,null,null,null,null,null,null,{"$f":"ROUND(AT45*Source!I47*AH45*AL45,2)","v":0},{"$f":"ROUND(Y45*Source!I47,7)","v":0},0,{"$f":"ROUND(Y45*Source!I47,7)","v":0},{"$f":"AD45","v":690.62},{"$f":"AH45","v":690.62},{"$f":"AL45","v":1},207.19,0,"","",0,{"$f":"ROUND(ROUND(AF45,2)*CX45,2)","v":0},0,0,{"$f":"DI45","v":0},1,"",0,"",0]
[{"$f":"ROW(Source!A47)","v":47},85312298,85315810,83777689,117,1,1,1,"4-100-00","","Затраты труда машинистов",1191,null,1013,"чел.-ч.","чел.-ч.",1,null,null,null,null,null,0,-1417349443,0.16800000000000001,null,0,0,0,0,0,0,0,0,1,1,1,1,-2,0,0,1,1,0,"",0.14000000000000001,"*(0,2+1)",2,2,85315816,1,0,46,1,0,0,0,0,0,0,0,0,0,0,0,0,0,0,0,0,0,0,0,0,0,null,null,null,null,null,null,null,null,null,null,null,null,null,null,null,null,null,null,null,null,null,null,null,null,0,0,{"$f":"ROUND(Y46*Source!I47,7)","v":0},{"$f":"AD46","v":0},{"$f":"AH46","v":0},{"$f":"AL46","v":1},0,0,"","",0,{"$f":"ROUND(ROUND(AF46,2)*CX46,2)","v":0},0,0,{"$f":"DI46","v":0},0,"",0,"",0]
[{"$f":"ROW(Source!A47)","v":47},85312298,85315810,83785137,1,1,1,2,"91.15.01-001","ФСЭМ-2022, 91.15.01-001, приказ Минстроя России от 18.05.2022 г. № 378/пр","Прицепы тракторные, грузоподъемность до 2 т",1368,null,1011,"маш.-ч","маш.-ч",1,null,null,null,null,null,0,1256142057,0.16800000000000001,null,0,13.86,0,0,0,13.86,0,0,1,1,1,1,-2,0,0,1,1,0,"",0.14000000000000001,"*(0,2+1)",1,2,85315817,1,0,47,1,0,0,0,0,0,0,0,0,1.9404000000000001,0,0,0,0,1,0,2.3284799999999999,0,0,0,0,1,null,null,null,null,null,null,null,null,null,null,null,null,null,null,null,null,null,null,null,null,null,null,null,null,0,{"$f":"ROUND(Y47*Source!I47*DO47,7)","v":0},{"$f":"ROUND(Y47*Source!I47,7)","v":0},{"$f":"AB47","v":13.86},{"$f":"AF47","v":13.86},{"$f":"AJ47","v":1},2.33,0,"","",0,{"$f":"ROUND(ROUND(AF47,2)*CX47,2)","v":0},0,0,{"$f":"DG47+DH47","v":0},1,"",0,"",0]
[{"$f":"ROW(Source!A47)","v":47},85312298,85315810,83785155,1,1,1,2,"91.15.03-014","ФСЭМ-2022 доп.11, 91.15.03-014, приказ Минстроя России от 09.08.2024 г. № 524/пр","Тракторы на пневмоколесном ходу, мощность 59 кВт (80 л.с.)",1368,null,1011,"маш.-ч","маш.-ч",1,null,null,null,null,null,0,1638899965,0.16800000000000001,null,0,634.32000000000005,811.79,0,0,487.94,811.79,0,1,1.3,1,1,2,0,0,1,1,0,"",0.14000000000000001,"*(0,2+1)",1,2,85315818,1,0,48,1,0,0,0,0,0,0,0,0,68.311600000000013,113.65060000000001,0,0,0.14000000000000001,1,0,81.973920000000007,136.38072,0,0,0.16800000000000001,1,null,null,null,null,null,null,null,null,null,null,null,null,null,null,null,null,null,null,null,null,null,null,null,null,0,{"$f":"ROUND(Y48*Source!I47*DO48,7)","v":0},{"$f":"ROUND(Y48*Source!I47,7)","v":0},{"$f":"AB48","v":634.32000000000005},{"$f":"AF48","v":487.94},{"$f":"AJ48","v":1.3},81.97,136.38,"","",0,{"$f":"ROUND(ROUND(AF48*AJ48,2)*CX48,2)","v":0},0,0,{"$f":"DG48+DH48","v":0},0,"4-100-040",4,"чел.-ч.",1]
[{"$f":"ROW(Source!A49)","v":49},85312357,85315820,83777477,117,1,1,1,"1-100-25","","Средний разряд работы 2,5",1191,null,1013,"чел.-ч.","чел.-ч.",1,null,null,null,null,null,0,-1991603921,0.36,null,0,0,0,690.62,0,0,0,690.62,1,1,1,1,-2,0,0,1,1,0,"",0.3,"*(0,2+1)",1,2,85315825,1,0,49,1,0,0,0,0,0,0,0,0,0,0,207.18600000000001,0.3,0,1,0,0,0,248.6232,0.36,0,1,null,null,null,null,null,null,null,null,null,null,null,null,null,null,null,null,null,null,null,null,null,null,null,{"$f":"ROUND(AT49*Source!I49*AH49*AL49,2)","v":0},{"$f":"ROUND(Y49*Source!I49,7)","v":0},0,{"$f":"ROUND(Y49*Source!I49,7)","v":0},{"$f":"AD49","v":690.62},{"$f":"AH49","v":690.62},{"$f":"AL49","v":1},248.63,0,"","",0,{"$f":"ROUND(ROUND(AF49,2)*CX49,2)","v":0},0,0,{"$f":"DI49","v":0},1,"",0,"",0]
[{"$f":"ROW(Source!A49)","v":49},85312357,85315820,83777689,117,1,1,1,"4-100-00","","Затраты труда машинистов",1191,null,1013,"чел.-ч.","чел.-ч.",1,null,null,null,null,null,0,-1417349443,0.192,null,0,0,0,0,0,0,0,0,1,1,1,1,-2,0,0,1,1,0,"",0.16,"*(0,2+1)",2,2,85315826,1,0,50,1,0,0,0,0,0,0,0,0,0,0,0,0,0,0,0,0,0,0,0,0,0,null,null,null,null,null,null,null,null,null,null,null,null,null,null,null,null,null,null,null,null,null,null,null,null,0,0,{"$f":"ROUND(Y50*Source!I49,7)","v":0},{"$f":"AD50","v":0},{"$f":"AH50","v":0},{"$f":"AL50","v":1},0,0,"","",0,{"$f":"ROUND(ROUND(AF50,2)*CX50,2)","v":0},0,0,{"$f":"DI50","v":0},0,"",0,"",0]
[{"$f":"ROW(Source!A49)","v":49},85312357,85315820,83785137,1,1,1,2,"91.15.01-001","ФСЭМ-2022, 91.15.01-001, приказ Минстроя России от 18.05.2022 г. № 378/пр","Прицепы тракторные, грузоподъемность до 2 т",1368,null,1011,"маш.-ч","маш.-ч",1,null,null,null,null,null,0,1256142057,0.192,null,0,13.86,0,0,0,13.86,0,0,1,1,1,1,-2,0,0,1,1,0,"",0.16,"*(0,2+1)",1,2,85315827,1,0,51,1,0,0,0,0,0,0,0,0,2.2176,0,0,0,0,1,0,2.6611199999999999,0,0,0,0,1,null,null,null,null,null,null,null,null,null,null,null,null,null,null,null,null,null,null,null,null,null,null,null,null,0,{"$f":"ROUND(Y51*Source!I49*DO51,7)","v":0},{"$f":"ROUND(Y51*Source!I49,7)","v":0},{"$f":"AB51","v":13.86},{"$f":"AF51","v":13.86},{"$f":"AJ51","v":1},2.66,0,"","",0,{"$f":"ROUND(ROUND(AF51,2)*CX51,2)","v":0},0,0,{"$f":"DG51+DH51","v":0},1,"",0,"",0]
[{"$f":"ROW(Source!A49)","v":49},85312357,85315820,83785155,1,1,1,2,"91.15.03-014","ФСЭМ-2022 доп.11, 91.15.03-014, приказ Минстроя России от 09.08.2024 г. № 524/пр","Тракторы на пневмоколесном ходу, мощность 59 кВт (80 л.с.)",1368,null,1011,"маш.-ч","маш.-ч",1,null,null,null,null,null,0,1638899965,0.192,null,0,634.32000000000005,811.79,0,0,487.94,811.79,0,1,1.3,1,1,2,0,0,1,1,0,"",0.16,"*(0,2+1)",1,2,85315828,1,0,52,1,0,0,0,0,0,0,0,0,78.070400000000006,129.88640000000001,0,0,0.16,1,0,93.684480000000008,155.86367999999999,0,0,0.192,1,null,null,null,null,null,null,null,null,null,null,null,null,null,null,null,null,null,null,null,null,null,null,null,null,0,{"$f":"ROUND(Y52*Source!I49*DO52,7)","v":0},{"$f":"ROUND(Y52*Source!I49,7)","v":0},{"$f":"AB52","v":634.32000000000005},{"$f":"AF52","v":487.94},{"$f":"AJ52","v":1.3},93.68,155.87,"","",0,{"$f":"ROUND(ROUND(AF52*AJ52,2)*CX52,2)","v":0},0,0,{"$f":"DG52+DH52","v":0},0,"4-100-040",4,"чел.-ч.",1]
[{"$f":"ROW(Source!A50)","v":50},85312298,85315820,83777477,117,1,1,1,"1-100-25","","Средний разряд работы 2,5",1191,null,1013,"чел.-ч.","чел.-ч.",1,null,null,null,null,null,0,-1991603921,0.36,null,0,0,0,690.62,0,0,0,690.62,1,1,1,1,-2,0,0,1,1,0,"",0.3,"*(0,2+1)",1,2,85315825,1,0,53,1,0,0,0,0,0,0,0,0,0,0,207.18600000000001,0.3,0,1,0,0,0,248.6232,0.36,0,1,null,null,null,null,null,null,null,null,null,null,null,null,null,null,null,null,null,null,null,null,null,null,null,{"$f":"ROUND(AT53*Source!I50*AH53*AL53,2)","v":0},{"$f":"ROUND(Y53*Source!I50,7)","v":0},0,{"$f":"ROUND(Y53*Source!I50,7)","v":0},{"$f":"AD53","v":690.62},{"$f":"AH53","v":690.62},{"$f":"AL53","v":1},248.63,0,"","",0,{"$f":"ROUND(ROUND(AF53,2)*CX53,2)","v":0},0,0,{"$f":"DI53","v":0},1,"",0,"",0]
[{"$f":"ROW(Source!A50)","v":50},85312298,85315820,83777689,117,1,1,1,"4-100-00","","Затраты труда машинистов",1191,null,1013,"чел.-ч.","чел.-ч.",1,null,null,null,null,null,0,-1417349443,0.192,null,0,0,0,0,0,0,0,0,1,1,1,1,-2,0,0,1,1,0,"",0.16,"*(0,2+1)",2,2,85315826,1,0,54,1,0,0,0,0,0,0,0,0,0,0,0,0,0,0,0,0,0,0,0,0,0,null,null,null,null,null,null,null,null,null,null,null,null,null,null,null,null,null,null,null,null,null,null,null,null,0,0,{"$f":"ROUND(Y54*Source!I50,7)","v":0},{"$f":"AD54","v":0},{"$f":"AH54","v":0},{"$f":"AL54","v":1},0,0,"","",0,{"$f":"ROUND(ROUND(AF54,2)*CX54,2)","v":0},0,0,{"$f":"DI54","v":0},0,"",0,"",0]
[{"$f":"ROW(Source!A50)","v":50},85312298,85315820,83785137,1,1,1,2,"91.15.01-001","ФСЭМ-2022, 91.15.01-001, приказ Минстроя России от 18.05.2022 г. № 378/пр","Прицепы тракторные, грузоподъемность до 2 т",1368,null,1011,"маш.-ч","маш.-ч",1,null,null,null,null,null,0,1256142057,0.192,null,0,13.86,0,0,0,13.86,0,0,1,1,1,1,-2,0,0,1,1,0,"",0.16,"*(0,2+1)",1,2,85315827,1,0,55,1,0,0,0,0,0,0,0,0,2.2176,0,0,0,0,1,0,2.6611199999999999,0,0,0,0,1,null,null,null,null,null,null,null,null,null,null,null,null,null,null,null,null,null,null,null,null,null,null,null,null,0,{"$f":"ROUND(Y55*Source!I50*DO55,7)","v":0},{"$f":"ROUND(Y55*Source!I50,7)","v":0},{"$f":"AB55","v":13.86},{"$f":"AF55","v":13.86},{"$f":"AJ55","v":1},2.66,0,"","",0,{"$f":"ROUND(ROUND(AF55,2)*CX55,2)","v":0},0,0,{"$f":"DG55+DH55","v":0},1,"",0,"",0]
[{"$f":"ROW(Source!A50)","v":50},85312298,85315820,83785155,1,1,1,2,"91.15.03-014","ФСЭМ-2022 доп.11, 91.15.03-014, приказ Минстроя России от 09.08.2024 г. № 524/пр","Тракторы на пневмоколесном ходу, мощность 59 кВт (80 л.с.)",1368,null,1011,"маш.-ч","маш.-ч",1,null,null,null,null,null,0,1638899965,0.192,null,0,634.32000000000005,811.79,0,0,487.94,811.79,0,1,1.3,1,1,2,0,0,1,1,0,"",0.16,"*(0,2+1)",1,2,85315828,1,0,56,1,0,0,0,0,0,0,0,0,78.070400000000006,129.88640000000001,0,0,0.16,1,0,93.684480000000008,155.86367999999999,0,0,0.192,1,null,null,null,null,null,null,null,null,null,null,null,null,null,null,null,null,null,null,null,null,null,null,null,null,0,{"$f":"ROUND(Y56*Source!I50*DO56,7)","v":0},{"$f":"ROUND(Y56*Source!I50,7)","v":0},{"$f":"AB56","v":634.32000000000005},{"$f":"AF56","v":487.94},{"$f":"AJ56","v":1.3},93.68,155.87,"","",0,{"$f":"ROUND(ROUND(AF56*AJ56,2)*CX56,2)","v":0},0,0,{"$f":"DG56+DH56","v":0},0,"4-100-040",4,"чел.-ч.",1]
[{"$f":"ROW(Source!A52)","v":52},85312357,85315830,83777501,117,1,1,1,"1-100-33","","Средний разряд работы 3,3",1191,null,1013,"чел.-ч.","чел.-ч.",1,null,null,null,null,null,0,32079103,3.6719999999999997,null,0,0,0,748.18,0,0,0,748.18,1,1,1,1,-2,0,0,1,1,0,"",3.06,"*(0,2+1)",1,2,85315849,1,0,57,1,0,0,0,0,0,0,0,0,0,0,2289.4308000000001,3.06,0,1,0,0,0,2747.3169599999997,3.6719999999999997,0,1,null,null,null,null,null,null,null,null,null,null,null,null,null,null,null,null,null,null,null,null,null,null,null,{"$f":"ROUND(AT57*Source!I52*AH57*AL57,2)","v":0},{"$f":"ROUND(Y57*Source!I52,7)","v":0},0,{"$f":"ROUND(Y57*Source!I52,7)","v":0},{"$f":"AD57","v":748.18},{"$f":"AH57","v":748.18},{"$f":"AL57","v":1},2747.32,0,"","",0,{"$f":"ROUND(ROUND(AF57,2)*CX57,2)","v":0},0,0,{"$f":"DI57","v":0},1,"",0,"",0]
[{"$f":"ROW(Source!A52)","v":52},85312357,85315830,83777689,117,1,1,1,"4-100-00","","Затраты труда машинистов",1191,null,1013,"чел.-ч.","чел.-ч.",1,null,null,null,null,null,0,-1417349443,1.044,null,0,0,0,0,0,0,0,0,1,1,1,1,-2,0,0,1,1,0,"",0.87,"*(0,2+1)",2,2,85315850,1,0,58,1,0,0,0,0,0,0,0,0,0,0,0,0,0,0,0,0,0,0,0,0,0,null,null,null,null,null,null,null,null,null,null,null,null,null,null,null,null,null,null,null,null,null,null,null,null,0,0,{"$f":"ROUND(Y58*Source!I52,7)","v":0},{"$f":"AD58","v":0},{"$f":"AH58","v":0},{"$f":"AL58","v":1},0,0,"","",0,{"$f":"ROUND(ROUND(AF58,2)*CX58,2)","v":0},0,0,{"$f":"DI58","v":0},0,"",0,"",0]
[{"$f":"ROW(Source!A52)","v":52},85312357,85315830,83784065,1,1,1,2,"91.04.01-031","ФСЭМ-2022 доп.11, 91.04.01-031, приказ Минстроя России от 07.11.2024 г. № 747/пр","Машины бурильно-крановые на автомобильном ходу, диаметр бурения до 800 мм, глубина бурения до 5 м",1368,null,1011,"маш.-ч","маш.-ч",1,null,null,null,null,null,0,843131152,0.81600000000000006,null,0,2736.29,932.95,0,0,2088.77,932.95,0,1,1.31,1,1,2,0,0,1,1,0,"",0.68,"*(0,2+1)",1,2,85315851,1,0,59,1,0,0,0,0,0,0,0,0,1420.3636000000001,634.40600000000006,0,0,0.68,1,0,1704.43632,761.2872000000001,0,0,0.81600000000000006,1,null,null,null,null,null,null,null,null,null,null,null,null,null,null,null,null,null,null,null,null,null,null,null,null,0,{"$f":"ROUND(Y59*Source!I52*DO59,7)","v":0},{"$f":"ROUND(Y59*Source!I52,7)","v":0},{"$f":"AB59","v":2736.29},{"$f":"AF59","v":2088.77},{"$f":"AJ59","v":1.31},1704.43,761.29,"","",0,{"$f":"ROUND(ROUND(AF59*AJ59,2)*CX59,2)","v":0},0,0,{"$f":"DG59+DH59","v":0},0,"4-100-050",5,"чел.-ч.",1]
[{"$f":"ROW(Source!A52)","v":52},85312357,85315830,83785072,1,1,1,2,"91.14.02-001","ФСЭМ-2022 доп.7, 91.14.02-001, приказ Минстроя России от 02.08.2023 г. № 551/пр","Автомобили бортовые, грузоподъемность до 5 т",1368,null,1011,"маш.-ч","маш.-ч",1,null,null,null,null,null,0,-849950259,0.22799999999999998,null,0,641.70000000000005,811.79,0,0,641.70000000000005,811.79,0,1,1,1,1,-2,0,0,1,1,0,"",0.19,"*(0,2+1)",1,2,85315852,1,0,60,1,0,0,0,0,0,0,0,0,121.92300000000002,154.24009999999998,0,0,0.19,1,0,146.30760000000001,185.08811999999998,0,0,0.22799999999999998,1,null,null,null,null,null,null,null,null,null,null,null,null,null,null,null,null,null,null,null,null,null,null,null,null,0,{"$f":"ROUND(Y60*Source!I52*DO60,7)","v":0},{"$f":"ROUND(Y60*Source!I52,7)","v":0},{"$f":"AB60","v":641.70000000000005},{"$f":"AF60","v":641.70000000000005},{"$f":"AJ60","v":1},146.30000000000001,185.09,"","",0,{"$f":"ROUND(ROUND(AF60,2)*CX60,2)","v":0},0,0,{"$f":"DG60+DH60","v":0},1,"4-100-040",4,"чел.-ч.",1]
[{"$f":"ROW(Source!A52)","v":52},85312357,85315830,83849794,1,1,1,3,"01.3.01.06-0038","ФСБЦ-2022 доп.17, 01.3.01.06-0038, приказ Минстроя России от 17.02.2026 г. № 91/пр","Смазка защитная электросетевая",1346,null,1009,"кг","кг",1,null,null,null,null,null,0,-897919439,{"$f":"AT61","v":0.1},null,296.69,0,0,0,185.43,0,0,0,1.6,1,1,1,2,0,0,1,1,0,"",0.1,"",0,2,85315853,1,0,61,1,0,0,0,0,0,0,0,18.543000000000003,0,0,0,0,0,1,18.543000000000003,0,0,0,0,0,1,null,null,null,null,null,null,null,null,null,null,null,null,null,null,null,null,null,null,null,null,null,null,null,null,0,0,{"$f":"ROUND(Y61*Source!I52,7)","v":0},{"$f":"AA61","v":296.69},{"$f":"AE61","v":185.43},{"$f":"AI61","v":1.6},{"$f":"ROUND(ROUND(AT61*CZ61,2),2)","v":18.54},{"$f":"ROUND(ROUND(AT61*AG61,2),2)","v":0},"","",{"$f":"ROUND(ROUND(AE61*AI61,2)*CX61,2)","v":0},0,0,0,{"$f":"DF61","v":0},0,"",0,"",0]
[{"$f":"ROW(Source!A52)","v":52},85312357,85315830,83849801,1,1,1,3,"01.3.01.06-0051","ФСБЦ-2022 доп.12, 01.3.01.06-0051, приказ Минстроя России от 07.11.2024 г. № 747/пр","Смазка солидол жировой Ж",1346,null,1009,"кг","кг",1,null,null,null,null,null,0,-1547825166,0.03,null,93.65,0,0,0,58.53,0,0,0,1.6,1,1,1,2,0,0,1,1,0,"",0.03,"",0,2,85315854,1,0,62,1,0,0,0,0,0,0,0,1.7559,0,0,0,0,0,1,1.7559,0,0,0,0,0,1,null,null,null,null,null,null,null,null,null,null,null,null,null,null,null,null,null,null,null,null,null,null,null,null,0,0,{"$f":"ROUND(Y62*Source!I52,7)","v":0},93.65,58.53,1.6,1.76,0,"","",{"$f":"ROUND(ROUND(AE62*AI62,2)*CX62,2)","v":0},0,0,0,0,0,"",0,"",0]
[{"$f":"ROW(Source!A52)","v":52},85312357,85315830,83853338,1,1,1,3,"01.7.15.03-0042","ФСБЦ-2022, 01.7.15.03-0042, приказ Минстроя России от 18.05.2022 г. № 378/пр","Болты с гайками и шайбами строительные",1346,null,1009,"кг","кг",1,null,null,null,null,null,0,-1131385474,0,null,188.92,0,0,0,174.93,0,0,0,1.08,1,1,1,0,1,0,1,0,0,"",0,"",0,2,85315855,1,0,63,0,0,0,0,0,0,0,0,0,0,0,0,0,0,0,0,0,0,0,0,0,0,null,null,null,null,null,null,null,null,null,null,null,null,null,null,null,null,null,null,null,null,null,null,null,null,0,0,{"$f":"ROUND(Y63*Source!I52,7)","v":0},188.92,174.93,1.08,0,0,"","",{"$f":"ROUND(ROUND(AE63*AI63,2)*CX63,2)","v":0},0,0,0,0,0,"",0,"",0]
[{"$f":"ROW(Source!A52)","v":52},85312357,85315830,83854484,1,1,1,3,"01.7.20.08-0051","ФСБЦ-2022 доп.8, 01.7.20.08-0051, приказ Минстроя России от 14.11.2023 г. № 817/пр","Ветошь хлопчатобумажная цветная",1346,null,1009,"кг","кг",1,null,null,null,null,null,0,-373327139,0.02,null,86.41,0,0,0,56.11,0,0,0,1.54,1,1,1,2,0,0,1,1,0,"",0.02,"",0,2,85315856,1,0,64,1,0,0,0,0,0,0,0,1.1222000000000001,0,0,0,0,0,1,1.1222000000000001,0,0,0,0,0,1,null,null,null,null,null,null,null,null,null,null,null,null,null,null,null,null,null,null,null,null,null,null,null,null,0,0,{"$f":"ROUND(Y64*Source!I52,7)","v":0},86.41,56.11,1.54,1.1200000000000001,0,"","",{"$f":"ROUND(ROUND(AE64*AI64,2)*CX64,2)","v":0},0,0,0,0,0,"",0,"",0]
[{"$f":"ROW(Source!A52)","v":52},85312357,85315830,83779061,117,1,1,3,"05.1.02.07","","Стойка железобетонная вибрированная для опор",1371,null,1013,"ШТ","ШТ",1,null,null,null,null,null,0,457934895,0,null,0,0,0,0,0,0,0,0,1,1,1,1,0,1,0,1,0,0,"",0,"",0,2,85315857,1,0,65,0,0,0,0,0,0,0,0,0,0,0,0,0,0,0,0,0,0,0,0,0,0,null,null,null,null,null,null,null,null,null,null,null,null,null,null,null,null,null,null,null,null,null,null,null,null,0,0,{"$f":"ROUND(Y65*Source!I52,7)","v":0},0,0,1,0,0,"","",{"$f":"ROUND(ROUND(AE65,2)*CX65,2)","v":0},0,{"$f":"ROUND(ROUND(AG65,2)*CX65,2)","v":0},{"$f":"ROUND(ROUND(AH65,2)*CX65,2)","v":0},0,0,"",0,"",0]
[{"$f":"ROW(Source!A52)","v":52},85312357,85315830,83779738,117,1,1,3,"07.2.02.05","","Траверсы стальные",1348,null,1009,"т","т",1000,null,null,null,null,null,0,1602794472,0,null,0,0,0,0,0,0,0,0,1,1,1,1,0,1,0,1,0,0,"",0,"",0,2,85315858,1,0,66,0,0,0,0,0,0,0,0,0,0,0,0,0,0,0,0,0,0,0,0,0,0,null,null,null,null,null,null,null,null,null,null,null,null,null,null,null,null,null,null,null,null,null,null,null,null,0,0,{"$f":"ROUND(Y66*Source!I52,7)","v":0},0,0,1,0,0,"","",{"$f":"ROUND(ROUND(AE66,2)*CX66,2)","v":0},0,0,0,0,0,"",0,"",0]
[{"$f":"ROW(Source!A52)","v":52},85312357,85315830,83779884,117,1,1,3,"07.2.07.13","","Хомуты стальные",1346,null,1009,"кг","кг",1,null,null,null,null,null,0,-1111733769,0,null,0,0,0,0,0,0,0,0,1,1,1,1,0,1,0,1,0,0,"",0,"",0,2,85315859,1,0,67,0,0,0,0,0,0,0,0,0,0,0,0,0,0,0,0,0,0,0,0,0,0,null,null,null,null,null,null,null,null,null,null,null,null,null,null,null,null,null,null,null,null,null,null,null,null,0,0,{"$f":"ROUND(Y67*Source!I52,7)","v":0},0,0,1,0,0,"","",{"$f":"ROUND(ROUND(AE67,2)*CX67,2)","v":0},0,0,0,0,0,"",0,"",0]
[{"$f":"ROW(Source!A52)","v":52},85312357,85315830,83780219,117,1,1,3,"08.3.04.02","","Сталь стержневая диаметром до 10 мм",1348,null,1009,"т","т",1000,null,null,null,null,null,0,1613753229,0,null,0,0,0,0,0,0,0,0,1,1,1,1,0,1,0,1,0,0,"",0,"",0,2,85315860,1,0,68,0,0,0,0,0,0,0,0,0,0,0,0,0,0,0,0,0,0,0,0,0,0,null,null,null,null,null,null,null,null,null,null,null,null,null,null,null,null,null,null,null,null,null,null,null,null,0,0,{"$f":"ROUND(Y68*Source!I52,7)","v":0},0,0,1,0,0,"","",{"$f":"ROUND(ROUND(AE68,2)*CX68,2)","v":0},0,0,0,0,0,"",0,"",0]
[{"$f":"ROW(Source!A52)","v":52},85312357,85315830,83870522,1,1,1,3,"14.4.02.04-0182","ФСБЦ-2022 доп.17, 14.4.02.04-0182, приказ Минстроя России от 17.02.2026 г. № 91/пр","Краска масляная МА-15, цветная",1346,null,1009,"кг","кг",1,null,null,null,null,null,0,1157836156,0.4,null,88.24,0,0,0,61.28,0,0,0,1.44,1,1,1,2,0,0,1,1,0,"",0.4,"",0,2,85315861,1,0,69,1,0,0,0,0,0,0,0,24.512,0,0,0,0,0,1,24.512,0,0,0,0,0,1,null,null,null,null,null,null,null,null,null,null,null,null,null,null,null,null,null,null,null,null,null,null,null,null,0,0,{"$f":"ROUND(Y69*Source!I52,7)","v":0},88.24,61.28,1.44,24.51,0,"","",{"$f":"ROUND(ROUND(AE69*AI69,2)*CX69,2)","v":0},0,0,0,0,0,"",0,"",0]
[{"$f":"ROW(Source!A52)","v":52},85312357,85315830,83870548,1,1,1,3,"14.4.03.03-0102","ФСБЦ-2022 доп.4, 14.4.03.03-0102, приказ Минстроя России от 27.12.2022 г. № 1133/пр","Лак битумный БТ-577",1348,null,1009,"т","т",1000,null,null,null,null,null,0,-615866360,1E-4,null,103227.06,0,0,0,80020.98,0,0,0,1.29,1,1,1,2,0,0,1,1,0,"",1E-4,"",0,2,85315862,1,0,70,1,0,0,0,0,0,0,0,8.0020980000000002,0,0,0,0,0,1,8.0020980000000002,0,0,0,0,0,1,null,null,null,null,null,null,null,null,null,null,null,null,null,null,null,null,null,null,null,null,null,null,null,null,0,0,{"$f":"ROUND(Y70*Source!I52,7)","v":0},103227.06,80020.98,1.29,8,0,"","",{"$f":"ROUND(ROUND(AE70*AI70,2)*CX70,2)","v":0},0,0,0,0,0,"",0,"",0]
[{"$f":"ROW(Source!A52)","v":52},85312357,85315830,83878170,1,1,1,3,"20.2.02.04-0006","ФСБЦ-2022, 20.2.02.04-0006, приказ Минстроя России от 18.05.2022 г. № 378/пр","Колпачки полиэтиленовые К-6",1425,null,1013,"100 ШТ","100 ШТ",1,null,null,null,null,null,0,-734153582,0.06,null,1351.57,0,0,0,1031.73,0,0,0,1.31,1,1,1,2,0,0,1,1,0,"",0.06,"",0,2,85315863,1,0,71,1,0,0,0,0,0,0,0,61.903799999999997,0,0,0,0,0,1,61.903799999999997,0,0,0,0,0,1,null,null,null,null,null,null,null,null,null,null,null,null,null,null,null,null,null,null,null,null,null,null,null,null,0,0,{"$f":"ROUND(Y71*Source!I52,7)","v":0},1351.57,1031.73,1.31,61.9,0,"","",{"$f":"ROUND(ROUND(AE71*AI71,2)*CX71,2)","v":0},0,0,0,0,0,"",0,"",0]
[{"$f":"ROW(Source!A52)","v":52},85312357,85315830,83782579,117,1,1,3,"22.2.01.04","","Изоляторы штыревые",1371,null,1013,"ШТ","ШТ",1,null,null,null,null,null,0,-950997571,0,null,0,0,0,0,0,0,0,0,1,1,1,1,0,1,0,1,0,0,"",0,"",0,2,85315864,1,0,72,0,0,0,0,0,0,0,0,0,0,0,0,0,0,0,0,0,0,0,0,0,0,null,null,null,null,null,null,null,null,null,null,null,null,null,null,null,null,null,null,null,null,null,null,null,null,0,0,{"$f":"ROUND(Y72*Source!I52,7)","v":0},0,0,1,0,0,"","",{"$f":"ROUND(ROUND(AE72,2)*CX72,2)","v":0},0,0,0,0,0,"",0,"",0]
[{"$f":"ROW(Source!A52)","v":52},85312357,85315830,83782625,117,1,1,3,"22.2.02.21","","Штыри",1371,null,1013,"ШТ","ШТ",1,null,null,null,null,null,0,-320198552,0,null,0,0,0,0,0,0,0,0,1,1,1,1,0,1,0,1,0,0,"",0,"",0,2,85315865,1,0,73,0,0,0,0,0,0,0,0,0,0,0,0,0,0,0,0,0,0,0,0,0,0,null,null,null,null,null,null,null,null,null,null,null,null,null,null,null,null,null,null,null,null,null,null,null,null,0,0,{"$f":"ROUND(Y73*Source!I52,7)","v":0},0,0,1,0,0,"","",0,0,0,0,0,0,"",0,"",0]
[{"$f":"ROW(Source!A52)","v":52},85312357,85315830,83782629,117,1,1,3,"22.2.02.23","","Металлические плакаты",1371,null,1013,"ШТ","ШТ",1,null,null,null,null,null,0,326010188,0,null,0,0,0,0,0,0,0,0,1,1,1,1,0,1,0,1,0,0,"",0,"",0,2,85315866,1,0,74,0,0,0,0,0,0,0,0,0,0,0,0,0,0,0,0,0,0,0,0,0,0,null,null,null,null,null,null,null,null,null,null,null,null,null,null,null,null,null,null,null,null,null,null,null,null,0,0,{"$f":"ROUND(Y74*Source!I52,7)","v":0},0,0,1,0,0,"","",0,0,0,0,0,0,"",0,"",0]
[{"$f":"ROW(Source!A53)","v":53},85312298,85315830,83777501,117,1,1,1,"1-100-33","","Средний разряд работы 3,3",1191,null,1013,"чел.-ч.","чел.-ч.",1,null,null,null,null,null,0,32079103,{"$f":"(AT75*ROUND((0.2+1),7))","v":3.6719999999999997},null,0,0,0,748.18,0,0,0,748.18,1,1,1,1,-2,0,0,1,1,0,"",3.06,"*(0,2+1)",1,2,85315849,1,0,75,1,0,0,0,0,0,0,0,0,0,0,2289.4308000000001,3.06,0,1,0,0,0,2747.3169599999997,3.6719999999999997,0,1,null,null,null,null,null,null,null,null,null,null,null,null,null,null,null,null,null,null,null,null,null,null,null,{"$f":"ROUND(AT75*Source!I53*AH75*AL75,2)","v":0},{"$f":"ROUND(Y75*Source!I53,7)","v":0},0,{"$f":"ROUND(Y75*Source!I53,7)","v":0},{"$f":"AD75","v":748.18},{"$f":"AH75","v":748.18},{"$f":"AL75","v":1},{"$f":"ROUND((ROUND(AT75*CZ75,2)*ROUND((0.2+1),7)),2)","v":2747.32},{"$f":"ROUND((ROUND(AT75*AG75,2)*ROUND((0.2+1),7)),2)","v":0},"","",0,0,0,0,{"$f":"DI75","v":0},1,"",0,"",0]
[{"$f":"ROW(Source!A53)","v":53},85312298,85315830,83777689,117,1,1,1,"4-100-00","","Затраты труда машинистов",1191,null,1013,"чел.-ч.","чел.-ч.",1,null,null,null,null,null,0,-1417349443,{"$f":"(AT76*ROUND((0.2+1),7))","v":1.044},null,0,0,0,0,0,0,0,0,1,1,1,1,-2,0,0,1,1,0,"",0.87,"*(0,2+1)",2,2,85315850,1,0,76,1,0,0,0,0,0,0,0,0,0,0,0,0,0,0,0,0,0,0,0,0,0,null,null,null,null,null,null,null,null,null,null,null,null,null,null,null,null,null,null,null,null,null,null,null,null,0,0,{"$f":"ROUND(Y76*Source!I53,7)","v":0},{"$f":"AD76","v":0},{"$f":"AH76","v":0},{"$f":"AL76","v":1},{"$f":"ROUND((ROUND(AT76*CZ76,2)*ROUND((0.2+1),7)),2)","v":0},{"$f":"ROUND((ROUND(AT76*AG76,2)*ROUND((0.2+1),7)),2)","v":0},"","",0,0,0,0,{"$f":"DI76","v":0},0,"",0,"",0]
[{"$f":"ROW(Source!A53)","v":53},85312298,85315830,83784065,1,1,1,2,"91.04.01-031","ФСЭМ-2022 доп.11, 91.04.01-031, приказ Минстроя России от 07.11.2024 г. № 747/пр","Машины бурильно-крановые на автомобильном ходу, диаметр бурения до 800 мм, глубина бурения до 5 м",1368,null,1011,"маш.-ч","маш.-ч",1,null,null,null,null,null,0,843131152,{"$f":"(AT77*ROUND((0.2+1),7))","v":0.81600000000000006},null,0,2736.29,932.95,0,0,2088.77,932.95,0,1,1.31,1,1,2,0,0,1,1,0,"",0.68,"*(0,2+1)",1,2,85315851,1,0,77,1,0,0,0,0,0,0,0,0,1420.3636000000001,634.40600000000006,0,0,0.68,1,0,1704.43632,761.2872000000001,0,0,0.81600000000000006,1,null,null,null,null,null,null,null,null,null,null,null,null,null,null,null,null,null,null,null,null,null,null,null,null,0,{"$f":"ROUND(Y77*Source!I53*DO77,7)","v":0},{"$f":"ROUND(Y77*Source!I53,7)","v":0},{"$f":"AB77","v":2736.29},{"$f":"AF77","v":2088.77},{"$f":"AJ77","v":1.31},{"$f":"ROUND((ROUND(AT77*CZ77,2)*ROUND((0.2+1),7)),2)","v":1704.43},{"$f":"ROUND((ROUND(AT77*AG77,2)*ROUND((0.2+1),7)),2)","v":761.29},"","",0,{"$f":"ROUND(ROUND(AF77*AJ77,2)*CX77,2)","v":0},0,0,{"$f":"DG77+DH77","v":0},0,"4-100-050",5,"чел.-ч.",1]
[{"$f":"ROW(Source!A53)","v":53},85312298,85315830,83785072,1,1,1,2,"91.14.02-001","ФСЭМ-2022 доп.7, 91.14.02-001, приказ Минстроя России от 02.08.2023 г. № 551/пр","Автомобили бортовые, грузоподъемность до 5 т",1368,null,1011,"маш.-ч","маш.-ч",1,null,null,null,null,null,0,-849950259,{"$f":"(AT78*ROUND((0.2+1),7))","v":0.22799999999999998},null,0,641.70000000000005,811.79,0,0,641.70000000000005,811.79,0,1,1,1,1,-2,0,0,1,1,0,"",0.19,"*(0,2+1)",1,2,85315852,1,0,78,1,0,0,0,0,0,0,0,0,121.92300000000002,154.24009999999998,0,0,0.19,1,0,146.30760000000001,185.08811999999998,0,0,0.22799999999999998,1,null,null,null,null,null,null,null,null,null,null,null,null,null,null,null,null,null,null,null,null,null,null,null,null,0,{"$f":"ROUND(Y78*Source!I53*DO78,7)","v":0},{"$f":"ROUND(Y78*Source!I53,7)","v":0},{"$f":"AB78","v":641.70000000000005},{"$f":"AF78","v":641.70000000000005},{"$f":"AJ78","v":1},{"$f":"ROUND((ROUND(AT78*CZ78,2)*ROUND((0.2+1),7)),2)","v":146.30000000000001},{"$f":"ROUND((ROUND(AT78*AG78,2)*ROUND((0.2+1),7)),2)","v":185.09},"","",0,{"$f":"ROUND(ROUND(AF78,2)*CX78,2)","v":0},0,0,{"$f":"DG78+DH78","v":0},1,"4-100-040",4,"чел.-ч.",1]
[{"$f":"ROW(Source!A53)","v":53},85312298,85315830,83849794,1,1,1,3,"01.3.01.06-0038","ФСБЦ-2022 доп.17, 01.3.01.06-0038, приказ Минстроя России от 17.02.2026 г. № 91/пр","Смазка защитная электросетевая",1346,null,1009,"кг","кг",1,null,null,null,null,null,0,-897919439,{"$f":"AT79","v":0.1},null,296.69,0,0,0,185.43,0,0,0,1.6,1,1,1,2,0,0,1,1,0,"",0.1,"",0,2,85315853,1,0,79,1,0,0,0,0,0,0,0,18.543000000000003,0,0,0,0,0,1,18.543000000000003,0,0,0,0,0,1,null,null,null,null,null,null,null,null,null,null,null,null,null,null,null,null,null,null,null,null,null,null,null,null,0,0,{"$f":"ROUND(Y79*Source!I53,7)","v":0},{"$f":"AA79","v":296.69},{"$f":"AE79","v":185.43},{"$f":"AI79","v":1.6},{"$f":"ROUND(ROUND(AT79*CZ79,2),2)","v":18.54},{"$f":"ROUND(ROUND(AT79*AG79,2),2)","v":0},"","",{"$f":"ROUND(ROUND(AE79*AI79,2)*CX79,2)","v":0},0,0,0,{"$f":"DF79","v":0},0,"",0,"",0]
[{"$f":"ROW(Source!A53)","v":53},85312298,85315830,83849801,1,1,1,3,"01.3.01.06-0051","ФСБЦ-2022 доп.12, 01.3.01.06-0051, приказ Минстроя России от 07.11.2024 г. № 747/пр","Смазка солидол жировой Ж",1346,null,1009,"кг","кг",1,null,null,null,null,null,0,-1547825166,0.03,null,93.65,0,0,0,58.53,0,0,0,1.6,1,1,1,2,0,0,1,1,0,"",0.03,"",0,2,85315854,1,0,80,1,0,0,0,0,0,0,0,1.7559,0,0,0,0,0,1,1.7559,0,0,0,0,0,1,null,null,null,null,null,null,null,null,null,null,null,null,null,null,null,null,null,null,null,null,null,null,null,null,0,0,{"$f":"ROUND(Y80*Source!I53,7)","v":0},93.65,58.53,1.6,1.76,0,"","",{"$f":"ROUND(ROUND(AE80*AI80,2)*CX80,2)","v":0},0,0,0,0,0,"",0,"",0]
[{"$f":"ROW(Source!A53)","v":53},85312298,85315830,83853338,1,1,1,3,"01.7.15.03-0042","ФСБЦ-2022, 01.7.15.03-0042, приказ Минстроя России от 18.05.2022 г. № 378/пр","Болты с гайками и шайбами строительные",1346,null,1009,"кг","кг",1,null,null,null,null,null,0,-1131385474,0,null,188.92,0,0,0,174.93,0,0,0,1.08,1,1,1,0,1,0,1,0,0,"",0,"",0,2,85315855,1,0,81,0,0,0,0,0,0,0,0,0,0,0,0,0,0,0,0,0,0,0,0,0,0,null,null,null,null,null,null,null,null,null,null,null,null,null,null,null,null,null,null,null,null,null,null,null,null,0,0,{"$f":"ROUND(Y81*Source!I53,7)","v":0},188.92,174.93,1.08,0,0,"","",{"$f":"ROUND(ROUND(AE81*AI81,2)*CX81,2)","v":0},0,0,0,0,0,"",0,"",0]
[{"$f":"ROW(Source!A53)","v":53},85312298,85315830,83854484,1,1,1,3,"01.7.20.08-0051","ФСБЦ-2022 доп.8, 01.7.20.08-0051, приказ Минстроя России от 14.11.2023 г. № 817/пр","Ветошь хлопчатобумажная цветная",1346,null,1009,"кг","кг",1,null,null,null,null,null,0,-373327139,0.02,null,86.41,0,0,0,56.11,0,0,0,1.54,1,1,1,2,0,0,1,1,0,"",0.02,"",0,2,85315856,1,0,82,1,0,0,0,0,0,0,0,1.1222000000000001,0,0,0,0,0,1,1.1222000000000001,0,0,0,0,0,1,null,null,null,null,null,null,null,null,null,null,null,null,null,null,null,null,null,null,null,null,null,null,null,null,0,0,{"$f":"ROUND(Y82*Source!I53,7)","v":0},86.41,56.11,1.54,1.1200000000000001,0,"","",{"$f":"ROUND(ROUND(AE82*AI82,2)*CX82,2)","v":0},0,0,0,0,0,"",0,"",0]
[{"$f":"ROW(Source!A53)","v":53},85312298,85315830,83779061,117,1,1,3,"05.1.02.07","","Стойка железобетонная вибрированная для опор",1371,null,1013,"ШТ","ШТ",1,null,null,null,null,null,0,457934895,0,null,0,0,0,0,0,0,0,0,1,1,1,1,0,1,0,1,0,0,"",0,"",0,2,85315857,1,0,83,0,0,0,0,0,0,0,0,0,0,0,0,0,0,0,0,0,0,0,0,0,0,null,null,null,null,null,null,null,null,null,null,null,null,null,null,null,null,null,null,null,null,null,null,null,null,0,0,{"$f":"ROUND(Y83*Source!I53,7)","v":0},0,0,1,0,0,"","",{"$f":"ROUND(ROUND(AE83,2)*CX83,2)","v":0},0,0,0,0,0,"",0,"",0]
[{"$f":"ROW(Source!A53)","v":53},85312298,85315830,83779738,117,1,1,3,"07.2.02.05","","Траверсы стальные",1348,null,1009,"т","т",1000,null,null,null,null,null,0,1602794472,0,null,0,0,0,0,0,0,0,0,1,1,1,1,0,1,0,1,0,0,"",0,"",0,2,85315858,1,0,84,0,0,0,0,0,0,0,0,0,0,0,0,0,0,0,0,0,0,0,0,0,0,null,null,null,null,null,null,null,null,null,null,null,null,null,null,null,null,null,null,null,null,null,null,null,null,0,0,{"$f":"ROUND(Y84*Source!I53,7)","v":0},0,0,1,0,0,"","",{"$f":"ROUND(ROUND(AE84,2)*CX84,2)","v":0},0,0,0,0,0,"",0,"",0]
[{"$f":"ROW(Source!A53)","v":53},85312298,85315830,83779884,117,1,1,3,"07.2.07.13","","Хомуты стальные",1346,null,1009,"кг","кг",1,null,null,null,null,null,0,-1111733769,0,null,0,0,0,0,0,0,0,0,1,1,1,1,0,1,0,1,0,0,"",0,"",0,2,85315859,1,0,85,0,0,0,0,0,0,0,0,0,0,0,0,0,0,0,0,0,0,0,0,0,0,null,null,null,null,null,null,null,null,null,null,null,null,null,null,null,null,null,null,null,null,null,null,null,null,0,0,{"$f":"ROUND(Y85*Source!I53,7)","v":0},0,0,1,0,0,"","",{"$f":"ROUND(ROUND(AE85,2)*CX85,2)","v":0},0,0,0,0,0,"",0,"",0]
[{"$f":"ROW(Source!A53)","v":53},85312298,85315830,83780219,117,1,1,3,"08.3.04.02","","Сталь стержневая диаметром до 10 мм",1348,null,1009,"т","т",1000,null,null,null,null,null,0,1613753229,0,null,0,0,0,0,0,0,0,0,1,1,1,1,0,1,0,1,0,0,"",0,"",0,2,85315860,1,0,86,0,0,0,0,0,0,0,0,0,0,0,0,0,0,0,0,0,0,0,0,0,0,null,null,null,null,null,null,null,null,null,null,null,null,null,null,null,null,null,null,null,null,null,null,null,null,0,0,{"$f":"ROUND(Y86*Source!I53,7)","v":0},0,0,1,0,0,"","",{"$f":"ROUND(ROUND(AE86,2)*CX86,2)","v":0},0,0,0,0,0,"",0,"",0]
[{"$f":"ROW(Source!A53)","v":53},85312298,85315830,83870522,1,1,1,3,"14.4.02.04-0182","ФСБЦ-2022 доп.17, 14.4.02.04-0182, приказ Минстроя России от 17.02.2026 г. № 91/пр","Краска масляная МА-15, цветная",1346,null,1009,"кг","кг",1,null,null,null,null,null,0,1157836156,0.4,null,88.24,0,0,0,61.28,0,0,0,1.44,1,1,1,2,0,0,1,1,0,"",0.4,"",0,2,85315861,1,0,87,1,0,0,0,0,0,0,0,24.512,0,0,0,0,0,1,24.512,0,0,0,0,0,1,null,null,null,null,null,null,null,null,null,null,null,null,null,null,null,null,null,null,null,null,null,null,null,null,0,0,{"$f":"ROUND(Y87*Source!I53,7)","v":0},88.24,61.28,1.44,24.51,0,"","",{"$f":"ROUND(ROUND(AE87*AI87,2)*CX87,2)","v":0},0,0,0,0,0,"",0,"",0]
[{"$f":"ROW(Source!A53)","v":53},85312298,85315830,83870548,1,1,1,3,"14.4.03.03-0102","ФСБЦ-2022 доп.4, 14.4.03.03-0102, приказ Минстроя России от 27.12.2022 г. № 1133/пр","Лак битумный БТ-577",1348,null,1009,"т","т",1000,null,null,null,null,null,0,-615866360,1E-4,null,103227.06,0,0,0,80020.98,0,0,0,1.29,1,1,1,2,0,0,1,1,0,"",1E-4,"",0,2,85315862,1,0,88,1,0,0,0,0,0,0,0,8.0020980000000002,0,0,0,0,0,1,8.0020980000000002,0,0,0,0,0,1,null,null,null,null,null,null,null,null,null,null,null,null,null,null,null,null,null,null,null,null,null,null,null,null,0,0,{"$f":"ROUND(Y88*Source!I53,7)","v":0},103227.06,80020.98,1.29,8,0,"","",{"$f":"ROUND(ROUND(AE88*AI88,2)*CX88,2)","v":0},0,0,0,0,0,"",0,"",0]
[{"$f":"ROW(Source!A53)","v":53},85312298,85315830,83878170,1,1,1,3,"20.2.02.04-0006","ФСБЦ-2022, 20.2.02.04-0006, приказ Минстроя России от 18.05.2022 г. № 378/пр","Колпачки полиэтиленовые К-6",1425,null,1013,"100 ШТ","100 ШТ",1,null,null,null,null,null,0,-734153582,0.06,null,1351.57,0,0,0,1031.73,0,0,0,1.31,1,1,1,2,0,0,1,1,0,"",0.06,"",0,2,85315863,1,0,89,1,0,0,0,0,0,0,0,61.903799999999997,0,0,0,0,0,1,61.903799999999997,0,0,0,0,0,1,null,null,null,null,null,null,null,null,null,null,null,null,null,null,null,null,null,null,null,null,null,null,null,null,0,0,{"$f":"ROUND(Y89*Source!I53,7)","v":0},1351.57,1031.73,1.31,61.9,0,"","",{"$f":"ROUND(ROUND(AE89*AI89,2)*CX89,2)","v":0},0,0,0,0,0,"",0,"",0]
[{"$f":"ROW(Source!A53)","v":53},85312298,85315830,83782579,117,1,1,3,"22.2.01.04","","Изоляторы штыревые",1371,null,1013,"ШТ","ШТ",1,null,null,null,null,null,0,-950997571,0,null,0,0,0,0,0,0,0,0,1,1,1,1,0,1,0,1,0,0,"",0,"",0,2,85315864,1,0,90,0,0,0,0,0,0,0,0,0,0,0,0,0,0,0,0,0,0,0,0,0,0,null,null,null,null,null,null,null,null,null,null,null,null,null,null,null,null,null,null,null,null,null,null,null,null,0,0,{"$f":"ROUND(Y90*Source!I53,7)","v":0},0,0,1,0,0,"","",{"$f":"ROUND(ROUND(AE90,2)*CX90,2)","v":0},0,0,0,0,0,"",0,"",0]
[{"$f":"ROW(Source!A53)","v":53},85312298,85315830,83782625,117,1,1,3,"22.2.02.21","","Штыри",1371,null,1013,"ШТ","ШТ",1,null,null,null,null,null,0,-320198552,0,null,0,0,0,0,0,0,0,0,1,1,1,1,0,1,0,1,0,0,"",0,"",0,2,85315865,1,0,91,0,0,0,0,0,0,0,0,0,0,0,0,0,0,0,0,0,0,0,0,0,0,null,null,null,null,null,null,null,null,null,null,null,null,null,null,null,null,null,null,null,null,null,null,null,null,0,0,{"$f":"ROUND(Y91*Source!I53,7)","v":0},0,0,1,0,0,"","",0,0,0,0,0,0,"",0,"",0]
[{"$f":"ROW(Source!A53)","v":53},85312298,85315830,83782629,117,1,1,3,"22.2.02.23","","Металлические плакаты",1371,null,1013,"ШТ","ШТ",1,null,null,null,null,null,0,326010188,0,null,0,0,0,0,0,0,0,0,1,1,1,1,0,1,0,1,0,0,"",0,"",0,2,85315866,1,0,92,0,0,0,0,0,0,0,0,0,0,0,0,0,0,0,0,0,0,0,0,0,0,null,null,null,null,null,null,null,null,null,null,null,null,null,null,null,null,null,null,null,null,null,null,null,null,0,0,{"$f":"ROUND(Y92*Source!I53,7)","v":0},0,0,1,0,0,"","",0,0,0,0,0,0,"",0,"",0]
[{"$f":"ROW(Source!A71)","v":71},85312357,85315876,77306354,114,1,1,1,"1-100-32","","Средний разряд работы 3,2",1191,null,1013,"чел.-ч.","чел.-ч.",1,null,null,null,null,null,0,1958912953,5.81,null,0,0,0,739.09,0,0,0,739.09,1,1,1,1,-2,0,0,1,1,0,"",5.81,"",1,2,85315896,2,131072,93,1,0,0,0,0,0,0,0,0,0,0,4294.1129000000001,5.81,0,1,0,0,0,4294.1129000000001,5.81,0,1,null,null,null,null,null,null,null,null,null,null,null,null,null,null,null,null,null,null,null,null,null,null,null,{"$f":"ROUND(AT93*Source!I71*AH93*AL93,2)","v":0},{"$f":"ROUND(Y93*Source!I71,7)","v":0},0,{"$f":"ROUND(Y93*Source!I71,7)","v":0},{"$f":"AD93","v":739.09},{"$f":"AH93","v":739.09},{"$f":"AL93","v":1},4294.1099999999997,0,"","",0,0,0,0,{"$f":"DI93","v":0},1,"",0,"",0]
[{"$f":"ROW(Source!A71)","v":71},85312357,85315876,77306545,114,1,1,1,"4-100-00","","Затраты труда машинистов",1191,null,1013,"чел.-ч.","чел.-ч.",1,null,null,null,null,null,0,-1417349443,1.07,null,0,0,0,0,0,0,0,0,1,1,1,1,-2,0,0,1,1,0,"",1.07,"",2,2,85315897,1,0,94,1,0,0,0,0,0,0,0,0,0,0,0,0,0,0,0,0,0,0,0,0,0,null,null,null,null,null,null,null,null,null,null,null,null,null,null,null,null,null,null,null,null,null,null,null,null,0,0,{"$f":"ROUND(Y94*Source!I71,7)","v":0},{"$f":"AD94","v":0},{"$f":"AH94","v":0},{"$f":"AL94","v":1},0,0,"","",0,0,0,0,{"$f":"DI94","v":0},0,"",0,"",0]
[{"$f":"ROW(Source!A71)","v":71},85312357,85315876,77430875,1,1,1,2,"91.04.01-031","ФСЭМ-2022 доп.11, 91.04.01-031, приказ Минстроя России от 07.11.2024 г. № 747/пр","Машины бурильно-крановые на автомобильном ходу, диаметр бурения до 800 мм, глубина бурения до 5 м",1368,null,1011,"маш.-ч","маш.-ч",1,null,null,null,null,null,0,1146632698,0.78,null,0,2736.29,932.95,0,0,2088.77,932.95,0,1,1.31,1,1,2,0,0,1,1,0,"",0.78,"",1,2,85315898,2,65536,95,1,0,0,0,0,0,0,0,0,1629.2406000000001,727.70100000000002,0,0,0.78,1,0,1629.2406000000001,727.70100000000002,0,0,0.78,1,null,null,null,null,null,null,null,null,null,null,null,null,null,null,null,null,null,null,null,null,null,null,null,null,0,{"$f":"ROUND(Y95*Source!I71*DO95,7)","v":0},{"$f":"ROUND(Y95*Source!I71,7)","v":0},{"$f":"AB95","v":2736.29},{"$f":"AF95","v":2088.77},{"$f":"AJ95","v":1.31},1629.24,727.7,"","",0,{"$f":"ROUND(ROUND(AF95*AJ95,2)*CX95,2)","v":0},0,0,{"$f":"DG95+DH95","v":0},0,"4-100-050",5,"чел.-ч.",1]
[{"$f":"ROW(Source!A71)","v":71},85312357,85315876,77431879,1,1,1,2,"91.14.02-001","ФСЭМ-2022 доп.7, 91.14.02-001, приказ Минстроя России от 02.08.2023 г. № 551/пр","Автомобили бортовые, грузоподъемность до 5 т",1368,null,1011,"маш.-ч","маш.-ч",1,null,null,null,null,null,0,-1152394969,0.28999999999999998,null,0,641.70000000000005,811.79,0,0,641.70000000000005,811.79,0,1,1,1,1,-2,0,0,1,1,0,"",0.28999999999999998,"",1,2,85315899,1,0,96,1,0,0,0,0,0,0,0,0,186.09299999999999,235.41909999999999,0,0,0.28999999999999998,1,0,186.09299999999999,235.41909999999999,0,0,0.28999999999999998,1,null,null,null,null,null,null,null,null,null,null,null,null,null,null,null,null,null,null,null,null,null,null,null,null,0,{"$f":"ROUND(Y96*Source!I71*DO96,7)","v":0},{"$f":"ROUND(Y96*Source!I71,7)","v":0},{"$f":"AB96","v":641.70000000000005},{"$f":"AF96","v":641.70000000000005},{"$f":"AJ96","v":1},186.09,235.42,"","",0,{"$f":"ROUND(ROUND(AF96,2)*CX96,2)","v":0},0,0,{"$f":"DG96+DH96","v":0},1,"4-100-040",4,"чел.-ч.",1]
[{"$f":"ROW(Source!A71)","v":71},85312357,85315876,77375900,1,1,1,3,"01.3.01.06-0038","ФСБЦ-2022, 01.3.01.06-0038, приказ Минстроя России от 18.05.2022 г. № 378/пр","Смазка защитная электросетевая",1346,null,1009,"кг","кг",1,null,null,null,null,null,0,-1628490559,0.1,null,381.26,0,0,0,238.29,0,0,0,1.6,1,1,1,2,0,0,1,1,0,"",0.1,"",0,2,85315900,1,0,97,1,0,0,0,0,0,0,0,23.829000000000001,0,0,0,0,0,1,23.829000000000001,0,0,0,0,0,1,null,null,null,null,null,null,null,null,null,null,null,null,null,null,null,null,null,null,null,null,null,null,null,null,0,0,{"$f":"ROUND(Y97*Source!I71,7)","v":0},{"$f":"AA97","v":381.26},{"$f":"AE97","v":238.29},{"$f":"AI97","v":1.6},23.83,0,"","",{"$f":"ROUND(ROUND(AE97*AI97,2)*CX97,2)","v":0},0,0,0,{"$f":"DF97","v":0},0,"",0,"",0]
[{"$f":"ROW(Source!A71)","v":71},85312357,85315876,77375907,1,1,1,3,"01.3.01.06-0051","ФСБЦ-2022 доп.12, 01.3.01.06-0051, приказ Минстроя России от 07.11.2024 г. № 747/пр","Смазка солидол жировой Ж",1346,null,1009,"кг","кг",1,null,null,null,null,null,0,-479354107,0.03,null,93.65,0,0,0,58.53,0,0,0,1.6,1,1,1,2,0,0,1,1,0,"",0.03,"",0,2,85315901,1,0,98,1,0,0,0,0,0,0,0,1.7559,0,0,0,0,0,1,1.7559,0,0,0,0,0,1,null,null,null,null,null,null,null,null,null,null,null,null,null,null,null,null,null,null,null,null,null,null,null,null,0,0,{"$f":"ROUND(Y98*Source!I71,7)","v":0},93.65,58.53,1.6,1.76,0,"","",{"$f":"ROUND(ROUND(AE98*AI98,2)*CX98,2)","v":0},0,0,0,0,0,"",0,"",0]
[{"$f":"ROW(Source!A71)","v":71},85312357,85315876,77379558,1,1,1,3,"01.7.15.03-0042","ФСБЦ-2022, 01.7.15.03-0042, приказ Минстроя России от 18.05.2022 г. № 378/пр","Болты с гайками и шайбами строительные",1346,null,1009,"кг","кг",1,null,null,null,null,null,0,1181962216,0,null,188.92,0,0,0,174.93,0,0,0,1.08,1,1,1,2,1,0,1,0,0,"",0,"",0,2,85315902,1,0,99,0,0,0,0,0,0,0,0,0,0,0,0,0,0,0,0,0,0,0,0,0,0,null,null,null,null,null,null,null,null,null,null,null,null,null,null,null,null,null,null,null,null,null,null,null,null,0,0,{"$f":"ROUND(Y99*Source!I71,7)","v":0},188.92,174.93,1.08,0,0,"","",{"$f":"ROUND(ROUND(AE99*AI99,2)*CX99,2)","v":0},0,0,0,0,0,"",0,"",0]
[{"$f":"ROW(Source!A71)","v":71},85312357,85315876,77380691,1,1,1,3,"01.7.20.08-0051","ФСБЦ-2022 доп.8, 01.7.20.08-0051, приказ Минстроя России от 14.11.2023 г. № 817/пр","Ветошь хлопчатобумажная цветная",1346,null,1009,"кг","кг",1,null,null,null,null,null,0,-130701290,0.02,null,86.41,0,0,0,56.11,0,0,0,1.54,1,1,1,2,0,0,1,1,0,"",0.02,"",0,2,85315903,1,0,100,1,0,0,0,0,0,0,0,1.1222000000000001,0,0,0,0,0,1,1.1222000000000001,0,0,0,0,0,1,null,null,null,null,null,null,null,null,null,null,null,null,null,null,null,null,null,null,null,null,null,null,null,null,0,0,{"$f":"ROUND(Y100*Source!I71,7)","v":0},86.41,56.11,1.54,1.1200000000000001,0,"","",{"$f":"ROUND(ROUND(AE100*AI100,2)*CX100,2)","v":0},0,0,0,0,0,"",0,"",0]
[{"$f":"ROW(Source!A71)","v":71},85312357,85315876,77307872,114,1,1,3,"05.1.02.06","","Приставки железобетонные",1371,null,1013,"ШТ","ШТ",1,null,null,null,null,null,0,-1729700736,0,null,0,0,0,0,0,0,0,0,1,1,1,1,-2,1,0,1,0,0,"",0,"",0,2,85315904,1,0,101,0,0,0,0,0,0,0,0,0,0,0,0,0,0,0,0,0,0,0,0,0,0,null,null,null,null,null,null,null,null,null,null,null,null,null,null,null,null,null,null,null,null,null,null,null,null,0,0,{"$f":"ROUND(Y101*Source!I71,7)","v":0},0,0,1,0,0,"","",{"$f":"ROUND(ROUND(AE101,2)*CX101,2)","v":0},0,0,0,0,0,"",0,"",0]
[{"$f":"ROW(Source!A71)","v":71},85312357,85315876,77307877,114,1,1,3,"05.1.02.07","","Стойка железобетонная вибрированная для опор",1371,null,1013,"ШТ","ШТ",1,null,null,null,null,null,0,457934895,0,null,0,0,0,0,0,0,0,0,1,1,1,1,-2,1,0,1,0,0,"",0,"",0,2,85315905,1,0,102,0,0,0,0,0,0,0,0,0,0,0,0,0,0,0,0,0,0,0,0,0,0,null,null,null,null,null,null,null,null,null,null,null,null,null,null,null,null,null,null,null,null,null,null,null,null,0,0,{"$f":"ROUND(Y102*Source!I71,7)","v":0},0,0,1,0,0,"","",{"$f":"ROUND(ROUND(AE102,2)*CX102,2)","v":0},0,0,0,0,0,"",0,"",0]
[{"$f":"ROW(Source!A71)","v":71},85312357,85315876,77308556,114,1,1,3,"07.2.02.05","","Траверсы стальные",1348,null,1009,"т","т",1000,null,null,null,null,null,0,1602794472,0,null,0,0,0,0,0,0,0,0,1,1,1,1,-2,1,0,1,0,0,"",0,"",0,2,85315906,1,0,103,0,0,0,0,0,0,0,0,0,0,0,0,0,0,0,0,0,0,0,0,0,0,null,null,null,null,null,null,null,null,null,null,null,null,null,null,null,null,null,null,null,null,null,null,null,null,0,0,{"$f":"ROUND(Y103*Source!I71,7)","v":0},0,0,1,0,0,"","",{"$f":"ROUND(ROUND(AE103,2)*CX103,2)","v":0},0,0,0,0,0,"",0,"",0]
[{"$f":"ROW(Source!A71)","v":71},85312357,85315876,77308705,114,1,1,3,"07.2.07.13","","Хомуты стальные",1346,null,1009,"кг","кг",1,null,null,null,null,null,0,-1111733769,0,null,0,0,0,0,0,0,0,0,1,1,1,1,-2,1,0,1,0,0,"",0,"",0,2,85315907,1,0,104,0,0,0,0,0,0,0,0,0,0,0,0,0,0,0,0,0,0,0,0,0,0,null,null,null,null,null,null,null,null,null,null,null,null,null,null,null,null,null,null,null,null,null,null,null,null,0,0,{"$f":"ROUND(Y104*Source!I71,7)","v":0},0,0,1,0,0,"","",{"$f":"ROUND(ROUND(AE104,2)*CX104,2)","v":0},0,0,0,0,0,"",0,"",0]
[{"$f":"ROW(Source!A71)","v":71},85312357,85315876,77309038,114,1,1,3,"08.3.04.02","","Сталь стержневая диаметром до 10 мм",1348,null,1009,"т","т",1000,null,null,null,null,null,0,1613753229,0,null,0,0,0,0,0,0,0,0,1,1,1,1,-2,1,0,1,0,0,"",0,"",0,2,85315908,1,0,105,0,0,0,0,0,0,0,0,0,0,0,0,0,0,0,0,0,0,0,0,0,0,null,null,null,null,null,null,null,null,null,null,null,null,null,null,null,null,null,null,null,null,null,null,null,null,0,0,{"$f":"ROUND(Y105*Source!I71,7)","v":0},0,0,1,0,0,"","",{"$f":"ROUND(ROUND(AE105,2)*CX105,2)","v":0},0,0,0,0,0,"",0,"",0]
[{"$f":"ROW(Source!A71)","v":71},85312357,85315876,77397232,1,1,1,3,"14.4.02.04-0182","ФСБЦ-2022, 14.4.02.04-0182, приказ Минстроя России от 18.05.2022 г. № 378/пр","Краска масляная МА-15, цветная",1348,null,1009,"т","т",1000,null,null,null,null,null,0,-460826109,0,null,88222.16,0,0,0,61265.39,0,0,0,1.44,1,1,1,2,0,0,1,1,0,"",0,"",0,2,85315909,1,6144,106,1,0,0,0,0,0,0,0,0,0,0,0,0,0,0,0,0,0,0,0,0,0,null,null,null,null,null,null,null,null,null,null,null,null,null,null,null,null,null,null,null,null,null,null,null,null,0,0,{"$f":"ROUND(Y106*Source!I71,7)","v":0},88222.16,61265.39,1.44,0,0,"","",{"$f":"ROUND(ROUND(AE106*AI106,2)*CX106,2)","v":0},0,0,0,0,0,"",0,"",0]
[{"$f":"ROW(Source!A71)","v":71},85312357,85315876,77397258,1,1,1,3,"14.4.03.03-0102","ФСБЦ-2022 доп.4, 14.4.03.03-0102, приказ Минстроя России от 27.12.2022 г. № 1133/пр","Лак битумный БТ-577",1348,null,1009,"т","т",1000,null,null,null,null,null,0,1215516986,1E-4,null,103227.06,0,0,0,80020.98,0,0,0,1.29,1,1,1,2,0,0,1,1,0,"",1E-4,"",0,2,85315910,1,0,107,1,0,0,0,0,0,0,0,8.0020980000000002,0,0,0,0,0,1,8.0020980000000002,0,0,0,0,0,1,null,null,null,null,null,null,null,null,null,null,null,null,null,null,null,null,null,null,null,null,null,null,null,null,0,0,{"$f":"ROUND(Y107*Source!I71,7)","v":0},103227.06,80020.98,1.29,8,0,"","",{"$f":"ROUND(ROUND(AE107*AI107,2)*CX107,2)","v":0},0,0,0,0,0,"",0,"",0]
[{"$f":"ROW(Source!A71)","v":71},85312357,85315876,77404679,1,1,1,3,"20.2.02.04-0006","ФСБЦ-2022, 20.2.02.04-0006, приказ Минстроя России от 18.05.2022 г. № 378/пр","Колпачки полиэтиленовые К-6",1425,null,1013,"100 ШТ","100 ШТ",1,null,null,null,null,null,0,600080833,0,null,1351.57,0,0,0,1031.73,0,0,0,1.31,1,1,1,2,0,0,1,1,0,"",0,"",0,2,85315911,1,6144,108,1,0,0,0,0,0,0,0,0,0,0,0,0,0,0,0,0,0,0,0,0,0,null,null,null,null,null,null,null,null,null,null,null,null,null,null,null,null,null,null,null,null,null,null,null,null,0,0,{"$f":"ROUND(Y108*Source!I71,7)","v":0},1351.57,1031.73,1.31,0,0,"","",{"$f":"ROUND(ROUND(AE108*AI108,2)*CX108,2)","v":0},0,0,0,0,0,"",0,"",0]
[{"$f":"ROW(Source!A71)","v":71},85312357,85315876,77311321,114,1,1,3,"22.2.01.04","","Изоляторы штыревые",1371,null,1013,"ШТ","ШТ",1,null,null,null,null,null,0,-950997571,0,null,0,0,0,0,0,0,0,0,1,1,1,1,-2,1,0,1,0,0,"",0,"",0,2,85315912,1,0,109,0,0,0,0,0,0,0,0,0,0,0,0,0,0,0,0,0,0,0,0,0,0,null,null,null,null,null,null,null,null,null,null,null,null,null,null,null,null,null,null,null,null,null,null,null,null,0,0,{"$f":"ROUND(Y109*Source!I71,7)","v":0},0,0,1,0,0,"","",{"$f":"ROUND(ROUND(AE109,2)*CX109,2)","v":0},0,0,0,0,0,"",0,"",0]
[{"$f":"ROW(Source!A71)","v":71},85312357,85315876,77311366,114,1,1,3,"22.2.02.21","","Штыри",1371,null,1013,"ШТ","ШТ",1,null,null,null,null,null,0,-320198552,0,null,0,0,0,0,0,0,0,0,1,1,1,1,-2,1,0,1,0,0,"",0,"",0,2,85315913,1,0,110,0,0,0,0,0,0,0,0,0,0,0,0,0,0,0,0,0,0,0,0,0,0,null,null,null,null,null,null,null,null,null,null,null,null,null,null,null,null,null,null,null,null,null,null,null,null,0,0,{"$f":"ROUND(Y110*Source!I71,7)","v":0},0,0,1,0,0,"","",0,0,0,0,0,0,"",0,"",0]
[{"$f":"ROW(Source!A71)","v":71},85312357,85315876,77311370,114,1,1,3,"22.2.02.23","","Металлические плакаты",1371,null,1013,"ШТ","ШТ",1,null,null,null,null,null,0,326010188,{"$f":"AT111","v":0},null,0,0,0,0,0,0,0,0,1,1,1,1,-2,1,0,1,0,0,"",0,"",0,2,85315914,1,0,111,0,0,0,0,0,0,0,0,0,0,0,0,0,0,0,0,0,0,0,0,0,0,null,null,null,null,null,null,null,null,null,null,null,null,null,null,null,null,null,null,null,null,null,null,null,null,0,0,{"$f":"ROUND(Y111*Source!I71,7)","v":0},0,0,1,{"$f":"ROUND(ROUND(AT111*CZ111,2),2)","v":0},{"$f":"ROUND(ROUND(AT111*AG111,2),2)","v":0},"","",0,0,0,0,0,0,"",0,"",0]
[{"$f":"ROW(Source!A72)","v":72},85312298,85315876,77306354,114,1,1,1,"1-100-32","","Средний разряд работы 3,2",1191,null,1013,"чел.-ч.","чел.-ч.",1,null,null,null,null,null,0,1958912953,5.81,null,0,0,0,739.09,0,0,0,739.09,1,1,1,1,-2,0,0,1,1,0,"",5.81,"",1,2,85315896,2,131072,112,1,0,0,0,0,0,0,0,0,0,0,4294.1129000000001,5.81,0,1,0,0,0,4294.1129000000001,5.81,0,1,null,null,null,null,null,null,null,null,null,null,null,null,null,null,null,null,null,null,null,null,null,null,null,{"$f":"ROUND(AT112*Source!I72*AH112*AL112,2)","v":0},{"$f":"ROUND(Y112*Source!I72,7)","v":0},0,{"$f":"ROUND(Y112*Source!I72,7)","v":0},{"$f":"AD112","v":739.09},{"$f":"AH112","v":739.09},{"$f":"AL112","v":1},4294.1099999999997,0,"","",0,0,0,0,{"$f":"DI112","v":0},1,"",0,"",0]
[{"$f":"ROW(Source!A72)","v":72},85312298,85315876,77306545,114,1,1,1,"4-100-00","","Затраты труда машинистов",1191,null,1013,"чел.-ч.","чел.-ч.",1,null,null,null,null,null,0,-1417349443,1.07,null,0,0,0,0,0,0,0,0,1,1,1,1,-2,0,0,1,1,0,"",1.07,"",2,2,85315897,1,0,113,1,0,0,0,0,0,0,0,0,0,0,0,0,0,0,0,0,0,0,0,0,0,null,null,null,null,null,null,null,null,null,null,null,null,null,null,null,null,null,null,null,null,null,null,null,null,0,0,{"$f":"ROUND(Y113*Source!I72,7)","v":0},{"$f":"AD113","v":0},{"$f":"AH113","v":0},{"$f":"AL113","v":1},0,0,"","",0,0,0,0,{"$f":"DI113","v":0},0,"",0,"",0]
[{"$f":"ROW(Source!A72)","v":72},85312298,85315876,77430875,1,1,1,2,"91.04.01-031","ФСЭМ-2022 доп.11, 91.04.01-031, приказ Минстроя России от 07.11.2024 г. № 747/пр","Машины бурильно-крановые на автомобильном ходу, диаметр бурения до 800 мм, глубина бурения до 5 м",1368,null,1011,"маш.-ч","маш.-ч",1,null,null,null,null,null,0,1146632698,0.78,null,0,2736.29,932.95,0,0,2088.77,932.95,0,1,1.31,1,1,2,0,0,1,1,0,"",0.78,"",1,2,85315898,2,65536,114,1,0,0,0,0,0,0,0,0,1629.2406000000001,727.70100000000002,0,0,0.78,1,0,1629.2406000000001,727.70100000000002,0,0,0.78,1,null,null,null,null,null,null,null,null,null,null,null,null,null,null,null,null,null,null,null,null,null,null,null,null,0,{"$f":"ROUND(Y114*Source!I72*DO114,7)","v":0},{"$f":"ROUND(Y114*Source!I72,7)","v":0},{"$f":"AB114","v":2736.29},{"$f":"AF114","v":2088.77},{"$f":"AJ114","v":1.31},1629.24,727.7,"","",0,{"$f":"ROUND(ROUND(AF114*AJ114,2)*CX114,2)","v":0},0,0,{"$f":"DG114+DH114","v":0},0,"4-100-050",5,"чел.-ч.",1]
[{"$f":"ROW(Source!A72)","v":72},85312298,85315876,77431879,1,1,1,2,"91.14.02-001","ФСЭМ-2022 доп.7, 91.14.02-001, приказ Минстроя России от 02.08.2023 г. № 551/пр","Автомобили бортовые, грузоподъемность до 5 т",1368,null,1011,"маш.-ч","маш.-ч",1,null,null,null,null,null,0,-1152394969,0.28999999999999998,null,0,641.70000000000005,811.79,0,0,641.70000000000005,811.79,0,1,1,1,1,-2,0,0,1,1,0,"",0.28999999999999998,"",1,2,85315899,1,0,115,1,0,0,0,0,0,0,0,0,186.09299999999999,235.41909999999999,0,0,0.28999999999999998,1,0,186.09299999999999,235.41909999999999,0,0,0.28999999999999998,1,null,null,null,null,null,null,null,null,null,null,null,null,null,null,null,null,null,null,null,null,null,null,null,null,0,{"$f":"ROUND(Y115*Source!I72*DO115,7)","v":0},{"$f":"ROUND(Y115*Source!I72,7)","v":0},{"$f":"AB115","v":641.70000000000005},{"$f":"AF115","v":641.70000000000005},{"$f":"AJ115","v":1},186.09,235.42,"","",0,{"$f":"ROUND(ROUND(AF115,2)*CX115,2)","v":0},0,0,{"$f":"DG115+DH115","v":0},1,"4-100-040",4,"чел.-ч.",1]
[{"$f":"ROW(Source!A72)","v":72},85312298,85315876,77375900,1,1,1,3,"01.3.01.06-0038","ФСБЦ-2022, 01.3.01.06-0038, приказ Минстроя России от 18.05.2022 г. № 378/пр","Смазка защитная электросетевая",1346,null,1009,"кг","кг",1,null,null,null,null,null,0,-1628490559,0.1,null,381.26,0,0,0,238.29,0,0,0,1.6,1,1,1,2,0,0,1,1,0,"",0.1,"",0,2,85315900,1,0,116,1,0,0,0,0,0,0,0,23.829000000000001,0,0,0,0,0,1,23.829000000000001,0,0,0,0,0,1,null,null,null,null,null,null,null,null,null,null,null,null,null,null,null,null,null,null,null,null,null,null,null,null,0,0,{"$f":"ROUND(Y116*Source!I72,7)","v":0},{"$f":"AA116","v":381.26},{"$f":"AE116","v":238.29},{"$f":"AI116","v":1.6},23.83,0,"","",{"$f":"ROUND(ROUND(AE116*AI116,2)*CX116,2)","v":0},0,0,0,{"$f":"DF116","v":0},0,"",0,"",0]
[{"$f":"ROW(Source!A72)","v":72},85312298,85315876,77375907,1,1,1,3,"01.3.01.06-0051","ФСБЦ-2022 доп.12, 01.3.01.06-0051, приказ Минстроя России от 07.11.2024 г. № 747/пр","Смазка солидол жировой Ж",1346,null,1009,"кг","кг",1,null,null,null,null,null,0,-479354107,0.03,null,93.65,0,0,0,58.53,0,0,0,1.6,1,1,1,2,0,0,1,1,0,"",0.03,"",0,2,85315901,1,0,117,1,0,0,0,0,0,0,0,1.7559,0,0,0,0,0,1,1.7559,0,0,0,0,0,1,null,null,null,null,null,null,null,null,null,null,null,null,null,null,null,null,null,null,null,null,null,null,null,null,0,0,{"$f":"ROUND(Y117*Source!I72,7)","v":0},93.65,58.53,1.6,1.76,0,"","",{"$f":"ROUND(ROUND(AE117*AI117,2)*CX117,2)","v":0},0,0,0,0,0,"",0,"",0]
[{"$f":"ROW(Source!A72)","v":72},85312298,85315876,77379558,1,1,1,3,"01.7.15.03-0042","ФСБЦ-2022, 01.7.15.03-0042, приказ Минстроя России от 18.05.2022 г. № 378/пр","Болты с гайками и шайбами строительные",1346,null,1009,"кг","кг",1,null,null,null,null,null,0,1181962216,0,null,188.92,0,0,0,174.93,0,0,0,1.08,1,1,1,2,1,0,1,0,0,"",0,"",0,2,85315902,1,0,118,0,0,0,0,0,0,0,0,0,0,0,0,0,0,0,0,0,0,0,0,0,0,null,null,null,null,null,null,null,null,null,null,null,null,null,null,null,null,null,null,null,null,null,null,null,null,0,0,{"$f":"ROUND(Y118*Source!I72,7)","v":0},188.92,174.93,1.08,0,0,"","",{"$f":"ROUND(ROUND(AE118*AI118,2)*CX118,2)","v":0},0,0,0,0,0,"",0,"",0]
[{"$f":"ROW(Source!A72)","v":72},85312298,85315876,77380691,1,1,1,3,"01.7.20.08-0051","ФСБЦ-2022 доп.8, 01.7.20.08-0051, приказ Минстроя России от 14.11.2023 г. № 817/пр","Ветошь хлопчатобумажная цветная",1346,null,1009,"кг","кг",1,null,null,null,null,null,0,-130701290,0.02,null,86.41,0,0,0,56.11,0,0,0,1.54,1,1,1,2,0,0,1,1,0,"",0.02,"",0,2,85315903,1,0,119,1,0,0,0,0,0,0,0,1.1222000000000001,0,0,0,0,0,1,1.1222000000000001,0,0,0,0,0,1,null,null,null,null,null,null,null,null,null,null,null,null,null,null,null,null,null,null,null,null,null,null,null,null,0,0,{"$f":"ROUND(Y119*Source!I72,7)","v":0},86.41,56.11,1.54,1.1200000000000001,0,"","",{"$f":"ROUND(ROUND(AE119*AI119,2)*CX119,2)","v":0},0,0,0,0,0,"",0,"",0]
[{"$f":"ROW(Source!A72)","v":72},85312298,85315876,77307872,114,1,1,3,"05.1.02.06","","Приставки железобетонные",1371,null,1013,"ШТ","ШТ",1,null,null,null,null,null,0,-1729700736,0,null,0,0,0,0,0,0,0,0,1,1,1,1,-2,1,0,1,0,0,"",0,"",0,2,85315904,1,0,120,0,0,0,0,0,0,0,0,0,0,0,0,0,0,0,0,0,0,0,0,0,0,null,null,null,null,null,null,null,null,null,null,null,null,null,null,null,null,null,null,null,null,null,null,null,null,0,0,{"$f":"ROUND(Y120*Source!I72,7)","v":0},0,0,1,0,0,"","",{"$f":"ROUND(ROUND(AE120,2)*CX120,2)","v":0},0,0,0,0,0,"",0,"",0]
[{"$f":"ROW(Source!A72)","v":72},85312298,85315876,77307877,114,1,1,3,"05.1.02.07","","Стойка железобетонная вибрированная для опор",1371,null,1013,"ШТ","ШТ",1,null,null,null,null,null,0,457934895,0,null,0,0,0,0,0,0,0,0,1,1,1,1,-2,1,0,1,0,0,"",0,"",0,2,85315905,1,0,121,0,0,0,0,0,0,0,0,0,0,0,0,0,0,0,0,0,0,0,0,0,0,null,null,null,null,null,null,null,null,null,null,null,null,null,null,null,null,null,null,null,null,null,null,null,null,0,0,{"$f":"ROUND(Y121*Source!I72,7)","v":0},0,0,1,0,0,"","",{"$f":"ROUND(ROUND(AE121,2)*CX121,2)","v":0},0,0,0,0,0,"",0,"",0]
[{"$f":"ROW(Source!A72)","v":72},85312298,85315876,77308556,114,1,1,3,"07.2.02.05","","Траверсы стальные",1348,null,1009,"т","т",1000,null,null,null,null,null,0,1602794472,0,null,0,0,0,0,0,0,0,0,1,1,1,1,-2,1,0,1,0,0,"",0,"",0,2,85315906,1,0,122,0,0,0,0,0,0,0,0,0,0,0,0,0,0,0,0,0,0,0,0,0,0,null,null,null,null,null,null,null,null,null,null,null,null,null,null,null,null,null,null,null,null,null,null,null,null,0,0,{"$f":"ROUND(Y122*Source!I72,7)","v":0},0,0,1,0,0,"","",{"$f":"ROUND(ROUND(AE122,2)*CX122,2)","v":0},0,0,0,0,0,"",0,"",0]
[{"$f":"ROW(Source!A72)","v":72},85312298,85315876,77308705,114,1,1,3,"07.2.07.13","","Хомуты стальные",1346,null,1009,"кг","кг",1,null,null,null,null,null,0,-1111733769,0,null,0,0,0,0,0,0,0,0,1,1,1,1,-2,1,0,1,0,0,"",0,"",0,2,85315907,1,0,123,0,0,0,0,0,0,0,0,0,0,0,0,0,0,0,0,0,0,0,0,0,0,null,null,null,null,null,null,null,null,null,null,null,null,null,null,null,null,null,null,null,null,null,null,null,null,0,0,{"$f":"ROUND(Y123*Source!I72,7)","v":0},0,0,1,0,0,"","",{"$f":"ROUND(ROUND(AE123,2)*CX123,2)","v":0},0,0,0,0,0,"",0,"",0]
[{"$f":"ROW(Source!A72)","v":72},85312298,85315876,77309038,114,1,1,3,"08.3.04.02","","Сталь стержневая диаметром до 10 мм",1348,null,1009,"т","т",1000,null,null,null,null,null,0,1613753229,0,null,0,0,0,0,0,0,0,0,1,1,1,1,-2,1,0,1,0,0,"",0,"",0,2,85315908,1,0,124,0,0,0,0,0,0,0,0,0,0,0,0,0,0,0,0,0,0,0,0,0,0,null,null,null,null,null,null,null,null,null,null,null,null,null,null,null,null,null,null,null,null,null,null,null,null,0,0,{"$f":"ROUND(Y124*Source!I72,7)","v":0},0,0,1,0,0,"","",{"$f":"ROUND(ROUND(AE124,2)*CX124,2)","v":0},0,0,0,0,0,"",0,"",0]
[{"$f":"ROW(Source!A72)","v":72},85312298,85315876,77397232,1,1,1,3,"14.4.02.04-0182","ФСБЦ-2022, 14.4.02.04-0182, приказ Минстроя России от 18.05.2022 г. № 378/пр","Краска масляная МА-15, цветная",1348,null,1009,"т","т",1000,null,null,null,null,null,0,-460826109,0,null,88222.16,0,0,0,61265.39,0,0,0,1.44,1,1,1,2,0,0,1,1,0,"",0,"",0,2,85315909,1,6144,125,1,0,0,0,0,0,0,0,0,0,0,0,0,0,0,0,0,0,0,0,0,0,null,null,null,null,null,null,null,null,null,null,null,null,null,null,null,null,null,null,null,null,null,null,null,null,0,0,{"$f":"ROUND(Y125*Source!I72,7)","v":0},88222.16,61265.39,1.44,0,0,"","",{"$f":"ROUND(ROUND(AE125*AI125,2)*CX125,2)","v":0},0,0,0,0,0,"",0,"",0]
[{"$f":"ROW(Source!A72)","v":72},85312298,85315876,77397258,1,1,1,3,"14.4.03.03-0102","ФСБЦ-2022 доп.4, 14.4.03.03-0102, приказ Минстроя России от 27.12.2022 г. № 1133/пр","Лак битумный БТ-577",1348,null,1009,"т","т",1000,null,null,null,null,null,0,1215516986,1E-4,null,103227.06,0,0,0,80020.98,0,0,0,1.29,1,1,1,2,0,0,1,1,0,"",1E-4,"",0,2,85315910,1,0,126,1,0,0,0,0,0,0,0,8.0020980000000002,0,0,0,0,0,1,8.0020980000000002,0,0,0,0,0,1,null,null,null,null,null,null,null,null,null,null,null,null,null,null,null,null,null,null,null,null,null,null,null,null,0,0,{"$f":"ROUND(Y126*Source!I72,7)","v":0},103227.06,80020.98,1.29,8,0,"","",{"$f":"ROUND(ROUND(AE126*AI126,2)*CX126,2)","v":0},0,0,0,0,0,"",0,"",0]
[{"$f":"ROW(Source!A72)","v":72},85312298,85315876,77404679,1,1,1,3,"20.2.02.04-0006","ФСБЦ-2022, 20.2.02.04-0006, приказ Минстроя России от 18.05.2022 г. № 378/пр","Колпачки полиэтиленовые К-6",1425,null,1013,"100 ШТ","100 ШТ",1,null,null,null,null,null,0,600080833,0,null,1351.57,0,0,0,1031.73,0,0,0,1.31,1,1,1,2,0,0,1,1,0,"",0,"",0,2,85315911,1,6144,127,1,0,0,0,0,0,0,0,0,0,0,0,0,0,0,0,0,0,0,0,0,0,null,null,null,null,null,null,null,null,null,null,null,null,null,null,null,null,null,null,null,null,null,null,null,null,0,0,{"$f":"ROUND(Y127*Source!I72,7)","v":0},1351.57,1031.73,1.31,0,0,"","",{"$f":"ROUND(ROUND(AE127*AI127,2)*CX127,2)","v":0},0,0,0,0,0,"",0,"",0]
[{"$f":"ROW(Source!A72)","v":72},85312298,85315876,77311321,114,1,1,3,"22.2.01.04","","Изоляторы штыревые",1371,null,1013,"ШТ","ШТ",1,null,null,null,null,null,0,-950997571,0,null,0,0,0,0,0,0,0,0,1,1,1,1,-2,1,0,1,0,0,"",0,"",0,2,85315912,1,0,128,0,0,0,0,0,0,0,0,0,0,0,0,0,0,0,0,0,0,0,0,0,0,null,null,null,null,null,null,null,null,null,null,null,null,null,null,null,null,null,null,null,null,null,null,null,null,0,0,{"$f":"ROUND(Y128*Source!I72,7)","v":0},0,0,1,0,0,"","",{"$f":"ROUND(ROUND(AE128,2)*CX128,2)","v":0},0,0,0,0,0,"",0,"",0]
[{"$f":"ROW(Source!A72)","v":72},85312298,85315876,77311366,114,1,1,3,"22.2.02.21","","Штыри",1371,null,1013,"ШТ","ШТ",1,null,null,null,null,null,0,-320198552,0,null,0,0,0,0,0,0,0,0,1,1,1,1,-2,1,0,1,0,0,"",0,"",0,2,85315913,1,0,129,0,0,0,0,0,0,0,0,0,0,0,0,0,0,0,0,0,0,0,0,0,0,null,null,null,null,null,null,null,null,null,null,null,null,null,null,null,null,null,null,null,null,null,null,null,null,0,0,{"$f":"ROUND(Y129*Source!I72,7)","v":0},0,0,1,0,0,"","",0,0,{"$f":"ROUND(ROUND(AG129,2)*CX129,2)","v":0},{"$f":"ROUND(ROUND(AH129,2)*CX129,2)","v":0},0,0,"",0,"",0]
[{"$f":"ROW(Source!A72)","v":72},85312298,85315876,77311370,114,1,1,3,"22.2.02.23","","Металлические плакаты",1371,null,1013,"ШТ","ШТ",1,null,null,null,null,null,0,326010188,0,null,0,0,0,0,0,0,0,0,1,1,1,1,-2,1,0,1,0,0,"",0,"",0,2,85315914,1,0,130,0,0,0,0,0,0,0,0,0,0,0,0,0,0,0,0,0,0,0,0,0,0,null,null,null,null,null,null,null,null,null,null,null,null,null,null,null,null,null,null,null,null,null,null,null,null,0,0,{"$f":"ROUND(Y130*Source!I72,7)","v":0},0,0,1,0,0,"","",0,0,0,0,0,0,"",0,"",0]
[{"$f":"ROW(Source!A92)","v":92},85312357,85315925,77306356,114,1,1,1,"1-100-33","","Средний разряд работы 3,3",1191,null,1013,"чел.-ч.","чел.-ч.",1,null,null,null,null,null,0,32079103,9,null,0,0,0,748.18,0,0,0,748.18,1,1,1,1,-2,0,0,1,1,0,"",9,"",1,2,85315946,2,131072,131,1,0,0,0,0,0,0,0,0,0,0,6733.62,9,0,1,0,0,0,6733.62,9,0,1,null,null,null,null,null,null,null,null,null,null,null,null,null,null,null,null,null,null,null,null,null,null,null,{"$f":"ROUND(AT131*Source!I92*AH131*AL131,2)","v":0},{"$f":"ROUND(Y131*Source!I92,7)","v":0},0,{"$f":"ROUND(Y131*Source!I92,7)","v":0},{"$f":"AD131","v":748.18},{"$f":"AH131","v":748.18},{"$f":"AL131","v":1},6733.62,0,"","",0,0,0,0,{"$f":"DI131","v":0},1,"",0,"",0]
[{"$f":"ROW(Source!A92)","v":92},85312357,85315925,77306545,114,1,1,1,"4-100-00","","Затраты труда машинистов",1191,null,1013,"чел.-ч.","чел.-ч.",1,null,null,null,null,null,0,-1417349443,3.21,null,0,0,0,0,0,0,0,0,1,1,1,1,-2,0,0,1,1,0,"",3.21,"",2,2,85315947,1,0,132,1,0,0,0,0,0,0,0,0,0,0,0,0,0,0,0,0,0,0,0,0,0,null,null,null,null,null,null,null,null,null,null,null,null,null,null,null,null,null,null,null,null,null,null,null,null,0,0,{"$f":"ROUND(Y132*Source!I92,7)","v":0},{"$f":"AD132","v":0},{"$f":"AH132","v":0},{"$f":"AL132","v":1},0,0,"","",0,0,0,0,{"$f":"DI132","v":0},0,"",0,"",0]
[{"$f":"ROW(Source!A92)","v":92},85312357,85315925,77430875,1,1,1,2,"91.04.01-031","ФСЭМ-2022 доп.11, 91.04.01-031, приказ Минстроя России от 07.11.2024 г. № 747/пр","Машины бурильно-крановые на автомобильном ходу, диаметр бурения до 800 мм, глубина бурения до 5 м",1368,null,1011,"маш.-ч","маш.-ч",1,null,null,null,null,null,0,1146632698,2.6,null,0,2736.29,932.95,0,0,2088.77,932.95,0,1,1.31,1,1,2,0,0,1,1,0,"",2.6,"",1,2,85315948,2,65536,133,1,0,0,0,0,0,0,0,0,5430.8020000000006,2425.67,0,0,2.6,1,0,5430.8020000000006,2425.67,0,0,2.6,1,null,null,null,null,null,null,null,null,null,null,null,null,null,null,null,null,null,null,null,null,null,null,null,null,0,{"$f":"ROUND(Y133*Source!I92*DO133,7)","v":0},{"$f":"ROUND(Y133*Source!I92,7)","v":0},{"$f":"AB133","v":2736.29},{"$f":"AF133","v":2088.77},{"$f":"AJ133","v":1.31},5430.8,2425.67,"","",0,{"$f":"ROUND(ROUND(AF133*AJ133,2)*CX133,2)","v":0},0,0,{"$f":"DG133+DH133","v":0},0,"4-100-050",5,"чел.-ч.",1]
[{"$f":"ROW(Source!A92)","v":92},85312357,85315925,77431879,1,1,1,2,"91.14.02-001","ФСЭМ-2022 доп.7, 91.14.02-001, приказ Минстроя России от 02.08.2023 г. № 551/пр","Автомобили бортовые, грузоподъемность до 5 т",1368,null,1011,"маш.-ч","маш.-ч",1,null,null,null,null,null,0,-1152394969,0.61,null,0,641.70000000000005,811.79,0,0,641.70000000000005,811.79,0,1,1,1,1,-2,0,0,1,1,0,"",0.61,"",1,2,85315949,1,0,134,1,0,0,0,0,0,0,0,0,391.43700000000001,495.19189999999998,0,0,0.61,1,0,391.43700000000001,495.19189999999998,0,0,0.61,1,null,null,null,null,null,null,null,null,null,null,null,null,null,null,null,null,null,null,null,null,null,null,null,null,0,{"$f":"ROUND(Y134*Source!I92*DO134,7)","v":0},{"$f":"ROUND(Y134*Source!I92,7)","v":0},{"$f":"AB134","v":641.70000000000005},{"$f":"AF134","v":641.70000000000005},{"$f":"AJ134","v":1},391.44,495.19,"","",0,{"$f":"ROUND(ROUND(AF134,2)*CX134,2)","v":0},0,0,{"$f":"DG134+DH134","v":0},1,"4-100-040",4,"чел.-ч.",1]
[{"$f":"ROW(Source!A92)","v":92},85312357,85315925,77375900,1,1,1,3,"01.3.01.06-0038","ФСБЦ-2022, 01.3.01.06-0038, приказ Минстроя России от 18.05.2022 г. № 378/пр","Смазка защитная электросетевая",1346,null,1009,"кг","кг",1,null,null,null,null,null,0,-1628490559,0.1,null,381.26,0,0,0,238.29,0,0,0,1.6,1,1,1,2,0,0,1,1,0,"",0.1,"",0,2,85315950,1,0,135,1,0,0,0,0,0,0,0,23.829000000000001,0,0,0,0,0,1,23.829000000000001,0,0,0,0,0,1,null,null,null,null,null,null,null,null,null,null,null,null,null,null,null,null,null,null,null,null,null,null,null,null,0,0,{"$f":"ROUND(Y135*Source!I92,7)","v":0},{"$f":"AA135","v":381.26},{"$f":"AE135","v":238.29},{"$f":"AI135","v":1.6},23.83,0,"","",{"$f":"ROUND(ROUND(AE135*AI135,2)*CX135,2)","v":0},0,0,0,{"$f":"DF135","v":0},0,"",0,"",0]
[{"$f":"ROW(Source!A92)","v":92},85312357,85315925,77375907,1,1,1,3,"01.3.01.06-0051","ФСБЦ-2022 доп.12, 01.3.01.06-0051, приказ Минстроя России от 07.11.2024 г. № 747/пр","Смазка солидол жировой Ж",1346,null,1009,"кг","кг",1,null,null,null,null,null,0,-479354107,0.03,null,93.65,0,0,0,58.53,0,0,0,1.6,1,1,1,2,0,0,1,1,0,"",0.03,"",0,2,85315951,1,0,136,1,0,0,0,0,0,0,0,1.7559,0,0,0,0,0,1,1.7559,0,0,0,0,0,1,null,null,null,null,null,null,null,null,null,null,null,null,null,null,null,null,null,null,null,null,null,null,null,null,0,0,{"$f":"ROUND(Y136*Source!I92,7)","v":0},93.65,58.53,1.6,1.76,0,"","",{"$f":"ROUND(ROUND(AE136*AI136,2)*CX136,2)","v":0},0,0,0,0,0,"",0,"",0]
[{"$f":"ROW(Source!A92)","v":92},85312357,85315925,77379558,1,1,1,3,"01.7.15.03-0042","ФСБЦ-2022, 01.7.15.03-0042, приказ Минстроя России от 18.05.2022 г. № 378/пр","Болты с гайками и шайбами строительные",1346,null,1009,"кг","кг",1,null,null,null,null,null,0,1181962216,0,null,188.92,0,0,0,174.93,0,0,0,1.08,1,1,1,2,1,0,1,0,0,"",0,"",0,2,85315952,1,0,137,0,0,0,0,0,0,0,0,0,0,0,0,0,0,0,0,0,0,0,0,0,0,null,null,null,null,null,null,null,null,null,null,null,null,null,null,null,null,null,null,null,null,null,null,null,null,0,0,{"$f":"ROUND(Y137*Source!I92,7)","v":0},188.92,174.93,1.08,0,0,"","",{"$f":"ROUND(ROUND(AE137*AI137,2)*CX137,2)","v":0},0,0,0,0,0,"",0,"",0]
[{"$f":"ROW(Source!A92)","v":92},85312357,85315925,77380691,1,1,1,3,"01.7.20.08-0051","ФСБЦ-2022 доп.8, 01.7.20.08-0051, приказ Минстроя России от 14.11.2023 г. № 817/пр","Ветошь хлопчатобумажная цветная",1346,null,1009,"кг","кг",1,null,null,null,null,null,0,-130701290,0.02,null,86.41,0,0,0,56.11,0,0,0,1.54,1,1,1,2,0,0,1,1,0,"",0.02,"",0,2,85315953,1,0,138,1,0,0,0,0,0,0,0,1.1222000000000001,0,0,0,0,0,1,1.1222000000000001,0,0,0,0,0,1,null,null,null,null,null,null,null,null,null,null,null,null,null,null,null,null,null,null,null,null,null,null,null,null,0,0,{"$f":"ROUND(Y138*Source!I92,7)","v":0},86.41,56.11,1.54,1.1200000000000001,0,"","",{"$f":"ROUND(ROUND(AE138*AI138,2)*CX138,2)","v":0},0,0,0,0,0,"",0,"",0]
[{"$f":"ROW(Source!A92)","v":92},85312357,85315925,77307877,114,1,1,3,"05.1.02.07","","Стойка железобетонная вибрированная для опор",1371,null,1013,"ШТ","ШТ",1,null,null,null,null,null,0,457934895,0,null,0,0,0,0,0,0,0,0,1,1,1,1,-2,1,0,1,0,0,"",0,"",0,2,85315954,1,0,139,0,0,0,0,0,0,0,0,0,0,0,0,0,0,0,0,0,0,0,0,0,0,null,null,null,null,null,null,null,null,null,null,null,null,null,null,null,null,null,null,null,null,null,null,null,null,0,0,{"$f":"ROUND(Y139*Source!I92,7)","v":0},0,0,1,0,0,"","",{"$f":"ROUND(ROUND(AE139,2)*CX139,2)","v":0},0,0,0,0,0,"",0,"",0]
[{"$f":"ROW(Source!A92)","v":92},85312357,85315925,77308556,114,1,1,3,"07.2.02.05","","Траверсы стальные",1348,null,1009,"т","т",1000,null,null,null,null,null,0,1602794472,0,null,0,0,0,0,0,0,0,0,1,1,1,1,-2,1,0,1,0,0,"",0,"",0,2,85315955,1,0,140,0,0,0,0,0,0,0,0,0,0,0,0,0,0,0,0,0,0,0,0,0,0,null,null,null,null,null,null,null,null,null,null,null,null,null,null,null,null,null,null,null,null,null,null,null,null,0,0,{"$f":"ROUND(Y140*Source!I92,7)","v":0},0,0,1,0,0,"","",{"$f":"ROUND(ROUND(AE140,2)*CX140,2)","v":0},0,0,0,0,0,"",0,"",0]
[{"$f":"ROW(Source!A92)","v":92},85312357,85315925,77308705,114,1,1,3,"07.2.07.13","","Хомуты стальные",1346,null,1009,"кг","кг",1,null,null,null,null,null,0,-1111733769,0,null,0,0,0,0,0,0,0,0,1,1,1,1,-2,1,0,1,0,0,"",0,"",0,2,85315956,1,0,141,0,0,0,0,0,0,0,0,0,0,0,0,0,0,0,0,0,0,0,0,0,0,null,null,null,null,null,null,null,null,null,null,null,null,null,null,null,null,null,null,null,null,null,null,null,null,0,0,{"$f":"ROUND(Y141*Source!I92,7)","v":0},0,0,1,0,0,"","",{"$f":"ROUND(ROUND(AE141,2)*CX141,2)","v":0},0,0,0,0,0,"",0,"",0]
[{"$f":"ROW(Source!A92)","v":92},85312357,85315925,77309038,114,1,1,3,"08.3.04.02","","Сталь стержневая диаметром до 10 мм",1348,null,1009,"т","т",1000,null,null,null,null,null,0,1613753229,0,null,0,0,0,0,0,0,0,0,1,1,1,1,-2,1,0,1,0,0,"",0,"",0,2,85315957,1,0,142,0,0,0,0,0,0,0,0,0,0,0,0,0,0,0,0,0,0,0,0,0,0,null,null,null,null,null,null,null,null,null,null,null,null,null,null,null,null,null,null,null,null,null,null,null,null,0,0,{"$f":"ROUND(Y142*Source!I92,7)","v":0},0,0,1,0,0,"","",{"$f":"ROUND(ROUND(AE142,2)*CX142,2)","v":0},0,0,0,0,0,"",0,"",0]
[{"$f":"ROW(Source!A92)","v":92},85312357,85315925,77397232,1,1,1,3,"14.4.02.04-0182","ФСБЦ-2022, 14.4.02.04-0182, приказ Минстроя России от 18.05.2022 г. № 378/пр","Краска масляная МА-15, цветная",1348,null,1009,"т","т",1000,null,null,null,null,null,0,-460826109,{"$f":"AT143","v":0},null,88222.16,0,0,0,61265.39,0,0,0,1.44,1,1,1,2,0,0,1,1,0,"",0,"",0,2,85315958,1,6144,143,1,0,0,0,0,0,0,0,0,0,0,0,0,0,0,0,0,0,0,0,0,0,null,null,null,null,null,null,null,null,null,null,null,null,null,null,null,null,null,null,null,null,null,null,null,null,0,0,{"$f":"ROUND(Y143*Source!I92,7)","v":0},88222.16,61265.39,1.44,{"$f":"ROUND(ROUND(AT143*CZ143,2),2)","v":0},{"$f":"ROUND(ROUND(AT143*AG143,2),2)","v":0},"","",{"$f":"ROUND(ROUND(AE143*AI143,2)*CX143,2)","v":0},0,0,0,0,0,"",0,"",0]
[{"$f":"ROW(Source!A92)","v":92},85312357,85315925,77397258,1,1,1,3,"14.4.03.03-0102","ФСБЦ-2022 доп.4, 14.4.03.03-0102, приказ Минстроя России от 27.12.2022 г. № 1133/пр","Лак битумный БТ-577",1348,null,1009,"т","т",1000,null,null,null,null,null,0,1215516986,1E-4,null,103227.06,0,0,0,80020.98,0,0,0,1.29,1,1,1,2,0,0,1,1,0,"",1E-4,"",0,2,85315959,1,0,144,1,0,0,0,0,0,0,0,8.0020980000000002,0,0,0,0,0,1,8.0020980000000002,0,0,0,0,0,1,null,null,null,null,null,null,null,null,null,null,null,null,null,null,null,null,null,null,null,null,null,null,null,null,0,0,{"$f":"ROUND(Y144*Source!I92,7)","v":0},103227.06,80020.98,1.29,8,0,"","",{"$f":"ROUND(ROUND(AE144*AI144,2)*CX144,2)","v":0},0,0,0,0,0,"",0,"",0]
[{"$f":"ROW(Source!A92)","v":92},85312357,85315925,77404679,1,1,1,3,"20.2.02.04-0006","ФСБЦ-2022, 20.2.02.04-0006, приказ Минстроя России от 18.05.2022 г. № 378/пр","Колпачки полиэтиленовые К-6",1425,null,1013,"100 ШТ","100 ШТ",1,null,null,null,null,null,0,600080833,0,null,1351.57,0,0,0,1031.73,0,0,0,1.31,1,1,1,2,0,0,1,1,0,"",0,"",0,2,85315960,1,6144,145,1,0,0,0,0,0,0,0,0,0,0,0,0,0,0,0,0,0,0,0,0,0,null,null,null,null,null,null,null,null,null,null,null,null,null,null,null,null,null,null,null,null,null,null,null,null,0,0,{"$f":"ROUND(Y145*Source!I92,7)","v":0},1351.57,1031.73,1.31,0,0,"","",{"$f":"ROUND(ROUND(AE145*AI145,2)*CX145,2)","v":0},0,0,0,0,0,"",0,"",0]
[{"$f":"ROW(Source!A92)","v":92},85312357,85315925,77311321,114,1,1,3,"22.2.01.04","","Изоляторы штыревые",1371,null,1013,"ШТ","ШТ",1,null,null,null,null,null,0,-950997571,0,null,0,0,0,0,0,0,0,0,1,1,1,1,-2,1,0,1,0,0,"",0,"",0,2,85315961,1,0,146,0,0,0,0,0,0,0,0,0,0,0,0,0,0,0,0,0,0,0,0,0,0,null,null,null,null,null,null,null,null,null,null,null,null,null,null,null,null,null,null,null,null,null,null,null,null,0,0,{"$f":"ROUND(Y146*Source!I92,7)","v":0},0,0,1,0,0,"","",{"$f":"ROUND(ROUND(AE146,2)*CX146,2)","v":0},0,0,0,0,0,"",0,"",0]
[{"$f":"ROW(Source!A92)","v":92},85312357,85315925,77311334,114,1,1,3,"22.2.02.07","","Детали крепления стальные",1346,null,1009,"кг","кг",1,null,null,null,null,null,0,-1307724210,0,null,0,0,0,0,0,0,0,0,1,1,1,1,-2,1,0,1,0,0,"",0,"",0,2,85315962,1,0,147,0,0,0,0,0,0,0,0,0,0,0,0,0,0,0,0,0,0,0,0,0,0,null,null,null,null,null,null,null,null,null,null,null,null,null,null,null,null,null,null,null,null,null,null,null,null,0,0,{"$f":"ROUND(Y147*Source!I92,7)","v":0},0,0,1,0,0,"","",0,0,0,0,0,0,"",0,"",0]
[{"$f":"ROW(Source!A92)","v":92},85312357,85315925,77311344,114,1,1,3,"22.2.02.09","","Детали крепления стальные",1346,null,1009,"кг","кг",1,null,null,null,null,null,0,644915416,0,null,0,0,0,0,0,0,0,0,1,1,1,1,-2,1,0,1,0,0,"",0,"",0,2,85315963,1,0,148,0,0,0,0,0,0,0,0,0,0,0,0,0,0,0,0,0,0,0,0,0,0,null,null,null,null,null,null,null,null,null,null,null,null,null,null,null,null,null,null,null,null,null,null,null,null,0,0,{"$f":"ROUND(Y148*Source!I92,7)","v":0},0,0,1,0,0,"","",0,0,0,0,0,0,"",0,"",0]
[{"$f":"ROW(Source!A92)","v":92},85312357,85315925,77311366,114,1,1,3,"22.2.02.21","","Штыри",1371,null,1013,"ШТ","ШТ",1,null,null,null,null,null,0,-320198552,0,null,0,0,0,0,0,0,0,0,1,1,1,1,-2,1,0,1,0,0,"",0,"",0,2,85315964,1,0,149,0,0,0,0,0,0,0,0,0,0,0,0,0,0,0,0,0,0,0,0,0,0,null,null,null,null,null,null,null,null,null,null,null,null,null,null,null,null,null,null,null,null,null,null,null,null,0,0,{"$f":"ROUND(Y149*Source!I92,7)","v":0},0,0,1,0,0,"","",0,0,0,0,0,0,"",0,"",0]
[{"$f":"ROW(Source!A92)","v":92},85312357,85315925,77311370,114,1,1,3,"22.2.02.23","","Металлические плакаты",1371,null,1013,"ШТ","ШТ",1,null,null,null,null,null,0,326010188,0,null,0,0,0,0,0,0,0,0,1,1,1,1,-2,1,0,1,0,0,"",0,"",0,2,85315965,1,0,150,0,0,0,0,0,0,0,0,0,0,0,0,0,0,0,0,0,0,0,0,0,0,null,null,null,null,null,null,null,null,null,null,null,null,null,null,null,null,null,null,null,null,null,null,null,null,0,0,{"$f":"ROUND(Y150*Source!I92,7)","v":0},0,0,1,0,0,"","",0,0,0,0,0,0,"",0,"",0]
[{"$f":"ROW(Source!A93)","v":93},85312298,85315925,77306356,114,1,1,1,"1-100-33","","Средний разряд работы 3,3",1191,null,1013,"чел.-ч.","чел.-ч.",1,null,null,null,null,null,0,32079103,9,null,0,0,0,748.18,0,0,0,748.18,1,1,1,1,-2,0,0,1,1,0,"",9,"",1,2,85315946,2,131072,151,1,0,0,0,0,0,0,0,0,0,0,6733.62,9,0,1,0,0,0,6733.62,9,0,1,null,null,null,null,null,null,null,null,null,null,null,null,null,null,null,null,null,null,null,null,null,null,null,{"$f":"ROUND(AT151*Source!I93*AH151*AL151,2)","v":0},{"$f":"ROUND(Y151*Source!I93,7)","v":0},0,{"$f":"ROUND(Y151*Source!I93,7)","v":0},{"$f":"AD151","v":748.18},{"$f":"AH151","v":748.18},{"$f":"AL151","v":1},6733.62,0,"","",0,0,0,0,{"$f":"DI151","v":0},1,"",0,"",0]
[{"$f":"ROW(Source!A93)","v":93},85312298,85315925,77306545,114,1,1,1,"4-100-00","","Затраты труда машинистов",1191,null,1013,"чел.-ч.","чел.-ч.",1,null,null,null,null,null,0,-1417349443,3.21,null,0,0,0,0,0,0,0,0,1,1,1,1,-2,0,0,1,1,0,"",3.21,"",2,2,85315947,1,0,152,1,0,0,0,0,0,0,0,0,0,0,0,0,0,0,0,0,0,0,0,0,0,null,null,null,null,null,null,null,null,null,null,null,null,null,null,null,null,null,null,null,null,null,null,null,null,0,0,{"$f":"ROUND(Y152*Source!I93,7)","v":0},{"$f":"AD152","v":0},{"$f":"AH152","v":0},{"$f":"AL152","v":1},0,0,"","",0,0,0,0,{"$f":"DI152","v":0},0,"",0,"",0]
[{"$f":"ROW(Source!A93)","v":93},85312298,85315925,77430875,1,1,1,2,"91.04.01-031","ФСЭМ-2022 доп.11, 91.04.01-031, приказ Минстроя России от 07.11.2024 г. № 747/пр","Машины бурильно-крановые на автомобильном ходу, диаметр бурения до 800 мм, глубина бурения до 5 м",1368,null,1011,"маш.-ч","маш.-ч",1,null,null,null,null,null,0,1146632698,2.6,null,0,2736.29,932.95,0,0,2088.77,932.95,0,1,1.31,1,1,2,0,0,1,1,0,"",2.6,"",1,2,85315948,2,65536,153,1,0,0,0,0,0,0,0,0,5430.8020000000006,2425.67,0,0,2.6,1,0,5430.8020000000006,2425.67,0,0,2.6,1,null,null,null,null,null,null,null,null,null,null,null,null,null,null,null,null,null,null,null,null,null,null,null,null,0,{"$f":"ROUND(Y153*Source!I93*DO153,7)","v":0},{"$f":"ROUND(Y153*Source!I93,7)","v":0},{"$f":"AB153","v":2736.29},{"$f":"AF153","v":2088.77},{"$f":"AJ153","v":1.31},5430.8,2425.67,"","",0,{"$f":"ROUND(ROUND(AF153*AJ153,2)*CX153,2)","v":0},0,0,{"$f":"DG153+DH153","v":0},0,"4-100-050",5,"чел.-ч.",1]
[{"$f":"ROW(Source!A93)","v":93},85312298,85315925,77431879,1,1,1,2,"91.14.02-001","ФСЭМ-2022 доп.7, 91.14.02-001, приказ Минстроя России от 02.08.2023 г. № 551/пр","Автомобили бортовые, грузоподъемность до 5 т",1368,null,1011,"маш.-ч","маш.-ч",1,null,null,null,null,null,0,-1152394969,0.61,null,0,641.70000000000005,811.79,0,0,641.70000000000005,811.79,0,1,1,1,1,-2,0,0,1,1,0,"",0.61,"",1,2,85315949,1,0,154,1,0,0,0,0,0,0,0,0,391.43700000000001,495.19189999999998,0,0,0.61,1,0,391.43700000000001,495.19189999999998,0,0,0.61,1,null,null,null,null,null,null,null,null,null,null,null,null,null,null,null,null,null,null,null,null,null,null,null,null,0,{"$f":"ROUND(Y154*Source!I93*DO154,7)","v":0},{"$f":"ROUND(Y154*Source!I93,7)","v":0},{"$f":"AB154","v":641.70000000000005},{"$f":"AF154","v":641.70000000000005},{"$f":"AJ154","v":1},391.44,495.19,"","",0,{"$f":"ROUND(ROUND(AF154,2)*CX154,2)","v":0},0,0,{"$f":"DG154+DH154","v":0},1,"4-100-040",4,"чел.-ч.",1]
[{"$f":"ROW(Source!A93)","v":93},85312298,85315925,77375900,1,1,1,3,"01.3.01.06-0038","ФСБЦ-2022, 01.3.01.06-0038, приказ Минстроя России от 18.05.2022 г. № 378/пр","Смазка защитная электросетевая",1346,null,1009,"кг","кг",1,null,null,null,null,null,0,-1628490559,0.1,null,381.26,0,0,0,238.29,0,0,0,1.6,1,1,1,2,0,0,1,1,0,"",0.1,"",0,2,85315950,1,0,155,1,0,0,0,0,0,0,0,23.829000000000001,0,0,0,0,0,1,23.829000000000001,0,0,0,0,0,1,null,null,null,null,null,null,null,null,null,null,null,null,null,null,null,null,null,null,null,null,null,null,null,null,0,0,{"$f":"ROUND(Y155*Source!I93,7)","v":0},{"$f":"AA155","v":381.26},{"$f":"AE155","v":238.29},{"$f":"AI155","v":1.6},23.83,0,"","",{"$f":"ROUND(ROUND(AE155*AI155,2)*CX155,2)","v":0},0,0,0,{"$f":"DF155","v":0},0,"",0,"",0]
[{"$f":"ROW(Source!A93)","v":93},85312298,85315925,77375907,1,1,1,3,"01.3.01.06-0051","ФСБЦ-2022 доп.12, 01.3.01.06-0051, приказ Минстроя России от 07.11.2024 г. № 747/пр","Смазка солидол жировой Ж",1346,null,1009,"кг","кг",1,null,null,null,null,null,0,-479354107,0.03,null,93.65,0,0,0,58.53,0,0,0,1.6,1,1,1,2,0,0,1,1,0,"",0.03,"",0,2,85315951,1,0,156,1,0,0,0,0,0,0,0,1.7559,0,0,0,0,0,1,1.7559,0,0,0,0,0,1,null,null,null,null,null,null,null,null,null,null,null,null,null,null,null,null,null,null,null,null,null,null,null,null,0,0,{"$f":"ROUND(Y156*Source!I93,7)","v":0},93.65,58.53,1.6,1.76,0,"","",{"$f":"ROUND(ROUND(AE156*AI156,2)*CX156,2)","v":0},0,0,0,0,0,"",0,"",0]
[{"$f":"ROW(Source!A93)","v":93},85312298,85315925,77379558,1,1,1,3,"01.7.15.03-0042","ФСБЦ-2022, 01.7.15.03-0042, приказ Минстроя России от 18.05.2022 г. № 378/пр","Болты с гайками и шайбами строительные",1346,null,1009,"кг","кг",1,null,null,null,null,null,0,1181962216,0,null,188.92,0,0,0,174.93,0,0,0,1.08,1,1,1,2,1,0,1,0,0,"",0,"",0,2,85315952,1,0,157,0,0,0,0,0,0,0,0,0,0,0,0,0,0,0,0,0,0,0,0,0,0,null,null,null,null,null,null,null,null,null,null,null,null,null,null,null,null,null,null,null,null,null,null,null,null,0,0,{"$f":"ROUND(Y157*Source!I93,7)","v":0},188.92,174.93,1.08,0,0,"","",{"$f":"ROUND(ROUND(AE157*AI157,2)*CX157,2)","v":0},0,0,0,0,0,"",0,"",0]
[{"$f":"ROW(Source!A93)","v":93},85312298,85315925,77380691,1,1,1,3,"01.7.20.08-0051","ФСБЦ-2022 доп.8, 01.7.20.08-0051, приказ Минстроя России от 14.11.2023 г. № 817/пр","Ветошь хлопчатобумажная цветная",1346,null,1009,"кг","кг",1,null,null,null,null,null,0,-130701290,0.02,null,86.41,0,0,0,56.11,0,0,0,1.54,1,1,1,2,0,0,1,1,0,"",0.02,"",0,2,85315953,1,0,158,1,0,0,0,0,0,0,0,1.1222000000000001,0,0,0,0,0,1,1.1222000000000001,0,0,0,0,0,1,null,null,null,null,null,null,null,null,null,null,null,null,null,null,null,null,null,null,null,null,null,null,null,null,0,0,{"$f":"ROUND(Y158*Source!I93,7)","v":0},86.41,56.11,1.54,1.1200000000000001,0,"","",{"$f":"ROUND(ROUND(AE158*AI158,2)*CX158,2)","v":0},0,0,0,0,0,"",0,"",0]
[{"$f":"ROW(Source!A93)","v":93},85312298,85315925,77307877,114,1,1,3,"05.1.02.07","","Стойка железобетонная вибрированная для опор",1371,null,1013,"ШТ","ШТ",1,null,null,null,null,null,0,457934895,0,null,0,0,0,0,0,0,0,0,1,1,1,1,-2,1,0,1,0,0,"",0,"",0,2,85315954,1,0,159,0,0,0,0,0,0,0,0,0,0,0,0,0,0,0,0,0,0,0,0,0,0,null,null,null,null,null,null,null,null,null,null,null,null,null,null,null,null,null,null,null,null,null,null,null,null,0,0,{"$f":"ROUND(Y159*Source!I93,7)","v":0},0,0,1,0,0,"","",{"$f":"ROUND(ROUND(AE159,2)*CX159,2)","v":0},0,0,0,0,0,"",0,"",0]
[{"$f":"ROW(Source!A93)","v":93},85312298,85315925,77308556,114,1,1,3,"07.2.02.05","","Траверсы стальные",1348,null,1009,"т","т",1000,null,null,null,null,null,0,1602794472,0,null,0,0,0,0,0,0,0,0,1,1,1,1,-2,1,0,1,0,0,"",0,"",0,2,85315955,1,0,160,0,0,0,0,0,0,0,0,0,0,0,0,0,0,0,0,0,0,0,0,0,0,null,null,null,null,null,null,null,null,null,null,null,null,null,null,null,null,null,null,null,null,null,null,null,null,0,0,{"$f":"ROUND(Y160*Source!I93,7)","v":0},0,0,1,0,0,"","",{"$f":"ROUND(ROUND(AE160,2)*CX160,2)","v":0},0,0,0,0,0,"",0,"",0]
[{"$f":"ROW(Source!A93)","v":93},85312298,85315925,77308705,114,1,1,3,"07.2.07.13","","Хомуты стальные",1346,null,1009,"кг","кг",1,null,null,null,null,null,0,-1111733769,0,null,0,0,0,0,0,0,0,0,1,1,1,1,-2,1,0,1,0,0,"",0,"",0,2,85315956,1,0,161,0,0,0,0,0,0,0,0,0,0,0,0,0,0,0,0,0,0,0,0,0,0,null,null,null,null,null,null,null,null,null,null,null,null,null,null,null,null,null,null,null,null,null,null,null,null,0,0,{"$f":"ROUND(Y161*Source!I93,7)","v":0},0,0,1,0,0,"","",{"$f":"ROUND(ROUND(AE161,2)*CX161,2)","v":0},0,0,0,0,0,"",0,"",0]
[{"$f":"ROW(Source!A93)","v":93},85312298,85315925,77309038,114,1,1,3,"08.3.04.02","","Сталь стержневая диаметром до 10 мм",1348,null,1009,"т","т",1000,null,null,null,null,null,0,1613753229,0,null,0,0,0,0,0,0,0,0,1,1,1,1,-2,1,0,1,0,0,"",0,"",0,2,85315957,1,0,162,0,0,0,0,0,0,0,0,0,0,0,0,0,0,0,0,0,0,0,0,0,0,null,null,null,null,null,null,null,null,null,null,null,null,null,null,null,null,null,null,null,null,null,null,null,null,0,0,{"$f":"ROUND(Y162*Source!I93,7)","v":0},0,0,1,0,0,"","",{"$f":"ROUND(ROUND(AE162,2)*CX162,2)","v":0},0,0,0,0,0,"",0,"",0]
[{"$f":"ROW(Source!A93)","v":93},85312298,85315925,77397232,1,1,1,3,"14.4.02.04-0182","ФСБЦ-2022, 14.4.02.04-0182, приказ Минстроя России от 18.05.2022 г. № 378/пр","Краска масляная МА-15, цветная",1348,null,1009,"т","т",1000,null,null,null,null,null,0,-460826109,0,null,88222.16,0,0,0,61265.39,0,0,0,1.44,1,1,1,2,0,0,1,1,0,"",0,"",0,2,85315958,1,6144,163,1,0,0,0,0,0,0,0,0,0,0,0,0,0,0,0,0,0,0,0,0,0,null,null,null,null,null,null,null,null,null,null,null,null,null,null,null,null,null,null,null,null,null,null,null,null,0,0,{"$f":"ROUND(Y163*Source!I93,7)","v":0},88222.16,61265.39,1.44,0,0,"","",{"$f":"ROUND(ROUND(AE163*AI163,2)*CX163,2)","v":0},0,0,0,0,0,"",0,"",0]
[{"$f":"ROW(Source!A93)","v":93},85312298,85315925,77397258,1,1,1,3,"14.4.03.03-0102","ФСБЦ-2022 доп.4, 14.4.03.03-0102, приказ Минстроя России от 27.12.2022 г. № 1133/пр","Лак битумный БТ-577",1348,null,1009,"т","т",1000,null,null,null,null,null,0,1215516986,1E-4,null,103227.06,0,0,0,80020.98,0,0,0,1.29,1,1,1,2,0,0,1,1,0,"",1E-4,"",0,2,85315959,1,0,164,1,0,0,0,0,0,0,0,8.0020980000000002,0,0,0,0,0,1,8.0020980000000002,0,0,0,0,0,1,null,null,null,null,null,null,null,null,null,null,null,null,null,null,null,null,null,null,null,null,null,null,null,null,0,0,{"$f":"ROUND(Y164*Source!I93,7)","v":0},103227.06,80020.98,1.29,8,0,"","",{"$f":"ROUND(ROUND(AE164*AI164,2)*CX164,2)","v":0},0,0,0,0,0,"",0,"",0]
[{"$f":"ROW(Source!A93)","v":93},85312298,85315925,77404679,1,1,1,3,"20.2.02.04-0006","ФСБЦ-2022, 20.2.02.04-0006, приказ Минстроя России от 18.05.2022 г. № 378/пр","Колпачки полиэтиленовые К-6",1425,null,1013,"100 ШТ","100 ШТ",1,null,null,null,null,null,0,600080833,0,null,1351.57,0,0,0,1031.73,0,0,0,1.31,1,1,1,2,0,0,1,1,0,"",0,"",0,2,85315960,1,6144,165,1,0,0,0,0,0,0,0,0,0,0,0,0,0,0,0,0,0,0,0,0,0,null,null,null,null,null,null,null,null,null,null,null,null,null,null,null,null,null,null,null,null,null,null,null,null,0,0,{"$f":"ROUND(Y165*Source!I93,7)","v":0},1351.57,1031.73,1.31,0,0,"","",{"$f":"ROUND(ROUND(AE165*AI165,2)*CX165,2)","v":0},0,0,0,0,0,"",0,"",0]
[{"$f":"ROW(Source!A93)","v":93},85312298,85315925,77311321,114,1,1,3,"22.2.01.04","","Изоляторы штыревые",1371,null,1013,"ШТ","ШТ",1,null,null,null,null,null,0,-950997571,0,null,0,0,0,0,0,0,0,0,1,1,1,1,-2,1,0,1,0,0,"",0,"",0,2,85315961,1,0,166,0,0,0,0,0,0,0,0,0,0,0,0,0,0,0,0,0,0,0,0,0,0,null,null,null,null,null,null,null,null,null,null,null,null,null,null,null,null,null,null,null,null,null,null,null,null,0,0,{"$f":"ROUND(Y166*Source!I93,7)","v":0},0,0,1,0,0,"","",{"$f":"ROUND(ROUND(AE166,2)*CX166,2)","v":0},0,0,0,0,0,"",0,"",0]
[{"$f":"ROW(Source!A93)","v":93},85312298,85315925,77311334,114,1,1,3,"22.2.02.07","","Детали крепления стальные",1346,null,1009,"кг","кг",1,null,null,null,null,null,0,-1307724210,0,null,0,0,0,0,0,0,0,0,1,1,1,1,-2,1,0,1,0,0,"",0,"",0,2,85315962,1,0,167,0,0,0,0,0,0,0,0,0,0,0,0,0,0,0,0,0,0,0,0,0,0,null,null,null,null,null,null,null,null,null,null,null,null,null,null,null,null,null,null,null,null,null,null,null,null,0,0,{"$f":"ROUND(Y167*Source!I93,7)","v":0},0,0,1,0,0,"","",0,0,0,0,0,0,"",0,"",0]
[{"$f":"ROW(Source!A93)","v":93},85312298,85315925,77311344,114,1,1,3,"22.2.02.09","","Детали крепления стальные",1346,null,1009,"кг","кг",1,null,null,null,null,null,0,644915416,0,null,0,0,0,0,0,0,0,0,1,1,1,1,-2,1,0,1,0,0,"",0,"",0,2,85315963,1,0,168,0,0,0,0,0,0,0,0,0,0,0,0,0,0,0,0,0,0,0,0,0,0,null,null,null,null,null,null,null,null,null,null,null,null,null,null,null,null,null,null,null,null,null,null,null,null,0,0,{"$f":"ROUND(Y168*Source!I93,7)","v":0},0,0,1,0,0,"","",0,0,0,0,0,0,"",0,"",0]
[{"$f":"ROW(Source!A93)","v":93},85312298,85315925,77311366,114,1,1,3,"22.2.02.21","","Штыри",1371,null,1013,"ШТ","ШТ",1,null,null,null,null,null,0,-320198552,0,null,0,0,0,0,0,0,0,0,1,1,1,1,-2,1,0,1,0,0,"",0,"",0,2,85315964,1,0,169,0,0,0,0,0,0,0,0,0,0,0,0,0,0,0,0,0,0,0,0,0,0,null,null,null,null,null,null,null,null,null,null,null,null,null,null,null,null,null,null,null,null,null,null,null,null,0,0,{"$f":"ROUND(Y169*Source!I93,7)","v":0},0,0,1,0,0,"","",0,0,0,0,0,0,"",0,"",0]
[{"$f":"ROW(Source!A93)","v":93},85312298,85315925,77311370,114,1,1,3,"22.2.02.23","","Металлические плакаты",1371,null,1013,"ШТ","ШТ",1,null,null,null,null,null,0,326010188,0,null,0,0,0,0,0,0,0,0,1,1,1,1,-2,1,0,1,0,0,"",0,"",0,2,85315965,1,0,170,0,0,0,0,0,0,0,0,0,0,0,0,0,0,0,0,0,0,0,0,0,0,null,null,null,null,null,null,null,null,null,null,null,null,null,null,null,null,null,null,null,null,null,null,null,null,0,0,{"$f":"ROUND(Y170*Source!I93,7)","v":0},0,0,1,0,0,"","",0,0,0,0,0,0,"",0,"",0]
[{"$f":"ROW(Source!A115)","v":115},85312357,85315977,83777501,117,1,1,1,"1-100-33","","Средний разряд работы 3,3",1191,null,1013,"чел.-ч.","чел.-ч.",1,null,null,null,null,null,0,32079103,{"$f":"(AT171*ROUND((0.2+1),7))","v":7.1760000000000002},null,0,0,0,748.18,0,0,0,748.18,1,1,1,1,-2,0,0,1,1,0,"",5.98,"*(0,2+1)",1,2,85315997,1,0,171,1,0,0,0,0,0,0,0,0,0,0,4474.1163999999999,5.98,0,1,0,0,0,5368.9396799999995,7.1760000000000002,0,1,null,null,null,null,null,null,null,null,null,null,null,null,null,null,null,null,null,null,null,null,null,null,null,{"$f":"ROUND(AT171*Source!I115*AH171*AL171,2)","v":0},{"$f":"ROUND(Y171*Source!I115,7)","v":0},0,{"$f":"ROUND(Y171*Source!I115,7)","v":0},{"$f":"AD171","v":748.18},{"$f":"AH171","v":748.18},{"$f":"AL171","v":1},{"$f":"ROUND((ROUND(AT171*CZ171,2)*ROUND((0.2+1),7)),2)","v":5368.94},{"$f":"ROUND((ROUND(AT171*AG171,2)*ROUND((0.2+1),7)),2)","v":0},"","",0,0,0,0,{"$f":"DI171","v":0},1,"",0,"",0]
[{"$f":"ROW(Source!A115)","v":115},85312357,85315977,83777689,117,1,1,1,"4-100-00","","Затраты труда машинистов",1191,null,1013,"чел.-ч.","чел.-ч.",1,null,null,null,null,null,0,-1417349443,{"$f":"(AT172*ROUND((0.2+1),7))","v":2.4},null,0,0,0,0,0,0,0,0,1,1,1,1,-2,0,0,1,1,0,"",2,"*(0,2+1)",2,2,85315998,1,0,172,1,0,0,0,0,0,0,0,0,0,0,0,0,0,0,0,0,0,0,0,0,0,null,null,null,null,null,null,null,null,null,null,null,null,null,null,null,null,null,null,null,null,null,null,null,null,0,0,{"$f":"ROUND(Y172*Source!I115,7)","v":0},{"$f":"AD172","v":0},{"$f":"AH172","v":0},{"$f":"AL172","v":1},{"$f":"ROUND((ROUND(AT172*CZ172,2)*ROUND((0.2+1),7)),2)","v":0},{"$f":"ROUND((ROUND(AT172*AG172,2)*ROUND((0.2+1),7)),2)","v":0},"","",0,0,0,0,{"$f":"DI172","v":0},0,"",0,"",0]
[{"$f":"ROW(Source!A115)","v":115},85312357,85315977,83784065,1,1,1,2,"91.04.01-031","ФСЭМ-2022 доп.11, 91.04.01-031, приказ Минстроя России от 07.11.2024 г. № 747/пр","Машины бурильно-крановые на автомобильном ходу, диаметр бурения до 800 мм, глубина бурения до 5 м",1368,null,1011,"маш.-ч","маш.-ч",1,null,null,null,null,null,0,843131152,{"$f":"(AT173*ROUND((0.2+1),7))","v":1.92},null,0,2736.29,932.95,0,0,2088.77,932.95,0,1,1.31,1,1,2,0,0,1,1,0,"",1.6,"*(0,2+1)",1,2,85315999,1,0,173,1,0,0,0,0,0,0,0,0,3342.0320000000002,1492.7200000000003,0,0,1.6,1,0,4010.4384,1791.2640000000001,0,0,1.92,1,null,null,null,null,null,null,null,null,null,null,null,null,null,null,null,null,null,null,null,null,null,null,null,null,0,{"$f":"ROUND(Y173*Source!I115*DO173,7)","v":0},{"$f":"ROUND(Y173*Source!I115,7)","v":0},{"$f":"AB173","v":2736.29},{"$f":"AF173","v":2088.77},{"$f":"AJ173","v":1.31},{"$f":"ROUND((ROUND(AT173*CZ173,2)*ROUND((0.2+1),7)),2)","v":4010.44},{"$f":"ROUND((ROUND(AT173*AG173,2)*ROUND((0.2+1),7)),2)","v":1791.26},"","",0,{"$f":"ROUND(ROUND(AF173*AJ173,2)*CX173,2)","v":0},0,0,{"$f":"DG173+DH173","v":0},0,"4-100-050",5,"чел.-ч.",1]
[{"$f":"ROW(Source!A115)","v":115},85312357,85315977,83785072,1,1,1,2,"91.14.02-001","ФСЭМ-2022 доп.7, 91.14.02-001, приказ Минстроя России от 02.08.2023 г. № 551/пр","Автомобили бортовые, грузоподъемность до 5 т",1368,null,1011,"маш.-ч","маш.-ч",1,null,null,null,null,null,0,-849950259,{"$f":"(AT174*ROUND((0.2+1),7))","v":0.48},null,0,641.70000000000005,811.79,0,0,641.70000000000005,811.79,0,1,1,1,1,-2,0,0,1,1,0,"",0.4,"*(0,2+1)",1,2,85316000,1,0,174,1,0,0,0,0,0,0,0,0,256.68,324.71600000000001,0,0,0.4,1,0,308.01600000000002,389.65919999999994,0,0,0.48,1,null,null,null,null,null,null,null,null,null,null,null,null,null,null,null,null,null,null,null,null,null,null,null,null,0,{"$f":"ROUND(Y174*Source!I115*DO174,7)","v":0},{"$f":"ROUND(Y174*Source!I115,7)","v":0},{"$f":"AB174","v":641.70000000000005},{"$f":"AF174","v":641.70000000000005},{"$f":"AJ174","v":1},{"$f":"ROUND((ROUND(AT174*CZ174,2)*ROUND((0.2+1),7)),2)","v":308.02},{"$f":"ROUND((ROUND(AT174*AG174,2)*ROUND((0.2+1),7)),2)","v":389.66},"","",0,{"$f":"ROUND(ROUND(AF174,2)*CX174,2)","v":0},0,0,{"$f":"DG174+DH174","v":0},1,"4-100-040",4,"чел.-ч.",1]
[{"$f":"ROW(Source!A115)","v":115},85312357,85315977,83849794,1,1,1,3,"01.3.01.06-0038","ФСБЦ-2022 доп.17, 01.3.01.06-0038, приказ Минстроя России от 17.02.2026 г. № 91/пр","Смазка защитная электросетевая",1346,null,1009,"кг","кг",1,null,null,null,null,null,0,-897919439,{"$f":"AT175","v":0.1},null,296.69,0,0,0,185.43,0,0,0,1.6,1,1,1,2,0,0,1,1,0,"",0.1,"",0,2,85316001,1,0,175,1,0,0,0,0,0,0,0,18.543000000000003,0,0,0,0,0,1,18.543000000000003,0,0,0,0,0,1,null,null,null,null,null,null,null,null,null,null,null,null,null,null,null,null,null,null,null,null,null,null,null,null,0,0,{"$f":"ROUND(Y175*Source!I115,7)","v":0},{"$f":"AA175","v":296.69},{"$f":"AE175","v":185.43},{"$f":"AI175","v":1.6},{"$f":"ROUND(ROUND(AT175*CZ175,2),2)","v":18.54},{"$f":"ROUND(ROUND(AT175*AG175,2),2)","v":0},"","",{"$f":"ROUND(ROUND(AE175*AI175,2)*CX175,2)","v":0},0,0,0,{"$f":"DF175","v":0},0,"",0,"",0]
[{"$f":"ROW(Source!A115)","v":115},85312357,85315977,83849801,1,1,1,3,"01.3.01.06-0051","ФСБЦ-2022 доп.12, 01.3.01.06-0051, приказ Минстроя России от 07.11.2024 г. № 747/пр","Смазка солидол жировой Ж",1346,null,1009,"кг","кг",1,null,null,null,null,null,0,-1547825166,0.03,null,93.65,0,0,0,58.53,0,0,0,1.6,1,1,1,2,0,0,1,1,0,"",0.03,"",0,2,85316002,1,0,176,1,0,0,0,0,0,0,0,1.7559,0,0,0,0,0,1,1.7559,0,0,0,0,0,1,null,null,null,null,null,null,null,null,null,null,null,null,null,null,null,null,null,null,null,null,null,null,null,null,0,0,{"$f":"ROUND(Y176*Source!I115,7)","v":0},93.65,58.53,1.6,1.76,0,"","",{"$f":"ROUND(ROUND(AE176*AI176,2)*CX176,2)","v":0},0,0,0,0,0,"",0,"",0]
[{"$f":"ROW(Source!A115)","v":115},85312357,85315977,83853338,1,1,1,3,"01.7.15.03-0042","ФСБЦ-2022, 01.7.15.03-0042, приказ Минстроя России от 18.05.2022 г. № 378/пр","Болты с гайками и шайбами строительные",1346,null,1009,"кг","кг",1,null,null,null,null,null,0,-1131385474,0,null,188.92,0,0,0,174.93,0,0,0,1.08,1,1,1,0,1,0,1,0,0,"",0,"",0,2,85316003,1,0,177,0,0,0,0,0,0,0,0,0,0,0,0,0,0,0,0,0,0,0,0,0,0,null,null,null,null,null,null,null,null,null,null,null,null,null,null,null,null,null,null,null,null,null,null,null,null,0,0,{"$f":"ROUND(Y177*Source!I115,7)","v":0},188.92,174.93,1.08,0,0,"","",{"$f":"ROUND(ROUND(AE177*AI177,2)*CX177,2)","v":0},0,0,0,0,0,"",0,"",0]
[{"$f":"ROW(Source!A115)","v":115},85312357,85315977,83854484,1,1,1,3,"01.7.20.08-0051","ФСБЦ-2022 доп.8, 01.7.20.08-0051, приказ Минстроя России от 14.11.2023 г. № 817/пр","Ветошь хлопчатобумажная цветная",1346,null,1009,"кг","кг",1,null,null,null,null,null,0,-373327139,0.02,null,86.41,0,0,0,56.11,0,0,0,1.54,1,1,1,2,0,0,1,1,0,"",0.02,"",0,2,85316004,1,0,178,1,0,0,0,0,0,0,0,1.1222000000000001,0,0,0,0,0,1,1.1222000000000001,0,0,0,0,0,1,null,null,null,null,null,null,null,null,null,null,null,null,null,null,null,null,null,null,null,null,null,null,null,null,0,0,{"$f":"ROUND(Y178*Source!I115,7)","v":0},86.41,56.11,1.54,1.1200000000000001,0,"","",{"$f":"ROUND(ROUND(AE178*AI178,2)*CX178,2)","v":0},0,0,0,0,0,"",0,"",0]
[{"$f":"ROW(Source!A115)","v":115},85312357,85315977,83779061,117,1,1,3,"05.1.02.07","","Стойка железобетонная вибрированная для опор",1371,null,1013,"ШТ","ШТ",1,null,null,null,null,null,0,457934895,0,null,0,0,0,0,0,0,0,0,1,1,1,1,0,1,0,1,0,0,"",0,"",0,2,85316005,1,0,179,0,0,0,0,0,0,0,0,0,0,0,0,0,0,0,0,0,0,0,0,0,0,null,null,null,null,null,null,null,null,null,null,null,null,null,null,null,null,null,null,null,null,null,null,null,null,0,0,{"$f":"ROUND(Y179*Source!I115,7)","v":0},0,0,1,0,0,"","",{"$f":"ROUND(ROUND(AE179,2)*CX179,2)","v":0},0,0,0,0,0,"",0,"",0]
[{"$f":"ROW(Source!A115)","v":115},85312357,85315977,83779738,117,1,1,3,"07.2.02.05","","Траверсы стальные",1348,null,1009,"т","т",1000,null,null,null,null,null,0,1602794472,0,null,0,0,0,0,0,0,0,0,1,1,1,1,0,1,0,1,0,0,"",0,"",0,2,85316006,1,0,180,0,0,0,0,0,0,0,0,0,0,0,0,0,0,0,0,0,0,0,0,0,0,null,null,null,null,null,null,null,null,null,null,null,null,null,null,null,null,null,null,null,null,null,null,null,null,0,0,{"$f":"ROUND(Y180*Source!I115,7)","v":0},0,0,1,0,0,"","",{"$f":"ROUND(ROUND(AE180,2)*CX180,2)","v":0},0,0,0,0,0,"",0,"",0]
[{"$f":"ROW(Source!A115)","v":115},85312357,85315977,83779884,117,1,1,3,"07.2.07.13","","Хомуты стальные",1346,null,1009,"кг","кг",1,null,null,null,null,null,0,-1111733769,0,null,0,0,0,0,0,0,0,0,1,1,1,1,0,1,0,1,0,0,"",0,"",0,2,85316007,1,0,181,0,0,0,0,0,0,0,0,0,0,0,0,0,0,0,0,0,0,0,0,0,0,null,null,null,null,null,null,null,null,null,null,null,null,null,null,null,null,null,null,null,null,null,null,null,null,0,0,{"$f":"ROUND(Y181*Source!I115,7)","v":0},0,0,1,0,0,"","",{"$f":"ROUND(ROUND(AE181,2)*CX181,2)","v":0},0,0,0,0,0,"",0,"",0]
[{"$f":"ROW(Source!A115)","v":115},85312357,85315977,83780219,117,1,1,3,"08.3.04.02","","Сталь стержневая диаметром до 10 мм",1348,null,1009,"т","т",1000,null,null,null,null,null,0,1613753229,0,null,0,0,0,0,0,0,0,0,1,1,1,1,0,1,0,1,0,0,"",0,"",0,2,85316008,1,0,182,0,0,0,0,0,0,0,0,0,0,0,0,0,0,0,0,0,0,0,0,0,0,null,null,null,null,null,null,null,null,null,null,null,null,null,null,null,null,null,null,null,null,null,null,null,null,0,0,{"$f":"ROUND(Y182*Source!I115,7)","v":0},0,0,1,0,0,"","",{"$f":"ROUND(ROUND(AE182,2)*CX182,2)","v":0},0,0,0,0,0,"",0,"",0]
[{"$f":"ROW(Source!A115)","v":115},85312357,85315977,83870522,1,1,1,3,"14.4.02.04-0182","ФСБЦ-2022 доп.17, 14.4.02.04-0182, приказ Минстроя России от 17.02.2026 г. № 91/пр","Краска масляная МА-15, цветная",1346,null,1009,"кг","кг",1,null,null,null,null,null,0,1157836156,0.4,null,88.24,0,0,0,61.28,0,0,0,1.44,1,1,1,2,0,0,1,1,0,"",0.4,"",0,2,85316009,1,0,183,1,0,0,0,0,0,0,0,24.512,0,0,0,0,0,1,24.512,0,0,0,0,0,1,null,null,null,null,null,null,null,null,null,null,null,null,null,null,null,null,null,null,null,null,null,null,null,null,0,0,{"$f":"ROUND(Y183*Source!I115,7)","v":0},88.24,61.28,1.44,24.51,0,"","",{"$f":"ROUND(ROUND(AE183*AI183,2)*CX183,2)","v":0},0,0,0,0,0,"",0,"",0]
[{"$f":"ROW(Source!A115)","v":115},85312357,85315977,83870548,1,1,1,3,"14.4.03.03-0102","ФСБЦ-2022 доп.4, 14.4.03.03-0102, приказ Минстроя России от 27.12.2022 г. № 1133/пр","Лак битумный БТ-577",1348,null,1009,"т","т",1000,null,null,null,null,null,0,-615866360,1E-4,null,103227.06,0,0,0,80020.98,0,0,0,1.29,1,1,1,2,0,0,1,1,0,"",1E-4,"",0,2,85316010,1,0,184,1,0,0,0,0,0,0,0,8.0020980000000002,0,0,0,0,0,1,8.0020980000000002,0,0,0,0,0,1,null,null,null,null,null,null,null,null,null,null,null,null,null,null,null,null,null,null,null,null,null,null,null,null,0,0,{"$f":"ROUND(Y184*Source!I115,7)","v":0},103227.06,80020.98,1.29,8,0,"","",{"$f":"ROUND(ROUND(AE184*AI184,2)*CX184,2)","v":0},0,0,0,0,0,"",0,"",0]
[{"$f":"ROW(Source!A115)","v":115},85312357,85315977,83878170,1,1,1,3,"20.2.02.04-0006","ФСБЦ-2022, 20.2.02.04-0006, приказ Минстроя России от 18.05.2022 г. № 378/пр","Колпачки полиэтиленовые К-6",1425,null,1013,"100 ШТ","100 ШТ",1,null,null,null,null,null,0,-734153582,0.06,null,1351.57,0,0,0,1031.73,0,0,0,1.31,1,1,1,2,0,0,1,1,0,"",0.06,"",0,2,85316011,1,0,185,1,0,0,0,0,0,0,0,61.903799999999997,0,0,0,0,0,1,61.903799999999997,0,0,0,0,0,1,null,null,null,null,null,null,null,null,null,null,null,null,null,null,null,null,null,null,null,null,null,null,null,null,0,0,{"$f":"ROUND(Y185*Source!I115,7)","v":0},1351.57,1031.73,1.31,61.9,0,"","",{"$f":"ROUND(ROUND(AE185*AI185,2)*CX185,2)","v":0},0,0,0,0,0,"",0,"",0]
[{"$f":"ROW(Source!A115)","v":115},85312357,85315977,83782579,117,1,1,3,"22.2.01.04","","Изоляторы штыревые",1371,null,1013,"ШТ","ШТ",1,null,null,null,null,null,0,-950997571,0,null,0,0,0,0,0,0,0,0,1,1,1,1,0,1,0,1,0,0,"",0,"",0,2,85316012,1,0,186,0,0,0,0,0,0,0,0,0,0,0,0,0,0,0,0,0,0,0,0,0,0,null,null,null,null,null,null,null,null,null,null,null,null,null,null,null,null,null,null,null,null,null,null,null,null,0,0,{"$f":"ROUND(Y186*Source!I115,7)","v":0},0,0,1,0,0,"","",{"$f":"ROUND(ROUND(AE186,2)*CX186,2)","v":0},0,0,0,0,0,"",0,"",0]
[{"$f":"ROW(Source!A115)","v":115},85312357,85315977,83782592,117,1,1,3,"22.2.02.07","","Детали крепления",1346,null,1009,"кг","кг",1,null,null,null,null,null,0,-1204247626,0,null,0,0,0,0,0,0,0,0,1,1,1,1,0,1,0,1,0,0,"",0,"",0,2,85316013,1,0,187,0,0,0,0,0,0,0,0,0,0,0,0,0,0,0,0,0,0,0,0,0,0,null,null,null,null,null,null,null,null,null,null,null,null,null,null,null,null,null,null,null,null,null,null,null,null,0,0,{"$f":"ROUND(Y187*Source!I115,7)","v":0},0,0,1,0,0,"","",0,0,0,0,0,0,"",0,"",0]
[{"$f":"ROW(Source!A115)","v":115},85312357,85315977,83782625,117,1,1,3,"22.2.02.21","","Штыри",1371,null,1013,"ШТ","ШТ",1,null,null,null,null,null,0,-320198552,0,null,0,0,0,0,0,0,0,0,1,1,1,1,0,1,0,1,0,0,"",0,"",0,2,85316014,1,0,188,0,0,0,0,0,0,0,0,0,0,0,0,0,0,0,0,0,0,0,0,0,0,null,null,null,null,null,null,null,null,null,null,null,null,null,null,null,null,null,null,null,null,null,null,null,null,0,0,{"$f":"ROUND(Y188*Source!I115,7)","v":0},0,0,1,0,0,"","",0,0,0,0,0,0,"",0,"",0]
[{"$f":"ROW(Source!A115)","v":115},85312357,85315977,83782629,117,1,1,3,"22.2.02.23","","Металлические плакаты",1371,null,1013,"ШТ","ШТ",1,null,null,null,null,null,0,326010188,0,null,0,0,0,0,0,0,0,0,1,1,1,1,0,1,0,1,0,0,"",0,"",0,2,85316015,1,0,189,0,0,0,0,0,0,0,0,0,0,0,0,0,0,0,0,0,0,0,0,0,0,null,null,null,null,null,null,null,null,null,null,null,null,null,null,null,null,null,null,null,null,null,null,null,null,0,0,{"$f":"ROUND(Y189*Source!I115,7)","v":0},0,0,1,0,0,"","",0,0,0,0,0,0,"",0,"",0]
[{"$f":"ROW(Source!A116)","v":116},85312298,85315977,83777501,117,1,1,1,"1-100-33","","Средний разряд работы 3,3",1191,null,1013,"чел.-ч.","чел.-ч.",1,null,null,null,null,null,0,32079103,{"$f":"(AT190*ROUND((0.2+1),7))","v":7.1760000000000002},null,0,0,0,748.18,0,0,0,748.18,1,1,1,1,-2,0,0,1,1,0,"",5.98,"*(0,2+1)",1,2,85315997,1,0,190,1,0,0,0,0,0,0,0,0,0,0,4474.1163999999999,5.98,0,1,0,0,0,5368.9396799999995,7.1760000000000002,0,1,null,null,null,null,null,null,null,null,null,null,null,null,null,null,null,null,null,null,null,null,null,null,null,{"$f":"ROUND(AT190*Source!I116*AH190*AL190,2)","v":0},{"$f":"ROUND(Y190*Source!I116,7)","v":0},0,{"$f":"ROUND(Y190*Source!I116,7)","v":0},{"$f":"AD190","v":748.18},{"$f":"AH190","v":748.18},{"$f":"AL190","v":1},{"$f":"ROUND((ROUND(AT190*CZ190,2)*ROUND((0.2+1),7)),2)","v":5368.94},{"$f":"ROUND((ROUND(AT190*AG190,2)*ROUND((0.2+1),7)),2)","v":0},"","",0,0,0,0,{"$f":"DI190","v":0},1,"",0,"",0]
[{"$f":"ROW(Source!A116)","v":116},85312298,85315977,83777689,117,1,1,1,"4-100-00","","Затраты труда машинистов",1191,null,1013,"чел.-ч.","чел.-ч.",1,null,null,null,null,null,0,-1417349443,{"$f":"(AT191*ROUND((0.2+1),7))","v":2.4},null,0,0,0,0,0,0,0,0,1,1,1,1,-2,0,0,1,1,0,"",2,"*(0,2+1)",2,2,85315998,1,0,191,1,0,0,0,0,0,0,0,0,0,0,0,0,0,0,0,0,0,0,0,0,0,null,null,null,null,null,null,null,null,null,null,null,null,null,null,null,null,null,null,null,null,null,null,null,null,0,0,{"$f":"ROUND(Y191*Source!I116,7)","v":0},{"$f":"AD191","v":0},{"$f":"AH191","v":0},{"$f":"AL191","v":1},{"$f":"ROUND((ROUND(AT191*CZ191,2)*ROUND((0.2+1),7)),2)","v":0},{"$f":"ROUND((ROUND(AT191*AG191,2)*ROUND((0.2+1),7)),2)","v":0},"","",0,0,0,0,{"$f":"DI191","v":0},0,"",0,"",0]
[{"$f":"ROW(Source!A116)","v":116},85312298,85315977,83784065,1,1,1,2,"91.04.01-031","ФСЭМ-2022 доп.11, 91.04.01-031, приказ Минстроя России от 07.11.2024 г. № 747/пр","Машины бурильно-крановые на автомобильном ходу, диаметр бурения до 800 мм, глубина бурения до 5 м",1368,null,1011,"маш.-ч","маш.-ч",1,null,null,null,null,null,0,843131152,{"$f":"(AT192*ROUND((0.2+1),7))","v":1.92},null,0,2736.29,932.95,0,0,2088.77,932.95,0,1,1.31,1,1,2,0,0,1,1,0,"",1.6,"*(0,2+1)",1,2,85315999,1,0,192,1,0,0,0,0,0,0,0,0,3342.0320000000002,1492.7200000000003,0,0,1.6,1,0,4010.4384,1791.2640000000001,0,0,1.92,1,null,null,null,null,null,null,null,null,null,null,null,null,null,null,null,null,null,null,null,null,null,null,null,null,0,{"$f":"ROUND(Y192*Source!I116*DO192,7)","v":0},{"$f":"ROUND(Y192*Source!I116,7)","v":0},{"$f":"AB192","v":2736.29},{"$f":"AF192","v":2088.77},{"$f":"AJ192","v":1.31},{"$f":"ROUND((ROUND(AT192*CZ192,2)*ROUND((0.2+1),7)),2)","v":4010.44},{"$f":"ROUND((ROUND(AT192*AG192,2)*ROUND((0.2+1),7)),2)","v":1791.26},"","",0,{"$f":"ROUND(ROUND(AF192*AJ192,2)*CX192,2)","v":0},0,0,{"$f":"DG192+DH192","v":0},0,"4-100-050",5,"чел.-ч.",1]
[{"$f":"ROW(Source!A116)","v":116},85312298,85315977,83785072,1,1,1,2,"91.14.02-001","ФСЭМ-2022 доп.7, 91.14.02-001, приказ Минстроя России от 02.08.2023 г. № 551/пр","Автомобили бортовые, грузоподъемность до 5 т",1368,null,1011,"маш.-ч","маш.-ч",1,null,null,null,null,null,0,-849950259,{"$f":"(AT193*ROUND((0.2+1),7))","v":0.48},null,0,641.70000000000005,811.79,0,0,641.70000000000005,811.79,0,1,1,1,1,-2,0,0,1,1,0,"",0.4,"*(0,2+1)",1,2,85316000,1,0,193,1,0,0,0,0,0,0,0,0,256.68,324.71600000000001,0,0,0.4,1,0,308.01600000000002,389.65919999999994,0,0,0.48,1,null,null,null,null,null,null,null,null,null,null,null,null,null,null,null,null,null,null,null,null,null,null,null,null,0,{"$f":"ROUND(Y193*Source!I116*DO193,7)","v":0},{"$f":"ROUND(Y193*Source!I116,7)","v":0},{"$f":"AB193","v":641.70000000000005},{"$f":"AF193","v":641.70000000000005},{"$f":"AJ193","v":1},{"$f":"ROUND((ROUND(AT193*CZ193,2)*ROUND((0.2+1),7)),2)","v":308.02},{"$f":"ROUND((ROUND(AT193*AG193,2)*ROUND((0.2+1),7)),2)","v":389.66},"","",0,{"$f":"ROUND(ROUND(AF193,2)*CX193,2)","v":0},{"$f":"ROUND(ROUND(AG193,2)*CX193,2)","v":0},{"$f":"ROUND(ROUND(AH193,2)*CX193,2)","v":0},{"$f":"DG193+DH193","v":0},1,"4-100-040",4,"чел.-ч.",1]
[{"$f":"ROW(Source!A116)","v":116},85312298,85315977,83849794,1,1,1,3,"01.3.01.06-0038","ФСБЦ-2022 доп.17, 01.3.01.06-0038, приказ Минстроя России от 17.02.2026 г. № 91/пр","Смазка защитная электросетевая",1346,null,1009,"кг","кг",1,null,null,null,null,null,0,-897919439,{"$f":"AT194","v":0.1},null,296.69,0,0,0,185.43,0,0,0,1.6,1,1,1,2,0,0,1,1,0,"",0.1,"",0,2,85316001,1,0,194,1,0,0,0,0,0,0,0,18.543000000000003,0,0,0,0,0,1,18.543000000000003,0,0,0,0,0,1,null,null,null,null,null,null,null,null,null,null,null,null,null,null,null,null,null,null,null,null,null,null,null,null,0,0,{"$f":"ROUND(Y194*Source!I116,7)","v":0},{"$f":"AA194","v":296.69},{"$f":"AE194","v":185.43},{"$f":"AI194","v":1.6},{"$f":"ROUND(ROUND(AT194*CZ194,2),2)","v":18.54},{"$f":"ROUND(ROUND(AT194*AG194,2),2)","v":0},"","",{"$f":"ROUND(ROUND(AE194*AI194,2)*CX194,2)","v":0},0,0,0,{"$f":"DF194","v":0},0,"",0,"",0]
[{"$f":"ROW(Source!A116)","v":116},85312298,85315977,83849801,1,1,1,3,"01.3.01.06-0051","ФСБЦ-2022 доп.12, 01.3.01.06-0051, приказ Минстроя России от 07.11.2024 г. № 747/пр","Смазка солидол жировой Ж",1346,null,1009,"кг","кг",1,null,null,null,null,null,0,-1547825166,0.03,null,93.65,0,0,0,58.53,0,0,0,1.6,1,1,1,2,0,0,1,1,0,"",0.03,"",0,2,85316002,1,0,195,1,0,0,0,0,0,0,0,1.7559,0,0,0,0,0,1,1.7559,0,0,0,0,0,1,null,null,null,null,null,null,null,null,null,null,null,null,null,null,null,null,null,null,null,null,null,null,null,null,0,0,{"$f":"ROUND(Y195*Source!I116,7)","v":0},93.65,58.53,1.6,1.76,0,"","",{"$f":"ROUND(ROUND(AE195*AI195,2)*CX195,2)","v":0},0,0,0,0,0,"",0,"",0]
[{"$f":"ROW(Source!A116)","v":116},85312298,85315977,83853338,1,1,1,3,"01.7.15.03-0042","ФСБЦ-2022, 01.7.15.03-0042, приказ Минстроя России от 18.05.2022 г. № 378/пр","Болты с гайками и шайбами строительные",1346,null,1009,"кг","кг",1,null,null,null,null,null,0,-1131385474,0,null,188.92,0,0,0,174.93,0,0,0,1.08,1,1,1,0,1,0,1,0,0,"",0,"",0,2,85316003,1,0,196,0,0,0,0,0,0,0,0,0,0,0,0,0,0,0,0,0,0,0,0,0,0,null,null,null,null,null,null,null,null,null,null,null,null,null,null,null,null,null,null,null,null,null,null,null,null,0,0,{"$f":"ROUND(Y196*Source!I116,7)","v":0},188.92,174.93,1.08,0,0,"","",{"$f":"ROUND(ROUND(AE196*AI196,2)*CX196,2)","v":0},0,0,0,0,0,"",0,"",0]
[{"$f":"ROW(Source!A116)","v":116},85312298,85315977,83854484,1,1,1,3,"01.7.20.08-0051","ФСБЦ-2022 доп.8, 01.7.20.08-0051, приказ Минстроя России от 14.11.2023 г. № 817/пр","Ветошь хлопчатобумажная цветная",1346,null,1009,"кг","кг",1,null,null,null,null,null,0,-373327139,0.02,null,86.41,0,0,0,56.11,0,0,0,1.54,1,1,1,2,0,0,1,1,0,"",0.02,"",0,2,85316004,1,0,197,1,0,0,0,0,0,0,0,1.1222000000000001,0,0,0,0,0,1,1.1222000000000001,0,0,0,0,0,1,null,null,null,null,null,null,null,null,null,null,null,null,null,null,null,null,null,null,null,null,null,null,null,null,0,0,{"$f":"ROUND(Y197*Source!I116,7)","v":0},86.41,56.11,1.54,1.1200000000000001,0,"","",{"$f":"ROUND(ROUND(AE197*AI197,2)*CX197,2)","v":0},0,0,0,0,0,"",0,"",0]
[{"$f":"ROW(Source!A116)","v":116},85312298,85315977,83779061,117,1,1,3,"05.1.02.07","","Стойка железобетонная вибрированная для опор",1371,null,1013,"ШТ","ШТ",1,null,null,null,null,null,0,457934895,0,null,0,0,0,0,0,0,0,0,1,1,1,1,0,1,0,1,0,0,"",0,"",0,2,85316005,1,0,198,0,0,0,0,0,0,0,0,0,0,0,0,0,0,0,0,0,0,0,0,0,0,null,null,null,null,null,null,null,null,null,null,null,null,null,null,null,null,null,null,null,null,null,null,null,null,0,0,{"$f":"ROUND(Y198*Source!I116,7)","v":0},0,0,1,0,0,"","",{"$f":"ROUND(ROUND(AE198,2)*CX198,2)","v":0},0,0,0,0,0,"",0,"",0]
[{"$f":"ROW(Source!A116)","v":116},85312298,85315977,83779738,117,1,1,3,"07.2.02.05","","Траверсы стальные",1348,null,1009,"т","т",1000,null,null,null,null,null,0,1602794472,0,null,0,0,0,0,0,0,0,0,1,1,1,1,0,1,0,1,0,0,"",0,"",0,2,85316006,1,0,199,0,0,0,0,0,0,0,0,0,0,0,0,0,0,0,0,0,0,0,0,0,0,null,null,null,null,null,null,null,null,null,null,null,null,null,null,null,null,null,null,null,null,null,null,null,null,0,0,{"$f":"ROUND(Y199*Source!I116,7)","v":0},0,0,1,0,0,"","",{"$f":"ROUND(ROUND(AE199,2)*CX199,2)","v":0},0,0,0,0,0,"",0,"",0]
[{"$f":"ROW(Source!A116)","v":116},85312298,85315977,83779884,117,1,1,3,"07.2.07.13","","Хомуты стальные",1346,null,1009,"кг","кг",1,null,null,null,null,null,0,-1111733769,0,null,0,0,0,0,0,0,0,0,1,1,1,1,0,1,0,1,0,0,"",0,"",0,2,85316007,1,0,200,0,0,0,0,0,0,0,0,0,0,0,0,0,0,0,0,0,0,0,0,0,0,null,null,null,null,null,null,null,null,null,null,null,null,null,null,null,null,null,null,null,null,null,null,null,null,0,0,{"$f":"ROUND(Y200*Source!I116,7)","v":0},0,0,1,0,0,"","",{"$f":"ROUND(ROUND(AE200,2)*CX200,2)","v":0},0,0,0,0,0,"",0,"",0]
[{"$f":"ROW(Source!A116)","v":116},85312298,85315977,83780219,117,1,1,3,"08.3.04.02","","Сталь стержневая диаметром до 10 мм",1348,null,1009,"т","т",1000,null,null,null,null,null,0,1613753229,0,null,0,0,0,0,0,0,0,0,1,1,1,1,0,1,0,1,0,0,"",0,"",0,2,85316008,1,0,201,0,0,0,0,0,0,0,0,0,0,0,0,0,0,0,0,0,0,0,0,0,0,null,null,null,null,null,null,null,null,null,null,null,null,null,null,null,null,null,null,null,null,null,null,null,null,0,0,{"$f":"ROUND(Y201*Source!I116,7)","v":0},0,0,1,0,0,"","",{"$f":"ROUND(ROUND(AE201,2)*CX201,2)","v":0},0,0,0,0,0,"",0,"",0]
[{"$f":"ROW(Source!A116)","v":116},85312298,85315977,83870522,1,1,1,3,"14.4.02.04-0182","ФСБЦ-2022 доп.17, 14.4.02.04-0182, приказ Минстроя России от 17.02.2026 г. № 91/пр","Краска масляная МА-15, цветная",1346,null,1009,"кг","кг",1,null,null,null,null,null,0,1157836156,0.4,null,88.24,0,0,0,61.28,0,0,0,1.44,1,1,1,2,0,0,1,1,0,"",0.4,"",0,2,85316009,1,0,202,1,0,0,0,0,0,0,0,24.512,0,0,0,0,0,1,24.512,0,0,0,0,0,1,null,null,null,null,null,null,null,null,null,null,null,null,null,null,null,null,null,null,null,null,null,null,null,null,0,0,{"$f":"ROUND(Y202*Source!I116,7)","v":0},88.24,61.28,1.44,24.51,0,"","",{"$f":"ROUND(ROUND(AE202*AI202,2)*CX202,2)","v":0},0,0,0,0,0,"",0,"",0]
[{"$f":"ROW(Source!A116)","v":116},85312298,85315977,83870548,1,1,1,3,"14.4.03.03-0102","ФСБЦ-2022 доп.4, 14.4.03.03-0102, приказ Минстроя России от 27.12.2022 г. № 1133/пр","Лак битумный БТ-577",1348,null,1009,"т","т",1000,null,null,null,null,null,0,-615866360,1E-4,null,103227.06,0,0,0,80020.98,0,0,0,1.29,1,1,1,2,0,0,1,1,0,"",1E-4,"",0,2,85316010,1,0,203,1,0,0,0,0,0,0,0,8.0020980000000002,0,0,0,0,0,1,8.0020980000000002,0,0,0,0,0,1,null,null,null,null,null,null,null,null,null,null,null,null,null,null,null,null,null,null,null,null,null,null,null,null,0,0,{"$f":"ROUND(Y203*Source!I116,7)","v":0},103227.06,80020.98,1.29,8,0,"","",{"$f":"ROUND(ROUND(AE203*AI203,2)*CX203,2)","v":0},0,0,0,0,0,"",0,"",0]
[{"$f":"ROW(Source!A116)","v":116},85312298,85315977,83878170,1,1,1,3,"20.2.02.04-0006","ФСБЦ-2022, 20.2.02.04-0006, приказ Минстроя России от 18.05.2022 г. № 378/пр","Колпачки полиэтиленовые К-6",1425,null,1013,"100 ШТ","100 ШТ",1,null,null,null,null,null,0,-734153582,0.06,null,1351.57,0,0,0,1031.73,0,0,0,1.31,1,1,1,2,0,0,1,1,0,"",0.06,"",0,2,85316011,1,0,204,1,0,0,0,0,0,0,0,61.903799999999997,0,0,0,0,0,1,61.903799999999997,0,0,0,0,0,1,null,null,null,null,null,null,null,null,null,null,null,null,null,null,null,null,null,null,null,null,null,null,null,null,0,0,{"$f":"ROUND(Y204*Source!I116,7)","v":0},1351.57,1031.73,1.31,61.9,0,"","",{"$f":"ROUND(ROUND(AE204*AI204,2)*CX204,2)","v":0},0,0,0,0,0,"",0,"",0]
[{"$f":"ROW(Source!A116)","v":116},85312298,85315977,83782579,117,1,1,3,"22.2.01.04","","Изоляторы штыревые",1371,null,1013,"ШТ","ШТ",1,null,null,null,null,null,0,-950997571,0,null,0,0,0,0,0,0,0,0,1,1,1,1,0,1,0,1,0,0,"",0,"",0,2,85316012,1,0,205,0,0,0,0,0,0,0,0,0,0,0,0,0,0,0,0,0,0,0,0,0,0,null,null,null,null,null,null,null,null,null,null,null,null,null,null,null,null,null,null,null,null,null,null,null,null,0,0,{"$f":"ROUND(Y205*Source!I116,7)","v":0},0,0,1,0,0,"","",{"$f":"ROUND(ROUND(AE205,2)*CX205,2)","v":0},0,0,0,0,0,"",0,"",0]
[{"$f":"ROW(Source!A116)","v":116},85312298,85315977,83782592,117,1,1,3,"22.2.02.07","","Детали крепления",1346,null,1009,"кг","кг",1,null,null,null,null,null,0,-1204247626,0,null,0,0,0,0,0,0,0,0,1,1,1,1,0,1,0,1,0,0,"",0,"",0,2,85316013,1,0,206,0,0,0,0,0,0,0,0,0,0,0,0,0,0,0,0,0,0,0,0,0,0,null,null,null,null,null,null,null,null,null,null,null,null,null,null,null,null,null,null,null,null,null,null,null,null,0,0,{"$f":"ROUND(Y206*Source!I116,7)","v":0},0,0,1,0,0,"","",0,0,0,0,0,0,"",0,"",0]
[{"$f":"ROW(Source!A116)","v":116},85312298,85315977,83782625,117,1,1,3,"22.2.02.21","","Штыри",1371,null,1013,"ШТ","ШТ",1,null,null,null,null,null,0,-320198552,0,null,0,0,0,0,0,0,0,0,1,1,1,1,0,1,0,1,0,0,"",0,"",0,2,85316014,1,0,207,0,0,0,0,0,0,0,0,0,0,0,0,0,0,0,0,0,0,0,0,0,0,null,null,null,null,null,null,null,null,null,null,null,null,null,null,null,null,null,null,null,null,null,null,null,null,0,0,{"$f":"ROUND(Y207*Source!I116,7)","v":0},0,0,1,0,0,"","",0,0,0,0,0,0,"",0,"",0]
[{"$f":"ROW(Source!A116)","v":116},85312298,85315977,83782629,117,1,1,3,"22.2.02.23","","Металлические плакаты",1371,null,1013,"ШТ","ШТ",1,null,null,null,null,null,0,326010188,0,null,0,0,0,0,0,0,0,0,1,1,1,1,0,1,0,1,0,0,"",0,"",0,2,85316015,1,0,208,0,0,0,0,0,0,0,0,0,0,0,0,0,0,0,0,0,0,0,0,0,0,null,null,null,null,null,null,null,null,null,null,null,null,null,null,null,null,null,null,null,null,null,null,null,null,0,0,{"$f":"ROUND(Y208*Source!I116,7)","v":0},0,0,1,0,0,"","",0,0,0,0,0,0,"",0,"",0]
[{"$f":"ROW(Source!A136)","v":136},85312357,85316026,83777501,117,1,1,1,"1-100-33","","Средний разряд работы 3,3",1191,null,1013,"чел.-ч.","чел.-ч.",1,null,null,null,null,null,0,32079103,4.55,null,0,0,0,748.18,0,0,0,748.18,1,1,1,1,-2,0,0,1,1,0,"",4.55,"",1,2,85316045,1,0,209,1,0,0,0,0,0,0,0,0,0,0,3404.2189999999996,4.55,0,1,0,0,0,3404.2189999999996,4.55,0,1,null,null,null,null,null,null,null,null,null,null,null,null,null,null,null,null,null,null,null,null,null,null,null,{"$f":"ROUND(AT209*Source!I136*AH209*AL209,2)","v":0},{"$f":"ROUND(Y209*Source!I136,7)","v":0},0,{"$f":"ROUND(Y209*Source!I136,7)","v":0},{"$f":"AD209","v":748.18},{"$f":"AH209","v":748.18},{"$f":"AL209","v":1},3404.22,0,"","",0,0,0,0,{"$f":"DI209","v":0},1,"",0,"",0]
[{"$f":"ROW(Source!A136)","v":136},85312357,85316026,83777689,117,1,1,1,"4-100-00","","Затраты труда машинистов",1191,null,1013,"чел.-ч.","чел.-ч.",1,null,null,null,null,null,0,-1417349443,0.99,null,0,0,0,0,0,0,0,0,1,1,1,1,-2,0,0,1,1,0,"",0.99,"",2,2,85316046,1,0,210,1,0,0,0,0,0,0,0,0,0,0,0,0,0,0,0,0,0,0,0,0,0,null,null,null,null,null,null,null,null,null,null,null,null,null,null,null,null,null,null,null,null,null,null,null,null,0,0,{"$f":"ROUND(Y210*Source!I136,7)","v":0},{"$f":"AD210","v":0},{"$f":"AH210","v":0},{"$f":"AL210","v":1},0,0,"","",0,0,0,0,{"$f":"DI210","v":0},0,"",0,"",0]
[{"$f":"ROW(Source!A136)","v":136},85312357,85316026,83784065,1,1,1,2,"91.04.01-031","ФСЭМ-2022 доп.11, 91.04.01-031, приказ Минстроя России от 07.11.2024 г. № 747/пр","Машины бурильно-крановые на автомобильном ходу, диаметр бурения до 800 мм, глубина бурения до 5 м",1368,null,1011,"маш.-ч","маш.-ч",1,null,null,null,null,null,0,843131152,0.71,null,0,2736.29,932.95,0,0,2088.77,932.95,0,1,1.31,1,1,2,0,0,1,1,0,"",0.71,"",1,2,85316047,1,0,211,1,0,0,0,0,0,0,0,0,1483.0266999999999,662.39449999999999,0,0,0.71,1,0,1483.0266999999999,662.39449999999999,0,0,0.71,1,null,null,null,null,null,null,null,null,null,null,null,null,null,null,null,null,null,null,null,null,null,null,null,null,0,{"$f":"ROUND(Y211*Source!I136*DO211,7)","v":0},{"$f":"ROUND(Y211*Source!I136,7)","v":0},{"$f":"AB211","v":2736.29},{"$f":"AF211","v":2088.77},{"$f":"AJ211","v":1.31},1483.03,662.39,"","",0,{"$f":"ROUND(ROUND(AF211*AJ211,2)*CX211,2)","v":0},0,0,{"$f":"DG211+DH211","v":0},0,"4-100-050",5,"чел.-ч.",1]
[{"$f":"ROW(Source!A136)","v":136},85312357,85316026,83785072,1,1,1,2,"91.14.02-001","ФСЭМ-2022 доп.7, 91.14.02-001, приказ Минстроя России от 02.08.2023 г. № 551/пр","Автомобили бортовые, грузоподъемность до 5 т",1368,null,1011,"маш.-ч","маш.-ч",1,null,null,null,null,null,0,-849950259,0.28000000000000003,null,0,641.70000000000005,811.79,0,0,641.70000000000005,811.79,0,1,1,1,1,-2,0,0,1,1,0,"",0.28000000000000003,"",1,2,85316048,1,0,212,1,0,0,0,0,0,0,0,0,179.67600000000002,227.30120000000002,0,0,0.28000000000000003,1,0,179.67600000000002,227.30120000000002,0,0,0.28000000000000003,1,null,null,null,null,null,null,null,null,null,null,null,null,null,null,null,null,null,null,null,null,null,null,null,null,0,{"$f":"ROUND(Y212*Source!I136*DO212,7)","v":0},{"$f":"ROUND(Y212*Source!I136,7)","v":0},{"$f":"AB212","v":641.70000000000005},{"$f":"AF212","v":641.70000000000005},{"$f":"AJ212","v":1},179.68,227.3,"","",0,{"$f":"ROUND(ROUND(AF212,2)*CX212,2)","v":0},0,0,{"$f":"DG212+DH212","v":0},1,"4-100-040",4,"чел.-ч.",1]
[{"$f":"ROW(Source!A136)","v":136},85312357,85316026,83849794,1,1,1,3,"01.3.01.06-0038","ФСБЦ-2022 доп.17, 01.3.01.06-0038, приказ Минстроя России от 17.02.2026 г. № 91/пр","Смазка защитная электросетевая",1346,null,1009,"кг","кг",1,null,null,null,null,null,0,-897919439,0.1,null,296.69,0,0,0,185.43,0,0,0,1.6,1,1,1,2,0,0,1,1,0,"",0.1,"",0,2,85316049,1,0,213,1,0,0,0,0,0,0,0,18.543000000000003,0,0,0,0,0,1,18.543000000000003,0,0,0,0,0,1,null,null,null,null,null,null,null,null,null,null,null,null,null,null,null,null,null,null,null,null,null,null,null,null,0,0,{"$f":"ROUND(Y213*Source!I136,7)","v":0},{"$f":"AA213","v":296.69},{"$f":"AE213","v":185.43},{"$f":"AI213","v":1.6},18.54,0,"","",{"$f":"ROUND(ROUND(AE213*AI213,2)*CX213,2)","v":0},0,0,0,{"$f":"DF213","v":0},0,"",0,"",0]
[{"$f":"ROW(Source!A136)","v":136},85312357,85316026,83849801,1,1,1,3,"01.3.01.06-0051","ФСБЦ-2022 доп.12, 01.3.01.06-0051, приказ Минстроя России от 07.11.2024 г. № 747/пр","Смазка солидол жировой Ж",1346,null,1009,"кг","кг",1,null,null,null,null,null,0,-1547825166,0.03,null,93.65,0,0,0,58.53,0,0,0,1.6,1,1,1,2,0,0,1,1,0,"",0.03,"",0,2,85316050,1,0,214,1,0,0,0,0,0,0,0,1.7559,0,0,0,0,0,1,1.7559,0,0,0,0,0,1,null,null,null,null,null,null,null,null,null,null,null,null,null,null,null,null,null,null,null,null,null,null,null,null,0,0,{"$f":"ROUND(Y214*Source!I136,7)","v":0},93.65,58.53,1.6,1.76,0,"","",{"$f":"ROUND(ROUND(AE214*AI214,2)*CX214,2)","v":0},0,0,0,0,0,"",0,"",0]
[{"$f":"ROW(Source!A136)","v":136},85312357,85316026,83853338,1,1,1,3,"01.7.15.03-0042","ФСБЦ-2022, 01.7.15.03-0042, приказ Минстроя России от 18.05.2022 г. № 378/пр","Болты с гайками и шайбами строительные",1346,null,1009,"кг","кг",1,null,null,null,null,null,0,-1131385474,0,null,188.92,0,0,0,174.93,0,0,0,1.08,1,1,1,0,1,0,1,0,0,"",0,"",0,2,85316051,1,0,215,0,0,0,0,0,0,0,0,0,0,0,0,0,0,0,0,0,0,0,0,0,0,null,null,null,null,null,null,null,null,null,null,null,null,null,null,null,null,null,null,null,null,null,null,null,null,0,0,{"$f":"ROUND(Y215*Source!I136,7)","v":0},188.92,174.93,1.08,0,0,"","",{"$f":"ROUND(ROUND(AE215*AI215,2)*CX215,2)","v":0},0,0,0,0,0,"",0,"",0]
[{"$f":"ROW(Source!A136)","v":136},85312357,85316026,83854484,1,1,1,3,"01.7.20.08-0051","ФСБЦ-2022 доп.8, 01.7.20.08-0051, приказ Минстроя России от 14.11.2023 г. № 817/пр","Ветошь хлопчатобумажная цветная",1346,null,1009,"кг","кг",1,null,null,null,null,null,0,-373327139,0.02,null,86.41,0,0,0,56.11,0,0,0,1.54,1,1,1,2,0,0,1,1,0,"",0.02,"",0,2,85316052,1,0,216,1,0,0,0,0,0,0,0,1.1222000000000001,0,0,0,0,0,1,1.1222000000000001,0,0,0,0,0,1,null,null,null,null,null,null,null,null,null,null,null,null,null,null,null,null,null,null,null,null,null,null,null,null,0,0,{"$f":"ROUND(Y216*Source!I136,7)","v":0},86.41,56.11,1.54,1.1200000000000001,0,"","",{"$f":"ROUND(ROUND(AE216*AI216,2)*CX216,2)","v":0},0,0,0,0,0,"",0,"",0]
[{"$f":"ROW(Source!A136)","v":136},85312357,85316026,83779061,117,1,1,3,"05.1.02.07","","Стойка железобетонная вибрированная для опор",1371,null,1013,"ШТ","ШТ",1,null,null,null,null,null,0,457934895,0,null,0,0,0,0,0,0,0,0,1,1,1,1,0,1,0,1,0,0,"",0,"",0,2,85316053,1,0,217,0,0,0,0,0,0,0,0,0,0,0,0,0,0,0,0,0,0,0,0,0,0,null,null,null,null,null,null,null,null,null,null,null,null,null,null,null,null,null,null,null,null,null,null,null,null,0,0,{"$f":"ROUND(Y217*Source!I136,7)","v":0},0,0,1,0,0,"","",{"$f":"ROUND(ROUND(AE217,2)*CX217,2)","v":0},0,0,0,0,0,"",0,"",0]
[{"$f":"ROW(Source!A136)","v":136},85312357,85316026,83779738,117,1,1,3,"07.2.02.05","","Траверсы стальные",1348,null,1009,"т","т",1000,null,null,null,null,null,0,1602794472,0,null,0,0,0,0,0,0,0,0,1,1,1,1,0,1,0,1,0,0,"",0,"",0,2,85316054,1,0,218,0,0,0,0,0,0,0,0,0,0,0,0,0,0,0,0,0,0,0,0,0,0,null,null,null,null,null,null,null,null,null,null,null,null,null,null,null,null,null,null,null,null,null,null,null,null,0,0,{"$f":"ROUND(Y218*Source!I136,7)","v":0},0,0,1,0,0,"","",{"$f":"ROUND(ROUND(AE218,2)*CX218,2)","v":0},0,0,0,0,0,"",0,"",0]
[{"$f":"ROW(Source!A136)","v":136},85312357,85316026,83779884,117,1,1,3,"07.2.07.13","","Хомуты стальные",1346,null,1009,"кг","кг",1,null,null,null,null,null,0,-1111733769,0,null,0,0,0,0,0,0,0,0,1,1,1,1,0,1,0,1,0,0,"",0,"",0,2,85316055,1,0,219,0,0,0,0,0,0,0,0,0,0,0,0,0,0,0,0,0,0,0,0,0,0,null,null,null,null,null,null,null,null,null,null,null,null,null,null,null,null,null,null,null,null,null,null,null,null,0,0,{"$f":"ROUND(Y219*Source!I136,7)","v":0},0,0,1,0,0,"","",{"$f":"ROUND(ROUND(AE219,2)*CX219,2)","v":0},0,0,0,0,0,"",0,"",0]
[{"$f":"ROW(Source!A136)","v":136},85312357,85316026,83780219,117,1,1,3,"08.3.04.02","","Сталь стержневая диаметром до 10 мм",1348,null,1009,"т","т",1000,null,null,null,null,null,0,1613753229,0,null,0,0,0,0,0,0,0,0,1,1,1,1,0,1,0,1,0,0,"",0,"",0,2,85316056,1,0,220,0,0,0,0,0,0,0,0,0,0,0,0,0,0,0,0,0,0,0,0,0,0,null,null,null,null,null,null,null,null,null,null,null,null,null,null,null,null,null,null,null,null,null,null,null,null,0,0,{"$f":"ROUND(Y220*Source!I136,7)","v":0},0,0,1,0,0,"","",{"$f":"ROUND(ROUND(AE220,2)*CX220,2)","v":0},0,0,0,0,0,"",0,"",0]
[{"$f":"ROW(Source!A136)","v":136},85312357,85316026,83870522,1,1,1,3,"14.4.02.04-0182","ФСБЦ-2022 доп.17, 14.4.02.04-0182, приказ Минстроя России от 17.02.2026 г. № 91/пр","Краска масляная МА-15, цветная",1346,null,1009,"кг","кг",1,null,null,null,null,null,0,1157836156,0,null,88.24,0,0,0,61.28,0,0,0,1.44,1,1,1,2,0,0,1,1,0,"",0,"",0,2,85316057,1,6144,221,1,0,0,0,0,0,0,0,0,0,0,0,0,0,0,0,0,0,0,0,0,0,null,null,null,null,null,null,null,null,null,null,null,null,null,null,null,null,null,null,null,null,null,null,null,null,0,0,{"$f":"ROUND(Y221*Source!I136,7)","v":0},88.24,61.28,1.44,0,0,"","",{"$f":"ROUND(ROUND(AE221*AI221,2)*CX221,2)","v":0},0,0,0,0,0,"",0,"",0]
[{"$f":"ROW(Source!A136)","v":136},85312357,85316026,83870548,1,1,1,3,"14.4.03.03-0102","ФСБЦ-2022 доп.4, 14.4.03.03-0102, приказ Минстроя России от 27.12.2022 г. № 1133/пр","Лак битумный БТ-577",1348,null,1009,"т","т",1000,null,null,null,null,null,0,-615866360,1E-4,null,103227.06,0,0,0,80020.98,0,0,0,1.29,1,1,1,2,0,0,1,1,0,"",1E-4,"",0,2,85316058,1,0,222,1,0,0,0,0,0,0,0,8.0020980000000002,0,0,0,0,0,1,8.0020980000000002,0,0,0,0,0,1,null,null,null,null,null,null,null,null,null,null,null,null,null,null,null,null,null,null,null,null,null,null,null,null,0,0,{"$f":"ROUND(Y222*Source!I136,7)","v":0},103227.06,80020.98,1.29,8,0,"","",{"$f":"ROUND(ROUND(AE222*AI222,2)*CX222,2)","v":0},0,0,0,0,0,"",0,"",0]
[{"$f":"ROW(Source!A136)","v":136},85312357,85316026,83878170,1,1,1,3,"20.2.02.04-0006","ФСБЦ-2022, 20.2.02.04-0006, приказ Минстроя России от 18.05.2022 г. № 378/пр","Колпачки полиэтиленовые К-6",1425,null,1013,"100 ШТ","100 ШТ",1,null,null,null,null,null,0,-734153582,0,null,1351.57,0,0,0,1031.73,0,0,0,1.31,1,1,1,2,0,0,1,1,0,"",0,"",0,2,85316059,1,6144,223,1,0,0,0,0,0,0,0,0,0,0,0,0,0,0,0,0,0,0,0,0,0,null,null,null,null,null,null,null,null,null,null,null,null,null,null,null,null,null,null,null,null,null,null,null,null,0,0,{"$f":"ROUND(Y223*Source!I136,7)","v":0},1351.57,1031.73,1.31,0,0,"","",{"$f":"ROUND(ROUND(AE223*AI223,2)*CX223,2)","v":0},0,0,0,0,0,"",0,"",0]
[{"$f":"ROW(Source!A136)","v":136},85312357,85316026,83782579,117,1,1,3,"22.2.01.04","","Изоляторы штыревые",1371,null,1013,"ШТ","ШТ",1,null,null,null,null,null,0,-950997571,0,null,0,0,0,0,0,0,0,0,1,1,1,1,0,1,0,1,0,0,"",0,"",0,2,85316060,1,0,224,0,0,0,0,0,0,0,0,0,0,0,0,0,0,0,0,0,0,0,0,0,0,null,null,null,null,null,null,null,null,null,null,null,null,null,null,null,null,null,null,null,null,null,null,null,null,0,0,{"$f":"ROUND(Y224*Source!I136,7)","v":0},0,0,1,0,0,"","",{"$f":"ROUND(ROUND(AE224,2)*CX224,2)","v":0},0,0,0,0,0,"",0,"",0]
[{"$f":"ROW(Source!A136)","v":136},85312357,85316026,83782625,117,1,1,3,"22.2.02.21","","Штыри",1371,null,1013,"ШТ","ШТ",1,null,null,null,null,null,0,-320198552,0,null,0,0,0,0,0,0,0,0,1,1,1,1,0,1,0,1,0,0,"",0,"",0,2,85316061,1,0,225,0,0,0,0,0,0,0,0,0,0,0,0,0,0,0,0,0,0,0,0,0,0,null,null,null,null,null,null,null,null,null,null,null,null,null,null,null,null,null,null,null,null,null,null,null,null,0,0,{"$f":"ROUND(Y225*Source!I136,7)","v":0},0,0,1,0,0,"","",0,0,0,0,0,0,"",0,"",0]
[{"$f":"ROW(Source!A136)","v":136},85312357,85316026,83782629,117,1,1,3,"22.2.02.23","","Металлические плакаты",1371,null,1013,"ШТ","ШТ",1,null,null,null,null,null,0,326010188,{"$f":"AT226","v":0},null,0,0,0,0,0,0,0,0,1,1,1,1,0,1,0,1,0,0,"",0,"",0,2,85316062,1,0,226,0,0,0,0,0,0,0,0,0,0,0,0,0,0,0,0,0,0,0,0,0,0,null,null,null,null,null,null,null,null,null,null,null,null,null,null,null,null,null,null,null,null,null,null,null,null,0,0,{"$f":"ROUND(Y226*Source!I136,7)","v":0},0,0,1,{"$f":"ROUND(ROUND(AT226*CZ226,2),2)","v":0},{"$f":"ROUND(ROUND(AT226*AG226,2),2)","v":0},"","",0,0,0,0,0,0,"",0,"",0]
[{"$f":"ROW(Source!A137)","v":137},85312298,85316026,83777501,117,1,1,1,"1-100-33","","Средний разряд работы 3,3",1191,null,1013,"чел.-ч.","чел.-ч.",1,null,null,null,null,null,0,32079103,4.55,null,0,0,0,748.18,0,0,0,748.18,1,1,1,1,-2,0,0,1,1,0,"",4.55,"",1,2,85316045,1,0,227,1,0,0,0,0,0,0,0,0,0,0,3404.2189999999996,4.55,0,1,0,0,0,3404.2189999999996,4.55,0,1,null,null,null,null,null,null,null,null,null,null,null,null,null,null,null,null,null,null,null,null,null,null,null,{"$f":"ROUND(AT227*Source!I137*AH227*AL227,2)","v":0},{"$f":"ROUND(Y227*Source!I137,7)","v":0},0,{"$f":"ROUND(Y227*Source!I137,7)","v":0},{"$f":"AD227","v":748.18},{"$f":"AH227","v":748.18},{"$f":"AL227","v":1},3404.22,0,"","",0,0,0,0,{"$f":"DI227","v":0},1,"",0,"",0]
[{"$f":"ROW(Source!A137)","v":137},85312298,85316026,83777689,117,1,1,1,"4-100-00","","Затраты труда машинистов",1191,null,1013,"чел.-ч.","чел.-ч.",1,null,null,null,null,null,0,-1417349443,0.99,null,0,0,0,0,0,0,0,0,1,1,1,1,-2,0,0,1,1,0,"",0.99,"",2,2,85316046,1,0,228,1,0,0,0,0,0,0,0,0,0,0,0,0,0,0,0,0,0,0,0,0,0,null,null,null,null,null,null,null,null,null,null,null,null,null,null,null,null,null,null,null,null,null,null,null,null,0,0,{"$f":"ROUND(Y228*Source!I137,7)","v":0},{"$f":"AD228","v":0},{"$f":"AH228","v":0},{"$f":"AL228","v":1},0,0,"","",0,0,0,0,{"$f":"DI228","v":0},0,"",0,"",0]
[{"$f":"ROW(Source!A137)","v":137},85312298,85316026,83784065,1,1,1,2,"91.04.01-031","ФСЭМ-2022 доп.11, 91.04.01-031, приказ Минстроя России от 07.11.2024 г. № 747/пр","Машины бурильно-крановые на автомобильном ходу, диаметр бурения до 800 мм, глубина бурения до 5 м",1368,null,1011,"маш.-ч","маш.-ч",1,null,null,null,null,null,0,843131152,0.71,null,0,2736.29,932.95,0,0,2088.77,932.95,0,1,1.31,1,1,2,0,0,1,1,0,"",0.71,"",1,2,85316047,1,0,229,1,0,0,0,0,0,0,0,0,1483.0266999999999,662.39449999999999,0,0,0.71,1,0,1483.0266999999999,662.39449999999999,0,0,0.71,1,null,null,null,null,null,null,null,null,null,null,null,null,null,null,null,null,null,null,null,null,null,null,null,null,0,{"$f":"ROUND(Y229*Source!I137*DO229,7)","v":0},{"$f":"ROUND(Y229*Source!I137,7)","v":0},{"$f":"AB229","v":2736.29},{"$f":"AF229","v":2088.77},{"$f":"AJ229","v":1.31},1483.03,662.39,"","",0,{"$f":"ROUND(ROUND(AF229*AJ229,2)*CX229,2)","v":0},0,0,{"$f":"DG229+DH229","v":0},0,"4-100-050",5,"чел.-ч.",1]
[{"$f":"ROW(Source!A137)","v":137},85312298,85316026,83785072,1,1,1,2,"91.14.02-001","ФСЭМ-2022 доп.7, 91.14.02-001, приказ Минстроя России от 02.08.2023 г. № 551/пр","Автомобили бортовые, грузоподъемность до 5 т",1368,null,1011,"маш.-ч","маш.-ч",1,null,null,null,null,null,0,-849950259,0.28000000000000003,null,0,641.70000000000005,811.79,0,0,641.70000000000005,811.79,0,1,1,1,1,-2,0,0,1,1,0,"",0.28000000000000003,"",1,2,85316048,1,0,230,1,0,0,0,0,0,0,0,0,179.67600000000002,227.30120000000002,0,0,0.28000000000000003,1,0,179.67600000000002,227.30120000000002,0,0,0.28000000000000003,1,null,null,null,null,null,null,null,null,null,null,null,null,null,null,null,null,null,null,null,null,null,null,null,null,0,{"$f":"ROUND(Y230*Source!I137*DO230,7)","v":0},{"$f":"ROUND(Y230*Source!I137,7)","v":0},{"$f":"AB230","v":641.70000000000005},{"$f":"AF230","v":641.70000000000005},{"$f":"AJ230","v":1},179.68,227.3,"","",0,{"$f":"ROUND(ROUND(AF230,2)*CX230,2)","v":0},0,0,{"$f":"DG230+DH230","v":0},1,"4-100-040",4,"чел.-ч.",1]
[{"$f":"ROW(Source!A137)","v":137},85312298,85316026,83849794,1,1,1,3,"01.3.01.06-0038","ФСБЦ-2022 доп.17, 01.3.01.06-0038, приказ Минстроя России от 17.02.2026 г. № 91/пр","Смазка защитная электросетевая",1346,null,1009,"кг","кг",1,null,null,null,null,null,0,-897919439,0.1,null,296.69,0,0,0,185.43,0,0,0,1.6,1,1,1,2,0,0,1,1,0,"",0.1,"",0,2,85316049,1,0,231,1,0,0,0,0,0,0,0,18.543000000000003,0,0,0,0,0,1,18.543000000000003,0,0,0,0,0,1,null,null,null,null,null,null,null,null,null,null,null,null,null,null,null,null,null,null,null,null,null,null,null,null,0,0,{"$f":"ROUND(Y231*Source!I137,7)","v":0},{"$f":"AA231","v":296.69},{"$f":"AE231","v":185.43},{"$f":"AI231","v":1.6},18.54,0,"","",{"$f":"ROUND(ROUND(AE231*AI231,2)*CX231,2)","v":0},0,0,0,{"$f":"DF231","v":0},0,"",0,"",0]
[{"$f":"ROW(Source!A137)","v":137},85312298,85316026,83849801,1,1,1,3,"01.3.01.06-0051","ФСБЦ-2022 доп.12, 01.3.01.06-0051, приказ Минстроя России от 07.11.2024 г. № 747/пр","Смазка солидол жировой Ж",1346,null,1009,"кг","кг",1,null,null,null,null,null,0,-1547825166,0.03,null,93.65,0,0,0,58.53,0,0,0,1.6,1,1,1,2,0,0,1,1,0,"",0.03,"",0,2,85316050,1,0,232,1,0,0,0,0,0,0,0,1.7559,0,0,0,0,0,1,1.7559,0,0,0,0,0,1,null,null,null,null,null,null,null,null,null,null,null,null,null,null,null,null,null,null,null,null,null,null,null,null,0,0,{"$f":"ROUND(Y232*Source!I137,7)","v":0},93.65,58.53,1.6,1.76,0,"","",{"$f":"ROUND(ROUND(AE232*AI232,2)*CX232,2)","v":0},0,0,0,0,0,"",0,"",0]
[{"$f":"ROW(Source!A137)","v":137},85312298,85316026,83853338,1,1,1,3,"01.7.15.03-0042","ФСБЦ-2022, 01.7.15.03-0042, приказ Минстроя России от 18.05.2022 г. № 378/пр","Болты с гайками и шайбами строительные",1346,null,1009,"кг","кг",1,null,null,null,null,null,0,-1131385474,0,null,188.92,0,0,0,174.93,0,0,0,1.08,1,1,1,0,1,0,1,0,0,"",0,"",0,2,85316051,1,0,233,0,0,0,0,0,0,0,0,0,0,0,0,0,0,0,0,0,0,0,0,0,0,null,null,null,null,null,null,null,null,null,null,null,null,null,null,null,null,null,null,null,null,null,null,null,null,0,0,{"$f":"ROUND(Y233*Source!I137,7)","v":0},188.92,174.93,1.08,0,0,"","",{"$f":"ROUND(ROUND(AE233*AI233,2)*CX233,2)","v":0},0,0,0,0,0,"",0,"",0]
[{"$f":"ROW(Source!A137)","v":137},85312298,85316026,83854484,1,1,1,3,"01.7.20.08-0051","ФСБЦ-2022 доп.8, 01.7.20.08-0051, приказ Минстроя России от 14.11.2023 г. № 817/пр","Ветошь хлопчатобумажная цветная",1346,null,1009,"кг","кг",1,null,null,null,null,null,0,-373327139,0.02,null,86.41,0,0,0,56.11,0,0,0,1.54,1,1,1,2,0,0,1,1,0,"",0.02,"",0,2,85316052,1,0,234,1,0,0,0,0,0,0,0,1.1222000000000001,0,0,0,0,0,1,1.1222000000000001,0,0,0,0,0,1,null,null,null,null,null,null,null,null,null,null,null,null,null,null,null,null,null,null,null,null,null,null,null,null,0,0,{"$f":"ROUND(Y234*Source!I137,7)","v":0},86.41,56.11,1.54,1.1200000000000001,0,"","",{"$f":"ROUND(ROUND(AE234*AI234,2)*CX234,2)","v":0},0,0,0,0,0,"",0,"",0]
[{"$f":"ROW(Source!A137)","v":137},85312298,85316026,83779061,117,1,1,3,"05.1.02.07","","Стойка железобетонная вибрированная для опор",1371,null,1013,"ШТ","ШТ",1,null,null,null,null,null,0,457934895,0,null,0,0,0,0,0,0,0,0,1,1,1,1,0,1,0,1,0,0,"",0,"",0,2,85316053,1,0,235,0,0,0,0,0,0,0,0,0,0,0,0,0,0,0,0,0,0,0,0,0,0,null,null,null,null,null,null,null,null,null,null,null,null,null,null,null,null,null,null,null,null,null,null,null,null,0,0,{"$f":"ROUND(Y235*Source!I137,7)","v":0},0,0,1,0,0,"","",{"$f":"ROUND(ROUND(AE235,2)*CX235,2)","v":0},0,0,0,0,0,"",0,"",0]
[{"$f":"ROW(Source!A137)","v":137},85312298,85316026,83779738,117,1,1,3,"07.2.02.05","","Траверсы стальные",1348,null,1009,"т","т",1000,null,null,null,null,null,0,1602794472,0,null,0,0,0,0,0,0,0,0,1,1,1,1,0,1,0,1,0,0,"",0,"",0,2,85316054,1,0,236,0,0,0,0,0,0,0,0,0,0,0,0,0,0,0,0,0,0,0,0,0,0,null,null,null,null,null,null,null,null,null,null,null,null,null,null,null,null,null,null,null,null,null,null,null,null,0,0,{"$f":"ROUND(Y236*Source!I137,7)","v":0},0,0,1,0,0,"","",{"$f":"ROUND(ROUND(AE236,2)*CX236,2)","v":0},0,0,0,0,0,"",0,"",0]
[{"$f":"ROW(Source!A137)","v":137},85312298,85316026,83779884,117,1,1,3,"07.2.07.13","","Хомуты стальные",1346,null,1009,"кг","кг",1,null,null,null,null,null,0,-1111733769,0,null,0,0,0,0,0,0,0,0,1,1,1,1,0,1,0,1,0,0,"",0,"",0,2,85316055,1,0,237,0,0,0,0,0,0,0,0,0,0,0,0,0,0,0,0,0,0,0,0,0,0,null,null,null,null,null,null,null,null,null,null,null,null,null,null,null,null,null,null,null,null,null,null,null,null,0,0,{"$f":"ROUND(Y237*Source!I137,7)","v":0},0,0,1,0,0,"","",{"$f":"ROUND(ROUND(AE237,2)*CX237,2)","v":0},0,0,0,0,0,"",0,"",0]
[{"$f":"ROW(Source!A137)","v":137},85312298,85316026,83780219,117,1,1,3,"08.3.04.02","","Сталь стержневая диаметром до 10 мм",1348,null,1009,"т","т",1000,null,null,null,null,null,0,1613753229,0,null,0,0,0,0,0,0,0,0,1,1,1,1,0,1,0,1,0,0,"",0,"",0,2,85316056,1,0,238,0,0,0,0,0,0,0,0,0,0,0,0,0,0,0,0,0,0,0,0,0,0,null,null,null,null,null,null,null,null,null,null,null,null,null,null,null,null,null,null,null,null,null,null,null,null,0,0,{"$f":"ROUND(Y238*Source!I137,7)","v":0},0,0,1,0,0,"","",{"$f":"ROUND(ROUND(AE238,2)*CX238,2)","v":0},0,0,0,0,0,"",0,"",0]
[{"$f":"ROW(Source!A137)","v":137},85312298,85316026,83870522,1,1,1,3,"14.4.02.04-0182","ФСБЦ-2022 доп.17, 14.4.02.04-0182, приказ Минстроя России от 17.02.2026 г. № 91/пр","Краска масляная МА-15, цветная",1346,null,1009,"кг","кг",1,null,null,null,null,null,0,1157836156,0,null,88.24,0,0,0,61.28,0,0,0,1.44,1,1,1,2,0,0,1,1,0,"",0,"",0,2,85316057,1,6144,239,1,0,0,0,0,0,0,0,0,0,0,0,0,0,0,0,0,0,0,0,0,0,null,null,null,null,null,null,null,null,null,null,null,null,null,null,null,null,null,null,null,null,null,null,null,null,0,0,{"$f":"ROUND(Y239*Source!I137,7)","v":0},88.24,61.28,1.44,0,0,"","",{"$f":"ROUND(ROUND(AE239*AI239,2)*CX239,2)","v":0},0,0,0,0,0,"",0,"",0]
[{"$f":"ROW(Source!A137)","v":137},85312298,85316026,83870548,1,1,1,3,"14.4.03.03-0102","ФСБЦ-2022 доп.4, 14.4.03.03-0102, приказ Минстроя России от 27.12.2022 г. № 1133/пр","Лак битумный БТ-577",1348,null,1009,"т","т",1000,null,null,null,null,null,0,-615866360,1E-4,null,103227.06,0,0,0,80020.98,0,0,0,1.29,1,1,1,2,0,0,1,1,0,"",1E-4,"",0,2,85316058,1,0,240,1,0,0,0,0,0,0,0,8.0020980000000002,0,0,0,0,0,1,8.0020980000000002,0,0,0,0,0,1,null,null,null,null,null,null,null,null,null,null,null,null,null,null,null,null,null,null,null,null,null,null,null,null,0,0,{"$f":"ROUND(Y240*Source!I137,7)","v":0},103227.06,80020.98,1.29,8,0,"","",{"$f":"ROUND(ROUND(AE240*AI240,2)*CX240,2)","v":0},0,0,0,0,0,"",0,"",0]
[{"$f":"ROW(Source!A137)","v":137},85312298,85316026,83878170,1,1,1,3,"20.2.02.04-0006","ФСБЦ-2022, 20.2.02.04-0006, приказ Минстроя России от 18.05.2022 г. № 378/пр","Колпачки полиэтиленовые К-6",1425,null,1013,"100 ШТ","100 ШТ",1,null,null,null,null,null,0,-734153582,0,null,1351.57,0,0,0,1031.73,0,0,0,1.31,1,1,1,2,0,0,1,1,0,"",0,"",0,2,85316059,1,6144,241,1,0,0,0,0,0,0,0,0,0,0,0,0,0,0,0,0,0,0,0,0,0,null,null,null,null,null,null,null,null,null,null,null,null,null,null,null,null,null,null,null,null,null,null,null,null,0,0,{"$f":"ROUND(Y241*Source!I137,7)","v":0},1351.57,1031.73,1.31,0,0,"","",{"$f":"ROUND(ROUND(AE241*AI241,2)*CX241,2)","v":0},0,0,0,0,0,"",0,"",0]
[{"$f":"ROW(Source!A137)","v":137},85312298,85316026,83782579,117,1,1,3,"22.2.01.04","","Изоляторы штыревые",1371,null,1013,"ШТ","ШТ",1,null,null,null,null,null,0,-950997571,0,null,0,0,0,0,0,0,0,0,1,1,1,1,0,1,0,1,0,0,"",0,"",0,2,85316060,1,0,242,0,0,0,0,0,0,0,0,0,0,0,0,0,0,0,0,0,0,0,0,0,0,null,null,null,null,null,null,null,null,null,null,null,null,null,null,null,null,null,null,null,null,null,null,null,null,0,0,{"$f":"ROUND(Y242*Source!I137,7)","v":0},0,0,1,0,0,"","",{"$f":"ROUND(ROUND(AE242,2)*CX242,2)","v":0},0,0,0,0,0,"",0,"",0]
[{"$f":"ROW(Source!A137)","v":137},85312298,85316026,83782625,117,1,1,3,"22.2.02.21","","Штыри",1371,null,1013,"ШТ","ШТ",1,null,null,null,null,null,0,-320198552,0,null,0,0,0,0,0,0,0,0,1,1,1,1,0,1,0,1,0,0,"",0,"",0,2,85316061,1,0,243,0,0,0,0,0,0,0,0,0,0,0,0,0,0,0,0,0,0,0,0,0,0,null,null,null,null,null,null,null,null,null,null,null,null,null,null,null,null,null,null,null,null,null,null,null,null,0,0,{"$f":"ROUND(Y243*Source!I137,7)","v":0},0,0,1,0,0,"","",0,0,0,0,0,0,"",0,"",0]
[{"$f":"ROW(Source!A137)","v":137},85312298,85316026,83782629,117,1,1,3,"22.2.02.23","","Металлические плакаты",1371,null,1013,"ШТ","ШТ",1,null,null,null,null,null,0,326010188,0,null,0,0,0,0,0,0,0,0,1,1,1,1,0,1,0,1,0,0,"",0,"",0,2,85316062,1,0,244,0,0,0,0,0,0,0,0,0,0,0,0,0,0,0,0,0,0,0,0,0,0,null,null,null,null,null,null,null,null,null,null,null,null,null,null,null,null,null,null,null,null,null,null,null,null,0,0,{"$f":"ROUND(Y244*Source!I137,7)","v":0},0,0,1,0,0,"","",0,0,0,0,0,0,"",0,"",0]
[{"$f":"ROW(Source!A155)","v":155},85312357,85316072,77306306,114,1,1,1,"1-100-18","","Средний разряд работы 1,8",1191,null,1013,"чел.-ч.","чел.-ч.",1,null,null,null,null,null,0,1286521233,4.84,null,0,0,0,649.42999999999995,0,0,0,649.42999999999995,1,1,1,1,-2,0,0,1,1,0,"",4.84,"",1,2,85316077,2,131072,245,1,0,0,0,0,0,0,0,0,0,0,3143.2411999999995,4.84,0,1,0,0,0,3143.2411999999995,4.84,0,1,null,null,null,null,null,null,null,null,null,null,null,null,null,null,null,null,null,null,null,null,null,null,null,{"$f":"ROUND(AT245*Source!I155*AH245*AL245,2)","v":0},{"$f":"ROUND(Y245*Source!I155,7)","v":0},0,{"$f":"ROUND(Y245*Source!I155,7)","v":0},{"$f":"AD245","v":649.42999999999995},{"$f":"AH245","v":649.42999999999995},{"$f":"AL245","v":1},3143.24,0,"","",0,0,0,0,{"$f":"DI245","v":0},1,"",0,"",0]
[{"$f":"ROW(Source!A155)","v":155},85312357,85316072,77306545,114,1,1,1,"4-100-00","","Затраты труда машинистов",1191,null,1013,"чел.-ч.","чел.-ч.",1,null,null,null,null,null,0,-1417349443,0.03,null,0,0,0,0,0,0,0,0,1,1,1,1,-2,0,0,1,1,0,"",0.03,"",2,2,85316078,1,0,246,1,0,0,0,0,0,0,0,0,0,0,0,0,0,0,0,0,0,0,0,0,0,null,null,null,null,null,null,null,null,null,null,null,null,null,null,null,null,null,null,null,null,null,null,null,null,0,0,{"$f":"ROUND(Y246*Source!I155,7)","v":0},{"$f":"AD246","v":0},{"$f":"AH246","v":0},{"$f":"AL246","v":1},0,0,"","",0,0,0,0,{"$f":"DI246","v":0},0,"",0,"",0]
[{"$f":"ROW(Source!A155)","v":155},85312357,85316072,77431879,1,1,1,2,"91.14.02-001","ФСЭМ-2022 доп.7, 91.14.02-001, приказ Минстроя России от 02.08.2023 г. № 551/пр","Автомобили бортовые, грузоподъемность до 5 т",1368,null,1011,"маш.-ч","маш.-ч",1,null,null,null,null,null,0,-1152394969,0.03,null,0,641.70000000000005,811.79,0,0,641.70000000000005,811.79,0,1,1,1,1,-2,0,0,1,1,0,"",0.03,"",1,2,85316079,1,0,247,1,0,0,0,0,0,0,0,0,19.251000000000001,24.353699999999996,0,0,0.03,1,0,19.251000000000001,24.353699999999996,0,0,0.03,1,null,null,null,null,null,null,null,null,null,null,null,null,null,null,null,null,null,null,null,null,null,null,null,null,0,{"$f":"ROUND(Y247*Source!I155*DO247,7)","v":0},{"$f":"ROUND(Y247*Source!I155,7)","v":0},{"$f":"AB247","v":641.70000000000005},{"$f":"AF247","v":641.70000000000005},{"$f":"AJ247","v":1},19.25,24.35,"","",0,0,0,0,{"$f":"DG247+DH247","v":0},1,"4-100-040",4,"чел.-ч.",1]
[{"$f":"ROW(Source!A155)","v":155},85312357,85316072,77312233,114,1,1,3,"421/пр_2020_п.75_пп.а","","Сметная стоимость вспомогательных ненормируемых материальных ресурсов, не учтенная в сметной норме, 2%",3277935,null,1013,"%","%",1,null,null,null,null,null,0,274903907,2,null,0,0,0,0,0,0,0,0,1,1,1,1,-2,0,0,0,0,0,"",2,"",0,2,85316080,1,0,248,0,0,0,0,0,0,0,0,0,0,0,0,0,0,0,0,0,0,0,0,0,0,null,null,null,null,null,null,null,null,null,null,null,null,null,null,null,null,null,null,null,null,null,null,null,null,0,0,{"$f":"ROUND(Y248*Source!I155,7)","v":0},{"$f":"AA248","v":0},{"$f":"AE248","v":0},{"$f":"AI248","v":1},0,0,"","",0,0,0,0,{"$f":"DF248","v":0},0,"",0,"",0]
[{"$f":"ROW(Source!A156)","v":156},85312298,85316072,77306306,114,1,1,1,"1-100-18","","Средний разряд работы 1,8",1191,null,1013,"чел.-ч.","чел.-ч.",1,null,null,null,null,null,0,1286521233,4.84,null,0,0,0,649.42999999999995,0,0,0,649.42999999999995,1,1,1,1,-2,0,0,1,1,0,"",4.84,"",1,2,85316077,2,131072,249,1,0,0,0,0,0,0,0,0,0,0,3143.2411999999995,4.84,0,1,0,0,0,3143.2411999999995,4.84,0,1,null,null,null,null,null,null,null,null,null,null,null,null,null,null,null,null,null,null,null,null,null,null,null,{"$f":"ROUND(AT249*Source!I156*AH249*AL249,2)","v":0},{"$f":"ROUND(Y249*Source!I156,7)","v":0},0,{"$f":"ROUND(Y249*Source!I156,7)","v":0},{"$f":"AD249","v":649.42999999999995},{"$f":"AH249","v":649.42999999999995},{"$f":"AL249","v":1},3143.24,0,"","",0,0,0,0,{"$f":"DI249","v":0},1,"",0,"",0]
[{"$f":"ROW(Source!A156)","v":156},85312298,85316072,77306545,114,1,1,1,"4-100-00","","Затраты труда машинистов",1191,null,1013,"чел.-ч.","чел.-ч.",1,null,null,null,null,null,0,-1417349443,0.03,null,0,0,0,0,0,0,0,0,1,1,1,1,-2,0,0,1,1,0,"",0.03,"",2,2,85316078,1,0,250,1,0,0,0,0,0,0,0,0,0,0,0,0,0,0,0,0,0,0,0,0,0,null,null,null,null,null,null,null,null,null,null,null,null,null,null,null,null,null,null,null,null,null,null,null,null,0,0,{"$f":"ROUND(Y250*Source!I156,7)","v":0},{"$f":"AD250","v":0},{"$f":"AH250","v":0},{"$f":"AL250","v":1},0,0,"","",0,0,0,0,{"$f":"DI250","v":0},0,"",0,"",0]
[{"$f":"ROW(Source!A156)","v":156},85312298,85316072,77431879,1,1,1,2,"91.14.02-001","ФСЭМ-2022 доп.7, 91.14.02-001, приказ Минстроя России от 02.08.2023 г. № 551/пр","Автомобили бортовые, грузоподъемность до 5 т",1368,null,1011,"маш.-ч","маш.-ч",1,null,null,null,null,null,0,-1152394969,0.03,null,0,641.70000000000005,811.79,0,0,641.70000000000005,811.79,0,1,1,1,1,-2,0,0,1,1,0,"",0.03,"",1,2,85316079,1,0,251,1,0,0,0,0,0,0,0,0,19.251000000000001,24.353699999999996,0,0,0.03,1,0,19.251000000000001,24.353699999999996,0,0,0.03,1,null,null,null,null,null,null,null,null,null,null,null,null,null,null,null,null,null,null,null,null,null,null,null,null,0,{"$f":"ROUND(Y251*Source!I156*DO251,7)","v":0},{"$f":"ROUND(Y251*Source!I156,7)","v":0},{"$f":"AB251","v":641.70000000000005},{"$f":"AF251","v":641.70000000000005},{"$f":"AJ251","v":1},19.25,24.35,"","",0,0,0,0,{"$f":"DG251+DH251","v":0},1,"4-100-040",4,"чел.-ч.",1]
[{"$f":"ROW(Source!A156)","v":156},85312298,85316072,77312233,114,1,1,3,"421/пр_2020_п.75_пп.а","","Сметная стоимость вспомогательных ненормируемых материальных ресурсов, не учтенная в сметной норме, 2%",3277935,null,1013,"%","%",1,null,null,null,null,null,0,274903907,2,null,0,0,0,0,0,0,0,0,1,1,1,1,-2,0,0,0,0,0,"",2,"",0,2,85316080,1,0,252,0,0,0,0,0,0,0,0,0,0,0,0,0,0,0,0,0,0,0,0,0,0,null,null,null,null,null,null,null,null,null,null,null,null,null,null,null,null,null,null,null,null,null,null,null,null,0,0,{"$f":"ROUND(Y252*Source!I156,7)","v":0},{"$f":"AA252","v":0},{"$f":"AE252","v":0},{"$f":"AI252","v":1},0,0,"","",0,0,0,0,{"$f":"DF252","v":0},0,"",0,"",0]
[{"$f":"ROW(Source!A160)","v":160},85312357,85316083,83777513,117,1,1,1,"1-100-38","","Средний разряд работы 3,8",1191,null,1013,"чел.-ч.","чел.-ч.",1,null,null,null,null,null,0,44848675,{"$f":"(AT253*ROUND((0.2+1),7))","v":37.536000000000001},null,0,0,0,793.61,0,0,0,793.61,1,1,1,1,-2,0,0,1,1,0,"",31.28,"*(0,2+1)",1,2,85316093,1,0,253,1,0,0,0,0,0,0,0,0,0,0,24824.120800000001,31.28,0,1,0,0,0,29788.944960000001,37.536000000000001,0,1,null,null,null,null,null,null,null,null,null,null,null,null,null,null,null,null,null,null,null,null,null,null,null,{"$f":"ROUND(AT253*Source!I160*AH253*AL253,2)","v":992.96},{"$f":"ROUND(Y253*Source!I160,7)","v":1.5014400000000001},0,{"$f":"ROUND(Y253*Source!I160,7)","v":1.5014400000000001},{"$f":"AD253","v":793.61},{"$f":"AH253","v":793.61},{"$f":"AL253","v":1},{"$f":"ROUND((ROUND(AT253*CZ253,2)*ROUND((0.2+1),7)),2)","v":29788.94},{"$f":"ROUND((ROUND(AT253*AG253,2)*ROUND((0.2+1),7)),2)","v":0},"","",0,0,0,1191.56,{"$f":"DI253","v":1191.56},1,"",0,"",0]
[{"$f":"ROW(Source!A160)","v":160},85312357,85316083,83777689,117,1,1,1,"4-100-00","","Затраты труда машинистов",1191,null,1013,"чел.-ч.","чел.-ч.",1,null,null,null,null,null,0,-1417349443,{"$f":"(AT254*ROUND((0.2+1),7))","v":0.84},null,0,0,0,0,0,0,0,0,1,1,1,1,-2,0,0,1,1,0,"",0.7,"*(0,2+1)",2,2,85316094,1,0,254,1,0,0,0,0,0,0,0,0,0,0,0,0,0,0,0,0,0,0,0,0,0,null,null,null,null,null,null,null,null,null,null,null,null,null,null,null,null,null,null,null,null,null,null,null,null,0,0,{"$f":"ROUND(Y254*Source!I160,7)","v":3.3599999999999998E-2},{"$f":"AD254","v":0},{"$f":"AH254","v":0},{"$f":"AL254","v":1},{"$f":"ROUND((ROUND(AT254*CZ254,2)*ROUND((0.2+1),7)),2)","v":0},{"$f":"ROUND((ROUND(AT254*AG254,2)*ROUND((0.2+1),7)),2)","v":0},"","",0,0,0,0,{"$f":"DI254","v":0},0,"",0,"",0]
[{"$f":"ROW(Source!A160)","v":160},85312357,85316083,83784178,1,1,1,2,"91.05.05-015","ФСЭМ-2022, 91.05.05-015, приказ Минстроя России от 18.05.2022 г. № 378/пр","Краны на автомобильном ходу, грузоподъемность 16 т",1368,null,1011,"маш.-ч","маш.-ч",1,null,null,null,null,null,0,639918019,{"$f":"(AT255*ROUND((0.2+1),7))","v":0.42},null,0,1626.29,1090.46,0,0,1626.29,1090.46,0,1,1,1,1,-2,0,0,1,1,0,"",0.35,"*(0,2+1)",1,2,85316095,1,0,255,1,0,0,0,0,0,0,0,0,569.2014999999999,381.661,0,0,0.35,1,0,683.04179999999997,457.9932,0,0,0.42,1,null,null,null,null,null,null,null,null,null,null,null,null,null,null,null,null,null,null,null,null,null,null,null,null,0,{"$f":"ROUND(Y255*Source!I160*DO255,7)","v":1.6799999999999999E-2},{"$f":"ROUND(Y255*Source!I160,7)","v":1.6799999999999999E-2},{"$f":"AB255","v":1626.29},{"$f":"AF255","v":1626.29},{"$f":"AJ255","v":1},{"$f":"ROUND((ROUND(AT255*CZ255,2)*ROUND((0.2+1),7)),2)","v":683.04},{"$f":"ROUND((ROUND(AT255*AG255,2)*ROUND((0.2+1),7)),2)","v":457.99},"","",0,27.32,18.32,0,{"$f":"DG255+DH255","v":45.64},1,"4-100-060",6,"чел.-ч.",1]
[{"$f":"ROW(Source!A160)","v":160},85312357,85316083,83785072,1,1,1,2,"91.14.02-001","ФСЭМ-2022 доп.7, 91.14.02-001, приказ Минстроя России от 02.08.2023 г. № 551/пр","Автомобили бортовые, грузоподъемность до 5 т",1368,null,1011,"маш.-ч","маш.-ч",1,null,null,null,null,null,0,-849950259,{"$f":"(AT256*ROUND((0.2+1),7))","v":0.42},null,0,641.70000000000005,811.79,0,0,641.70000000000005,811.79,0,1,1,1,1,-2,0,0,1,1,0,"",0.35,"*(0,2+1)",1,2,85316096,1,0,256,1,0,0,0,0,0,0,0,0,224.595,284.12649999999996,0,0,0.35,1,0,269.51400000000001,340.95179999999999,0,0,0.42,1,null,null,null,null,null,null,null,null,null,null,null,null,null,null,null,null,null,null,null,null,null,null,null,null,0,{"$f":"ROUND(Y256*Source!I160*DO256,7)","v":1.6799999999999999E-2},{"$f":"ROUND(Y256*Source!I160,7)","v":1.6799999999999999E-2},{"$f":"AB256","v":641.70000000000005},{"$f":"AF256","v":641.70000000000005},{"$f":"AJ256","v":1},{"$f":"ROUND((ROUND(AT256*CZ256,2)*ROUND((0.2+1),7)),2)","v":269.52},{"$f":"ROUND((ROUND(AT256*AG256,2)*ROUND((0.2+1),7)),2)","v":340.96},"","",0,10.78,13.64,0,{"$f":"DG256+DH256","v":24.42},1,"4-100-040",4,"чел.-ч.",1]
[{"$f":"ROW(Source!A160)","v":160},85312357,85316083,83785268,1,1,1,2,"91.17.04-233","ФСЭМ-2022, 91.17.04-233, приказ Минстроя России от 18.05.2022 г. № 378/пр","Аппараты сварочные для ручной дуговой сварки, сварочный ток до 350 А",1368,null,1011,"маш.-ч","маш.-ч",1,null,null,null,null,null,0,303316554,{"$f":"(AT257*ROUND((0.2+1),7))","v":2.5920000000000001},null,0,34.61,0,0,0,34.61,0,0,1,1,1,1,-2,0,0,1,1,0,"",2.16,"*(0,2+1)",1,2,85316097,1,0,257,1,0,0,0,0,0,0,0,0,74.757600000000011,0,0,0,0,1,0,89.709119999999999,0,0,0,0,1,null,null,null,null,null,null,null,null,null,null,null,null,null,null,null,null,null,null,null,null,null,null,null,null,0,{"$f":"ROUND(Y257*Source!I160*DO257,7)","v":0},{"$f":"ROUND(Y257*Source!I160,7)","v":0.10367999999999999},{"$f":"AB257","v":34.61},{"$f":"AF257","v":34.61},{"$f":"AJ257","v":1},{"$f":"ROUND((ROUND(AT257*CZ257,2)*ROUND((0.2+1),7)),2)","v":89.71},{"$f":"ROUND((ROUND(AT257*AG257,2)*ROUND((0.2+1),7)),2)","v":0},"","",0,3.59,{"$f":"ROUND(ROUND(AG257,2)*CX257,2)","v":0},{"$f":"ROUND(ROUND(AH257,2)*CX257,2)","v":0},{"$f":"DG257+DH257","v":3.59},1,"",0,"",0]
[{"$f":"ROW(Source!A160)","v":160},85312357,85316083,83851841,1,1,1,3,"01.7.03.04-0001","ФСБЦ-2022, 01.7.03.04-0001, приказ Минстроя России от 18.05.2022 г. № 378/пр","Электроэнергия",1383,null,1013,"КВТ-Ч","КВТ-Ч",1,null,null,null,null,null,0,1840299850,{"$f":"AT258","v":1.1488},null,7.32,0,0,0,7.32,0,0,0,1,1,1,1,-2,0,0,1,1,0,"",1.1488,"",0,2,85316098,1,0,258,1,0,0,0,0,0,0,0,8.4092160000000007,0,0,0,0,0,1,8.4092160000000007,0,0,0,0,0,1,null,null,null,null,null,null,null,null,null,null,null,null,null,null,null,null,null,null,null,null,null,null,null,null,0,0,{"$f":"ROUND(Y258*Source!I160,7)","v":4.5952E-2},{"$f":"AA258","v":7.32},{"$f":"AE258","v":7.32},{"$f":"AI258","v":1},{"$f":"ROUND(ROUND(AT258*CZ258,2),2)","v":8.41},{"$f":"ROUND(ROUND(AT258*AG258,2),2)","v":0},"","",0.34,0,0,0,{"$f":"DF258","v":0.34},1,"",0,"",0]
[{"$f":"ROW(Source!A160)","v":160},85312357,85316083,83852582,1,1,1,3,"01.7.11.07-0227","ФСБЦ-2022, 01.7.11.07-0227, приказ Минстроя России от 18.05.2022 г. № 378/пр","Электроды сварочные для сварки низколегированных и углеродистых сталей УОНИ 13/45, Э42А, диаметр 4-5 мм",1346,null,1009,"кг","кг",1,null,null,null,null,null,0,-163259778,{"$f":"AT259","v":0.96},null,121.39,0,0,0,155.63,0,0,0,0.78,1,1,1,2,0,0,1,1,0,"",0.96,"",0,2,85316099,1,0,259,1,0,0,0,0,0,0,0,149.40479999999999,0,0,0,0,0,1,149.40479999999999,0,0,0,0,0,1,null,null,null,null,null,null,null,null,null,null,null,null,null,null,null,null,null,null,null,null,null,null,null,null,0,0,{"$f":"ROUND(Y259*Source!I160,7)","v":3.8399999999999997E-2},{"$f":"AA259","v":121.39},{"$f":"AE259","v":155.63},{"$f":"AI259","v":0.78},{"$f":"ROUND(ROUND(AT259*CZ259,2),2)","v":149.4},{"$f":"ROUND(ROUND(AT259*AG259,2),2)","v":0},"","",{"$f":"ROUND(ROUND(AE259*AI259,2)*CX259,2)","v":4.66},0,0,0,{"$f":"DF259","v":4.66},0,"",0,"",0]
[{"$f":"ROW(Source!A160)","v":160},85312357,85316083,83870031,1,1,1,3,"14.1.02.01-0002","ФСБЦ-2022, 14.1.02.01-0002, приказ Минстроя России от 18.05.2022 г. № 378/пр","Клей, марка БМК-5к",1346,null,1009,"кг","кг",1,null,null,null,null,null,0,306218686,{"$f":"AT260","v":0.55000000000000004},null,243.31,0,0,0,160.07,0,0,0,1.52,1,1,1,2,0,0,1,1,0,"",0.55000000000000004,"",0,2,85316100,1,0,260,1,0,0,0,0,0,0,0,88.038499999999999,0,0,0,0,0,1,88.038499999999999,0,0,0,0,0,1,null,null,null,null,null,null,null,null,null,null,null,null,null,null,null,null,null,null,null,null,null,null,null,null,0,0,{"$f":"ROUND(Y260*Source!I160,7)","v":2.1999999999999999E-2},{"$f":"AA260","v":243.31},{"$f":"AE260","v":160.07},{"$f":"AI260","v":1.52},{"$f":"ROUND(ROUND(AT260*CZ260,2),2)","v":88.04},{"$f":"ROUND(ROUND(AT260*AG260,2),2)","v":0},"","",{"$f":"ROUND(ROUND(AE260*AI260,2)*CX260,2)","v":5.35},0,0,0,{"$f":"DF260","v":5.35},0,"",0,"",0]
[{"$f":"ROW(Source!A160)","v":160},85312357,85316083,83783523,117,1,1,3,"421/пр_2020_п.75_пп.а","","Сметная стоимость вспомогательных ненормируемых материальных ресурсов, не учтенная в сметной норме, 2%",3277935,null,1013,"%","%",1,null,null,null,null,null,0,274903907,{"$f":"AT261","v":2},null,0,0,0,0,0,0,0,0,1,1,1,1,0,0,0,0,0,0,"",2,"",0,2,85316101,1,0,261,0,0,0,0,0,0,0,0,0,0,0,0,0,0,0,0,0,0,0,0,0,0,null,null,null,null,null,null,null,null,null,null,null,null,null,null,null,null,null,null,null,null,null,null,null,null,0,0,{"$f":"ROUND(Y261*Source!I160,7)","v":0.08},{"$f":"AA261","v":0},{"$f":"AE261","v":0},{"$f":"AI261","v":1},{"$f":"ROUND(ROUND(AT261*CZ261,2),2)","v":0},{"$f":"ROUND(ROUND(AT261*AG261,2),2)","v":0},"","",{"$f":"ROUND(ROUND(AE261,2)*CX261,2)","v":0},0,0,0,{"$f":"DF261","v":0},0,"",0,"",0]
[{"$f":"ROW(Source!A161)","v":161},85312298,85316083,83777513,117,1,1,1,"1-100-38","","Средний разряд работы 3,8",1191,null,1013,"чел.-ч.","чел.-ч.",1,null,null,null,null,null,0,44848675,{"$f":"(AT262*ROUND((0.2+1),7))","v":37.536000000000001},null,0,0,0,793.61,0,0,0,793.61,1,1,1,1,-2,0,0,1,1,0,"",31.28,"*(0,2+1)",1,2,85316093,1,0,262,1,0,0,0,0,0,0,0,0,0,0,24824.120800000001,31.28,0,1,0,0,0,29788.944960000001,37.536000000000001,0,1,null,null,null,null,null,null,null,null,null,null,null,null,null,null,null,null,null,null,null,null,null,null,null,{"$f":"ROUND(AT262*Source!I161*AH262*AL262,2)","v":992.96},{"$f":"ROUND(Y262*Source!I161,7)","v":1.5014400000000001},0,{"$f":"ROUND(Y262*Source!I161,7)","v":1.5014400000000001},{"$f":"AD262","v":793.61},{"$f":"AH262","v":793.61},{"$f":"AL262","v":1},{"$f":"ROUND((ROUND(AT262*CZ262,2)*ROUND((0.2+1),7)),2)","v":29788.94},{"$f":"ROUND((ROUND(AT262*AG262,2)*ROUND((0.2+1),7)),2)","v":0},"","",0,{"$f":"ROUND(ROUND(AF262,2)*CX262,2)","v":0},0,1191.56,{"$f":"DI262","v":1191.56},1,"",0,"",0]
[{"$f":"ROW(Source!A161)","v":161},85312298,85316083,83777689,117,1,1,1,"4-100-00","","Затраты труда машинистов",1191,null,1013,"чел.-ч.","чел.-ч.",1,null,null,null,null,null,0,-1417349443,{"$f":"(AT263*ROUND((0.2+1),7))","v":0.84},null,0,0,0,0,0,0,0,0,1,1,1,1,-2,0,0,1,1,0,"",0.7,"*(0,2+1)",2,2,85316094,1,0,263,1,0,0,0,0,0,0,0,0,0,0,0,0,0,0,0,0,0,0,0,0,0,null,null,null,null,null,null,null,null,null,null,null,null,null,null,null,null,null,null,null,null,null,null,null,null,0,0,{"$f":"ROUND(Y263*Source!I161,7)","v":3.3599999999999998E-2},{"$f":"AD263","v":0},{"$f":"AH263","v":0},{"$f":"AL263","v":1},{"$f":"ROUND((ROUND(AT263*CZ263,2)*ROUND((0.2+1),7)),2)","v":0},{"$f":"ROUND((ROUND(AT263*AG263,2)*ROUND((0.2+1),7)),2)","v":0},"","",0,0,0,0,{"$f":"DI263","v":0},0,"",0,"",0]
[{"$f":"ROW(Source!A161)","v":161},85312298,85316083,83784178,1,1,1,2,"91.05.05-015","ФСЭМ-2022, 91.05.05-015, приказ Минстроя России от 18.05.2022 г. № 378/пр","Краны на автомобильном ходу, грузоподъемность 16 т",1368,null,1011,"маш.-ч","маш.-ч",1,null,null,null,null,null,0,639918019,{"$f":"(AT264*ROUND((0.2+1),7))","v":0.42},null,0,1626.29,1090.46,0,0,1626.29,1090.46,0,1,1,1,1,-2,0,0,1,1,0,"",0.35,"*(0,2+1)",1,2,85316095,1,0,264,1,0,0,0,0,0,0,0,0,569.2014999999999,381.661,0,0,0.35,1,0,683.04179999999997,457.9932,0,0,0.42,1,null,null,null,null,null,null,null,null,null,null,null,null,null,null,null,null,null,null,null,null,null,null,null,null,0,{"$f":"ROUND(Y264*Source!I161*DO264,7)","v":1.6799999999999999E-2},{"$f":"ROUND(Y264*Source!I161,7)","v":1.6799999999999999E-2},{"$f":"AB264","v":1626.29},{"$f":"AF264","v":1626.29},{"$f":"AJ264","v":1},{"$f":"ROUND((ROUND(AT264*CZ264,2)*ROUND((0.2+1),7)),2)","v":683.04},{"$f":"ROUND((ROUND(AT264*AG264,2)*ROUND((0.2+1),7)),2)","v":457.99},"","",0,27.32,18.32,0,{"$f":"DG264+DH264","v":45.64},1,"4-100-060",6,"чел.-ч.",1]
[{"$f":"ROW(Source!A161)","v":161},85312298,85316083,83785072,1,1,1,2,"91.14.02-001","ФСЭМ-2022 доп.7, 91.14.02-001, приказ Минстроя России от 02.08.2023 г. № 551/пр","Автомобили бортовые, грузоподъемность до 5 т",1368,null,1011,"маш.-ч","маш.-ч",1,null,null,null,null,null,0,-849950259,{"$f":"(AT265*ROUND((0.2+1),7))","v":0.42},null,0,641.70000000000005,811.79,0,0,641.70000000000005,811.79,0,1,1,1,1,-2,0,0,1,1,0,"",0.35,"*(0,2+1)",1,2,85316096,1,0,265,1,0,0,0,0,0,0,0,0,224.595,284.12649999999996,0,0,0.35,1,0,269.51400000000001,340.95179999999999,0,0,0.42,1,null,null,null,null,null,null,null,null,null,null,null,null,null,null,null,null,null,null,null,null,null,null,null,null,0,{"$f":"ROUND(Y265*Source!I161*DO265,7)","v":1.6799999999999999E-2},{"$f":"ROUND(Y265*Source!I161,7)","v":1.6799999999999999E-2},{"$f":"AB265","v":641.70000000000005},{"$f":"AF265","v":641.70000000000005},{"$f":"AJ265","v":1},{"$f":"ROUND((ROUND(AT265*CZ265,2)*ROUND((0.2+1),7)),2)","v":269.52},{"$f":"ROUND((ROUND(AT265*AG265,2)*ROUND((0.2+1),7)),2)","v":340.96},"","",0,10.78,13.64,0,{"$f":"DG265+DH265","v":24.42},1,"4-100-040",4,"чел.-ч.",1]
[{"$f":"ROW(Source!A161)","v":161},85312298,85316083,83785268,1,1,1,2,"91.17.04-233","ФСЭМ-2022, 91.17.04-233, приказ Минстроя России от 18.05.2022 г. № 378/пр","Аппараты сварочные для ручной дуговой сварки, сварочный ток до 350 А",1368,null,1011,"маш.-ч","маш.-ч",1,null,null,null,null,null,0,303316554,{"$f":"(AT266*ROUND((0.2+1),7))","v":2.5920000000000001},null,0,34.61,0,0,0,34.61,0,0,1,1,1,1,-2,0,0,1,1,0,"",2.16,"*(0,2+1)",1,2,85316097,1,0,266,1,0,0,0,0,0,0,0,0,74.757600000000011,0,0,0,0,1,0,89.709119999999999,0,0,0,0,1,null,null,null,null,null,null,null,null,null,null,null,null,null,null,null,null,null,null,null,null,null,null,null,null,0,{"$f":"ROUND(Y266*Source!I161*DO266,7)","v":0},{"$f":"ROUND(Y266*Source!I161,7)","v":0.10367999999999999},{"$f":"AB266","v":34.61},{"$f":"AF266","v":34.61},{"$f":"AJ266","v":1},{"$f":"ROUND((ROUND(AT266*CZ266,2)*ROUND((0.2+1),7)),2)","v":89.71},{"$f":"ROUND((ROUND(AT266*AG266,2)*ROUND((0.2+1),7)),2)","v":0},"","",0,3.59,0,0,{"$f":"DG266+DH266","v":3.59},1,"",0,"",0]
[{"$f":"ROW(Source!A161)","v":161},85312298,85316083,83851841,1,1,1,3,"01.7.03.04-0001","ФСБЦ-2022, 01.7.03.04-0001, приказ Минстроя России от 18.05.2022 г. № 378/пр","Электроэнергия",1383,null,1013,"КВТ-Ч","КВТ-Ч",1,null,null,null,null,null,0,1840299850,{"$f":"AT267","v":1.1488},null,7.32,0,0,0,7.32,0,0,0,1,1,1,1,-2,0,0,1,1,0,"",1.1488,"",0,2,85316098,1,0,267,1,0,0,0,0,0,0,0,8.4092160000000007,0,0,0,0,0,1,8.4092160000000007,0,0,0,0,0,1,null,null,null,null,null,null,null,null,null,null,null,null,null,null,null,null,null,null,null,null,null,null,null,null,0,0,{"$f":"ROUND(Y267*Source!I161,7)","v":4.5952E-2},{"$f":"AA267","v":7.32},{"$f":"AE267","v":7.32},{"$f":"AI267","v":1},{"$f":"ROUND(ROUND(AT267*CZ267,2),2)","v":8.41},{"$f":"ROUND(ROUND(AT267*AG267,2),2)","v":0},"","",0.34,0,0,0,{"$f":"DF267","v":0.34},1,"",0,"",0]
[{"$f":"ROW(Source!A161)","v":161},85312298,85316083,83852582,1,1,1,3,"01.7.11.07-0227","ФСБЦ-2022, 01.7.11.07-0227, приказ Минстроя России от 18.05.2022 г. № 378/пр","Электроды сварочные для сварки низколегированных и углеродистых сталей УОНИ 13/45, Э42А, диаметр 4-5 мм",1346,null,1009,"кг","кг",1,null,null,null,null,null,0,-163259778,{"$f":"AT268","v":0.96},null,121.39,0,0,0,155.63,0,0,0,0.78,1,1,1,2,0,0,1,1,0,"",0.96,"",0,2,85316099,1,0,268,1,0,0,0,0,0,0,0,149.40479999999999,0,0,0,0,0,1,149.40479999999999,0,0,0,0,0,1,null,null,null,null,null,null,null,null,null,null,null,null,null,null,null,null,null,null,null,null,null,null,null,null,0,0,{"$f":"ROUND(Y268*Source!I161,7)","v":3.8399999999999997E-2},{"$f":"AA268","v":121.39},{"$f":"AE268","v":155.63},{"$f":"AI268","v":0.78},{"$f":"ROUND(ROUND(AT268*CZ268,2),2)","v":149.4},{"$f":"ROUND(ROUND(AT268*AG268,2),2)","v":0},"","",{"$f":"ROUND(ROUND(AE268*AI268,2)*CX268,2)","v":4.66},0,0,0,{"$f":"DF268","v":4.66},0,"",0,"",0]
[{"$f":"ROW(Source!A161)","v":161},85312298,85316083,83870031,1,1,1,3,"14.1.02.01-0002","ФСБЦ-2022, 14.1.02.01-0002, приказ Минстроя России от 18.05.2022 г. № 378/пр","Клей, марка БМК-5к",1346,null,1009,"кг","кг",1,null,null,null,null,null,0,306218686,{"$f":"AT269","v":0.55000000000000004},null,243.31,0,0,0,160.07,0,0,0,1.52,1,1,1,2,0,0,1,1,0,"",0.55000000000000004,"",0,2,85316100,1,0,269,1,0,0,0,0,0,0,0,88.038499999999999,0,0,0,0,0,1,88.038499999999999,0,0,0,0,0,1,null,null,null,null,null,null,null,null,null,null,null,null,null,null,null,null,null,null,null,null,null,null,null,null,0,0,{"$f":"ROUND(Y269*Source!I161,7)","v":2.1999999999999999E-2},{"$f":"AA269","v":243.31},{"$f":"AE269","v":160.07},{"$f":"AI269","v":1.52},{"$f":"ROUND(ROUND(AT269*CZ269,2),2)","v":88.04},{"$f":"ROUND(ROUND(AT269*AG269,2),2)","v":0},"","",{"$f":"ROUND(ROUND(AE269*AI269,2)*CX269,2)","v":5.35},0,0,0,{"$f":"DF269","v":5.35},0,"",0,"",0]
[{"$f":"ROW(Source!A161)","v":161},85312298,85316083,83783523,117,1,1,3,"421/пр_2020_п.75_пп.а","","Сметная стоимость вспомогательных ненормируемых материальных ресурсов, не учтенная в сметной норме, 2%",3277935,null,1013,"%","%",1,null,null,null,null,null,0,274903907,{"$f":"AT270","v":2},null,0,0,0,0,0,0,0,0,1,1,1,1,0,0,0,0,0,0,"",2,"",0,2,85316101,1,0,270,0,0,0,0,0,0,0,0,0,0,0,0,0,0,0,0,0,0,0,0,0,0,null,null,null,null,null,null,null,null,null,null,null,null,null,null,null,null,null,null,null,null,null,null,null,null,0,0,{"$f":"ROUND(Y270*Source!I161,7)","v":0.08},{"$f":"AA270","v":0},{"$f":"AE270","v":0},{"$f":"AI270","v":1},{"$f":"ROUND(ROUND(AT270*CZ270,2),2)","v":0},{"$f":"ROUND(ROUND(AT270*AG270,2),2)","v":0},"","",{"$f":"ROUND(ROUND(AE270,2)*CX270,2)","v":0},0,0,0,{"$f":"DF270","v":0},0,"",0,"",0]
[{"$f":"ROW(Source!A165)","v":165},85312357,85316104,83777513,117,1,1,1,"1-100-38","","Средний разряд работы 3,8",1191,null,1013,"чел.-ч.","чел.-ч.",1,null,null,null,null,null,0,44848675,{"$f":"(AT271*ROUND((0.2+1),7))","v":17.28},null,0,0,0,793.61,0,0,0,793.61,1,1,1,1,-2,0,0,1,1,0,"",14.4,"*(0,2+1)",1,2,85316115,1,0,271,1,0,0,0,0,0,0,0,0,0,0,11427.984,14.4,0,1,0,0,0,13713.580800000002,17.28,0,1,null,null,null,null,null,null,null,null,null,null,null,null,null,null,null,null,null,null,null,null,null,null,null,{"$f":"ROUND(AT271*Source!I165*AH271*AL271,2)","v":457.12},{"$f":"ROUND(Y271*Source!I165,7)","v":0.69120000000000004},0,{"$f":"ROUND(Y271*Source!I165,7)","v":0.69120000000000004},{"$f":"AD271","v":793.61},{"$f":"AH271","v":793.61},{"$f":"AL271","v":1},{"$f":"ROUND((ROUND(AT271*CZ271,2)*ROUND((0.2+1),7)),2)","v":13713.58},{"$f":"ROUND((ROUND(AT271*AG271,2)*ROUND((0.2+1),7)),2)","v":0},"","",{"$f":"ROUND(ROUND(AE271,2)*CX271,2)","v":0},0,0,548.54,{"$f":"DI271","v":548.54},1,"",0,"",0]
[{"$f":"ROW(Source!A165)","v":165},85312357,85316104,83777689,117,1,1,1,"4-100-00","","Затраты труда машинистов",1191,null,1013,"чел.-ч.","чел.-ч.",1,null,null,null,null,null,0,-1417349443,{"$f":"(AT272*ROUND((0.2+1),7))","v":0.48},null,0,0,0,0,0,0,0,0,1,1,1,1,-2,0,0,1,1,0,"",0.4,"*(0,2+1)",2,2,85316116,1,0,272,1,0,0,0,0,0,0,0,0,0,0,0,0,0,0,0,0,0,0,0,0,0,null,null,null,null,null,null,null,null,null,null,null,null,null,null,null,null,null,null,null,null,null,null,null,null,0,0,{"$f":"ROUND(Y272*Source!I165,7)","v":1.9199999999999998E-2},{"$f":"AD272","v":0},{"$f":"AH272","v":0},{"$f":"AL272","v":1},{"$f":"ROUND((ROUND(AT272*CZ272,2)*ROUND((0.2+1),7)),2)","v":0},{"$f":"ROUND((ROUND(AT272*AG272,2)*ROUND((0.2+1),7)),2)","v":0},"","",{"$f":"ROUND(ROUND(AE272,2)*CX272,2)","v":0},0,0,0,{"$f":"DI272","v":0},0,"",0,"",0]
[{"$f":"ROW(Source!A165)","v":165},85312357,85316104,83784178,1,1,1,2,"91.05.05-015","ФСЭМ-2022, 91.05.05-015, приказ Минстроя России от 18.05.2022 г. № 378/пр","Краны на автомобильном ходу, грузоподъемность 16 т",1368,null,1011,"маш.-ч","маш.-ч",1,null,null,null,null,null,0,639918019,{"$f":"(AT273*ROUND((0.2+1),7))","v":0.24},null,0,1626.29,1090.46,0,0,1626.29,1090.46,0,1,1,1,1,-2,0,0,1,1,0,"",0.2,"*(0,2+1)",1,2,85316117,1,0,273,1,0,0,0,0,0,0,0,0,325.25800000000004,218.09200000000001,0,0,0.2,1,0,390.30959999999999,261.71039999999999,0,0,0.24,1,null,null,null,null,null,null,null,null,null,null,null,null,null,null,null,null,null,null,null,null,null,null,null,null,0,{"$f":"ROUND(Y273*Source!I165*DO273,7)","v":9.5999999999999992E-3},{"$f":"ROUND(Y273*Source!I165,7)","v":9.5999999999999992E-3},{"$f":"AB273","v":1626.29},{"$f":"AF273","v":1626.29},{"$f":"AJ273","v":1},{"$f":"ROUND((ROUND(AT273*CZ273,2)*ROUND((0.2+1),7)),2)","v":390.31},{"$f":"ROUND((ROUND(AT273*AG273,2)*ROUND((0.2+1),7)),2)","v":261.70999999999998},"","",{"$f":"ROUND(ROUND(AE273,2)*CX273,2)","v":0},15.61,10.47,0,{"$f":"DG273+DH273","v":26.08},1,"4-100-060",6,"чел.-ч.",1]
[{"$f":"ROW(Source!A165)","v":165},85312357,85316104,83785072,1,1,1,2,"91.14.02-001","ФСЭМ-2022 доп.7, 91.14.02-001, приказ Минстроя России от 02.08.2023 г. № 551/пр","Автомобили бортовые, грузоподъемность до 5 т",1368,null,1011,"маш.-ч","маш.-ч",1,null,null,null,null,null,0,-849950259,{"$f":"(AT274*ROUND((0.2+1),7))","v":0.24},null,0,641.70000000000005,811.79,0,0,641.70000000000005,811.79,0,1,1,1,1,-2,0,0,1,1,0,"",0.2,"*(0,2+1)",1,2,85316118,1,0,274,1,0,0,0,0,0,0,0,0,128.34,162.358,0,0,0.2,1,0,154.00800000000001,194.82959999999997,0,0,0.24,1,null,null,null,null,null,null,null,null,null,null,null,null,null,null,null,null,null,null,null,null,null,null,null,null,0,{"$f":"ROUND(Y274*Source!I165*DO274,7)","v":9.5999999999999992E-3},{"$f":"ROUND(Y274*Source!I165,7)","v":9.5999999999999992E-3},{"$f":"AB274","v":641.70000000000005},{"$f":"AF274","v":641.70000000000005},{"$f":"AJ274","v":1},{"$f":"ROUND((ROUND(AT274*CZ274,2)*ROUND((0.2+1),7)),2)","v":154.01},{"$f":"ROUND((ROUND(AT274*AG274,2)*ROUND((0.2+1),7)),2)","v":194.83},"","",{"$f":"ROUND(ROUND(AE274,2)*CX274,2)","v":0},6.16,7.79,0,{"$f":"DG274+DH274","v":13.95},1,"4-100-040",4,"чел.-ч.",1]
[{"$f":"ROW(Source!A165)","v":165},85312357,85316104,83852000,1,1,1,3,"01.7.06.05-0041","ФСБЦ-2022, 01.7.06.05-0041, приказ Минстроя России от 18.05.2022 г. № 378/пр","Ленты изоляционные хлопчатобумажные прорезиненные для электромонтажных и ремонтных работ, цвет черный, ширина 20 мм, толщина 0,35 мм",1301,null,1003,"м","м",1,null,null,null,null,null,0,-1499427467,{"$f":"AT275","v":33.33},null,5.17,0,0,0,5.87,0,0,0,0.88,1,1,1,2,0,0,1,1,0,"",33.33,"",0,2,85316119,1,0,275,1,0,0,0,0,0,0,0,195.64709999999999,0,0,0,0,0,1,195.64709999999999,0,0,0,0,0,1,null,null,null,null,null,null,null,null,null,null,null,null,null,null,null,null,null,null,null,null,null,null,null,null,0,0,{"$f":"ROUND(Y275*Source!I165,7)","v":1.3331999999999999},{"$f":"AA275","v":5.17},{"$f":"AE275","v":5.87},{"$f":"AI275","v":0.88},{"$f":"ROUND(ROUND(AT275*CZ275,2),2)","v":195.65},{"$f":"ROUND(ROUND(AT275*AG275,2),2)","v":0},"","",{"$f":"ROUND(ROUND(AE275*AI275,2)*CX275,2)","v":6.89},0,0,0,{"$f":"DF275","v":6.89},0,"",0,"",0]
[{"$f":"ROW(Source!A165)","v":165},85312357,85316104,83852170,1,1,1,3,"01.7.07.20-0002","ФСБЦ-2022, 01.7.07.20-0002, приказ Минстроя России от 18.05.2022 г. № 378/пр","Тальк молотый, сорт I",1348,null,1009,"т","т",1000,null,null,null,null,null,0,-423309981,1.3699999999999999E-3,null,57844.42,0,0,0,43821.53,0,0,0,1.32,1,1,1,2,0,0,1,1,0,"",1.3699999999999999E-3,"",0,2,85316120,1,0,276,1,0,0,0,0,0,0,0,60.035496099999996,0,0,0,0,0,1,60.035496099999996,0,0,0,0,0,1,null,null,null,null,null,null,null,null,null,null,null,null,null,null,null,null,null,null,null,null,null,null,null,null,0,0,{"$f":"ROUND(Y276*Source!I165,7)","v":5.4799999999999997E-5},57844.42,43821.53,1.32,60.04,0,"","",{"$f":"ROUND(ROUND(AE276*AI276,2)*CX276,2)","v":3.17},0,0,0,3.17,0,"",0,"",0]
[{"$f":"ROW(Source!A165)","v":165},85312357,85316104,83870516,1,1,1,3,"14.4.02.04-0142","ФСБЦ-2022, 14.4.02.04-0142, приказ Минстроя России от 18.05.2022 г. № 378/пр","Краска масляная МА-0115, мумия, сурик железный",1346,null,1009,"кг","кг",1,null,null,null,null,null,0,291254868,0.02,null,115.03,0,0,0,79.88,0,0,0,1.44,1,1,1,2,0,0,1,1,0,"",0.02,"",0,2,85316121,1,0,277,1,0,0,0,0,0,0,0,1.5975999999999999,0,0,0,0,0,1,1.5975999999999999,0,0,0,0,0,1,null,null,null,null,null,null,null,null,null,null,null,null,null,null,null,null,null,null,null,null,null,null,null,null,0,0,{"$f":"ROUND(Y277*Source!I165,7)","v":8.0000000000000004E-4},115.03,79.88,1.44,1.6,0,"","",{"$f":"ROUND(ROUND(AE277*AI277,2)*CX277,2)","v":0.09},0,0,0,0.09,0,"",0,"",0]
[{"$f":"ROW(Source!A165)","v":165},85312357,85316104,83878106,1,1,1,3,"20.2.01.05-0011","ФСБЦ-2022 доп.11, 20.2.01.05-0011, приказ Минстроя России от 09.08.2024 г. № 524/пр","Гильзы кабельные медные 120 мм",1425,null,1013,"100 ШТ","100 ШТ",1,null,null,null,null,null,0,723347505,0.05,null,14237.19,0,0,0,11574.95,0,0,0,1.23,1,1,1,2,0,0,1,1,0,"",0.05,"",0,2,85316122,1,0,278,1,0,0,0,0,0,0,0,578.74750000000006,0,0,0,0,0,1,578.74750000000006,0,0,0,0,0,1,null,null,null,null,null,null,null,null,null,null,null,null,null,null,null,null,null,null,null,null,null,null,null,null,0,0,{"$f":"ROUND(Y278*Source!I165,7)","v":2E-3},14237.19,11574.95,1.23,578.75,0,"","",{"$f":"ROUND(ROUND(AE278*AI278,2)*CX278,2)","v":28.47},0,0,0,28.47,0,"",0,"",0]
[{"$f":"ROW(Source!A165)","v":165},85312357,85316104,83878151,1,1,1,3,"20.2.02.01-0016","ФСБЦ-2022 доп.9, 20.2.02.01-0016, приказ Минстроя России от 16.02.2024 г. № 102/пр","Втулки полипропиленовые, диаметр 69 мм",1407,null,1013,"1000 ШТ","1000 ШТ",1,null,null,null,null,null,0,-1403868175,1.2200000000000001E-2,null,8561.9,0,0,0,6904.76,0,0,0,1.24,1,1,1,2,0,0,1,1,0,"",1.2200000000000001E-2,"",0,2,85316123,1,0,279,1,0,0,0,0,0,0,0,84.238072000000003,0,0,0,0,0,1,84.238072000000003,0,0,0,0,0,1,null,null,null,null,null,null,null,null,null,null,null,null,null,null,null,null,null,null,null,null,null,null,null,null,0,0,{"$f":"ROUND(Y279*Source!I165,7)","v":4.8799999999999999E-4},8561.9,6904.76,1.24,84.24,0,"","",{"$f":"ROUND(ROUND(AE279*AI279,2)*CX279,2)","v":4.18},0,0,0,4.18,0,"",0,"",0]
[{"$f":"ROW(Source!A165)","v":165},85312357,85316104,83783523,117,1,1,3,"421/пр_2020_п.75_пп.а","","Сметная стоимость вспомогательных ненормируемых материальных ресурсов, не учтенная в сметной норме, 2%",3277935,null,1013,"%","%",1,null,null,null,null,null,0,274903907,2,null,0,0,0,0,0,0,0,0,1,1,1,1,0,0,0,0,0,0,"",2,"",0,2,85316124,1,0,280,0,0,0,0,0,0,0,0,0,0,0,0,0,0,0,0,0,0,0,0,0,0,null,null,null,null,null,null,null,null,null,null,null,null,null,null,null,null,null,null,null,null,null,null,null,null,0,0,{"$f":"ROUND(Y280*Source!I165,7)","v":0.08},0,0,1,0,0,"","",{"$f":"ROUND(ROUND(AE280,2)*CX280,2)","v":0},0,0,0,0,0,"",0,"",0]
[{"$f":"ROW(Source!A166)","v":166},85312298,85316104,83777513,117,1,1,1,"1-100-38","","Средний разряд работы 3,8",1191,null,1013,"чел.-ч.","чел.-ч.",1,null,null,null,null,null,0,44848675,{"$f":"(AT281*ROUND((0.2+1),7))","v":17.28},null,0,0,0,793.61,0,0,0,793.61,1,1,1,1,-2,0,0,1,1,0,"",14.4,"*(0,2+1)",1,2,85316115,1,0,281,1,0,0,0,0,0,0,0,0,0,0,11427.984,14.4,0,1,0,0,0,13713.580800000002,17.28,0,1,null,null,null,null,null,null,null,null,null,null,null,null,null,null,null,null,null,null,null,null,null,null,null,{"$f":"ROUND(AT281*Source!I166*AH281*AL281,2)","v":457.12},{"$f":"ROUND(Y281*Source!I166,7)","v":0.69120000000000004},0,{"$f":"ROUND(Y281*Source!I166,7)","v":0.69120000000000004},{"$f":"AD281","v":793.61},{"$f":"AH281","v":793.61},{"$f":"AL281","v":1},{"$f":"ROUND((ROUND(AT281*CZ281,2)*ROUND((0.2+1),7)),2)","v":13713.58},{"$f":"ROUND((ROUND(AT281*AG281,2)*ROUND((0.2+1),7)),2)","v":0},"","",{"$f":"ROUND(ROUND(AE281,2)*CX281,2)","v":0},0,0,548.54,{"$f":"DI281","v":548.54},1,"",0,"",0]
[{"$f":"ROW(Source!A166)","v":166},85312298,85316104,83777689,117,1,1,1,"4-100-00","","Затраты труда машинистов",1191,null,1013,"чел.-ч.","чел.-ч.",1,null,null,null,null,null,0,-1417349443,{"$f":"(AT282*ROUND((0.2+1),7))","v":0.48},null,0,0,0,0,0,0,0,0,1,1,1,1,-2,0,0,1,1,0,"",0.4,"*(0,2+1)",2,2,85316116,1,0,282,1,0,0,0,0,0,0,0,0,0,0,0,0,0,0,0,0,0,0,0,0,0,null,null,null,null,null,null,null,null,null,null,null,null,null,null,null,null,null,null,null,null,null,null,null,null,0,0,{"$f":"ROUND(Y282*Source!I166,7)","v":1.9199999999999998E-2},{"$f":"AD282","v":0},{"$f":"AH282","v":0},{"$f":"AL282","v":1},{"$f":"ROUND((ROUND(AT282*CZ282,2)*ROUND((0.2+1),7)),2)","v":0},{"$f":"ROUND((ROUND(AT282*AG282,2)*ROUND((0.2+1),7)),2)","v":0},"","",{"$f":"ROUND(ROUND(AE282,2)*CX282,2)","v":0},0,0,0,{"$f":"DI282","v":0},0,"",0,"",0]
[{"$f":"ROW(Source!A166)","v":166},85312298,85316104,83784178,1,1,1,2,"91.05.05-015","ФСЭМ-2022, 91.05.05-015, приказ Минстроя России от 18.05.2022 г. № 378/пр","Краны на автомобильном ходу, грузоподъемность 16 т",1368,null,1011,"маш.-ч","маш.-ч",1,null,null,null,null,null,0,639918019,{"$f":"(AT283*ROUND((0.2+1),7))","v":0.24},null,0,1626.29,1090.46,0,0,1626.29,1090.46,0,1,1,1,1,-2,0,0,1,1,0,"",0.2,"*(0,2+1)",1,2,85316117,1,0,283,1,0,0,0,0,0,0,0,0,325.25800000000004,218.09200000000001,0,0,0.2,1,0,390.30959999999999,261.71039999999999,0,0,0.24,1,null,null,null,null,null,null,null,null,null,null,null,null,null,null,null,null,null,null,null,null,null,null,null,null,0,{"$f":"ROUND(Y283*Source!I166*DO283,7)","v":9.5999999999999992E-3},{"$f":"ROUND(Y283*Source!I166,7)","v":9.5999999999999992E-3},{"$f":"AB283","v":1626.29},{"$f":"AF283","v":1626.29},{"$f":"AJ283","v":1},{"$f":"ROUND((ROUND(AT283*CZ283,2)*ROUND((0.2+1),7)),2)","v":390.31},{"$f":"ROUND((ROUND(AT283*AG283,2)*ROUND((0.2+1),7)),2)","v":261.70999999999998},"","",{"$f":"ROUND(ROUND(AE283,2)*CX283,2)","v":0},15.61,10.47,0,{"$f":"DG283+DH283","v":26.08},1,"4-100-060",6,"чел.-ч.",1]
[{"$f":"ROW(Source!A166)","v":166},85312298,85316104,83785072,1,1,1,2,"91.14.02-001","ФСЭМ-2022 доп.7, 91.14.02-001, приказ Минстроя России от 02.08.2023 г. № 551/пр","Автомобили бортовые, грузоподъемность до 5 т",1368,null,1011,"маш.-ч","маш.-ч",1,null,null,null,null,null,0,-849950259,{"$f":"(AT284*ROUND((0.2+1),7))","v":0.24},null,0,641.70000000000005,811.79,0,0,641.70000000000005,811.79,0,1,1,1,1,-2,0,0,1,1,0,"",0.2,"*(0,2+1)",1,2,85316118,1,0,284,1,0,0,0,0,0,0,0,0,128.34,162.358,0,0,0.2,1,0,154.00800000000001,194.82959999999997,0,0,0.24,1,null,null,null,null,null,null,null,null,null,null,null,null,null,null,null,null,null,null,null,null,null,null,null,null,0,{"$f":"ROUND(Y284*Source!I166*DO284,7)","v":9.5999999999999992E-3},{"$f":"ROUND(Y284*Source!I166,7)","v":9.5999999999999992E-3},{"$f":"AB284","v":641.70000000000005},{"$f":"AF284","v":641.70000000000005},{"$f":"AJ284","v":1},{"$f":"ROUND((ROUND(AT284*CZ284,2)*ROUND((0.2+1),7)),2)","v":154.01},{"$f":"ROUND((ROUND(AT284*AG284,2)*ROUND((0.2+1),7)),2)","v":194.83},"","",{"$f":"ROUND(ROUND(AE284,2)*CX284,2)","v":0},6.16,7.79,0,{"$f":"DG284+DH284","v":13.95},1,"4-100-040",4,"чел.-ч.",1]
[{"$f":"ROW(Source!A166)","v":166},85312298,85316104,83852000,1,1,1,3,"01.7.06.05-0041","ФСБЦ-2022, 01.7.06.05-0041, приказ Минстроя России от 18.05.2022 г. № 378/пр","Ленты изоляционные хлопчатобумажные прорезиненные для электромонтажных и ремонтных работ, цвет черный, ширина 20 мм, толщина 0,35 мм",1301,null,1003,"м","м",1,null,null,null,null,null,0,-1499427467,{"$f":"AT285","v":33.33},null,5.17,0,0,0,5.87,0,0,0,0.88,1,1,1,2,0,0,1,1,0,"",33.33,"",0,2,85316119,1,0,285,1,0,0,0,0,0,0,0,195.64709999999999,0,0,0,0,0,1,195.64709999999999,0,0,0,0,0,1,null,null,null,null,null,null,null,null,null,null,null,null,null,null,null,null,null,null,null,null,null,null,null,null,0,0,{"$f":"ROUND(Y285*Source!I166,7)","v":1.3331999999999999},{"$f":"AA285","v":5.17},{"$f":"AE285","v":5.87},{"$f":"AI285","v":0.88},{"$f":"ROUND(ROUND(AT285*CZ285,2),2)","v":195.65},{"$f":"ROUND(ROUND(AT285*AG285,2),2)","v":0},"","",{"$f":"ROUND(ROUND(AE285*AI285,2)*CX285,2)","v":6.89},0,0,0,{"$f":"DF285","v":6.89},0,"",0,"",0]
[{"$f":"ROW(Source!A166)","v":166},85312298,85316104,83852170,1,1,1,3,"01.7.07.20-0002","ФСБЦ-2022, 01.7.07.20-0002, приказ Минстроя России от 18.05.2022 г. № 378/пр","Тальк молотый, сорт I",1348,null,1009,"т","т",1000,null,null,null,null,null,0,-423309981,1.3699999999999999E-3,null,57844.42,0,0,0,43821.53,0,0,0,1.32,1,1,1,2,0,0,1,1,0,"",1.3699999999999999E-3,"",0,2,85316120,1,0,286,1,0,0,0,0,0,0,0,60.035496099999996,0,0,0,0,0,1,60.035496099999996,0,0,0,0,0,1,null,null,null,null,null,null,null,null,null,null,null,null,null,null,null,null,null,null,null,null,null,null,null,null,0,0,{"$f":"ROUND(Y286*Source!I166,7)","v":5.4799999999999997E-5},57844.42,43821.53,1.32,60.04,0,"","",{"$f":"ROUND(ROUND(AE286*AI286,2)*CX286,2)","v":3.17},0,0,0,3.17,0,"",0,"",0]
[{"$f":"ROW(Source!A166)","v":166},85312298,85316104,83870516,1,1,1,3,"14.4.02.04-0142","ФСБЦ-2022, 14.4.02.04-0142, приказ Минстроя России от 18.05.2022 г. № 378/пр","Краска масляная МА-0115, мумия, сурик железный",1346,null,1009,"кг","кг",1,null,null,null,null,null,0,291254868,0.02,null,115.03,0,0,0,79.88,0,0,0,1.44,1,1,1,2,0,0,1,1,0,"",0.02,"",0,2,85316121,1,0,287,1,0,0,0,0,0,0,0,1.5975999999999999,0,0,0,0,0,1,1.5975999999999999,0,0,0,0,0,1,null,null,null,null,null,null,null,null,null,null,null,null,null,null,null,null,null,null,null,null,null,null,null,null,0,0,{"$f":"ROUND(Y287*Source!I166,7)","v":8.0000000000000004E-4},115.03,79.88,1.44,1.6,0,"","",{"$f":"ROUND(ROUND(AE287*AI287,2)*CX287,2)","v":0.09},0,0,0,0.09,0,"",0,"",0]
[{"$f":"ROW(Source!A166)","v":166},85312298,85316104,83878106,1,1,1,3,"20.2.01.05-0011","ФСБЦ-2022 доп.11, 20.2.01.05-0011, приказ Минстроя России от 09.08.2024 г. № 524/пр","Гильзы кабельные медные 120 мм",1425,null,1013,"100 ШТ","100 ШТ",1,null,null,null,null,null,0,723347505,0.05,null,14237.19,0,0,0,11574.95,0,0,0,1.23,1,1,1,2,0,0,1,1,0,"",0.05,"",0,2,85316122,1,0,288,1,0,0,0,0,0,0,0,578.74750000000006,0,0,0,0,0,1,578.74750000000006,0,0,0,0,0,1,null,null,null,null,null,null,null,null,null,null,null,null,null,null,null,null,null,null,null,null,null,null,null,null,0,0,{"$f":"ROUND(Y288*Source!I166,7)","v":2E-3},14237.19,11574.95,1.23,578.75,0,"","",{"$f":"ROUND(ROUND(AE288*AI288,2)*CX288,2)","v":28.47},0,0,0,28.47,0,"",0,"",0]
[{"$f":"ROW(Source!A166)","v":166},85312298,85316104,83878151,1,1,1,3,"20.2.02.01-0016","ФСБЦ-2022 доп.9, 20.2.02.01-0016, приказ Минстроя России от 16.02.2024 г. № 102/пр","Втулки полипропиленовые, диаметр 69 мм",1407,null,1013,"1000 ШТ","1000 ШТ",1,null,null,null,null,null,0,-1403868175,1.2200000000000001E-2,null,8561.9,0,0,0,6904.76,0,0,0,1.24,1,1,1,2,0,0,1,1,0,"",1.2200000000000001E-2,"",0,2,85316123,1,0,289,1,0,0,0,0,0,0,0,84.238072000000003,0,0,0,0,0,1,84.238072000000003,0,0,0,0,0,1,null,null,null,null,null,null,null,null,null,null,null,null,null,null,null,null,null,null,null,null,null,null,null,null,0,0,{"$f":"ROUND(Y289*Source!I166,7)","v":4.8799999999999999E-4},8561.9,6904.76,1.24,84.24,0,"","",{"$f":"ROUND(ROUND(AE289*AI289,2)*CX289,2)","v":4.18},0,0,0,4.18,0,"",0,"",0]
[{"$f":"ROW(Source!A166)","v":166},85312298,85316104,83783523,117,1,1,3,"421/пр_2020_п.75_пп.а","","Сметная стоимость вспомогательных ненормируемых материальных ресурсов, не учтенная в сметной норме, 2%",3277935,null,1013,"%","%",1,null,null,null,null,null,0,274903907,2,null,0,0,0,0,0,0,0,0,1,1,1,1,0,0,0,0,0,0,"",2,"",0,2,85316124,1,0,290,0,0,0,0,0,0,0,0,0,0,0,0,0,0,0,0,0,0,0,0,0,0,null,null,null,null,null,null,null,null,null,null,null,null,null,null,null,null,null,null,null,null,null,null,null,null,0,0,{"$f":"ROUND(Y290*Source!I166,7)","v":0.08},0,0,1,0,0,"","",{"$f":"ROUND(ROUND(AE290,2)*CX290,2)","v":0},0,0,0,0,0,"",0,"",0]
[{"$f":"ROW(Source!A170)","v":170},85312357,85316127,83777513,117,1,1,1,"1-100-38","","Средний разряд работы 3,8",1191,null,1013,"чел.-ч.","чел.-ч.",1,null,null,null,null,null,0,44848675,{"$f":"(AT291*ROUND((0.2+1),7))","v":49.343999999999994},null,0,0,0,793.61,0,0,0,793.61,1,1,1,1,-2,0,0,1,1,0,"",41.12,"*(0,2+1)",1,2,85316139,1,0,291,1,0,0,0,0,0,0,0,0,0,0,32633.243199999997,41.12,0,1,0,0,0,39159.891839999997,49.343999999999994,0,1,null,null,null,null,null,null,null,null,null,null,null,null,null,null,null,null,null,null,null,null,null,null,null,{"$f":"ROUND(AT291*Source!I170*AH291*AL291,2)","v":979},{"$f":"ROUND(Y291*Source!I170,7)","v":1.4803200000000001},0,{"$f":"ROUND(Y291*Source!I170,7)","v":1.4803200000000001},{"$f":"AD291","v":793.61},{"$f":"AH291","v":793.61},{"$f":"AL291","v":1},{"$f":"ROUND((ROUND(AT291*CZ291,2)*ROUND((0.2+1),7)),2)","v":39159.89},{"$f":"ROUND((ROUND(AT291*AG291,2)*ROUND((0.2+1),7)),2)","v":0},"","",0,0,0,1174.8,{"$f":"DI291","v":1174.8},1,"",0,"",0]
[{"$f":"ROW(Source!A170)","v":170},85312357,85316127,83777689,117,1,1,1,"4-100-00","","Затраты труда машинистов",1191,null,1013,"чел.-ч.","чел.-ч.",1,null,null,null,null,null,0,-1417349443,{"$f":"(AT292*ROUND((0.2+1),7))","v":1.8479999999999999},null,0,0,0,0,0,0,0,0,1,1,1,1,-2,0,0,1,1,0,"",1.54,"*(0,2+1)",2,2,85316140,1,0,292,1,0,0,0,0,0,0,0,0,0,0,0,0,0,0,0,0,0,0,0,0,0,null,null,null,null,null,null,null,null,null,null,null,null,null,null,null,null,null,null,null,null,null,null,null,null,0,0,{"$f":"ROUND(Y292*Source!I170,7)","v":5.5440000000000003E-2},{"$f":"AD292","v":0},{"$f":"AH292","v":0},{"$f":"AL292","v":1},{"$f":"ROUND((ROUND(AT292*CZ292,2)*ROUND((0.2+1),7)),2)","v":0},{"$f":"ROUND((ROUND(AT292*AG292,2)*ROUND((0.2+1),7)),2)","v":0},"","",0,0,0,0,{"$f":"DI292","v":0},0,"",0,"",0]
[{"$f":"ROW(Source!A170)","v":170},85312357,85316127,83784178,1,1,1,2,"91.05.05-015","ФСЭМ-2022, 91.05.05-015, приказ Минстроя России от 18.05.2022 г. № 378/пр","Краны на автомобильном ходу, грузоподъемность 16 т",1368,null,1011,"маш.-ч","маш.-ч",1,null,null,null,null,null,0,639918019,{"$f":"(AT293*ROUND((0.2+1),7))","v":0.92399999999999993},null,0,1626.29,1090.46,0,0,1626.29,1090.46,0,1,1,1,1,-2,0,0,1,1,0,"",0.77,"*(0,2+1)",1,2,85316141,1,0,293,1,0,0,0,0,0,0,0,0,1252.2433000000001,839.65420000000006,0,0,0.77,1,0,1502.6919599999999,1007.5850399999999,0,0,0.92399999999999993,1,null,null,null,null,null,null,null,null,null,null,null,null,null,null,null,null,null,null,null,null,null,null,null,null,0,{"$f":"ROUND(Y293*Source!I170*DO293,7)","v":2.7720000000000002E-2},{"$f":"ROUND(Y293*Source!I170,7)","v":2.7720000000000002E-2},{"$f":"AB293","v":1626.29},{"$f":"AF293","v":1626.29},{"$f":"AJ293","v":1},{"$f":"ROUND((ROUND(AT293*CZ293,2)*ROUND((0.2+1),7)),2)","v":1502.69},{"$f":"ROUND((ROUND(AT293*AG293,2)*ROUND((0.2+1),7)),2)","v":1007.58},"","",0,45.08,30.23,0,{"$f":"DG293+DH293","v":75.31},1,"4-100-060",6,"чел.-ч.",1]
[{"$f":"ROW(Source!A170)","v":170},85312357,85316127,83785072,1,1,1,2,"91.14.02-001","ФСЭМ-2022 доп.7, 91.14.02-001, приказ Минстроя России от 02.08.2023 г. № 551/пр","Автомобили бортовые, грузоподъемность до 5 т",1368,null,1011,"маш.-ч","маш.-ч",1,null,null,null,null,null,0,-849950259,{"$f":"(AT294*ROUND((0.2+1),7))","v":0.92399999999999993},null,0,641.70000000000005,811.79,0,0,641.70000000000005,811.79,0,1,1,1,1,-2,0,0,1,1,0,"",0.77,"*(0,2+1)",1,2,85316142,1,0,294,1,0,0,0,0,0,0,0,0,494.10900000000004,625.07830000000001,0,0,0.77,1,0,592.93079999999998,750.09395999999992,0,0,0.92399999999999993,1,null,null,null,null,null,null,null,null,null,null,null,null,null,null,null,null,null,null,null,null,null,null,null,null,0,{"$f":"ROUND(Y294*Source!I170*DO294,7)","v":2.7720000000000002E-2},{"$f":"ROUND(Y294*Source!I170,7)","v":2.7720000000000002E-2},{"$f":"AB294","v":641.70000000000005},{"$f":"AF294","v":641.70000000000005},{"$f":"AJ294","v":1},{"$f":"ROUND((ROUND(AT294*CZ294,2)*ROUND((0.2+1),7)),2)","v":592.92999999999995},{"$f":"ROUND((ROUND(AT294*AG294,2)*ROUND((0.2+1),7)),2)","v":750.1},"","",0,{"$f":"ROUND(ROUND(AF294,2)*CX294,2)","v":17.79},22.5,0,{"$f":"DG294+DH294","v":40.29},1,"4-100-040",4,"чел.-ч.",1]
[{"$f":"ROW(Source!A170)","v":170},85312357,85316127,83785268,1,1,1,2,"91.17.04-233","ФСЭМ-2022, 91.17.04-233, приказ Минстроя России от 18.05.2022 г. № 378/пр","Аппараты сварочные для ручной дуговой сварки, сварочный ток до 350 А",1368,null,1011,"маш.-ч","маш.-ч",1,null,null,null,null,null,0,303316554,{"$f":"(AT295*ROUND((0.2+1),7))","v":5.9279999999999999},null,0,34.61,0,0,0,34.61,0,0,1,1,1,1,-2,0,0,1,1,0,"",4.9400000000000004,"*(0,2+1)",1,2,85316143,1,0,295,1,0,0,0,0,0,0,0,0,170.9734,0,0,0,0,1,0,205.16808,0,0,0,0,1,null,null,null,null,null,null,null,null,null,null,null,null,null,null,null,null,null,null,null,null,null,null,null,null,0,{"$f":"ROUND(Y295*Source!I170*DO295,7)","v":0},{"$f":"ROUND(Y295*Source!I170,7)","v":0.17784},{"$f":"AB295","v":34.61},{"$f":"AF295","v":34.61},{"$f":"AJ295","v":1},{"$f":"ROUND((ROUND(AT295*CZ295,2)*ROUND((0.2+1),7)),2)","v":205.16},{"$f":"ROUND((ROUND(AT295*AG295,2)*ROUND((0.2+1),7)),2)","v":0},"","",0,6.16,0,0,{"$f":"DG295+DH295","v":6.16},1,"",0,"",0]
[{"$f":"ROW(Source!A170)","v":170},85312357,85316127,83851809,1,1,1,3,"01.7.02.07-0011","ФСБЦ-2022 доп.12, 01.7.02.07-0011, приказ Минстроя России от 07.11.2024 г. № 747/пр","Прессшпан листовой, марка А",1346,null,1009,"кг","кг",1,null,null,null,null,null,0,-999785557,{"$f":"AT296","v":0.99},null,282.81,0,0,0,206.43,0,0,0,1.37,1,1,1,2,0,0,1,1,0,"",0.99,"",0,2,85316144,1,0,296,1,0,0,0,0,0,0,0,204.3657,0,0,0,0,0,1,204.3657,0,0,0,0,0,1,null,null,null,null,null,null,null,null,null,null,null,null,null,null,null,null,null,null,null,null,null,null,null,null,0,0,{"$f":"ROUND(Y296*Source!I170,7)","v":2.9700000000000001E-2},{"$f":"AA296","v":282.81},{"$f":"AE296","v":206.43},{"$f":"AI296","v":1.37},{"$f":"ROUND(ROUND(AT296*CZ296,2),2)","v":204.37},{"$f":"ROUND(ROUND(AT296*AG296,2),2)","v":0},"","",{"$f":"ROUND(ROUND(AE296*AI296,2)*CX296,2)","v":8.4},0,0,0,{"$f":"DF296","v":8.4},0,"",0,"",0]
[{"$f":"ROW(Source!A170)","v":170},85312357,85316127,83851841,1,1,1,3,"01.7.03.04-0001","ФСБЦ-2022, 01.7.03.04-0001, приказ Минстроя России от 18.05.2022 г. № 378/пр","Электроэнергия",1383,null,1013,"КВТ-Ч","КВТ-Ч",1,null,null,null,null,null,0,1840299850,2.5428000000000002,null,7.32,0,0,0,7.32,0,0,0,1,1,1,1,-2,0,0,1,1,0,"",2.5428000000000002,"",0,2,85316145,1,0,297,1,0,0,0,0,0,0,0,18.613296000000002,0,0,0,0,0,1,18.613296000000002,0,0,0,0,0,1,null,null,null,null,null,null,null,null,null,null,null,null,null,null,null,null,null,null,null,null,null,null,null,null,0,0,{"$f":"ROUND(Y297*Source!I170,7)","v":7.6284000000000005E-2},7.32,7.32,1,18.61,0,"","",{"$f":"ROUND(ROUND(AE297,2)*CX297,2)","v":0.56000000000000005},0,0,0,0.56000000000000005,1,"",0,"",0]
[{"$f":"ROW(Source!A170)","v":170},85312357,85316127,83852582,1,1,1,3,"01.7.11.07-0227","ФСБЦ-2022, 01.7.11.07-0227, приказ Минстроя России от 18.05.2022 г. № 378/пр","Электроды сварочные для сварки низколегированных и углеродистых сталей УОНИ 13/45, Э42А, диаметр 4-5 мм",1346,null,1009,"кг","кг",1,null,null,null,null,null,0,-163259778,3,null,121.39,0,0,0,155.63,0,0,0,0.78,1,1,1,2,0,0,1,1,0,"",3,"",0,2,85316146,1,0,298,1,0,0,0,0,0,0,0,466.89,0,0,0,0,0,1,466.89,0,0,0,0,0,1,null,null,null,null,null,null,null,null,null,null,null,null,null,null,null,null,null,null,null,null,null,null,null,null,0,0,{"$f":"ROUND(Y298*Source!I170,7)","v":0.09},121.39,155.63,0.78,466.89,0,"","",{"$f":"ROUND(ROUND(AE298*AI298,2)*CX298,2)","v":10.93},0,0,0,10.93,0,"",0,"",0]
[{"$f":"ROW(Source!A170)","v":170},85312357,85316127,83853343,1,1,1,3,"01.7.15.04-0011","ФСБЦ-2022, 01.7.15.04-0011, приказ Минстроя России от 18.05.2022 г. № 378/пр","Винты стальные с полукруглой головкой, длина 50 мм",1348,null,1009,"т","т",1000,null,null,null,null,null,0,-82070740,1.5499999999999999E-3,null,164353.74,0,0,0,127406,0,0,0,1.29,1,1,1,2,0,0,1,1,0,"",1.5499999999999999E-3,"",0,2,85316147,1,0,299,1,0,0,0,0,0,0,0,197.47929999999999,0,0,0,0,0,1,197.47929999999999,0,0,0,0,0,1,null,null,null,null,null,null,null,null,null,null,null,null,null,null,null,null,null,null,null,null,null,null,null,null,0,0,{"$f":"ROUND(Y299*Source!I170,7)","v":4.6499999999999999E-5},164353.74,127406,1.29,197.48,0,"","",{"$f":"ROUND(ROUND(AE299*AI299,2)*CX299,2)","v":7.64},0,0,0,7.64,0,"",0,"",0]
[{"$f":"ROW(Source!A170)","v":170},85312357,85316127,83870516,1,1,1,3,"14.4.02.04-0142","ФСБЦ-2022, 14.4.02.04-0142, приказ Минстроя России от 18.05.2022 г. № 378/пр","Краска масляная МА-0115, мумия, сурик железный",1346,null,1009,"кг","кг",1,null,null,null,null,null,0,291254868,0.1,null,115.03,0,0,0,79.88,0,0,0,1.44,1,1,1,2,0,0,1,1,0,"",0.1,"",0,2,85316148,1,0,300,1,0,0,0,0,0,0,0,7.9879999999999995,0,0,0,0,0,1,7.9879999999999995,0,0,0,0,0,1,null,null,null,null,null,null,null,null,null,null,null,null,null,null,null,null,null,null,null,null,null,null,null,null,0,0,{"$f":"ROUND(Y300*Source!I170,7)","v":3.0000000000000001E-3},115.03,79.88,1.44,7.99,0,"","",{"$f":"ROUND(ROUND(AE300*AI300,2)*CX300,2)","v":0.35},0,0,0,0.35,0,"",0,"",0]
[{"$f":"ROW(Source!A170)","v":170},85312357,85316127,83783523,117,1,1,3,"421/пр_2020_п.75_пп.а","","Сметная стоимость вспомогательных ненормируемых материальных ресурсов, не учтенная в сметной норме, 2%",3277935,null,1013,"%","%",1,null,null,null,null,null,0,274903907,2,null,0,0,0,0,0,0,0,0,1,1,1,1,0,0,0,0,0,0,"",2,"",0,2,85316149,1,0,301,0,0,0,0,0,0,0,0,0,0,0,0,0,0,0,0,0,0,0,0,0,0,null,null,null,null,null,null,null,null,null,null,null,null,null,null,null,null,null,null,null,null,null,null,null,null,0,0,{"$f":"ROUND(Y301*Source!I170,7)","v":0.06},0,0,1,0,0,"","",{"$f":"ROUND(ROUND(AE301,2)*CX301,2)","v":0},0,0,0,0,0,"",0,"",0]
[{"$f":"ROW(Source!A171)","v":171},85312298,85316127,83777513,117,1,1,1,"1-100-38","","Средний разряд работы 3,8",1191,null,1013,"чел.-ч.","чел.-ч.",1,null,null,null,null,null,0,44848675,{"$f":"(AT302*ROUND((0.2+1),7))","v":49.343999999999994},null,0,0,0,793.61,0,0,0,793.61,1,1,1,1,-2,0,0,1,1,0,"",41.12,"*(0,2+1)",1,2,85316139,1,0,302,1,0,0,0,0,0,0,0,0,0,0,32633.243199999997,41.12,0,1,0,0,0,39159.891839999997,49.343999999999994,0,1,null,null,null,null,null,null,null,null,null,null,null,null,null,null,null,null,null,null,null,null,null,null,null,{"$f":"ROUND(AT302*Source!I171*AH302*AL302,2)","v":979},{"$f":"ROUND(Y302*Source!I171,7)","v":1.4803200000000001},0,{"$f":"ROUND(Y302*Source!I171,7)","v":1.4803200000000001},{"$f":"AD302","v":793.61},{"$f":"AH302","v":793.61},{"$f":"AL302","v":1},{"$f":"ROUND((ROUND(AT302*CZ302,2)*ROUND((0.2+1),7)),2)","v":39159.89},{"$f":"ROUND((ROUND(AT302*AG302,2)*ROUND((0.2+1),7)),2)","v":0},"","",0,0,0,1174.8,{"$f":"DI302","v":1174.8},1,"",0,"",0]
[{"$f":"ROW(Source!A171)","v":171},85312298,85316127,83777689,117,1,1,1,"4-100-00","","Затраты труда машинистов",1191,null,1013,"чел.-ч.","чел.-ч.",1,null,null,null,null,null,0,-1417349443,{"$f":"(AT303*ROUND((0.2+1),7))","v":1.8479999999999999},null,0,0,0,0,0,0,0,0,1,1,1,1,-2,0,0,1,1,0,"",1.54,"*(0,2+1)",2,2,85316140,1,0,303,1,0,0,0,0,0,0,0,0,0,0,0,0,0,0,0,0,0,0,0,0,0,null,null,null,null,null,null,null,null,null,null,null,null,null,null,null,null,null,null,null,null,null,null,null,null,0,0,{"$f":"ROUND(Y303*Source!I171,7)","v":5.5440000000000003E-2},{"$f":"AD303","v":0},{"$f":"AH303","v":0},{"$f":"AL303","v":1},{"$f":"ROUND((ROUND(AT303*CZ303,2)*ROUND((0.2+1),7)),2)","v":0},{"$f":"ROUND((ROUND(AT303*AG303,2)*ROUND((0.2+1),7)),2)","v":0},"","",0,0,0,0,{"$f":"DI303","v":0},0,"",0,"",0]
[{"$f":"ROW(Source!A171)","v":171},85312298,85316127,83784178,1,1,1,2,"91.05.05-015","ФСЭМ-2022, 91.05.05-015, приказ Минстроя России от 18.05.2022 г. № 378/пр","Краны на автомобильном ходу, грузоподъемность 16 т",1368,null,1011,"маш.-ч","маш.-ч",1,null,null,null,null,null,0,639918019,{"$f":"(AT304*ROUND((0.2+1),7))","v":0.92399999999999993},null,0,1626.29,1090.46,0,0,1626.29,1090.46,0,1,1,1,1,-2,0,0,1,1,0,"",0.77,"*(0,2+1)",1,2,85316141,1,0,304,1,0,0,0,0,0,0,0,0,1252.2433000000001,839.65420000000006,0,0,0.77,1,0,1502.6919599999999,1007.5850399999999,0,0,0.92399999999999993,1,null,null,null,null,null,null,null,null,null,null,null,null,null,null,null,null,null,null,null,null,null,null,null,null,0,{"$f":"ROUND(Y304*Source!I171*DO304,7)","v":2.7720000000000002E-2},{"$f":"ROUND(Y304*Source!I171,7)","v":2.7720000000000002E-2},{"$f":"AB304","v":1626.29},{"$f":"AF304","v":1626.29},{"$f":"AJ304","v":1},{"$f":"ROUND((ROUND(AT304*CZ304,2)*ROUND((0.2+1),7)),2)","v":1502.69},{"$f":"ROUND((ROUND(AT304*AG304,2)*ROUND((0.2+1),7)),2)","v":1007.58},"","",0,45.08,30.23,0,{"$f":"DG304+DH304","v":75.31},1,"4-100-060",6,"чел.-ч.",1]
[{"$f":"ROW(Source!A171)","v":171},85312298,85316127,83785072,1,1,1,2,"91.14.02-001","ФСЭМ-2022 доп.7, 91.14.02-001, приказ Минстроя России от 02.08.2023 г. № 551/пр","Автомобили бортовые, грузоподъемность до 5 т",1368,null,1011,"маш.-ч","маш.-ч",1,null,null,null,null,null,0,-849950259,{"$f":"(AT305*ROUND((0.2+1),7))","v":0.92399999999999993},null,0,641.70000000000005,811.79,0,0,641.70000000000005,811.79,0,1,1,1,1,-2,0,0,1,1,0,"",0.77,"*(0,2+1)",1,2,85316142,1,0,305,1,0,0,0,0,0,0,0,0,494.10900000000004,625.07830000000001,0,0,0.77,1,0,592.93079999999998,750.09395999999992,0,0,0.92399999999999993,1,null,null,null,null,null,null,null,null,null,null,null,null,null,null,null,null,null,null,null,null,null,null,null,null,0,{"$f":"ROUND(Y305*Source!I171*DO305,7)","v":2.7720000000000002E-2},{"$f":"ROUND(Y305*Source!I171,7)","v":2.7720000000000002E-2},{"$f":"AB305","v":641.70000000000005},{"$f":"AF305","v":641.70000000000005},{"$f":"AJ305","v":1},{"$f":"ROUND((ROUND(AT305*CZ305,2)*ROUND((0.2+1),7)),2)","v":592.92999999999995},{"$f":"ROUND((ROUND(AT305*AG305,2)*ROUND((0.2+1),7)),2)","v":750.1},"","",0,17.79,22.5,0,{"$f":"DG305+DH305","v":40.29},1,"4-100-040",4,"чел.-ч.",1]
[{"$f":"ROW(Source!A171)","v":171},85312298,85316127,83785268,1,1,1,2,"91.17.04-233","ФСЭМ-2022, 91.17.04-233, приказ Минстроя России от 18.05.2022 г. № 378/пр","Аппараты сварочные для ручной дуговой сварки, сварочный ток до 350 А",1368,null,1011,"маш.-ч","маш.-ч",1,null,null,null,null,null,0,303316554,{"$f":"(AT306*ROUND((0.2+1),7))","v":5.9279999999999999},null,0,34.61,0,0,0,34.61,0,0,1,1,1,1,-2,0,0,1,1,0,"",4.9400000000000004,"*(0,2+1)",1,2,85316143,1,0,306,1,0,0,0,0,0,0,0,0,170.9734,0,0,0,0,1,0,205.16808,0,0,0,0,1,null,null,null,null,null,null,null,null,null,null,null,null,null,null,null,null,null,null,null,null,null,null,null,null,0,{"$f":"ROUND(Y306*Source!I171*DO306,7)","v":0},{"$f":"ROUND(Y306*Source!I171,7)","v":0.17784},{"$f":"AB306","v":34.61},{"$f":"AF306","v":34.61},{"$f":"AJ306","v":1},{"$f":"ROUND((ROUND(AT306*CZ306,2)*ROUND((0.2+1),7)),2)","v":205.16},{"$f":"ROUND((ROUND(AT306*AG306,2)*ROUND((0.2+1),7)),2)","v":0},"","",0,6.16,0,0,{"$f":"DG306+DH306","v":6.16},1,"",0,"",0]
[{"$f":"ROW(Source!A171)","v":171},85312298,85316127,83851809,1,1,1,3,"01.7.02.07-0011","ФСБЦ-2022 доп.12, 01.7.02.07-0011, приказ Минстроя России от 07.11.2024 г. № 747/пр","Прессшпан листовой, марка А",1346,null,1009,"кг","кг",1,null,null,null,null,null,0,-999785557,{"$f":"AT307","v":0.99},null,282.81,0,0,0,206.43,0,0,0,1.37,1,1,1,2,0,0,1,1,0,"",0.99,"",0,2,85316144,1,0,307,1,0,0,0,0,0,0,0,204.3657,0,0,0,0,0,1,204.3657,0,0,0,0,0,1,null,null,null,null,null,null,null,null,null,null,null,null,null,null,null,null,null,null,null,null,null,null,null,null,0,0,{"$f":"ROUND(Y307*Source!I171,7)","v":2.9700000000000001E-2},{"$f":"AA307","v":282.81},{"$f":"AE307","v":206.43},{"$f":"AI307","v":1.37},{"$f":"ROUND(ROUND(AT307*CZ307,2),2)","v":204.37},{"$f":"ROUND(ROUND(AT307*AG307,2),2)","v":0},"","",{"$f":"ROUND(ROUND(AE307*AI307,2)*CX307,2)","v":8.4},0,0,0,{"$f":"DF307","v":8.4},0,"",0,"",0]
[{"$f":"ROW(Source!A171)","v":171},85312298,85316127,83851841,1,1,1,3,"01.7.03.04-0001","ФСБЦ-2022, 01.7.03.04-0001, приказ Минстроя России от 18.05.2022 г. № 378/пр","Электроэнергия",1383,null,1013,"КВТ-Ч","КВТ-Ч",1,null,null,null,null,null,0,1840299850,2.5428000000000002,null,7.32,0,0,0,7.32,0,0,0,1,1,1,1,-2,0,0,1,1,0,"",2.5428000000000002,"",0,2,85316145,1,0,308,1,0,0,0,0,0,0,0,18.613296000000002,0,0,0,0,0,1,18.613296000000002,0,0,0,0,0,1,null,null,null,null,null,null,null,null,null,null,null,null,null,null,null,null,null,null,null,null,null,null,null,null,0,0,{"$f":"ROUND(Y308*Source!I171,7)","v":7.6284000000000005E-2},7.32,7.32,1,18.61,0,"","",{"$f":"ROUND(ROUND(AE308,2)*CX308,2)","v":0.56000000000000005},0,0,0,0.56000000000000005,1,"",0,"",0]
[{"$f":"ROW(Source!A171)","v":171},85312298,85316127,83852582,1,1,1,3,"01.7.11.07-0227","ФСБЦ-2022, 01.7.11.07-0227, приказ Минстроя России от 18.05.2022 г. № 378/пр","Электроды сварочные для сварки низколегированных и углеродистых сталей УОНИ 13/45, Э42А, диаметр 4-5 мм",1346,null,1009,"кг","кг",1,null,null,null,null,null,0,-163259778,3,null,121.39,0,0,0,155.63,0,0,0,0.78,1,1,1,2,0,0,1,1,0,"",3,"",0,2,85316146,1,0,309,1,0,0,0,0,0,0,0,466.89,0,0,0,0,0,1,466.89,0,0,0,0,0,1,null,null,null,null,null,null,null,null,null,null,null,null,null,null,null,null,null,null,null,null,null,null,null,null,0,0,{"$f":"ROUND(Y309*Source!I171,7)","v":0.09},121.39,155.63,0.78,466.89,0,"","",{"$f":"ROUND(ROUND(AE309*AI309,2)*CX309,2)","v":10.93},0,0,0,10.93,0,"",0,"",0]
[{"$f":"ROW(Source!A171)","v":171},85312298,85316127,83853343,1,1,1,3,"01.7.15.04-0011","ФСБЦ-2022, 01.7.15.04-0011, приказ Минстроя России от 18.05.2022 г. № 378/пр","Винты стальные с полукруглой головкой, длина 50 мм",1348,null,1009,"т","т",1000,null,null,null,null,null,0,-82070740,1.5499999999999999E-3,null,164353.74,0,0,0,127406,0,0,0,1.29,1,1,1,2,0,0,1,1,0,"",1.5499999999999999E-3,"",0,2,85316147,1,0,310,1,0,0,0,0,0,0,0,197.47929999999999,0,0,0,0,0,1,197.47929999999999,0,0,0,0,0,1,null,null,null,null,null,null,null,null,null,null,null,null,null,null,null,null,null,null,null,null,null,null,null,null,0,0,{"$f":"ROUND(Y310*Source!I171,7)","v":4.6499999999999999E-5},164353.74,127406,1.29,197.48,0,"","",{"$f":"ROUND(ROUND(AE310*AI310,2)*CX310,2)","v":7.64},0,0,0,7.64,0,"",0,"",0]
[{"$f":"ROW(Source!A171)","v":171},85312298,85316127,83870516,1,1,1,3,"14.4.02.04-0142","ФСБЦ-2022, 14.4.02.04-0142, приказ Минстроя России от 18.05.2022 г. № 378/пр","Краска масляная МА-0115, мумия, сурик железный",1346,null,1009,"кг","кг",1,null,null,null,null,null,0,291254868,0.1,null,115.03,0,0,0,79.88,0,0,0,1.44,1,1,1,2,0,0,1,1,0,"",0.1,"",0,2,85316148,1,0,311,1,0,0,0,0,0,0,0,7.9879999999999995,0,0,0,0,0,1,7.9879999999999995,0,0,0,0,0,1,null,null,null,null,null,null,null,null,null,null,null,null,null,null,null,null,null,null,null,null,null,null,null,null,0,0,{"$f":"ROUND(Y311*Source!I171,7)","v":3.0000000000000001E-3},115.03,79.88,1.44,7.99,0,"","",{"$f":"ROUND(ROUND(AE311*AI311,2)*CX311,2)","v":0.35},0,0,0,0.35,0,"",0,"",0]
[{"$f":"ROW(Source!A171)","v":171},85312298,85316127,83783523,117,1,1,3,"421/пр_2020_п.75_пп.а","","Сметная стоимость вспомогательных ненормируемых материальных ресурсов, не учтенная в сметной норме, 2%",3277935,null,1013,"%","%",1,null,null,null,null,null,0,274903907,2,null,0,0,0,0,0,0,0,0,1,1,1,1,0,0,0,0,0,0,"",2,"",0,2,85316149,1,0,312,0,0,0,0,0,0,0,0,0,0,0,0,0,0,0,0,0,0,0,0,0,0,null,null,null,null,null,null,null,null,null,null,null,null,null,null,null,null,null,null,null,null,null,null,null,null,0,0,{"$f":"ROUND(Y312*Source!I171,7)","v":0.06},0,0,1,0,0,"","",{"$f":"ROUND(ROUND(AE312,2)*CX312,2)","v":0},0,0,0,0,0,"",0,"",0]
[{"$f":"ROW(Source!A175)","v":175},85312357,85316152,83777647,117,1,1,1,"2-100-02","","Рабочий 2 разряда",1369,null,1013,"чел.-ч","чел.-ч",1,null,null,null,null,null,0,-236928766,{"$f":"(AT313*ROUND((0.2+1),7))","v":1.1879999999999999},null,0,0,0,660.33,0,0,0,660.33,1,1,1,1,-2,0,0,1,1,0,"",0.99,"*(0,2+1)",1,2,85316166,1,0,313,1,0,0,0,0,0,0,0,0,0,0,653.72670000000005,0.99,0,1,0,0,0,784.47203999999999,1.1879999999999999,0,1,null,null,null,null,null,null,null,null,null,null,null,null,null,null,null,null,null,null,null,null,null,null,null,{"$f":"ROUND(AT313*Source!I175*AH313*AL313,2)","v":4.58},{"$f":"ROUND(Y313*Source!I175,7)","v":8.3160000000000005E-3},0,{"$f":"ROUND(Y313*Source!I175,7)","v":8.3160000000000005E-3},{"$f":"AD313","v":660.33},{"$f":"AH313","v":660.33},{"$f":"AL313","v":1},{"$f":"ROUND((ROUND(AT313*CZ313,2)*ROUND((0.2+1),7)),2)","v":784.48},{"$f":"ROUND((ROUND(AT313*AG313,2)*ROUND((0.2+1),7)),2)","v":0},"","",0,0,0,5.49,{"$f":"DI313","v":5.49},1,"",0,"",0]
[{"$f":"ROW(Source!A175)","v":175},85312357,85316152,83777649,117,1,1,1,"2-100-03","","Рабочий 3 разряда",1369,null,1013,"чел.-ч","чел.-ч",1,null,null,null,null,null,0,-587036825,56.747999999999998,null,0,0,0,720.91,0,0,0,720.91,1,1,1,1,-2,0,0,1,1,0,"",47.29,"*(0,2+1)",1,2,85316167,1,0,314,1,0,0,0,0,0,0,0,0,0,0,34091.833899999998,47.29,0,1,0,0,0,40910.200679999994,56.747999999999998,0,1,null,null,null,null,null,null,null,null,null,null,null,null,null,null,null,null,null,null,null,null,null,null,null,{"$f":"ROUND(AT314*Source!I175*AH314*AL314,2)","v":238.64},{"$f":"ROUND(Y314*Source!I175,7)","v":0.39723599999999998},0,{"$f":"ROUND(Y314*Source!I175,7)","v":0.39723599999999998},{"$f":"AD314","v":720.91},{"$f":"AH314","v":720.91},{"$f":"AL314","v":1},40910.199999999997,0,"","",0,0,0,286.37,{"$f":"DI314","v":286.37},1,"",0,"",0]
[{"$f":"ROW(Source!A175)","v":175},85312357,85316152,83777653,117,1,1,1,"2-100-04","","Рабочий 4 разряда",1369,null,1013,"чел.-ч","чел.-ч",1,null,null,null,null,null,0,-512803540,28.104000000000003,null,0,0,0,811.79,0,0,0,811.79,1,1,1,1,-2,0,0,1,1,0,"",23.42,"*(0,2+1)",1,2,85316168,1,0,315,1,0,0,0,0,0,0,0,0,0,0,19012.121800000001,23.42,0,1,0,0,0,22814.546160000002,28.104000000000003,0,1,null,null,null,null,null,null,null,null,null,null,null,null,null,null,null,null,null,null,null,null,null,null,null,{"$f":"ROUND(AT315*Source!I175*AH315*AL315,2)","v":133.08000000000001},{"$f":"ROUND(Y315*Source!I175,7)","v":0.19672799999999999},0,{"$f":"ROUND(Y315*Source!I175,7)","v":0.19672799999999999},{"$f":"AD315","v":811.79},{"$f":"AH315","v":811.79},{"$f":"AL315","v":1},22814.54,0,"","",0,0,0,159.69999999999999,{"$f":"DI315","v":159.69999999999999},1,"",0,"",0]
[{"$f":"ROW(Source!A175)","v":175},85312357,85316152,83777657,117,1,1,1,"2-100-05","","Рабочий 5 разряда",1369,null,1013,"чел.-ч","чел.-ч",1,null,null,null,null,null,0,1518711480,28.104000000000003,null,0,0,0,932.95,0,0,0,932.95,1,1,1,1,-2,0,0,1,1,0,"",23.42,"*(0,2+1)",1,2,85316169,1,0,316,1,0,0,0,0,0,0,0,0,0,0,21849.689000000002,23.42,0,1,0,0,0,26219.626800000005,28.104000000000003,0,1,null,null,null,null,null,null,null,null,null,null,null,null,null,null,null,null,null,null,null,null,null,null,null,{"$f":"ROUND(AT316*Source!I175*AH316*AL316,2)","v":152.94999999999999},{"$f":"ROUND(Y316*Source!I175,7)","v":0.19672799999999999},0,{"$f":"ROUND(Y316*Source!I175,7)","v":0.19672799999999999},{"$f":"AD316","v":932.95},{"$f":"AH316","v":932.95},{"$f":"AL316","v":1},26219.63,0,"","",0,0,0,183.54,{"$f":"DI316","v":183.54},1,"",0,"",0]
[{"$f":"ROW(Source!A175)","v":175},85312357,85316152,83777689,117,1,1,1,"4-100-00","","Затраты труда машинистов",1191,null,1013,"чел.-ч.","чел.-ч.",1,null,null,null,null,null,0,-1417349443,29.867999999999999,null,0,0,0,0,0,0,0,0,1,1,1,1,-2,0,0,1,1,0,"",24.89,"*(0,2+1)",2,2,85316170,1,0,317,1,0,0,0,0,0,0,0,0,0,0,0,0,0,0,0,0,0,0,0,0,0,null,null,null,null,null,null,null,null,null,null,null,null,null,null,null,null,null,null,null,null,null,null,null,null,0,0,{"$f":"ROUND(Y317*Source!I175,7)","v":0.20907600000000001},{"$f":"AD317","v":0},{"$f":"AH317","v":0},{"$f":"AL317","v":1},0,0,"","",0,0,0,0,{"$f":"DI317","v":0},0,"",0,"",0]
[{"$f":"ROW(Source!A175)","v":175},85312357,85316152,83784178,1,1,1,2,"91.05.05-015","ФСЭМ-2022, 91.05.05-015, приказ Минстроя России от 18.05.2022 г. № 378/пр","Краны на автомобильном ходу, грузоподъемность 16 т",1368,null,1011,"маш.-ч","маш.-ч",1,null,null,null,null,null,0,639918019,0.89999999999999991,null,0,1626.29,1090.46,0,0,1626.29,1090.46,0,1,1,1,1,-2,0,0,1,1,0,"",0.75,"*(0,2+1)",1,2,85316171,1,0,318,1,0,0,0,0,0,0,0,0,1219.7175,817.84500000000003,0,0,0.75,1,0,1463.6609999999998,981.41399999999999,0,0,0.89999999999999991,1,null,null,null,null,null,null,null,null,null,null,null,null,null,null,null,null,null,null,null,null,null,null,null,null,0,{"$f":"ROUND(Y318*Source!I175*DO318,7)","v":6.3E-3},{"$f":"ROUND(Y318*Source!I175,7)","v":6.3E-3},{"$f":"AB318","v":1626.29},{"$f":"AF318","v":1626.29},{"$f":"AJ318","v":1},1463.66,981.42,"","",0,10.25,6.87,0,{"$f":"DG318+DH318","v":17.12},1,"4-100-060",6,"чел.-ч.",1]
[{"$f":"ROW(Source!A175)","v":175},85312357,85316152,83784312,1,1,1,2,"91.06.03-055","ФСЭМ-2022, 91.06.03-055, приказ Минстроя России от 18.05.2022 г. № 378/пр","Лебедки электрические тяговым усилием 19,62 кН (2 т)",1368,null,1011,"маш.-ч","маш.-ч",1,null,null,null,null,null,0,1560534341,0.97199999999999998,null,0,16.95,0,0,0,11.45,0,0,1,1.48,1,1,2,0,0,1,1,0,"",0.81,"*(0,2+1)",1,2,85316172,1,0,319,1,0,0,0,0,0,0,0,0,9.2744999999999997,0,0,0,0,1,0,11.129399999999999,0,0,0,0,1,null,null,null,null,null,null,null,null,null,null,null,null,null,null,null,null,null,null,null,null,null,null,null,null,0,{"$f":"ROUND(Y319*Source!I175*DO319,7)","v":0},{"$f":"ROUND(Y319*Source!I175,7)","v":6.8040000000000002E-3},{"$f":"AB319","v":16.95},{"$f":"AF319","v":11.45},{"$f":"AJ319","v":1.48},11.12,0,"","",0,{"$f":"ROUND(ROUND(AF319*AJ319,2)*CX319,2)","v":0.12},0,0,{"$f":"DG319+DH319","v":0.12},0,"",0,"",0]
[{"$f":"ROW(Source!A175)","v":175},85312357,85316152,83784352,1,1,1,2,"91.06.06-011","ФСЭМ-2022, 91.06.06-011, приказ Минстроя России от 18.05.2022 г. № 378/пр","Автогидроподъемники, высота подъема 12 м",1368,null,1011,"маш.-ч","маш.-ч",1,null,null,null,null,null,0,-438045540,27.287999999999997,null,0,506.23,811.79,0,0,346.73,811.79,0,1,1.46,1,1,2,0,0,1,1,0,"",22.74,"*(0,2+1)",1,2,85316173,1,0,320,1,0,0,0,0,0,0,0,0,7884.6401999999998,18460.104599999999,0,0,22.74,1,0,9461.5682399999987,22152.125519999998,0,0,27.287999999999997,1,null,null,null,null,null,null,null,null,null,null,null,null,null,null,null,null,null,null,null,null,null,null,null,null,0,{"$f":"ROUND(Y320*Source!I175*DO320,7)","v":0.19101599999999999},{"$f":"ROUND(Y320*Source!I175,7)","v":0.19101599999999999},{"$f":"AB320","v":506.23},{"$f":"AF320","v":346.73},{"$f":"AJ320","v":1.46},9461.57,22152.12,"","",0,{"$f":"ROUND(ROUND(AF320*AJ320,2)*CX320,2)","v":96.7},155.06,0,{"$f":"DG320+DH320","v":251.76},0,"4-100-040",4,"чел.-ч.",1]
[{"$f":"ROW(Source!A175)","v":175},85312357,85316152,83785072,1,1,1,2,"91.14.02-001","ФСЭМ-2022 доп.7, 91.14.02-001, приказ Минстроя России от 02.08.2023 г. № 551/пр","Автомобили бортовые, грузоподъемность до 5 т",1368,null,1011,"маш.-ч","маш.-ч",1,null,null,null,null,null,0,-849950259,0.70799999999999996,null,0,641.70000000000005,811.79,0,0,641.70000000000005,811.79,0,1,1,1,1,-2,0,0,1,1,0,"",0.59,"*(0,2+1)",1,2,85316174,1,0,321,1,0,0,0,0,0,0,0,0,378.60300000000001,478.95609999999994,0,0,0.59,1,0,454.3236,574.74731999999995,0,0,0.70799999999999996,1,null,null,null,null,null,null,null,null,null,null,null,null,null,null,null,null,null,null,null,null,null,null,null,null,0,{"$f":"ROUND(Y321*Source!I175*DO321,7)","v":4.9560000000000003E-3},{"$f":"ROUND(Y321*Source!I175,7)","v":4.9560000000000003E-3},{"$f":"AB321","v":641.70000000000005},{"$f":"AF321","v":641.70000000000005},{"$f":"AJ321","v":1},454.32,574.75,"","",0,{"$f":"ROUND(ROUND(AF321,2)*CX321,2)","v":3.18},{"$f":"ROUND(ROUND(AG321,2)*CX321,2)","v":4.0199999999999996},{"$f":"ROUND(ROUND(AH321,2)*CX321,2)","v":0},{"$f":"DG321+DH321","v":7.1999999999999993},1,"4-100-040",4,"чел.-ч.",1]
[{"$f":"ROW(Source!A175)","v":175},85312357,85316152,83785270,1,1,1,2,"91.17.04-544","ФСЭМ-2022, 91.17.04-544, приказ Минстроя России от 18.05.2022 г. № 378/пр","Генераторы бензиновые портативные, мощность до 6 кВт",1368,null,1011,"маш.-ч","маш.-ч",1,null,null,null,null,null,0,-1265937479,0.97199999999999998,null,0,192.86,811.79,0,0,192.86,811.79,0,1,1,1,1,-2,0,0,1,1,0,"",0.81,"*(0,2+1)",1,2,85316175,1,0,322,1,0,0,0,0,0,0,0,0,156.21660000000003,657.54989999999998,0,0,0.81,1,0,187.45992000000001,789.05987999999991,0,0,0.97199999999999998,1,null,null,null,null,null,null,null,null,null,null,null,null,null,null,null,null,null,null,null,null,null,null,null,null,0,{"$f":"ROUND(Y322*Source!I175*DO322,7)","v":6.8040000000000002E-3},{"$f":"ROUND(Y322*Source!I175,7)","v":6.8040000000000002E-3},{"$f":"AB322","v":192.86},{"$f":"AF322","v":192.86},{"$f":"AJ322","v":1},187.46,789.06,"","",0,1.31,5.52,0,{"$f":"DG322+DH322","v":6.83},1,"4-100-040",4,"чел.-ч.",1]
[{"$f":"ROW(Source!A175)","v":175},85312357,85316152,83782364,117,1,1,3,"20.1.01.01","","Комплект линейной арматуры для крепления СИП-2 на опоре ВЛИ",1371,null,1013,"ШТ","ШТ",1,null,null,null,null,null,0,864875641,{"$f":"AT323","v":0},null,0,0,0,0,0,0,0,0,1,1,1,1,0,1,0,1,0,0,"",0,"",0,2,85316176,1,0,323,0,0,0,0,0,0,0,0,0,0,0,0,0,0,0,0,0,0,0,0,0,0,null,null,null,null,null,null,null,null,null,null,null,null,null,null,null,null,null,null,null,null,null,null,null,null,0,0,{"$f":"ROUND(Y323*Source!I175,7)","v":0},{"$f":"AA323","v":0},{"$f":"AE323","v":0},{"$f":"AI323","v":1},{"$f":"ROUND(ROUND(AT323*CZ323,2),2)","v":0},{"$f":"ROUND(ROUND(AT323*AG323,2),2)","v":0},"","",0,0,0,0,{"$f":"DF323","v":0},0,"",0,"",0]
[{"$f":"ROW(Source!A175)","v":175},85312357,85316152,83782372,117,1,1,3,"20.1.01.11","","Комплект линейной арматуры для устройства заземлений на опорах ВЛИ",1371,null,1013,"ШТ","ШТ",1,null,null,null,null,null,0,-1890832814,{"$f":"AT324","v":0},null,0,0,0,0,0,0,0,0,1,1,1,1,0,1,0,1,0,0,"",0,"",0,2,85316177,1,0,324,0,0,0,0,0,0,0,0,0,0,0,0,0,0,0,0,0,0,0,0,0,0,null,null,null,null,null,null,null,null,null,null,null,null,null,null,null,null,null,null,null,null,null,null,null,null,0,0,{"$f":"ROUND(Y324*Source!I175,7)","v":0},{"$f":"AA324","v":0},{"$f":"AE324","v":0},{"$f":"AI324","v":1},{"$f":"ROUND(ROUND(AT324*CZ324,2),2)","v":0},{"$f":"ROUND(ROUND(AT324*AG324,2),2)","v":0},"","",0,0,0,0,{"$f":"DF324","v":0},0,"",0,"",0]
[{"$f":"ROW(Source!A175)","v":175},85312357,85316152,83782541,117,1,1,3,"21.2.01.01","","Провода самонесущие изолированные для ВЛИ",1477,null,1013,"1000 м","1000 М",1,null,null,null,null,null,0,164804165,{"$f":"AT325","v":0},null,0,0,0,0,0,0,0,0,1,1,1,1,0,1,0,1,0,0,"",0,"",0,2,85316178,1,0,325,0,0,0,0,0,0,0,0,0,0,0,0,0,0,0,0,0,0,0,0,0,0,null,null,null,null,null,null,null,null,null,null,null,null,null,null,null,null,null,null,null,null,null,null,null,null,0,0,{"$f":"ROUND(Y325*Source!I175,7)","v":0},{"$f":"AA325","v":0},{"$f":"AE325","v":0},{"$f":"AI325","v":1},{"$f":"ROUND(ROUND(AT325*CZ325,2),2)","v":0},{"$f":"ROUND(ROUND(AT325*AG325,2),2)","v":0},"","",0,0,0,0,{"$f":"DF325","v":0},0,"",0,"",0]
[{"$f":"ROW(Source!A176)","v":176},85312298,85316152,83777647,117,1,1,1,"2-100-02","","Рабочий 2 разряда",1369,null,1013,"чел.-ч","чел.-ч",1,null,null,null,null,null,0,-236928766,{"$f":"(AT326*ROUND((0.2+1),7))","v":1.1879999999999999},null,0,0,0,660.33,0,0,0,660.33,1,1,1,1,-2,0,0,1,1,0,"",0.99,"*(0,2+1)",1,2,85316166,1,0,326,1,0,0,0,0,0,0,0,0,0,0,653.72670000000005,0.99,0,1,0,0,0,784.47203999999999,1.1879999999999999,0,1,null,null,null,null,null,null,null,null,null,null,null,null,null,null,null,null,null,null,null,null,null,null,null,{"$f":"ROUND(AT326*Source!I176*AH326*AL326,2)","v":4.58},{"$f":"ROUND(Y326*Source!I176,7)","v":8.3160000000000005E-3},0,{"$f":"ROUND(Y326*Source!I176,7)","v":8.3160000000000005E-3},{"$f":"AD326","v":660.33},{"$f":"AH326","v":660.33},{"$f":"AL326","v":1},{"$f":"ROUND((ROUND(AT326*CZ326,2)*ROUND((0.2+1),7)),2)","v":784.48},{"$f":"ROUND((ROUND(AT326*AG326,2)*ROUND((0.2+1),7)),2)","v":0},"","",0,0,0,5.49,{"$f":"DI326","v":5.49},1,"",0,"",0]
[{"$f":"ROW(Source!A176)","v":176},85312298,85316152,83777649,117,1,1,1,"2-100-03","","Рабочий 3 разряда",1369,null,1013,"чел.-ч","чел.-ч",1,null,null,null,null,null,0,-587036825,56.747999999999998,null,0,0,0,720.91,0,0,0,720.91,1,1,1,1,-2,0,0,1,1,0,"",47.29,"*(0,2+1)",1,2,85316167,1,0,327,1,0,0,0,0,0,0,0,0,0,0,34091.833899999998,47.29,0,1,0,0,0,40910.200679999994,56.747999999999998,0,1,null,null,null,null,null,null,null,null,null,null,null,null,null,null,null,null,null,null,null,null,null,null,null,{"$f":"ROUND(AT327*Source!I176*AH327*AL327,2)","v":238.64},{"$f":"ROUND(Y327*Source!I176,7)","v":0.39723599999999998},0,{"$f":"ROUND(Y327*Source!I176,7)","v":0.39723599999999998},{"$f":"AD327","v":720.91},{"$f":"AH327","v":720.91},{"$f":"AL327","v":1},40910.199999999997,0,"","",0,0,0,286.37,{"$f":"DI327","v":286.37},1,"",0,"",0]
[{"$f":"ROW(Source!A176)","v":176},85312298,85316152,83777653,117,1,1,1,"2-100-04","","Рабочий 4 разряда",1369,null,1013,"чел.-ч","чел.-ч",1,null,null,null,null,null,0,-512803540,28.104000000000003,null,0,0,0,811.79,0,0,0,811.79,1,1,1,1,-2,0,0,1,1,0,"",23.42,"*(0,2+1)",1,2,85316168,1,0,328,1,0,0,0,0,0,0,0,0,0,0,19012.121800000001,23.42,0,1,0,0,0,22814.546160000002,28.104000000000003,0,1,null,null,null,null,null,null,null,null,null,null,null,null,null,null,null,null,null,null,null,null,null,null,null,{"$f":"ROUND(AT328*Source!I176*AH328*AL328,2)","v":133.08000000000001},{"$f":"ROUND(Y328*Source!I176,7)","v":0.19672799999999999},0,{"$f":"ROUND(Y328*Source!I176,7)","v":0.19672799999999999},{"$f":"AD328","v":811.79},{"$f":"AH328","v":811.79},{"$f":"AL328","v":1},22814.54,0,"","",0,0,0,159.69999999999999,{"$f":"DI328","v":159.69999999999999},1,"",0,"",0]
[{"$f":"ROW(Source!A176)","v":176},85312298,85316152,83777657,117,1,1,1,"2-100-05","","Рабочий 5 разряда",1369,null,1013,"чел.-ч","чел.-ч",1,null,null,null,null,null,0,1518711480,28.104000000000003,null,0,0,0,932.95,0,0,0,932.95,1,1,1,1,-2,0,0,1,1,0,"",23.42,"*(0,2+1)",1,2,85316169,1,0,329,1,0,0,0,0,0,0,0,0,0,0,21849.689000000002,23.42,0,1,0,0,0,26219.626800000005,28.104000000000003,0,1,null,null,null,null,null,null,null,null,null,null,null,null,null,null,null,null,null,null,null,null,null,null,null,{"$f":"ROUND(AT329*Source!I176*AH329*AL329,2)","v":152.94999999999999},{"$f":"ROUND(Y329*Source!I176,7)","v":0.19672799999999999},0,{"$f":"ROUND(Y329*Source!I176,7)","v":0.19672799999999999},{"$f":"AD329","v":932.95},{"$f":"AH329","v":932.95},{"$f":"AL329","v":1},26219.63,0,"","",0,0,0,183.54,{"$f":"DI329","v":183.54},1,"",0,"",0]
[{"$f":"ROW(Source!A176)","v":176},85312298,85316152,83777689,117,1,1,1,"4-100-00","","Затраты труда машинистов",1191,null,1013,"чел.-ч.","чел.-ч.",1,null,null,null,null,null,0,-1417349443,29.867999999999999,null,0,0,0,0,0,0,0,0,1,1,1,1,-2,0,0,1,1,0,"",24.89,"*(0,2+1)",2,2,85316170,1,0,330,1,0,0,0,0,0,0,0,0,0,0,0,0,0,0,0,0,0,0,0,0,0,null,null,null,null,null,null,null,null,null,null,null,null,null,null,null,null,null,null,null,null,null,null,null,null,0,0,{"$f":"ROUND(Y330*Source!I176,7)","v":0.20907600000000001},{"$f":"AD330","v":0},{"$f":"AH330","v":0},{"$f":"AL330","v":1},0,0,"","",0,0,0,0,{"$f":"DI330","v":0},0,"",0,"",0]
[{"$f":"ROW(Source!A176)","v":176},85312298,85316152,83784178,1,1,1,2,"91.05.05-015","ФСЭМ-2022, 91.05.05-015, приказ Минстроя России от 18.05.2022 г. № 378/пр","Краны на автомобильном ходу, грузоподъемность 16 т",1368,null,1011,"маш.-ч","маш.-ч",1,null,null,null,null,null,0,639918019,0.89999999999999991,null,0,1626.29,1090.46,0,0,1626.29,1090.46,0,1,1,1,1,-2,0,0,1,1,0,"",0.75,"*(0,2+1)",1,2,85316171,1,0,331,1,0,0,0,0,0,0,0,0,1219.7175,817.84500000000003,0,0,0.75,1,0,1463.6609999999998,981.41399999999999,0,0,0.89999999999999991,1,null,null,null,null,null,null,null,null,null,null,null,null,null,null,null,null,null,null,null,null,null,null,null,null,0,{"$f":"ROUND(Y331*Source!I176*DO331,7)","v":6.3E-3},{"$f":"ROUND(Y331*Source!I176,7)","v":6.3E-3},{"$f":"AB331","v":1626.29},{"$f":"AF331","v":1626.29},{"$f":"AJ331","v":1},1463.66,981.42,"","",0,10.25,6.87,0,{"$f":"DG331+DH331","v":17.12},1,"4-100-060",6,"чел.-ч.",1]
[{"$f":"ROW(Source!A176)","v":176},85312298,85316152,83784312,1,1,1,2,"91.06.03-055","ФСЭМ-2022, 91.06.03-055, приказ Минстроя России от 18.05.2022 г. № 378/пр","Лебедки электрические тяговым усилием 19,62 кН (2 т)",1368,null,1011,"маш.-ч","маш.-ч",1,null,null,null,null,null,0,1560534341,0.97199999999999998,null,0,16.95,0,0,0,11.45,0,0,1,1.48,1,1,2,0,0,1,1,0,"",0.81,"*(0,2+1)",1,2,85316172,1,0,332,1,0,0,0,0,0,0,0,0,9.2744999999999997,0,0,0,0,1,0,11.129399999999999,0,0,0,0,1,null,null,null,null,null,null,null,null,null,null,null,null,null,null,null,null,null,null,null,null,null,null,null,null,0,{"$f":"ROUND(Y332*Source!I176*DO332,7)","v":0},{"$f":"ROUND(Y332*Source!I176,7)","v":6.8040000000000002E-3},{"$f":"AB332","v":16.95},{"$f":"AF332","v":11.45},{"$f":"AJ332","v":1.48},11.12,0,"","",0,{"$f":"ROUND(ROUND(AF332*AJ332,2)*CX332,2)","v":0.12},0,0,{"$f":"DG332+DH332","v":0.12},0,"",0,"",0]
[{"$f":"ROW(Source!A176)","v":176},85312298,85316152,83784352,1,1,1,2,"91.06.06-011","ФСЭМ-2022, 91.06.06-011, приказ Минстроя России от 18.05.2022 г. № 378/пр","Автогидроподъемники, высота подъема 12 м",1368,null,1011,"маш.-ч","маш.-ч",1,null,null,null,null,null,0,-438045540,27.287999999999997,null,0,506.23,811.79,0,0,346.73,811.79,0,1,1.46,1,1,2,0,0,1,1,0,"",22.74,"*(0,2+1)",1,2,85316173,1,0,333,1,0,0,0,0,0,0,0,0,7884.6401999999998,18460.104599999999,0,0,22.74,1,0,9461.5682399999987,22152.125519999998,0,0,27.287999999999997,1,null,null,null,null,null,null,null,null,null,null,null,null,null,null,null,null,null,null,null,null,null,null,null,null,0,{"$f":"ROUND(Y333*Source!I176*DO333,7)","v":0.19101599999999999},{"$f":"ROUND(Y333*Source!I176,7)","v":0.19101599999999999},{"$f":"AB333","v":506.23},{"$f":"AF333","v":346.73},{"$f":"AJ333","v":1.46},9461.57,22152.12,"","",0,{"$f":"ROUND(ROUND(AF333*AJ333,2)*CX333,2)","v":96.7},155.06,0,{"$f":"DG333+DH333","v":251.76},0,"4-100-040",4,"чел.-ч.",1]
[{"$f":"ROW(Source!A176)","v":176},85312298,85316152,83785072,1,1,1,2,"91.14.02-001","ФСЭМ-2022 доп.7, 91.14.02-001, приказ Минстроя России от 02.08.2023 г. № 551/пр","Автомобили бортовые, грузоподъемность до 5 т",1368,null,1011,"маш.-ч","маш.-ч",1,null,null,null,null,null,0,-849950259,0.70799999999999996,null,0,641.70000000000005,811.79,0,0,641.70000000000005,811.79,0,1,1,1,1,-2,0,0,1,1,0,"",0.59,"*(0,2+1)",1,2,85316174,1,0,334,1,0,0,0,0,0,0,0,0,378.60300000000001,478.95609999999994,0,0,0.59,1,0,454.3236,574.74731999999995,0,0,0.70799999999999996,1,null,null,null,null,null,null,null,null,null,null,null,null,null,null,null,null,null,null,null,null,null,null,null,null,0,{"$f":"ROUND(Y334*Source!I176*DO334,7)","v":4.9560000000000003E-3},{"$f":"ROUND(Y334*Source!I176,7)","v":4.9560000000000003E-3},{"$f":"AB334","v":641.70000000000005},{"$f":"AF334","v":641.70000000000005},{"$f":"AJ334","v":1},454.32,574.75,"","",0,{"$f":"ROUND(ROUND(AF334,2)*CX334,2)","v":3.18},4.0199999999999996,0,{"$f":"DG334+DH334","v":7.1999999999999993},1,"4-100-040",4,"чел.-ч.",1]
[{"$f":"ROW(Source!A176)","v":176},85312298,85316152,83785270,1,1,1,2,"91.17.04-544","ФСЭМ-2022, 91.17.04-544, приказ Минстроя России от 18.05.2022 г. № 378/пр","Генераторы бензиновые портативные, мощность до 6 кВт",1368,null,1011,"маш.-ч","маш.-ч",1,null,null,null,null,null,0,-1265937479,0.97199999999999998,null,0,192.86,811.79,0,0,192.86,811.79,0,1,1,1,1,-2,0,0,1,1,0,"",0.81,"*(0,2+1)",1,2,85316175,1,0,335,1,0,0,0,0,0,0,0,0,156.21660000000003,657.54989999999998,0,0,0.81,1,0,187.45992000000001,789.05987999999991,0,0,0.97199999999999998,1,null,null,null,null,null,null,null,null,null,null,null,null,null,null,null,null,null,null,null,null,null,null,null,null,0,{"$f":"ROUND(Y335*Source!I176*DO335,7)","v":6.8040000000000002E-3},{"$f":"ROUND(Y335*Source!I176,7)","v":6.8040000000000002E-3},{"$f":"AB335","v":192.86},{"$f":"AF335","v":192.86},{"$f":"AJ335","v":1},187.46,789.06,"","",0,1.31,5.52,0,{"$f":"DG335+DH335","v":6.83},1,"4-100-040",4,"чел.-ч.",1]
[{"$f":"ROW(Source!A176)","v":176},85312298,85316152,83782364,117,1,1,3,"20.1.01.01","","Комплект линейной арматуры для крепления СИП-2 на опоре ВЛИ",1371,null,1013,"ШТ","ШТ",1,null,null,null,null,null,0,864875641,{"$f":"AT336","v":0},null,0,0,0,0,0,0,0,0,1,1,1,1,0,1,0,1,0,0,"",0,"",0,2,85316176,1,0,336,0,0,0,0,0,0,0,0,0,0,0,0,0,0,0,0,0,0,0,0,0,0,null,null,null,null,null,null,null,null,null,null,null,null,null,null,null,null,null,null,null,null,null,null,null,null,0,0,{"$f":"ROUND(Y336*Source!I176,7)","v":0},{"$f":"AA336","v":0},{"$f":"AE336","v":0},{"$f":"AI336","v":1},{"$f":"ROUND(ROUND(AT336*CZ336,2),2)","v":0},{"$f":"ROUND(ROUND(AT336*AG336,2),2)","v":0},"","",0,0,0,0,{"$f":"DF336","v":0},0,"",0,"",0]
[{"$f":"ROW(Source!A176)","v":176},85312298,85316152,83782372,117,1,1,3,"20.1.01.11","","Комплект линейной арматуры для устройства заземлений на опорах ВЛИ",1371,null,1013,"ШТ","ШТ",1,null,null,null,null,null,0,-1890832814,{"$f":"AT337","v":0},null,0,0,0,0,0,0,0,0,1,1,1,1,0,1,0,1,0,0,"",0,"",0,2,85316177,1,0,337,0,0,0,0,0,0,0,0,0,0,0,0,0,0,0,0,0,0,0,0,0,0,null,null,null,null,null,null,null,null,null,null,null,null,null,null,null,null,null,null,null,null,null,null,null,null,0,0,{"$f":"ROUND(Y337*Source!I176,7)","v":0},{"$f":"AA337","v":0},{"$f":"AE337","v":0},{"$f":"AI337","v":1},{"$f":"ROUND(ROUND(AT337*CZ337,2),2)","v":0},{"$f":"ROUND(ROUND(AT337*AG337,2),2)","v":0},"","",0,0,0,0,{"$f":"DF337","v":0},0,"",0,"",0]
[{"$f":"ROW(Source!A176)","v":176},85312298,85316152,83782541,117,1,1,3,"21.2.01.01","","Провода самонесущие изолированные для ВЛИ",1477,null,1013,"1000 м","1000 М",1,null,null,null,null,null,0,164804165,{"$f":"AT338","v":0},null,0,0,0,0,0,0,0,0,1,1,1,1,0,1,0,1,0,0,"",0,"",0,2,85316178,1,0,338,0,0,0,0,0,0,0,0,0,0,0,0,0,0,0,0,0,0,0,0,0,0,null,null,null,null,null,null,null,null,null,null,null,null,null,null,null,null,null,null,null,null,null,null,null,null,0,0,{"$f":"ROUND(Y338*Source!I176,7)","v":0},{"$f":"AA338","v":0},{"$f":"AE338","v":0},{"$f":"AI338","v":1},{"$f":"ROUND(ROUND(AT338*CZ338,2),2)","v":0},{"$f":"ROUND(ROUND(AT338*AG338,2),2)","v":0},"","",0,0,0,0,{"$f":"DF338","v":0},0,"",0,"",0]
[{"$f":"ROW(Source!A184)","v":184},85312357,85316183,83777649,117,1,1,1,"2-100-03","","Рабочий 3 разряда",1369,null,1013,"чел.-ч","чел.-ч",1,null,null,null,null,null,0,-587036825,{"$f":"(AT339*ROUND((0.2+1),7))","v":1.0920000000000001},null,0,0,0,720.91,0,0,0,720.91,1,1,1,1,-2,0,0,1,1,0,"",0.91,"*(0,2+1)",1,2,85316191,1,0,339,1,0,0,0,0,0,0,0,0,0,0,656.02809999999999,0.91,0,1,0,0,0,787.23372000000006,1.0920000000000001,0,1,null,null,null,null,null,null,null,null,null,null,null,null,null,null,null,null,null,null,null,null,null,null,null,{"$f":"ROUND(AT339*Source!I184*AH339*AL339,2)","v":1312.06},{"$f":"ROUND(Y339*Source!I184,7)","v":2.1840000000000002},0,{"$f":"ROUND(Y339*Source!I184,7)","v":2.1840000000000002},{"$f":"AD339","v":720.91},{"$f":"AH339","v":720.91},{"$f":"AL339","v":1},{"$f":"ROUND((ROUND(AT339*CZ339,2)*ROUND((0.2+1),7)),2)","v":787.24},{"$f":"ROUND((ROUND(AT339*AG339,2)*ROUND((0.2+1),7)),2)","v":0},"","",0,0,0,1574.47,{"$f":"DI339","v":1574.47},1,"",0,"",0]
[{"$f":"ROW(Source!A184)","v":184},85312357,85316183,83777653,117,1,1,1,"2-100-04","","Рабочий 4 разряда",1369,null,1013,"чел.-ч","чел.-ч",1,null,null,null,null,null,0,-512803540,{"$f":"(AT340*ROUND((0.2+1),7))","v":0.54},null,0,0,0,811.79,0,0,0,811.79,1,1,1,1,-2,0,0,1,1,0,"",0.45,"*(0,2+1)",1,2,85316192,1,0,340,1,0,0,0,0,0,0,0,0,0,0,365.30549999999999,0.45,0,1,0,0,0,438.36660000000001,0.54,0,1,null,null,null,null,null,null,null,null,null,null,null,null,null,null,null,null,null,null,null,null,null,null,null,{"$f":"ROUND(AT340*Source!I184*AH340*AL340,2)","v":730.61},{"$f":"ROUND(Y340*Source!I184,7)","v":1.08},0,{"$f":"ROUND(Y340*Source!I184,7)","v":1.08},{"$f":"AD340","v":811.79},{"$f":"AH340","v":811.79},{"$f":"AL340","v":1},{"$f":"ROUND((ROUND(AT340*CZ340,2)*ROUND((0.2+1),7)),2)","v":438.37},{"$f":"ROUND((ROUND(AT340*AG340,2)*ROUND((0.2+1),7)),2)","v":0},"","",0,0,0,876.73,{"$f":"DI340","v":876.73},1,"",0,"",0]
[{"$f":"ROW(Source!A184)","v":184},85312357,85316183,83777657,117,1,1,1,"2-100-05","","Рабочий 5 разряда",1369,null,1013,"чел.-ч","чел.-ч",1,null,null,null,null,null,0,1518711480,{"$f":"(AT341*ROUND((0.2+1),7))","v":0.54},null,0,0,0,932.95,0,0,0,932.95,1,1,1,1,-2,0,0,1,1,0,"",0.45,"*(0,2+1)",1,2,85316193,1,0,341,1,0,0,0,0,0,0,0,0,0,0,419.82750000000004,0.45,0,1,0,0,0,503.79300000000006,0.54,0,1,null,null,null,null,null,null,null,null,null,null,null,null,null,null,null,null,null,null,null,null,null,null,null,{"$f":"ROUND(AT341*Source!I184*AH341*AL341,2)","v":839.66},{"$f":"ROUND(Y341*Source!I184,7)","v":1.08},0,{"$f":"ROUND(Y341*Source!I184,7)","v":1.08},{"$f":"AD341","v":932.95},{"$f":"AH341","v":932.95},{"$f":"AL341","v":1},{"$f":"ROUND((ROUND(AT341*CZ341,2)*ROUND((0.2+1),7)),2)","v":503.8},{"$f":"ROUND((ROUND(AT341*AG341,2)*ROUND((0.2+1),7)),2)","v":0},"","",0,0,0,1007.59,{"$f":"DI341","v":1007.59},1,"",0,"",0]
[{"$f":"ROW(Source!A184)","v":184},85312357,85316183,83777689,117,1,1,1,"4-100-00","","Затраты труда машинистов",1191,null,1013,"чел.-ч.","чел.-ч.",1,null,null,null,null,null,0,-1417349443,{"$f":"(AT342*ROUND((0.2+1),7))","v":0.52800000000000002},null,0,0,0,0,0,0,0,0,1,1,1,1,-2,0,0,1,1,0,"",0.44,"*(0,2+1)",2,2,85316194,1,0,342,1,0,0,0,0,0,0,0,0,0,0,0,0,0,0,0,0,0,0,0,0,0,null,null,null,null,null,null,null,null,null,null,null,null,null,null,null,null,null,null,null,null,null,null,null,null,0,0,{"$f":"ROUND(Y342*Source!I184,7)","v":1.056},{"$f":"AD342","v":0},{"$f":"AH342","v":0},{"$f":"AL342","v":1},{"$f":"ROUND((ROUND(AT342*CZ342,2)*ROUND((0.2+1),7)),2)","v":0},{"$f":"ROUND((ROUND(AT342*AG342,2)*ROUND((0.2+1),7)),2)","v":0},"","",0,0,0,0,{"$f":"DI342","v":0},0,"",0,"",0]
[{"$f":"ROW(Source!A184)","v":184},85312357,85316183,83784352,1,1,1,2,"91.06.06-011","ФСЭМ-2022, 91.06.06-011, приказ Минстроя России от 18.05.2022 г. № 378/пр","Автогидроподъемники, высота подъема 12 м",1368,null,1011,"маш.-ч","маш.-ч",1,null,null,null,null,null,0,-438045540,{"$f":"(AT343*ROUND((0.2+1),7))","v":0.52800000000000002},null,0,506.23,811.79,0,0,346.73,811.79,0,1,1.46,1,1,2,0,0,1,1,0,"",0.44,"*(0,2+1)",1,2,85316195,1,0,343,1,0,0,0,0,0,0,0,0,152.56120000000001,357.18759999999997,0,0,0.44,1,0,183.07344000000001,428.62511999999998,0,0,0.52800000000000002,1,null,null,null,null,null,null,null,null,null,null,null,null,null,null,null,null,null,null,null,null,null,null,null,null,0,{"$f":"ROUND(Y343*Source!I184*DO343,7)","v":1.056},{"$f":"ROUND(Y343*Source!I184,7)","v":1.056},{"$f":"AB343","v":506.23},{"$f":"AF343","v":346.73},{"$f":"AJ343","v":1.46},{"$f":"ROUND((ROUND(AT343*CZ343,2)*ROUND((0.2+1),7)),2)","v":183.07},{"$f":"ROUND((ROUND(AT343*AG343,2)*ROUND((0.2+1),7)),2)","v":428.63},"","",0,{"$f":"ROUND(ROUND(AF343*AJ343,2)*CX343,2)","v":534.58000000000004},857.25,0,{"$f":"DG343+DH343","v":1391.83},0,"4-100-040",4,"чел.-ч.",1]
[{"$f":"ROW(Source!A184)","v":184},85312357,85316183,83782364,117,1,1,3,"20.1.01.01","","Комплект линейной арматуры для крепления СИП-2 на опоре ВЛИ",1371,null,1013,"ШТ","ШТ",1,null,null,null,null,null,0,864875641,{"$f":"AT344","v":0},null,0,0,0,0,0,0,0,0,1,1,1,1,0,1,0,1,0,0,"",0,"",0,2,85316196,1,0,344,0,0,0,0,0,0,0,0,0,0,0,0,0,0,0,0,0,0,0,0,0,0,null,null,null,null,null,null,null,null,null,null,null,null,null,null,null,null,null,null,null,null,null,null,null,null,0,0,{"$f":"ROUND(Y344*Source!I184,7)","v":0},{"$f":"AA344","v":0},{"$f":"AE344","v":0},{"$f":"AI344","v":1},{"$f":"ROUND(ROUND(AT344*CZ344,2),2)","v":0},{"$f":"ROUND(ROUND(AT344*AG344,2),2)","v":0},"","",0,{"$f":"ROUND(ROUND(AF344,2)*CX344,2)","v":0},0,0,{"$f":"DF344","v":0},0,"",0,"",0]
[{"$f":"ROW(Source!A184)","v":184},85312357,85316183,83782372,117,1,1,3,"20.1.01.11","","Комплект линейной арматуры для устройства заземлений на опорах ВЛИ",1371,null,1013,"ШТ","ШТ",1,null,null,null,null,null,0,-1890832814,{"$f":"AT345","v":0},null,0,0,0,0,0,0,0,0,1,1,1,1,0,1,0,1,0,0,"",0,"",0,2,85316197,1,0,345,0,0,0,0,0,0,0,0,0,0,0,0,0,0,0,0,0,0,0,0,0,0,null,null,null,null,null,null,null,null,null,null,null,null,null,null,null,null,null,null,null,null,null,null,null,null,0,0,{"$f":"ROUND(Y345*Source!I184,7)","v":0},{"$f":"AA345","v":0},{"$f":"AE345","v":0},{"$f":"AI345","v":1},{"$f":"ROUND(ROUND(AT345*CZ345,2),2)","v":0},{"$f":"ROUND(ROUND(AT345*AG345,2),2)","v":0},"","",0,0,0,0,{"$f":"DF345","v":0},0,"",0,"",0]
[{"$f":"ROW(Source!A185)","v":185},85312298,85316183,83777649,117,1,1,1,"2-100-03","","Рабочий 3 разряда",1369,null,1013,"чел.-ч","чел.-ч",1,null,null,null,null,null,0,-587036825,{"$f":"(AT346*ROUND((0.2+1),7))","v":1.0920000000000001},null,0,0,0,720.91,0,0,0,720.91,1,1,1,1,-2,0,0,1,1,0,"",0.91,"*(0,2+1)",1,2,85316191,1,0,346,1,0,0,0,0,0,0,0,0,0,0,656.02809999999999,0.91,0,1,0,0,0,787.23372000000006,1.0920000000000001,0,1,null,null,null,null,null,null,null,null,null,null,null,null,null,null,null,null,null,null,null,null,null,null,null,{"$f":"ROUND(AT346*Source!I185*AH346*AL346,2)","v":1312.06},{"$f":"ROUND(Y346*Source!I185,7)","v":2.1840000000000002},0,{"$f":"ROUND(Y346*Source!I185,7)","v":2.1840000000000002},{"$f":"AD346","v":720.91},{"$f":"AH346","v":720.91},{"$f":"AL346","v":1},{"$f":"ROUND((ROUND(AT346*CZ346,2)*ROUND((0.2+1),7)),2)","v":787.24},{"$f":"ROUND((ROUND(AT346*AG346,2)*ROUND((0.2+1),7)),2)","v":0},"","",0,0,0,1574.47,{"$f":"DI346","v":1574.47},1,"",0,"",0]
[{"$f":"ROW(Source!A185)","v":185},85312298,85316183,83777653,117,1,1,1,"2-100-04","","Рабочий 4 разряда",1369,null,1013,"чел.-ч","чел.-ч",1,null,null,null,null,null,0,-512803540,{"$f":"(AT347*ROUND((0.2+1),7))","v":0.54},null,0,0,0,811.79,0,0,0,811.79,1,1,1,1,-2,0,0,1,1,0,"",0.45,"*(0,2+1)",1,2,85316192,1,0,347,1,0,0,0,0,0,0,0,0,0,0,365.30549999999999,0.45,0,1,0,0,0,438.36660000000001,0.54,0,1,null,null,null,null,null,null,null,null,null,null,null,null,null,null,null,null,null,null,null,null,null,null,null,{"$f":"ROUND(AT347*Source!I185*AH347*AL347,2)","v":730.61},{"$f":"ROUND(Y347*Source!I185,7)","v":1.08},0,{"$f":"ROUND(Y347*Source!I185,7)","v":1.08},{"$f":"AD347","v":811.79},{"$f":"AH347","v":811.79},{"$f":"AL347","v":1},{"$f":"ROUND((ROUND(AT347*CZ347,2)*ROUND((0.2+1),7)),2)","v":438.37},{"$f":"ROUND((ROUND(AT347*AG347,2)*ROUND((0.2+1),7)),2)","v":0},"","",0,0,0,876.73,{"$f":"DI347","v":876.73},1,"",0,"",0]
[{"$f":"ROW(Source!A185)","v":185},85312298,85316183,83777657,117,1,1,1,"2-100-05","","Рабочий 5 разряда",1369,null,1013,"чел.-ч","чел.-ч",1,null,null,null,null,null,0,1518711480,{"$f":"(AT348*ROUND((0.2+1),7))","v":0.54},null,0,0,0,932.95,0,0,0,932.95,1,1,1,1,-2,0,0,1,1,0,"",0.45,"*(0,2+1)",1,2,85316193,1,0,348,1,0,0,0,0,0,0,0,0,0,0,419.82750000000004,0.45,0,1,0,0,0,503.79300000000006,0.54,0,1,null,null,null,null,null,null,null,null,null,null,null,null,null,null,null,null,null,null,null,null,null,null,null,{"$f":"ROUND(AT348*Source!I185*AH348*AL348,2)","v":839.66},{"$f":"ROUND(Y348*Source!I185,7)","v":1.08},0,{"$f":"ROUND(Y348*Source!I185,7)","v":1.08},{"$f":"AD348","v":932.95},{"$f":"AH348","v":932.95},{"$f":"AL348","v":1},{"$f":"ROUND((ROUND(AT348*CZ348,2)*ROUND((0.2+1),7)),2)","v":503.8},{"$f":"ROUND((ROUND(AT348*AG348,2)*ROUND((0.2+1),7)),2)","v":0},"","",0,0,0,1007.59,{"$f":"DI348","v":1007.59},1,"",0,"",0]
[{"$f":"ROW(Source!A185)","v":185},85312298,85316183,83777689,117,1,1,1,"4-100-00","","Затраты труда машинистов",1191,null,1013,"чел.-ч.","чел.-ч.",1,null,null,null,null,null,0,-1417349443,{"$f":"(AT349*ROUND((0.2+1),7))","v":0.52800000000000002},null,0,0,0,0,0,0,0,0,1,1,1,1,-2,0,0,1,1,0,"",0.44,"*(0,2+1)",2,2,85316194,1,0,349,1,0,0,0,0,0,0,0,0,0,0,0,0,0,0,0,0,0,0,0,0,0,null,null,null,null,null,null,null,null,null,null,null,null,null,null,null,null,null,null,null,null,null,null,null,null,0,0,{"$f":"ROUND(Y349*Source!I185,7)","v":1.056},{"$f":"AD349","v":0},{"$f":"AH349","v":0},{"$f":"AL349","v":1},{"$f":"ROUND((ROUND(AT349*CZ349,2)*ROUND((0.2+1),7)),2)","v":0},{"$f":"ROUND((ROUND(AT349*AG349,2)*ROUND((0.2+1),7)),2)","v":0},"","",0,0,0,0,{"$f":"DI349","v":0},0,"",0,"",0]
[{"$f":"ROW(Source!A185)","v":185},85312298,85316183,83784352,1,1,1,2,"91.06.06-011","ФСЭМ-2022, 91.06.06-011, приказ Минстроя России от 18.05.2022 г. № 378/пр","Автогидроподъемники, высота подъема 12 м",1368,null,1011,"маш.-ч","маш.-ч",1,null,null,null,null,null,0,-438045540,{"$f":"(AT350*ROUND((0.2+1),7))","v":0.52800000000000002},null,0,506.23,811.79,0,0,346.73,811.79,0,1,1.46,1,1,2,0,0,1,1,0,"",0.44,"*(0,2+1)",1,2,85316195,1,0,350,1,0,0,0,0,0,0,0,0,152.56120000000001,357.18759999999997,0,0,0.44,1,0,183.07344000000001,428.62511999999998,0,0,0.52800000000000002,1,null,null,null,null,null,null,null,null,null,null,null,null,null,null,null,null,null,null,null,null,null,null,null,null,0,{"$f":"ROUND(Y350*Source!I185*DO350,7)","v":1.056},{"$f":"ROUND(Y350*Source!I185,7)","v":1.056},{"$f":"AB350","v":506.23},{"$f":"AF350","v":346.73},{"$f":"AJ350","v":1.46},{"$f":"ROUND((ROUND(AT350*CZ350,2)*ROUND((0.2+1),7)),2)","v":183.07},{"$f":"ROUND((ROUND(AT350*AG350,2)*ROUND((0.2+1),7)),2)","v":428.63},"","",0,{"$f":"ROUND(ROUND(AF350*AJ350,2)*CX350,2)","v":534.58000000000004},857.25,0,{"$f":"DG350+DH350","v":1391.83},0,"4-100-040",4,"чел.-ч.",1]
[{"$f":"ROW(Source!A185)","v":185},85312298,85316183,83782364,117,1,1,3,"20.1.01.01","","Комплект линейной арматуры для крепления СИП-2 на опоре ВЛИ",1371,null,1013,"ШТ","ШТ",1,null,null,null,null,null,0,864875641,{"$f":"AT351","v":0},null,0,0,0,0,0,0,0,0,1,1,1,1,0,1,0,1,0,0,"",0,"",0,2,85316196,1,0,351,0,0,0,0,0,0,0,0,0,0,0,0,0,0,0,0,0,0,0,0,0,0,null,null,null,null,null,null,null,null,null,null,null,null,null,null,null,null,null,null,null,null,null,null,null,null,0,0,{"$f":"ROUND(Y351*Source!I185,7)","v":0},{"$f":"AA351","v":0},{"$f":"AE351","v":0},{"$f":"AI351","v":1},{"$f":"ROUND(ROUND(AT351*CZ351,2),2)","v":0},{"$f":"ROUND(ROUND(AT351*AG351,2),2)","v":0},"","",0,{"$f":"ROUND(ROUND(AF351,2)*CX351,2)","v":0},0,0,{"$f":"DF351","v":0},0,"",0,"",0]
[{"$f":"ROW(Source!A185)","v":185},85312298,85316183,83782372,117,1,1,3,"20.1.01.11","","Комплект линейной арматуры для устройства заземлений на опорах ВЛИ",1371,null,1013,"ШТ","ШТ",1,null,null,null,null,null,0,-1890832814,{"$f":"AT352","v":0},null,0,0,0,0,0,0,0,0,1,1,1,1,0,1,0,1,0,0,"",0,"",0,2,85316197,1,0,352,0,0,0,0,0,0,0,0,0,0,0,0,0,0,0,0,0,0,0,0,0,0,null,null,null,null,null,null,null,null,null,null,null,null,null,null,null,null,null,null,null,null,null,null,null,null,0,0,{"$f":"ROUND(Y352*Source!I185,7)","v":0},{"$f":"AA352","v":0},{"$f":"AE352","v":0},{"$f":"AI352","v":1},{"$f":"ROUND(ROUND(AT352*CZ352,2),2)","v":0},{"$f":"ROUND(ROUND(AT352*AG352,2),2)","v":0},"","",0,0,0,0,{"$f":"DF352","v":0},0,"",0,"",0]
[{"$f":"ROW(Source!A191)","v":191},85312357,85316201,83777519,117,1,1,1,"1-100-40","","Средний разряд работы 4,0",1191,null,1013,"чел.-ч.","чел.-ч.",1,null,null,null,null,null,0,888410196,{"$f":"(AT353*ROUND((0.2+1),7))","v":49.440000000000005},null,0,0,0,811.79,0,0,0,811.79,1,1,1,1,-2,0,0,1,1,0,"",41.2,"*(0,2+1)",1,2,85316211,1,0,353,1,0,0,0,0,0,0,0,0,0,0,33445.748,41.2,0,1,0,0,0,40134.897600000004,49.440000000000005,0,1,null,null,null,null,null,null,null,null,null,null,null,null,null,null,null,null,null,null,null,null,null,null,null,{"$f":"ROUND(AT353*Source!I191*AH353*AL353,2)","v":2675.66},{"$f":"ROUND(Y353*Source!I191,7)","v":3.9552},0,{"$f":"ROUND(Y353*Source!I191,7)","v":3.9552},{"$f":"AD353","v":811.79},{"$f":"AH353","v":811.79},{"$f":"AL353","v":1},{"$f":"ROUND((ROUND(AT353*CZ353,2)*ROUND((0.2+1),7)),2)","v":40134.9},{"$f":"ROUND((ROUND(AT353*AG353,2)*ROUND((0.2+1),7)),2)","v":0},"","",0,0,0,3210.79,{"$f":"DI353","v":3210.79},1,"",0,"",0]
[{"$f":"ROW(Source!A191)","v":191},85312357,85316201,83777689,117,1,1,1,"4-100-00","","Затраты труда машинистов",1191,null,1013,"чел.-ч.","чел.-ч.",1,null,null,null,null,null,0,-1417349443,{"$f":"(AT354*ROUND((0.2+1),7))","v":0.24},null,0,0,0,0,0,0,0,0,1,1,1,1,-2,0,0,1,1,0,"",0.2,"*(0,2+1)",2,2,85316212,1,0,354,1,0,0,0,0,0,0,0,0,0,0,0,0,0,0,0,0,0,0,0,0,0,null,null,null,null,null,null,null,null,null,null,null,null,null,null,null,null,null,null,null,null,null,null,null,null,0,0,{"$f":"ROUND(Y354*Source!I191,7)","v":1.9199999999999998E-2},{"$f":"AD354","v":0},{"$f":"AH354","v":0},{"$f":"AL354","v":1},{"$f":"ROUND((ROUND(AT354*CZ354,2)*ROUND((0.2+1),7)),2)","v":0},{"$f":"ROUND((ROUND(AT354*AG354,2)*ROUND((0.2+1),7)),2)","v":0},"","",0,0,0,0,{"$f":"DI354","v":0},0,"",0,"",0]
[{"$f":"ROW(Source!A191)","v":191},85312357,85316201,83784178,1,1,1,2,"91.05.05-015","ФСЭМ-2022, 91.05.05-015, приказ Минстроя России от 18.05.2022 г. № 378/пр","Краны на автомобильном ходу, грузоподъемность 16 т",1368,null,1011,"маш.-ч","маш.-ч",1,null,null,null,null,null,0,639918019,{"$f":"(AT355*ROUND((0.2+1),7))","v":0.12},null,0,1626.29,1090.46,0,0,1626.29,1090.46,0,1,1,1,1,-2,0,0,1,1,0,"",0.1,"*(0,2+1)",1,2,85316213,1,0,355,1,0,0,0,0,0,0,0,0,162.62900000000002,109.04600000000001,0,0,0.1,1,0,195.15479999999999,130.8552,0,0,0.12,1,null,null,null,null,null,null,null,null,null,null,null,null,null,null,null,null,null,null,null,null,null,null,null,null,0,{"$f":"ROUND(Y355*Source!I191*DO355,7)","v":9.5999999999999992E-3},{"$f":"ROUND(Y355*Source!I191,7)","v":9.5999999999999992E-3},{"$f":"AB355","v":1626.29},{"$f":"AF355","v":1626.29},{"$f":"AJ355","v":1},{"$f":"ROUND((ROUND(AT355*CZ355,2)*ROUND((0.2+1),7)),2)","v":195.16},{"$f":"ROUND((ROUND(AT355*AG355,2)*ROUND((0.2+1),7)),2)","v":130.86000000000001},"","",0,15.61,10.47,0,{"$f":"DG355+DH355","v":26.08},1,"4-100-060",6,"чел.-ч.",1]
[{"$f":"ROW(Source!A191)","v":191},85312357,85316201,83785072,1,1,1,2,"91.14.02-001","ФСЭМ-2022 доп.7, 91.14.02-001, приказ Минстроя России от 02.08.2023 г. № 551/пр","Автомобили бортовые, грузоподъемность до 5 т",1368,null,1011,"маш.-ч","маш.-ч",1,null,null,null,null,null,0,-849950259,{"$f":"(AT356*ROUND((0.2+1),7))","v":0.12},null,0,641.70000000000005,811.79,0,0,641.70000000000005,811.79,0,1,1,1,1,-2,0,0,1,1,0,"",0.1,"*(0,2+1)",1,2,85316214,1,0,356,1,0,0,0,0,0,0,0,0,64.17,81.179000000000002,0,0,0.1,1,0,77.004000000000005,97.414799999999985,0,0,0.12,1,null,null,null,null,null,null,null,null,null,null,null,null,null,null,null,null,null,null,null,null,null,null,null,null,0,{"$f":"ROUND(Y356*Source!I191*DO356,7)","v":9.5999999999999992E-3},{"$f":"ROUND(Y356*Source!I191,7)","v":9.5999999999999992E-3},{"$f":"AB356","v":641.70000000000005},{"$f":"AF356","v":641.70000000000005},{"$f":"AJ356","v":1},{"$f":"ROUND((ROUND(AT356*CZ356,2)*ROUND((0.2+1),7)),2)","v":77},{"$f":"ROUND((ROUND(AT356*AG356,2)*ROUND((0.2+1),7)),2)","v":97.42},"","",0,6.16,7.79,0,{"$f":"DG356+DH356","v":13.95},1,"4-100-040",4,"чел.-ч.",1]
[{"$f":"ROW(Source!A191)","v":191},85312357,85316201,83785268,1,1,1,2,"91.17.04-233","ФСЭМ-2022, 91.17.04-233, приказ Минстроя России от 18.05.2022 г. № 378/пр","Аппараты сварочные для ручной дуговой сварки, сварочный ток до 350 А",1368,null,1011,"маш.-ч","маш.-ч",1,null,null,null,null,null,0,303316554,{"$f":"(AT357*ROUND((0.2+1),7))","v":0.192},null,0,34.61,0,0,0,34.61,0,0,1,1,1,1,-2,0,0,1,1,0,"",0.16,"*(0,2+1)",1,2,85316215,1,0,357,1,0,0,0,0,0,0,0,0,5.5376000000000003,0,0,0,0,1,0,6.6451200000000004,0,0,0,0,1,null,null,null,null,null,null,null,null,null,null,null,null,null,null,null,null,null,null,null,null,null,null,null,null,0,{"$f":"ROUND(Y357*Source!I191*DO357,7)","v":0},{"$f":"ROUND(Y357*Source!I191,7)","v":1.536E-2},{"$f":"AB357","v":34.61},{"$f":"AF357","v":34.61},{"$f":"AJ357","v":1},{"$f":"ROUND((ROUND(AT357*CZ357,2)*ROUND((0.2+1),7)),2)","v":6.65},{"$f":"ROUND((ROUND(AT357*AG357,2)*ROUND((0.2+1),7)),2)","v":0},"","",0,0.53,0,0,{"$f":"DG357+DH357","v":0.53},1,"",0,"",0]
[{"$f":"ROW(Source!A191)","v":191},85312357,85316201,83860728,1,1,1,3,"08.3.07.01-0052","ФСБЦ-2022 доп.4, 08.3.07.01-0052, приказ Минстроя России от 27.12.2022 г. № 1133/пр","Прокат стальной горячекатаный полосовой, марки стали Ст3сп, Ст3пс, размеры 50х5 мм",1348,null,1009,"т","т",1000,null,null,null,null,null,0,-560086148,{"$f":"AT358","v":3.0000000000000001E-3},null,52029.73,0,0,0,70310.45,0,0,0,0.74,1,1,1,2,0,0,1,1,0,"",3.0000000000000001E-3,"",0,2,85316216,1,0,358,1,0,0,0,0,0,0,0,210.93135000000001,0,0,0,0,0,1,210.93135000000001,0,0,0,0,0,1,null,null,null,null,null,null,null,null,null,null,null,null,null,null,null,null,null,null,null,null,null,null,null,null,0,0,{"$f":"ROUND(Y358*Source!I191,7)","v":2.4000000000000001E-4},{"$f":"AA358","v":52029.73},{"$f":"AE358","v":70310.45},{"$f":"AI358","v":0.74},{"$f":"ROUND(ROUND(AT358*CZ358,2),2)","v":210.93},{"$f":"ROUND(ROUND(AT358*AG358,2),2)","v":0},"","",{"$f":"ROUND(ROUND(AE358*AI358,2)*CX358,2)","v":12.49},0,0,0,{"$f":"DF358","v":12.49},0,"",0,"",0]
[{"$f":"ROW(Source!A191)","v":191},85312357,85316201,83870516,1,1,1,3,"14.4.02.04-0142","ФСБЦ-2022, 14.4.02.04-0142, приказ Минстроя России от 18.05.2022 г. № 378/пр","Краска масляная МА-0115, мумия, сурик железный",1346,null,1009,"кг","кг",1,null,null,null,null,null,0,291254868,{"$f":"AT359","v":0.8},null,115.03,0,0,0,79.88,0,0,0,1.44,1,1,1,2,0,0,1,1,0,"",0.8,"",0,2,85316217,1,0,359,1,0,0,0,0,0,0,0,63.903999999999996,0,0,0,0,0,1,63.903999999999996,0,0,0,0,0,1,null,null,null,null,null,null,null,null,null,null,null,null,null,null,null,null,null,null,null,null,null,null,null,null,0,0,{"$f":"ROUND(Y359*Source!I191,7)","v":6.4000000000000001E-2},{"$f":"AA359","v":115.03},{"$f":"AE359","v":79.88},{"$f":"AI359","v":1.44},{"$f":"ROUND(ROUND(AT359*CZ359,2),2)","v":63.9},{"$f":"ROUND(ROUND(AT359*AG359,2),2)","v":0},"","",{"$f":"ROUND(ROUND(AE359*AI359,2)*CX359,2)","v":7.36},0,0,0,{"$f":"DF359","v":7.36},0,"",0,"",0]
[{"$f":"ROW(Source!A191)","v":191},85312357,85316201,83881219,1,1,1,3,"20.5.04.03-0002","ФСБЦ-2022, 20.5.04.03-0002, приказ Минстроя России от 18.05.2022 г. № 378/пр","Зажимы наборные проходные ЗН24-4П25",1425,null,1013,"100 ШТ","100 ШТ",1,null,null,null,null,null,0,-568563229,{"$f":"AT360","v":-1.02},null,1022.02,0,0,0,896.51,0,0,0,1.1399999999999999,1,1,1,2,0,0,1,0,0,"",-1.02,"",0,2,85316218,1,6144,360,0,0,0,0,0,0,0,0,0,0,0,0,0,0,0,0,0,0,0,0,0,0,null,null,null,null,null,null,null,null,null,null,null,null,null,null,null,null,null,null,null,null,null,null,null,null,0,0,{"$f":"ROUND(Y360*Source!I191,7)","v":-8.1600000000000006E-2},{"$f":"AA360","v":1022.02},{"$f":"AE360","v":896.51},{"$f":"AI360","v":1.1399999999999999},{"$f":"ROUND(ROUND(AT360*CZ360,2),2)","v":-914.44},{"$f":"ROUND(ROUND(AT360*AG360,2),2)","v":0},"","",{"$f":"ROUND(ROUND(AE360*AI360,2)*CX360,2)","v":-83.4},0,0,0,{"$f":"DF360","v":-83.4},0,"",0,"",0]
[{"$f":"ROW(Source!A191)","v":191},85312357,85316201,83783523,117,1,1,3,"421/пр_2020_п.75_пп.а","","Сметная стоимость вспомогательных ненормируемых материальных ресурсов, не учтенная в сметной норме, 2%",3277935,null,1013,"%","%",1,null,null,null,null,null,0,274903907,{"$f":"AT361","v":2},null,0,0,0,0,0,0,0,0,1,1,1,1,0,0,0,0,0,0,"",2,"",0,2,85316219,1,0,361,0,0,0,0,0,0,0,0,0,0,0,0,0,0,0,0,0,0,0,0,0,0,null,null,null,null,null,null,null,null,null,null,null,null,null,null,null,null,null,null,null,null,null,null,null,null,0,0,{"$f":"ROUND(Y361*Source!I191,7)","v":0.16},{"$f":"AA361","v":0},{"$f":"AE361","v":0},{"$f":"AI361","v":1},{"$f":"ROUND(ROUND(AT361*CZ361,2),2)","v":0},{"$f":"ROUND(ROUND(AT361*AG361,2),2)","v":0},"","",{"$f":"ROUND(ROUND(AE361,2)*CX361,2)","v":0},0,0,0,{"$f":"DF361","v":0},0,"",0,"",0]
[{"$f":"ROW(Source!A192)","v":192},85312298,85316201,83777519,117,1,1,1,"1-100-40","","Средний разряд работы 4,0",1191,null,1013,"чел.-ч.","чел.-ч.",1,null,null,null,null,null,0,888410196,{"$f":"(AT362*ROUND((0.2+1),7))","v":49.440000000000005},null,0,0,0,811.79,0,0,0,811.79,1,1,1,1,-2,0,0,1,1,0,"",41.2,"*(0,2+1)",1,2,85316211,1,0,362,1,0,0,0,0,0,0,0,0,0,0,33445.748,41.2,0,1,0,0,0,40134.897600000004,49.440000000000005,0,1,null,null,null,null,null,null,null,null,null,null,null,null,null,null,null,null,null,null,null,null,null,null,null,{"$f":"ROUND(AT362*Source!I192*AH362*AL362,2)","v":2675.66},{"$f":"ROUND(Y362*Source!I192,7)","v":3.9552},0,{"$f":"ROUND(Y362*Source!I192,7)","v":3.9552},{"$f":"AD362","v":811.79},{"$f":"AH362","v":811.79},{"$f":"AL362","v":1},{"$f":"ROUND((ROUND(AT362*CZ362,2)*ROUND((0.2+1),7)),2)","v":40134.9},{"$f":"ROUND((ROUND(AT362*AG362,2)*ROUND((0.2+1),7)),2)","v":0},"","",0,0,0,3210.79,{"$f":"DI362","v":3210.79},1,"",0,"",0]
[{"$f":"ROW(Source!A192)","v":192},85312298,85316201,83777689,117,1,1,1,"4-100-00","","Затраты труда машинистов",1191,null,1013,"чел.-ч.","чел.-ч.",1,null,null,null,null,null,0,-1417349443,{"$f":"(AT363*ROUND((0.2+1),7))","v":0.24},null,0,0,0,0,0,0,0,0,1,1,1,1,-2,0,0,1,1,0,"",0.2,"*(0,2+1)",2,2,85316212,1,0,363,1,0,0,0,0,0,0,0,0,0,0,0,0,0,0,0,0,0,0,0,0,0,null,null,null,null,null,null,null,null,null,null,null,null,null,null,null,null,null,null,null,null,null,null,null,null,0,0,{"$f":"ROUND(Y363*Source!I192,7)","v":1.9199999999999998E-2},{"$f":"AD363","v":0},{"$f":"AH363","v":0},{"$f":"AL363","v":1},{"$f":"ROUND((ROUND(AT363*CZ363,2)*ROUND((0.2+1),7)),2)","v":0},{"$f":"ROUND((ROUND(AT363*AG363,2)*ROUND((0.2+1),7)),2)","v":0},"","",0,0,0,0,{"$f":"DI363","v":0},0,"",0,"",0]
[{"$f":"ROW(Source!A192)","v":192},85312298,85316201,83784178,1,1,1,2,"91.05.05-015","ФСЭМ-2022, 91.05.05-015, приказ Минстроя России от 18.05.2022 г. № 378/пр","Краны на автомобильном ходу, грузоподъемность 16 т",1368,null,1011,"маш.-ч","маш.-ч",1,null,null,null,null,null,0,639918019,{"$f":"(AT364*ROUND((0.2+1),7))","v":0.12},null,0,1626.29,1090.46,0,0,1626.29,1090.46,0,1,1,1,1,-2,0,0,1,1,0,"",0.1,"*(0,2+1)",1,2,85316213,1,0,364,1,0,0,0,0,0,0,0,0,162.62900000000002,109.04600000000001,0,0,0.1,1,0,195.15479999999999,130.8552,0,0,0.12,1,null,null,null,null,null,null,null,null,null,null,null,null,null,null,null,null,null,null,null,null,null,null,null,null,0,{"$f":"ROUND(Y364*Source!I192*DO364,7)","v":9.5999999999999992E-3},{"$f":"ROUND(Y364*Source!I192,7)","v":9.5999999999999992E-3},{"$f":"AB364","v":1626.29},{"$f":"AF364","v":1626.29},{"$f":"AJ364","v":1},{"$f":"ROUND((ROUND(AT364*CZ364,2)*ROUND((0.2+1),7)),2)","v":195.16},{"$f":"ROUND((ROUND(AT364*AG364,2)*ROUND((0.2+1),7)),2)","v":130.86000000000001},"","",0,15.61,10.47,0,{"$f":"DG364+DH364","v":26.08},1,"4-100-060",6,"чел.-ч.",1]
[{"$f":"ROW(Source!A192)","v":192},85312298,85316201,83785072,1,1,1,2,"91.14.02-001","ФСЭМ-2022 доп.7, 91.14.02-001, приказ Минстроя России от 02.08.2023 г. № 551/пр","Автомобили бортовые, грузоподъемность до 5 т",1368,null,1011,"маш.-ч","маш.-ч",1,null,null,null,null,null,0,-849950259,{"$f":"(AT365*ROUND((0.2+1),7))","v":0.12},null,0,641.70000000000005,811.79,0,0,641.70000000000005,811.79,0,1,1,1,1,-2,0,0,1,1,0,"",0.1,"*(0,2+1)",1,2,85316214,1,0,365,1,0,0,0,0,0,0,0,0,64.17,81.179000000000002,0,0,0.1,1,0,77.004000000000005,97.414799999999985,0,0,0.12,1,null,null,null,null,null,null,null,null,null,null,null,null,null,null,null,null,null,null,null,null,null,null,null,null,0,{"$f":"ROUND(Y365*Source!I192*DO365,7)","v":9.5999999999999992E-3},{"$f":"ROUND(Y365*Source!I192,7)","v":9.5999999999999992E-3},{"$f":"AB365","v":641.70000000000005},{"$f":"AF365","v":641.70000000000005},{"$f":"AJ365","v":1},{"$f":"ROUND((ROUND(AT365*CZ365,2)*ROUND((0.2+1),7)),2)","v":77},{"$f":"ROUND((ROUND(AT365*AG365,2)*ROUND((0.2+1),7)),2)","v":97.42},"","",0,6.16,7.79,0,{"$f":"DG365+DH365","v":13.95},1,"4-100-040",4,"чел.-ч.",1]
[{"$f":"ROW(Source!A192)","v":192},85312298,85316201,83785268,1,1,1,2,"91.17.04-233","ФСЭМ-2022, 91.17.04-233, приказ Минстроя России от 18.05.2022 г. № 378/пр","Аппараты сварочные для ручной дуговой сварки, сварочный ток до 350 А",1368,null,1011,"маш.-ч","маш.-ч",1,null,null,null,null,null,0,303316554,{"$f":"(AT366*ROUND((0.2+1),7))","v":0.192},null,0,34.61,0,0,0,34.61,0,0,1,1,1,1,-2,0,0,1,1,0,"",0.16,"*(0,2+1)",1,2,85316215,1,0,366,1,0,0,0,0,0,0,0,0,5.5376000000000003,0,0,0,0,1,0,6.6451200000000004,0,0,0,0,1,null,null,null,null,null,null,null,null,null,null,null,null,null,null,null,null,null,null,null,null,null,null,null,null,0,{"$f":"ROUND(Y366*Source!I192*DO366,7)","v":0},{"$f":"ROUND(Y366*Source!I192,7)","v":1.536E-2},{"$f":"AB366","v":34.61},{"$f":"AF366","v":34.61},{"$f":"AJ366","v":1},{"$f":"ROUND((ROUND(AT366*CZ366,2)*ROUND((0.2+1),7)),2)","v":6.65},{"$f":"ROUND((ROUND(AT366*AG366,2)*ROUND((0.2+1),7)),2)","v":0},"","",0,0.53,0,0,{"$f":"DG366+DH366","v":0.53},1,"",0,"",0]
[{"$f":"ROW(Source!A192)","v":192},85312298,85316201,83860728,1,1,1,3,"08.3.07.01-0052","ФСБЦ-2022 доп.4, 08.3.07.01-0052, приказ Минстроя России от 27.12.2022 г. № 1133/пр","Прокат стальной горячекатаный полосовой, марки стали Ст3сп, Ст3пс, размеры 50х5 мм",1348,null,1009,"т","т",1000,null,null,null,null,null,0,-560086148,{"$f":"AT367","v":3.0000000000000001E-3},null,52029.73,0,0,0,70310.45,0,0,0,0.74,1,1,1,2,0,0,1,1,0,"",3.0000000000000001E-3,"",0,2,85316216,1,0,367,1,0,0,0,0,0,0,0,210.93135000000001,0,0,0,0,0,1,210.93135000000001,0,0,0,0,0,1,null,null,null,null,null,null,null,null,null,null,null,null,null,null,null,null,null,null,null,null,null,null,null,null,0,0,{"$f":"ROUND(Y367*Source!I192,7)","v":2.4000000000000001E-4},{"$f":"AA367","v":52029.73},{"$f":"AE367","v":70310.45},{"$f":"AI367","v":0.74},{"$f":"ROUND(ROUND(AT367*CZ367,2),2)","v":210.93},{"$f":"ROUND(ROUND(AT367*AG367,2),2)","v":0},"","",{"$f":"ROUND(ROUND(AE367*AI367,2)*CX367,2)","v":12.49},0,0,0,{"$f":"DF367","v":12.49},0,"",0,"",0]
[{"$f":"ROW(Source!A192)","v":192},85312298,85316201,83870516,1,1,1,3,"14.4.02.04-0142","ФСБЦ-2022, 14.4.02.04-0142, приказ Минстроя России от 18.05.2022 г. № 378/пр","Краска масляная МА-0115, мумия, сурик железный",1346,null,1009,"кг","кг",1,null,null,null,null,null,0,291254868,0.8,null,115.03,0,0,0,79.88,0,0,0,1.44,1,1,1,2,0,0,1,1,0,"",0.8,"",0,2,85316217,1,0,368,1,0,0,0,0,0,0,0,63.903999999999996,0,0,0,0,0,1,63.903999999999996,0,0,0,0,0,1,null,null,null,null,null,null,null,null,null,null,null,null,null,null,null,null,null,null,null,null,null,null,null,null,0,0,{"$f":"ROUND(Y368*Source!I192,7)","v":6.4000000000000001E-2},{"$f":"AA368","v":115.03},{"$f":"AE368","v":79.88},{"$f":"AI368","v":1.44},63.9,0,"","",{"$f":"ROUND(ROUND(AE368*AI368,2)*CX368,2)","v":7.36},0,0,0,{"$f":"DF368","v":7.36},0,"",0,"",0]
[{"$f":"ROW(Source!A192)","v":192},85312298,85316201,83881219,1,1,1,3,"20.5.04.03-0002","ФСБЦ-2022, 20.5.04.03-0002, приказ Минстроя России от 18.05.2022 г. № 378/пр","Зажимы наборные проходные ЗН24-4П25",1425,null,1013,"100 ШТ","100 ШТ",1,null,null,null,null,null,0,-568563229,-1.02,null,1022.02,0,0,0,896.51,0,0,0,1.1399999999999999,1,1,1,2,0,0,1,0,0,"",-1.02,"",0,2,85316218,1,6144,369,0,0,0,0,0,0,0,0,0,0,0,0,0,0,0,0,0,0,0,0,0,0,null,null,null,null,null,null,null,null,null,null,null,null,null,null,null,null,null,null,null,null,null,null,null,null,0,0,{"$f":"ROUND(Y369*Source!I192,7)","v":-8.1600000000000006E-2},{"$f":"AA369","v":1022.02},{"$f":"AE369","v":896.51},{"$f":"AI369","v":1.1399999999999999},-914.44,0,"","",{"$f":"ROUND(ROUND(AE369*AI369,2)*CX369,2)","v":-83.4},0,0,0,{"$f":"DF369","v":-83.4},0,"",0,"",0]
[{"$f":"ROW(Source!A192)","v":192},85312298,85316201,83783523,117,1,1,3,"421/пр_2020_п.75_пп.а","","Сметная стоимость вспомогательных ненормируемых материальных ресурсов, не учтенная в сметной норме, 2%",3277935,null,1013,"%","%",1,null,null,null,null,null,0,274903907,2,null,0,0,0,0,0,0,0,0,1,1,1,1,0,0,0,0,0,0,"",2,"",0,2,85316219,1,0,370,0,0,0,0,0,0,0,0,0,0,0,0,0,0,0,0,0,0,0,0,0,0,null,null,null,null,null,null,null,null,null,null,null,null,null,null,null,null,null,null,null,null,null,null,null,null,0,0,{"$f":"ROUND(Y370*Source!I192,7)","v":0.16},{"$f":"AA370","v":0},{"$f":"AE370","v":0},{"$f":"AI370","v":1},0,0,"","",{"$f":"ROUND(ROUND(AE370,2)*CX370,2)","v":0},0,0,0,{"$f":"DF370","v":0},0,"",0,"",0]
[{"$f":"ROW(Source!A198)","v":198},85312357,85316223,77306356,114,1,1,1,"1-100-33","","Средний разряд работы 3,3",1191,null,1013,"чел.-ч.","чел.-ч.",1,null,null,null,null,null,0,32079103,3.76,null,0,0,0,748.18,0,0,0,748.18,1,1,1,1,-2,0,0,1,1,0,"",3.76,"",1,2,85316238,2,131072,371,1,0,0,0,0,0,0,0,0,0,0,2813.1567999999997,3.76,0,1,0,0,0,2813.1567999999997,3.76,0,1,null,null,null,null,null,null,null,null,null,null,null,null,null,null,null,null,null,null,null,null,null,null,null,{"$f":"ROUND(AT371*Source!I198*AH371*AL371,2)","v":0},{"$f":"ROUND(Y371*Source!I198,7)","v":0},0,{"$f":"ROUND(Y371*Source!I198,7)","v":0},{"$f":"AD371","v":748.18},{"$f":"AH371","v":748.18},{"$f":"AL371","v":1},2813.16,0,"","",{"$f":"ROUND(ROUND(AE371,2)*CX371,2)","v":0},0,0,0,{"$f":"DI371","v":0},1,"",0,"",0]
[{"$f":"ROW(Source!A198)","v":198},85312357,85316223,77306545,114,1,1,1,"4-100-00","","Затраты труда машинистов",1191,null,1013,"чел.-ч.","чел.-ч.",1,null,null,null,null,null,0,-1417349443,1.07,null,0,0,0,0,0,0,0,0,1,1,1,1,-2,0,0,1,1,0,"",1.07,"",2,2,85316239,1,0,372,1,0,0,0,0,0,0,0,0,0,0,0,0,0,0,0,0,0,0,0,0,0,null,null,null,null,null,null,null,null,null,null,null,null,null,null,null,null,null,null,null,null,null,null,null,null,0,0,{"$f":"ROUND(Y372*Source!I198,7)","v":0},{"$f":"AD372","v":0},{"$f":"AH372","v":0},{"$f":"AL372","v":1},0,0,"","",{"$f":"ROUND(ROUND(AE372,2)*CX372,2)","v":0},0,0,0,{"$f":"DI372","v":0},0,"",0,"",0]
[{"$f":"ROW(Source!A198)","v":198},85312357,85316223,77431161,1,1,1,2,"91.06.06-011","ФСЭМ-2022, 91.06.06-011, приказ Минстроя России от 18.05.2022 г. № 378/пр","Автогидроподъемники, высота подъема 12 м",1368,null,1011,"маш.-ч","маш.-ч",1,null,null,null,null,null,0,469552416,0.85,null,0,506.23,811.79,0,0,346.73,811.79,0,1,1.46,1,1,2,0,0,1,1,0,"",0.85,"",1,2,85316240,2,65536,373,1,0,0,0,0,0,0,0,0,294.72050000000002,690.02149999999995,0,0,0.85,1,0,294.72050000000002,690.02149999999995,0,0,0.85,1,null,null,null,null,null,null,null,null,null,null,null,null,null,null,null,null,null,null,null,null,null,null,null,null,0,{"$f":"ROUND(Y373*Source!I198*DO373,7)","v":0},{"$f":"ROUND(Y373*Source!I198,7)","v":0},{"$f":"AB373","v":506.23},{"$f":"AF373","v":346.73},{"$f":"AJ373","v":1.46},294.72000000000003,690.02,"","",{"$f":"ROUND(ROUND(AE373,2)*CX373,2)","v":0},{"$f":"ROUND(ROUND(AF373*AJ373,2)*CX373,2)","v":0},0,0,{"$f":"DG373+DH373","v":0},0,"4-100-040",4,"чел.-ч.",1]
[{"$f":"ROW(Source!A198)","v":198},85312357,85316223,77431879,1,1,1,2,"91.14.02-001","ФСЭМ-2022 доп.7, 91.14.02-001, приказ Минстроя России от 02.08.2023 г. № 551/пр","Автомобили бортовые, грузоподъемность до 5 т",1368,null,1011,"маш.-ч","маш.-ч",1,null,null,null,null,null,0,-1152394969,0.22,null,0,641.70000000000005,811.79,0,0,641.70000000000005,811.79,0,1,1,1,1,-2,0,0,1,1,0,"",0.22,"",1,2,85316241,1,0,374,1,0,0,0,0,0,0,0,0,141.17400000000001,178.59379999999999,0,0,0.22,1,0,141.17400000000001,178.59379999999999,0,0,0.22,1,null,null,null,null,null,null,null,null,null,null,null,null,null,null,null,null,null,null,null,null,null,null,null,null,0,{"$f":"ROUND(Y374*Source!I198*DO374,7)","v":0},{"$f":"ROUND(Y374*Source!I198,7)","v":0},{"$f":"AB374","v":641.70000000000005},{"$f":"AF374","v":641.70000000000005},{"$f":"AJ374","v":1},141.16999999999999,178.59,"","",{"$f":"ROUND(ROUND(AE374,2)*CX374,2)","v":0},{"$f":"ROUND(ROUND(AF374,2)*CX374,2)","v":0},0,0,{"$f":"DG374+DH374","v":0},1,"4-100-040",4,"чел.-ч.",1]
[{"$f":"ROW(Source!A198)","v":198},85312357,85316223,77375900,1,1,1,3,"01.3.01.06-0038","ФСБЦ-2022, 01.3.01.06-0038, приказ Минстроя России от 18.05.2022 г. № 378/пр","Смазка защитная электросетевая",1346,null,1009,"кг","кг",1,null,null,null,null,null,0,-1628490559,0.1,null,381.26,0,0,0,238.29,0,0,0,1.6,1,1,1,2,0,0,1,1,0,"",0.1,"",0,2,85316242,1,0,375,1,0,0,0,0,0,0,0,23.829000000000001,0,0,0,0,0,1,23.829000000000001,0,0,0,0,0,1,null,null,null,null,null,null,null,null,null,null,null,null,null,null,null,null,null,null,null,null,null,null,null,null,0,0,{"$f":"ROUND(Y375*Source!I198,7)","v":0},{"$f":"AA375","v":381.26},{"$f":"AE375","v":238.29},{"$f":"AI375","v":1.6},23.83,0,"","",{"$f":"ROUND(ROUND(AE375*AI375,2)*CX375,2)","v":0},0,0,0,{"$f":"DF375","v":0},0,"",0,"",0]
[{"$f":"ROW(Source!A198)","v":198},85312357,85316223,77375907,1,1,1,3,"01.3.01.06-0051","ФСБЦ-2022 доп.12, 01.3.01.06-0051, приказ Минстроя России от 07.11.2024 г. № 747/пр","Смазка солидол жировой Ж",1346,null,1009,"кг","кг",1,null,null,null,null,null,0,-479354107,0.03,null,93.65,0,0,0,58.53,0,0,0,1.6,1,1,1,2,0,0,1,1,0,"",0.03,"",0,2,85316243,1,0,376,1,0,0,0,0,0,0,0,1.7559,0,0,0,0,0,1,1.7559,0,0,0,0,0,1,null,null,null,null,null,null,null,null,null,null,null,null,null,null,null,null,null,null,null,null,null,null,null,null,0,0,{"$f":"ROUND(Y376*Source!I198,7)","v":0},93.65,58.53,1.6,1.76,0,"","",{"$f":"ROUND(ROUND(AE376*AI376,2)*CX376,2)","v":0},0,0,0,0,0,"",0,"",0]
[{"$f":"ROW(Source!A198)","v":198},85312357,85316223,77379558,1,1,1,3,"01.7.15.03-0042","ФСБЦ-2022, 01.7.15.03-0042, приказ Минстроя России от 18.05.2022 г. № 378/пр","Болты с гайками и шайбами строительные",1346,null,1009,"кг","кг",1,null,null,null,null,null,0,1181962216,0,null,188.92,0,0,0,174.93,0,0,0,1.08,1,1,1,2,1,0,1,0,0,"",0,"",0,2,85316244,1,0,377,0,0,0,0,0,0,0,0,0,0,0,0,0,0,0,0,0,0,0,0,0,0,null,null,null,null,null,null,null,null,null,null,null,null,null,null,null,null,null,null,null,null,null,null,null,null,0,0,{"$f":"ROUND(Y377*Source!I198,7)","v":0},188.92,174.93,1.08,0,0,"","",{"$f":"ROUND(ROUND(AE377*AI377,2)*CX377,2)","v":0},0,0,0,0,0,"",0,"",0]
[{"$f":"ROW(Source!A198)","v":198},85312357,85316223,77380691,1,1,1,3,"01.7.20.08-0051","ФСБЦ-2022 доп.8, 01.7.20.08-0051, приказ Минстроя России от 14.11.2023 г. № 817/пр","Ветошь хлопчатобумажная цветная",1346,null,1009,"кг","кг",1,null,null,null,null,null,0,-130701290,0.02,null,86.41,0,0,0,56.11,0,0,0,1.54,1,1,1,2,0,0,1,1,0,"",0.02,"",0,2,85316245,1,0,378,1,0,0,0,0,0,0,0,1.1222000000000001,0,0,0,0,0,1,1.1222000000000001,0,0,0,0,0,1,null,null,null,null,null,null,null,null,null,null,null,null,null,null,null,null,null,null,null,null,null,null,null,null,0,0,{"$f":"ROUND(Y378*Source!I198,7)","v":0},86.41,56.11,1.54,1.1200000000000001,0,"","",{"$f":"ROUND(ROUND(AE378*AI378,2)*CX378,2)","v":0},0,0,0,0,0,"",0,"",0]
[{"$f":"ROW(Source!A198)","v":198},85312357,85316223,77308705,114,1,1,3,"07.2.07.13","","Хомуты стальные",1346,null,1009,"кг","кг",1,null,null,null,null,null,0,-1111733769,0,null,0,0,0,0,0,0,0,0,1,1,1,1,-2,1,0,1,0,0,"",0,"",0,2,85316246,1,0,379,0,0,0,0,0,0,0,0,0,0,0,0,0,0,0,0,0,0,0,0,0,0,null,null,null,null,null,null,null,null,null,null,null,null,null,null,null,null,null,null,null,null,null,null,null,null,0,0,{"$f":"ROUND(Y379*Source!I198,7)","v":0},0,0,1,0,0,"","",{"$f":"ROUND(ROUND(AE379,2)*CX379,2)","v":0},0,0,0,0,0,"",0,"",0]
[{"$f":"ROW(Source!A198)","v":198},85312357,85316223,77309038,114,1,1,3,"08.3.04.02","","Сталь стержневая диаметром до 10 мм",1348,null,1009,"т","т",1000,null,null,null,null,null,0,1613753229,0,null,0,0,0,0,0,0,0,0,1,1,1,1,-2,1,0,1,0,0,"",0,"",0,2,85316247,1,0,380,0,0,0,0,0,0,0,0,0,0,0,0,0,0,0,0,0,0,0,0,0,0,null,null,null,null,null,null,null,null,null,null,null,null,null,null,null,null,null,null,null,null,null,null,null,null,0,0,{"$f":"ROUND(Y380*Source!I198,7)","v":0},0,0,1,0,0,"","",{"$f":"ROUND(ROUND(AE380,2)*CX380,2)","v":0},0,0,0,0,0,"",0,"",0]
[{"$f":"ROW(Source!A198)","v":198},85312357,85316223,77397258,1,1,1,3,"14.4.03.03-0102","ФСБЦ-2022 доп.4, 14.4.03.03-0102, приказ Минстроя России от 27.12.2022 г. № 1133/пр","Лак битумный БТ-577",1348,null,1009,"т","т",1000,null,null,null,null,null,0,1215516986,1E-4,null,103227.06,0,0,0,80020.98,0,0,0,1.29,1,1,1,2,0,0,1,1,0,"",1E-4,"",0,2,85316248,1,0,381,1,0,0,0,0,0,0,0,8.0020980000000002,0,0,0,0,0,1,8.0020980000000002,0,0,0,0,0,1,null,null,null,null,null,null,null,null,null,null,null,null,null,null,null,null,null,null,null,null,null,null,null,null,0,0,{"$f":"ROUND(Y381*Source!I198,7)","v":0},103227.06,80020.98,1.29,8,0,"","",{"$f":"ROUND(ROUND(AE381*AI381,2)*CX381,2)","v":0},0,0,0,0,0,"",0,"",0]
[{"$f":"ROW(Source!A198)","v":198},85312357,85316223,77397652,1,1,1,3,"14.5.09.11-0102","ФСБЦ-2022, 14.5.09.11-0102, приказ Минстроя России от 18.05.2022 г. № 378/пр","Уайт-спирит",1346,null,1009,"кг","кг",1,null,null,null,null,null,0,-105256092,0.03,null,86.66,0,0,0,60.6,0,0,0,1.43,1,1,1,2,0,0,1,1,0,"",0.03,"",0,2,85316249,1,0,382,1,0,0,0,0,0,0,0,1.8180000000000001,0,0,0,0,0,1,1.8180000000000001,0,0,0,0,0,1,null,null,null,null,null,null,null,null,null,null,null,null,null,null,null,null,null,null,null,null,null,null,null,null,0,0,{"$f":"ROUND(Y382*Source!I198,7)","v":0},86.66,60.6,1.43,1.82,0,"","",{"$f":"ROUND(ROUND(AE382*AI382,2)*CX382,2)","v":0},0,0,0,0,0,"",0,"",0]
[{"$f":"ROW(Source!A198)","v":198},85312357,85316223,77311321,114,1,1,3,"22.2.01.04","","Изоляторы линейные штыревые фарфоровые",1371,null,1013,"ШТ","ШТ",1,null,null,null,null,null,0,1740798612,0,null,0,0,0,0,0,0,0,0,1,1,1,1,-2,1,0,1,0,0,"",0,"",0,2,85316250,1,0,383,0,0,0,0,0,0,0,0,0,0,0,0,0,0,0,0,0,0,0,0,0,0,null,null,null,null,null,null,null,null,null,null,null,null,null,null,null,null,null,null,null,null,null,null,null,null,0,0,{"$f":"ROUND(Y383*Source!I198,7)","v":0},0,0,1,0,0,"","",{"$f":"ROUND(ROUND(AE383,2)*CX383,2)","v":0},0,0,0,0,0,"",0,"",0]
[{"$f":"ROW(Source!A198)","v":198},85312357,85316223,77311330,114,1,1,3,"22.2.02.03","","Детали крепления стальные",1346,null,1009,"кг","кг",1,null,null,null,null,null,0,1533393836,0,null,0,0,0,0,0,0,0,0,1,1,1,1,-2,1,0,1,0,0,"",0,"",0,2,85316251,1,0,384,0,0,0,0,0,0,0,0,0,0,0,0,0,0,0,0,0,0,0,0,0,0,null,null,null,null,null,null,null,null,null,null,null,null,null,null,null,null,null,null,null,null,null,null,null,null,0,0,{"$f":"ROUND(Y384*Source!I198,7)","v":0},0,0,1,0,0,"","",0,0,0,0,0,0,"",0,"",0]
[{"$f":"ROW(Source!A199)","v":199},85312298,85316223,77306356,114,1,1,1,"1-100-33","","Средний разряд работы 3,3",1191,null,1013,"чел.-ч.","чел.-ч.",1,null,null,null,null,null,0,32079103,3.76,null,0,0,0,748.18,0,0,0,748.18,1,1,1,1,-2,0,0,1,1,0,"",3.76,"",1,2,85316238,2,131072,385,1,0,0,0,0,0,0,0,0,0,0,2813.1567999999997,3.76,0,1,0,0,0,2813.1567999999997,3.76,0,1,null,null,null,null,null,null,null,null,null,null,null,null,null,null,null,null,null,null,null,null,null,null,null,{"$f":"ROUND(AT385*Source!I199*AH385*AL385,2)","v":0},{"$f":"ROUND(Y385*Source!I199,7)","v":0},0,{"$f":"ROUND(Y385*Source!I199,7)","v":0},{"$f":"AD385","v":748.18},{"$f":"AH385","v":748.18},{"$f":"AL385","v":1},2813.16,0,"","",0,0,{"$f":"ROUND(ROUND(AG385,2)*CX385,2)","v":0},{"$f":"ROUND(ROUND(AH385,2)*CX385,2)","v":0},{"$f":"DI385","v":0},1,"",0,"",0]
[{"$f":"ROW(Source!A199)","v":199},85312298,85316223,77306545,114,1,1,1,"4-100-00","","Затраты труда машинистов",1191,null,1013,"чел.-ч.","чел.-ч.",1,null,null,null,null,null,0,-1417349443,1.07,null,0,0,0,0,0,0,0,0,1,1,1,1,-2,0,0,1,1,0,"",1.07,"",2,2,85316239,1,0,386,1,0,0,0,0,0,0,0,0,0,0,0,0,0,0,0,0,0,0,0,0,0,null,null,null,null,null,null,null,null,null,null,null,null,null,null,null,null,null,null,null,null,null,null,null,null,0,0,{"$f":"ROUND(Y386*Source!I199,7)","v":0},{"$f":"AD386","v":0},{"$f":"AH386","v":0},{"$f":"AL386","v":1},0,0,"","",0,0,0,0,{"$f":"DI386","v":0},0,"",0,"",0]
[{"$f":"ROW(Source!A199)","v":199},85312298,85316223,77431161,1,1,1,2,"91.06.06-011","ФСЭМ-2022, 91.06.06-011, приказ Минстроя России от 18.05.2022 г. № 378/пр","Автогидроподъемники, высота подъема 12 м",1368,null,1011,"маш.-ч","маш.-ч",1,null,null,null,null,null,0,469552416,0.85,null,0,506.23,811.79,0,0,346.73,811.79,0,1,1.46,1,1,2,0,0,1,1,0,"",0.85,"",1,2,85316240,2,65536,387,1,0,0,0,0,0,0,0,0,294.72050000000002,690.02149999999995,0,0,0.85,1,0,294.72050000000002,690.02149999999995,0,0,0.85,1,null,null,null,null,null,null,null,null,null,null,null,null,null,null,null,null,null,null,null,null,null,null,null,null,0,{"$f":"ROUND(Y387*Source!I199*DO387,7)","v":0},{"$f":"ROUND(Y387*Source!I199,7)","v":0},{"$f":"AB387","v":506.23},{"$f":"AF387","v":346.73},{"$f":"AJ387","v":1.46},294.72000000000003,690.02,"","",0,{"$f":"ROUND(ROUND(AF387*AJ387,2)*CX387,2)","v":0},0,0,{"$f":"DG387+DH387","v":0},0,"4-100-040",4,"чел.-ч.",1]
[{"$f":"ROW(Source!A199)","v":199},85312298,85316223,77431879,1,1,1,2,"91.14.02-001","ФСЭМ-2022 доп.7, 91.14.02-001, приказ Минстроя России от 02.08.2023 г. № 551/пр","Автомобили бортовые, грузоподъемность до 5 т",1368,null,1011,"маш.-ч","маш.-ч",1,null,null,null,null,null,0,-1152394969,0.22,null,0,641.70000000000005,811.79,0,0,641.70000000000005,811.79,0,1,1,1,1,-2,0,0,1,1,0,"",0.22,"",1,2,85316241,1,0,388,1,0,0,0,0,0,0,0,0,141.17400000000001,178.59379999999999,0,0,0.22,1,0,141.17400000000001,178.59379999999999,0,0,0.22,1,null,null,null,null,null,null,null,null,null,null,null,null,null,null,null,null,null,null,null,null,null,null,null,null,0,{"$f":"ROUND(Y388*Source!I199*DO388,7)","v":0},{"$f":"ROUND(Y388*Source!I199,7)","v":0},{"$f":"AB388","v":641.70000000000005},{"$f":"AF388","v":641.70000000000005},{"$f":"AJ388","v":1},141.16999999999999,178.59,"","",0,{"$f":"ROUND(ROUND(AF388,2)*CX388,2)","v":0},0,0,{"$f":"DG388+DH388","v":0},1,"4-100-040",4,"чел.-ч.",1]
[{"$f":"ROW(Source!A199)","v":199},85312298,85316223,77375900,1,1,1,3,"01.3.01.06-0038","ФСБЦ-2022, 01.3.01.06-0038, приказ Минстроя России от 18.05.2022 г. № 378/пр","Смазка защитная электросетевая",1346,null,1009,"кг","кг",1,null,null,null,null,null,0,-1628490559,0.1,null,381.26,0,0,0,238.29,0,0,0,1.6,1,1,1,2,0,0,1,1,0,"",0.1,"",0,2,85316242,1,0,389,1,0,0,0,0,0,0,0,23.829000000000001,0,0,0,0,0,1,23.829000000000001,0,0,0,0,0,1,null,null,null,null,null,null,null,null,null,null,null,null,null,null,null,null,null,null,null,null,null,null,null,null,0,0,{"$f":"ROUND(Y389*Source!I199,7)","v":0},{"$f":"AA389","v":381.26},{"$f":"AE389","v":238.29},{"$f":"AI389","v":1.6},23.83,0,"","",{"$f":"ROUND(ROUND(AE389*AI389,2)*CX389,2)","v":0},0,0,0,{"$f":"DF389","v":0},0,"",0,"",0]
[{"$f":"ROW(Source!A199)","v":199},85312298,85316223,77375907,1,1,1,3,"01.3.01.06-0051","ФСБЦ-2022 доп.12, 01.3.01.06-0051, приказ Минстроя России от 07.11.2024 г. № 747/пр","Смазка солидол жировой Ж",1346,null,1009,"кг","кг",1,null,null,null,null,null,0,-479354107,0.03,null,93.65,0,0,0,58.53,0,0,0,1.6,1,1,1,2,0,0,1,1,0,"",0.03,"",0,2,85316243,1,0,390,1,0,0,0,0,0,0,0,1.7559,0,0,0,0,0,1,1.7559,0,0,0,0,0,1,null,null,null,null,null,null,null,null,null,null,null,null,null,null,null,null,null,null,null,null,null,null,null,null,0,0,{"$f":"ROUND(Y390*Source!I199,7)","v":0},93.65,58.53,1.6,1.76,0,"","",{"$f":"ROUND(ROUND(AE390*AI390,2)*CX390,2)","v":0},0,0,0,0,0,"",0,"",0]
[{"$f":"ROW(Source!A199)","v":199},85312298,85316223,77379558,1,1,1,3,"01.7.15.03-0042","ФСБЦ-2022, 01.7.15.03-0042, приказ Минстроя России от 18.05.2022 г. № 378/пр","Болты с гайками и шайбами строительные",1346,null,1009,"кг","кг",1,null,null,null,null,null,0,1181962216,0,null,188.92,0,0,0,174.93,0,0,0,1.08,1,1,1,2,1,0,1,0,0,"",0,"",0,2,85316244,1,0,391,0,0,0,0,0,0,0,0,0,0,0,0,0,0,0,0,0,0,0,0,0,0,null,null,null,null,null,null,null,null,null,null,null,null,null,null,null,null,null,null,null,null,null,null,null,null,0,0,{"$f":"ROUND(Y391*Source!I199,7)","v":0},188.92,174.93,1.08,0,0,"","",{"$f":"ROUND(ROUND(AE391*AI391,2)*CX391,2)","v":0},0,0,0,0,0,"",0,"",0]
[{"$f":"ROW(Source!A199)","v":199},85312298,85316223,77380691,1,1,1,3,"01.7.20.08-0051","ФСБЦ-2022 доп.8, 01.7.20.08-0051, приказ Минстроя России от 14.11.2023 г. № 817/пр","Ветошь хлопчатобумажная цветная",1346,null,1009,"кг","кг",1,null,null,null,null,null,0,-130701290,0.02,null,86.41,0,0,0,56.11,0,0,0,1.54,1,1,1,2,0,0,1,1,0,"",0.02,"",0,2,85316245,1,0,392,1,0,0,0,0,0,0,0,1.1222000000000001,0,0,0,0,0,1,1.1222000000000001,0,0,0,0,0,1,null,null,null,null,null,null,null,null,null,null,null,null,null,null,null,null,null,null,null,null,null,null,null,null,0,0,{"$f":"ROUND(Y392*Source!I199,7)","v":0},86.41,56.11,1.54,1.1200000000000001,0,"","",{"$f":"ROUND(ROUND(AE392*AI392,2)*CX392,2)","v":0},0,0,0,0,0,"",0,"",0]
[{"$f":"ROW(Source!A199)","v":199},85312298,85316223,77308705,114,1,1,3,"07.2.07.13","","Хомуты стальные",1346,null,1009,"кг","кг",1,null,null,null,null,null,0,-1111733769,0,null,0,0,0,0,0,0,0,0,1,1,1,1,-2,1,0,1,0,0,"",0,"",0,2,85316246,1,0,393,0,0,0,0,0,0,0,0,0,0,0,0,0,0,0,0,0,0,0,0,0,0,null,null,null,null,null,null,null,null,null,null,null,null,null,null,null,null,null,null,null,null,null,null,null,null,0,0,{"$f":"ROUND(Y393*Source!I199,7)","v":0},0,0,1,0,0,"","",{"$f":"ROUND(ROUND(AE393,2)*CX393,2)","v":0},0,0,0,0,0,"",0,"",0]
[{"$f":"ROW(Source!A199)","v":199},85312298,85316223,77309038,114,1,1,3,"08.3.04.02","","Сталь стержневая диаметром до 10 мм",1348,null,1009,"т","т",1000,null,null,null,null,null,0,1613753229,0,null,0,0,0,0,0,0,0,0,1,1,1,1,-2,1,0,1,0,0,"",0,"",0,2,85316247,1,0,394,0,0,0,0,0,0,0,0,0,0,0,0,0,0,0,0,0,0,0,0,0,0,null,null,null,null,null,null,null,null,null,null,null,null,null,null,null,null,null,null,null,null,null,null,null,null,0,0,{"$f":"ROUND(Y394*Source!I199,7)","v":0},0,0,1,0,0,"","",{"$f":"ROUND(ROUND(AE394,2)*CX394,2)","v":0},0,0,0,0,0,"",0,"",0]
[{"$f":"ROW(Source!A199)","v":199},85312298,85316223,77397258,1,1,1,3,"14.4.03.03-0102","ФСБЦ-2022 доп.4, 14.4.03.03-0102, приказ Минстроя России от 27.12.2022 г. № 1133/пр","Лак битумный БТ-577",1348,null,1009,"т","т",1000,null,null,null,null,null,0,1215516986,1E-4,null,103227.06,0,0,0,80020.98,0,0,0,1.29,1,1,1,2,0,0,1,1,0,"",1E-4,"",0,2,85316248,1,0,395,1,0,0,0,0,0,0,0,8.0020980000000002,0,0,0,0,0,1,8.0020980000000002,0,0,0,0,0,1,null,null,null,null,null,null,null,null,null,null,null,null,null,null,null,null,null,null,null,null,null,null,null,null,0,0,{"$f":"ROUND(Y395*Source!I199,7)","v":0},103227.06,80020.98,1.29,8,0,"","",{"$f":"ROUND(ROUND(AE395*AI395,2)*CX395,2)","v":0},0,0,0,0,0,"",0,"",0]
[{"$f":"ROW(Source!A199)","v":199},85312298,85316223,77397652,1,1,1,3,"14.5.09.11-0102","ФСБЦ-2022, 14.5.09.11-0102, приказ Минстроя России от 18.05.2022 г. № 378/пр","Уайт-спирит",1346,null,1009,"кг","кг",1,null,null,null,null,null,0,-105256092,0.03,null,86.66,0,0,0,60.6,0,0,0,1.43,1,1,1,2,0,0,1,1,0,"",0.03,"",0,2,85316249,1,0,396,1,0,0,0,0,0,0,0,1.8180000000000001,0,0,0,0,0,1,1.8180000000000001,0,0,0,0,0,1,null,null,null,null,null,null,null,null,null,null,null,null,null,null,null,null,null,null,null,null,null,null,null,null,0,0,{"$f":"ROUND(Y396*Source!I199,7)","v":0},86.66,60.6,1.43,1.82,0,"","",{"$f":"ROUND(ROUND(AE396*AI396,2)*CX396,2)","v":0},0,0,0,0,0,"",0,"",0]
[{"$f":"ROW(Source!A199)","v":199},85312298,85316223,77311321,114,1,1,3,"22.2.01.04","","Изоляторы линейные штыревые фарфоровые",1371,null,1013,"ШТ","ШТ",1,null,null,null,null,null,0,1740798612,0,null,0,0,0,0,0,0,0,0,1,1,1,1,-2,1,0,1,0,0,"",0,"",0,2,85316250,1,0,397,0,0,0,0,0,0,0,0,0,0,0,0,0,0,0,0,0,0,0,0,0,0,null,null,null,null,null,null,null,null,null,null,null,null,null,null,null,null,null,null,null,null,null,null,null,null,0,0,{"$f":"ROUND(Y397*Source!I199,7)","v":0},0,0,1,0,0,"","",{"$f":"ROUND(ROUND(AE397,2)*CX397,2)","v":0},0,0,0,0,0,"",0,"",0]
[{"$f":"ROW(Source!A199)","v":199},85312298,85316223,77311330,114,1,1,3,"22.2.02.03","","Детали крепления стальные",1346,null,1009,"кг","кг",1,null,null,null,null,null,0,1533393836,0,null,0,0,0,0,0,0,0,0,1,1,1,1,-2,1,0,1,0,0,"",0,"",0,2,85316251,1,0,398,0,0,0,0,0,0,0,0,0,0,0,0,0,0,0,0,0,0,0,0,0,0,null,null,null,null,null,null,null,null,null,null,null,null,null,null,null,null,null,null,null,null,null,null,null,null,0,0,{"$f":"ROUND(Y398*Source!I199,7)","v":0},0,0,1,0,0,"","",0,0,0,0,0,0,"",0,"",0]
[{"$f":"ROW(Source!A211)","v":211},85312357,85316258,83777525,117,1,1,1,"1-100-42","","Средний разряд работы 4,2",1191,null,1013,"чел.-ч.","чел.-ч.",1,null,null,null,null,null,0,1522950421,{"$f":"(AT399*ROUND((0.2+1),7))","v":63.036000000000001},null,0,0,0,836.02,0,0,0,836.02,1,1,1,1,-2,0,0,1,1,0,"",52.53,"*(0,2+1)",1,2,85316273,1,0,399,1,0,0,0,0,0,0,0,0,0,0,43916.130599999997,52.53,0,1,0,0,0,52699.356720000003,63.036000000000001,0,1,null,null,null,null,null,null,null,null,null,null,null,null,null,null,null,null,null,null,null,null,null,null,null,{"$f":"ROUND(AT399*Source!I211*AH399*AL399,2)","v":1756.65},{"$f":"ROUND(Y399*Source!I211,7)","v":2.5214400000000001},0,{"$f":"ROUND(Y399*Source!I211,7)","v":2.5214400000000001},{"$f":"AD399","v":836.02},{"$f":"AH399","v":836.02},{"$f":"AL399","v":1},{"$f":"ROUND((ROUND(AT399*CZ399,2)*ROUND((0.2+1),7)),2)","v":52699.360000000001},{"$f":"ROUND((ROUND(AT399*AG399,2)*ROUND((0.2+1),7)),2)","v":0},"","",0,0,0,2107.9699999999998,{"$f":"DI399","v":2107.9699999999998},1,"",0,"",0]
[{"$f":"ROW(Source!A211)","v":211},85312357,85316258,83777689,117,1,1,1,"4-100-00","","Затраты труда машинистов",1191,null,1013,"чел.-ч.","чел.-ч.",1,null,null,null,null,null,0,-1417349443,{"$f":"(AT400*ROUND((0.2+1),7))","v":7.1999999999999995E-2},null,0,0,0,0,0,0,0,0,1,1,1,1,-2,0,0,1,1,0,"",0.06,"*(0,2+1)",2,2,85316274,1,0,400,1,0,0,0,0,0,0,0,0,0,0,0,0,0,0,0,0,0,0,0,0,0,null,null,null,null,null,null,null,null,null,null,null,null,null,null,null,null,null,null,null,null,null,null,null,null,0,0,{"$f":"ROUND(Y400*Source!I211,7)","v":2.8800000000000002E-3},{"$f":"AD400","v":0},{"$f":"AH400","v":0},{"$f":"AL400","v":1},{"$f":"ROUND((ROUND(AT400*CZ400,2)*ROUND((0.2+1),7)),2)","v":0},{"$f":"ROUND((ROUND(AT400*AG400,2)*ROUND((0.2+1),7)),2)","v":0},"","",0,0,0,0,{"$f":"DI400","v":0},0,"",0,"",0]
[{"$f":"ROW(Source!A211)","v":211},85312357,85316258,83784178,1,1,1,2,"91.05.05-015","ФСЭМ-2022, 91.05.05-015, приказ Минстроя России от 18.05.2022 г. № 378/пр","Краны на автомобильном ходу, грузоподъемность 16 т",1368,null,1011,"маш.-ч","маш.-ч",1,null,null,null,null,null,0,639918019,{"$f":"(AT401*ROUND((0.2+1),7))","v":3.5999999999999997E-2},null,0,1626.29,1090.46,0,0,1626.29,1090.46,0,1,1,1,1,-2,0,0,1,1,0,"",0.03,"*(0,2+1)",1,2,85316275,1,0,401,1,0,0,0,0,0,0,0,0,48.788699999999999,32.713799999999999,0,0,0.03,1,0,58.546439999999997,39.25656,0,0,3.5999999999999997E-2,1,null,null,null,null,null,null,null,null,null,null,null,null,null,null,null,null,null,null,null,null,null,null,null,null,0,{"$f":"ROUND(Y401*Source!I211*DO401,7)","v":1.4400000000000001E-3},{"$f":"ROUND(Y401*Source!I211,7)","v":1.4400000000000001E-3},{"$f":"AB401","v":1626.29},{"$f":"AF401","v":1626.29},{"$f":"AJ401","v":1},{"$f":"ROUND((ROUND(AT401*CZ401,2)*ROUND((0.2+1),7)),2)","v":58.55},{"$f":"ROUND((ROUND(AT401*AG401,2)*ROUND((0.2+1),7)),2)","v":39.25},"","",0,2.34,1.57,0,{"$f":"DG401+DH401","v":3.91},1,"4-100-060",6,"чел.-ч.",1]
[{"$f":"ROW(Source!A211)","v":211},85312357,85316258,83785072,1,1,1,2,"91.14.02-001","ФСЭМ-2022 доп.7, 91.14.02-001, приказ Минстроя России от 02.08.2023 г. № 551/пр","Автомобили бортовые, грузоподъемность до 5 т",1368,null,1011,"маш.-ч","маш.-ч",1,null,null,null,null,null,0,-849950259,{"$f":"(AT402*ROUND((0.2+1),7))","v":3.5999999999999997E-2},null,0,641.70000000000005,811.79,0,0,641.70000000000005,811.79,0,1,1,1,1,-2,0,0,1,1,0,"",0.03,"*(0,2+1)",1,2,85316276,1,0,402,1,0,0,0,0,0,0,0,0,19.251000000000001,24.353699999999996,0,0,0.03,1,0,23.101199999999999,29.224439999999998,0,0,3.5999999999999997E-2,1,null,null,null,null,null,null,null,null,null,null,null,null,null,null,null,null,null,null,null,null,null,null,null,null,0,{"$f":"ROUND(Y402*Source!I211*DO402,7)","v":1.4400000000000001E-3},{"$f":"ROUND(Y402*Source!I211,7)","v":1.4400000000000001E-3},{"$f":"AB402","v":641.70000000000005},{"$f":"AF402","v":641.70000000000005},{"$f":"AJ402","v":1},{"$f":"ROUND((ROUND(AT402*CZ402,2)*ROUND((0.2+1),7)),2)","v":23.1},{"$f":"ROUND((ROUND(AT402*AG402,2)*ROUND((0.2+1),7)),2)","v":29.22},"","",0,0.92,1.17,0,{"$f":"DG402+DH402","v":2.09},1,"4-100-040",4,"чел.-ч.",1]
[{"$f":"ROW(Source!A211)","v":211},85312357,85316258,83785705,1,1,1,2,"91.21.16-012","ФСЭМ-2022, 91.21.16-012, приказ Минстроя России от 18.05.2022 г. № 378/пр","Прессы гидравлические с электроприводом",1368,null,1011,"маш.-ч","маш.-ч",1,null,null,null,null,null,0,691687715,{"$f":"(AT403*ROUND((0.2+1),7))","v":21},null,0,15.84,0,0,0,15.84,0,0,1,1,1,1,-2,0,0,1,1,0,"",17.5,"*(0,2+1)",1,2,85316277,1,0,403,1,0,0,0,0,0,0,0,0,277.2,0,0,0,0,1,0,332.64,0,0,0,0,1,null,null,null,null,null,null,null,null,null,null,null,null,null,null,null,null,null,null,null,null,null,null,null,null,0,{"$f":"ROUND(Y403*Source!I211*DO403,7)","v":0},{"$f":"ROUND(Y403*Source!I211,7)","v":0.84},{"$f":"AB403","v":15.84},{"$f":"AF403","v":15.84},{"$f":"AJ403","v":1},{"$f":"ROUND((ROUND(AT403*CZ403,2)*ROUND((0.2+1),7)),2)","v":332.64},{"$f":"ROUND((ROUND(AT403*AG403,2)*ROUND((0.2+1),7)),2)","v":0},"","",0,13.31,0,0,{"$f":"DG403+DH403","v":13.31},1,"",0,"",0]
[{"$f":"ROW(Source!A211)","v":211},85312357,85316258,83849775,1,1,1,3,"01.3.01.02-0002","ФСБЦ-2022 доп.8, 01.3.01.02-0002, приказ Минстроя России от 14.11.2023 г. № 817/пр","Вазелин технический",1346,null,1009,"кг","кг",1,null,null,null,null,null,0,819855318,{"$f":"AT404","v":0.3},null,240.06,0,0,0,150.04,0,0,0,1.6,1,1,1,2,0,0,1,1,0,"",0.3,"",0,2,85316278,1,0,404,1,0,0,0,0,0,0,0,45.011999999999993,0,0,0,0,0,1,45.011999999999993,0,0,0,0,0,1,null,null,null,null,null,null,null,null,null,null,null,null,null,null,null,null,null,null,null,null,null,null,null,null,0,0,{"$f":"ROUND(Y404*Source!I211,7)","v":1.2E-2},{"$f":"AA404","v":240.06},{"$f":"AE404","v":150.04},{"$f":"AI404","v":1.6},{"$f":"ROUND(ROUND(AT404*CZ404,2),2)","v":45.01},{"$f":"ROUND(ROUND(AT404*AG404,2),2)","v":0},"","",{"$f":"ROUND(ROUND(AE404*AI404,2)*CX404,2)","v":2.88},0,0,0,{"$f":"DF404","v":2.88},0,"",0,"",0]
[{"$f":"ROW(Source!A211)","v":211},85312357,85316258,83851817,1,1,1,3,"01.7.02.09-0002","ФСБЦ-2022, 01.7.02.09-0002, приказ Минстроя России от 18.05.2022 г. № 378/пр","Шпагат бумажный, диаметр 2,5 мм",1346,null,1009,"кг","кг",1,null,null,null,null,null,0,-559691286,0.1,null,164.89,0,0,0,187.38,0,0,0,0.88,1,1,1,2,0,0,1,1,0,"",0.1,"",0,2,85316279,1,0,405,1,0,0,0,0,0,0,0,18.738,0,0,0,0,0,1,18.738,0,0,0,0,0,1,null,null,null,null,null,null,null,null,null,null,null,null,null,null,null,null,null,null,null,null,null,null,null,null,0,0,{"$f":"ROUND(Y405*Source!I211,7)","v":4.0000000000000001E-3},164.89,187.38,0.88,18.739999999999998,0,"","",0.66,0,0,0,0.66,0,"",0,"",0]
[{"$f":"ROW(Source!A211)","v":211},85312357,85316258,83852000,1,1,1,3,"01.7.06.05-0041","ФСБЦ-2022, 01.7.06.05-0041, приказ Минстроя России от 18.05.2022 г. № 378/пр","Ленты изоляционные хлопчатобумажные прорезиненные для электромонтажных и ремонтных работ, цвет черный, ширина 20 мм, толщина 0,35 мм",1301,null,1003,"м","м",1,null,null,null,null,null,0,-1499427467,83.33,null,5.17,0,0,0,5.87,0,0,0,0.88,1,1,1,2,0,0,1,1,0,"",83.33,"",0,2,85316280,1,0,406,1,0,0,0,0,0,0,0,489.14710000000002,0,0,0,0,0,1,489.14710000000002,0,0,0,0,0,1,null,null,null,null,null,null,null,null,null,null,null,null,null,null,null,null,null,null,null,null,null,null,null,null,0,0,{"$f":"ROUND(Y406*Source!I211,7)","v":3.3332000000000002},5.17,5.87,0.88,489.15,0,"","",17.23,0,0,0,17.23,0,"",0,"",0]
[{"$f":"ROW(Source!A211)","v":211},85312357,85316258,83852014,1,1,1,3,"01.7.06.07-0002","ФСБЦ-2022, 01.7.06.07-0002, приказ Минстроя России от 18.05.2022 г. № 378/пр","Ленты монтажные из пластмассы для бандажирования проводов, скрепляются пластмассовыми кнопками, ширина 10 мм",1302,null,1003,"10 м","10 м",10,null,null,null,null,null,0,530731316,1.5,null,57.7,0,0,0,37.71,0,0,0,1.53,1,1,1,2,0,0,1,1,0,"",1.5,"",0,2,85316281,1,0,407,1,0,0,0,0,0,0,0,56.564999999999998,0,0,0,0,0,1,56.564999999999998,0,0,0,0,0,1,null,null,null,null,null,null,null,null,null,null,null,null,null,null,null,null,null,null,null,null,null,null,null,null,0,0,{"$f":"ROUND(Y407*Source!I211,7)","v":0.06},57.7,37.71,1.53,56.57,0,"","",3.46,0,0,0,3.46,0,"",0,"",0]
[{"$f":"ROW(Source!A211)","v":211},85312357,85316258,83853338,1,1,1,3,"01.7.15.03-0042","ФСБЦ-2022, 01.7.15.03-0042, приказ Минстроя России от 18.05.2022 г. № 378/пр","Болты с гайками и шайбами строительные",1346,null,1009,"кг","кг",1,null,null,null,null,null,0,-1131385474,7.94,null,188.92,0,0,0,174.93,0,0,0,1.08,1,1,1,2,0,0,1,1,0,"",7.94,"",0,2,85316282,1,0,408,1,0,0,0,0,0,0,0,1388.9442000000001,0,0,0,0,0,1,1388.9442000000001,0,0,0,0,0,1,null,null,null,null,null,null,null,null,null,null,null,null,null,null,null,null,null,null,null,null,null,null,null,null,0,0,{"$f":"ROUND(Y408*Source!I211,7)","v":0.31759999999999999},188.92,174.93,1.08,1388.94,0,"","",60,0,0,0,60,0,"",0,"",0]
[{"$f":"ROW(Source!A211)","v":211},85312357,85316258,83854460,1,1,1,3,"01.7.20.04-0005","ФСБЦ-2022, 01.7.20.04-0005, приказ Минстроя России от 18.05.2022 г. № 378/пр","Нитки швейные армированные",1346,null,1009,"кг","кг",1,null,null,null,null,null,0,-390590286,0.06,null,609.29999999999995,0,0,0,395.65,0,0,0,1.54,1,1,1,2,0,0,1,1,0,"",0.06,"",0,2,85316283,1,0,409,1,0,0,0,0,0,0,0,23.738999999999997,0,0,0,0,0,1,23.738999999999997,0,0,0,0,0,1,null,null,null,null,null,null,null,null,null,null,null,null,null,null,null,null,null,null,null,null,null,null,null,null,0,0,{"$f":"ROUND(Y409*Source!I211,7)","v":2.3999999999999998E-3},609.29999999999995,395.65,1.54,23.74,0,"","",1.46,0,0,0,1.46,0,"",0,"",0]
[{"$f":"ROW(Source!A211)","v":211},85312357,85316258,83870611,1,1,1,3,"14.4.03.17-0101","ФСБЦ-2022, 14.4.03.17-0101, приказ Минстроя России от 18.05.2022 г. № 378/пр","Лак КФ-965",1348,null,1009,"т","т",1000,null,null,null,null,null,0,-800421790,4.0000000000000002E-4,null,370619.64,0,0,0,308849.7,0,0,0,1.2,1,1,1,2,0,0,1,1,0,"",4.0000000000000002E-4,"",0,2,85316284,1,0,410,1,0,0,0,0,0,0,0,123.53988000000001,0,0,0,0,0,1,123.53988000000001,0,0,0,0,0,1,null,null,null,null,null,null,null,null,null,null,null,null,null,null,null,null,null,null,null,null,null,null,null,null,0,0,{"$f":"ROUND(Y410*Source!I211,7)","v":1.5999999999999999E-5},370619.64,308849.7,1.2,123.54,0,"","",5.93,0,0,0,5.93,0,"",0,"",0]
[{"$f":"ROW(Source!A211)","v":211},85312357,85316258,83896008,1,1,1,3,"25.2.01.01-0001","ФСБЦ-2022, 25.2.01.01-0001, приказ Минстроя России от 18.05.2022 г. № 378/пр","Бирки-оконцеватели маркировочные А671",1425,null,1013,"100 ШТ","100 ШТ",1,null,null,null,null,null,0,1904922673,1.02,null,623.11,0,0,0,655.9,0,0,0,0.95,1,1,1,2,0,0,1,1,0,"",1.02,"",0,2,85316285,1,0,411,1,0,0,0,0,0,0,0,669.01800000000003,0,0,0,0,0,1,669.01800000000003,0,0,0,0,0,1,null,null,null,null,null,null,null,null,null,null,null,null,null,null,null,null,null,null,null,null,null,null,null,null,0,0,{"$f":"ROUND(Y411*Source!I211,7)","v":4.0800000000000003E-2},623.11,655.9,0.95,669.02,0,"","",25.42,0,0,0,25.42,0,"",0,"",0]
[{"$f":"ROW(Source!A211)","v":211},85312357,85316258,83783523,117,1,1,3,"421/пр_2020_п.75_пп.а","","Сметная стоимость вспомогательных ненормируемых материальных ресурсов, не учтенная в сметной норме, 2%",3277935,null,1013,"%","%",1,null,null,null,null,null,0,274903907,2,null,0,0,0,0,0,0,0,0,1,1,1,1,0,0,0,0,0,0,"",2,"",0,2,85316286,1,0,412,0,0,0,0,0,0,0,0,0,0,0,0,0,0,0,0,0,0,0,0,0,0,null,null,null,null,null,null,null,null,null,null,null,null,null,null,null,null,null,null,null,null,null,null,null,null,0,0,{"$f":"ROUND(Y412*Source!I211,7)","v":0.08},0,0,1,0,0,"","",{"$f":"ROUND(ROUND(AE412,2)*CX412,2)","v":0},0,0,0,0,0,"",0,"",0]
[{"$f":"ROW(Source!A212)","v":212},85312298,85316258,83777525,117,1,1,1,"1-100-42","","Средний разряд работы 4,2",1191,null,1013,"чел.-ч.","чел.-ч.",1,null,null,null,null,null,0,1522950421,{"$f":"(AT413*ROUND((0.2+1),7))","v":63.036000000000001},null,0,0,0,836.02,0,0,0,836.02,1,1,1,1,-2,0,0,1,1,0,"",52.53,"*(0,2+1)",1,2,85316273,1,0,413,1,0,0,0,0,0,0,0,0,0,0,43916.130599999997,52.53,0,1,0,0,0,52699.356720000003,63.036000000000001,0,1,null,null,null,null,null,null,null,null,null,null,null,null,null,null,null,null,null,null,null,null,null,null,null,{"$f":"ROUND(AT413*Source!I212*AH413*AL413,2)","v":1756.65},{"$f":"ROUND(Y413*Source!I212,7)","v":2.5214400000000001},0,{"$f":"ROUND(Y413*Source!I212,7)","v":2.5214400000000001},{"$f":"AD413","v":836.02},{"$f":"AH413","v":836.02},{"$f":"AL413","v":1},{"$f":"ROUND((ROUND(AT413*CZ413,2)*ROUND((0.2+1),7)),2)","v":52699.360000000001},{"$f":"ROUND((ROUND(AT413*AG413,2)*ROUND((0.2+1),7)),2)","v":0},"","",0,0,0,2107.9699999999998,{"$f":"DI413","v":2107.9699999999998},1,"",0,"",0]
[{"$f":"ROW(Source!A212)","v":212},85312298,85316258,83777689,117,1,1,1,"4-100-00","","Затраты труда машинистов",1191,null,1013,"чел.-ч.","чел.-ч.",1,null,null,null,null,null,0,-1417349443,{"$f":"(AT414*ROUND((0.2+1),7))","v":7.1999999999999995E-2},null,0,0,0,0,0,0,0,0,1,1,1,1,-2,0,0,1,1,0,"",0.06,"*(0,2+1)",2,2,85316274,1,0,414,1,0,0,0,0,0,0,0,0,0,0,0,0,0,0,0,0,0,0,0,0,0,null,null,null,null,null,null,null,null,null,null,null,null,null,null,null,null,null,null,null,null,null,null,null,null,0,0,{"$f":"ROUND(Y414*Source!I212,7)","v":2.8800000000000002E-3},{"$f":"AD414","v":0},{"$f":"AH414","v":0},{"$f":"AL414","v":1},{"$f":"ROUND((ROUND(AT414*CZ414,2)*ROUND((0.2+1),7)),2)","v":0},{"$f":"ROUND((ROUND(AT414*AG414,2)*ROUND((0.2+1),7)),2)","v":0},"","",0,0,0,0,{"$f":"DI414","v":0},0,"",0,"",0]
[{"$f":"ROW(Source!A212)","v":212},85312298,85316258,83784178,1,1,1,2,"91.05.05-015","ФСЭМ-2022, 91.05.05-015, приказ Минстроя России от 18.05.2022 г. № 378/пр","Краны на автомобильном ходу, грузоподъемность 16 т",1368,null,1011,"маш.-ч","маш.-ч",1,null,null,null,null,null,0,639918019,{"$f":"(AT415*ROUND((0.2+1),7))","v":3.5999999999999997E-2},null,0,1626.29,1090.46,0,0,1626.29,1090.46,0,1,1,1,1,-2,0,0,1,1,0,"",0.03,"*(0,2+1)",1,2,85316275,1,0,415,1,0,0,0,0,0,0,0,0,48.788699999999999,32.713799999999999,0,0,0.03,1,0,58.546439999999997,39.25656,0,0,3.5999999999999997E-2,1,null,null,null,null,null,null,null,null,null,null,null,null,null,null,null,null,null,null,null,null,null,null,null,null,0,{"$f":"ROUND(Y415*Source!I212*DO415,7)","v":1.4400000000000001E-3},{"$f":"ROUND(Y415*Source!I212,7)","v":1.4400000000000001E-3},{"$f":"AB415","v":1626.29},{"$f":"AF415","v":1626.29},{"$f":"AJ415","v":1},{"$f":"ROUND((ROUND(AT415*CZ415,2)*ROUND((0.2+1),7)),2)","v":58.55},{"$f":"ROUND((ROUND(AT415*AG415,2)*ROUND((0.2+1),7)),2)","v":39.25},"","",0,2.34,1.57,0,{"$f":"DG415+DH415","v":3.91},1,"4-100-060",6,"чел.-ч.",1]
[{"$f":"ROW(Source!A212)","v":212},85312298,85316258,83785072,1,1,1,2,"91.14.02-001","ФСЭМ-2022 доп.7, 91.14.02-001, приказ Минстроя России от 02.08.2023 г. № 551/пр","Автомобили бортовые, грузоподъемность до 5 т",1368,null,1011,"маш.-ч","маш.-ч",1,null,null,null,null,null,0,-849950259,{"$f":"(AT416*ROUND((0.2+1),7))","v":3.5999999999999997E-2},null,0,641.70000000000005,811.79,0,0,641.70000000000005,811.79,0,1,1,1,1,-2,0,0,1,1,0,"",0.03,"*(0,2+1)",1,2,85316276,1,0,416,1,0,0,0,0,0,0,0,0,19.251000000000001,24.353699999999996,0,0,0.03,1,0,23.101199999999999,29.224439999999998,0,0,3.5999999999999997E-2,1,null,null,null,null,null,null,null,null,null,null,null,null,null,null,null,null,null,null,null,null,null,null,null,null,0,{"$f":"ROUND(Y416*Source!I212*DO416,7)","v":1.4400000000000001E-3},{"$f":"ROUND(Y416*Source!I212,7)","v":1.4400000000000001E-3},{"$f":"AB416","v":641.70000000000005},{"$f":"AF416","v":641.70000000000005},{"$f":"AJ416","v":1},{"$f":"ROUND((ROUND(AT416*CZ416,2)*ROUND((0.2+1),7)),2)","v":23.1},{"$f":"ROUND((ROUND(AT416*AG416,2)*ROUND((0.2+1),7)),2)","v":29.22},"","",0,0.92,1.17,0,{"$f":"DG416+DH416","v":2.09},1,"4-100-040",4,"чел.-ч.",1]
[{"$f":"ROW(Source!A212)","v":212},85312298,85316258,83785705,1,1,1,2,"91.21.16-012","ФСЭМ-2022, 91.21.16-012, приказ Минстроя России от 18.05.2022 г. № 378/пр","Прессы гидравлические с электроприводом",1368,null,1011,"маш.-ч","маш.-ч",1,null,null,null,null,null,0,691687715,{"$f":"(AT417*ROUND((0.2+1),7))","v":21},null,0,15.84,0,0,0,15.84,0,0,1,1,1,1,-2,0,0,1,1,0,"",17.5,"*(0,2+1)",1,2,85316277,1,0,417,1,0,0,0,0,0,0,0,0,277.2,0,0,0,0,1,0,332.64,0,0,0,0,1,null,null,null,null,null,null,null,null,null,null,null,null,null,null,null,null,null,null,null,null,null,null,null,null,0,{"$f":"ROUND(Y417*Source!I212*DO417,7)","v":0},{"$f":"ROUND(Y417*Source!I212,7)","v":0.84},{"$f":"AB417","v":15.84},{"$f":"AF417","v":15.84},{"$f":"AJ417","v":1},{"$f":"ROUND((ROUND(AT417*CZ417,2)*ROUND((0.2+1),7)),2)","v":332.64},{"$f":"ROUND((ROUND(AT417*AG417,2)*ROUND((0.2+1),7)),2)","v":0},"","",0,13.31,0,0,{"$f":"DG417+DH417","v":13.31},1,"",0,"",0]
[{"$f":"ROW(Source!A212)","v":212},85312298,85316258,83849775,1,1,1,3,"01.3.01.02-0002","ФСБЦ-2022 доп.8, 01.3.01.02-0002, приказ Минстроя России от 14.11.2023 г. № 817/пр","Вазелин технический",1346,null,1009,"кг","кг",1,null,null,null,null,null,0,819855318,{"$f":"AT418","v":0.3},null,240.06,0,0,0,150.04,0,0,0,1.6,1,1,1,2,0,0,1,1,0,"",0.3,"",0,2,85316278,1,0,418,1,0,0,0,0,0,0,0,45.011999999999993,0,0,0,0,0,1,45.011999999999993,0,0,0,0,0,1,null,null,null,null,null,null,null,null,null,null,null,null,null,null,null,null,null,null,null,null,null,null,null,null,0,0,{"$f":"ROUND(Y418*Source!I212,7)","v":1.2E-2},{"$f":"AA418","v":240.06},{"$f":"AE418","v":150.04},{"$f":"AI418","v":1.6},{"$f":"ROUND(ROUND(AT418*CZ418,2),2)","v":45.01},{"$f":"ROUND(ROUND(AT418*AG418,2),2)","v":0},"","",{"$f":"ROUND(ROUND(AE418*AI418,2)*CX418,2)","v":2.88},0,0,0,{"$f":"DF418","v":2.88},0,"",0,"",0]
[{"$f":"ROW(Source!A212)","v":212},85312298,85316258,83851817,1,1,1,3,"01.7.02.09-0002","ФСБЦ-2022, 01.7.02.09-0002, приказ Минстроя России от 18.05.2022 г. № 378/пр","Шпагат бумажный, диаметр 2,5 мм",1346,null,1009,"кг","кг",1,null,null,null,null,null,0,-559691286,0.1,null,164.89,0,0,0,187.38,0,0,0,0.88,1,1,1,2,0,0,1,1,0,"",0.1,"",0,2,85316279,1,0,419,1,0,0,0,0,0,0,0,18.738,0,0,0,0,0,1,18.738,0,0,0,0,0,1,null,null,null,null,null,null,null,null,null,null,null,null,null,null,null,null,null,null,null,null,null,null,null,null,0,0,{"$f":"ROUND(Y419*Source!I212,7)","v":4.0000000000000001E-3},164.89,187.38,0.88,18.739999999999998,0,"","",0.66,0,0,0,0.66,0,"",0,"",0]
[{"$f":"ROW(Source!A212)","v":212},85312298,85316258,83852000,1,1,1,3,"01.7.06.05-0041","ФСБЦ-2022, 01.7.06.05-0041, приказ Минстроя России от 18.05.2022 г. № 378/пр","Ленты изоляционные хлопчатобумажные прорезиненные для электромонтажных и ремонтных работ, цвет черный, ширина 20 мм, толщина 0,35 мм",1301,null,1003,"м","м",1,null,null,null,null,null,0,-1499427467,83.33,null,5.17,0,0,0,5.87,0,0,0,0.88,1,1,1,2,0,0,1,1,0,"",83.33,"",0,2,85316280,1,0,420,1,0,0,0,0,0,0,0,489.14710000000002,0,0,0,0,0,1,489.14710000000002,0,0,0,0,0,1,null,null,null,null,null,null,null,null,null,null,null,null,null,null,null,null,null,null,null,null,null,null,null,null,0,0,{"$f":"ROUND(Y420*Source!I212,7)","v":3.3332000000000002},5.17,5.87,0.88,489.15,0,"","",17.23,{"$f":"ROUND(ROUND(AF420,2)*CX420,2)","v":0},0,0,17.23,0,"",0,"",0]
[{"$f":"ROW(Source!A212)","v":212},85312298,85316258,83852014,1,1,1,3,"01.7.06.07-0002","ФСБЦ-2022, 01.7.06.07-0002, приказ Минстроя России от 18.05.2022 г. № 378/пр","Ленты монтажные из пластмассы для бандажирования проводов, скрепляются пластмассовыми кнопками, ширина 10 мм",1302,null,1003,"10 м","10 м",10,null,null,null,null,null,0,530731316,1.5,null,57.7,0,0,0,37.71,0,0,0,1.53,1,1,1,2,0,0,1,1,0,"",1.5,"",0,2,85316281,1,0,421,1,0,0,0,0,0,0,0,56.564999999999998,0,0,0,0,0,1,56.564999999999998,0,0,0,0,0,1,null,null,null,null,null,null,null,null,null,null,null,null,null,null,null,null,null,null,null,null,null,null,null,null,0,0,{"$f":"ROUND(Y421*Source!I212,7)","v":0.06},57.7,37.71,1.53,56.57,0,"","",3.46,0,0,0,3.46,0,"",0,"",0]
[{"$f":"ROW(Source!A212)","v":212},85312298,85316258,83853338,1,1,1,3,"01.7.15.03-0042","ФСБЦ-2022, 01.7.15.03-0042, приказ Минстроя России от 18.05.2022 г. № 378/пр","Болты с гайками и шайбами строительные",1346,null,1009,"кг","кг",1,null,null,null,null,null,0,-1131385474,7.94,null,188.92,0,0,0,174.93,0,0,0,1.08,1,1,1,2,0,0,1,1,0,"",7.94,"",0,2,85316282,1,0,422,1,0,0,0,0,0,0,0,1388.9442000000001,0,0,0,0,0,1,1388.9442000000001,0,0,0,0,0,1,null,null,null,null,null,null,null,null,null,null,null,null,null,null,null,null,null,null,null,null,null,null,null,null,0,0,{"$f":"ROUND(Y422*Source!I212,7)","v":0.31759999999999999},188.92,174.93,1.08,1388.94,0,"","",60,0,0,0,60,0,"",0,"",0]
[{"$f":"ROW(Source!A212)","v":212},85312298,85316258,83854460,1,1,1,3,"01.7.20.04-0005","ФСБЦ-2022, 01.7.20.04-0005, приказ Минстроя России от 18.05.2022 г. № 378/пр","Нитки швейные армированные",1346,null,1009,"кг","кг",1,null,null,null,null,null,0,-390590286,0.06,null,609.29999999999995,0,0,0,395.65,0,0,0,1.54,1,1,1,2,0,0,1,1,0,"",0.06,"",0,2,85316283,1,0,423,1,0,0,0,0,0,0,0,23.738999999999997,0,0,0,0,0,1,23.738999999999997,0,0,0,0,0,1,null,null,null,null,null,null,null,null,null,null,null,null,null,null,null,null,null,null,null,null,null,null,null,null,0,0,{"$f":"ROUND(Y423*Source!I212,7)","v":2.3999999999999998E-3},609.29999999999995,395.65,1.54,23.74,0,"","",1.46,0,0,0,1.46,0,"",0,"",0]
[{"$f":"ROW(Source!A212)","v":212},85312298,85316258,83870611,1,1,1,3,"14.4.03.17-0101","ФСБЦ-2022, 14.4.03.17-0101, приказ Минстроя России от 18.05.2022 г. № 378/пр","Лак КФ-965",1348,null,1009,"т","т",1000,null,null,null,null,null,0,-800421790,4.0000000000000002E-4,null,370619.64,0,0,0,308849.7,0,0,0,1.2,1,1,1,2,0,0,1,1,0,"",4.0000000000000002E-4,"",0,2,85316284,1,0,424,1,0,0,0,0,0,0,0,123.53988000000001,0,0,0,0,0,1,123.53988000000001,0,0,0,0,0,1,null,null,null,null,null,null,null,null,null,null,null,null,null,null,null,null,null,null,null,null,null,null,null,null,0,0,{"$f":"ROUND(Y424*Source!I212,7)","v":1.5999999999999999E-5},370619.64,308849.7,1.2,123.54,0,"","",5.93,0,0,0,5.93,0,"",0,"",0]
[{"$f":"ROW(Source!A212)","v":212},85312298,85316258,83896008,1,1,1,3,"25.2.01.01-0001","ФСБЦ-2022, 25.2.01.01-0001, приказ Минстроя России от 18.05.2022 г. № 378/пр","Бирки-оконцеватели маркировочные А671",1425,null,1013,"100 ШТ","100 ШТ",1,null,null,null,null,null,0,1904922673,1.02,null,623.11,0,0,0,655.9,0,0,0,0.95,1,1,1,2,0,0,1,1,0,"",1.02,"",0,2,85316285,1,0,425,1,0,0,0,0,0,0,0,669.01800000000003,0,0,0,0,0,1,669.01800000000003,0,0,0,0,0,1,null,null,null,null,null,null,null,null,null,null,null,null,null,null,null,null,null,null,null,null,null,null,null,null,0,0,{"$f":"ROUND(Y425*Source!I212,7)","v":4.0800000000000003E-2},623.11,655.9,0.95,669.02,0,"","",25.42,0,0,0,25.42,0,"",0,"",0]
[{"$f":"ROW(Source!A212)","v":212},85312298,85316258,83783523,117,1,1,3,"421/пр_2020_п.75_пп.а","","Сметная стоимость вспомогательных ненормируемых материальных ресурсов, не учтенная в сметной норме, 2%",3277935,null,1013,"%","%",1,null,null,null,null,null,0,274903907,2,null,0,0,0,0,0,0,0,0,1,1,1,1,0,0,0,0,0,0,"",2,"",0,2,85316286,1,0,426,0,0,0,0,0,0,0,0,0,0,0,0,0,0,0,0,0,0,0,0,0,0,null,null,null,null,null,null,null,null,null,null,null,null,null,null,null,null,null,null,null,null,null,null,null,null,0,0,{"$f":"ROUND(Y426*Source!I212,7)","v":0.08},0,0,1,0,0,"","",{"$f":"ROUND(ROUND(AE426,2)*CX426,2)","v":0},0,0,0,0,0,"",0,"",0]
[{"$f":"ROW(Source!A216)","v":216},85312357,85316289,77306386,114,1,1,1,"1-100-45","","Средний разряд работы 4,5",1191,null,1013,"чел.-ч.","чел.-ч.",1,null,null,null,null,null,0,1903532093,2.38,null,0,0,0,872.37,0,0,0,872.37,1,1,1,1,-2,0,0,1,1,0,"",2.38,"",1,2,85316309,2,131072,427,1,0,0,0,0,0,0,0,0,0,0,2076.2406000000001,2.38,0,1,0,0,0,2076.2406000000001,2.38,0,1,null,null,null,null,null,null,null,null,null,null,null,null,null,null,null,null,null,null,null,null,null,null,null,{"$f":"ROUND(AT427*Source!I216*AH427*AL427,2)","v":0},{"$f":"ROUND(Y427*Source!I216,7)","v":0},0,{"$f":"ROUND(Y427*Source!I216,7)","v":0},{"$f":"AD427","v":872.37},{"$f":"AH427","v":872.37},{"$f":"AL427","v":1},2076.2399999999998,0,"","",0,0,0,0,{"$f":"DI427","v":0},1,"",0,"",0]
[{"$f":"ROW(Source!A216)","v":216},85312357,85316289,77306545,114,1,1,1,"4-100-00","","Затраты труда машинистов",1191,null,1013,"чел.-ч.","чел.-ч.",1,null,null,null,null,null,0,-1417349443,0.02,null,0,0,0,0,0,0,0,0,1,1,1,1,-2,0,0,1,1,0,"",0.02,"",2,2,85316310,1,0,428,1,0,0,0,0,0,0,0,0,0,0,0,0,0,0,0,0,0,0,0,0,0,null,null,null,null,null,null,null,null,null,null,null,null,null,null,null,null,null,null,null,null,null,null,null,null,0,0,{"$f":"ROUND(Y428*Source!I216,7)","v":0},{"$f":"AD428","v":0},{"$f":"AH428","v":0},{"$f":"AL428","v":1},0,0,"","",0,0,0,0,{"$f":"DI428","v":0},0,"",0,"",0]
[{"$f":"ROW(Source!A216)","v":216},85312357,85316289,77430988,1,1,1,2,"91.05.05-015","ФСЭМ-2022, 91.05.05-015, приказ Минстроя России от 18.05.2022 г. № 378/пр","Краны на автомобильном ходу, грузоподъемность 16 т",1368,null,1011,"маш.-ч","маш.-ч",1,null,null,null,null,null,0,-468861091,0.01,null,0,1626.29,1090.46,0,0,1626.29,1090.46,0,1,1,1,1,-2,0,0,1,1,0,"",0.01,"",1,2,85316311,1,0,429,1,0,0,0,0,0,0,0,0,16.262899999999998,10.9046,0,0,0.01,1,0,16.262899999999998,10.9046,0,0,0.01,1,null,null,null,null,null,null,null,null,null,null,null,null,null,null,null,null,null,null,null,null,null,null,null,null,0,{"$f":"ROUND(Y429*Source!I216*DO429,7)","v":0},{"$f":"ROUND(Y429*Source!I216,7)","v":0},{"$f":"AB429","v":1626.29},{"$f":"AF429","v":1626.29},{"$f":"AJ429","v":1},16.260000000000002,10.9,"","",0,0,0,0,{"$f":"DG429+DH429","v":0},1,"4-100-060",6,"чел.-ч.",1]
[{"$f":"ROW(Source!A216)","v":216},85312357,85316289,77431879,1,1,1,2,"91.14.02-001","ФСЭМ-2022 доп.7, 91.14.02-001, приказ Минстроя России от 02.08.2023 г. № 551/пр","Автомобили бортовые, грузоподъемность до 5 т",1368,null,1011,"маш.-ч","маш.-ч",1,null,null,null,null,null,0,-1152394969,0.01,null,0,641.70000000000005,811.79,0,0,641.70000000000005,811.79,0,1,1,1,1,-2,0,0,1,1,0,"",0.01,"",1,2,85316312,1,0,430,1,0,0,0,0,0,0,0,0,6.4170000000000007,8.1179000000000006,0,0,0.01,1,0,6.4170000000000007,8.1179000000000006,0,0,0.01,1,null,null,null,null,null,null,null,null,null,null,null,null,null,null,null,null,null,null,null,null,null,null,null,null,0,{"$f":"ROUND(Y430*Source!I216*DO430,7)","v":0},{"$f":"ROUND(Y430*Source!I216,7)","v":0},{"$f":"AB430","v":641.70000000000005},{"$f":"AF430","v":641.70000000000005},{"$f":"AJ430","v":1},6.42,8.1199999999999992,"","",0,0,0,0,{"$f":"DG430+DH430","v":0},1,"4-100-040",4,"чел.-ч.",1]
[{"$f":"ROW(Source!A216)","v":216},85312357,85316289,77432074,1,1,1,2,"91.17.04-233","ФСЭМ-2022, 91.17.04-233, приказ Минстроя России от 18.05.2022 г. № 378/пр","Аппараты сварочные для ручной дуговой сварки, сварочный ток до 350 А",1368,null,1011,"маш.-ч","маш.-ч",1,null,null,null,null,null,0,-334821386,0.108,null,0,34.61,0,0,0,34.61,0,0,1,1,1,1,-2,0,0,1,1,0,"",0.108,"",1,2,85316313,1,0,431,1,0,0,0,0,0,0,0,0,3.7378800000000001,0,0,0,0,1,0,3.7378800000000001,0,0,0,0,1,null,null,null,null,null,null,null,null,null,null,null,null,null,null,null,null,null,null,null,null,null,null,null,null,0,{"$f":"ROUND(Y431*Source!I216*DO431,7)","v":0},{"$f":"ROUND(Y431*Source!I216,7)","v":0},{"$f":"AB431","v":34.61},{"$f":"AF431","v":34.61},{"$f":"AJ431","v":1},3.74,0,"","",0,0,0,0,{"$f":"DG431+DH431","v":0},1,"",0,"",0]
[{"$f":"ROW(Source!A216)","v":216},85312357,85316289,77432509,1,1,1,2,"91.21.16-012","ФСЭМ-2022, 91.21.16-012, приказ Минстроя России от 18.05.2022 г. № 378/пр","Прессы гидравлические с электроприводом",1368,null,1011,"маш.-ч","маш.-ч",1,null,null,null,null,null,0,-685414241,0.19800000000000001,null,0,15.84,0,0,0,15.84,0,0,1,1,1,1,-2,0,0,1,1,0,"",0.19800000000000001,"",1,2,85316314,1,0,432,1,0,0,0,0,0,0,0,0,3.13632,0,0,0,0,1,0,3.13632,0,0,0,0,1,null,null,null,null,null,null,null,null,null,null,null,null,null,null,null,null,null,null,null,null,null,null,null,null,0,{"$f":"ROUND(Y432*Source!I216*DO432,7)","v":0},{"$f":"ROUND(Y432*Source!I216,7)","v":0},{"$f":"AB432","v":15.84},{"$f":"AF432","v":15.84},{"$f":"AJ432","v":1},3.14,0,"","",0,0,0,0,{"$f":"DG432+DH432","v":0},1,"",0,"",0]
[{"$f":"ROW(Source!A216)","v":216},85312357,85316289,77375881,1,1,1,3,"01.3.01.02-0002","ФСБЦ-2022 доп.8, 01.3.01.02-0002, приказ Минстроя России от 14.11.2023 г. № 817/пр","Вазелин технический",1346,null,1009,"кг","кг",1,null,null,null,null,null,0,-1157339123,0,null,240.06,0,0,0,150.04,0,0,0,1.6,1,1,1,2,0,0,1,1,0,"",0,"",0,2,85316315,1,6144,433,1,0,0,0,0,0,0,0,0,0,0,0,0,0,0,0,0,0,0,0,0,0,null,null,null,null,null,null,null,null,null,null,null,null,null,null,null,null,null,null,null,null,null,null,null,null,0,0,{"$f":"ROUND(Y433*Source!I216,7)","v":0},{"$f":"AA433","v":240.06},{"$f":"AE433","v":150.04},{"$f":"AI433","v":1.6},0,0,"","",{"$f":"ROUND(ROUND(AE433*AI433,2)*CX433,2)","v":0},0,0,0,{"$f":"DF433","v":0},0,"",0,"",0]
[{"$f":"ROW(Source!A216)","v":216},85312357,85316289,77378054,1,1,1,3,"01.7.02.09-0002","ФСБЦ-2022, 01.7.02.09-0002, приказ Минстроя России от 18.05.2022 г. № 378/пр","Шпагат бумажный, диаметр 2,5 мм",1346,null,1009,"кг","кг",1,null,null,null,null,null,0,-1566248661,0,null,164.89,0,0,0,187.38,0,0,0,0.88,1,1,1,2,0,0,1,1,0,"",0,"",0,2,85316316,1,6144,434,1,0,0,0,0,0,0,0,0,0,0,0,0,0,0,0,0,0,0,0,0,0,null,null,null,null,null,null,null,null,null,null,null,null,null,null,null,null,null,null,null,null,null,null,null,null,0,0,{"$f":"ROUND(Y434*Source!I216,7)","v":0},164.89,187.38,0.88,0,0,"","",{"$f":"ROUND(ROUND(AE434*AI434,2)*CX434,2)","v":0},0,0,0,0,0,"",0,"",0]
[{"$f":"ROW(Source!A216)","v":216},85312357,85316289,77378078,1,1,1,3,"01.7.03.04-0001","ФСБЦ-2022, 01.7.03.04-0001, приказ Минстроя России от 18.05.2022 г. № 378/пр","Электроэнергия",1383,null,1013,"КВТ-Ч","КВТ-Ч",1,null,null,null,null,null,0,-2119218604,2.0799999999999999E-2,null,7.32,0,0,0,7.32,0,0,0,1,1,1,1,-2,0,0,1,1,0,"",2.0799999999999999E-2,"",0,2,85316317,1,0,435,1,0,0,0,0,0,0,0,0.152256,0,0,0,0,0,1,0.152256,0,0,0,0,0,1,null,null,null,null,null,null,null,null,null,null,null,null,null,null,null,null,null,null,null,null,null,null,null,null,0,0,{"$f":"ROUND(Y435*Source!I216,7)","v":0},7.32,7.32,1,0.15,0,"","",{"$f":"ROUND(ROUND(AE435,2)*CX435,2)","v":0},0,0,0,0,1,"",0,"",0]
[{"$f":"ROW(Source!A216)","v":216},85312357,85316289,77378231,1,1,1,3,"01.7.06.05-0041","ФСБЦ-2022, 01.7.06.05-0041, приказ Минстроя России от 18.05.2022 г. № 378/пр","Ленты изоляционные хлопчатобумажные прорезиненные для электромонтажных и ремонтных работ, цвет черный, ширина 20 мм, толщина 0,35 мм",1301,null,1003,"м","м",1,null,null,null,null,null,0,1254062187,3.5,null,5.17,0,0,0,5.87,0,0,0,0.88,1,1,1,2,0,0,1,1,0,"",3.5,"",0,2,85316318,1,0,436,1,0,0,0,0,0,0,0,20.545000000000002,0,0,0,0,0,1,20.545000000000002,0,0,0,0,0,1,null,null,null,null,null,null,null,null,null,null,null,null,null,null,null,null,null,null,null,null,null,null,null,null,0,0,{"$f":"ROUND(Y436*Source!I216,7)","v":0},5.17,5.87,0.88,20.55,0,"","",{"$f":"ROUND(ROUND(AE436*AI436,2)*CX436,2)","v":0},0,0,0,0,0,"",0,"",0]
[{"$f":"ROW(Source!A216)","v":216},85312357,85316289,77378830,1,1,1,3,"01.7.11.07-0227","ФСБЦ-2022, 01.7.11.07-0227, приказ Минстроя России от 18.05.2022 г. № 378/пр","Электроды сварочные для сварки низколегированных и углеродистых сталей УОНИ 13/45, Э42А, диаметр 4-5 мм",1346,null,1009,"кг","кг",1,null,null,null,null,null,0,212334824,7.0000000000000007E-2,null,121.39,0,0,0,155.63,0,0,0,0.78,1,1,1,2,0,0,1,1,0,"",7.0000000000000007E-2,"",0,2,85316319,1,0,437,1,0,0,0,0,0,0,0,10.8941,0,0,0,0,0,1,10.8941,0,0,0,0,0,1,null,null,null,null,null,null,null,null,null,null,null,null,null,null,null,null,null,null,null,null,null,null,null,null,0,0,{"$f":"ROUND(Y437*Source!I216,7)","v":0},121.39,155.63,0.78,10.89,0,"","",0,0,0,0,0,0,"",0,"",0]
[{"$f":"ROW(Source!A216)","v":216},85312357,85316289,77379558,1,1,1,3,"01.7.15.03-0042","ФСБЦ-2022, 01.7.15.03-0042, приказ Минстроя России от 18.05.2022 г. № 378/пр","Болты с гайками и шайбами строительные",1346,null,1009,"кг","кг",1,null,null,null,null,null,0,1181962216,0,null,188.92,0,0,0,174.93,0,0,0,1.08,1,1,1,2,0,0,1,1,0,"",0,"",0,2,85316320,1,6144,438,1,0,0,0,0,0,0,0,0,0,0,0,0,0,0,0,0,0,0,0,0,0,null,null,null,null,null,null,null,null,null,null,null,null,null,null,null,null,null,null,null,null,null,null,null,null,0,0,{"$f":"ROUND(Y438*Source!I216,7)","v":0},188.92,174.93,1.08,0,0,"","",0,0,0,0,0,0,"",0,"",0]
[{"$f":"ROW(Source!A216)","v":216},85312357,85316289,77379624,1,1,1,3,"01.7.15.07-0014","ФСБЦ-2022, 01.7.15.07-0014, приказ Минстроя России от 18.05.2022 г. № 378/пр","Дюбели распорные полипропиленовые",1425,null,1013,"100 ШТ","100 ШТ",1,null,null,null,null,null,0,-145062553,1.4E-2,null,53.81,0,0,0,41.71,0,0,0,1.29,1,1,1,2,0,0,1,1,0,"",1.4E-2,"",0,2,85316321,1,0,439,1,0,0,0,0,0,0,0,0.58394000000000001,0,0,0,0,0,1,0.58394000000000001,0,0,0,0,0,1,null,null,null,null,null,null,null,null,null,null,null,null,null,null,null,null,null,null,null,null,null,null,null,null,0,0,{"$f":"ROUND(Y439*Source!I216,7)","v":0},53.81,41.71,1.29,0.57999999999999996,0,"","",0,0,0,0,0,0,"",0,"",0]
[{"$f":"ROW(Source!A216)","v":216},85312357,85316289,77380667,1,1,1,3,"01.7.20.04-0005","ФСБЦ-2022, 01.7.20.04-0005, приказ Минстроя России от 18.05.2022 г. № 378/пр","Нитки швейные армированные",1346,null,1009,"кг","кг",1,null,null,null,null,null,0,307966500,0,null,609.29999999999995,0,0,0,395.65,0,0,0,1.54,1,1,1,2,0,0,1,1,0,"",0,"",0,2,85316322,1,6144,440,1,0,0,0,0,0,0,0,0,0,0,0,0,0,0,0,0,0,0,0,0,0,null,null,null,null,null,null,null,null,null,null,null,null,null,null,null,null,null,null,null,null,null,null,null,null,0,0,{"$f":"ROUND(Y440*Source!I216,7)","v":0},609.29999999999995,395.65,1.54,0,0,"","",0,0,0,0,0,0,"",0,"",0]
[{"$f":"ROW(Source!A216)","v":216},85312357,85316289,77385128,1,1,1,3,"07.2.07.04-0007","ФСБЦ-2022, 07.2.07.04-0007, приказ Минстроя России от 18.05.2022 г. № 378/пр","Конструкции стальные индивидуального изготовления из сортового проката",1348,null,1009,"т","т",1000,null,null,null,null,null,0,2105722316,0,null,135809.66,0,0,0,105278.81,0,0,0,1.29,1,1,1,2,0,0,1,1,0,"",0,"",0,2,85316323,1,6144,441,1,0,0,0,0,0,0,0,0,0,0,0,0,0,0,0,0,0,0,0,0,0,null,null,null,null,null,null,null,null,null,null,null,null,null,null,null,null,null,null,null,null,null,null,null,null,0,0,{"$f":"ROUND(Y441*Source!I216,7)","v":0},135809.66,105278.81,1.29,0,0,"","",0,0,0,0,0,0,"",0,"",0]
[{"$f":"ROW(Source!A216)","v":216},85312357,85316289,77397226,1,1,1,3,"14.4.02.04-0142","ФСБЦ-2022, 14.4.02.04-0142, приказ Минстроя России от 18.05.2022 г. № 378/пр","Краска масляная МА-0115, мумия, сурик железный",1346,null,1009,"кг","кг",1,null,null,null,null,null,0,790403873,0,null,115.03,0,0,0,79.88,0,0,0,1.44,1,1,1,2,0,0,1,1,0,"",0,"",0,2,85316324,1,6144,442,1,0,0,0,0,0,0,0,0,0,0,0,0,0,0,0,0,0,0,0,0,0,null,null,null,null,null,null,null,null,null,null,null,null,null,null,null,null,null,null,null,null,null,null,null,null,0,0,{"$f":"ROUND(Y442*Source!I216,7)","v":0},115.03,79.88,1.44,0,0,"","",0,0,0,0,0,0,"",0,"",0]
[{"$f":"ROW(Source!A216)","v":216},85312357,85316289,77397272,1,1,1,3,"14.4.03.06-0001","ФСБЦ-2022 доп.9, 14.4.03.06-0001, приказ Минстроя России от 16.02.2024 г. № 102/пр","Лак электроизоляционный МЛ-92",1346,null,1009,"кг","кг",1,null,null,null,null,null,0,-1422522641,0,null,188.93,0,0,0,157.44,0,0,0,1.2,1,1,1,2,0,0,1,1,0,"",0,"",0,2,85316325,1,6144,443,1,0,0,0,0,0,0,0,0,0,0,0,0,0,0,0,0,0,0,0,0,0,null,null,null,null,null,null,null,null,null,null,null,null,null,null,null,null,null,null,null,null,null,null,null,null,0,0,{"$f":"ROUND(Y443*Source!I216,7)","v":0},188.93,157.44,1.2,0,0,"","",0,0,0,0,0,0,"",0,"",0]
[{"$f":"ROW(Source!A216)","v":216},85312357,85316289,77404544,1,1,1,3,"20.1.02.23-0082","ФСБЦ-2022, 20.1.02.23-0082, приказ Минстроя России от 18.05.2022 г. № 378/пр","Перемычки гибкие, тип ПГС-50",1455,null,1013,"10 ШТ","10 ШТ",1,null,null,null,null,null,0,1640750103,0.1,null,1303.67,0,0,0,944.69,0,0,0,1.38,1,1,1,2,0,0,1,1,0,"",0.1,"",0,2,85316326,1,0,444,1,0,0,0,0,0,0,0,94.469000000000008,0,0,0,0,0,1,94.469000000000008,0,0,0,0,0,1,null,null,null,null,null,null,null,null,null,null,null,null,null,null,null,null,null,null,null,null,null,null,null,null,0,0,{"$f":"ROUND(Y444*Source!I216,7)","v":0},1303.67,944.69,1.38,94.47,0,"","",0,0,0,0,0,0,"",0,"",0]
[{"$f":"ROW(Source!A216)","v":216},85312357,85316289,77312233,114,1,1,3,"421/пр_2020_п.75_пп.а","","Сметная стоимость вспомогательных ненормируемых материальных ресурсов, не учтенная в сметной норме, 2%",3277935,null,1013,"%","%",1,null,null,null,null,null,0,274903907,2,null,0,0,0,0,0,0,0,0,1,1,1,1,-2,0,0,0,0,0,"",2,"",0,2,85316327,1,0,445,0,0,0,0,0,0,0,0,0,0,0,0,0,0,0,0,0,0,0,0,0,0,null,null,null,null,null,null,null,null,null,null,null,null,null,null,null,null,null,null,null,null,null,null,null,null,0,0,{"$f":"ROUND(Y445*Source!I216,7)","v":0},0,0,1,0,0,"","",{"$f":"ROUND(ROUND(AE445,2)*CX445,2)","v":0},0,0,0,0,0,"",0,"",0]
[{"$f":"ROW(Source!A217)","v":217},85312298,85316289,77306386,114,1,1,1,"1-100-45","","Средний разряд работы 4,5",1191,null,1013,"чел.-ч.","чел.-ч.",1,null,null,null,null,null,0,1903532093,2.38,null,0,0,0,872.37,0,0,0,872.37,1,1,1,1,-2,0,0,1,1,0,"",2.38,"",1,2,85316309,2,131072,446,1,0,0,0,0,0,0,0,0,0,0,2076.2406000000001,2.38,0,1,0,0,0,2076.2406000000001,2.38,0,1,null,null,null,null,null,null,null,null,null,null,null,null,null,null,null,null,null,null,null,null,null,null,null,{"$f":"ROUND(AT446*Source!I217*AH446*AL446,2)","v":0},{"$f":"ROUND(Y446*Source!I217,7)","v":0},0,{"$f":"ROUND(Y446*Source!I217,7)","v":0},{"$f":"AD446","v":872.37},{"$f":"AH446","v":872.37},{"$f":"AL446","v":1},2076.2399999999998,0,"","",0,0,0,0,{"$f":"DI446","v":0},1,"",0,"",0]
[{"$f":"ROW(Source!A217)","v":217},85312298,85316289,77306545,114,1,1,1,"4-100-00","","Затраты труда машинистов",1191,null,1013,"чел.-ч.","чел.-ч.",1,null,null,null,null,null,0,-1417349443,0.02,null,0,0,0,0,0,0,0,0,1,1,1,1,-2,0,0,1,1,0,"",0.02,"",2,2,85316310,1,0,447,1,0,0,0,0,0,0,0,0,0,0,0,0,0,0,0,0,0,0,0,0,0,null,null,null,null,null,null,null,null,null,null,null,null,null,null,null,null,null,null,null,null,null,null,null,null,0,0,{"$f":"ROUND(Y447*Source!I217,7)","v":0},{"$f":"AD447","v":0},{"$f":"AH447","v":0},{"$f":"AL447","v":1},0,0,"","",0,0,0,0,{"$f":"DI447","v":0},0,"",0,"",0]
[{"$f":"ROW(Source!A217)","v":217},85312298,85316289,77430988,1,1,1,2,"91.05.05-015","ФСЭМ-2022, 91.05.05-015, приказ Минстроя России от 18.05.2022 г. № 378/пр","Краны на автомобильном ходу, грузоподъемность 16 т",1368,null,1011,"маш.-ч","маш.-ч",1,null,null,null,null,null,0,-468861091,0.01,null,0,1626.29,1090.46,0,0,1626.29,1090.46,0,1,1,1,1,-2,0,0,1,1,0,"",0.01,"",1,2,85316311,1,0,448,1,0,0,0,0,0,0,0,0,16.262899999999998,10.9046,0,0,0.01,1,0,16.262899999999998,10.9046,0,0,0.01,1,null,null,null,null,null,null,null,null,null,null,null,null,null,null,null,null,null,null,null,null,null,null,null,null,0,{"$f":"ROUND(Y448*Source!I217*DO448,7)","v":0},{"$f":"ROUND(Y448*Source!I217,7)","v":0},{"$f":"AB448","v":1626.29},{"$f":"AF448","v":1626.29},{"$f":"AJ448","v":1},16.260000000000002,10.9,"","",0,0,0,0,{"$f":"DG448+DH448","v":0},1,"4-100-060",6,"чел.-ч.",1]
[{"$f":"ROW(Source!A217)","v":217},85312298,85316289,77431879,1,1,1,2,"91.14.02-001","ФСЭМ-2022 доп.7, 91.14.02-001, приказ Минстроя России от 02.08.2023 г. № 551/пр","Автомобили бортовые, грузоподъемность до 5 т",1368,null,1011,"маш.-ч","маш.-ч",1,null,null,null,null,null,0,-1152394969,0.01,null,0,641.70000000000005,811.79,0,0,641.70000000000005,811.79,0,1,1,1,1,-2,0,0,1,1,0,"",0.01,"",1,2,85316312,1,0,449,1,0,0,0,0,0,0,0,0,6.4170000000000007,8.1179000000000006,0,0,0.01,1,0,6.4170000000000007,8.1179000000000006,0,0,0.01,1,null,null,null,null,null,null,null,null,null,null,null,null,null,null,null,null,null,null,null,null,null,null,null,null,0,{"$f":"ROUND(Y449*Source!I217*DO449,7)","v":0},{"$f":"ROUND(Y449*Source!I217,7)","v":0},{"$f":"AB449","v":641.70000000000005},{"$f":"AF449","v":641.70000000000005},{"$f":"AJ449","v":1},6.42,8.1199999999999992,"","",0,0,{"$f":"ROUND(ROUND(AG449,2)*CX449,2)","v":0},{"$f":"ROUND(ROUND(AH449,2)*CX449,2)","v":0},{"$f":"DG449+DH449","v":0},1,"4-100-040",4,"чел.-ч.",1]
[{"$f":"ROW(Source!A217)","v":217},85312298,85316289,77432074,1,1,1,2,"91.17.04-233","ФСЭМ-2022, 91.17.04-233, приказ Минстроя России от 18.05.2022 г. № 378/пр","Аппараты сварочные для ручной дуговой сварки, сварочный ток до 350 А",1368,null,1011,"маш.-ч","маш.-ч",1,null,null,null,null,null,0,-334821386,{"$f":"AT450","v":0.108},null,0,34.61,0,0,0,34.61,0,0,1,1,1,1,-2,0,0,1,1,0,"",0.108,"",1,2,85316313,1,0,450,1,0,0,0,0,0,0,0,0,3.7378800000000001,0,0,0,0,1,0,3.7378800000000001,0,0,0,0,1,null,null,null,null,null,null,null,null,null,null,null,null,null,null,null,null,null,null,null,null,null,null,null,null,0,{"$f":"ROUND(Y450*Source!I217*DO450,7)","v":0},{"$f":"ROUND(Y450*Source!I217,7)","v":0},{"$f":"AB450","v":34.61},{"$f":"AF450","v":34.61},{"$f":"AJ450","v":1},{"$f":"ROUND(ROUND(AT450*CZ450,2),2)","v":3.74},{"$f":"ROUND(ROUND(AT450*AG450,2),2)","v":0},"","",0,0,0,0,{"$f":"DG450+DH450","v":0},1,"",0,"",0]
[{"$f":"ROW(Source!A217)","v":217},85312298,85316289,77432509,1,1,1,2,"91.21.16-012","ФСЭМ-2022, 91.21.16-012, приказ Минстроя России от 18.05.2022 г. № 378/пр","Прессы гидравлические с электроприводом",1368,null,1011,"маш.-ч","маш.-ч",1,null,null,null,null,null,0,-685414241,0.19800000000000001,null,0,15.84,0,0,0,15.84,0,0,1,1,1,1,-2,0,0,1,1,0,"",0.19800000000000001,"",1,2,85316314,1,0,451,1,0,0,0,0,0,0,0,0,3.13632,0,0,0,0,1,0,3.13632,0,0,0,0,1,null,null,null,null,null,null,null,null,null,null,null,null,null,null,null,null,null,null,null,null,null,null,null,null,0,{"$f":"ROUND(Y451*Source!I217*DO451,7)","v":0},{"$f":"ROUND(Y451*Source!I217,7)","v":0},{"$f":"AB451","v":15.84},{"$f":"AF451","v":15.84},{"$f":"AJ451","v":1},3.14,0,"","",0,0,0,0,{"$f":"DG451+DH451","v":0},1,"",0,"",0]
[{"$f":"ROW(Source!A217)","v":217},85312298,85316289,77375881,1,1,1,3,"01.3.01.02-0002","ФСБЦ-2022 доп.8, 01.3.01.02-0002, приказ Минстроя России от 14.11.2023 г. № 817/пр","Вазелин технический",1346,null,1009,"кг","кг",1,null,null,null,null,null,0,-1157339123,0,null,240.06,0,0,0,150.04,0,0,0,1.6,1,1,1,2,0,0,1,1,0,"",0,"",0,2,85316315,1,6144,452,1,0,0,0,0,0,0,0,0,0,0,0,0,0,0,0,0,0,0,0,0,0,null,null,null,null,null,null,null,null,null,null,null,null,null,null,null,null,null,null,null,null,null,null,null,null,0,0,{"$f":"ROUND(Y452*Source!I217,7)","v":0},{"$f":"AA452","v":240.06},{"$f":"AE452","v":150.04},{"$f":"AI452","v":1.6},0,0,"","",{"$f":"ROUND(ROUND(AE452*AI452,2)*CX452,2)","v":0},{"$f":"ROUND(ROUND(AF452,2)*CX452,2)","v":0},0,0,{"$f":"DF452","v":0},0,"",0,"",0]
[{"$f":"ROW(Source!A217)","v":217},85312298,85316289,77378054,1,1,1,3,"01.7.02.09-0002","ФСБЦ-2022, 01.7.02.09-0002, приказ Минстроя России от 18.05.2022 г. № 378/пр","Шпагат бумажный, диаметр 2,5 мм",1346,null,1009,"кг","кг",1,null,null,null,null,null,0,-1566248661,0,null,164.89,0,0,0,187.38,0,0,0,0.88,1,1,1,2,0,0,1,1,0,"",0,"",0,2,85316316,1,6144,453,1,0,0,0,0,0,0,0,0,0,0,0,0,0,0,0,0,0,0,0,0,0,null,null,null,null,null,null,null,null,null,null,null,null,null,null,null,null,null,null,null,null,null,null,null,null,0,0,{"$f":"ROUND(Y453*Source!I217,7)","v":0},164.89,187.38,0.88,0,0,"","",{"$f":"ROUND(ROUND(AE453*AI453,2)*CX453,2)","v":0},0,0,0,0,0,"",0,"",0]
[{"$f":"ROW(Source!A217)","v":217},85312298,85316289,77378078,1,1,1,3,"01.7.03.04-0001","ФСБЦ-2022, 01.7.03.04-0001, приказ Минстроя России от 18.05.2022 г. № 378/пр","Электроэнергия",1383,null,1013,"КВТ-Ч","КВТ-Ч",1,null,null,null,null,null,0,-2119218604,2.0799999999999999E-2,null,7.32,0,0,0,7.32,0,0,0,1,1,1,1,-2,0,0,1,1,0,"",2.0799999999999999E-2,"",0,2,85316317,1,0,454,1,0,0,0,0,0,0,0,0.152256,0,0,0,0,0,1,0.152256,0,0,0,0,0,1,null,null,null,null,null,null,null,null,null,null,null,null,null,null,null,null,null,null,null,null,null,null,null,null,0,0,{"$f":"ROUND(Y454*Source!I217,7)","v":0},7.32,7.32,1,0.15,0,"","",{"$f":"ROUND(ROUND(AE454,2)*CX454,2)","v":0},0,0,0,0,1,"",0,"",0]
[{"$f":"ROW(Source!A217)","v":217},85312298,85316289,77378231,1,1,1,3,"01.7.06.05-0041","ФСБЦ-2022, 01.7.06.05-0041, приказ Минстроя России от 18.05.2022 г. № 378/пр","Ленты изоляционные хлопчатобумажные прорезиненные для электромонтажных и ремонтных работ, цвет черный, ширина 20 мм, толщина 0,35 мм",1301,null,1003,"м","м",1,null,null,null,null,null,0,1254062187,3.5,null,5.17,0,0,0,5.87,0,0,0,0.88,1,1,1,2,0,0,1,1,0,"",3.5,"",0,2,85316318,1,0,455,1,0,0,0,0,0,0,0,20.545000000000002,0,0,0,0,0,1,20.545000000000002,0,0,0,0,0,1,null,null,null,null,null,null,null,null,null,null,null,null,null,null,null,null,null,null,null,null,null,null,null,null,0,0,{"$f":"ROUND(Y455*Source!I217,7)","v":0},5.17,5.87,0.88,20.55,0,"","",{"$f":"ROUND(ROUND(AE455*AI455,2)*CX455,2)","v":0},0,0,0,0,0,"",0,"",0]
[{"$f":"ROW(Source!A217)","v":217},85312298,85316289,77378830,1,1,1,3,"01.7.11.07-0227","ФСБЦ-2022, 01.7.11.07-0227, приказ Минстроя России от 18.05.2022 г. № 378/пр","Электроды сварочные для сварки низколегированных и углеродистых сталей УОНИ 13/45, Э42А, диаметр 4-5 мм",1346,null,1009,"кг","кг",1,null,null,null,null,null,0,212334824,7.0000000000000007E-2,null,121.39,0,0,0,155.63,0,0,0,0.78,1,1,1,2,0,0,1,1,0,"",7.0000000000000007E-2,"",0,2,85316319,1,0,456,1,0,0,0,0,0,0,0,10.8941,0,0,0,0,0,1,10.8941,0,0,0,0,0,1,null,null,null,null,null,null,null,null,null,null,null,null,null,null,null,null,null,null,null,null,null,null,null,null,0,0,{"$f":"ROUND(Y456*Source!I217,7)","v":0},121.39,155.63,0.78,10.89,0,"","",0,0,0,0,0,0,"",0,"",0]
[{"$f":"ROW(Source!A217)","v":217},85312298,85316289,77379558,1,1,1,3,"01.7.15.03-0042","ФСБЦ-2022, 01.7.15.03-0042, приказ Минстроя России от 18.05.2022 г. № 378/пр","Болты с гайками и шайбами строительные",1346,null,1009,"кг","кг",1,null,null,null,null,null,0,1181962216,0,null,188.92,0,0,0,174.93,0,0,0,1.08,1,1,1,2,0,0,1,1,0,"",0,"",0,2,85316320,1,6144,457,1,0,0,0,0,0,0,0,0,0,0,0,0,0,0,0,0,0,0,0,0,0,null,null,null,null,null,null,null,null,null,null,null,null,null,null,null,null,null,null,null,null,null,null,null,null,0,0,{"$f":"ROUND(Y457*Source!I217,7)","v":0},188.92,174.93,1.08,0,0,"","",0,0,0,0,0,0,"",0,"",0]
[{"$f":"ROW(Source!A217)","v":217},85312298,85316289,77379624,1,1,1,3,"01.7.15.07-0014","ФСБЦ-2022, 01.7.15.07-0014, приказ Минстроя России от 18.05.2022 г. № 378/пр","Дюбели распорные полипропиленовые",1425,null,1013,"100 ШТ","100 ШТ",1,null,null,null,null,null,0,-145062553,1.4E-2,null,53.81,0,0,0,41.71,0,0,0,1.29,1,1,1,2,0,0,1,1,0,"",1.4E-2,"",0,2,85316321,1,0,458,1,0,0,0,0,0,0,0,0.58394000000000001,0,0,0,0,0,1,0.58394000000000001,0,0,0,0,0,1,null,null,null,null,null,null,null,null,null,null,null,null,null,null,null,null,null,null,null,null,null,null,null,null,0,0,{"$f":"ROUND(Y458*Source!I217,7)","v":0},53.81,41.71,1.29,0.57999999999999996,0,"","",0,0,0,0,0,0,"",0,"",0]
[{"$f":"ROW(Source!A217)","v":217},85312298,85316289,77380667,1,1,1,3,"01.7.20.04-0005","ФСБЦ-2022, 01.7.20.04-0005, приказ Минстроя России от 18.05.2022 г. № 378/пр","Нитки швейные армированные",1346,null,1009,"кг","кг",1,null,null,null,null,null,0,307966500,0,null,609.29999999999995,0,0,0,395.65,0,0,0,1.54,1,1,1,2,0,0,1,1,0,"",0,"",0,2,85316322,1,6144,459,1,0,0,0,0,0,0,0,0,0,0,0,0,0,0,0,0,0,0,0,0,0,null,null,null,null,null,null,null,null,null,null,null,null,null,null,null,null,null,null,null,null,null,null,null,null,0,0,{"$f":"ROUND(Y459*Source!I217,7)","v":0},609.29999999999995,395.65,1.54,0,0,"","",0,0,0,0,0,0,"",0,"",0]
[{"$f":"ROW(Source!A217)","v":217},85312298,85316289,77385128,1,1,1,3,"07.2.07.04-0007","ФСБЦ-2022, 07.2.07.04-0007, приказ Минстроя России от 18.05.2022 г. № 378/пр","Конструкции стальные индивидуального изготовления из сортового проката",1348,null,1009,"т","т",1000,null,null,null,null,null,0,2105722316,0,null,135809.66,0,0,0,105278.81,0,0,0,1.29,1,1,1,2,0,0,1,1,0,"",0,"",0,2,85316323,1,6144,460,1,0,0,0,0,0,0,0,0,0,0,0,0,0,0,0,0,0,0,0,0,0,null,null,null,null,null,null,null,null,null,null,null,null,null,null,null,null,null,null,null,null,null,null,null,null,0,0,{"$f":"ROUND(Y460*Source!I217,7)","v":0},135809.66,105278.81,1.29,0,0,"","",0,0,0,0,0,0,"",0,"",0]
[{"$f":"ROW(Source!A217)","v":217},85312298,85316289,77397226,1,1,1,3,"14.4.02.04-0142","ФСБЦ-2022, 14.4.02.04-0142, приказ Минстроя России от 18.05.2022 г. № 378/пр","Краска масляная МА-0115, мумия, сурик железный",1346,null,1009,"кг","кг",1,null,null,null,null,null,0,790403873,0,null,115.03,0,0,0,79.88,0,0,0,1.44,1,1,1,2,0,0,1,1,0,"",0,"",0,2,85316324,1,6144,461,1,0,0,0,0,0,0,0,0,0,0,0,0,0,0,0,0,0,0,0,0,0,null,null,null,null,null,null,null,null,null,null,null,null,null,null,null,null,null,null,null,null,null,null,null,null,0,0,{"$f":"ROUND(Y461*Source!I217,7)","v":0},115.03,79.88,1.44,0,0,"","",0,0,0,0,0,0,"",0,"",0]
[{"$f":"ROW(Source!A217)","v":217},85312298,85316289,77397272,1,1,1,3,"14.4.03.06-0001","ФСБЦ-2022 доп.9, 14.4.03.06-0001, приказ Минстроя России от 16.02.2024 г. № 102/пр","Лак электроизоляционный МЛ-92",1346,null,1009,"кг","кг",1,null,null,null,null,null,0,-1422522641,0,null,188.93,0,0,0,157.44,0,0,0,1.2,1,1,1,2,0,0,1,1,0,"",0,"",0,2,85316325,1,6144,462,1,0,0,0,0,0,0,0,0,0,0,0,0,0,0,0,0,0,0,0,0,0,null,null,null,null,null,null,null,null,null,null,null,null,null,null,null,null,null,null,null,null,null,null,null,null,0,0,{"$f":"ROUND(Y462*Source!I217,7)","v":0},188.93,157.44,1.2,0,0,"","",0,0,0,0,0,0,"",0,"",0]
[{"$f":"ROW(Source!A217)","v":217},85312298,85316289,77404544,1,1,1,3,"20.1.02.23-0082","ФСБЦ-2022, 20.1.02.23-0082, приказ Минстроя России от 18.05.2022 г. № 378/пр","Перемычки гибкие, тип ПГС-50",1455,null,1013,"10 ШТ","10 ШТ",1,null,null,null,null,null,0,1640750103,0.1,null,1303.67,0,0,0,944.69,0,0,0,1.38,1,1,1,2,0,0,1,1,0,"",0.1,"",0,2,85316326,1,0,463,1,0,0,0,0,0,0,0,94.469000000000008,0,0,0,0,0,1,94.469000000000008,0,0,0,0,0,1,null,null,null,null,null,null,null,null,null,null,null,null,null,null,null,null,null,null,null,null,null,null,null,null,0,0,{"$f":"ROUND(Y463*Source!I217,7)","v":0},1303.67,944.69,1.38,94.47,0,"","",0,0,0,0,0,0,"",0,"",0]
[{"$f":"ROW(Source!A217)","v":217},85312298,85316289,77312233,114,1,1,3,"421/пр_2020_п.75_пп.а","","Сметная стоимость вспомогательных ненормируемых материальных ресурсов, не учтенная в сметной норме, 2%",3277935,null,1013,"%","%",1,null,null,null,null,null,0,274903907,2,null,0,0,0,0,0,0,0,0,1,1,1,1,-2,0,0,0,0,0,"",2,"",0,2,85316327,1,0,464,0,0,0,0,0,0,0,0,0,0,0,0,0,0,0,0,0,0,0,0,0,0,null,null,null,null,null,null,null,null,null,null,null,null,null,null,null,null,null,null,null,null,null,null,null,null,0,0,{"$f":"ROUND(Y464*Source!I217,7)","v":0},0,0,1,0,0,"","",{"$f":"ROUND(ROUND(AE464,2)*CX464,2)","v":0},0,0,0,0,0,"",0,"",0]
[{"$f":"ROW(Source!A221)","v":221},85312357,85316330,77306374,114,1,1,1,"1-100-40","","Средний разряд работы 4,0",1191,null,1013,"чел.-ч.","чел.-ч.",1,null,null,null,null,null,0,888410196,45.3,null,0,0,0,811.79,0,0,0,811.79,1,1,1,1,-2,0,0,1,1,0,"",45.3,"",1,2,85316345,2,131072,465,1,0,0,0,0,0,0,0,0,0,0,36774.087,45.3,0,1,0,0,0,36774.087,45.3,0,1,null,null,null,null,null,null,null,null,null,null,null,null,null,null,null,null,null,null,null,null,null,null,null,{"$f":"ROUND(AT465*Source!I221*AH465*AL465,2)","v":0},{"$f":"ROUND(Y465*Source!I221,7)","v":0},0,{"$f":"ROUND(Y465*Source!I221,7)","v":0},{"$f":"AD465","v":811.79},{"$f":"AH465","v":811.79},{"$f":"AL465","v":1},36774.089999999997,0,"","",0,0,0,0,{"$f":"DI465","v":0},1,"",0,"",0]
[{"$f":"ROW(Source!A221)","v":221},85312357,85316330,77306545,114,1,1,1,"4-100-00","","Затраты труда машинистов",1191,null,1013,"чел.-ч.","чел.-ч.",1,null,null,null,null,null,0,-1417349443,5.3,null,0,0,0,0,0,0,0,0,1,1,1,1,-2,0,0,1,1,0,"",5.3,"",2,2,85316346,1,0,466,1,0,0,0,0,0,0,0,0,0,0,0,0,0,0,0,0,0,0,0,0,0,null,null,null,null,null,null,null,null,null,null,null,null,null,null,null,null,null,null,null,null,null,null,null,null,0,0,{"$f":"ROUND(Y466*Source!I221,7)","v":0},{"$f":"AD466","v":0},{"$f":"AH466","v":0},{"$f":"AL466","v":1},0,0,"","",0,0,0,0,{"$f":"DI466","v":0},0,"",0,"",0]
[{"$f":"ROW(Source!A221)","v":221},85312357,85316330,77430988,1,1,1,2,"91.05.05-015","ФСЭМ-2022, 91.05.05-015, приказ Минстроя России от 18.05.2022 г. № 378/пр","Краны на автомобильном ходу, грузоподъемность 16 т",1368,null,1011,"маш.-ч","маш.-ч",1,null,null,null,null,null,0,-468861091,0.2,null,0,1626.29,1090.46,0,0,1626.29,1090.46,0,1,1,1,1,-2,0,0,1,1,0,"",0.2,"",1,2,85316347,1,0,467,1,0,0,0,0,0,0,0,0,325.25800000000004,218.09200000000001,0,0,0.2,1,0,325.25800000000004,218.09200000000001,0,0,0.2,1,null,null,null,null,null,null,null,null,null,null,null,null,null,null,null,null,null,null,null,null,null,null,null,null,0,{"$f":"ROUND(Y467*Source!I221*DO467,7)","v":0},{"$f":"ROUND(Y467*Source!I221,7)","v":0},{"$f":"AB467","v":1626.29},{"$f":"AF467","v":1626.29},{"$f":"AJ467","v":1},325.26,218.09,"","",0,0,0,0,{"$f":"DG467+DH467","v":0},1,"4-100-060",6,"чел.-ч.",1]
[{"$f":"ROW(Source!A221)","v":221},85312357,85316330,77431879,1,1,1,2,"91.14.02-001","ФСЭМ-2022 доп.7, 91.14.02-001, приказ Минстроя России от 02.08.2023 г. № 551/пр","Автомобили бортовые, грузоподъемность до 5 т",1368,null,1011,"маш.-ч","маш.-ч",1,null,null,null,null,null,0,-1152394969,0.2,null,0,641.70000000000005,811.79,0,0,641.70000000000005,811.79,0,1,1,1,1,-2,0,0,1,1,0,"",0.2,"",1,2,85316348,1,0,468,1,0,0,0,0,0,0,0,0,128.34,162.358,0,0,0.2,1,0,128.34,162.358,0,0,0.2,1,null,null,null,null,null,null,null,null,null,null,null,null,null,null,null,null,null,null,null,null,null,null,null,null,0,{"$f":"ROUND(Y468*Source!I221*DO468,7)","v":0},{"$f":"ROUND(Y468*Source!I221,7)","v":0},{"$f":"AB468","v":641.70000000000005},{"$f":"AF468","v":641.70000000000005},{"$f":"AJ468","v":1},128.34,162.36000000000001,"","",0,0,0,0,{"$f":"DG468+DH468","v":0},1,"4-100-040",4,"чел.-ч.",1]
[{"$f":"ROW(Source!A221)","v":221},85312357,85316330,77432074,1,1,1,2,"91.17.04-233","ФСЭМ-2022, 91.17.04-233, приказ Минстроя России от 18.05.2022 г. № 378/пр","Аппараты сварочные для ручной дуговой сварки, сварочный ток до 350 А",1368,null,1011,"маш.-ч","маш.-ч",1,null,null,null,null,null,0,-334821386,1.69,null,0,34.61,0,0,0,34.61,0,0,1,1,1,1,-2,0,0,1,1,0,"",1.69,"",1,2,85316349,1,0,469,1,0,0,0,0,0,0,0,0,58.490899999999996,0,0,0,0,1,0,58.490899999999996,0,0,0,0,1,null,null,null,null,null,null,null,null,null,null,null,null,null,null,null,null,null,null,null,null,null,null,null,null,0,{"$f":"ROUND(Y469*Source!I221*DO469,7)","v":0},{"$f":"ROUND(Y469*Source!I221,7)","v":0},{"$f":"AB469","v":34.61},{"$f":"AF469","v":34.61},{"$f":"AJ469","v":1},58.49,0,"","",0,0,0,0,{"$f":"DG469+DH469","v":0},1,"",0,"",0]
[{"$f":"ROW(Source!A221)","v":221},85312357,85316330,77432548,1,1,1,2,"91.21.19-031","ФСЭМ-2022, 91.21.19-031, приказ Минстроя России от 18.05.2022 г. № 378/пр","Станки сверлильные",1368,null,1011,"маш.-ч","маш.-ч",1,null,null,null,null,null,0,2033333404,0.86,null,0,30.34,0,0,0,23.89,0,0,1,1.27,1,1,2,0,0,1,1,0,"",0.86,"",1,2,85316350,1,0,470,1,0,0,0,0,0,0,0,0,20.545400000000001,0,0,0,0,1,0,20.545400000000001,0,0,0,0,1,null,null,null,null,null,null,null,null,null,null,null,null,null,null,null,null,null,null,null,null,null,null,null,null,0,{"$f":"ROUND(Y470*Source!I221*DO470,7)","v":0},{"$f":"ROUND(Y470*Source!I221,7)","v":0},{"$f":"AB470","v":30.34},{"$f":"AF470","v":23.89},{"$f":"AJ470","v":1.27},20.55,0,"","",0,{"$f":"ROUND(ROUND(AF470*AJ470,2)*CX470,2)","v":0},0,0,{"$f":"DG470+DH470","v":0},0,"",0,"",0]
[{"$f":"ROW(Source!A221)","v":221},85312357,85316330,77432634,1,1,1,2,"91.21.22-491","ФСЭМ-2022, 91.21.22-491, приказ Минстроя России от 18.05.2022 г. № 378/пр","Шиногибы гидравлические универсальные",1368,null,1011,"маш.-ч","маш.-ч",1,null,null,null,null,null,0,1781070667,4.9000000000000004,null,0,31.84,811.79,0,0,26.76,811.79,0,1,1.19,1,1,2,0,0,1,1,0,"",4.9000000000000004,"",1,2,85316351,2,65536,471,1,0,0,0,0,0,0,0,0,131.12400000000002,3977.7710000000002,0,0,4.9000000000000004,1,0,131.12400000000002,3977.7710000000002,0,0,4.9000000000000004,1,null,null,null,null,null,null,null,null,null,null,null,null,null,null,null,null,null,null,null,null,null,null,null,null,0,{"$f":"ROUND(Y471*Source!I221*DO471,7)","v":0},{"$f":"ROUND(Y471*Source!I221,7)","v":0},{"$f":"AB471","v":31.84},{"$f":"AF471","v":26.76},{"$f":"AJ471","v":1.19},131.12,3977.77,"","",0,{"$f":"ROUND(ROUND(AF471*AJ471,2)*CX471,2)","v":0},0,0,{"$f":"DG471+DH471","v":0},0,"4-100-040",4,"чел.-ч.",1]
[{"$f":"ROW(Source!A221)","v":221},85312357,85316330,77375932,1,1,1,3,"01.3.02.02-0001","ФСБЦ-2022 доп.3, 01.3.02.02-0001, приказ Минстроя России от 26.10.2022 г. № 905/пр","Аргон газообразный, сорт I",1339,null,1007,"м3","м3",1,null,null,null,null,null,0,379320714,0.31,null,342.85,0,0,0,253.96,0,0,0,1.35,1,1,1,2,0,0,1,1,0,"",0.31,"",0,2,85316352,1,0,472,1,0,0,0,0,0,0,0,78.727599999999995,0,0,0,0,0,1,78.727599999999995,0,0,0,0,0,1,null,null,null,null,null,null,null,null,null,null,null,null,null,null,null,null,null,null,null,null,null,null,null,null,0,0,{"$f":"ROUND(Y472*Source!I221,7)","v":0},{"$f":"AA472","v":342.85},{"$f":"AE472","v":253.96},{"$f":"AI472","v":1.35},78.73,0,"","",{"$f":"ROUND(ROUND(AE472*AI472,2)*CX472,2)","v":0},{"$f":"ROUND(ROUND(AF472,2)*CX472,2)","v":0},0,0,{"$f":"DF472","v":0},0,"",0,"",0]
[{"$f":"ROW(Source!A221)","v":221},85312357,85316330,77379558,1,1,1,3,"01.7.15.03-0042","ФСБЦ-2022, 01.7.15.03-0042, приказ Минстроя России от 18.05.2022 г. № 378/пр","Болты с гайками и шайбами строительные",1346,null,1009,"кг","кг",1,null,null,null,null,null,0,1181962216,2.88,null,188.92,0,0,0,174.93,0,0,0,1.08,1,1,1,2,0,0,1,1,0,"",2.88,"",0,2,85316353,1,0,473,1,0,0,0,0,0,0,0,503.79840000000002,0,0,0,0,0,1,503.79840000000002,0,0,0,0,0,1,null,null,null,null,null,null,null,null,null,null,null,null,null,null,null,null,null,null,null,null,null,null,null,null,0,0,{"$f":"ROUND(Y473*Source!I221,7)","v":0},188.92,174.93,1.08,503.8,0,"","",0,0,0,0,0,0,"",0,"",0]
[{"$f":"ROW(Source!A221)","v":221},85312357,85316330,77379734,1,1,1,3,"01.7.15.11-0061","ФСБЦ-2022, 01.7.15.11-0061, приказ Минстроя России от 18.05.2022 г. № 378/пр","Шайбы стальные оцинкованные пружинные (гровер), диаметр отверстия М3",1348,null,1009,"т","т",1000,null,null,null,null,null,0,-1722949244,1.2E-4,null,252094.32,0,0,0,195421.95,0,0,0,1.29,1,1,1,2,0,0,1,1,0,"",1.2E-4,"",0,2,85316354,1,0,474,1,0,0,0,0,0,0,0,23.450634000000001,0,0,0,0,0,1,23.450634000000001,0,0,0,0,0,1,null,null,null,null,null,null,null,null,null,null,null,null,null,null,null,null,null,null,null,null,null,null,null,null,0,0,{"$f":"ROUND(Y474*Source!I221,7)","v":0},252094.32,195421.95,1.29,23.45,0,"","",0,0,0,0,0,0,"",0,"",0]
[{"$f":"ROW(Source!A221)","v":221},85312357,85316330,77388710,1,1,1,3,"10.1.02.04-0009","ФСБЦ-2022 доп.9, 10.1.02.04-0009, приказ Минстроя России от 16.02.2024 г. № 102/пр","Прутки круглого сечения из алюминиевых сплавов марок АД0, АД1, АД, АД31, АД33, АД35, АВ, диаметр 135,0-200,0 мм",1348,null,1009,"т","т",1000,null,null,null,null,null,0,692705173,6.0000000000000002E-5,null,344819.69,0,0,0,530491.82999999996,0,0,0,0.65,1,1,1,2,0,0,1,1,0,"",6.0000000000000002E-5,"",0,2,85316355,1,0,475,1,0,0,0,0,0,0,0,31.829509799999997,0,0,0,0,0,1,31.829509799999997,0,0,0,0,0,1,null,null,null,null,null,null,null,null,null,null,null,null,null,null,null,null,null,null,null,null,null,null,null,null,0,0,{"$f":"ROUND(Y475*Source!I221,7)","v":0},344819.69,530491.82999999996,0.65,31.83,0,"","",0,0,0,0,0,0,"",0,"",0]
[{"$f":"ROW(Source!A221)","v":221},85312357,85316330,77388985,1,1,1,3,"10.2.02.10-0013","ФСБЦ-2022, 10.2.02.10-0013, приказ Минстроя России от 18.05.2022 г. № 378/пр","Прутки круглые из меди марки М3, диаметр 10-30 мм",1348,null,1009,"т","т",1000,null,null,null,null,null,0,1889610346,3.0000000000000001E-5,null,614343.55000000005,0,0,0,945143.92,0,0,0,0.65,1,1,1,2,0,0,1,1,0,"",3.0000000000000001E-5,"",0,2,85316356,1,0,476,1,0,0,0,0,0,0,0,28.354317600000002,0,0,0,0,0,1,28.354317600000002,0,0,0,0,0,1,null,null,null,null,null,null,null,null,null,null,null,null,null,null,null,null,null,null,null,null,null,null,null,null,0,0,{"$f":"ROUND(Y476*Source!I221,7)","v":0},614343.55000000005,945143.92,0.65,28.35,0,"","",0,0,0,0,0,0,"",0,"",0]
[{"$f":"ROW(Source!A221)","v":221},85312357,85316330,77397226,1,1,1,3,"14.4.02.04-0142","ФСБЦ-2022, 14.4.02.04-0142, приказ Минстроя России от 18.05.2022 г. № 378/пр","Краска масляная МА-0115, мумия, сурик железный",1346,null,1009,"кг","кг",1,null,null,null,null,null,0,790403873,1.74,null,115.03,0,0,0,79.88,0,0,0,1.44,1,1,1,2,0,0,1,1,0,"",1.74,"",0,2,85316357,1,0,477,1,0,0,0,0,0,0,0,138.99119999999999,0,0,0,0,0,1,138.99119999999999,0,0,0,0,0,1,null,null,null,null,null,null,null,null,null,null,null,null,null,null,null,null,null,null,null,null,null,null,null,null,0,0,{"$f":"ROUND(Y477*Source!I221,7)","v":0},115.03,79.88,1.44,138.99,0,"","",0,0,0,0,0,0,"",0,"",0]
[{"$f":"ROW(Source!A221)","v":221},85312357,85316330,77312233,114,1,1,3,"421/пр_2020_п.75_пп.а","","Сметная стоимость вспомогательных ненормируемых материальных ресурсов, не учтенная в сметной норме, 2%",3277935,null,1013,"%","%",1,null,null,null,null,null,0,274903907,2,null,0,0,0,0,0,0,0,0,1,1,1,1,-2,0,0,0,0,0,"",2,"",0,2,85316358,1,0,478,0,0,0,0,0,0,0,0,0,0,0,0,0,0,0,0,0,0,0,0,0,0,null,null,null,null,null,null,null,null,null,null,null,null,null,null,null,null,null,null,null,null,null,null,null,null,0,0,{"$f":"ROUND(Y478*Source!I221,7)","v":0},0,0,1,0,0,"","",{"$f":"ROUND(ROUND(AE478,2)*CX478,2)","v":0},0,0,0,0,0,"",0,"",0]
[{"$f":"ROW(Source!A222)","v":222},85312298,85316330,77306374,114,1,1,1,"1-100-40","","Средний разряд работы 4,0",1191,null,1013,"чел.-ч.","чел.-ч.",1,null,null,null,null,null,0,888410196,45.3,null,0,0,0,811.79,0,0,0,811.79,1,1,1,1,-2,0,0,1,1,0,"",45.3,"",1,2,85316345,2,131072,479,1,0,0,0,0,0,0,0,0,0,0,36774.087,45.3,0,1,0,0,0,36774.087,45.3,0,1,null,null,null,null,null,null,null,null,null,null,null,null,null,null,null,null,null,null,null,null,null,null,null,{"$f":"ROUND(AT479*Source!I222*AH479*AL479,2)","v":0},{"$f":"ROUND(Y479*Source!I222,7)","v":0},0,{"$f":"ROUND(Y479*Source!I222,7)","v":0},{"$f":"AD479","v":811.79},{"$f":"AH479","v":811.79},{"$f":"AL479","v":1},36774.089999999997,0,"","",0,0,0,0,{"$f":"DI479","v":0},1,"",0,"",0]
[{"$f":"ROW(Source!A222)","v":222},85312298,85316330,77306545,114,1,1,1,"4-100-00","","Затраты труда машинистов",1191,null,1013,"чел.-ч.","чел.-ч.",1,null,null,null,null,null,0,-1417349443,5.3,null,0,0,0,0,0,0,0,0,1,1,1,1,-2,0,0,1,1,0,"",5.3,"",2,2,85316346,1,0,480,1,0,0,0,0,0,0,0,0,0,0,0,0,0,0,0,0,0,0,0,0,0,null,null,null,null,null,null,null,null,null,null,null,null,null,null,null,null,null,null,null,null,null,null,null,null,0,0,{"$f":"ROUND(Y480*Source!I222,7)","v":0},{"$f":"AD480","v":0},{"$f":"AH480","v":0},{"$f":"AL480","v":1},0,0,"","",0,0,0,0,{"$f":"DI480","v":0},0,"",0,"",0]
[{"$f":"ROW(Source!A222)","v":222},85312298,85316330,77430988,1,1,1,2,"91.05.05-015","ФСЭМ-2022, 91.05.05-015, приказ Минстроя России от 18.05.2022 г. № 378/пр","Краны на автомобильном ходу, грузоподъемность 16 т",1368,null,1011,"маш.-ч","маш.-ч",1,null,null,null,null,null,0,-468861091,0.2,null,0,1626.29,1090.46,0,0,1626.29,1090.46,0,1,1,1,1,-2,0,0,1,1,0,"",0.2,"",1,2,85316347,1,0,481,1,0,0,0,0,0,0,0,0,325.25800000000004,218.09200000000001,0,0,0.2,1,0,325.25800000000004,218.09200000000001,0,0,0.2,1,null,null,null,null,null,null,null,null,null,null,null,null,null,null,null,null,null,null,null,null,null,null,null,null,0,{"$f":"ROUND(Y481*Source!I222*DO481,7)","v":0},{"$f":"ROUND(Y481*Source!I222,7)","v":0},{"$f":"AB481","v":1626.29},{"$f":"AF481","v":1626.29},{"$f":"AJ481","v":1},325.26,218.09,"","",0,0,0,0,{"$f":"DG481+DH481","v":0},1,"4-100-060",6,"чел.-ч.",1]
[{"$f":"ROW(Source!A222)","v":222},85312298,85316330,77431879,1,1,1,2,"91.14.02-001","ФСЭМ-2022 доп.7, 91.14.02-001, приказ Минстроя России от 02.08.2023 г. № 551/пр","Автомобили бортовые, грузоподъемность до 5 т",1368,null,1011,"маш.-ч","маш.-ч",1,null,null,null,null,null,0,-1152394969,{"$f":"AT482","v":0.2},null,0,641.70000000000005,811.79,0,0,641.70000000000005,811.79,0,1,1,1,1,-2,0,0,1,1,0,"",0.2,"",1,2,85316348,1,0,482,1,0,0,0,0,0,0,0,0,128.34,162.358,0,0,0.2,1,0,128.34,162.358,0,0,0.2,1,null,null,null,null,null,null,null,null,null,null,null,null,null,null,null,null,null,null,null,null,null,null,null,null,0,{"$f":"ROUND(Y482*Source!I222*DO482,7)","v":0},{"$f":"ROUND(Y482*Source!I222,7)","v":0},{"$f":"AB482","v":641.70000000000005},{"$f":"AF482","v":641.70000000000005},{"$f":"AJ482","v":1},{"$f":"ROUND(ROUND(AT482*CZ482,2),2)","v":128.34},{"$f":"ROUND(ROUND(AT482*AG482,2),2)","v":162.36000000000001},"","",0,0,0,0,{"$f":"DG482+DH482","v":0},1,"4-100-040",4,"чел.-ч.",1]
[{"$f":"ROW(Source!A222)","v":222},85312298,85316330,77432074,1,1,1,2,"91.17.04-233","ФСЭМ-2022, 91.17.04-233, приказ Минстроя России от 18.05.2022 г. № 378/пр","Аппараты сварочные для ручной дуговой сварки, сварочный ток до 350 А",1368,null,1011,"маш.-ч","маш.-ч",1,null,null,null,null,null,0,-334821386,1.69,null,0,34.61,0,0,0,34.61,0,0,1,1,1,1,-2,0,0,1,1,0,"",1.69,"",1,2,85316349,1,0,483,1,0,0,0,0,0,0,0,0,58.490899999999996,0,0,0,0,1,0,58.490899999999996,0,0,0,0,1,null,null,null,null,null,null,null,null,null,null,null,null,null,null,null,null,null,null,null,null,null,null,null,null,0,{"$f":"ROUND(Y483*Source!I222*DO483,7)","v":0},{"$f":"ROUND(Y483*Source!I222,7)","v":0},{"$f":"AB483","v":34.61},{"$f":"AF483","v":34.61},{"$f":"AJ483","v":1},58.49,0,"","",0,0,0,0,{"$f":"DG483+DH483","v":0},1,"",0,"",0]
[{"$f":"ROW(Source!A222)","v":222},85312298,85316330,77432548,1,1,1,2,"91.21.19-031","ФСЭМ-2022, 91.21.19-031, приказ Минстроя России от 18.05.2022 г. № 378/пр","Станки сверлильные",1368,null,1011,"маш.-ч","маш.-ч",1,null,null,null,null,null,0,2033333404,0.86,null,0,30.34,0,0,0,23.89,0,0,1,1.27,1,1,2,0,0,1,1,0,"",0.86,"",1,2,85316350,1,0,484,1,0,0,0,0,0,0,0,0,20.545400000000001,0,0,0,0,1,0,20.545400000000001,0,0,0,0,1,null,null,null,null,null,null,null,null,null,null,null,null,null,null,null,null,null,null,null,null,null,null,null,null,0,{"$f":"ROUND(Y484*Source!I222*DO484,7)","v":0},{"$f":"ROUND(Y484*Source!I222,7)","v":0},{"$f":"AB484","v":30.34},{"$f":"AF484","v":23.89},{"$f":"AJ484","v":1.27},20.55,0,"","",0,{"$f":"ROUND(ROUND(AF484*AJ484,2)*CX484,2)","v":0},0,0,{"$f":"DG484+DH484","v":0},0,"",0,"",0]
[{"$f":"ROW(Source!A222)","v":222},85312298,85316330,77432634,1,1,1,2,"91.21.22-491","ФСЭМ-2022, 91.21.22-491, приказ Минстроя России от 18.05.2022 г. № 378/пр","Шиногибы гидравлические универсальные",1368,null,1011,"маш.-ч","маш.-ч",1,null,null,null,null,null,0,1781070667,4.9000000000000004,null,0,31.84,811.79,0,0,26.76,811.79,0,1,1.19,1,1,2,0,0,1,1,0,"",4.9000000000000004,"",1,2,85316351,2,65536,485,1,0,0,0,0,0,0,0,0,131.12400000000002,3977.7710000000002,0,0,4.9000000000000004,1,0,131.12400000000002,3977.7710000000002,0,0,4.9000000000000004,1,null,null,null,null,null,null,null,null,null,null,null,null,null,null,null,null,null,null,null,null,null,null,null,null,0,{"$f":"ROUND(Y485*Source!I222*DO485,7)","v":0},{"$f":"ROUND(Y485*Source!I222,7)","v":0},{"$f":"AB485","v":31.84},{"$f":"AF485","v":26.76},{"$f":"AJ485","v":1.19},131.12,3977.77,"","",0,{"$f":"ROUND(ROUND(AF485*AJ485,2)*CX485,2)","v":0},0,0,{"$f":"DG485+DH485","v":0},0,"4-100-040",4,"чел.-ч.",1]
[{"$f":"ROW(Source!A222)","v":222},85312298,85316330,77375932,1,1,1,3,"01.3.02.02-0001","ФСБЦ-2022 доп.3, 01.3.02.02-0001, приказ Минстроя России от 26.10.2022 г. № 905/пр","Аргон газообразный, сорт I",1339,null,1007,"м3","м3",1,null,null,null,null,null,0,379320714,0.31,null,342.85,0,0,0,253.96,0,0,0,1.35,1,1,1,2,0,0,1,1,0,"",0.31,"",0,2,85316352,1,0,486,1,0,0,0,0,0,0,0,78.727599999999995,0,0,0,0,0,1,78.727599999999995,0,0,0,0,0,1,null,null,null,null,null,null,null,null,null,null,null,null,null,null,null,null,null,null,null,null,null,null,null,null,0,0,{"$f":"ROUND(Y486*Source!I222,7)","v":0},{"$f":"AA486","v":342.85},{"$f":"AE486","v":253.96},{"$f":"AI486","v":1.35},78.73,0,"","",{"$f":"ROUND(ROUND(AE486*AI486,2)*CX486,2)","v":0},{"$f":"ROUND(ROUND(AF486,2)*CX486,2)","v":0},0,0,{"$f":"DF486","v":0},0,"",0,"",0]
[{"$f":"ROW(Source!A222)","v":222},85312298,85316330,77379558,1,1,1,3,"01.7.15.03-0042","ФСБЦ-2022, 01.7.15.03-0042, приказ Минстроя России от 18.05.2022 г. № 378/пр","Болты с гайками и шайбами строительные",1346,null,1009,"кг","кг",1,null,null,null,null,null,0,1181962216,2.88,null,188.92,0,0,0,174.93,0,0,0,1.08,1,1,1,2,0,0,1,1,0,"",2.88,"",0,2,85316353,1,0,487,1,0,0,0,0,0,0,0,503.79840000000002,0,0,0,0,0,1,503.79840000000002,0,0,0,0,0,1,null,null,null,null,null,null,null,null,null,null,null,null,null,null,null,null,null,null,null,null,null,null,null,null,0,0,{"$f":"ROUND(Y487*Source!I222,7)","v":0},188.92,174.93,1.08,503.8,0,"","",0,0,0,0,0,0,"",0,"",0]
[{"$f":"ROW(Source!A222)","v":222},85312298,85316330,77379734,1,1,1,3,"01.7.15.11-0061","ФСБЦ-2022, 01.7.15.11-0061, приказ Минстроя России от 18.05.2022 г. № 378/пр","Шайбы стальные оцинкованные пружинные (гровер), диаметр отверстия М3",1348,null,1009,"т","т",1000,null,null,null,null,null,0,-1722949244,1.2E-4,null,252094.32,0,0,0,195421.95,0,0,0,1.29,1,1,1,2,0,0,1,1,0,"",1.2E-4,"",0,2,85316354,1,0,488,1,0,0,0,0,0,0,0,23.450634000000001,0,0,0,0,0,1,23.450634000000001,0,0,0,0,0,1,null,null,null,null,null,null,null,null,null,null,null,null,null,null,null,null,null,null,null,null,null,null,null,null,0,0,{"$f":"ROUND(Y488*Source!I222,7)","v":0},252094.32,195421.95,1.29,23.45,0,"","",0,0,0,0,0,0,"",0,"",0]
[{"$f":"ROW(Source!A222)","v":222},85312298,85316330,77388710,1,1,1,3,"10.1.02.04-0009","ФСБЦ-2022 доп.9, 10.1.02.04-0009, приказ Минстроя России от 16.02.2024 г. № 102/пр","Прутки круглого сечения из алюминиевых сплавов марок АД0, АД1, АД, АД31, АД33, АД35, АВ, диаметр 135,0-200,0 мм",1348,null,1009,"т","т",1000,null,null,null,null,null,0,692705173,6.0000000000000002E-5,null,344819.69,0,0,0,530491.82999999996,0,0,0,0.65,1,1,1,2,0,0,1,1,0,"",6.0000000000000002E-5,"",0,2,85316355,1,0,489,1,0,0,0,0,0,0,0,31.829509799999997,0,0,0,0,0,1,31.829509799999997,0,0,0,0,0,1,null,null,null,null,null,null,null,null,null,null,null,null,null,null,null,null,null,null,null,null,null,null,null,null,0,0,{"$f":"ROUND(Y489*Source!I222,7)","v":0},344819.69,530491.82999999996,0.65,31.83,0,"","",0,0,0,0,0,0,"",0,"",0]
[{"$f":"ROW(Source!A222)","v":222},85312298,85316330,77388985,1,1,1,3,"10.2.02.10-0013","ФСБЦ-2022, 10.2.02.10-0013, приказ Минстроя России от 18.05.2022 г. № 378/пр","Прутки круглые из меди марки М3, диаметр 10-30 мм",1348,null,1009,"т","т",1000,null,null,null,null,null,0,1889610346,3.0000000000000001E-5,null,614343.55000000005,0,0,0,945143.92,0,0,0,0.65,1,1,1,2,0,0,1,1,0,"",3.0000000000000001E-5,"",0,2,85316356,1,0,490,1,0,0,0,0,0,0,0,28.354317600000002,0,0,0,0,0,1,28.354317600000002,0,0,0,0,0,1,null,null,null,null,null,null,null,null,null,null,null,null,null,null,null,null,null,null,null,null,null,null,null,null,0,0,{"$f":"ROUND(Y490*Source!I222,7)","v":0},614343.55000000005,945143.92,0.65,28.35,0,"","",0,0,0,0,0,0,"",0,"",0]
[{"$f":"ROW(Source!A222)","v":222},85312298,85316330,77397226,1,1,1,3,"14.4.02.04-0142","ФСБЦ-2022, 14.4.02.04-0142, приказ Минстроя России от 18.05.2022 г. № 378/пр","Краска масляная МА-0115, мумия, сурик железный",1346,null,1009,"кг","кг",1,null,null,null,null,null,0,790403873,1.74,null,115.03,0,0,0,79.88,0,0,0,1.44,1,1,1,2,0,0,1,1,0,"",1.74,"",0,2,85316357,1,0,491,1,0,0,0,0,0,0,0,138.99119999999999,0,0,0,0,0,1,138.99119999999999,0,0,0,0,0,1,null,null,null,null,null,null,null,null,null,null,null,null,null,null,null,null,null,null,null,null,null,null,null,null,0,0,{"$f":"ROUND(Y491*Source!I222,7)","v":0},115.03,79.88,1.44,138.99,0,"","",0,0,0,0,0,0,"",0,"",0]
[{"$f":"ROW(Source!A222)","v":222},85312298,85316330,77312233,114,1,1,3,"421/пр_2020_п.75_пп.а","","Сметная стоимость вспомогательных ненормируемых материальных ресурсов, не учтенная в сметной норме, 2%",3277935,null,1013,"%","%",1,null,null,null,null,null,0,274903907,2,null,0,0,0,0,0,0,0,0,1,1,1,1,-2,0,0,0,0,0,"",2,"",0,2,85316358,1,0,492,0,0,0,0,0,0,0,0,0,0,0,0,0,0,0,0,0,0,0,0,0,0,null,null,null,null,null,null,null,null,null,null,null,null,null,null,null,null,null,null,null,null,null,null,null,null,0,0,{"$f":"ROUND(Y492*Source!I222,7)","v":0},0,0,1,0,0,"","",{"$f":"ROUND(ROUND(AE492,2)*CX492,2)","v":0},0,0,0,0,0,"",0,"",0]
[{"$f":"ROW(Source!A226)","v":226},85312357,85316361,77306380,114,1,1,1,"1-100-42","","Средний разряд работы 4,2",1191,null,1013,"чел.-ч.","чел.-ч.",1,null,null,null,null,null,0,1522950421,103,null,0,0,0,836.02,0,0,0,836.02,1,1,1,1,-2,0,0,1,1,0,"",103,"",1,2,85316375,2,131072,493,1,0,0,0,0,0,0,0,0,0,0,86110.06,103,0,1,0,0,0,86110.06,103,0,1,null,null,null,null,null,null,null,null,null,null,null,null,null,null,null,null,null,null,null,null,null,null,null,{"$f":"ROUND(AT493*Source!I226*AH493*AL493,2)","v":0},{"$f":"ROUND(Y493*Source!I226,7)","v":0},0,{"$f":"ROUND(Y493*Source!I226,7)","v":0},{"$f":"AD493","v":836.02},{"$f":"AH493","v":836.02},{"$f":"AL493","v":1},86110.06,0,"","",0,0,0,0,{"$f":"DI493","v":0},1,"",0,"",0]
[{"$f":"ROW(Source!A226)","v":226},85312357,85316361,77306545,114,1,1,1,"4-100-00","","Затраты труда машинистов",1191,null,1013,"чел.-ч.","чел.-ч.",1,null,null,null,null,null,0,-1417349443,20.65,null,0,0,0,0,0,0,0,0,1,1,1,1,-2,0,0,1,1,0,"",20.65,"",2,2,85316376,1,0,494,1,0,0,0,0,0,0,0,0,0,0,0,0,0,0,0,0,0,0,0,0,0,null,null,null,null,null,null,null,null,null,null,null,null,null,null,null,null,null,null,null,null,null,null,null,null,0,0,{"$f":"ROUND(Y494*Source!I226,7)","v":0},{"$f":"AD494","v":0},{"$f":"AH494","v":0},{"$f":"AL494","v":1},0,0,"","",0,0,0,0,{"$f":"DI494","v":0},0,"",0,"",0]
[{"$f":"ROW(Source!A226)","v":226},85312357,85316361,77430971,1,1,1,2,"91.05.04-010","ФСЭМ-2022, 91.05.04-010, приказ Минстроя России от 18.05.2022 г. № 378/пр","Краны мостовые электрические, грузоподъемность 50 т",1368,null,1011,"маш.-ч","маш.-ч",1,null,null,null,null,null,0,-1825891408,7.83,null,0,2314.71,932.95,0,0,1689.57,932.95,0,1,1.37,1,1,2,0,0,1,1,0,"",7.83,"",1,2,85316377,2,65536,495,1,0,0,0,0,0,0,0,0,13229.3331,7304.9985000000006,0,0,7.83,1,0,13229.3331,7304.9985000000006,0,0,7.83,1,null,null,null,null,null,null,null,null,null,null,null,null,null,null,null,null,null,null,null,null,null,null,null,null,0,{"$f":"ROUND(Y495*Source!I226*DO495,7)","v":0},{"$f":"ROUND(Y495*Source!I226,7)","v":0},{"$f":"AB495","v":2314.71},{"$f":"AF495","v":1689.57},{"$f":"AJ495","v":1.37},13229.33,7305,"","",0,{"$f":"ROUND(ROUND(AF495*AJ495,2)*CX495,2)","v":0},0,0,{"$f":"DG495+DH495","v":0},0,"4-100-050",5,"чел.-ч.",1]
[{"$f":"ROW(Source!A226)","v":226},85312357,85316361,77430988,1,1,1,2,"91.05.05-015","ФСЭМ-2022, 91.05.05-015, приказ Минстроя России от 18.05.2022 г. № 378/пр","Краны на автомобильном ходу, грузоподъемность 16 т",1368,null,1011,"маш.-ч","маш.-ч",1,null,null,null,null,null,0,-468861091,0.6,null,0,1626.29,1090.46,0,0,1626.29,1090.46,0,1,1,1,1,-2,0,0,1,1,0,"",0.6,"",1,2,85316378,1,0,496,1,0,0,0,0,0,0,0,0,975.77399999999989,654.27599999999995,0,0,0.6,1,0,975.77399999999989,654.27599999999995,0,0,0.6,1,null,null,null,null,null,null,null,null,null,null,null,null,null,null,null,null,null,null,null,null,null,null,null,null,0,{"$f":"ROUND(Y496*Source!I226*DO496,7)","v":0},{"$f":"ROUND(Y496*Source!I226,7)","v":0},1626.29,1626.29,1,975.77,654.28,"","",0,{"$f":"ROUND(ROUND(AF496,2)*CX496,2)","v":0},0,0,0,1,"4-100-060",6,"чел.-ч.",1]
[{"$f":"ROW(Source!A226)","v":226},85312357,85316361,77431168,1,1,1,2,"91.06.06-042","ФСЭМ-2022, 91.06.06-042, приказ Минстроя России от 18.05.2022 г. № 378/пр","Подъемники гидравлические, высота подъема 10 м",1368,null,1011,"маш.-ч","маш.-ч",1,null,null,null,null,null,0,-702403151,5.5,null,0,128.09,811.79,0,0,104.99,811.79,0,1,1.22,1,1,2,0,0,1,1,0,"",5.5,"",1,2,85316379,2,65536,497,1,0,0,0,0,0,0,0,0,577.44499999999994,4464.8449999999993,0,0,5.5,1,0,577.44499999999994,4464.8449999999993,0,0,5.5,1,null,null,null,null,null,null,null,null,null,null,null,null,null,null,null,null,null,null,null,null,null,null,null,null,0,{"$f":"ROUND(Y497*Source!I226*DO497,7)","v":0},{"$f":"ROUND(Y497*Source!I226,7)","v":0},128.09,104.99,1.22,577.45000000000005,4464.8500000000004,"","",0,{"$f":"ROUND(ROUND(AF497*AJ497,2)*CX497,2)","v":0},0,0,0,0,"4-100-040",4,"чел.-ч.",1]
[{"$f":"ROW(Source!A226)","v":226},85312357,85316361,77431879,1,1,1,2,"91.14.02-001","ФСЭМ-2022 доп.7, 91.14.02-001, приказ Минстроя России от 02.08.2023 г. № 551/пр","Автомобили бортовые, грузоподъемность до 5 т",1368,null,1011,"маш.-ч","маш.-ч",1,null,null,null,null,null,0,-1152394969,0.6,null,0,641.70000000000005,811.79,0,0,641.70000000000005,811.79,0,1,1,1,1,-2,0,0,1,1,0,"",0.6,"",1,2,85316380,1,0,498,1,0,0,0,0,0,0,0,0,385.02000000000004,487.07399999999996,0,0,0.6,1,0,385.02000000000004,487.07399999999996,0,0,0.6,1,null,null,null,null,null,null,null,null,null,null,null,null,null,null,null,null,null,null,null,null,null,null,null,null,0,{"$f":"ROUND(Y498*Source!I226*DO498,7)","v":0},{"$f":"ROUND(Y498*Source!I226,7)","v":0},641.70000000000005,641.70000000000005,1,385.02,487.07,"","",0,{"$f":"ROUND(ROUND(AF498,2)*CX498,2)","v":0},0,0,0,1,"4-100-040",4,"чел.-ч.",1]
[{"$f":"ROW(Source!A226)","v":226},85312357,85316361,77432062,1,1,1,2,"91.17.04-161","ФСЭМ-2022, 91.17.04-161, приказ Минстроя России от 18.05.2022 г. № 378/пр","Аппарат сварочный для полуавтоматической сварки, сварочный ток до 500 А, в комплекте с механизмом подачи проволоки",1368,null,1011,"маш.-ч","маш.-ч",1,null,null,null,null,null,0,-589932474,72.3,null,0,103.08,0,0,0,103.08,0,0,1,1,1,1,-2,0,0,1,1,0,"",72.3,"",1,2,85316381,1,0,499,1,0,0,0,0,0,0,0,0,7452.6839999999993,0,0,0,0,1,0,7452.6839999999993,0,0,0,0,1,null,null,null,null,null,null,null,null,null,null,null,null,null,null,null,null,null,null,null,null,null,null,null,null,0,{"$f":"ROUND(Y499*Source!I226*DO499,7)","v":0},{"$f":"ROUND(Y499*Source!I226,7)","v":0},103.08,103.08,1,7452.68,0,"","",0,{"$f":"ROUND(ROUND(AF499,2)*CX499,2)","v":0},0,0,0,1,"",0,"",0]
[{"$f":"ROW(Source!A226)","v":226},85312357,85316361,77432634,1,1,1,2,"91.21.22-491","ФСЭМ-2022, 91.21.22-491, приказ Минстроя России от 18.05.2022 г. № 378/пр","Шиногибы гидравлические универсальные",1368,null,1011,"маш.-ч","маш.-ч",1,null,null,null,null,null,0,1781070667,6.12,null,0,31.84,811.79,0,0,26.76,811.79,0,1,1.19,1,1,2,0,0,1,1,0,"",6.12,"",1,2,85316382,2,65536,500,1,0,0,0,0,0,0,0,0,163.77120000000002,4968.1548000000003,0,0,6.12,1,0,163.77120000000002,4968.1548000000003,0,0,6.12,1,null,null,null,null,null,null,null,null,null,null,null,null,null,null,null,null,null,null,null,null,null,null,null,null,0,{"$f":"ROUND(Y500*Source!I226*DO500,7)","v":0},{"$f":"ROUND(Y500*Source!I226,7)","v":0},31.84,26.76,1.19,163.77000000000001,4968.1499999999996,"","",0,{"$f":"ROUND(ROUND(AF500*AJ500,2)*CX500,2)","v":0},0,0,0,0,"4-100-040",4,"чел.-ч.",1]
[{"$f":"ROW(Source!A226)","v":226},85312357,85316361,77375932,1,1,1,3,"01.3.02.02-0001","ФСБЦ-2022 доп.3, 01.3.02.02-0001, приказ Минстроя России от 26.10.2022 г. № 905/пр","Аргон газообразный, сорт I",1339,null,1007,"м3","м3",1,null,null,null,null,null,0,379320714,1.5,null,342.85,0,0,0,253.96,0,0,0,1.35,1,1,1,2,0,0,1,1,0,"",1.5,"",0,2,85316383,1,0,501,1,0,0,0,0,0,0,0,380.94,0,0,0,0,0,1,380.94,0,0,0,0,0,1,null,null,null,null,null,null,null,null,null,null,null,null,null,null,null,null,null,null,null,null,null,null,null,null,0,0,{"$f":"ROUND(Y501*Source!I226,7)","v":0},{"$f":"AA501","v":342.85},{"$f":"AE501","v":253.96},{"$f":"AI501","v":1.35},380.94,0,"","",{"$f":"ROUND(ROUND(AE501*AI501,2)*CX501,2)","v":0},{"$f":"ROUND(ROUND(AF501,2)*CX501,2)","v":0},0,0,{"$f":"DF501","v":0},0,"",0,"",0]
[{"$f":"ROW(Source!A226)","v":226},85312357,85316361,77378830,1,1,1,3,"01.7.11.07-0227","ФСБЦ-2022, 01.7.11.07-0227, приказ Минстроя России от 18.05.2022 г. № 378/пр","Электроды сварочные для сварки низколегированных и углеродистых сталей УОНИ 13/45, Э42А, диаметр 4-5 мм",1346,null,1009,"кг","кг",1,null,null,null,null,null,0,212334824,4,null,121.39,0,0,0,155.63,0,0,0,0.78,1,1,1,2,0,0,1,1,0,"",4,"",0,2,85316384,1,0,502,1,0,0,0,0,0,0,0,622.52,0,0,0,0,0,1,622.52,0,0,0,0,0,1,null,null,null,null,null,null,null,null,null,null,null,null,null,null,null,null,null,null,null,null,null,null,null,null,0,0,{"$f":"ROUND(Y502*Source!I226,7)","v":0},{"$f":"AA502","v":121.39},{"$f":"AE502","v":155.63},{"$f":"AI502","v":0.78},622.52,0,"","",{"$f":"ROUND(ROUND(AE502*AI502,2)*CX502,2)","v":0},0,0,0,{"$f":"DF502","v":0},0,"",0,"",0]
[{"$f":"ROW(Source!A226)","v":226},85312357,85316361,77388702,1,1,1,3,"10.1.02.04-0001","ФСБЦ-2022 доп.9, 10.1.02.04-0001, приказ Минстроя России от 16.02.2024 г. № 102/пр","Прутки круглого сечения из алюминиевых сплавов марок АД0, АД1, АД, АД31, АД33, АД35, АВ, диаметр 5,0 мм",1348,null,1009,"т","т",1000,null,null,null,null,null,0,19259809,2.5300000000000001E-3,null,384129.8,0,0,0,590968.93000000005,0,0,0,0.65,1,1,1,2,0,0,1,1,0,"",2.5300000000000001E-3,"",0,2,85316385,1,0,503,1,0,0,0,0,0,0,0,1495.1513929000002,0,0,0,0,0,1,1495.1513929000002,0,0,0,0,0,1,null,null,null,null,null,null,null,null,null,null,null,null,null,null,null,null,null,null,null,null,null,null,null,null,0,0,{"$f":"ROUND(Y503*Source!I226,7)","v":0},{"$f":"AA503","v":384129.8},{"$f":"AE503","v":590968.93000000005},{"$f":"AI503","v":0.65},1495.15,0,"","",{"$f":"ROUND(ROUND(AE503*AI503,2)*CX503,2)","v":0},0,0,0,{"$f":"DF503","v":0},0,"",0,"",0]
[{"$f":"ROW(Source!A226)","v":226},85312357,85316361,77397226,1,1,1,3,"14.4.02.04-0142","ФСБЦ-2022, 14.4.02.04-0142, приказ Минстроя России от 18.05.2022 г. № 378/пр","Краска масляная МА-0115, мумия, сурик железный",1346,null,1009,"кг","кг",1,null,null,null,null,null,0,790403873,14.9,null,115.03,0,0,0,79.88,0,0,0,1.44,1,1,1,2,0,0,1,1,0,"",14.9,"",0,2,85316386,1,0,504,1,0,0,0,0,0,0,0,1190.212,0,0,0,0,0,1,1190.212,0,0,0,0,0,1,null,null,null,null,null,null,null,null,null,null,null,null,null,null,null,null,null,null,null,null,null,null,null,null,0,0,{"$f":"ROUND(Y504*Source!I226,7)","v":0},{"$f":"AA504","v":115.03},{"$f":"AE504","v":79.88},{"$f":"AI504","v":1.44},1190.21,0,"","",{"$f":"ROUND(ROUND(AE504*AI504,2)*CX504,2)","v":0},0,0,0,{"$f":"DF504","v":0},0,"",0,"",0]
[{"$f":"ROW(Source!A226)","v":226},85312357,85316361,77312233,114,1,1,3,"421/пр_2020_п.75_пп.а","","Сметная стоимость вспомогательных ненормируемых материальных ресурсов, не учтенная в сметной норме, 2%",3277935,null,1013,"%","%",1,null,null,null,null,null,0,274903907,2,null,0,0,0,0,0,0,0,0,1,1,1,1,-2,0,0,0,0,0,"",2,"",0,2,85316387,1,0,505,0,0,0,0,0,0,0,0,0,0,0,0,0,0,0,0,0,0,0,0,0,0,null,null,null,null,null,null,null,null,null,null,null,null,null,null,null,null,null,null,null,null,null,null,null,null,0,0,{"$f":"ROUND(Y505*Source!I226,7)","v":0},{"$f":"AA505","v":0},{"$f":"AE505","v":0},{"$f":"AI505","v":1},0,0,"","",{"$f":"ROUND(ROUND(AE505,2)*CX505,2)","v":0},0,0,0,{"$f":"DF505","v":0},0,"",0,"",0]
[{"$f":"ROW(Source!A227)","v":227},85312298,85316361,77306380,114,1,1,1,"1-100-42","","Средний разряд работы 4,2",1191,null,1013,"чел.-ч.","чел.-ч.",1,null,null,null,null,null,0,1522950421,103,null,0,0,0,836.02,0,0,0,836.02,1,1,1,1,-2,0,0,1,1,0,"",103,"",1,2,85316375,2,131072,506,1,0,0,0,0,0,0,0,0,0,0,86110.06,103,0,1,0,0,0,86110.06,103,0,1,null,null,null,null,null,null,null,null,null,null,null,null,null,null,null,null,null,null,null,null,null,null,null,{"$f":"ROUND(AT506*Source!I227*AH506*AL506,2)","v":0},{"$f":"ROUND(Y506*Source!I227,7)","v":0},0,{"$f":"ROUND(Y506*Source!I227,7)","v":0},{"$f":"AD506","v":836.02},{"$f":"AH506","v":836.02},{"$f":"AL506","v":1},86110.06,0,"","",0,0,0,0,{"$f":"DI506","v":0},1,"",0,"",0]
[{"$f":"ROW(Source!A227)","v":227},85312298,85316361,77306545,114,1,1,1,"4-100-00","","Затраты труда машинистов",1191,null,1013,"чел.-ч.","чел.-ч.",1,null,null,null,null,null,0,-1417349443,20.65,null,0,0,0,0,0,0,0,0,1,1,1,1,-2,0,0,1,1,0,"",20.65,"",2,2,85316376,1,0,507,1,0,0,0,0,0,0,0,0,0,0,0,0,0,0,0,0,0,0,0,0,0,null,null,null,null,null,null,null,null,null,null,null,null,null,null,null,null,null,null,null,null,null,null,null,null,0,0,{"$f":"ROUND(Y507*Source!I227,7)","v":0},{"$f":"AD507","v":0},{"$f":"AH507","v":0},{"$f":"AL507","v":1},0,0,"","",0,0,0,0,{"$f":"DI507","v":0},0,"",0,"",0]
[{"$f":"ROW(Source!A227)","v":227},85312298,85316361,77430971,1,1,1,2,"91.05.04-010","ФСЭМ-2022, 91.05.04-010, приказ Минстроя России от 18.05.2022 г. № 378/пр","Краны мостовые электрические, грузоподъемность 50 т",1368,null,1011,"маш.-ч","маш.-ч",1,null,null,null,null,null,0,-1825891408,7.83,null,0,2314.71,932.95,0,0,1689.57,932.95,0,1,1.37,1,1,2,0,0,1,1,0,"",7.83,"",1,2,85316377,2,65536,508,1,0,0,0,0,0,0,0,0,13229.3331,7304.9985000000006,0,0,7.83,1,0,13229.3331,7304.9985000000006,0,0,7.83,1,null,null,null,null,null,null,null,null,null,null,null,null,null,null,null,null,null,null,null,null,null,null,null,null,0,{"$f":"ROUND(Y508*Source!I227*DO508,7)","v":0},{"$f":"ROUND(Y508*Source!I227,7)","v":0},{"$f":"AB508","v":2314.71},{"$f":"AF508","v":1689.57},{"$f":"AJ508","v":1.37},13229.33,7305,"","",0,{"$f":"ROUND(ROUND(AF508*AJ508,2)*CX508,2)","v":0},0,0,{"$f":"DG508+DH508","v":0},0,"4-100-050",5,"чел.-ч.",1]
[{"$f":"ROW(Source!A227)","v":227},85312298,85316361,77430988,1,1,1,2,"91.05.05-015","ФСЭМ-2022, 91.05.05-015, приказ Минстроя России от 18.05.2022 г. № 378/пр","Краны на автомобильном ходу, грузоподъемность 16 т",1368,null,1011,"маш.-ч","маш.-ч",1,null,null,null,null,null,0,-468861091,0.6,null,0,1626.29,1090.46,0,0,1626.29,1090.46,0,1,1,1,1,-2,0,0,1,1,0,"",0.6,"",1,2,85316378,1,0,509,1,0,0,0,0,0,0,0,0,975.77399999999989,654.27599999999995,0,0,0.6,1,0,975.77399999999989,654.27599999999995,0,0,0.6,1,null,null,null,null,null,null,null,null,null,null,null,null,null,null,null,null,null,null,null,null,null,null,null,null,0,{"$f":"ROUND(Y509*Source!I227*DO509,7)","v":0},{"$f":"ROUND(Y509*Source!I227,7)","v":0},1626.29,1626.29,1,975.77,654.28,"","",0,{"$f":"ROUND(ROUND(AF509,2)*CX509,2)","v":0},0,0,0,1,"4-100-060",6,"чел.-ч.",1]
[{"$f":"ROW(Source!A227)","v":227},85312298,85316361,77431168,1,1,1,2,"91.06.06-042","ФСЭМ-2022, 91.06.06-042, приказ Минстроя России от 18.05.2022 г. № 378/пр","Подъемники гидравлические, высота подъема 10 м",1368,null,1011,"маш.-ч","маш.-ч",1,null,null,null,null,null,0,-702403151,5.5,null,0,128.09,811.79,0,0,104.99,811.79,0,1,1.22,1,1,2,0,0,1,1,0,"",5.5,"",1,2,85316379,2,65536,510,1,0,0,0,0,0,0,0,0,577.44499999999994,4464.8449999999993,0,0,5.5,1,0,577.44499999999994,4464.8449999999993,0,0,5.5,1,null,null,null,null,null,null,null,null,null,null,null,null,null,null,null,null,null,null,null,null,null,null,null,null,0,{"$f":"ROUND(Y510*Source!I227*DO510,7)","v":0},{"$f":"ROUND(Y510*Source!I227,7)","v":0},128.09,104.99,1.22,577.45000000000005,4464.8500000000004,"","",0,{"$f":"ROUND(ROUND(AF510*AJ510,2)*CX510,2)","v":0},0,0,0,0,"4-100-040",4,"чел.-ч.",1]
[{"$f":"ROW(Source!A227)","v":227},85312298,85316361,77431879,1,1,1,2,"91.14.02-001","ФСЭМ-2022 доп.7, 91.14.02-001, приказ Минстроя России от 02.08.2023 г. № 551/пр","Автомобили бортовые, грузоподъемность до 5 т",1368,null,1011,"маш.-ч","маш.-ч",1,null,null,null,null,null,0,-1152394969,0.6,null,0,641.70000000000005,811.79,0,0,641.70000000000005,811.79,0,1,1,1,1,-2,0,0,1,1,0,"",0.6,"",1,2,85316380,1,0,511,1,0,0,0,0,0,0,0,0,385.02000000000004,487.07399999999996,0,0,0.6,1,0,385.02000000000004,487.07399999999996,0,0,0.6,1,null,null,null,null,null,null,null,null,null,null,null,null,null,null,null,null,null,null,null,null,null,null,null,null,0,{"$f":"ROUND(Y511*Source!I227*DO511,7)","v":0},{"$f":"ROUND(Y511*Source!I227,7)","v":0},641.70000000000005,641.70000000000005,1,385.02,487.07,"","",0,{"$f":"ROUND(ROUND(AF511,2)*CX511,2)","v":0},0,0,0,1,"4-100-040",4,"чел.-ч.",1]
[{"$f":"ROW(Source!A227)","v":227},85312298,85316361,77432062,1,1,1,2,"91.17.04-161","ФСЭМ-2022, 91.17.04-161, приказ Минстроя России от 18.05.2022 г. № 378/пр","Аппарат сварочный для полуавтоматической сварки, сварочный ток до 500 А, в комплекте с механизмом подачи проволоки",1368,null,1011,"маш.-ч","маш.-ч",1,null,null,null,null,null,0,-589932474,72.3,null,0,103.08,0,0,0,103.08,0,0,1,1,1,1,-2,0,0,1,1,0,"",72.3,"",1,2,85316381,1,0,512,1,0,0,0,0,0,0,0,0,7452.6839999999993,0,0,0,0,1,0,7452.6839999999993,0,0,0,0,1,null,null,null,null,null,null,null,null,null,null,null,null,null,null,null,null,null,null,null,null,null,null,null,null,0,{"$f":"ROUND(Y512*Source!I227*DO512,7)","v":0},{"$f":"ROUND(Y512*Source!I227,7)","v":0},103.08,103.08,1,7452.68,0,"","",0,{"$f":"ROUND(ROUND(AF512,2)*CX512,2)","v":0},0,0,0,1,"",0,"",0]
[{"$f":"ROW(Source!A227)","v":227},85312298,85316361,77432634,1,1,1,2,"91.21.22-491","ФСЭМ-2022, 91.21.22-491, приказ Минстроя России от 18.05.2022 г. № 378/пр","Шиногибы гидравлические универсальные",1368,null,1011,"маш.-ч","маш.-ч",1,null,null,null,null,null,0,1781070667,6.12,null,0,31.84,811.79,0,0,26.76,811.79,0,1,1.19,1,1,2,0,0,1,1,0,"",6.12,"",1,2,85316382,2,65536,513,1,0,0,0,0,0,0,0,0,163.77120000000002,4968.1548000000003,0,0,6.12,1,0,163.77120000000002,4968.1548000000003,0,0,6.12,1,null,null,null,null,null,null,null,null,null,null,null,null,null,null,null,null,null,null,null,null,null,null,null,null,0,{"$f":"ROUND(Y513*Source!I227*DO513,7)","v":0},{"$f":"ROUND(Y513*Source!I227,7)","v":0},31.84,26.76,1.19,163.77000000000001,4968.1499999999996,"","",0,{"$f":"ROUND(ROUND(AF513*AJ513,2)*CX513,2)","v":0},{"$f":"ROUND(ROUND(AG513,2)*CX513,2)","v":0},{"$f":"ROUND(ROUND(AH513,2)*CX513,2)","v":0},0,0,"4-100-040",4,"чел.-ч.",1]
[{"$f":"ROW(Source!A227)","v":227},85312298,85316361,77375932,1,1,1,3,"01.3.02.02-0001","ФСБЦ-2022 доп.3, 01.3.02.02-0001, приказ Минстроя России от 26.10.2022 г. № 905/пр","Аргон газообразный, сорт I",1339,null,1007,"м3","м3",1,null,null,null,null,null,0,379320714,{"$f":"AT514","v":1.5},null,342.85,0,0,0,253.96,0,0,0,1.35,1,1,1,2,0,0,1,1,0,"",1.5,"",0,2,85316383,1,0,514,1,0,0,0,0,0,0,0,380.94,0,0,0,0,0,1,380.94,0,0,0,0,0,1,null,null,null,null,null,null,null,null,null,null,null,null,null,null,null,null,null,null,null,null,null,null,null,null,0,0,{"$f":"ROUND(Y514*Source!I227,7)","v":0},{"$f":"AA514","v":342.85},{"$f":"AE514","v":253.96},{"$f":"AI514","v":1.35},{"$f":"ROUND(ROUND(AT514*CZ514,2),2)","v":380.94},{"$f":"ROUND(ROUND(AT514*AG514,2),2)","v":0},"","",{"$f":"ROUND(ROUND(AE514*AI514,2)*CX514,2)","v":0},{"$f":"ROUND(ROUND(AF514,2)*CX514,2)","v":0},0,0,{"$f":"DF514","v":0},0,"",0,"",0]
[{"$f":"ROW(Source!A227)","v":227},85312298,85316361,77378830,1,1,1,3,"01.7.11.07-0227","ФСБЦ-2022, 01.7.11.07-0227, приказ Минстроя России от 18.05.2022 г. № 378/пр","Электроды сварочные для сварки низколегированных и углеродистых сталей УОНИ 13/45, Э42А, диаметр 4-5 мм",1346,null,1009,"кг","кг",1,null,null,null,null,null,0,212334824,4,null,121.39,0,0,0,155.63,0,0,0,0.78,1,1,1,2,0,0,1,1,0,"",4,"",0,2,85316384,1,0,515,1,0,0,0,0,0,0,0,622.52,0,0,0,0,0,1,622.52,0,0,0,0,0,1,null,null,null,null,null,null,null,null,null,null,null,null,null,null,null,null,null,null,null,null,null,null,null,null,0,0,{"$f":"ROUND(Y515*Source!I227,7)","v":0},{"$f":"AA515","v":121.39},{"$f":"AE515","v":155.63},{"$f":"AI515","v":0.78},622.52,0,"","",{"$f":"ROUND(ROUND(AE515*AI515,2)*CX515,2)","v":0},0,0,0,{"$f":"DF515","v":0},0,"",0,"",0]
[{"$f":"ROW(Source!A227)","v":227},85312298,85316361,77388702,1,1,1,3,"10.1.02.04-0001","ФСБЦ-2022 доп.9, 10.1.02.04-0001, приказ Минстроя России от 16.02.2024 г. № 102/пр","Прутки круглого сечения из алюминиевых сплавов марок АД0, АД1, АД, АД31, АД33, АД35, АВ, диаметр 5,0 мм",1348,null,1009,"т","т",1000,null,null,null,null,null,0,19259809,2.5300000000000001E-3,null,384129.8,0,0,0,590968.93000000005,0,0,0,0.65,1,1,1,2,0,0,1,1,0,"",2.5300000000000001E-3,"",0,2,85316385,1,0,516,1,0,0,0,0,0,0,0,1495.1513929000002,0,0,0,0,0,1,1495.1513929000002,0,0,0,0,0,1,null,null,null,null,null,null,null,null,null,null,null,null,null,null,null,null,null,null,null,null,null,null,null,null,0,0,{"$f":"ROUND(Y516*Source!I227,7)","v":0},{"$f":"AA516","v":384129.8},{"$f":"AE516","v":590968.93000000005},{"$f":"AI516","v":0.65},1495.15,0,"","",{"$f":"ROUND(ROUND(AE516*AI516,2)*CX516,2)","v":0},0,0,0,{"$f":"DF516","v":0},0,"",0,"",0]
[{"$f":"ROW(Source!A227)","v":227},85312298,85316361,77397226,1,1,1,3,"14.4.02.04-0142","ФСБЦ-2022, 14.4.02.04-0142, приказ Минстроя России от 18.05.2022 г. № 378/пр","Краска масляная МА-0115, мумия, сурик железный",1346,null,1009,"кг","кг",1,null,null,null,null,null,0,790403873,14.9,null,115.03,0,0,0,79.88,0,0,0,1.44,1,1,1,2,0,0,1,1,0,"",14.9,"",0,2,85316386,1,0,517,1,0,0,0,0,0,0,0,1190.212,0,0,0,0,0,1,1190.212,0,0,0,0,0,1,null,null,null,null,null,null,null,null,null,null,null,null,null,null,null,null,null,null,null,null,null,null,null,null,0,0,{"$f":"ROUND(Y517*Source!I227,7)","v":0},{"$f":"AA517","v":115.03},{"$f":"AE517","v":79.88},{"$f":"AI517","v":1.44},1190.21,0,"","",{"$f":"ROUND(ROUND(AE517*AI517,2)*CX517,2)","v":0},0,0,0,{"$f":"DF517","v":0},0,"",0,"",0]
[{"$f":"ROW(Source!A227)","v":227},85312298,85316361,77312233,114,1,1,3,"421/пр_2020_п.75_пп.а","","Сметная стоимость вспомогательных ненормируемых материальных ресурсов, не учтенная в сметной норме, 2%",3277935,null,1013,"%","%",1,null,null,null,null,null,0,274903907,2,null,0,0,0,0,0,0,0,0,1,1,1,1,-2,0,0,0,0,0,"",2,"",0,2,85316387,1,0,518,0,0,0,0,0,0,0,0,0,0,0,0,0,0,0,0,0,0,0,0,0,0,null,null,null,null,null,null,null,null,null,null,null,null,null,null,null,null,null,null,null,null,null,null,null,null,0,0,{"$f":"ROUND(Y518*Source!I227,7)","v":0},{"$f":"AA518","v":0},{"$f":"AE518","v":0},{"$f":"AI518","v":1},0,0,"","",{"$f":"ROUND(ROUND(AE518,2)*CX518,2)","v":0},0,0,0,{"$f":"DF518","v":0},0,"",0,"",0]
[{"$f":"ROW(Source!A231)","v":231},85312357,85316390,77306382,114,1,1,1,"1-100-43","","Средний разряд работы 4,3",1191,null,1013,"чел.-ч.","чел.-ч.",1,null,null,null,null,null,0,-50752015,7.42,null,0,0,0,848.13,0,0,0,848.13,1,1,1,1,-2,0,0,1,1,0,"",7.42,"",1,2,85316406,2,131072,519,1,0,0,0,0,0,0,0,0,0,0,6293.1246000000001,7.42,0,1,0,0,0,6293.1246000000001,7.42,0,1,null,null,null,null,null,null,null,null,null,null,null,null,null,null,null,null,null,null,null,null,null,null,null,{"$f":"ROUND(AT519*Source!I231*AH519*AL519,2)","v":0},{"$f":"ROUND(Y519*Source!I231,7)","v":0},0,{"$f":"ROUND(Y519*Source!I231,7)","v":0},{"$f":"AD519","v":848.13},{"$f":"AH519","v":848.13},{"$f":"AL519","v":1},6293.12,0,"","",{"$f":"ROUND(ROUND(AE519,2)*CX519,2)","v":0},0,0,0,{"$f":"DI519","v":0},1,"",0,"",0]
[{"$f":"ROW(Source!A231)","v":231},85312357,85316390,77306545,114,1,1,1,"4-100-00","","Затраты труда машинистов",1191,null,1013,"чел.-ч.","чел.-ч.",1,null,null,null,null,null,0,-1417349443,1.02,null,0,0,0,0,0,0,0,0,1,1,1,1,-2,0,0,1,1,0,"",1.02,"",2,2,85316407,1,0,520,1,0,0,0,0,0,0,0,0,0,0,0,0,0,0,0,0,0,0,0,0,0,null,null,null,null,null,null,null,null,null,null,null,null,null,null,null,null,null,null,null,null,null,null,null,null,0,0,{"$f":"ROUND(Y520*Source!I231,7)","v":0},{"$f":"AD520","v":0},{"$f":"AH520","v":0},{"$f":"AL520","v":1},0,0,"","",{"$f":"ROUND(ROUND(AE520,2)*CX520,2)","v":0},0,0,0,{"$f":"DI520","v":0},0,"",0,"",0]
[{"$f":"ROW(Source!A231)","v":231},85312357,85316390,77430988,1,1,1,2,"91.05.05-015","ФСЭМ-2022, 91.05.05-015, приказ Минстроя России от 18.05.2022 г. № 378/пр","Краны на автомобильном ходу, грузоподъемность 16 т",1368,null,1011,"маш.-ч","маш.-ч",1,null,null,null,null,null,0,-468861091,0.61,null,0,1626.29,1090.46,0,0,1626.29,1090.46,0,1,1,1,1,-2,0,0,1,1,0,"",0.61,"",1,2,85316408,1,0,521,1,0,0,0,0,0,0,0,0,992.03689999999995,665.18060000000003,0,0,0.61,1,0,992.03689999999995,665.18060000000003,0,0,0.61,1,null,null,null,null,null,null,null,null,null,null,null,null,null,null,null,null,null,null,null,null,null,null,null,null,0,{"$f":"ROUND(Y521*Source!I231*DO521,7)","v":0},{"$f":"ROUND(Y521*Source!I231,7)","v":0},{"$f":"AB521","v":1626.29},{"$f":"AF521","v":1626.29},{"$f":"AJ521","v":1},992.04,665.18,"","",{"$f":"ROUND(ROUND(AE521,2)*CX521,2)","v":0},0,0,0,{"$f":"DG521+DH521","v":0},1,"4-100-060",6,"чел.-ч.",1]
[{"$f":"ROW(Source!A231)","v":231},85312357,85316390,77431879,1,1,1,2,"91.14.02-001","ФСЭМ-2022 доп.7, 91.14.02-001, приказ Минстроя России от 02.08.2023 г. № 551/пр","Автомобили бортовые, грузоподъемность до 5 т",1368,null,1011,"маш.-ч","маш.-ч",1,null,null,null,null,null,0,-1152394969,0.41,null,0,641.70000000000005,811.79,0,0,641.70000000000005,811.79,0,1,1,1,1,-2,0,0,1,1,0,"",0.41,"",1,2,85316409,1,0,522,1,0,0,0,0,0,0,0,0,263.09699999999998,332.83389999999997,0,0,0.41,1,0,263.09699999999998,332.83389999999997,0,0,0.41,1,null,null,null,null,null,null,null,null,null,null,null,null,null,null,null,null,null,null,null,null,null,null,null,null,0,{"$f":"ROUND(Y522*Source!I231*DO522,7)","v":0},{"$f":"ROUND(Y522*Source!I231,7)","v":0},{"$f":"AB522","v":641.70000000000005},{"$f":"AF522","v":641.70000000000005},{"$f":"AJ522","v":1},263.10000000000002,332.83,"","",{"$f":"ROUND(ROUND(AE522,2)*CX522,2)","v":0},0,0,0,{"$f":"DG522+DH522","v":0},1,"4-100-040",4,"чел.-ч.",1]
[{"$f":"ROW(Source!A231)","v":231},85312357,85316390,77375900,1,1,1,3,"01.3.01.06-0038","ФСБЦ-2022, 01.3.01.06-0038, приказ Минстроя России от 18.05.2022 г. № 378/пр","Смазка защитная электросетевая",1346,null,1009,"кг","кг",1,null,null,null,null,null,0,-1628490559,0.01,null,381.26,0,0,0,238.29,0,0,0,1.6,1,1,1,2,0,0,1,1,0,"",0.01,"",0,2,85316410,1,0,523,1,0,0,0,0,0,0,0,2.3828999999999998,0,0,0,0,0,1,2.3828999999999998,0,0,0,0,0,1,null,null,null,null,null,null,null,null,null,null,null,null,null,null,null,null,null,null,null,null,null,null,null,null,0,0,{"$f":"ROUND(Y523*Source!I231,7)","v":0},{"$f":"AA523","v":381.26},{"$f":"AE523","v":238.29},{"$f":"AI523","v":1.6},2.38,0,"","",{"$f":"ROUND(ROUND(AE523*AI523,2)*CX523,2)","v":0},0,0,0,{"$f":"DF523","v":0},0,"",0,"",0]
[{"$f":"ROW(Source!A231)","v":231},85312357,85316390,77375907,1,1,1,3,"01.3.01.06-0051","ФСБЦ-2022 доп.12, 01.3.01.06-0051, приказ Минстроя России от 07.11.2024 г. № 747/пр","Смазка солидол жировой Ж",1346,null,1009,"кг","кг",1,null,null,null,null,null,0,-479354107,0.03,null,93.65,0,0,0,58.53,0,0,0,1.6,1,1,1,2,0,0,1,1,0,"",0.03,"",0,2,85316411,1,0,524,1,0,0,0,0,0,0,0,1.7559,0,0,0,0,0,1,1.7559,0,0,0,0,0,1,null,null,null,null,null,null,null,null,null,null,null,null,null,null,null,null,null,null,null,null,null,null,null,null,0,0,{"$f":"ROUND(Y524*Source!I231,7)","v":0},93.65,58.53,1.6,1.76,0,"","",{"$f":"ROUND(ROUND(AE524*AI524,2)*CX524,2)","v":0},0,0,0,0,0,"",0,"",0]
[{"$f":"ROW(Source!A231)","v":231},85312357,85316390,77379558,1,1,1,3,"01.7.15.03-0042","ФСБЦ-2022, 01.7.15.03-0042, приказ Минстроя России от 18.05.2022 г. № 378/пр","Болты с гайками и шайбами строительные",1346,null,1009,"кг","кг",1,null,null,null,null,null,0,1181962216,0,null,188.92,0,0,0,174.93,0,0,0,1.08,1,1,1,2,1,0,1,0,0,"",0,"",0,2,85316412,1,0,525,0,0,0,0,0,0,0,0,0,0,0,0,0,0,0,0,0,0,0,0,0,0,null,null,null,null,null,null,null,null,null,null,null,null,null,null,null,null,null,null,null,null,null,null,null,null,0,0,{"$f":"ROUND(Y525*Source!I231,7)","v":0},188.92,174.93,1.08,0,0,"","",{"$f":"ROUND(ROUND(AE525*AI525,2)*CX525,2)","v":0},0,0,0,0,0,"",0,"",0]
[{"$f":"ROW(Source!A231)","v":231},85312357,85316390,77380691,1,1,1,3,"01.7.20.08-0051","ФСБЦ-2022 доп.8, 01.7.20.08-0051, приказ Минстроя России от 14.11.2023 г. № 817/пр","Ветошь хлопчатобумажная цветная",1346,null,1009,"кг","кг",1,null,null,null,null,null,0,-130701290,0.02,null,86.41,0,0,0,56.11,0,0,0,1.54,1,1,1,2,0,0,1,1,0,"",0.02,"",0,2,85316413,1,0,526,1,0,0,0,0,0,0,0,1.1222000000000001,0,0,0,0,0,1,1.1222000000000001,0,0,0,0,0,1,null,null,null,null,null,null,null,null,null,null,null,null,null,null,null,null,null,null,null,null,null,null,null,null,0,0,{"$f":"ROUND(Y526*Source!I231,7)","v":0},86.41,56.11,1.54,1.1200000000000001,0,"","",{"$f":"ROUND(ROUND(AE526*AI526,2)*CX526,2)","v":0},0,0,0,0,0,"",0,"",0]
[{"$f":"ROW(Source!A231)","v":231},85312357,85316390,77308705,114,1,1,3,"07.2.07.13","","Хомуты стальные",1346,null,1009,"кг","кг",1,null,null,null,null,null,0,-1111733769,0,null,0,0,0,0,0,0,0,0,1,1,1,1,-2,1,0,1,0,0,"",0,"",0,2,85316414,1,0,527,0,0,0,0,0,0,0,0,0,0,0,0,0,0,0,0,0,0,0,0,0,0,null,null,null,null,null,null,null,null,null,null,null,null,null,null,null,null,null,null,null,null,null,null,null,null,0,0,{"$f":"ROUND(Y527*Source!I231,7)","v":0},0,0,1,0,0,"","",{"$f":"ROUND(ROUND(AE527,2)*CX527,2)","v":0},0,0,0,0,0,"",0,"",0]
[{"$f":"ROW(Source!A231)","v":231},85312357,85316390,77309038,114,1,1,3,"08.3.04.02","","Сталь стержневая диаметром до 10 мм",1348,null,1009,"т","т",1000,null,null,null,null,null,0,1613753229,0,null,0,0,0,0,0,0,0,0,1,1,1,1,-2,1,0,1,0,0,"",0,"",0,2,85316415,1,0,528,0,0,0,0,0,0,0,0,0,0,0,0,0,0,0,0,0,0,0,0,0,0,null,null,null,null,null,null,null,null,null,null,null,null,null,null,null,null,null,null,null,null,null,null,null,null,0,0,{"$f":"ROUND(Y528*Source!I231,7)","v":0},0,0,1,0,0,"","",{"$f":"ROUND(ROUND(AE528,2)*CX528,2)","v":0},0,0,0,0,0,"",0,"",0]
[{"$f":"ROW(Source!A231)","v":231},85312357,85316390,77397258,1,1,1,3,"14.4.03.03-0102","ФСБЦ-2022 доп.4, 14.4.03.03-0102, приказ Минстроя России от 27.12.2022 г. № 1133/пр","Лак битумный БТ-577",1348,null,1009,"т","т",1000,null,null,null,null,null,0,1215516986,1E-4,null,103227.06,0,0,0,80020.98,0,0,0,1.29,1,1,1,2,0,0,1,1,0,"",1E-4,"",0,2,85316416,1,0,529,1,0,0,0,0,0,0,0,8.0020980000000002,0,0,0,0,0,1,8.0020980000000002,0,0,0,0,0,1,null,null,null,null,null,null,null,null,null,null,null,null,null,null,null,null,null,null,null,null,null,null,null,null,0,0,{"$f":"ROUND(Y529*Source!I231,7)","v":0},103227.06,80020.98,1.29,8,0,"","",{"$f":"ROUND(ROUND(AE529*AI529,2)*CX529,2)","v":0},0,0,0,0,0,"",0,"",0]
[{"$f":"ROW(Source!A231)","v":231},85312357,85316390,77397652,1,1,1,3,"14.5.09.11-0102","ФСБЦ-2022, 14.5.09.11-0102, приказ Минстроя России от 18.05.2022 г. № 378/пр","Уайт-спирит",1346,null,1009,"кг","кг",1,null,null,null,null,null,0,-105256092,0.12,null,86.66,0,0,0,60.6,0,0,0,1.43,1,1,1,2,0,0,1,1,0,"",0.12,"",0,2,85316417,1,0,530,1,0,0,0,0,0,0,0,7.2720000000000002,0,0,0,0,0,1,7.2720000000000002,0,0,0,0,0,1,null,null,null,null,null,null,null,null,null,null,null,null,null,null,null,null,null,null,null,null,null,null,null,null,0,0,{"$f":"ROUND(Y530*Source!I231,7)","v":0},86.66,60.6,1.43,7.27,0,"","",{"$f":"ROUND(ROUND(AE530*AI530,2)*CX530,2)","v":0},0,0,0,0,0,"",0,"",0]
[{"$f":"ROW(Source!A231)","v":231},85312357,85316390,77311290,114,1,1,3,"21.2.01.02","","Провода неизолированные для воздушных линий электропередач",1348,null,1009,"т","т",1000,null,null,null,null,null,0,-2074906300,0,null,0,0,0,0,0,0,0,0,1,1,1,1,-2,1,0,1,0,0,"",0,"",0,2,85316418,1,0,531,0,0,0,0,0,0,0,0,0,0,0,0,0,0,0,0,0,0,0,0,0,0,null,null,null,null,null,null,null,null,null,null,null,null,null,null,null,null,null,null,null,null,null,null,null,null,0,0,{"$f":"ROUND(Y531*Source!I231,7)","v":0},0,0,1,0,0,"","",{"$f":"ROUND(ROUND(AE531,2)*CX531,2)","v":0},0,0,0,0,0,"",0,"",0]
[{"$f":"ROW(Source!A231)","v":231},85312357,85316390,77311321,114,1,1,3,"22.2.01.04","","Изоляторы линейные штыревые фарфоровые",1371,null,1013,"ШТ","ШТ",1,null,null,null,null,null,0,1740798612,0,null,0,0,0,0,0,0,0,0,1,1,1,1,-2,1,0,1,0,0,"",0,"",0,2,85316419,1,0,532,0,0,0,0,0,0,0,0,0,0,0,0,0,0,0,0,0,0,0,0,0,0,null,null,null,null,null,null,null,null,null,null,null,null,null,null,null,null,null,null,null,null,null,null,null,null,0,0,{"$f":"ROUND(Y532*Source!I231,7)","v":0},0,0,1,0,0,"","",0,0,0,0,0,0,"",0,"",0]
[{"$f":"ROW(Source!A231)","v":231},85312357,85316390,77311330,114,1,1,3,"22.2.02.03","","Детали крепления стальные",1346,null,1009,"кг","кг",1,null,null,null,null,null,0,1533393836,0,null,0,0,0,0,0,0,0,0,1,1,1,1,-2,1,0,1,0,0,"",0,"",0,2,85316420,1,0,533,0,0,0,0,0,0,0,0,0,0,0,0,0,0,0,0,0,0,0,0,0,0,null,null,null,null,null,null,null,null,null,null,null,null,null,null,null,null,null,null,null,null,null,null,null,null,0,0,{"$f":"ROUND(Y533*Source!I231,7)","v":0},0,0,1,0,0,"","",0,0,0,0,0,0,"",0,"",0]
[{"$f":"ROW(Source!A232)","v":232},85312298,85316390,77306382,114,1,1,1,"1-100-43","","Средний разряд работы 4,3",1191,null,1013,"чел.-ч.","чел.-ч.",1,null,null,null,null,null,0,-50752015,7.42,null,0,0,0,848.13,0,0,0,848.13,1,1,1,1,-2,0,0,1,1,0,"",7.42,"",1,2,85316406,2,131072,534,1,0,0,0,0,0,0,0,0,0,0,6293.1246000000001,7.42,0,1,0,0,0,6293.1246000000001,7.42,0,1,null,null,null,null,null,null,null,null,null,null,null,null,null,null,null,null,null,null,null,null,null,null,null,{"$f":"ROUND(AT534*Source!I232*AH534*AL534,2)","v":0},{"$f":"ROUND(Y534*Source!I232,7)","v":0},0,{"$f":"ROUND(Y534*Source!I232,7)","v":0},{"$f":"AD534","v":848.13},{"$f":"AH534","v":848.13},{"$f":"AL534","v":1},6293.12,0,"","",0,0,0,0,{"$f":"DI534","v":0},1,"",0,"",0]
[{"$f":"ROW(Source!A232)","v":232},85312298,85316390,77306545,114,1,1,1,"4-100-00","","Затраты труда машинистов",1191,null,1013,"чел.-ч.","чел.-ч.",1,null,null,null,null,null,0,-1417349443,1.02,null,0,0,0,0,0,0,0,0,1,1,1,1,-2,0,0,1,1,0,"",1.02,"",2,2,85316407,1,0,535,1,0,0,0,0,0,0,0,0,0,0,0,0,0,0,0,0,0,0,0,0,0,null,null,null,null,null,null,null,null,null,null,null,null,null,null,null,null,null,null,null,null,null,null,null,null,0,0,{"$f":"ROUND(Y535*Source!I232,7)","v":0},{"$f":"AD535","v":0},{"$f":"AH535","v":0},{"$f":"AL535","v":1},0,0,"","",0,0,0,0,{"$f":"DI535","v":0},0,"",0,"",0]
[{"$f":"ROW(Source!A232)","v":232},85312298,85316390,77430988,1,1,1,2,"91.05.05-015","ФСЭМ-2022, 91.05.05-015, приказ Минстроя России от 18.05.2022 г. № 378/пр","Краны на автомобильном ходу, грузоподъемность 16 т",1368,null,1011,"маш.-ч","маш.-ч",1,null,null,null,null,null,0,-468861091,0.61,null,0,1626.29,1090.46,0,0,1626.29,1090.46,0,1,1,1,1,-2,0,0,1,1,0,"",0.61,"",1,2,85316408,1,0,536,1,0,0,0,0,0,0,0,0,992.03689999999995,665.18060000000003,0,0,0.61,1,0,992.03689999999995,665.18060000000003,0,0,0.61,1,null,null,null,null,null,null,null,null,null,null,null,null,null,null,null,null,null,null,null,null,null,null,null,null,0,{"$f":"ROUND(Y536*Source!I232*DO536,7)","v":0},{"$f":"ROUND(Y536*Source!I232,7)","v":0},{"$f":"AB536","v":1626.29},{"$f":"AF536","v":1626.29},{"$f":"AJ536","v":1},992.04,665.18,"","",0,0,0,0,{"$f":"DG536+DH536","v":0},1,"4-100-060",6,"чел.-ч.",1]
[{"$f":"ROW(Source!A232)","v":232},85312298,85316390,77431879,1,1,1,2,"91.14.02-001","ФСЭМ-2022 доп.7, 91.14.02-001, приказ Минстроя России от 02.08.2023 г. № 551/пр","Автомобили бортовые, грузоподъемность до 5 т",1368,null,1011,"маш.-ч","маш.-ч",1,null,null,null,null,null,0,-1152394969,0.41,null,0,641.70000000000005,811.79,0,0,641.70000000000005,811.79,0,1,1,1,1,-2,0,0,1,1,0,"",0.41,"",1,2,85316409,1,0,537,1,0,0,0,0,0,0,0,0,263.09699999999998,332.83389999999997,0,0,0.41,1,0,263.09699999999998,332.83389999999997,0,0,0.41,1,null,null,null,null,null,null,null,null,null,null,null,null,null,null,null,null,null,null,null,null,null,null,null,null,0,{"$f":"ROUND(Y537*Source!I232*DO537,7)","v":0},{"$f":"ROUND(Y537*Source!I232,7)","v":0},{"$f":"AB537","v":641.70000000000005},{"$f":"AF537","v":641.70000000000005},{"$f":"AJ537","v":1},263.10000000000002,332.83,"","",0,0,0,0,{"$f":"DG537+DH537","v":0},1,"4-100-040",4,"чел.-ч.",1]
[{"$f":"ROW(Source!A232)","v":232},85312298,85316390,77375900,1,1,1,3,"01.3.01.06-0038","ФСБЦ-2022, 01.3.01.06-0038, приказ Минстроя России от 18.05.2022 г. № 378/пр","Смазка защитная электросетевая",1346,null,1009,"кг","кг",1,null,null,null,null,null,0,-1628490559,0.01,null,381.26,0,0,0,238.29,0,0,0,1.6,1,1,1,2,0,0,1,1,0,"",0.01,"",0,2,85316410,1,0,538,1,0,0,0,0,0,0,0,2.3828999999999998,0,0,0,0,0,1,2.3828999999999998,0,0,0,0,0,1,null,null,null,null,null,null,null,null,null,null,null,null,null,null,null,null,null,null,null,null,null,null,null,null,0,0,{"$f":"ROUND(Y538*Source!I232,7)","v":0},{"$f":"AA538","v":381.26},{"$f":"AE538","v":238.29},{"$f":"AI538","v":1.6},2.38,0,"","",{"$f":"ROUND(ROUND(AE538*AI538,2)*CX538,2)","v":0},0,0,0,{"$f":"DF538","v":0},0,"",0,"",0]
[{"$f":"ROW(Source!A232)","v":232},85312298,85316390,77375907,1,1,1,3,"01.3.01.06-0051","ФСБЦ-2022 доп.12, 01.3.01.06-0051, приказ Минстроя России от 07.11.2024 г. № 747/пр","Смазка солидол жировой Ж",1346,null,1009,"кг","кг",1,null,null,null,null,null,0,-479354107,0.03,null,93.65,0,0,0,58.53,0,0,0,1.6,1,1,1,2,0,0,1,1,0,"",0.03,"",0,2,85316411,1,0,539,1,0,0,0,0,0,0,0,1.7559,0,0,0,0,0,1,1.7559,0,0,0,0,0,1,null,null,null,null,null,null,null,null,null,null,null,null,null,null,null,null,null,null,null,null,null,null,null,null,0,0,{"$f":"ROUND(Y539*Source!I232,7)","v":0},93.65,58.53,1.6,1.76,0,"","",{"$f":"ROUND(ROUND(AE539*AI539,2)*CX539,2)","v":0},0,0,0,0,0,"",0,"",0]
[{"$f":"ROW(Source!A232)","v":232},85312298,85316390,77379558,1,1,1,3,"01.7.15.03-0042","ФСБЦ-2022, 01.7.15.03-0042, приказ Минстроя России от 18.05.2022 г. № 378/пр","Болты с гайками и шайбами строительные",1346,null,1009,"кг","кг",1,null,null,null,null,null,0,1181962216,0,null,188.92,0,0,0,174.93,0,0,0,1.08,1,1,1,2,1,0,1,0,0,"",0,"",0,2,85316412,1,0,540,0,0,0,0,0,0,0,0,0,0,0,0,0,0,0,0,0,0,0,0,0,0,null,null,null,null,null,null,null,null,null,null,null,null,null,null,null,null,null,null,null,null,null,null,null,null,0,0,{"$f":"ROUND(Y540*Source!I232,7)","v":0},188.92,174.93,1.08,0,0,"","",{"$f":"ROUND(ROUND(AE540*AI540,2)*CX540,2)","v":0},0,0,0,0,0,"",0,"",0]
[{"$f":"ROW(Source!A232)","v":232},85312298,85316390,77380691,1,1,1,3,"01.7.20.08-0051","ФСБЦ-2022 доп.8, 01.7.20.08-0051, приказ Минстроя России от 14.11.2023 г. № 817/пр","Ветошь хлопчатобумажная цветная",1346,null,1009,"кг","кг",1,null,null,null,null,null,0,-130701290,0.02,null,86.41,0,0,0,56.11,0,0,0,1.54,1,1,1,2,0,0,1,1,0,"",0.02,"",0,2,85316413,1,0,541,1,0,0,0,0,0,0,0,1.1222000000000001,0,0,0,0,0,1,1.1222000000000001,0,0,0,0,0,1,null,null,null,null,null,null,null,null,null,null,null,null,null,null,null,null,null,null,null,null,null,null,null,null,0,0,{"$f":"ROUND(Y541*Source!I232,7)","v":0},86.41,56.11,1.54,1.1200000000000001,0,"","",{"$f":"ROUND(ROUND(AE541*AI541,2)*CX541,2)","v":0},0,0,0,0,0,"",0,"",0]
[{"$f":"ROW(Source!A232)","v":232},85312298,85316390,77308705,114,1,1,3,"07.2.07.13","","Хомуты стальные",1346,null,1009,"кг","кг",1,null,null,null,null,null,0,-1111733769,0,null,0,0,0,0,0,0,0,0,1,1,1,1,-2,1,0,1,0,0,"",0,"",0,2,85316414,1,0,542,0,0,0,0,0,0,0,0,0,0,0,0,0,0,0,0,0,0,0,0,0,0,null,null,null,null,null,null,null,null,null,null,null,null,null,null,null,null,null,null,null,null,null,null,null,null,0,0,{"$f":"ROUND(Y542*Source!I232,7)","v":0},0,0,1,0,0,"","",{"$f":"ROUND(ROUND(AE542,2)*CX542,2)","v":0},0,0,0,0,0,"",0,"",0]
[{"$f":"ROW(Source!A232)","v":232},85312298,85316390,77309038,114,1,1,3,"08.3.04.02","","Сталь стержневая диаметром до 10 мм",1348,null,1009,"т","т",1000,null,null,null,null,null,0,1613753229,0,null,0,0,0,0,0,0,0,0,1,1,1,1,-2,1,0,1,0,0,"",0,"",0,2,85316415,1,0,543,0,0,0,0,0,0,0,0,0,0,0,0,0,0,0,0,0,0,0,0,0,0,null,null,null,null,null,null,null,null,null,null,null,null,null,null,null,null,null,null,null,null,null,null,null,null,0,0,{"$f":"ROUND(Y543*Source!I232,7)","v":0},0,0,1,0,0,"","",{"$f":"ROUND(ROUND(AE543,2)*CX543,2)","v":0},0,0,0,0,0,"",0,"",0]
[{"$f":"ROW(Source!A232)","v":232},85312298,85316390,77397258,1,1,1,3,"14.4.03.03-0102","ФСБЦ-2022 доп.4, 14.4.03.03-0102, приказ Минстроя России от 27.12.2022 г. № 1133/пр","Лак битумный БТ-577",1348,null,1009,"т","т",1000,null,null,null,null,null,0,1215516986,1E-4,null,103227.06,0,0,0,80020.98,0,0,0,1.29,1,1,1,2,0,0,1,1,0,"",1E-4,"",0,2,85316416,1,0,544,1,0,0,0,0,0,0,0,8.0020980000000002,0,0,0,0,0,1,8.0020980000000002,0,0,0,0,0,1,null,null,null,null,null,null,null,null,null,null,null,null,null,null,null,null,null,null,null,null,null,null,null,null,0,0,{"$f":"ROUND(Y544*Source!I232,7)","v":0},103227.06,80020.98,1.29,8,0,"","",{"$f":"ROUND(ROUND(AE544*AI544,2)*CX544,2)","v":0},0,0,0,0,0,"",0,"",0]
[{"$f":"ROW(Source!A232)","v":232},85312298,85316390,77397652,1,1,1,3,"14.5.09.11-0102","ФСБЦ-2022, 14.5.09.11-0102, приказ Минстроя России от 18.05.2022 г. № 378/пр","Уайт-спирит",1346,null,1009,"кг","кг",1,null,null,null,null,null,0,-105256092,0.12,null,86.66,0,0,0,60.6,0,0,0,1.43,1,1,1,2,0,0,1,1,0,"",0.12,"",0,2,85316417,1,0,545,1,0,0,0,0,0,0,0,7.2720000000000002,0,0,0,0,0,1,7.2720000000000002,0,0,0,0,0,1,null,null,null,null,null,null,null,null,null,null,null,null,null,null,null,null,null,null,null,null,null,null,null,null,0,0,{"$f":"ROUND(Y545*Source!I232,7)","v":0},86.66,60.6,1.43,7.27,0,"","",{"$f":"ROUND(ROUND(AE545*AI545,2)*CX545,2)","v":0},0,0,0,0,0,"",0,"",0]
[{"$f":"ROW(Source!A232)","v":232},85312298,85316390,77311290,114,1,1,3,"21.2.01.02","","Провода неизолированные для воздушных линий электропередач",1348,null,1009,"т","т",1000,null,null,null,null,null,0,-2074906300,0,null,0,0,0,0,0,0,0,0,1,1,1,1,-2,1,0,1,0,0,"",0,"",0,2,85316418,1,0,546,0,0,0,0,0,0,0,0,0,0,0,0,0,0,0,0,0,0,0,0,0,0,null,null,null,null,null,null,null,null,null,null,null,null,null,null,null,null,null,null,null,null,null,null,null,null,0,0,{"$f":"ROUND(Y546*Source!I232,7)","v":0},0,0,1,0,0,"","",{"$f":"ROUND(ROUND(AE546,2)*CX546,2)","v":0},0,0,0,0,0,"",0,"",0]
[{"$f":"ROW(Source!A232)","v":232},85312298,85316390,77311321,114,1,1,3,"22.2.01.04","","Изоляторы линейные штыревые фарфоровые",1371,null,1013,"ШТ","ШТ",1,null,null,null,null,null,0,1740798612,0,null,0,0,0,0,0,0,0,0,1,1,1,1,-2,1,0,1,0,0,"",0,"",0,2,85316419,1,0,547,0,0,0,0,0,0,0,0,0,0,0,0,0,0,0,0,0,0,0,0,0,0,null,null,null,null,null,null,null,null,null,null,null,null,null,null,null,null,null,null,null,null,null,null,null,null,0,0,{"$f":"ROUND(Y547*Source!I232,7)","v":0},0,0,1,0,0,"","",0,0,0,0,0,0,"",0,"",0]
[{"$f":"ROW(Source!A232)","v":232},85312298,85316390,77311330,114,1,1,3,"22.2.02.03","","Детали крепления стальные",1346,null,1009,"кг","кг",1,null,null,null,null,null,0,1533393836,0,null,0,0,0,0,0,0,0,0,1,1,1,1,-2,1,0,1,0,0,"",0,"",0,2,85316420,1,0,548,0,0,0,0,0,0,0,0,0,0,0,0,0,0,0,0,0,0,0,0,0,0,null,null,null,null,null,null,null,null,null,null,null,null,null,null,null,null,null,null,null,null,null,null,null,null,0,0,{"$f":"ROUND(Y548*Source!I232,7)","v":0},0,0,1,0,0,"","",0,0,0,0,0,0,"",0,"",0]
[{"$f":"ROW(Source!A246)","v":246},85312357,85316428,83777499,117,1,1,1,"1-100-32","","Средний разряд работы 3,2",1191,null,1013,"чел.-ч.","чел.-ч.",1,null,null,null,null,null,0,1958912953,{"$f":"(AT549*ROUND((0.2+1),7))","v":23.04},null,0,0,0,739.09,0,0,0,739.09,1,1,1,1,-2,0,0,1,1,0,"",19.2,"*(0,2+1)",1,2,85316439,1,0,549,1,0,0,0,0,0,0,0,0,0,0,14190.528,19.2,0,1,0,0,0,17028.633600000001,23.04,0,1,null,null,null,null,null,null,null,null,null,null,null,null,null,null,null,null,null,null,null,null,null,null,null,{"$f":"ROUND(AT549*Source!I246*AH549*AL549,2)","v":1350.94},{"$f":"ROUND(Y549*Source!I246,7)","v":2.1934079999999998},0,{"$f":"ROUND(Y549*Source!I246,7)","v":2.1934079999999998},{"$f":"AD549","v":739.09},{"$f":"AH549","v":739.09},{"$f":"AL549","v":1},{"$f":"ROUND((ROUND(AT549*CZ549,2)*ROUND((0.2+1),7)),2)","v":17028.64},{"$f":"ROUND((ROUND(AT549*AG549,2)*ROUND((0.2+1),7)),2)","v":0},"","",0,0,0,1621.13,{"$f":"DI549","v":1621.13},1,"",0,"",0]
[{"$f":"ROW(Source!A246)","v":246},85312357,85316428,83777689,117,1,1,1,"4-100-00","","Затраты труда машинистов",1191,null,1013,"чел.-ч.","чел.-ч.",1,null,null,null,null,null,0,-1417349443,{"$f":"(AT550*ROUND((0.2+1),7))","v":7.1999999999999995E-2},null,0,0,0,0,0,0,0,0,1,1,1,1,-2,0,0,1,1,0,"",0.06,"*(0,2+1)",2,2,85316440,1,0,550,1,0,0,0,0,0,0,0,0,0,0,0,0,0,0,0,0,0,0,0,0,0,null,null,null,null,null,null,null,null,null,null,null,null,null,null,null,null,null,null,null,null,null,null,null,null,0,0,{"$f":"ROUND(Y550*Source!I246,7)","v":6.8544000000000001E-3},{"$f":"AD550","v":0},{"$f":"AH550","v":0},{"$f":"AL550","v":1},{"$f":"ROUND((ROUND(AT550*CZ550,2)*ROUND((0.2+1),7)),2)","v":0},{"$f":"ROUND((ROUND(AT550*AG550,2)*ROUND((0.2+1),7)),2)","v":0},"","",0,0,0,0,{"$f":"DI550","v":0},0,"",0,"",0]
[{"$f":"ROW(Source!A246)","v":246},85312357,85316428,83784365,1,1,1,2,"91.06.06-048","ФСЭМ-2022, 91.06.06-048, приказ Минстроя России от 18.05.2022 г. № 378/пр","Подъемники одномачтовые, грузоподъемность до 500 кг, высота подъема 45 м",1368,null,1011,"маш.-ч","маш.-ч",1,null,null,null,null,null,0,945201097,{"$f":"(AT551*ROUND((0.2+1),7))","v":1.2E-2},null,0,57.85,720.91,0,0,37.32,720.91,0,1,1.55,1,1,2,0,0,1,1,0,"",0.01,"*(0,2+1)",1,2,85316441,1,0,551,1,0,0,0,0,0,0,0,0,0.37320000000000003,7.2090999999999994,0,0,0.01,1,0,0.44784000000000002,8.6509199999999993,0,0,1.2E-2,1,null,null,null,null,null,null,null,null,null,null,null,null,null,null,null,null,null,null,null,null,null,null,null,null,0,{"$f":"ROUND(Y551*Source!I246*DO551,7)","v":1.1424E-3},{"$f":"ROUND(Y551*Source!I246,7)","v":1.1424E-3},{"$f":"AB551","v":57.85},{"$f":"AF551","v":37.32},{"$f":"AJ551","v":1.55},{"$f":"ROUND((ROUND(AT551*CZ551,2)*ROUND((0.2+1),7)),2)","v":0.44},{"$f":"ROUND((ROUND(AT551*AG551,2)*ROUND((0.2+1),7)),2)","v":8.65},"","",0,{"$f":"ROUND(ROUND(AF551*AJ551,2)*CX551,2)","v":7.0000000000000007E-2},0.82,0,{"$f":"DG551+DH551","v":0.8899999999999999},0,"4-100-030",3,"чел.-ч.",1]
[{"$f":"ROW(Source!A246)","v":246},85312357,85316428,83785072,1,1,1,2,"91.14.02-001","ФСЭМ-2022 доп.7, 91.14.02-001, приказ Минстроя России от 02.08.2023 г. № 551/пр","Автомобили бортовые, грузоподъемность до 5 т",1368,null,1011,"маш.-ч","маш.-ч",1,null,null,null,null,null,0,-849950259,{"$f":"(AT552*ROUND((0.2+1),7))","v":0.06},null,0,641.70000000000005,811.79,0,0,641.70000000000005,811.79,0,1,1,1,1,-2,0,0,1,1,0,"",0.05,"*(0,2+1)",1,2,85316442,1,0,552,1,0,0,0,0,0,0,0,0,32.085000000000001,40.589500000000001,0,0,0.05,1,0,38.502000000000002,48.707399999999993,0,0,0.06,1,null,null,null,null,null,null,null,null,null,null,null,null,null,null,null,null,null,null,null,null,null,null,null,null,0,{"$f":"ROUND(Y552*Source!I246*DO552,7)","v":5.7120000000000001E-3},{"$f":"ROUND(Y552*Source!I246,7)","v":5.7120000000000001E-3},{"$f":"AB552","v":641.70000000000005},{"$f":"AF552","v":641.70000000000005},{"$f":"AJ552","v":1},{"$f":"ROUND((ROUND(AT552*CZ552,2)*ROUND((0.2+1),7)),2)","v":38.51},{"$f":"ROUND((ROUND(AT552*AG552,2)*ROUND((0.2+1),7)),2)","v":48.71},"","",0,{"$f":"ROUND(ROUND(AF552,2)*CX552,2)","v":3.67},4.6399999999999997,0,{"$f":"DG552+DH552","v":8.3099999999999987},1,"4-100-040",4,"чел.-ч.",1]
[{"$f":"ROW(Source!A246)","v":246},85312357,85316428,83852432,1,1,1,3,"01.7.10.17-0141","ФСБЦ-2022, 01.7.10.17-0141, приказ Минстроя России от 18.05.2022 г. № 378/пр","Пемза",1346,null,1009,"кг","кг",1,null,null,null,null,null,0,-2122839911,{"$f":"AT553","v":0.24},null,3310.06,0,0,0,2507.62,0,0,0,1.32,1,1,1,2,0,0,1,1,0,"",0.24,"",0,2,85316443,1,0,553,1,0,0,0,0,0,0,0,601.8288,0,0,0,0,0,1,601.8288,0,0,0,0,0,1,null,null,null,null,null,null,null,null,null,null,null,null,null,null,null,null,null,null,null,null,null,null,null,null,0,0,{"$f":"ROUND(Y553*Source!I246,7)","v":2.2848E-2},{"$f":"AA553","v":3310.06},{"$f":"AE553","v":2507.62},{"$f":"AI553","v":1.32},{"$f":"ROUND(ROUND(AT553*CZ553,2),2)","v":601.83000000000004},{"$f":"ROUND(ROUND(AT553*AG553,2),2)","v":0},"","",{"$f":"ROUND(ROUND(AE553*AI553,2)*CX553,2)","v":75.63},0,0,0,{"$f":"DF553","v":75.63},0,"",0,"",0]
[{"$f":"ROW(Source!A246)","v":246},85312357,85316428,83854120,1,1,1,3,"01.7.17.11-0011","ФСБЦ-2022, 01.7.17.11-0011, приказ Минстроя России от 18.05.2022 г. № 378/пр","Шкурка шлифовальная двухслойная с зернистостью 40-25",1327,null,1005,"м2","м2",1,null,null,null,null,null,0,10451617,0.8,null,701.5,0,0,0,531.44000000000005,0,0,0,1.32,1,1,1,2,0,0,1,1,0,"",0.8,"",0,2,85316444,1,0,554,1,0,0,0,0,0,0,0,425.15200000000004,0,0,0,0,0,1,425.15200000000004,0,0,0,0,0,1,null,null,null,null,null,null,null,null,null,null,null,null,null,null,null,null,null,null,null,null,null,null,null,null,0,0,{"$f":"ROUND(Y554*Source!I246,7)","v":7.6160000000000005E-2},701.5,531.44000000000005,1.32,425.15,0,"","",{"$f":"ROUND(ROUND(AE554*AI554,2)*CX554,2)","v":53.43},0,0,0,53.43,0,"",0,"",0]
[{"$f":"ROW(Source!A246)","v":246},85312357,85316428,83854484,1,1,1,3,"01.7.20.08-0051","ФСБЦ-2022 доп.8, 01.7.20.08-0051, приказ Минстроя России от 14.11.2023 г. № 817/пр","Ветошь хлопчатобумажная цветная",1346,null,1009,"кг","кг",1,null,null,null,null,null,0,-373327139,0.21,null,86.41,0,0,0,56.11,0,0,0,1.54,1,1,1,2,0,0,1,1,0,"",0.21,"",0,2,85316445,1,0,555,1,0,0,0,0,0,0,0,11.783099999999999,0,0,0,0,0,1,11.783099999999999,0,0,0,0,0,1,null,null,null,null,null,null,null,null,null,null,null,null,null,null,null,null,null,null,null,null,null,null,null,null,0,0,{"$f":"ROUND(Y555*Source!I246,7)","v":1.9991999999999999E-2},86.41,56.11,1.54,11.78,0,"","",{"$f":"ROUND(ROUND(AE555*AI555,2)*CX555,2)","v":1.73},0,0,0,1.73,0,"",0,"",0]
[{"$f":"ROW(Source!A246)","v":246},85312357,85316428,83781429,117,1,1,3,"14.4.02.04","","Краски для внутренних работ масляные готовые к применению",1346,null,1009,"кг","кг",1,null,null,null,null,null,0,-438754628,26.7,null,0,0,0,0,0,0,0,0,1,1,1,1,0,0,0,1,0,0,"",26.7,"",0,2,85316446,1,0,556,0,0,0,0,0,0,0,0,0,0,0,0,0,0,0,0,0,0,0,0,0,0,null,null,null,null,null,null,null,null,null,null,null,null,null,null,null,null,null,null,null,null,null,null,null,null,0,0,{"$f":"ROUND(Y556*Source!I246,7)","v":2.5418400000000001},0,0,1,0,0,"","",{"$f":"ROUND(ROUND(AE556,2)*CX556,2)","v":0},0,0,0,0,0,"",0,"",0]
[{"$f":"ROW(Source!A246)","v":246},85312357,85316428,83781533,117,1,1,3,"14.5.05.01","","Олифы комбинированные",1348,null,1009,"т","т",1000,null,null,null,null,null,0,-827349247,1.03E-2,null,0,0,0,0,0,0,0,0,1,1,1,1,0,0,0,1,0,0,"",1.03E-2,"",0,2,85316447,1,0,557,0,0,0,0,0,0,0,0,0,0,0,0,0,0,0,0,0,0,0,0,0,0,null,null,null,null,null,null,null,null,null,null,null,null,null,null,null,null,null,null,null,null,null,null,null,null,0,0,{"$f":"ROUND(Y557*Source!I246,7)","v":9.8060000000000009E-4},0,0,1,0,0,"","",{"$f":"ROUND(ROUND(AE557,2)*CX557,2)","v":0},0,0,0,0,0,"",0,"",0]
[{"$f":"ROW(Source!A246)","v":246},85312357,85316428,83870953,1,1,1,3,"14.5.11.01-0003","ФСБЦ-2022, 14.5.11.01-0003, приказ Минстроя России от 18.05.2022 г. № 378/пр","Шпатлевка масляно-клеевая",1348,null,1009,"т","т",1000,null,null,null,null,null,0,-1010729546,5.0000000000000001E-3,null,36493.18,0,0,0,24995.33,0,0,0,1.46,1,1,1,2,0,0,1,1,0,"",5.0000000000000001E-3,"",0,2,85316448,1,0,558,1,0,0,0,0,0,0,0,124.97665000000001,0,0,0,0,0,1,124.97665000000001,0,0,0,0,0,1,null,null,null,null,null,null,null,null,null,null,null,null,null,null,null,null,null,null,null,null,null,null,null,null,0,0,{"$f":"ROUND(Y558*Source!I246,7)","v":4.7600000000000002E-4},36493.18,24995.33,1.46,124.98,0,"","",{"$f":"ROUND(ROUND(AE558*AI558,2)*CX558,2)","v":17.37},0,0,0,17.37,0,"",0,"",0]
[{"$f":"ROW(Source!A247)","v":247},85312298,85316428,83777499,117,1,1,1,"1-100-32","","Средний разряд работы 3,2",1191,null,1013,"чел.-ч.","чел.-ч.",1,null,null,null,null,null,0,1958912953,{"$f":"(AT559*ROUND((0.2+1),7))","v":23.04},null,0,0,0,739.09,0,0,0,739.09,1,1,1,1,-2,0,0,1,1,0,"",19.2,"*(0,2+1)",1,2,85316439,1,0,559,1,0,0,0,0,0,0,0,0,0,0,14190.528,19.2,0,1,0,0,0,17028.633600000001,23.04,0,1,null,null,null,null,null,null,null,null,null,null,null,null,null,null,null,null,null,null,null,null,null,null,null,{"$f":"ROUND(AT559*Source!I247*AH559*AL559,2)","v":1350.94},{"$f":"ROUND(Y559*Source!I247,7)","v":2.1934079999999998},0,{"$f":"ROUND(Y559*Source!I247,7)","v":2.1934079999999998},{"$f":"AD559","v":739.09},{"$f":"AH559","v":739.09},{"$f":"AL559","v":1},{"$f":"ROUND((ROUND(AT559*CZ559,2)*ROUND((0.2+1),7)),2)","v":17028.64},{"$f":"ROUND((ROUND(AT559*AG559,2)*ROUND((0.2+1),7)),2)","v":0},"","",{"$f":"ROUND(ROUND(AE559,2)*CX559,2)","v":0},0,0,1621.13,{"$f":"DI559","v":1621.13},1,"",0,"",0]
[{"$f":"ROW(Source!A247)","v":247},85312298,85316428,83777689,117,1,1,1,"4-100-00","","Затраты труда машинистов",1191,null,1013,"чел.-ч.","чел.-ч.",1,null,null,null,null,null,0,-1417349443,{"$f":"(AT560*ROUND((0.2+1),7))","v":7.1999999999999995E-2},null,0,0,0,0,0,0,0,0,1,1,1,1,-2,0,0,1,1,0,"",0.06,"*(0,2+1)",2,2,85316440,1,0,560,1,0,0,0,0,0,0,0,0,0,0,0,0,0,0,0,0,0,0,0,0,0,null,null,null,null,null,null,null,null,null,null,null,null,null,null,null,null,null,null,null,null,null,null,null,null,0,0,{"$f":"ROUND(Y560*Source!I247,7)","v":6.8544000000000001E-3},{"$f":"AD560","v":0},{"$f":"AH560","v":0},{"$f":"AL560","v":1},{"$f":"ROUND((ROUND(AT560*CZ560,2)*ROUND((0.2+1),7)),2)","v":0},{"$f":"ROUND((ROUND(AT560*AG560,2)*ROUND((0.2+1),7)),2)","v":0},"","",{"$f":"ROUND(ROUND(AE560,2)*CX560,2)","v":0},0,0,0,{"$f":"DI560","v":0},0,"",0,"",0]
[{"$f":"ROW(Source!A247)","v":247},85312298,85316428,83784365,1,1,1,2,"91.06.06-048","ФСЭМ-2022, 91.06.06-048, приказ Минстроя России от 18.05.2022 г. № 378/пр","Подъемники одномачтовые, грузоподъемность до 500 кг, высота подъема 45 м",1368,null,1011,"маш.-ч","маш.-ч",1,null,null,null,null,null,0,945201097,{"$f":"(AT561*ROUND((0.2+1),7))","v":1.2E-2},null,0,57.85,720.91,0,0,37.32,720.91,0,1,1.55,1,1,2,0,0,1,1,0,"",0.01,"*(0,2+1)",1,2,85316441,1,0,561,1,0,0,0,0,0,0,0,0,0.37320000000000003,7.2090999999999994,0,0,0.01,1,0,0.44784000000000002,8.6509199999999993,0,0,1.2E-2,1,null,null,null,null,null,null,null,null,null,null,null,null,null,null,null,null,null,null,null,null,null,null,null,null,0,{"$f":"ROUND(Y561*Source!I247*DO561,7)","v":1.1424E-3},{"$f":"ROUND(Y561*Source!I247,7)","v":1.1424E-3},{"$f":"AB561","v":57.85},{"$f":"AF561","v":37.32},{"$f":"AJ561","v":1.55},{"$f":"ROUND((ROUND(AT561*CZ561,2)*ROUND((0.2+1),7)),2)","v":0.44},{"$f":"ROUND((ROUND(AT561*AG561,2)*ROUND((0.2+1),7)),2)","v":8.65},"","",{"$f":"ROUND(ROUND(AE561,2)*CX561,2)","v":0},{"$f":"ROUND(ROUND(AF561*AJ561,2)*CX561,2)","v":7.0000000000000007E-2},0.82,0,{"$f":"DG561+DH561","v":0.8899999999999999},0,"4-100-030",3,"чел.-ч.",1]
[{"$f":"ROW(Source!A247)","v":247},85312298,85316428,83785072,1,1,1,2,"91.14.02-001","ФСЭМ-2022 доп.7, 91.14.02-001, приказ Минстроя России от 02.08.2023 г. № 551/пр","Автомобили бортовые, грузоподъемность до 5 т",1368,null,1011,"маш.-ч","маш.-ч",1,null,null,null,null,null,0,-849950259,{"$f":"(AT562*ROUND((0.2+1),7))","v":0.06},null,0,641.70000000000005,811.79,0,0,641.70000000000005,811.79,0,1,1,1,1,-2,0,0,1,1,0,"",0.05,"*(0,2+1)",1,2,85316442,1,0,562,1,0,0,0,0,0,0,0,0,32.085000000000001,40.589500000000001,0,0,0.05,1,0,38.502000000000002,48.707399999999993,0,0,0.06,1,null,null,null,null,null,null,null,null,null,null,null,null,null,null,null,null,null,null,null,null,null,null,null,null,0,{"$f":"ROUND(Y562*Source!I247*DO562,7)","v":5.7120000000000001E-3},{"$f":"ROUND(Y562*Source!I247,7)","v":5.7120000000000001E-3},{"$f":"AB562","v":641.70000000000005},{"$f":"AF562","v":641.70000000000005},{"$f":"AJ562","v":1},{"$f":"ROUND((ROUND(AT562*CZ562,2)*ROUND((0.2+1),7)),2)","v":38.51},{"$f":"ROUND((ROUND(AT562*AG562,2)*ROUND((0.2+1),7)),2)","v":48.71},"","",{"$f":"ROUND(ROUND(AE562,2)*CX562,2)","v":0},{"$f":"ROUND(ROUND(AF562,2)*CX562,2)","v":3.67},4.6399999999999997,0,{"$f":"DG562+DH562","v":8.3099999999999987},1,"4-100-040",4,"чел.-ч.",1]
[{"$f":"ROW(Source!A247)","v":247},85312298,85316428,83852432,1,1,1,3,"01.7.10.17-0141","ФСБЦ-2022, 01.7.10.17-0141, приказ Минстроя России от 18.05.2022 г. № 378/пр","Пемза",1346,null,1009,"кг","кг",1,null,null,null,null,null,0,-2122839911,{"$f":"AT563","v":0.24},null,3310.06,0,0,0,2507.62,0,0,0,1.32,1,1,1,2,0,0,1,1,0,"",0.24,"",0,2,85316443,1,0,563,1,0,0,0,0,0,0,0,601.8288,0,0,0,0,0,1,601.8288,0,0,0,0,0,1,null,null,null,null,null,null,null,null,null,null,null,null,null,null,null,null,null,null,null,null,null,null,null,null,0,0,{"$f":"ROUND(Y563*Source!I247,7)","v":2.2848E-2},{"$f":"AA563","v":3310.06},{"$f":"AE563","v":2507.62},{"$f":"AI563","v":1.32},{"$f":"ROUND(ROUND(AT563*CZ563,2),2)","v":601.83000000000004},{"$f":"ROUND(ROUND(AT563*AG563,2),2)","v":0},"","",{"$f":"ROUND(ROUND(AE563*AI563,2)*CX563,2)","v":75.63},0,0,0,{"$f":"DF563","v":75.63},0,"",0,"",0]
[{"$f":"ROW(Source!A247)","v":247},85312298,85316428,83854120,1,1,1,3,"01.7.17.11-0011","ФСБЦ-2022, 01.7.17.11-0011, приказ Минстроя России от 18.05.2022 г. № 378/пр","Шкурка шлифовальная двухслойная с зернистостью 40-25",1327,null,1005,"м2","м2",1,null,null,null,null,null,0,10451617,0.8,null,701.5,0,0,0,531.44000000000005,0,0,0,1.32,1,1,1,2,0,0,1,1,0,"",0.8,"",0,2,85316444,1,0,564,1,0,0,0,0,0,0,0,425.15200000000004,0,0,0,0,0,1,425.15200000000004,0,0,0,0,0,1,null,null,null,null,null,null,null,null,null,null,null,null,null,null,null,null,null,null,null,null,null,null,null,null,0,0,{"$f":"ROUND(Y564*Source!I247,7)","v":7.6160000000000005E-2},701.5,531.44000000000005,1.32,425.15,0,"","",{"$f":"ROUND(ROUND(AE564*AI564,2)*CX564,2)","v":53.43},0,0,0,53.43,0,"",0,"",0]
[{"$f":"ROW(Source!A247)","v":247},85312298,85316428,83854484,1,1,1,3,"01.7.20.08-0051","ФСБЦ-2022 доп.8, 01.7.20.08-0051, приказ Минстроя России от 14.11.2023 г. № 817/пр","Ветошь хлопчатобумажная цветная",1346,null,1009,"кг","кг",1,null,null,null,null,null,0,-373327139,0.21,null,86.41,0,0,0,56.11,0,0,0,1.54,1,1,1,2,0,0,1,1,0,"",0.21,"",0,2,85316445,1,0,565,1,0,0,0,0,0,0,0,11.783099999999999,0,0,0,0,0,1,11.783099999999999,0,0,0,0,0,1,null,null,null,null,null,null,null,null,null,null,null,null,null,null,null,null,null,null,null,null,null,null,null,null,0,0,{"$f":"ROUND(Y565*Source!I247,7)","v":1.9991999999999999E-2},86.41,56.11,1.54,11.78,0,"","",{"$f":"ROUND(ROUND(AE565*AI565,2)*CX565,2)","v":1.73},0,0,0,1.73,0,"",0,"",0]
[{"$f":"ROW(Source!A247)","v":247},85312298,85316428,83781429,117,1,1,3,"14.4.02.04","","Краски для внутренних работ масляные готовые к применению",1346,null,1009,"кг","кг",1,null,null,null,null,null,0,-438754628,26.7,null,0,0,0,0,0,0,0,0,1,1,1,1,0,0,0,1,0,0,"",26.7,"",0,2,85316446,1,0,566,0,0,0,0,0,0,0,0,0,0,0,0,0,0,0,0,0,0,0,0,0,0,null,null,null,null,null,null,null,null,null,null,null,null,null,null,null,null,null,null,null,null,null,null,null,null,0,0,{"$f":"ROUND(Y566*Source!I247,7)","v":2.5418400000000001},0,0,1,0,0,"","",{"$f":"ROUND(ROUND(AE566,2)*CX566,2)","v":0},0,0,0,0,0,"",0,"",0]
[{"$f":"ROW(Source!A247)","v":247},85312298,85316428,83781533,117,1,1,3,"14.5.05.01","","Олифы комбинированные",1348,null,1009,"т","т",1000,null,null,null,null,null,0,-827349247,1.03E-2,null,0,0,0,0,0,0,0,0,1,1,1,1,0,0,0,1,0,0,"",1.03E-2,"",0,2,85316447,1,0,567,0,0,0,0,0,0,0,0,0,0,0,0,0,0,0,0,0,0,0,0,0,0,null,null,null,null,null,null,null,null,null,null,null,null,null,null,null,null,null,null,null,null,null,null,null,null,0,0,{"$f":"ROUND(Y567*Source!I247,7)","v":9.8060000000000009E-4},0,0,1,0,0,"","",{"$f":"ROUND(ROUND(AE567,2)*CX567,2)","v":0},0,0,0,0,0,"",0,"",0]
[{"$f":"ROW(Source!A247)","v":247},85312298,85316428,83870953,1,1,1,3,"14.5.11.01-0003","ФСБЦ-2022, 14.5.11.01-0003, приказ Минстроя России от 18.05.2022 г. № 378/пр","Шпатлевка масляно-клеевая",1348,null,1009,"т","т",1000,null,null,null,null,null,0,-1010729546,5.0000000000000001E-3,null,36493.18,0,0,0,24995.33,0,0,0,1.46,1,1,1,2,0,0,1,1,0,"",5.0000000000000001E-3,"",0,2,85316448,1,0,568,1,0,0,0,0,0,0,0,124.97665000000001,0,0,0,0,0,1,124.97665000000001,0,0,0,0,0,1,null,null,null,null,null,null,null,null,null,null,null,null,null,null,null,null,null,null,null,null,null,null,null,null,0,0,{"$f":"ROUND(Y568*Source!I247,7)","v":4.7600000000000002E-4},36493.18,24995.33,1.46,124.98,0,"","",{"$f":"ROUND(ROUND(AE568*AI568,2)*CX568,2)","v":17.37},0,0,0,17.37,0,"",0,"",0]
[{"$f":"ROW(Source!A288)","v":288},85312357,85316452,83777455,117,1,1,1,"1-100-20","","Средний разряд работы 2,0",1191,null,1013,"чел.-ч.","чел.-ч.",1,null,null,null,null,null,0,370475345,{"$f":"(AT569*ROUND((0.2+1),7))","v":184.79999999999998},null,0,0,0,660.33,0,0,0,660.33,1,1,1,1,-2,0,0,1,1,0,"",154,"*(0,2+1)",1,2,85316454,1,0,569,1,0,0,0,0,0,0,0,0,0,0,101690.82,154,0,1,0,0,0,122028.984,184.79999999999998,0,1,null,null,null,null,null,null,null,null,null,null,null,null,null,null,null,null,null,null,null,null,null,null,null,{"$f":"ROUND(AT569*Source!I288*AH569*AL569,2)","v":1561.97},{"$f":"ROUND(Y569*Source!I288,7)","v":2.8385280000000002},0,{"$f":"ROUND(Y569*Source!I288,7)","v":2.8385280000000002},{"$f":"AD569","v":660.33},{"$f":"AH569","v":660.33},{"$f":"AL569","v":1},{"$f":"ROUND((ROUND(AT569*CZ569,2)*ROUND((0.2+1),7)),2)","v":122028.98},{"$f":"ROUND((ROUND(AT569*AG569,2)*ROUND((0.2+1),7)),2)","v":0},"","",{"$f":"ROUND(ROUND(AE569,2)*CX569,2)","v":0},0,0,1874.37,{"$f":"DI569","v":1874.37},1,"",0,"",0]
[{"$f":"ROW(Source!A289)","v":289},85312298,85316452,83777455,117,1,1,1,"1-100-20","","Средний разряд работы 2,0",1191,null,1013,"чел.-ч.","чел.-ч.",1,null,null,null,null,null,0,370475345,184.79999999999998,null,0,0,0,660.33,0,0,0,660.33,1,1,1,1,-2,0,0,1,1,0,"",154,"*(0,2+1)",1,2,85316454,1,0,570,1,0,0,0,0,0,0,0,0,0,0,101690.82,154,0,1,0,0,0,122028.984,184.79999999999998,0,1,null,null,null,null,null,null,null,null,null,null,null,null,null,null,null,null,null,null,null,null,null,null,null,{"$f":"ROUND(AT570*Source!I289*AH570*AL570,2)","v":1561.97},{"$f":"ROUND(Y570*Source!I289,7)","v":2.8385280000000002},0,{"$f":"ROUND(Y570*Source!I289,7)","v":2.8385280000000002},660.33,660.33,1,122028.98,0,"","",0,0,0,1874.37,1874.37,1,"",0,"",0]
[{"$f":"ROW(Source!A290)","v":290},85312357,85316455,83777445,117,1,1,1,"1-100-15","","Средний разряд работы 1,5",1191,null,1013,"чел.-ч.","чел.-ч.",1,null,null,null,null,null,0,-267883188,106.2,null,0,0,0,633.07000000000005,0,0,0,633.07000000000005,1,1,1,1,-2,0,0,1,1,0,"",88.5,"*(0,2+1)",1,2,85316457,1,0,571,1,0,0,0,0,0,0,0,0,0,0,56026.695000000007,88.5,0,1,0,0,0,67232.034000000014,106.2,0,1,null,null,null,null,null,null,null,null,null,null,null,null,null,null,null,null,null,null,null,null,null,null,null,{"$f":"ROUND(AT571*Source!I290*AH571*AL571,2)","v":860.57},{"$f":"ROUND(Y571*Source!I290,7)","v":1.631232},0,{"$f":"ROUND(Y571*Source!I290,7)","v":1.631232},633.07000000000005,633.07000000000005,1,67232.039999999994,0,"","",0,0,0,1032.68,1032.68,1,"",0,"",0]
[{"$f":"ROW(Source!A291)","v":291},85312298,85316455,83777445,117,1,1,1,"1-100-15","","Средний разряд работы 1,5",1191,null,1013,"чел.-ч.","чел.-ч.",1,null,null,null,null,null,0,-267883188,106.2,null,0,0,0,633.07000000000005,0,0,0,633.07000000000005,1,1,1,1,-2,0,0,1,1,0,"",88.5,"*(0,2+1)",1,2,85316457,1,0,572,1,0,0,0,0,0,0,0,0,0,0,56026.695000000007,88.5,0,1,0,0,0,67232.034000000014,106.2,0,1,null,null,null,null,null,null,null,null,null,null,null,null,null,null,null,null,null,null,null,null,null,null,null,{"$f":"ROUND(AT572*Source!I291*AH572*AL572,2)","v":860.57},{"$f":"ROUND(Y572*Source!I291,7)","v":1.631232},0,{"$f":"ROUND(Y572*Source!I291,7)","v":1.631232},633.07000000000005,633.07000000000005,1,67232.039999999994,0,"","",0,0,0,1032.68,1032.68,1,"",0,"",0]
[{"$f":"ROW(Source!A292)","v":292},85312357,85316458,83777513,117,1,1,1,"1-100-38","","Средний разряд работы 3,8",1191,null,1013,"чел.-ч.","чел.-ч.",1,null,null,null,null,null,0,44848675,11.123999999999999,null,0,0,0,793.61,0,0,0,793.61,1,1,1,1,-2,0,0,1,1,0,"",9.27,"*(0,2+1)",1,2,85316467,1,0,573,1,0,0,0,0,0,0,0,0,0,0,7356.7646999999997,9.27,0,1,0,0,0,8828.1176399999986,11.123999999999999,0,1,null,null,null,null,null,null,null,null,null,null,null,null,null,null,null,null,null,null,null,null,null,null,null,{"$f":"ROUND(AT573*Source!I292*AH573*AL573,2)","v":2942.71},{"$f":"ROUND(Y573*Source!I292,7)","v":4.4496000000000002},0,{"$f":"ROUND(Y573*Source!I292,7)","v":4.4496000000000002},793.61,793.61,1,8828.11,0,"","",0,0,0,3531.25,3531.25,1,"",0,"",0]
[{"$f":"ROW(Source!A292)","v":292},85312357,85316458,83777689,117,1,1,1,"4-100-00","","Затраты труда машинистов",1191,null,1013,"чел.-ч.","чел.-ч.",1,null,null,null,null,null,0,-1417349443,0.40800000000000003,null,0,0,0,0,0,0,0,0,1,1,1,1,-2,0,0,1,1,0,"",0.34,"*(0,2+1)",2,2,85316468,1,0,574,1,0,0,0,0,0,0,0,0,0,0,0,0,0,0,0,0,0,0,0,0,0,null,null,null,null,null,null,null,null,null,null,null,null,null,null,null,null,null,null,null,null,null,null,null,null,0,0,{"$f":"ROUND(Y574*Source!I292,7)","v":0.16320000000000001},0,0,1,0,0,"","",0,0,0,0,0,0,"",0,"",0]
[{"$f":"ROW(Source!A292)","v":292},85312357,85316458,83784178,1,1,1,2,"91.05.05-015","ФСЭМ-2022, 91.05.05-015, приказ Минстроя России от 18.05.2022 г. № 378/пр","Краны на автомобильном ходу, грузоподъемность 16 т",1368,null,1011,"маш.-ч","маш.-ч",1,null,null,null,null,null,0,639918019,0.20400000000000001,null,0,1626.29,1090.46,0,0,1626.29,1090.46,0,1,1,1,1,-2,0,0,1,1,0,"",0.17,"*(0,2+1)",1,2,85316469,1,0,575,1,0,0,0,0,0,0,0,0,276.46930000000003,185.37820000000002,0,0,0.17,1,0,331.76316000000003,222.45384000000001,0,0,0.20400000000000001,1,null,null,null,null,null,null,null,null,null,null,null,null,null,null,null,null,null,null,null,null,null,null,null,null,0,{"$f":"ROUND(Y575*Source!I292*DO575,7)","v":8.1600000000000006E-2},{"$f":"ROUND(Y575*Source!I292,7)","v":8.1600000000000006E-2},{"$f":"AB575","v":1626.29},{"$f":"AF575","v":1626.29},{"$f":"AJ575","v":1},331.76,222.46,"","",0,132.71,88.98,0,{"$f":"DG575+DH575","v":221.69},1,"4-100-060",6,"чел.-ч.",1]
[{"$f":"ROW(Source!A292)","v":292},85312357,85316458,83785072,1,1,1,2,"91.14.02-001","ФСЭМ-2022 доп.7, 91.14.02-001, приказ Минстроя России от 02.08.2023 г. № 551/пр","Автомобили бортовые, грузоподъемность до 5 т",1368,null,1011,"маш.-ч","маш.-ч",1,null,null,null,null,null,0,-849950259,0.20400000000000001,null,0,641.70000000000005,811.79,0,0,641.70000000000005,811.79,0,1,1,1,1,-2,0,0,1,1,0,"",0.17,"*(0,2+1)",1,2,85316470,1,0,576,1,0,0,0,0,0,0,0,0,109.08900000000001,138.0043,0,0,0.17,1,0,130.90680000000003,165.60516000000001,0,0,0.20400000000000001,1,null,null,null,null,null,null,null,null,null,null,null,null,null,null,null,null,null,null,null,null,null,null,null,null,0,{"$f":"ROUND(Y576*Source!I292*DO576,7)","v":8.1600000000000006E-2},{"$f":"ROUND(Y576*Source!I292,7)","v":8.1600000000000006E-2},{"$f":"AB576","v":641.70000000000005},{"$f":"AF576","v":641.70000000000005},{"$f":"AJ576","v":1},130.91,165.6,"","",0,52.36,66.239999999999995,0,{"$f":"DG576+DH576","v":118.6},1,"4-100-040",4,"чел.-ч.",1]
[{"$f":"ROW(Source!A292)","v":292},85312357,85316458,83785268,1,1,1,2,"91.17.04-233","ФСЭМ-2022, 91.17.04-233, приказ Минстроя России от 18.05.2022 г. № 378/пр","Аппараты сварочные для ручной дуговой сварки, сварочный ток до 350 А",1368,null,1011,"маш.-ч","маш.-ч",1,null,null,null,null,null,0,303316554,1.8119999999999998,null,0,34.61,0,0,0,34.61,0,0,1,1,1,1,-2,0,0,1,1,0,"",1.51,"*(0,2+1)",1,2,85316471,1,0,577,1,0,0,0,0,0,0,0,0,52.261099999999999,0,0,0,0,1,0,62.713319999999996,0,0,0,0,1,null,null,null,null,null,null,null,null,null,null,null,null,null,null,null,null,null,null,null,null,null,null,null,null,0,{"$f":"ROUND(Y577*Source!I292*DO577,7)","v":0},{"$f":"ROUND(Y577*Source!I292,7)","v":0.7248},{"$f":"AB577","v":34.61},{"$f":"AF577","v":34.61},{"$f":"AJ577","v":1},62.71,0,"","",0,25.09,{"$f":"ROUND(ROUND(AG577,2)*CX577,2)","v":0},{"$f":"ROUND(ROUND(AH577,2)*CX577,2)","v":0},{"$f":"DG577+DH577","v":25.09},1,"",0,"",0]
[{"$f":"ROW(Source!A292)","v":292},85312357,85316458,83852582,1,1,1,3,"01.7.11.07-0227","ФСБЦ-2022, 01.7.11.07-0227, приказ Минстроя России от 18.05.2022 г. № 378/пр","Электроды сварочные для сварки низколегированных и углеродистых сталей УОНИ 13/45, Э42А, диаметр 4-5 мм",1346,null,1009,"кг","кг",1,null,null,null,null,null,0,-163259778,{"$f":"AT578","v":0.65},null,121.39,0,0,0,155.63,0,0,0,0.78,1,1,1,2,0,0,1,1,0,"",0.65,"",0,2,85316472,1,0,578,1,0,0,0,0,0,0,0,101.15949999999999,0,0,0,0,0,1,101.15949999999999,0,0,0,0,0,1,null,null,null,null,null,null,null,null,null,null,null,null,null,null,null,null,null,null,null,null,null,null,null,null,0,0,{"$f":"ROUND(Y578*Source!I292,7)","v":0.26},{"$f":"AA578","v":121.39},{"$f":"AE578","v":155.63},{"$f":"AI578","v":0.78},{"$f":"ROUND(ROUND(AT578*CZ578,2),2)","v":101.16},{"$f":"ROUND(ROUND(AT578*AG578,2),2)","v":0},"","",{"$f":"ROUND(ROUND(AE578*AI578,2)*CX578,2)","v":31.56},0,0,0,{"$f":"DF578","v":31.56},0,"",0,"",0]
[{"$f":"ROW(Source!A292)","v":292},85312357,85316458,83870453,1,1,1,3,"14.4.01.09-0427","ФСБЦ-2022 доп.8, 14.4.01.09-0427, приказ Минстроя России от 14.11.2023 г. № 817/пр","Грунтовка эпоксидная антикоррозионная с содержанием цинка для защиты металлических поверхностей, расход 0,20-0,39 кг/м2",1346,null,1009,"кг","кг",1,null,null,null,null,null,0,72056734,{"$f":"AT579","v":2},null,1139.45,0,0,0,911.56,0,0,0,1.25,1,1,1,2,0,0,1,1,0,"",2,"",0,2,85316473,1,0,579,1,0,0,0,0,0,0,0,1823.12,0,0,0,0,0,1,1823.12,0,0,0,0,0,1,null,null,null,null,null,null,null,null,null,null,null,null,null,null,null,null,null,null,null,null,null,null,null,null,0,0,{"$f":"ROUND(Y579*Source!I292,7)","v":0.8},{"$f":"AA579","v":1139.45},{"$f":"AE579","v":911.56},{"$f":"AI579","v":1.25},{"$f":"ROUND(ROUND(AT579*CZ579,2),2)","v":1823.12},{"$f":"ROUND(ROUND(AT579*AG579,2),2)","v":0},"","",{"$f":"ROUND(ROUND(AE579*AI579,2)*CX579,2)","v":911.56},0,0,0,{"$f":"DF579","v":911.56},0,"",0,"",0]
[{"$f":"ROW(Source!A292)","v":292},85312357,85316458,83783523,117,1,1,3,"421/пр_2020_п.75_пп.а","","Сметная стоимость вспомогательных ненормируемых материальных ресурсов, не учтенная в сметной норме, 2%",3277935,null,1013,"%","%",1,null,null,null,null,null,0,274903907,{"$f":"AT580","v":2},null,0,0,0,0,0,0,0,0,1,1,1,1,0,0,0,0,0,0,"",2,"",0,2,85316474,1,0,580,0,0,0,0,0,0,0,0,0,0,0,0,0,0,0,0,0,0,0,0,0,0,null,null,null,null,null,null,null,null,null,null,null,null,null,null,null,null,null,null,null,null,null,null,null,null,0,0,{"$f":"ROUND(Y580*Source!I292,7)","v":0.8},{"$f":"AA580","v":0},{"$f":"AE580","v":0},{"$f":"AI580","v":1},{"$f":"ROUND(ROUND(AT580*CZ580,2),2)","v":0},{"$f":"ROUND(ROUND(AT580*AG580,2),2)","v":0},"","",{"$f":"ROUND(ROUND(AE580,2)*CX580,2)","v":0},0,0,0,{"$f":"DF580","v":0},0,"",0,"",0]
[{"$f":"ROW(Source!A293)","v":293},85312298,85316458,83777513,117,1,1,1,"1-100-38","","Средний разряд работы 3,8",1191,null,1013,"чел.-ч.","чел.-ч.",1,null,null,null,null,null,0,44848675,{"$f":"(AT581*ROUND((0.2+1),7))","v":11.123999999999999},null,0,0,0,793.61,0,0,0,793.61,1,1,1,1,-2,0,0,1,1,0,"",9.27,"*(0,2+1)",1,2,85316467,1,0,581,1,0,0,0,0,0,0,0,0,0,0,7356.7646999999997,9.27,0,1,0,0,0,8828.1176399999986,11.123999999999999,0,1,null,null,null,null,null,null,null,null,null,null,null,null,null,null,null,null,null,null,null,null,null,null,null,{"$f":"ROUND(AT581*Source!I293*AH581*AL581,2)","v":2942.71},{"$f":"ROUND(Y581*Source!I293,7)","v":4.4496000000000002},0,{"$f":"ROUND(Y581*Source!I293,7)","v":4.4496000000000002},{"$f":"AD581","v":793.61},{"$f":"AH581","v":793.61},{"$f":"AL581","v":1},{"$f":"ROUND((ROUND(AT581*CZ581,2)*ROUND((0.2+1),7)),2)","v":8828.11},{"$f":"ROUND((ROUND(AT581*AG581,2)*ROUND((0.2+1),7)),2)","v":0},"","",0,0,0,3531.25,{"$f":"DI581","v":3531.25},1,"",0,"",0]
[{"$f":"ROW(Source!A293)","v":293},85312298,85316458,83777689,117,1,1,1,"4-100-00","","Затраты труда машинистов",1191,null,1013,"чел.-ч.","чел.-ч.",1,null,null,null,null,null,0,-1417349443,{"$f":"(AT582*ROUND((0.2+1),7))","v":0.40800000000000003},null,0,0,0,0,0,0,0,0,1,1,1,1,-2,0,0,1,1,0,"",0.34,"*(0,2+1)",2,2,85316468,1,0,582,1,0,0,0,0,0,0,0,0,0,0,0,0,0,0,0,0,0,0,0,0,0,null,null,null,null,null,null,null,null,null,null,null,null,null,null,null,null,null,null,null,null,null,null,null,null,0,0,{"$f":"ROUND(Y582*Source!I293,7)","v":0.16320000000000001},{"$f":"AD582","v":0},{"$f":"AH582","v":0},{"$f":"AL582","v":1},{"$f":"ROUND((ROUND(AT582*CZ582,2)*ROUND((0.2+1),7)),2)","v":0},{"$f":"ROUND((ROUND(AT582*AG582,2)*ROUND((0.2+1),7)),2)","v":0},"","",0,0,0,0,{"$f":"DI582","v":0},0,"",0,"",0]
[{"$f":"ROW(Source!A293)","v":293},85312298,85316458,83784178,1,1,1,2,"91.05.05-015","ФСЭМ-2022, 91.05.05-015, приказ Минстроя России от 18.05.2022 г. № 378/пр","Краны на автомобильном ходу, грузоподъемность 16 т",1368,null,1011,"маш.-ч","маш.-ч",1,null,null,null,null,null,0,639918019,{"$f":"(AT583*ROUND((0.2+1),7))","v":0.20400000000000001},null,0,1626.29,1090.46,0,0,1626.29,1090.46,0,1,1,1,1,-2,0,0,1,1,0,"",0.17,"*(0,2+1)",1,2,85316469,1,0,583,1,0,0,0,0,0,0,0,0,276.46930000000003,185.37820000000002,0,0,0.17,1,0,331.76316000000003,222.45384000000001,0,0,0.20400000000000001,1,null,null,null,null,null,null,null,null,null,null,null,null,null,null,null,null,null,null,null,null,null,null,null,null,0,{"$f":"ROUND(Y583*Source!I293*DO583,7)","v":8.1600000000000006E-2},{"$f":"ROUND(Y583*Source!I293,7)","v":8.1600000000000006E-2},{"$f":"AB583","v":1626.29},{"$f":"AF583","v":1626.29},{"$f":"AJ583","v":1},{"$f":"ROUND((ROUND(AT583*CZ583,2)*ROUND((0.2+1),7)),2)","v":331.76},{"$f":"ROUND((ROUND(AT583*AG583,2)*ROUND((0.2+1),7)),2)","v":222.46},"","",0,132.71,88.98,0,{"$f":"DG583+DH583","v":221.69},1,"4-100-060",6,"чел.-ч.",1]
[{"$f":"ROW(Source!A293)","v":293},85312298,85316458,83785072,1,1,1,2,"91.14.02-001","ФСЭМ-2022 доп.7, 91.14.02-001, приказ Минстроя России от 02.08.2023 г. № 551/пр","Автомобили бортовые, грузоподъемность до 5 т",1368,null,1011,"маш.-ч","маш.-ч",1,null,null,null,null,null,0,-849950259,{"$f":"(AT584*ROUND((0.2+1),7))","v":0.20400000000000001},null,0,641.70000000000005,811.79,0,0,641.70000000000005,811.79,0,1,1,1,1,-2,0,0,1,1,0,"",0.17,"*(0,2+1)",1,2,85316470,1,0,584,1,0,0,0,0,0,0,0,0,109.08900000000001,138.0043,0,0,0.17,1,0,130.90680000000003,165.60516000000001,0,0,0.20400000000000001,1,null,null,null,null,null,null,null,null,null,null,null,null,null,null,null,null,null,null,null,null,null,null,null,null,0,{"$f":"ROUND(Y584*Source!I293*DO584,7)","v":8.1600000000000006E-2},{"$f":"ROUND(Y584*Source!I293,7)","v":8.1600000000000006E-2},{"$f":"AB584","v":641.70000000000005},{"$f":"AF584","v":641.70000000000005},{"$f":"AJ584","v":1},{"$f":"ROUND((ROUND(AT584*CZ584,2)*ROUND((0.2+1),7)),2)","v":130.91},{"$f":"ROUND((ROUND(AT584*AG584,2)*ROUND((0.2+1),7)),2)","v":165.6},"","",0,52.36,66.239999999999995,0,{"$f":"DG584+DH584","v":118.6},1,"4-100-040",4,"чел.-ч.",1]
[{"$f":"ROW(Source!A293)","v":293},85312298,85316458,83785268,1,1,1,2,"91.17.04-233","ФСЭМ-2022, 91.17.04-233, приказ Минстроя России от 18.05.2022 г. № 378/пр","Аппараты сварочные для ручной дуговой сварки, сварочный ток до 350 А",1368,null,1011,"маш.-ч","маш.-ч",1,null,null,null,null,null,0,303316554,{"$f":"(AT585*ROUND((0.2+1),7))","v":1.8119999999999998},null,0,34.61,0,0,0,34.61,0,0,1,1,1,1,-2,0,0,1,1,0,"",1.51,"*(0,2+1)",1,2,85316471,1,0,585,1,0,0,0,0,0,0,0,0,52.261099999999999,0,0,0,0,1,0,62.713319999999996,0,0,0,0,1,null,null,null,null,null,null,null,null,null,null,null,null,null,null,null,null,null,null,null,null,null,null,null,null,0,{"$f":"ROUND(Y585*Source!I293*DO585,7)","v":0},{"$f":"ROUND(Y585*Source!I293,7)","v":0.7248},{"$f":"AB585","v":34.61},{"$f":"AF585","v":34.61},{"$f":"AJ585","v":1},{"$f":"ROUND((ROUND(AT585*CZ585,2)*ROUND((0.2+1),7)),2)","v":62.71},{"$f":"ROUND((ROUND(AT585*AG585,2)*ROUND((0.2+1),7)),2)","v":0},"","",0,25.09,0,0,{"$f":"DG585+DH585","v":25.09},1,"",0,"",0]
[{"$f":"ROW(Source!A293)","v":293},85312298,85316458,83852582,1,1,1,3,"01.7.11.07-0227","ФСБЦ-2022, 01.7.11.07-0227, приказ Минстроя России от 18.05.2022 г. № 378/пр","Электроды сварочные для сварки низколегированных и углеродистых сталей УОНИ 13/45, Э42А, диаметр 4-5 мм",1346,null,1009,"кг","кг",1,null,null,null,null,null,0,-163259778,{"$f":"AT586","v":0.65},null,121.39,0,0,0,155.63,0,0,0,0.78,1,1,1,2,0,0,1,1,0,"",0.65,"",0,2,85316472,1,0,586,1,0,0,0,0,0,0,0,101.15949999999999,0,0,0,0,0,1,101.15949999999999,0,0,0,0,0,1,null,null,null,null,null,null,null,null,null,null,null,null,null,null,null,null,null,null,null,null,null,null,null,null,0,0,{"$f":"ROUND(Y586*Source!I293,7)","v":0.26},{"$f":"AA586","v":121.39},{"$f":"AE586","v":155.63},{"$f":"AI586","v":0.78},{"$f":"ROUND(ROUND(AT586*CZ586,2),2)","v":101.16},{"$f":"ROUND(ROUND(AT586*AG586,2),2)","v":0},"","",{"$f":"ROUND(ROUND(AE586*AI586,2)*CX586,2)","v":31.56},0,0,0,{"$f":"DF586","v":31.56},0,"",0,"",0]
[{"$f":"ROW(Source!A293)","v":293},85312298,85316458,83870453,1,1,1,3,"14.4.01.09-0427","ФСБЦ-2022 доп.8, 14.4.01.09-0427, приказ Минстроя России от 14.11.2023 г. № 817/пр","Грунтовка эпоксидная антикоррозионная с содержанием цинка для защиты металлических поверхностей, расход 0,20-0,39 кг/м2",1346,null,1009,"кг","кг",1,null,null,null,null,null,0,72056734,{"$f":"AT587","v":2},null,1139.45,0,0,0,911.56,0,0,0,1.25,1,1,1,2,0,0,1,1,0,"",2,"",0,2,85316473,1,0,587,1,0,0,0,0,0,0,0,1823.12,0,0,0,0,0,1,1823.12,0,0,0,0,0,1,null,null,null,null,null,null,null,null,null,null,null,null,null,null,null,null,null,null,null,null,null,null,null,null,0,0,{"$f":"ROUND(Y587*Source!I293,7)","v":0.8},{"$f":"AA587","v":1139.45},{"$f":"AE587","v":911.56},{"$f":"AI587","v":1.25},{"$f":"ROUND(ROUND(AT587*CZ587,2),2)","v":1823.12},{"$f":"ROUND(ROUND(AT587*AG587,2),2)","v":0},"","",{"$f":"ROUND(ROUND(AE587*AI587,2)*CX587,2)","v":911.56},0,0,0,{"$f":"DF587","v":911.56},0,"",0,"",0]
[{"$f":"ROW(Source!A293)","v":293},85312298,85316458,83783523,117,1,1,3,"421/пр_2020_п.75_пп.а","","Сметная стоимость вспомогательных ненормируемых материальных ресурсов, не учтенная в сметной норме, 2%",3277935,null,1013,"%","%",1,null,null,null,null,null,0,274903907,{"$f":"AT588","v":2},null,0,0,0,0,0,0,0,0,1,1,1,1,0,0,0,0,0,0,"",2,"",0,2,85316474,1,0,588,0,0,0,0,0,0,0,0,0,0,0,0,0,0,0,0,0,0,0,0,0,0,null,null,null,null,null,null,null,null,null,null,null,null,null,null,null,null,null,null,null,null,null,null,null,null,0,0,{"$f":"ROUND(Y588*Source!I293,7)","v":0.8},{"$f":"AA588","v":0},{"$f":"AE588","v":0},{"$f":"AI588","v":1},{"$f":"ROUND(ROUND(AT588*CZ588,2),2)","v":0},{"$f":"ROUND(ROUND(AT588*AG588,2),2)","v":0},"","",{"$f":"ROUND(ROUND(AE588,2)*CX588,2)","v":0},0,0,0,{"$f":"DF588","v":0},0,"",0,"",0]
[{"$f":"ROW(Source!A299)","v":299},85312357,85316478,83777513,117,1,1,1,"1-100-38","","Средний разряд работы 3,8",1191,null,1013,"чел.-ч.","чел.-ч.",1,null,null,null,null,null,0,44848675,{"$f":"(AT589*ROUND((0.2+1),7))","v":19.8},null,0,0,0,793.61,0,0,0,793.61,1,1,1,1,-2,0,0,1,1,0,"",16.5,"*(0,2+1)",1,2,85316487,1,0,589,1,0,0,0,0,0,0,0,0,0,0,13094.565000000001,16.5,0,1,0,0,0,15713.478000000001,19.8,0,1,null,null,null,null,null,null,null,null,null,null,null,null,null,null,null,null,null,null,null,null,null,null,null,{"$f":"ROUND(AT589*Source!I299*AH589*AL589,2)","v":628.54},{"$f":"ROUND(Y589*Source!I299,7)","v":0.95040000000000002},0,{"$f":"ROUND(Y589*Source!I299,7)","v":0.95040000000000002},{"$f":"AD589","v":793.61},{"$f":"AH589","v":793.61},{"$f":"AL589","v":1},{"$f":"ROUND((ROUND(AT589*CZ589,2)*ROUND((0.2+1),7)),2)","v":15713.48},{"$f":"ROUND((ROUND(AT589*AG589,2)*ROUND((0.2+1),7)),2)","v":0},"","",0,0,0,754.25,{"$f":"DI589","v":754.25},1,"",0,"",0]
[{"$f":"ROW(Source!A299)","v":299},85312357,85316478,83777689,117,1,1,1,"4-100-00","","Затраты труда машинистов",1191,null,1013,"чел.-ч.","чел.-ч.",1,null,null,null,null,null,0,-1417349443,{"$f":"(AT590*ROUND((0.2+1),7))","v":0.312},null,0,0,0,0,0,0,0,0,1,1,1,1,-2,0,0,1,1,0,"",0.26,"*(0,2+1)",2,2,85316488,1,0,590,1,0,0,0,0,0,0,0,0,0,0,0,0,0,0,0,0,0,0,0,0,0,null,null,null,null,null,null,null,null,null,null,null,null,null,null,null,null,null,null,null,null,null,null,null,null,0,0,{"$f":"ROUND(Y590*Source!I299,7)","v":1.4976E-2},{"$f":"AD590","v":0},{"$f":"AH590","v":0},{"$f":"AL590","v":1},{"$f":"ROUND((ROUND(AT590*CZ590,2)*ROUND((0.2+1),7)),2)","v":0},{"$f":"ROUND((ROUND(AT590*AG590,2)*ROUND((0.2+1),7)),2)","v":0},"","",0,0,0,0,{"$f":"DI590","v":0},0,"",0,"",0]
[{"$f":"ROW(Source!A299)","v":299},85312357,85316478,83784178,1,1,1,2,"91.05.05-015","ФСЭМ-2022, 91.05.05-015, приказ Минстроя России от 18.05.2022 г. № 378/пр","Краны на автомобильном ходу, грузоподъемность 16 т",1368,null,1011,"маш.-ч","маш.-ч",1,null,null,null,null,null,0,639918019,{"$f":"(AT591*ROUND((0.2+1),7))","v":0.156},null,0,1626.29,1090.46,0,0,1626.29,1090.46,0,1,1,1,1,-2,0,0,1,1,0,"",0.13,"*(0,2+1)",1,2,85316489,1,0,591,1,0,0,0,0,0,0,0,0,211.4177,141.75980000000001,0,0,0.13,1,0,253.70123999999998,170.11176,0,0,0.156,1,null,null,null,null,null,null,null,null,null,null,null,null,null,null,null,null,null,null,null,null,null,null,null,null,0,{"$f":"ROUND(Y591*Source!I299*DO591,7)","v":7.4879999999999999E-3},{"$f":"ROUND(Y591*Source!I299,7)","v":7.4879999999999999E-3},{"$f":"AB591","v":1626.29},{"$f":"AF591","v":1626.29},{"$f":"AJ591","v":1},{"$f":"ROUND((ROUND(AT591*CZ591,2)*ROUND((0.2+1),7)),2)","v":253.7},{"$f":"ROUND((ROUND(AT591*AG591,2)*ROUND((0.2+1),7)),2)","v":170.11},"","",0,12.18,8.17,0,{"$f":"DG591+DH591","v":20.350000000000001},1,"4-100-060",6,"чел.-ч.",1]
[{"$f":"ROW(Source!A299)","v":299},85312357,85316478,83785072,1,1,1,2,"91.14.02-001","ФСЭМ-2022 доп.7, 91.14.02-001, приказ Минстроя России от 02.08.2023 г. № 551/пр","Автомобили бортовые, грузоподъемность до 5 т",1368,null,1011,"маш.-ч","маш.-ч",1,null,null,null,null,null,0,-849950259,{"$f":"(AT592*ROUND((0.2+1),7))","v":0.156},null,0,641.70000000000005,811.79,0,0,641.70000000000005,811.79,0,1,1,1,1,-2,0,0,1,1,0,"",0.13,"*(0,2+1)",1,2,85316490,1,0,592,1,0,0,0,0,0,0,0,0,83.421000000000006,105.53270000000001,0,0,0.13,1,0,100.10520000000001,126.63924,0,0,0.156,1,null,null,null,null,null,null,null,null,null,null,null,null,null,null,null,null,null,null,null,null,null,null,null,null,0,{"$f":"ROUND(Y592*Source!I299*DO592,7)","v":7.4879999999999999E-3},{"$f":"ROUND(Y592*Source!I299,7)","v":7.4879999999999999E-3},{"$f":"AB592","v":641.70000000000005},{"$f":"AF592","v":641.70000000000005},{"$f":"AJ592","v":1},{"$f":"ROUND((ROUND(AT592*CZ592,2)*ROUND((0.2+1),7)),2)","v":100.1},{"$f":"ROUND((ROUND(AT592*AG592,2)*ROUND((0.2+1),7)),2)","v":126.64},"","",0,4.8099999999999996,6.08,0,{"$f":"DG592+DH592","v":10.89},1,"4-100-040",4,"чел.-ч.",1]
[{"$f":"ROW(Source!A299)","v":299},85312357,85316478,83785268,1,1,1,2,"91.17.04-233","ФСЭМ-2022, 91.17.04-233, приказ Минстроя России от 18.05.2022 г. № 378/пр","Аппараты сварочные для ручной дуговой сварки, сварочный ток до 350 А",1368,null,1011,"маш.-ч","маш.-ч",1,null,null,null,null,null,0,303316554,{"$f":"(AT593*ROUND((0.2+1),7))","v":3.24},null,0,34.61,0,0,0,34.61,0,0,1,1,1,1,-2,0,0,1,1,0,"",2.7,"*(0,2+1)",1,2,85316491,1,0,593,1,0,0,0,0,0,0,0,0,93.447000000000003,0,0,0,0,1,0,112.13640000000001,0,0,0,0,1,null,null,null,null,null,null,null,null,null,null,null,null,null,null,null,null,null,null,null,null,null,null,null,null,0,{"$f":"ROUND(Y593*Source!I299*DO593,7)","v":0},{"$f":"ROUND(Y593*Source!I299,7)","v":0.15551999999999999},{"$f":"AB593","v":34.61},{"$f":"AF593","v":34.61},{"$f":"AJ593","v":1},{"$f":"ROUND((ROUND(AT593*CZ593,2)*ROUND((0.2+1),7)),2)","v":112.14},{"$f":"ROUND((ROUND(AT593*AG593,2)*ROUND((0.2+1),7)),2)","v":0},"","",0,5.38,0,0,{"$f":"DG593+DH593","v":5.38},1,"",0,"",0]
[{"$f":"ROW(Source!A299)","v":299},85312357,85316478,83852582,1,1,1,3,"01.7.11.07-0227","ФСБЦ-2022, 01.7.11.07-0227, приказ Минстроя России от 18.05.2022 г. № 378/пр","Электроды сварочные для сварки низколегированных и углеродистых сталей УОНИ 13/45, Э42А, диаметр 4-5 мм",1346,null,1009,"кг","кг",1,null,null,null,null,null,0,-163259778,{"$f":"AT594","v":0.6},null,121.39,0,0,0,155.63,0,0,0,0.78,1,1,1,2,0,0,1,1,0,"",0.6,"",0,2,85316492,1,0,594,1,0,0,0,0,0,0,0,93.378,0,0,0,0,0,1,93.378,0,0,0,0,0,1,null,null,null,null,null,null,null,null,null,null,null,null,null,null,null,null,null,null,null,null,null,null,null,null,0,0,{"$f":"ROUND(Y594*Source!I299,7)","v":2.8799999999999999E-2},{"$f":"AA594","v":121.39},{"$f":"AE594","v":155.63},{"$f":"AI594","v":0.78},{"$f":"ROUND(ROUND(AT594*CZ594,2),2)","v":93.38},{"$f":"ROUND(ROUND(AT594*AG594,2),2)","v":0},"","",{"$f":"ROUND(ROUND(AE594*AI594,2)*CX594,2)","v":3.5},{"$f":"ROUND(ROUND(AF594,2)*CX594,2)","v":0},0,0,{"$f":"DF594","v":3.5},0,"",0,"",0]
[{"$f":"ROW(Source!A299)","v":299},85312357,85316478,83870453,1,1,1,3,"14.4.01.09-0427","ФСБЦ-2022 доп.8, 14.4.01.09-0427, приказ Минстроя России от 14.11.2023 г. № 817/пр","Грунтовка эпоксидная антикоррозионная с содержанием цинка для защиты металлических поверхностей, расход 0,20-0,39 кг/м2",1346,null,1009,"кг","кг",1,null,null,null,null,null,0,72056734,{"$f":"AT595","v":2},null,1139.45,0,0,0,911.56,0,0,0,1.25,1,1,1,2,0,0,1,1,0,"",2,"",0,2,85316493,1,0,595,1,0,0,0,0,0,0,0,1823.12,0,0,0,0,0,1,1823.12,0,0,0,0,0,1,null,null,null,null,null,null,null,null,null,null,null,null,null,null,null,null,null,null,null,null,null,null,null,null,0,0,{"$f":"ROUND(Y595*Source!I299,7)","v":9.6000000000000002E-2},{"$f":"AA595","v":1139.45},{"$f":"AE595","v":911.56},{"$f":"AI595","v":1.25},{"$f":"ROUND(ROUND(AT595*CZ595,2),2)","v":1823.12},{"$f":"ROUND(ROUND(AT595*AG595,2),2)","v":0},"","",{"$f":"ROUND(ROUND(AE595*AI595,2)*CX595,2)","v":109.39},0,0,0,{"$f":"DF595","v":109.39},0,"",0,"",0]
[{"$f":"ROW(Source!A299)","v":299},85312357,85316478,83783523,117,1,1,3,"421/пр_2020_п.75_пп.а","","Сметная стоимость вспомогательных ненормируемых материальных ресурсов, не учтенная в сметной норме, 2%",3277935,null,1013,"%","%",1,null,null,null,null,null,0,274903907,{"$f":"AT596","v":2},null,0,0,0,0,0,0,0,0,1,1,1,1,0,0,0,0,0,0,"",2,"",0,2,85316494,1,0,596,0,0,0,0,0,0,0,0,0,0,0,0,0,0,0,0,0,0,0,0,0,0,null,null,null,null,null,null,null,null,null,null,null,null,null,null,null,null,null,null,null,null,null,null,null,null,0,0,{"$f":"ROUND(Y596*Source!I299,7)","v":9.6000000000000002E-2},{"$f":"AA596","v":0},{"$f":"AE596","v":0},{"$f":"AI596","v":1},{"$f":"ROUND(ROUND(AT596*CZ596,2),2)","v":0},{"$f":"ROUND(ROUND(AT596*AG596,2),2)","v":0},"","",{"$f":"ROUND(ROUND(AE596,2)*CX596,2)","v":0},0,0,0,{"$f":"DF596","v":0},0,"",0,"",0]
[{"$f":"ROW(Source!A300)","v":300},85312298,85316478,83777513,117,1,1,1,"1-100-38","","Средний разряд работы 3,8",1191,null,1013,"чел.-ч.","чел.-ч.",1,null,null,null,null,null,0,44848675,{"$f":"(AT597*ROUND((0.2+1),7))","v":19.8},null,0,0,0,793.61,0,0,0,793.61,1,1,1,1,-2,0,0,1,1,0,"",16.5,"*(0,2+1)",1,2,85316487,1,0,597,1,0,0,0,0,0,0,0,0,0,0,13094.565000000001,16.5,0,1,0,0,0,15713.478000000001,19.8,0,1,null,null,null,null,null,null,null,null,null,null,null,null,null,null,null,null,null,null,null,null,null,null,null,{"$f":"ROUND(AT597*Source!I300*AH597*AL597,2)","v":628.54},{"$f":"ROUND(Y597*Source!I300,7)","v":0.95040000000000002},0,{"$f":"ROUND(Y597*Source!I300,7)","v":0.95040000000000002},{"$f":"AD597","v":793.61},{"$f":"AH597","v":793.61},{"$f":"AL597","v":1},{"$f":"ROUND((ROUND(AT597*CZ597,2)*ROUND((0.2+1),7)),2)","v":15713.48},{"$f":"ROUND((ROUND(AT597*AG597,2)*ROUND((0.2+1),7)),2)","v":0},"","",0,0,0,754.25,{"$f":"DI597","v":754.25},1,"",0,"",0]
[{"$f":"ROW(Source!A300)","v":300},85312298,85316478,83777689,117,1,1,1,"4-100-00","","Затраты труда машинистов",1191,null,1013,"чел.-ч.","чел.-ч.",1,null,null,null,null,null,0,-1417349443,{"$f":"(AT598*ROUND((0.2+1),7))","v":0.312},null,0,0,0,0,0,0,0,0,1,1,1,1,-2,0,0,1,1,0,"",0.26,"*(0,2+1)",2,2,85316488,1,0,598,1,0,0,0,0,0,0,0,0,0,0,0,0,0,0,0,0,0,0,0,0,0,null,null,null,null,null,null,null,null,null,null,null,null,null,null,null,null,null,null,null,null,null,null,null,null,0,0,{"$f":"ROUND(Y598*Source!I300,7)","v":1.4976E-2},{"$f":"AD598","v":0},{"$f":"AH598","v":0},{"$f":"AL598","v":1},{"$f":"ROUND((ROUND(AT598*CZ598,2)*ROUND((0.2+1),7)),2)","v":0},{"$f":"ROUND((ROUND(AT598*AG598,2)*ROUND((0.2+1),7)),2)","v":0},"","",0,0,0,0,{"$f":"DI598","v":0},0,"",0,"",0]
[{"$f":"ROW(Source!A300)","v":300},85312298,85316478,83784178,1,1,1,2,"91.05.05-015","ФСЭМ-2022, 91.05.05-015, приказ Минстроя России от 18.05.2022 г. № 378/пр","Краны на автомобильном ходу, грузоподъемность 16 т",1368,null,1011,"маш.-ч","маш.-ч",1,null,null,null,null,null,0,639918019,{"$f":"(AT599*ROUND((0.2+1),7))","v":0.156},null,0,1626.29,1090.46,0,0,1626.29,1090.46,0,1,1,1,1,-2,0,0,1,1,0,"",0.13,"*(0,2+1)",1,2,85316489,1,0,599,1,0,0,0,0,0,0,0,0,211.4177,141.75980000000001,0,0,0.13,1,0,253.70123999999998,170.11176,0,0,0.156,1,null,null,null,null,null,null,null,null,null,null,null,null,null,null,null,null,null,null,null,null,null,null,null,null,0,{"$f":"ROUND(Y599*Source!I300*DO599,7)","v":7.4879999999999999E-3},{"$f":"ROUND(Y599*Source!I300,7)","v":7.4879999999999999E-3},{"$f":"AB599","v":1626.29},{"$f":"AF599","v":1626.29},{"$f":"AJ599","v":1},{"$f":"ROUND((ROUND(AT599*CZ599,2)*ROUND((0.2+1),7)),2)","v":253.7},{"$f":"ROUND((ROUND(AT599*AG599,2)*ROUND((0.2+1),7)),2)","v":170.11},"","",0,12.18,8.17,0,{"$f":"DG599+DH599","v":20.350000000000001},1,"4-100-060",6,"чел.-ч.",1]
[{"$f":"ROW(Source!A300)","v":300},85312298,85316478,83785072,1,1,1,2,"91.14.02-001","ФСЭМ-2022 доп.7, 91.14.02-001, приказ Минстроя России от 02.08.2023 г. № 551/пр","Автомобили бортовые, грузоподъемность до 5 т",1368,null,1011,"маш.-ч","маш.-ч",1,null,null,null,null,null,0,-849950259,{"$f":"(AT600*ROUND((0.2+1),7))","v":0.156},null,0,641.70000000000005,811.79,0,0,641.70000000000005,811.79,0,1,1,1,1,-2,0,0,1,1,0,"",0.13,"*(0,2+1)",1,2,85316490,1,0,600,1,0,0,0,0,0,0,0,0,83.421000000000006,105.53270000000001,0,0,0.13,1,0,100.10520000000001,126.63924,0,0,0.156,1,null,null,null,null,null,null,null,null,null,null,null,null,null,null,null,null,null,null,null,null,null,null,null,null,0,{"$f":"ROUND(Y600*Source!I300*DO600,7)","v":7.4879999999999999E-3},{"$f":"ROUND(Y600*Source!I300,7)","v":7.4879999999999999E-3},{"$f":"AB600","v":641.70000000000005},{"$f":"AF600","v":641.70000000000005},{"$f":"AJ600","v":1},{"$f":"ROUND((ROUND(AT600*CZ600,2)*ROUND((0.2+1),7)),2)","v":100.1},{"$f":"ROUND((ROUND(AT600*AG600,2)*ROUND((0.2+1),7)),2)","v":126.64},"","",0,4.8099999999999996,6.08,0,{"$f":"DG600+DH600","v":10.89},1,"4-100-040",4,"чел.-ч.",1]
[{"$f":"ROW(Source!A300)","v":300},85312298,85316478,83785268,1,1,1,2,"91.17.04-233","ФСЭМ-2022, 91.17.04-233, приказ Минстроя России от 18.05.2022 г. № 378/пр","Аппараты сварочные для ручной дуговой сварки, сварочный ток до 350 А",1368,null,1011,"маш.-ч","маш.-ч",1,null,null,null,null,null,0,303316554,{"$f":"(AT601*ROUND((0.2+1),7))","v":3.24},null,0,34.61,0,0,0,34.61,0,0,1,1,1,1,-2,0,0,1,1,0,"",2.7,"*(0,2+1)",1,2,85316491,1,0,601,1,0,0,0,0,0,0,0,0,93.447000000000003,0,0,0,0,1,0,112.13640000000001,0,0,0,0,1,null,null,null,null,null,null,null,null,null,null,null,null,null,null,null,null,null,null,null,null,null,null,null,null,0,{"$f":"ROUND(Y601*Source!I300*DO601,7)","v":0},{"$f":"ROUND(Y601*Source!I300,7)","v":0.15551999999999999},{"$f":"AB601","v":34.61},{"$f":"AF601","v":34.61},{"$f":"AJ601","v":1},{"$f":"ROUND((ROUND(AT601*CZ601,2)*ROUND((0.2+1),7)),2)","v":112.14},{"$f":"ROUND((ROUND(AT601*AG601,2)*ROUND((0.2+1),7)),2)","v":0},"","",0,5.38,0,0,{"$f":"DG601+DH601","v":5.38},1,"",0,"",0]
[{"$f":"ROW(Source!A300)","v":300},85312298,85316478,83852582,1,1,1,3,"01.7.11.07-0227","ФСБЦ-2022, 01.7.11.07-0227, приказ Минстроя России от 18.05.2022 г. № 378/пр","Электроды сварочные для сварки низколегированных и углеродистых сталей УОНИ 13/45, Э42А, диаметр 4-5 мм",1346,null,1009,"кг","кг",1,null,null,null,null,null,0,-163259778,{"$f":"AT602","v":0.6},null,121.39,0,0,0,155.63,0,0,0,0.78,1,1,1,2,0,0,1,1,0,"",0.6,"",0,2,85316492,1,0,602,1,0,0,0,0,0,0,0,93.378,0,0,0,0,0,1,93.378,0,0,0,0,0,1,null,null,null,null,null,null,null,null,null,null,null,null,null,null,null,null,null,null,null,null,null,null,null,null,0,0,{"$f":"ROUND(Y602*Source!I300,7)","v":2.8799999999999999E-2},{"$f":"AA602","v":121.39},{"$f":"AE602","v":155.63},{"$f":"AI602","v":0.78},{"$f":"ROUND(ROUND(AT602*CZ602,2),2)","v":93.38},{"$f":"ROUND(ROUND(AT602*AG602,2),2)","v":0},"","",{"$f":"ROUND(ROUND(AE602*AI602,2)*CX602,2)","v":3.5},0,0,0,{"$f":"DF602","v":3.5},0,"",0,"",0]
[{"$f":"ROW(Source!A300)","v":300},85312298,85316478,83870453,1,1,1,3,"14.4.01.09-0427","ФСБЦ-2022 доп.8, 14.4.01.09-0427, приказ Минстроя России от 14.11.2023 г. № 817/пр","Грунтовка эпоксидная антикоррозионная с содержанием цинка для защиты металлических поверхностей, расход 0,20-0,39 кг/м2",1346,null,1009,"кг","кг",1,null,null,null,null,null,0,72056734,{"$f":"AT603","v":2},null,1139.45,0,0,0,911.56,0,0,0,1.25,1,1,1,2,0,0,1,1,0,"",2,"",0,2,85316493,1,0,603,1,0,0,0,0,0,0,0,1823.12,0,0,0,0,0,1,1823.12,0,0,0,0,0,1,null,null,null,null,null,null,null,null,null,null,null,null,null,null,null,null,null,null,null,null,null,null,null,null,0,0,{"$f":"ROUND(Y603*Source!I300,7)","v":9.6000000000000002E-2},{"$f":"AA603","v":1139.45},{"$f":"AE603","v":911.56},{"$f":"AI603","v":1.25},{"$f":"ROUND(ROUND(AT603*CZ603,2),2)","v":1823.12},{"$f":"ROUND(ROUND(AT603*AG603,2),2)","v":0},"","",{"$f":"ROUND(ROUND(AE603*AI603,2)*CX603,2)","v":109.39},0,0,0,{"$f":"DF603","v":109.39},0,"",0,"",0]
[{"$f":"ROW(Source!A300)","v":300},85312298,85316478,83783523,117,1,1,3,"421/пр_2020_п.75_пп.а","","Сметная стоимость вспомогательных ненормируемых материальных ресурсов, не учтенная в сметной норме, 2%",3277935,null,1013,"%","%",1,null,null,null,null,null,0,274903907,{"$f":"AT604","v":2},null,0,0,0,0,0,0,0,0,1,1,1,1,0,0,0,0,0,0,"",2,"",0,2,85316494,1,0,604,0,0,0,0,0,0,0,0,0,0,0,0,0,0,0,0,0,0,0,0,0,0,null,null,null,null,null,null,null,null,null,null,null,null,null,null,null,null,null,null,null,null,null,null,null,null,0,0,{"$f":"ROUND(Y604*Source!I300,7)","v":9.6000000000000002E-2},{"$f":"AA604","v":0},{"$f":"AE604","v":0},{"$f":"AI604","v":1},{"$f":"ROUND(ROUND(AT604*CZ604,2),2)","v":0},{"$f":"ROUND(ROUND(AT604*AG604,2),2)","v":0},"","",{"$f":"ROUND(ROUND(AE604,2)*CX604,2)","v":0},0,0,0,{"$f":"DF604","v":0},0,"",0,"",0]
[{"$f":"ROW(Source!A304)","v":304},85312357,85316497,83777513,117,1,1,1,"1-100-38","","Средний разряд работы 3,8",1191,null,1013,"чел.-ч.","чел.-ч.",1,null,null,null,null,null,0,44848675,{"$f":"(AT605*ROUND((0.2+1),7))","v":22.2},null,0,0,0,793.61,0,0,0,793.61,1,1,1,1,-2,0,0,1,1,0,"",18.5,"*(0,2+1)",1,2,85316507,1,0,605,1,0,0,0,0,0,0,0,0,0,0,14681.785,18.5,0,1,0,0,0,17618.142,22.2,0,1,null,null,null,null,null,null,null,null,null,null,null,null,null,null,null,null,null,null,null,null,null,null,null,{"$f":"ROUND(AT605*Source!I304*AH605*AL605,2)","v":4110.8999999999996},{"$f":"ROUND(Y605*Source!I304,7)","v":6.2160000000000002},0,{"$f":"ROUND(Y605*Source!I304,7)","v":6.2160000000000002},{"$f":"AD605","v":793.61},{"$f":"AH605","v":793.61},{"$f":"AL605","v":1},{"$f":"ROUND((ROUND(AT605*CZ605,2)*ROUND((0.2+1),7)),2)","v":17618.150000000001},{"$f":"ROUND((ROUND(AT605*AG605,2)*ROUND((0.2+1),7)),2)","v":0},"","",0,0,0,4933.08,{"$f":"DI605","v":4933.08},1,"",0,"",0]
[{"$f":"ROW(Source!A304)","v":304},85312357,85316497,83777689,117,1,1,1,"4-100-00","","Затраты труда машинистов",1191,null,1013,"чел.-ч.","чел.-ч.",1,null,null,null,null,null,0,-1417349443,{"$f":"(AT606*ROUND((0.2+1),7))","v":0.40800000000000003},null,0,0,0,0,0,0,0,0,1,1,1,1,-2,0,0,1,1,0,"",0.34,"*(0,2+1)",2,2,85316508,1,0,606,1,0,0,0,0,0,0,0,0,0,0,0,0,0,0,0,0,0,0,0,0,0,null,null,null,null,null,null,null,null,null,null,null,null,null,null,null,null,null,null,null,null,null,null,null,null,0,0,{"$f":"ROUND(Y606*Source!I304,7)","v":0.11423999999999999},{"$f":"AD606","v":0},{"$f":"AH606","v":0},{"$f":"AL606","v":1},{"$f":"ROUND((ROUND(AT606*CZ606,2)*ROUND((0.2+1),7)),2)","v":0},{"$f":"ROUND((ROUND(AT606*AG606,2)*ROUND((0.2+1),7)),2)","v":0},"","",0,0,0,0,{"$f":"DI606","v":0},0,"",0,"",0]
[{"$f":"ROW(Source!A304)","v":304},85312357,85316497,83784178,1,1,1,2,"91.05.05-015","ФСЭМ-2022, 91.05.05-015, приказ Минстроя России от 18.05.2022 г. № 378/пр","Краны на автомобильном ходу, грузоподъемность 16 т",1368,null,1011,"маш.-ч","маш.-ч",1,null,null,null,null,null,0,639918019,{"$f":"(AT607*ROUND((0.2+1),7))","v":0.20400000000000001},null,0,1626.29,1090.46,0,0,1626.29,1090.46,0,1,1,1,1,-2,0,0,1,1,0,"",0.17,"*(0,2+1)",1,2,85316509,1,0,607,1,0,0,0,0,0,0,0,0,276.46930000000003,185.37820000000002,0,0,0.17,1,0,331.76316000000003,222.45384000000001,0,0,0.20400000000000001,1,null,null,null,null,null,null,null,null,null,null,null,null,null,null,null,null,null,null,null,null,null,null,null,null,0,{"$f":"ROUND(Y607*Source!I304*DO607,7)","v":5.7119999999999997E-2},{"$f":"ROUND(Y607*Source!I304,7)","v":5.7119999999999997E-2},{"$f":"AB607","v":1626.29},{"$f":"AF607","v":1626.29},{"$f":"AJ607","v":1},{"$f":"ROUND((ROUND(AT607*CZ607,2)*ROUND((0.2+1),7)),2)","v":331.76},{"$f":"ROUND((ROUND(AT607*AG607,2)*ROUND((0.2+1),7)),2)","v":222.46},"","",0,92.89,62.29,0,{"$f":"DG607+DH607","v":155.18},1,"4-100-060",6,"чел.-ч.",1]
[{"$f":"ROW(Source!A304)","v":304},85312357,85316497,83785072,1,1,1,2,"91.14.02-001","ФСЭМ-2022 доп.7, 91.14.02-001, приказ Минстроя России от 02.08.2023 г. № 551/пр","Автомобили бортовые, грузоподъемность до 5 т",1368,null,1011,"маш.-ч","маш.-ч",1,null,null,null,null,null,0,-849950259,{"$f":"(AT608*ROUND((0.2+1),7))","v":0.20400000000000001},null,0,641.70000000000005,811.79,0,0,641.70000000000005,811.79,0,1,1,1,1,-2,0,0,1,1,0,"",0.17,"*(0,2+1)",1,2,85316510,1,0,608,1,0,0,0,0,0,0,0,0,109.08900000000001,138.0043,0,0,0.17,1,0,130.90680000000003,165.60516000000001,0,0,0.20400000000000001,1,null,null,null,null,null,null,null,null,null,null,null,null,null,null,null,null,null,null,null,null,null,null,null,null,0,{"$f":"ROUND(Y608*Source!I304*DO608,7)","v":5.7119999999999997E-2},{"$f":"ROUND(Y608*Source!I304,7)","v":5.7119999999999997E-2},{"$f":"AB608","v":641.70000000000005},{"$f":"AF608","v":641.70000000000005},{"$f":"AJ608","v":1},{"$f":"ROUND((ROUND(AT608*CZ608,2)*ROUND((0.2+1),7)),2)","v":130.91},{"$f":"ROUND((ROUND(AT608*AG608,2)*ROUND((0.2+1),7)),2)","v":165.6},"","",0,36.65,46.37,0,{"$f":"DG608+DH608","v":83.02},1,"4-100-040",4,"чел.-ч.",1]
[{"$f":"ROW(Source!A304)","v":304},85312357,85316497,83785268,1,1,1,2,"91.17.04-233","ФСЭМ-2022, 91.17.04-233, приказ Минстроя России от 18.05.2022 г. № 378/пр","Аппараты сварочные для ручной дуговой сварки, сварочный ток до 350 А",1368,null,1011,"маш.-ч","маш.-ч",1,null,null,null,null,null,0,303316554,{"$f":"(AT609*ROUND((0.2+1),7))","v":3.48},null,0,34.61,0,0,0,34.61,0,0,1,1,1,1,-2,0,0,1,1,0,"",2.9,"*(0,2+1)",1,2,85316511,1,0,609,1,0,0,0,0,0,0,0,0,100.369,0,0,0,0,1,0,120.44279999999999,0,0,0,0,1,null,null,null,null,null,null,null,null,null,null,null,null,null,null,null,null,null,null,null,null,null,null,null,null,0,{"$f":"ROUND(Y609*Source!I304*DO609,7)","v":0},{"$f":"ROUND(Y609*Source!I304,7)","v":0.97440000000000004},{"$f":"AB609","v":34.61},{"$f":"AF609","v":34.61},{"$f":"AJ609","v":1},{"$f":"ROUND((ROUND(AT609*CZ609,2)*ROUND((0.2+1),7)),2)","v":120.44},{"$f":"ROUND((ROUND(AT609*AG609,2)*ROUND((0.2+1),7)),2)","v":0},"","",0,33.72,0,0,{"$f":"DG609+DH609","v":33.72},1,"",0,"",0]
[{"$f":"ROW(Source!A304)","v":304},85312357,85316497,83852582,1,1,1,3,"01.7.11.07-0227","ФСБЦ-2022, 01.7.11.07-0227, приказ Минстроя России от 18.05.2022 г. № 378/пр","Электроды сварочные для сварки низколегированных и углеродистых сталей УОНИ 13/45, Э42А, диаметр 4-5 мм",1346,null,1009,"кг","кг",1,null,null,null,null,null,0,-163259778,{"$f":"AT610","v":0.9},null,121.39,0,0,0,155.63,0,0,0,0.78,1,1,1,2,0,0,1,1,0,"",0.9,"",0,2,85316512,1,0,610,1,0,0,0,0,0,0,0,140.06700000000001,0,0,0,0,0,1,140.06700000000001,0,0,0,0,0,1,null,null,null,null,null,null,null,null,null,null,null,null,null,null,null,null,null,null,null,null,null,null,null,null,0,0,{"$f":"ROUND(Y610*Source!I304,7)","v":0.252},{"$f":"AA610","v":121.39},{"$f":"AE610","v":155.63},{"$f":"AI610","v":0.78},{"$f":"ROUND(ROUND(AT610*CZ610,2),2)","v":140.07},{"$f":"ROUND(ROUND(AT610*AG610,2),2)","v":0},"","",{"$f":"ROUND(ROUND(AE610*AI610,2)*CX610,2)","v":30.59},0,0,0,{"$f":"DF610","v":30.59},0,"",0,"",0]
[{"$f":"ROW(Source!A304)","v":304},85312357,85316497,83860653,1,1,1,3,"08.3.05.02-0021","ФСБЦ-2022, 08.3.05.02-0021, приказ Минстроя России от 18.05.2022 г. № 378/пр","Прокат листовой горячекатаный, марки стали Ст3сп, Ст3пс, ширина 1200-3000 мм, толщина 1-8 мм",1348,null,1009,"т","т",1000,null,null,null,null,null,0,-1417638397,{"$f":"AT611","v":4.0000000000000001E-3},null,49995.77,0,0,0,49995.77,0,0,0,1,1,1,1,-2,0,0,1,1,0,"",4.0000000000000001E-3,"",0,2,85316513,1,0,611,1,0,0,0,0,0,0,0,199.98308,0,0,0,0,0,1,199.98308,0,0,0,0,0,1,null,null,null,null,null,null,null,null,null,null,null,null,null,null,null,null,null,null,null,null,null,null,null,null,0,0,{"$f":"ROUND(Y611*Source!I304,7)","v":1.1199999999999999E-3},{"$f":"AA611","v":49995.77},{"$f":"AE611","v":49995.77},{"$f":"AI611","v":1},{"$f":"ROUND(ROUND(AT611*CZ611,2),2)","v":199.98},{"$f":"ROUND(ROUND(AT611*AG611,2),2)","v":0},"","",{"$f":"ROUND(ROUND(AE611,2)*CX611,2)","v":56},0,0,0,{"$f":"DF611","v":56},1,"",0,"",0]
[{"$f":"ROW(Source!A304)","v":304},85312357,85316497,83870453,1,1,1,3,"14.4.01.09-0427","ФСБЦ-2022 доп.8, 14.4.01.09-0427, приказ Минстроя России от 14.11.2023 г. № 817/пр","Грунтовка эпоксидная антикоррозионная с содержанием цинка для защиты металлических поверхностей, расход 0,20-0,39 кг/м2",1346,null,1009,"кг","кг",1,null,null,null,null,null,0,72056734,{"$f":"AT612","v":2.4},null,1139.45,0,0,0,911.56,0,0,0,1.25,1,1,1,2,0,0,1,1,0,"",2.4,"",0,2,85316514,1,0,612,1,0,0,0,0,0,0,0,2187.7439999999997,0,0,0,0,0,1,2187.7439999999997,0,0,0,0,0,1,null,null,null,null,null,null,null,null,null,null,null,null,null,null,null,null,null,null,null,null,null,null,null,null,0,0,{"$f":"ROUND(Y612*Source!I304,7)","v":0.67200000000000004},{"$f":"AA612","v":1139.45},{"$f":"AE612","v":911.56},{"$f":"AI612","v":1.25},{"$f":"ROUND(ROUND(AT612*CZ612,2),2)","v":2187.7399999999998},{"$f":"ROUND(ROUND(AT612*AG612,2),2)","v":0},"","",{"$f":"ROUND(ROUND(AE612*AI612,2)*CX612,2)","v":765.71},0,0,0,{"$f":"DF612","v":765.71},0,"",0,"",0]
[{"$f":"ROW(Source!A304)","v":304},85312357,85316497,83783523,117,1,1,3,"421/пр_2020_п.75_пп.а","","Сметная стоимость вспомогательных ненормируемых материальных ресурсов, не учтенная в сметной норме, 2%",3277935,null,1013,"%","%",1,null,null,null,null,null,0,274903907,{"$f":"AT613","v":2},null,0,0,0,0,0,0,0,0,1,1,1,1,0,0,0,0,0,0,"",2,"",0,2,85316515,1,0,613,0,0,0,0,0,0,0,0,0,0,0,0,0,0,0,0,0,0,0,0,0,0,null,null,null,null,null,null,null,null,null,null,null,null,null,null,null,null,null,null,null,null,null,null,null,null,0,0,{"$f":"ROUND(Y613*Source!I304,7)","v":0.56000000000000005},{"$f":"AA613","v":0},{"$f":"AE613","v":0},{"$f":"AI613","v":1},{"$f":"ROUND(ROUND(AT613*CZ613,2),2)","v":0},{"$f":"ROUND(ROUND(AT613*AG613,2),2)","v":0},"","",{"$f":"ROUND(ROUND(AE613,2)*CX613,2)","v":0},0,0,0,{"$f":"DF613","v":0},0,"",0,"",0]
[{"$f":"ROW(Source!A305)","v":305},85312298,85316497,83777513,117,1,1,1,"1-100-38","","Средний разряд работы 3,8",1191,null,1013,"чел.-ч.","чел.-ч.",1,null,null,null,null,null,0,44848675,{"$f":"(AT614*ROUND((0.2+1),7))","v":22.2},null,0,0,0,793.61,0,0,0,793.61,1,1,1,1,-2,0,0,1,1,0,"",18.5,"*(0,2+1)",1,2,85316507,1,0,614,1,0,0,0,0,0,0,0,0,0,0,14681.785,18.5,0,1,0,0,0,17618.142,22.2,0,1,null,null,null,null,null,null,null,null,null,null,null,null,null,null,null,null,null,null,null,null,null,null,null,{"$f":"ROUND(AT614*Source!I305*AH614*AL614,2)","v":4110.8999999999996},{"$f":"ROUND(Y614*Source!I305,7)","v":6.2160000000000002},0,{"$f":"ROUND(Y614*Source!I305,7)","v":6.2160000000000002},{"$f":"AD614","v":793.61},{"$f":"AH614","v":793.61},{"$f":"AL614","v":1},{"$f":"ROUND((ROUND(AT614*CZ614,2)*ROUND((0.2+1),7)),2)","v":17618.150000000001},{"$f":"ROUND((ROUND(AT614*AG614,2)*ROUND((0.2+1),7)),2)","v":0},"","",0,0,0,4933.08,{"$f":"DI614","v":4933.08},1,"",0,"",0]
[{"$f":"ROW(Source!A305)","v":305},85312298,85316497,83777689,117,1,1,1,"4-100-00","","Затраты труда машинистов",1191,null,1013,"чел.-ч.","чел.-ч.",1,null,null,null,null,null,0,-1417349443,{"$f":"(AT615*ROUND((0.2+1),7))","v":0.40800000000000003},null,0,0,0,0,0,0,0,0,1,1,1,1,-2,0,0,1,1,0,"",0.34,"*(0,2+1)",2,2,85316508,1,0,615,1,0,0,0,0,0,0,0,0,0,0,0,0,0,0,0,0,0,0,0,0,0,null,null,null,null,null,null,null,null,null,null,null,null,null,null,null,null,null,null,null,null,null,null,null,null,0,0,{"$f":"ROUND(Y615*Source!I305,7)","v":0.11423999999999999},{"$f":"AD615","v":0},{"$f":"AH615","v":0},{"$f":"AL615","v":1},{"$f":"ROUND((ROUND(AT615*CZ615,2)*ROUND((0.2+1),7)),2)","v":0},{"$f":"ROUND((ROUND(AT615*AG615,2)*ROUND((0.2+1),7)),2)","v":0},"","",0,0,0,0,{"$f":"DI615","v":0},0,"",0,"",0]
[{"$f":"ROW(Source!A305)","v":305},85312298,85316497,83784178,1,1,1,2,"91.05.05-015","ФСЭМ-2022, 91.05.05-015, приказ Минстроя России от 18.05.2022 г. № 378/пр","Краны на автомобильном ходу, грузоподъемность 16 т",1368,null,1011,"маш.-ч","маш.-ч",1,null,null,null,null,null,0,639918019,{"$f":"(AT616*ROUND((0.2+1),7))","v":0.20400000000000001},null,0,1626.29,1090.46,0,0,1626.29,1090.46,0,1,1,1,1,-2,0,0,1,1,0,"",0.17,"*(0,2+1)",1,2,85316509,1,0,616,1,0,0,0,0,0,0,0,0,276.46930000000003,185.37820000000002,0,0,0.17,1,0,331.76316000000003,222.45384000000001,0,0,0.20400000000000001,1,null,null,null,null,null,null,null,null,null,null,null,null,null,null,null,null,null,null,null,null,null,null,null,null,0,{"$f":"ROUND(Y616*Source!I305*DO616,7)","v":5.7119999999999997E-2},{"$f":"ROUND(Y616*Source!I305,7)","v":5.7119999999999997E-2},{"$f":"AB616","v":1626.29},{"$f":"AF616","v":1626.29},{"$f":"AJ616","v":1},{"$f":"ROUND((ROUND(AT616*CZ616,2)*ROUND((0.2+1),7)),2)","v":331.76},{"$f":"ROUND((ROUND(AT616*AG616,2)*ROUND((0.2+1),7)),2)","v":222.46},"","",0,92.89,62.29,0,{"$f":"DG616+DH616","v":155.18},1,"4-100-060",6,"чел.-ч.",1]
[{"$f":"ROW(Source!A305)","v":305},85312298,85316497,83785072,1,1,1,2,"91.14.02-001","ФСЭМ-2022 доп.7, 91.14.02-001, приказ Минстроя России от 02.08.2023 г. № 551/пр","Автомобили бортовые, грузоподъемность до 5 т",1368,null,1011,"маш.-ч","маш.-ч",1,null,null,null,null,null,0,-849950259,{"$f":"(AT617*ROUND((0.2+1),7))","v":0.20400000000000001},null,0,641.70000000000005,811.79,0,0,641.70000000000005,811.79,0,1,1,1,1,-2,0,0,1,1,0,"",0.17,"*(0,2+1)",1,2,85316510,1,0,617,1,0,0,0,0,0,0,0,0,109.08900000000001,138.0043,0,0,0.17,1,0,130.90680000000003,165.60516000000001,0,0,0.20400000000000001,1,null,null,null,null,null,null,null,null,null,null,null,null,null,null,null,null,null,null,null,null,null,null,null,null,0,{"$f":"ROUND(Y617*Source!I305*DO617,7)","v":5.7119999999999997E-2},{"$f":"ROUND(Y617*Source!I305,7)","v":5.7119999999999997E-2},{"$f":"AB617","v":641.70000000000005},{"$f":"AF617","v":641.70000000000005},{"$f":"AJ617","v":1},{"$f":"ROUND((ROUND(AT617*CZ617,2)*ROUND((0.2+1),7)),2)","v":130.91},{"$f":"ROUND((ROUND(AT617*AG617,2)*ROUND((0.2+1),7)),2)","v":165.6},"","",0,36.65,46.37,0,{"$f":"DG617+DH617","v":83.02},1,"4-100-040",4,"чел.-ч.",1]
[{"$f":"ROW(Source!A305)","v":305},85312298,85316497,83785268,1,1,1,2,"91.17.04-233","ФСЭМ-2022, 91.17.04-233, приказ Минстроя России от 18.05.2022 г. № 378/пр","Аппараты сварочные для ручной дуговой сварки, сварочный ток до 350 А",1368,null,1011,"маш.-ч","маш.-ч",1,null,null,null,null,null,0,303316554,{"$f":"(AT618*ROUND((0.2+1),7))","v":3.48},null,0,34.61,0,0,0,34.61,0,0,1,1,1,1,-2,0,0,1,1,0,"",2.9,"*(0,2+1)",1,2,85316511,1,0,618,1,0,0,0,0,0,0,0,0,100.369,0,0,0,0,1,0,120.44279999999999,0,0,0,0,1,null,null,null,null,null,null,null,null,null,null,null,null,null,null,null,null,null,null,null,null,null,null,null,null,0,{"$f":"ROUND(Y618*Source!I305*DO618,7)","v":0},{"$f":"ROUND(Y618*Source!I305,7)","v":0.97440000000000004},{"$f":"AB618","v":34.61},{"$f":"AF618","v":34.61},{"$f":"AJ618","v":1},{"$f":"ROUND((ROUND(AT618*CZ618,2)*ROUND((0.2+1),7)),2)","v":120.44},{"$f":"ROUND((ROUND(AT618*AG618,2)*ROUND((0.2+1),7)),2)","v":0},"","",0,33.72,0,0,{"$f":"DG618+DH618","v":33.72},1,"",0,"",0]
[{"$f":"ROW(Source!A305)","v":305},85312298,85316497,83852582,1,1,1,3,"01.7.11.07-0227","ФСБЦ-2022, 01.7.11.07-0227, приказ Минстроя России от 18.05.2022 г. № 378/пр","Электроды сварочные для сварки низколегированных и углеродистых сталей УОНИ 13/45, Э42А, диаметр 4-5 мм",1346,null,1009,"кг","кг",1,null,null,null,null,null,0,-163259778,{"$f":"AT619","v":0.9},null,121.39,0,0,0,155.63,0,0,0,0.78,1,1,1,2,0,0,1,1,0,"",0.9,"",0,2,85316512,1,0,619,1,0,0,0,0,0,0,0,140.06700000000001,0,0,0,0,0,1,140.06700000000001,0,0,0,0,0,1,null,null,null,null,null,null,null,null,null,null,null,null,null,null,null,null,null,null,null,null,null,null,null,null,0,0,{"$f":"ROUND(Y619*Source!I305,7)","v":0.252},{"$f":"AA619","v":121.39},{"$f":"AE619","v":155.63},{"$f":"AI619","v":0.78},{"$f":"ROUND(ROUND(AT619*CZ619,2),2)","v":140.07},{"$f":"ROUND(ROUND(AT619*AG619,2),2)","v":0},"","",{"$f":"ROUND(ROUND(AE619*AI619,2)*CX619,2)","v":30.59},0,0,0,{"$f":"DF619","v":30.59},0,"",0,"",0]
[{"$f":"ROW(Source!A305)","v":305},85312298,85316497,83860653,1,1,1,3,"08.3.05.02-0021","ФСБЦ-2022, 08.3.05.02-0021, приказ Минстроя России от 18.05.2022 г. № 378/пр","Прокат листовой горячекатаный, марки стали Ст3сп, Ст3пс, ширина 1200-3000 мм, толщина 1-8 мм",1348,null,1009,"т","т",1000,null,null,null,null,null,0,-1417638397,4.0000000000000001E-3,null,49995.77,0,0,0,49995.77,0,0,0,1,1,1,1,-2,0,0,1,1,0,"",4.0000000000000001E-3,"",0,2,85316513,1,0,620,1,0,0,0,0,0,0,0,199.98308,0,0,0,0,0,1,199.98308,0,0,0,0,0,1,null,null,null,null,null,null,null,null,null,null,null,null,null,null,null,null,null,null,null,null,null,null,null,null,0,0,{"$f":"ROUND(Y620*Source!I305,7)","v":1.1199999999999999E-3},{"$f":"AA620","v":49995.77},{"$f":"AE620","v":49995.77},{"$f":"AI620","v":1},199.98,0,"","",{"$f":"ROUND(ROUND(AE620,2)*CX620,2)","v":56},0,0,0,{"$f":"DF620","v":56},1,"",0,"",0]
[{"$f":"ROW(Source!A305)","v":305},85312298,85316497,83870453,1,1,1,3,"14.4.01.09-0427","ФСБЦ-2022 доп.8, 14.4.01.09-0427, приказ Минстроя России от 14.11.2023 г. № 817/пр","Грунтовка эпоксидная антикоррозионная с содержанием цинка для защиты металлических поверхностей, расход 0,20-0,39 кг/м2",1346,null,1009,"кг","кг",1,null,null,null,null,null,0,72056734,2.4,null,1139.45,0,0,0,911.56,0,0,0,1.25,1,1,1,2,0,0,1,1,0,"",2.4,"",0,2,85316514,1,0,621,1,0,0,0,0,0,0,0,2187.7439999999997,0,0,0,0,0,1,2187.7439999999997,0,0,0,0,0,1,null,null,null,null,null,null,null,null,null,null,null,null,null,null,null,null,null,null,null,null,null,null,null,null,0,0,{"$f":"ROUND(Y621*Source!I305,7)","v":0.67200000000000004},{"$f":"AA621","v":1139.45},{"$f":"AE621","v":911.56},{"$f":"AI621","v":1.25},2187.7399999999998,0,"","",{"$f":"ROUND(ROUND(AE621*AI621,2)*CX621,2)","v":765.71},0,0,0,{"$f":"DF621","v":765.71},0,"",0,"",0]
[{"$f":"ROW(Source!A305)","v":305},85312298,85316497,83783523,117,1,1,3,"421/пр_2020_п.75_пп.а","","Сметная стоимость вспомогательных ненормируемых материальных ресурсов, не учтенная в сметной норме, 2%",3277935,null,1013,"%","%",1,null,null,null,null,null,0,274903907,2,null,0,0,0,0,0,0,0,0,1,1,1,1,0,0,0,0,0,0,"",2,"",0,2,85316515,1,0,622,0,0,0,0,0,0,0,0,0,0,0,0,0,0,0,0,0,0,0,0,0,0,null,null,null,null,null,null,null,null,null,null,null,null,null,null,null,null,null,null,null,null,null,null,null,null,0,0,{"$f":"ROUND(Y622*Source!I305,7)","v":0.56000000000000005},{"$f":"AA622","v":0},{"$f":"AE622","v":0},{"$f":"AI622","v":1},0,0,"","",{"$f":"ROUND(ROUND(AE622,2)*CX622,2)","v":0},0,0,0,{"$f":"DF622","v":0},0,"",0,"",0]
[{"$f":"ROW(Source!A311)","v":311},85312357,85316519,83777519,117,1,1,1,"1-100-40","","Средний разряд работы 4,0",1191,null,1013,"чел.-ч.","чел.-ч.",1,null,null,null,null,null,0,888410196,41.2,null,0,0,0,811.79,0,0,0,811.79,1,1,1,1,-2,0,0,1,1,0,"",41.2,"",1,2,85316529,1,0,623,1,0,0,0,0,0,0,0,0,0,0,33445.748,41.2,0,1,0,0,0,33445.748,41.2,0,1,null,null,null,null,null,null,null,null,null,null,null,null,null,null,null,null,null,null,null,null,null,null,null,{"$f":"ROUND(AT623*Source!I311*AH623*AL623,2)","v":5685.78},{"$f":"ROUND(Y623*Source!I311,7)","v":7.0039999999999996},0,{"$f":"ROUND(Y623*Source!I311,7)","v":7.0039999999999996},{"$f":"AD623","v":811.79},{"$f":"AH623","v":811.79},{"$f":"AL623","v":1},33445.75,0,"","",0,0,0,5685.78,{"$f":"DI623","v":5685.78},1,"",0,"",0]
[{"$f":"ROW(Source!A311)","v":311},85312357,85316519,83777689,117,1,1,1,"4-100-00","","Затраты труда машинистов",1191,null,1013,"чел.-ч.","чел.-ч.",1,null,null,null,null,null,0,-1417349443,0.2,null,0,0,0,0,0,0,0,0,1,1,1,1,-2,0,0,1,1,0,"",0.2,"",2,2,85316530,1,0,624,1,0,0,0,0,0,0,0,0,0,0,0,0,0,0,0,0,0,0,0,0,0,null,null,null,null,null,null,null,null,null,null,null,null,null,null,null,null,null,null,null,null,null,null,null,null,0,0,{"$f":"ROUND(Y624*Source!I311,7)","v":3.4000000000000002E-2},{"$f":"AD624","v":0},{"$f":"AH624","v":0},{"$f":"AL624","v":1},0,0,"","",0,0,0,0,{"$f":"DI624","v":0},0,"",0,"",0]
[{"$f":"ROW(Source!A311)","v":311},85312357,85316519,83784178,1,1,1,2,"91.05.05-015","ФСЭМ-2022, 91.05.05-015, приказ Минстроя России от 18.05.2022 г. № 378/пр","Краны на автомобильном ходу, грузоподъемность 16 т",1368,null,1011,"маш.-ч","маш.-ч",1,null,null,null,null,null,0,639918019,0.1,null,0,1626.29,1090.46,0,0,1626.29,1090.46,0,1,1,1,1,-2,0,0,1,1,0,"",0.1,"",1,2,85316531,1,0,625,1,0,0,0,0,0,0,0,0,162.62900000000002,109.04600000000001,0,0,0.1,1,0,162.62900000000002,109.04600000000001,0,0,0.1,1,null,null,null,null,null,null,null,null,null,null,null,null,null,null,null,null,null,null,null,null,null,null,null,null,0,{"$f":"ROUND(Y625*Source!I311*DO625,7)","v":1.7000000000000001E-2},{"$f":"ROUND(Y625*Source!I311,7)","v":1.7000000000000001E-2},{"$f":"AB625","v":1626.29},{"$f":"AF625","v":1626.29},{"$f":"AJ625","v":1},162.63,109.05,"","",0,27.65,18.54,0,{"$f":"DG625+DH625","v":46.19},1,"4-100-060",6,"чел.-ч.",1]
[{"$f":"ROW(Source!A311)","v":311},85312357,85316519,83785072,1,1,1,2,"91.14.02-001","ФСЭМ-2022 доп.7, 91.14.02-001, приказ Минстроя России от 02.08.2023 г. № 551/пр","Автомобили бортовые, грузоподъемность до 5 т",1368,null,1011,"маш.-ч","маш.-ч",1,null,null,null,null,null,0,-849950259,0.1,null,0,641.70000000000005,811.79,0,0,641.70000000000005,811.79,0,1,1,1,1,-2,0,0,1,1,0,"",0.1,"",1,2,85316532,1,0,626,1,0,0,0,0,0,0,0,0,64.17,81.179000000000002,0,0,0.1,1,0,64.17,81.179000000000002,0,0,0.1,1,null,null,null,null,null,null,null,null,null,null,null,null,null,null,null,null,null,null,null,null,null,null,null,null,0,{"$f":"ROUND(Y626*Source!I311*DO626,7)","v":1.7000000000000001E-2},{"$f":"ROUND(Y626*Source!I311,7)","v":1.7000000000000001E-2},{"$f":"AB626","v":641.70000000000005},{"$f":"AF626","v":641.70000000000005},{"$f":"AJ626","v":1},64.17,81.180000000000007,"","",0,{"$f":"ROUND(ROUND(AF626,2)*CX626,2)","v":10.91},13.8,0,{"$f":"DG626+DH626","v":24.71},1,"4-100-040",4,"чел.-ч.",1]
[{"$f":"ROW(Source!A311)","v":311},85312357,85316519,83785268,1,1,1,2,"91.17.04-233","ФСЭМ-2022, 91.17.04-233, приказ Минстроя России от 18.05.2022 г. № 378/пр","Аппараты сварочные для ручной дуговой сварки, сварочный ток до 350 А",1368,null,1011,"маш.-ч","маш.-ч",1,null,null,null,null,null,0,303316554,0,null,0,34.61,0,0,0,34.61,0,0,1,1,1,1,-2,0,0,1,1,0,"",0,"",1,2,85316533,1,6144,627,1,0,0,0,0,0,0,0,0,0,0,0,0,0,0,0,0,0,0,0,0,0,null,null,null,null,null,null,null,null,null,null,null,null,null,null,null,null,null,null,null,null,null,null,null,null,0,{"$f":"ROUND(Y627*Source!I311*DO627,7)","v":0},{"$f":"ROUND(Y627*Source!I311,7)","v":0},{"$f":"AB627","v":34.61},{"$f":"AF627","v":34.61},{"$f":"AJ627","v":1},0,0,"","",0,0,0,0,{"$f":"DG627+DH627","v":0},1,"",0,"",0]
[{"$f":"ROW(Source!A311)","v":311},85312357,85316519,83860728,1,1,1,3,"08.3.07.01-0052","ФСБЦ-2022 доп.4, 08.3.07.01-0052, приказ Минстроя России от 27.12.2022 г. № 1133/пр","Прокат стальной горячекатаный полосовой, марки стали Ст3сп, Ст3пс, размеры 50х5 мм",1348,null,1009,"т","т",1000,null,null,null,null,null,0,-560086148,0,null,52029.73,0,0,0,70310.45,0,0,0,0.74,1,1,1,2,0,0,1,1,0,"",0,"",0,2,85316534,1,6144,628,1,0,0,0,0,0,0,0,0,0,0,0,0,0,0,0,0,0,0,0,0,0,null,null,null,null,null,null,null,null,null,null,null,null,null,null,null,null,null,null,null,null,null,null,null,null,0,0,{"$f":"ROUND(Y628*Source!I311,7)","v":0},{"$f":"AA628","v":52029.73},{"$f":"AE628","v":70310.45},{"$f":"AI628","v":0.74},0,0,"","",{"$f":"ROUND(ROUND(AE628*AI628,2)*CX628,2)","v":0},0,0,0,{"$f":"DF628","v":0},0,"",0,"",0]
[{"$f":"ROW(Source!A311)","v":311},85312357,85316519,83870516,1,1,1,3,"14.4.02.04-0142","ФСБЦ-2022, 14.4.02.04-0142, приказ Минстроя России от 18.05.2022 г. № 378/пр","Краска масляная МА-0115, мумия, сурик железный",1346,null,1009,"кг","кг",1,null,null,null,null,null,0,291254868,0,null,115.03,0,0,0,79.88,0,0,0,1.44,1,1,1,2,0,0,1,1,0,"",0,"",0,2,85316535,1,6144,629,1,0,0,0,0,0,0,0,0,0,0,0,0,0,0,0,0,0,0,0,0,0,null,null,null,null,null,null,null,null,null,null,null,null,null,null,null,null,null,null,null,null,null,null,null,null,0,0,{"$f":"ROUND(Y629*Source!I311,7)","v":0},{"$f":"AA629","v":115.03},{"$f":"AE629","v":79.88},{"$f":"AI629","v":1.44},0,0,"","",{"$f":"ROUND(ROUND(AE629*AI629,2)*CX629,2)","v":0},0,0,0,{"$f":"DF629","v":0},0,"",0,"",0]
[{"$f":"ROW(Source!A311)","v":311},85312357,85316519,83881219,1,1,1,3,"20.5.04.03-0002","ФСБЦ-2022, 20.5.04.03-0002, приказ Минстроя России от 18.05.2022 г. № 378/пр","Зажимы наборные проходные ЗН24-4П25",1425,null,1013,"100 ШТ","100 ШТ",1,null,null,null,null,null,0,-568563229,-1.02,null,1022.02,0,0,0,896.51,0,0,0,1.1399999999999999,1,1,1,2,0,0,1,0,0,"",-1.02,"",0,2,85316536,1,6144,630,0,0,0,0,0,0,0,0,0,0,0,0,0,0,0,0,0,0,0,0,0,0,null,null,null,null,null,null,null,null,null,null,null,null,null,null,null,null,null,null,null,null,null,null,null,null,0,0,{"$f":"ROUND(Y630*Source!I311,7)","v":-0.1734},{"$f":"AA630","v":1022.02},{"$f":"AE630","v":896.51},{"$f":"AI630","v":1.1399999999999999},-914.44,0,"","",{"$f":"ROUND(ROUND(AE630*AI630,2)*CX630,2)","v":-177.22},0,0,0,{"$f":"DF630","v":-177.22},0,"",0,"",0]
[{"$f":"ROW(Source!A311)","v":311},85312357,85316519,83783523,117,1,1,3,"421/пр_2020_п.75_пп.а","","Сметная стоимость вспомогательных ненормируемых материальных ресурсов, не учтенная в сметной норме, 2%",3277935,null,1013,"%","%",1,null,null,null,null,null,0,274903907,2,null,0,0,0,0,0,0,0,0,1,1,1,1,0,0,0,0,0,0,"",2,"",0,2,85316537,1,0,631,0,0,0,0,0,0,0,0,0,0,0,0,0,0,0,0,0,0,0,0,0,0,null,null,null,null,null,null,null,null,null,null,null,null,null,null,null,null,null,null,null,null,null,null,null,null,0,0,{"$f":"ROUND(Y631*Source!I311,7)","v":0.34},{"$f":"AA631","v":0},{"$f":"AE631","v":0},{"$f":"AI631","v":1},0,0,"","",{"$f":"ROUND(ROUND(AE631,2)*CX631,2)","v":0},0,0,0,{"$f":"DF631","v":0},0,"",0,"",0]
[{"$f":"ROW(Source!A312)","v":312},85312298,85316519,83777519,117,1,1,1,"1-100-40","","Средний разряд работы 4,0",1191,null,1013,"чел.-ч.","чел.-ч.",1,null,null,null,null,null,0,888410196,41.2,null,0,0,0,811.79,0,0,0,811.79,1,1,1,1,-2,0,0,1,1,0,"",41.2,"",1,2,85316529,1,0,632,1,0,0,0,0,0,0,0,0,0,0,33445.748,41.2,0,1,0,0,0,33445.748,41.2,0,1,null,null,null,null,null,null,null,null,null,null,null,null,null,null,null,null,null,null,null,null,null,null,null,{"$f":"ROUND(AT632*Source!I312*AH632*AL632,2)","v":5685.78},{"$f":"ROUND(Y632*Source!I312,7)","v":7.0039999999999996},0,{"$f":"ROUND(Y632*Source!I312,7)","v":7.0039999999999996},{"$f":"AD632","v":811.79},{"$f":"AH632","v":811.79},{"$f":"AL632","v":1},33445.75,0,"","",0,0,0,5685.78,{"$f":"DI632","v":5685.78},1,"",0,"",0]
[{"$f":"ROW(Source!A312)","v":312},85312298,85316519,83777689,117,1,1,1,"4-100-00","","Затраты труда машинистов",1191,null,1013,"чел.-ч.","чел.-ч.",1,null,null,null,null,null,0,-1417349443,0.2,null,0,0,0,0,0,0,0,0,1,1,1,1,-2,0,0,1,1,0,"",0.2,"",2,2,85316530,1,0,633,1,0,0,0,0,0,0,0,0,0,0,0,0,0,0,0,0,0,0,0,0,0,null,null,null,null,null,null,null,null,null,null,null,null,null,null,null,null,null,null,null,null,null,null,null,null,0,0,{"$f":"ROUND(Y633*Source!I312,7)","v":3.4000000000000002E-2},{"$f":"AD633","v":0},{"$f":"AH633","v":0},{"$f":"AL633","v":1},0,0,"","",0,0,0,0,{"$f":"DI633","v":0},0,"",0,"",0]
[{"$f":"ROW(Source!A312)","v":312},85312298,85316519,83784178,1,1,1,2,"91.05.05-015","ФСЭМ-2022, 91.05.05-015, приказ Минстроя России от 18.05.2022 г. № 378/пр","Краны на автомобильном ходу, грузоподъемность 16 т",1368,null,1011,"маш.-ч","маш.-ч",1,null,null,null,null,null,0,639918019,0.1,null,0,1626.29,1090.46,0,0,1626.29,1090.46,0,1,1,1,1,-2,0,0,1,1,0,"",0.1,"",1,2,85316531,1,0,634,1,0,0,0,0,0,0,0,0,162.62900000000002,109.04600000000001,0,0,0.1,1,0,162.62900000000002,109.04600000000001,0,0,0.1,1,null,null,null,null,null,null,null,null,null,null,null,null,null,null,null,null,null,null,null,null,null,null,null,null,0,{"$f":"ROUND(Y634*Source!I312*DO634,7)","v":1.7000000000000001E-2},{"$f":"ROUND(Y634*Source!I312,7)","v":1.7000000000000001E-2},{"$f":"AB634","v":1626.29},{"$f":"AF634","v":1626.29},{"$f":"AJ634","v":1},162.63,109.05,"","",0,27.65,18.54,0,{"$f":"DG634+DH634","v":46.19},1,"4-100-060",6,"чел.-ч.",1]
[{"$f":"ROW(Source!A312)","v":312},85312298,85316519,83785072,1,1,1,2,"91.14.02-001","ФСЭМ-2022 доп.7, 91.14.02-001, приказ Минстроя России от 02.08.2023 г. № 551/пр","Автомобили бортовые, грузоподъемность до 5 т",1368,null,1011,"маш.-ч","маш.-ч",1,null,null,null,null,null,0,-849950259,0.1,null,0,641.70000000000005,811.79,0,0,641.70000000000005,811.79,0,1,1,1,1,-2,0,0,1,1,0,"",0.1,"",1,2,85316532,1,0,635,1,0,0,0,0,0,0,0,0,64.17,81.179000000000002,0,0,0.1,1,0,64.17,81.179000000000002,0,0,0.1,1,null,null,null,null,null,null,null,null,null,null,null,null,null,null,null,null,null,null,null,null,null,null,null,null,0,{"$f":"ROUND(Y635*Source!I312*DO635,7)","v":1.7000000000000001E-2},{"$f":"ROUND(Y635*Source!I312,7)","v":1.7000000000000001E-2},{"$f":"AB635","v":641.70000000000005},{"$f":"AF635","v":641.70000000000005},{"$f":"AJ635","v":1},64.17,81.180000000000007,"","",0,10.91,13.8,0,{"$f":"DG635+DH635","v":24.71},1,"4-100-040",4,"чел.-ч.",1]
[{"$f":"ROW(Source!A312)","v":312},85312298,85316519,83785268,1,1,1,2,"91.17.04-233","ФСЭМ-2022, 91.17.04-233, приказ Минстроя России от 18.05.2022 г. № 378/пр","Аппараты сварочные для ручной дуговой сварки, сварочный ток до 350 А",1368,null,1011,"маш.-ч","маш.-ч",1,null,null,null,null,null,0,303316554,0,null,0,34.61,0,0,0,34.61,0,0,1,1,1,1,-2,0,0,1,1,0,"",0,"",1,2,85316533,1,6144,636,1,0,0,0,0,0,0,0,0,0,0,0,0,0,0,0,0,0,0,0,0,0,null,null,null,null,null,null,null,null,null,null,null,null,null,null,null,null,null,null,null,null,null,null,null,null,0,{"$f":"ROUND(Y636*Source!I312*DO636,7)","v":0},{"$f":"ROUND(Y636*Source!I312,7)","v":0},{"$f":"AB636","v":34.61},{"$f":"AF636","v":34.61},{"$f":"AJ636","v":1},0,0,"","",0,0,0,0,{"$f":"DG636+DH636","v":0},1,"",0,"",0]
[{"$f":"ROW(Source!A312)","v":312},85312298,85316519,83860728,1,1,1,3,"08.3.07.01-0052","ФСБЦ-2022 доп.4, 08.3.07.01-0052, приказ Минстроя России от 27.12.2022 г. № 1133/пр","Прокат стальной горячекатаный полосовой, марки стали Ст3сп, Ст3пс, размеры 50х5 мм",1348,null,1009,"т","т",1000,null,null,null,null,null,0,-560086148,0,null,52029.73,0,0,0,70310.45,0,0,0,0.74,1,1,1,2,0,0,1,1,0,"",0,"",0,2,85316534,1,6144,637,1,0,0,0,0,0,0,0,0,0,0,0,0,0,0,0,0,0,0,0,0,0,null,null,null,null,null,null,null,null,null,null,null,null,null,null,null,null,null,null,null,null,null,null,null,null,0,0,{"$f":"ROUND(Y637*Source!I312,7)","v":0},{"$f":"AA637","v":52029.73},{"$f":"AE637","v":70310.45},{"$f":"AI637","v":0.74},0,0,"","",{"$f":"ROUND(ROUND(AE637*AI637,2)*CX637,2)","v":0},0,0,0,{"$f":"DF637","v":0},0,"",0,"",0]
[{"$f":"ROW(Source!A312)","v":312},85312298,85316519,83870516,1,1,1,3,"14.4.02.04-0142","ФСБЦ-2022, 14.4.02.04-0142, приказ Минстроя России от 18.05.2022 г. № 378/пр","Краска масляная МА-0115, мумия, сурик железный",1346,null,1009,"кг","кг",1,null,null,null,null,null,0,291254868,0,null,115.03,0,0,0,79.88,0,0,0,1.44,1,1,1,2,0,0,1,1,0,"",0,"",0,2,85316535,1,6144,638,1,0,0,0,0,0,0,0,0,0,0,0,0,0,0,0,0,0,0,0,0,0,null,null,null,null,null,null,null,null,null,null,null,null,null,null,null,null,null,null,null,null,null,null,null,null,0,0,{"$f":"ROUND(Y638*Source!I312,7)","v":0},{"$f":"AA638","v":115.03},{"$f":"AE638","v":79.88},{"$f":"AI638","v":1.44},0,0,"","",{"$f":"ROUND(ROUND(AE638*AI638,2)*CX638,2)","v":0},0,0,0,{"$f":"DF638","v":0},0,"",0,"",0]
[{"$f":"ROW(Source!A312)","v":312},85312298,85316519,83881219,1,1,1,3,"20.5.04.03-0002","ФСБЦ-2022, 20.5.04.03-0002, приказ Минстроя России от 18.05.2022 г. № 378/пр","Зажимы наборные проходные ЗН24-4П25",1425,null,1013,"100 ШТ","100 ШТ",1,null,null,null,null,null,0,-568563229,-1.02,null,1022.02,0,0,0,896.51,0,0,0,1.1399999999999999,1,1,1,2,0,0,1,0,0,"",-1.02,"",0,2,85316536,1,6144,639,0,0,0,0,0,0,0,0,0,0,0,0,0,0,0,0,0,0,0,0,0,0,null,null,null,null,null,null,null,null,null,null,null,null,null,null,null,null,null,null,null,null,null,null,null,null,0,0,{"$f":"ROUND(Y639*Source!I312,7)","v":-0.1734},{"$f":"AA639","v":1022.02},{"$f":"AE639","v":896.51},{"$f":"AI639","v":1.1399999999999999},-914.44,0,"","",{"$f":"ROUND(ROUND(AE639*AI639,2)*CX639,2)","v":-177.22},0,0,0,{"$f":"DF639","v":-177.22},0,"",0,"",0]
[{"$f":"ROW(Source!A312)","v":312},85312298,85316519,83783523,117,1,1,3,"421/пр_2020_п.75_пп.а","","Сметная стоимость вспомогательных ненормируемых материальных ресурсов, не учтенная в сметной норме, 2%",3277935,null,1013,"%","%",1,null,null,null,null,null,0,274903907,2,null,0,0,0,0,0,0,0,0,1,1,1,1,0,0,0,0,0,0,"",2,"",0,2,85316537,1,0,640,0,0,0,0,0,0,0,0,0,0,0,0,0,0,0,0,0,0,0,0,0,0,null,null,null,null,null,null,null,null,null,null,null,null,null,null,null,null,null,null,null,null,null,null,null,null,0,0,{"$f":"ROUND(Y640*Source!I312,7)","v":0.34},{"$f":"AA640","v":0},{"$f":"AE640","v":0},{"$f":"AI640","v":1},0,0,"","",{"$f":"ROUND(ROUND(AE640,2)*CX640,2)","v":0},0,0,0,{"$f":"DF640","v":0},0,"",0,"",0]
[{"$f":"ROW(Source!A542)","v":542},85312357,85316583,83777659,117,1,1,1,"2-100-06","","Рабочий 6 разряда",1369,null,1013,"чел.-ч","чел.-ч",1,null,null,null,null,null,0,286205319,{"$f":"(AT641*ROUND((0.2+1),7))","v":0.6},null,0,0,0,1090.46,0,0,0,1090.46,1,1,1,1,-2,0,0,1,1,0,"",0.5,"*(0,2+1)",1,2,85316586,1,0,641,1,0,0,0,0,0,0,0,0,0,0,545.23,0.5,0,1,0,0,0,654.27599999999995,0.6,0,1,null,null,null,null,null,null,null,null,null,null,null,null,null,null,null,null,null,null,null,null,null,null,null,{"$f":"ROUND(AT641*Source!I542*AH641*AL641,2)","v":2180.92},{"$f":"ROUND(Y641*Source!I542,7)","v":2.4},0,{"$f":"ROUND(Y641*Source!I542,7)","v":2.4},{"$f":"AD641","v":1090.46},{"$f":"AH641","v":1090.46},{"$f":"AL641","v":1},{"$f":"ROUND((ROUND(AT641*CZ641,2)*ROUND((0.2+1),7)),2)","v":654.28},{"$f":"ROUND((ROUND(AT641*AG641,2)*ROUND((0.2+1),7)),2)","v":0},"","",0,0,{"$f":"ROUND(ROUND(AG641,2)*CX641,2)","v":0},{"$f":"ROUND(ROUND(AH641,2)*CX641,2)","v":2617.1},{"$f":"DI641","v":2617.1},1,"",0,"",0]
[{"$f":"ROW(Source!A542)","v":542},85312357,85316583,83777683,117,1,1,1,"3-200-03","","Инженер III категории",1369,null,1013,"чел.-ч","чел.-ч",1,null,null,null,null,null,0,126826561,0.6,null,0,0,0,1066.23,0,0,0,1066.23,1,1,1,1,-2,0,0,1,1,0,"",0.5,"*(0,2+1)",1,2,85316587,1,0,642,1,0,0,0,0,0,0,0,0,0,0,533.11500000000001,0.5,0,1,0,0,0,639.73799999999994,0.6,0,1,null,null,null,null,null,null,null,null,null,null,null,null,null,null,null,null,null,null,null,null,null,null,null,{"$f":"ROUND(AT642*Source!I542*AH642*AL642,2)","v":2132.46},{"$f":"ROUND(Y642*Source!I542,7)","v":2.4},0,{"$f":"ROUND(Y642*Source!I542,7)","v":2.4},1066.23,1066.23,1,639.74,0,"","",0,0,0,2558.9499999999998,2558.9499999999998,1,"",0,"",0]
[{"$f":"ROW(Source!A543)","v":543},85312298,85316583,83777659,117,1,1,1,"2-100-06","","Рабочий 6 разряда",1369,null,1013,"чел.-ч","чел.-ч",1,null,null,null,null,null,0,286205319,0.6,null,0,0,0,1090.46,0,0,0,1090.46,1,1,1,1,-2,0,0,1,1,0,"",0.5,"*(0,2+1)",1,2,85316586,1,0,643,1,0,0,0,0,0,0,0,0,0,0,545.23,0.5,0,1,0,0,0,654.27599999999995,0.6,0,1,null,null,null,null,null,null,null,null,null,null,null,null,null,null,null,null,null,null,null,null,null,null,null,{"$f":"ROUND(AT643*Source!I543*AH643*AL643,2)","v":2180.92},{"$f":"ROUND(Y643*Source!I543,7)","v":2.4},0,{"$f":"ROUND(Y643*Source!I543,7)","v":2.4},1090.46,1090.46,1,654.28,0,"","",0,0,0,2617.1,2617.1,1,"",0,"",0]
[{"$f":"ROW(Source!A543)","v":543},85312298,85316583,83777683,117,1,1,1,"3-200-03","","Инженер III категории",1369,null,1013,"чел.-ч","чел.-ч",1,null,null,null,null,null,0,126826561,0.6,null,0,0,0,1066.23,0,0,0,1066.23,1,1,1,1,-2,0,0,1,1,0,"",0.5,"*(0,2+1)",1,2,85316587,1,0,644,1,0,0,0,0,0,0,0,0,0,0,533.11500000000001,0.5,0,1,0,0,0,639.73799999999994,0.6,0,1,null,null,null,null,null,null,null,null,null,null,null,null,null,null,null,null,null,null,null,null,null,null,null,{"$f":"ROUND(AT644*Source!I543*AH644*AL644,2)","v":2132.46},{"$f":"ROUND(Y644*Source!I543,7)","v":2.4},0,{"$f":"ROUND(Y644*Source!I543,7)","v":2.4},1066.23,1066.23,1,639.74,0,"","",0,0,0,2558.9499999999998,2558.9499999999998,1,"",0,"",0]
[{"$f":"ROW(Source!A545)","v":545},85312357,85316589,83777659,117,1,1,1,"2-100-06","","Рабочий 6 разряда",1369,null,1013,"чел.-ч","чел.-ч",1,null,null,null,null,null,0,286205319,7.7759999999999998,null,0,0,0,1090.46,0,0,0,1090.46,1,1,1,1,-2,0,0,1,1,0,"",6.48,"*(0,2+1)",1,2,85316592,1,0,645,1,0,0,0,0,0,0,0,0,0,0,7066.180800000001,6.48,0,1,0,0,0,8479.4169600000005,7.7759999999999998,0,1,null,null,null,null,null,null,null,null,null,null,null,null,null,null,null,null,null,null,null,null,null,null,null,{"$f":"ROUND(AT645*Source!I545*AH645*AL645,2)","v":565.29},{"$f":"ROUND(Y645*Source!I545,7)","v":0.62207999999999997},0,{"$f":"ROUND(Y645*Source!I545,7)","v":0.62207999999999997},1090.46,1090.46,1,8479.42,0,"","",0,0,0,678.35,678.35,1,"",0,"",0]
[{"$f":"ROW(Source!A545)","v":545},85312357,85316589,83777683,117,1,1,1,"3-200-03","","Инженер III категории",1369,null,1013,"чел.-ч","чел.-ч",1,null,null,null,null,null,0,126826561,7.7759999999999998,null,0,0,0,1066.23,0,0,0,1066.23,1,1,1,1,-2,0,0,1,1,0,"",6.48,"*(0,2+1)",1,2,85316593,1,0,646,1,0,0,0,0,0,0,0,0,0,0,6909.1704000000009,6.48,0,1,0,0,0,8291.0044799999996,7.7759999999999998,0,1,null,null,null,null,null,null,null,null,null,null,null,null,null,null,null,null,null,null,null,null,null,null,null,{"$f":"ROUND(AT646*Source!I545*AH646*AL646,2)","v":552.73},{"$f":"ROUND(Y646*Source!I545,7)","v":0.62207999999999997},0,{"$f":"ROUND(Y646*Source!I545,7)","v":0.62207999999999997},1066.23,1066.23,1,8291,0,"","",0,0,0,663.28,663.28,1,"",0,"",0]
[{"$f":"ROW(Source!A546)","v":546},85312298,85316589,83777659,117,1,1,1,"2-100-06","","Рабочий 6 разряда",1369,null,1013,"чел.-ч","чел.-ч",1,null,null,null,null,null,0,286205319,7.7759999999999998,null,0,0,0,1090.46,0,0,0,1090.46,1,1,1,1,-2,0,0,1,1,0,"",6.48,"*(0,2+1)",1,2,85316592,1,0,647,1,0,0,0,0,0,0,0,0,0,0,7066.180800000001,6.48,0,1,0,0,0,8479.4169600000005,7.7759999999999998,0,1,null,null,null,null,null,null,null,null,null,null,null,null,null,null,null,null,null,null,null,null,null,null,null,{"$f":"ROUND(AT647*Source!I546*AH647*AL647,2)","v":565.29},{"$f":"ROUND(Y647*Source!I546,7)","v":0.62207999999999997},0,{"$f":"ROUND(Y647*Source!I546,7)","v":0.62207999999999997},1090.46,1090.46,1,8479.42,0,"","",0,0,0,678.35,678.35,1,"",0,"",0]
[{"$f":"ROW(Source!A546)","v":546},85312298,85316589,83777683,117,1,1,1,"3-200-03","","Инженер III категории",1369,null,1013,"чел.-ч","чел.-ч",1,null,null,null,null,null,0,126826561,7.7759999999999998,null,0,0,0,1066.23,0,0,0,1066.23,1,1,1,1,-2,0,0,1,1,0,"",6.48,"*(0,2+1)",1,2,85316593,1,0,648,1,0,0,0,0,0,0,0,0,0,0,6909.1704000000009,6.48,0,1,0,0,0,8291.0044799999996,7.7759999999999998,0,1,null,null,null,null,null,null,null,null,null,null,null,null,null,null,null,null,null,null,null,null,null,null,null,{"$f":"ROUND(AT648*Source!I546*AH648*AL648,2)","v":552.73},{"$f":"ROUND(Y648*Source!I546,7)","v":0.62207999999999997},0,{"$f":"ROUND(Y648*Source!I546,7)","v":0.62207999999999997},1066.23,1066.23,1,8291,0,"","",0,0,0,663.28,663.28,1,"",0,"",0]
[{"$f":"ROW(Source!A548)","v":548},85312357,85316595,77306515,114,1,1,1,"2-100-06","","Рабочий 6 разряда",1369,null,1013,"чел.-ч","чел.-ч",1,null,null,null,null,null,0,286205319,0.49199999999999994,null,0,0,0,1090.46,0,0,0,1090.46,1,1,1,1,-2,0,0,1,1,0,"",0.41,"*(0,2+1)",1,2,85316598,2,133120,649,1,0,0,0,0,0,0,0,0,0,0,447.08859999999999,0.41,0,1,0,0,0,536.50631999999996,0.49199999999999999,0,1,null,null,null,null,null,null,null,null,null,null,null,null,null,null,null,null,null,null,null,null,null,null,null,{"$f":"ROUND(AT649*Source!I548*AH649*AL649,2)","v":1341.27},{"$f":"ROUND(Y649*Source!I548,7)","v":1.476},0,{"$f":"ROUND(Y649*Source!I548,7)","v":1.476},1090.46,1090.46,1,536.51,0,"","",0,0,0,1609.52,1609.52,1,"",0,"",0]
[{"$f":"ROW(Source!A548)","v":548},85312357,85316595,77306539,114,1,1,1,"3-200-03","","Инженер III категории",1369,null,1013,"чел.-ч","чел.-ч",1,null,null,null,null,null,0,126826561,0.49199999999999994,null,0,0,0,1066.23,0,0,0,1066.23,1,1,1,1,-2,0,0,1,1,0,"",0.41,"*(0,2+1)",1,2,85316599,2,133120,650,1,0,0,0,0,0,0,0,0,0,0,437.15429999999998,0.41,0,1,0,0,0,524.58515999999997,0.49199999999999999,0,1,null,null,null,null,null,null,null,null,null,null,null,null,null,null,null,null,null,null,null,null,null,null,null,{"$f":"ROUND(AT650*Source!I548*AH650*AL650,2)","v":1311.46},{"$f":"ROUND(Y650*Source!I548,7)","v":1.476},0,{"$f":"ROUND(Y650*Source!I548,7)","v":1.476},1066.23,1066.23,1,524.58000000000004,0,"","",0,0,0,1573.76,1573.76,1,"",0,"",0]
[{"$f":"ROW(Source!A549)","v":549},85312298,85316595,77306515,114,1,1,1,"2-100-06","","Рабочий 6 разряда",1369,null,1013,"чел.-ч","чел.-ч",1,null,null,null,null,null,0,286205319,0.49199999999999994,null,0,0,0,1090.46,0,0,0,1090.46,1,1,1,1,-2,0,0,1,1,0,"",0.41,"*(0,2+1)",1,2,85316598,2,133120,651,1,0,0,0,0,0,0,0,0,0,0,447.08859999999999,0.41,0,1,0,0,0,536.50631999999996,0.49199999999999999,0,1,null,null,null,null,null,null,null,null,null,null,null,null,null,null,null,null,null,null,null,null,null,null,null,{"$f":"ROUND(AT651*Source!I549*AH651*AL651,2)","v":1341.27},{"$f":"ROUND(Y651*Source!I549,7)","v":1.476},0,{"$f":"ROUND(Y651*Source!I549,7)","v":1.476},1090.46,1090.46,1,536.51,0,"","",0,0,0,1609.52,1609.52,1,"",0,"",0]
[{"$f":"ROW(Source!A549)","v":549},85312298,85316595,77306539,114,1,1,1,"3-200-03","","Инженер III категории",1369,null,1013,"чел.-ч","чел.-ч",1,null,null,null,null,null,0,126826561,0.49199999999999994,null,0,0,0,1066.23,0,0,0,1066.23,1,1,1,1,-2,0,0,1,1,0,"",0.41,"*(0,2+1)",1,2,85316599,2,133120,652,1,0,0,0,0,0,0,0,0,0,0,437.15429999999998,0.41,0,1,0,0,0,524.58515999999997,0.49199999999999999,0,1,null,null,null,null,null,null,null,null,null,null,null,null,null,null,null,null,null,null,null,null,null,null,null,{"$f":"ROUND(AT652*Source!I549*AH652*AL652,2)","v":1311.46},{"$f":"ROUND(Y652*Source!I549,7)","v":1.476},0,{"$f":"ROUND(Y652*Source!I549,7)","v":1.476},1066.23,1066.23,1,524.58000000000004,0,"","",0,0,0,1573.76,1573.76,1,"",0,"",0]
[{"$f":"ROW(Source!A551)","v":551},85312357,85316601,77306515,114,1,1,1,"2-100-06","","Рабочий 6 разряда",1369,null,1013,"чел.-ч","чел.-ч",1,null,null,null,null,null,0,286205319,1.944,null,0,0,0,1090.46,0,0,0,1090.46,1,1,1,1,-2,0,0,1,1,0,"",1.62,"*(0,2+1)",1,2,85316604,2,131072,653,1,0,0,0,0,0,0,0,0,0,0,1766.5452000000002,1.62,0,1,0,0,0,2119.8542400000001,1.944,0,1,null,null,null,null,null,null,null,null,null,null,null,null,null,null,null,null,null,null,null,null,null,null,null,{"$f":"ROUND(AT653*Source!I551*AH653*AL653,2)","v":1766.55},{"$f":"ROUND(Y653*Source!I551,7)","v":1.944},0,{"$f":"ROUND(Y653*Source!I551,7)","v":1.944},1090.46,1090.46,1,2119.86,0,"","",0,0,0,2119.85,2119.85,1,"",0,"",0]
[{"$f":"ROW(Source!A551)","v":551},85312357,85316601,77306539,114,1,1,1,"3-200-03","","Инженер III категории",1369,null,1013,"чел.-ч","чел.-ч",1,null,null,null,null,null,0,126826561,1.944,null,0,0,0,1066.23,0,0,0,1066.23,1,1,1,1,-2,0,0,1,1,0,"",1.62,"*(0,2+1)",1,2,85316605,2,131072,654,1,0,0,0,0,0,0,0,0,0,0,1727.2926000000002,1.62,0,1,0,0,0,2072.7511199999999,1.944,0,1,null,null,null,null,null,null,null,null,null,null,null,null,null,null,null,null,null,null,null,null,null,null,null,{"$f":"ROUND(AT654*Source!I551*AH654*AL654,2)","v":1727.29},{"$f":"ROUND(Y654*Source!I551,7)","v":1.944},0,{"$f":"ROUND(Y654*Source!I551,7)","v":1.944},1066.23,1066.23,1,2072.75,0,"","",0,0,0,2072.75,2072.75,1,"",0,"",0]
[{"$f":"ROW(Source!A552)","v":552},85312298,85316601,77306515,114,1,1,1,"2-100-06","","Рабочий 6 разряда",1369,null,1013,"чел.-ч","чел.-ч",1,null,null,null,null,null,0,286205319,1.944,null,0,0,0,1090.46,0,0,0,1090.46,1,1,1,1,-2,0,0,1,1,0,"",1.62,"*(0,2+1)",1,2,85316604,2,131072,655,1,0,0,0,0,0,0,0,0,0,0,1766.5452000000002,1.62,0,1,0,0,0,2119.8542400000001,1.944,0,1,null,null,null,null,null,null,null,null,null,null,null,null,null,null,null,null,null,null,null,null,null,null,null,{"$f":"ROUND(AT655*Source!I552*AH655*AL655,2)","v":1766.55},{"$f":"ROUND(Y655*Source!I552,7)","v":1.944},0,{"$f":"ROUND(Y655*Source!I552,7)","v":1.944},1090.46,1090.46,1,2119.86,0,"","",0,0,0,2119.85,2119.85,1,"",0,"",0]
[{"$f":"ROW(Source!A552)","v":552},85312298,85316601,77306539,114,1,1,1,"3-200-03","","Инженер III категории",1369,null,1013,"чел.-ч","чел.-ч",1,null,null,null,null,null,0,126826561,1.944,null,0,0,0,1066.23,0,0,0,1066.23,1,1,1,1,-2,0,0,1,1,0,"",1.62,"*(0,2+1)",1,2,85316605,2,131072,656,1,0,0,0,0,0,0,0,0,0,0,1727.2926000000002,1.62,0,1,0,0,0,2072.7511199999999,1.944,0,1,null,null,null,null,null,null,null,null,null,null,null,null,null,null,null,null,null,null,null,null,null,null,null,{"$f":"ROUND(AT656*Source!I552*AH656*AL656,2)","v":1727.29},{"$f":"ROUND(Y656*Source!I552,7)","v":1.944},0,{"$f":"ROUND(Y656*Source!I552,7)","v":1.944},1066.23,1066.23,1,2072.75,0,"","",0,0,0,2072.75,2072.75,1,"",0,"",0]
[{"$f":"ROW(Source!A554)","v":554},85312357,85316607,77306511,114,1,1,1,"2-100-04","","Рабочий 4 разряда",1369,null,1013,"чел.-ч","чел.-ч",1,null,null,null,null,null,0,-512803540,1.62,null,0,0,0,811.79,0,0,0,811.79,1,1,1,1,-2,0,0,1,1,0,"",1.35,"*(0,2+1)",1,2,85316610,2,131072,657,1,0,0,0,0,0,0,0,0,0,0,1095.9165,1.35,0,1,0,0,0,1315.0998,1.62,0,1,null,null,null,null,null,null,null,null,null,null,null,null,null,null,null,null,null,null,null,null,null,null,null,{"$f":"ROUND(AT657*Source!I554*AH657*AL657,2)","v":1095.92},{"$f":"ROUND(Y657*Source!I554,7)","v":1.62},0,{"$f":"ROUND(Y657*Source!I554,7)","v":1.62},811.79,811.79,1,1315.1,0,"","",0,0,0,1315.1,1315.1,1,"",0,"",0]
[{"$f":"ROW(Source!A554)","v":554},85312357,85316607,77306529,114,1,1,1,"3-100-02","","Техник II категории",1369,null,1013,"чел.-ч","чел.-ч",1,null,null,null,null,null,0,-1275334932,1.62,null,0,0,0,775.44,0,0,0,775.44,1,1,1,1,-2,0,0,1,1,0,"",1.35,"*(0,2+1)",1,2,85316611,2,131072,658,1,0,0,0,0,0,0,0,0,0,0,1046.8440000000001,1.35,0,1,0,0,0,1256.2128000000002,1.62,0,1,null,null,null,null,null,null,null,null,null,null,null,null,null,null,null,null,null,null,null,null,null,null,null,{"$f":"ROUND(AT658*Source!I554*AH658*AL658,2)","v":1046.8399999999999},{"$f":"ROUND(Y658*Source!I554,7)","v":1.62},0,{"$f":"ROUND(Y658*Source!I554,7)","v":1.62},775.44,775.44,1,1256.21,0,"","",0,{"$f":"ROUND(ROUND(AF658,2)*CX658,2)","v":0},0,1256.21,1256.21,1,"",0,"",0]
[{"$f":"ROW(Source!A555)","v":555},85312298,85316607,77306511,114,1,1,1,"2-100-04","","Рабочий 4 разряда",1369,null,1013,"чел.-ч","чел.-ч",1,null,null,null,null,null,0,-512803540,1.62,null,0,0,0,811.79,0,0,0,811.79,1,1,1,1,-2,0,0,1,1,0,"",1.35,"*(0,2+1)",1,2,85316610,2,131072,659,1,0,0,0,0,0,0,0,0,0,0,1095.9165,1.35,0,1,0,0,0,1315.0998,1.62,0,1,null,null,null,null,null,null,null,null,null,null,null,null,null,null,null,null,null,null,null,null,null,null,null,{"$f":"ROUND(AT659*Source!I555*AH659*AL659,2)","v":1095.92},{"$f":"ROUND(Y659*Source!I555,7)","v":1.62},0,{"$f":"ROUND(Y659*Source!I555,7)","v":1.62},811.79,811.79,1,1315.1,0,"","",0,0,0,1315.1,1315.1,1,"",0,"",0]
[{"$f":"ROW(Source!A555)","v":555},85312298,85316607,77306529,114,1,1,1,"3-100-02","","Техник II категории",1369,null,1013,"чел.-ч","чел.-ч",1,null,null,null,null,null,0,-1275334932,1.62,null,0,0,0,775.44,0,0,0,775.44,1,1,1,1,-2,0,0,1,1,0,"",1.35,"*(0,2+1)",1,2,85316611,2,131072,660,1,0,0,0,0,0,0,0,0,0,0,1046.8440000000001,1.35,0,1,0,0,0,1256.2128000000002,1.62,0,1,null,null,null,null,null,null,null,null,null,null,null,null,null,null,null,null,null,null,null,null,null,null,null,{"$f":"ROUND(AT660*Source!I555*AH660*AL660,2)","v":1046.8399999999999},{"$f":"ROUND(Y660*Source!I555,7)","v":1.62},0,{"$f":"ROUND(Y660*Source!I555,7)","v":1.62},775.44,775.44,1,1256.21,0,"","",0,0,0,1256.21,1256.21,1,"",0,"",0]
[{"$f":"ROW(Source!A557)","v":557},85312357,85316613,77306515,114,1,1,1,"2-100-06","","Рабочий 6 разряда",1369,null,1013,"чел.-ч","чел.-ч",1,null,null,null,null,null,0,286205319,0.6,null,0,0,0,1090.46,0,0,0,1090.46,1,1,1,1,-2,0,0,1,1,0,"",0.5,"*(0,2+1)",1,2,85316616,2,131072,661,1,0,0,0,0,0,0,0,0,0,0,545.23,0.5,0,1,0,0,0,654.27599999999995,0.6,0,1,null,null,null,null,null,null,null,null,null,null,null,null,null,null,null,null,null,null,null,null,null,null,null,{"$f":"ROUND(AT661*Source!I557*AH661*AL661,2)","v":545.23},{"$f":"ROUND(Y661*Source!I557,7)","v":0.6},0,{"$f":"ROUND(Y661*Source!I557,7)","v":0.6},1090.46,1090.46,1,654.28,0,"","",0,0,0,654.28,654.28,1,"",0,"",0]
[{"$f":"ROW(Source!A557)","v":557},85312357,85316613,77306539,114,1,1,1,"3-200-03","","Инженер III категории",1369,null,1013,"чел.-ч","чел.-ч",1,null,null,null,null,null,0,126826561,0.6,null,0,0,0,1066.23,0,0,0,1066.23,1,1,1,1,-2,0,0,1,1,0,"",0.5,"*(0,2+1)",1,2,85316617,2,131072,662,1,0,0,0,0,0,0,0,0,0,0,533.11500000000001,0.5,0,1,0,0,0,639.73799999999994,0.6,0,1,null,null,null,null,null,null,null,null,null,null,null,null,null,null,null,null,null,null,null,null,null,null,null,{"$f":"ROUND(AT662*Source!I557*AH662*AL662,2)","v":533.12},{"$f":"ROUND(Y662*Source!I557,7)","v":0.6},0,{"$f":"ROUND(Y662*Source!I557,7)","v":0.6},1066.23,1066.23,1,639.74,0,"","",0,0,0,639.74,639.74,1,"",0,"",0]
[{"$f":"ROW(Source!A558)","v":558},85312298,85316613,77306515,114,1,1,1,0,"","Рабочий 6 разряда",1369,null,1013,"чел.-ч","чел.-ч",1,null,null,null,null,null,0,286205319,0.6,null,0,0,0,1090.46,0,0,0,1090.46,1,1,1,1,-2,0,0,1,1,0,"",0.5,"*(0,2+1)",1,2,85316616,2,131072,663,1,0,0,0,0,0,0,0,0,0,0,545.23,0.5,0,1,0,0,0,654.27599999999995,0.6,0,1,null,null,null,null,null,null,null,null,null,null,null,null,null,null,null,null,null,null,null,null,null,null,null,{"$f":"ROUND(AT663*Source!I558*AH663*AL663,2)","v":545.23},{"$f":"ROUND(Y663*Source!I558,7)","v":0.6},0,{"$f":"ROUND(Y663*Source!I558,7)","v":0.6},1090.46,1090.46,1,654.28,0,"","",0,0,0,654.28,654.28,1,"",0,"",0]
[{"$f":"ROW(Source!A558)","v":558},85312298,85316613,77306539,114,1,1,1,"3-200-03","","Инженер III категории",1369,null,1013,"чел.-ч","чел.-ч",1,null,null,null,null,null,0,126826561,0.6,null,0,0,0,1066.23,0,0,0,1066.23,1,1,1,1,-2,0,0,1,1,0,"",0.5,"*(0,2+1)",1,2,85316617,2,131072,664,1,0,0,0,0,0,0,0,0,0,0,533.11500000000001,0.5,0,1,0,0,0,639.73799999999994,0.6,0,1,null,null,null,null,null,null,null,null,null,null,null,null,null,null,null,null,null,null,null,null,null,null,null,{"$f":"ROUND(AT664*Source!I558*AH664*AL664,2)","v":533.12},{"$f":"ROUND(Y664*Source!I558,7)","v":0.6},0,{"$f":"ROUND(Y664*Source!I558,7)","v":0.6},1066.23,1066.23,1,639.74,0,"","",0,0,0,639.74,639.74,1,"",0,"",0]
[{"$f":"ROW(Source!A560)","v":560},85312357,85316619,77306515,114,1,1,1,"2-100-06","","Рабочий 6 разряда",1369,null,1013,"чел.-ч","чел.-ч",1,null,null,null,null,null,0,286205319,0.192,null,0,0,0,1090.46,0,0,0,1090.46,1,1,1,1,-2,0,0,1,1,0,"",0.16,"*(0,2+1)",1,2,85316622,2,131072,665,1,0,0,0,0,0,0,0,0,0,0,174.4736,0.16,0,1,0,0,0,209.36832000000001,0.192,0,1,null,null,null,null,null,null,null,null,null,null,null,null,null,null,null,null,null,null,null,null,null,null,null,{"$f":"ROUND(AT665*Source!I560*AH665*AL665,2)","v":174.47},{"$f":"ROUND(Y665*Source!I560,7)","v":0.192},0,{"$f":"ROUND(Y665*Source!I560,7)","v":0.192},1090.46,1090.46,1,209.36,0,"","",0,0,0,209.37,209.37,1,"",0,"",0]
[{"$f":"ROW(Source!A560)","v":560},85312357,85316619,77306539,114,1,1,1,"3-200-03","","Инженер III категории",1369,null,1013,"чел.-ч","чел.-ч",1,null,null,null,null,null,0,126826561,0.192,null,0,0,0,1066.23,0,0,0,1066.23,1,1,1,1,-2,0,0,1,1,0,"",0.16,"*(0,2+1)",1,2,85316623,2,131072,666,1,0,0,0,0,0,0,0,0,0,0,170.5968,0.16,0,1,0,0,0,204.71616,0.192,0,1,null,null,null,null,null,null,null,null,null,null,null,null,null,null,null,null,null,null,null,null,null,null,null,{"$f":"ROUND(AT666*Source!I560*AH666*AL666,2)","v":170.6},{"$f":"ROUND(Y666*Source!I560,7)","v":0.192},0,{"$f":"ROUND(Y666*Source!I560,7)","v":0.192},1066.23,1066.23,1,204.72,0,"","",0,0,0,204.72,204.72,1,"",0,"",0]
[{"$f":"ROW(Source!A561)","v":561},85312298,85316619,77306515,114,1,1,1,"2-100-06","","Рабочий 6 разряда",1369,null,1013,"чел.-ч","чел.-ч",1,null,null,null,null,null,0,286205319,0.192,null,0,0,0,1090.46,0,0,0,1090.46,1,1,1,1,-2,0,0,1,1,0,"",0.16,"*(0,2+1)",1,2,85316622,2,131072,667,1,0,0,0,0,0,0,0,0,0,0,174.4736,0.16,0,1,0,0,0,209.36832000000001,0.192,0,1,null,null,null,null,null,null,null,null,null,null,null,null,null,null,null,null,null,null,null,null,null,null,null,{"$f":"ROUND(AT667*Source!I561*AH667*AL667,2)","v":174.47},{"$f":"ROUND(Y667*Source!I561,7)","v":0.192},0,{"$f":"ROUND(Y667*Source!I561,7)","v":0.192},1090.46,1090.46,1,209.36,0,"","",0,0,0,209.37,209.37,1,"",0,"",0]
[{"$f":"ROW(Source!A561)","v":561},85312298,85316619,77306539,114,1,1,1,"3-200-03","","Инженер III категории",1369,null,1013,"чел.-ч","чел.-ч",1,null,null,null,null,null,0,126826561,0.192,null,0,0,0,1066.23,0,0,0,1066.23,1,1,1,1,-2,0,0,1,1,0,"",0.16,"*(0,2+1)",1,2,85316623,2,131072,668,1,0,0,0,0,0,0,0,0,0,0,170.5968,0.16,0,1,0,0,0,204.71616,0.192,0,1,null,null,null,null,null,null,null,null,null,null,null,null,null,null,null,null,null,null,null,null,null,null,null,{"$f":"ROUND(AT668*Source!I561*AH668*AL668,2)","v":170.6},{"$f":"ROUND(Y668*Source!I561,7)","v":0.192},0,{"$f":"ROUND(Y668*Source!I561,7)","v":0.192},1066.23,1066.23,1,204.72,0,"","",0,0,0,204.72,204.72,1,"",0,"",0]
[{"$f":"ROW(Source!A563)","v":563},85312357,85316625,77306511,114,1,1,1,"2-100-04","","Рабочий 4 разряда",1369,null,1013,"чел.-ч","чел.-ч",1,null,null,null,null,null,0,-512803540,3.504,null,0,0,0,811.79,0,0,0,811.79,1,1,1,1,-2,0,0,1,1,0,"",2.92,"*(0,2+1)",1,2,85316628,2,131072,669,1,0,0,0,0,0,0,0,0,0,0,2370.4267999999997,2.92,0,1,0,0,0,2844.5121599999998,3.504,0,1,null,null,null,null,null,null,null,null,null,null,null,null,null,null,null,null,null,null,null,null,null,null,null,{"$f":"ROUND(AT669*Source!I563*AH669*AL669,2)","v":2370.4299999999998},{"$f":"ROUND(Y669*Source!I563,7)","v":3.504},0,{"$f":"ROUND(Y669*Source!I563,7)","v":3.504},811.79,811.79,1,2844.52,0,"","",0,0,0,2844.51,2844.51,1,"",0,"",0]
[{"$f":"ROW(Source!A563)","v":563},85312357,85316625,77306539,114,1,1,1,"3-200-03","","Инженер III категории",1369,null,1013,"чел.-ч","чел.-ч",1,null,null,null,null,null,0,126826561,5.2439999999999998,null,0,0,0,1066.23,0,0,0,1066.23,1,1,1,1,-2,0,0,1,1,0,"",4.37,"*(0,2+1)",1,2,85316629,2,131072,670,1,0,0,0,0,0,0,0,0,0,0,4659.4251000000004,4.37,0,1,0,0,0,5591.3101200000001,5.2439999999999998,0,1,null,null,null,null,null,null,null,null,null,null,null,null,null,null,null,null,null,null,null,null,null,null,null,{"$f":"ROUND(AT670*Source!I563*AH670*AL670,2)","v":4659.43},{"$f":"ROUND(Y670*Source!I563,7)","v":5.2439999999999998},0,{"$f":"ROUND(Y670*Source!I563,7)","v":5.2439999999999998},1066.23,1066.23,1,5591.32,0,"","",0,0,0,5591.31,5591.31,1,"",0,"",0]
[{"$f":"ROW(Source!A564)","v":564},85312298,85316625,77306511,114,1,1,1,"2-100-04","","Рабочий 4 разряда",1369,null,1013,"чел.-ч","чел.-ч",1,null,null,null,null,null,0,-512803540,3.504,null,0,0,0,811.79,0,0,0,811.79,1,1,1,1,-2,0,0,1,1,0,"",2.92,"*(0,2+1)",1,2,85316628,2,131072,671,1,0,0,0,0,0,0,0,0,0,0,2370.4267999999997,2.92,0,1,0,0,0,2844.5121599999998,3.504,0,1,null,null,null,null,null,null,null,null,null,null,null,null,null,null,null,null,null,null,null,null,null,null,null,{"$f":"ROUND(AT671*Source!I564*AH671*AL671,2)","v":2370.4299999999998},{"$f":"ROUND(Y671*Source!I564,7)","v":3.504},0,{"$f":"ROUND(Y671*Source!I564,7)","v":3.504},811.79,811.79,1,2844.52,0,"","",0,0,0,2844.51,2844.51,1,"",0,"",0]
[{"$f":"ROW(Source!A564)","v":564},85312298,85316625,77306539,114,1,1,1,"3-200-03","","Инженер III категории",1369,null,1013,"чел.-ч","чел.-ч",1,null,null,null,null,null,0,126826561,5.2439999999999998,null,0,0,0,1066.23,0,0,0,1066.23,1,1,1,1,-2,0,0,1,1,0,"",4.37,"*(0,2+1)",1,2,85316629,2,131072,672,1,0,0,0,0,0,0,0,0,0,0,4659.4251000000004,4.37,0,1,0,0,0,5591.3101200000001,5.2439999999999998,0,1,null,null,null,null,null,null,null,null,null,null,null,null,null,null,null,null,null,null,null,null,null,null,null,{"$f":"ROUND(AT672*Source!I564*AH672*AL672,2)","v":4659.43},{"$f":"ROUND(Y672*Source!I564,7)","v":5.2439999999999998},0,{"$f":"ROUND(Y672*Source!I564,7)","v":5.2439999999999998},1066.23,1066.23,1,5591.32,0,"","",0,0,0,5591.31,5591.31,1,"",0,"",0]

{"sheet":"EtalonRes","index":5,"n_rows":672,"n_cols":44,"rows_kept":672,"cut":false,"hidden":false,"merged":[]}
[{"$f":"ROW(Source!A28)","v":28},85315762,85315758,83777501,117,1,1,1,"1-100-33","","Средний разряд работы 3,3",1191,null,1013,"чел.-ч.","чел.-ч.",1,null,null,null,null,null,null,7.41,0,0,0,748.18,0,1,1,"",7.41,2,85315759,1,0,0,0,0,0,0,0,0]
[{"$f":"ROW(Source!A28)","v":28},85315763,85315758,83854480,1,1,1,3,"01.7.20.07-0002","ФСБЦ-2022, 01.7.20.07-0002, приказ Минстроя России от 18.05.2022 г. № 378/пр","Шпагат из пенькового волокна, диаметр 1,7 мм",1346,null,1009,"кг","кг",1,null,null,null,null,null,null,0.2,214.47,0,0,0,0,1,0,"",0.2,2,85315760,2,0,0,0,0,0,0,0,0]
[{"$f":"ROW(Source!A28)","v":28},85315764,85315758,83862755,1,1,1,3,"11.1.03.05-0074","ФСБЦ-2022, 11.1.03.05-0074, приказ Минстроя России от 18.05.2022 г. № 378/пр","Доска необрезная хвойных пород, естественной влажности, длина 4-6,5 м, ширина 100-250, толщина 20 мм, сорт IV",1339,null,1007,"м3","м3",1,null,null,null,null,null,null,1E-3,7555,0,0,0,0,1,0,"",1E-3,2,85315761,3,0,0,0,0,0,0,0,0]
[{"$f":"ROW(Source!A29)","v":29},85315762,85315758,83777501,117,1,1,1,"1-100-33","","Средний разряд работы 3,3",1191,null,1013,"чел.-ч.","чел.-ч.",1,null,null,null,null,null,null,7.41,0,0,0,748.18,0,1,1,"",7.41,2,85315759,4,0,0,0,0,0,0,0,0]
[{"$f":"ROW(Source!A29)","v":29},85315763,85315758,83854480,1,1,1,3,"01.7.20.07-0002","ФСБЦ-2022, 01.7.20.07-0002, приказ Минстроя России от 18.05.2022 г. № 378/пр","Шпагат из пенькового волокна, диаметр 1,7 мм",1346,null,1009,"кг","кг",1,null,null,null,null,null,null,0.2,214.47,0,0,0,0,1,0,"",0.2,2,85315760,5,0,0,0,0,0,0,0,0]
[{"$f":"ROW(Source!A29)","v":29},85315764,85315758,83862755,1,1,1,3,"11.1.03.05-0074","ФСБЦ-2022, 11.1.03.05-0074, приказ Минстроя России от 18.05.2022 г. № 378/пр","Доска необрезная хвойных пород, естественной влажности, длина 4-6,5 м, ширина 100-250, толщина 20 мм, сорт IV",1339,null,1007,"м3","м3",1,null,null,null,null,null,null,1E-3,7555,0,0,0,0,1,0,"",1E-3,2,85315761,6,0,0,0,0,0,0,0,0]
[{"$f":"ROW(Source!A31)","v":31},85315770,85315766,77306545,114,1,1,1,"4-100-00","","Затраты труда машинистов",1191,null,1013,"чел.-ч.","чел.-ч.",1,null,null,null,null,null,null,0.99,0,0,0,0,0,1,2,"",0.99,2,85315767,7,0,0,0,0,0,0,0,0]
[{"$f":"ROW(Source!A31)","v":31},85315771,85315766,77430562,1,1,1,2,"91.01.01-035","ФСЭМ-2022, 91.01.01-035, приказ Минстроя России от 18.05.2022 г. № 378/пр","Бульдозеры, мощность 79 кВт (108 л.с.)",1368,null,1011,"маш.-ч","маш.-ч",1,null,null,null,null,null,null,0.61,0,887.54,675.65,0,0,1,0,"",0.61,2,85315768,8,0,0,0,0,0,0,0,0]
[{"$f":"ROW(Source!A31)","v":31},85315772,85315766,77430573,1,1,1,2,"91.01.02-004","ФСЭМ-2022 доп.11, 91.01.02-004, приказ Минстроя России от 09.08.2024 г. № 524/пр","Автогрейдеры среднего типа, мощность 99 кВт (135 л.с.)",1368,null,1011,"маш.-ч","маш.-ч",1,null,null,null,null,null,null,0.38,0,1933,675.65,0,0,1,0,"",0.38,2,85315769,9,0,0,0,0,0,0,0,0]
[{"$f":"ROW(Source!A32)","v":32},85315770,85315766,77306545,114,1,1,1,"4-100-00","","Затраты труда машинистов",1191,null,1013,"чел.-ч.","чел.-ч.",1,null,null,null,null,null,null,0.99,0,0,0,0,0,1,2,"",0.99,2,85315767,10,0,0,0,0,0,0,0,0]
[{"$f":"ROW(Source!A32)","v":32},85315771,85315766,77430562,1,1,1,2,"91.01.01-035","ФСЭМ-2022, 91.01.01-035, приказ Минстроя России от 18.05.2022 г. № 378/пр","Бульдозеры, мощность 79 кВт (108 л.с.)",1368,null,1011,"маш.-ч","маш.-ч",1,null,null,null,null,null,null,0.61,0,887.54,675.65,0,0,1,0,"",0.61,2,85315768,11,0,0,0,0,0,0,0,0]
[{"$f":"ROW(Source!A32)","v":32},85315772,85315766,77430573,1,1,1,2,"91.01.02-004","ФСЭМ-2022 доп.11, 91.01.02-004, приказ Минстроя России от 09.08.2024 г. № 524/пр","Автогрейдеры среднего типа, мощность 99 кВт (135 л.с.)",1368,null,1011,"маш.-ч","маш.-ч",1,null,null,null,null,null,null,0.38,0,1933,675.65,0,0,1,0,"",0.38,2,85315769,12,0,0,0,0,0,0,0,0]
[{"$f":"ROW(Source!A34)","v":34},85315778,85315774,77306386,114,1,1,1,"1-100-45","","Средний разряд работы 4,5",1191,null,1013,"чел.-ч.","чел.-ч.",1,null,null,null,null,null,null,0.68,0,0,0,0,0,1,1,"",0.68,2,85315775,13,0,0,0,0,0,0,0,0]
[{"$f":"ROW(Source!A34)","v":34},85315779,85315774,77306545,114,1,1,1,"4-100-00","","Затраты труда машинистов",1191,null,1013,"чел.-ч.","чел.-ч.",1,null,null,null,null,null,null,0.33,0,0,0,0,0,1,2,"",0.33,2,85315776,14,0,0,0,0,0,0,0,0]
[{"$f":"ROW(Source!A34)","v":34},85315780,85315774,77431162,1,1,1,2,"91.06.06-012","ФСЭМ-2022, 91.06.06-012, приказ Минстроя России от 18.05.2022 г. № 378/пр","Автогидроподъемники, высота подъема 18 м",1368,null,1011,"маш.-ч","маш.-ч",1,null,null,null,null,null,null,0.33,0,930.99,932.95,0,0,1,0,"",0.33,2,85315777,15,0,0,0,0,0,0,0,0]
[{"$f":"ROW(Source!A35)","v":35},85315778,85315774,77306386,114,1,1,1,"1-100-45","","Средний разряд работы 4,5",1191,null,1013,"чел.-ч.","чел.-ч.",1,null,null,null,null,null,null,0.68,0,0,0,0,0,1,1,"",0.68,2,85315775,16,0,0,0,0,0,0,0,0]
[{"$f":"ROW(Source!A35)","v":35},85315779,85315774,77306545,114,1,1,1,"4-100-00","","Затраты труда машинистов",1191,null,1013,"чел.-ч.","чел.-ч.",1,null,null,null,null,null,null,0.33,0,0,0,0,0,1,2,"",0.33,2,85315776,17,0,0,0,0,0,0,0,0]
[{"$f":"ROW(Source!A35)","v":35},85315780,85315774,77431162,1,1,1,2,"91.06.06-012","ФСЭМ-2022, 91.06.06-012, приказ Минстроя России от 18.05.2022 г. № 378/пр","Автогидроподъемники, высота подъема 18 м",1368,null,1011,"маш.-ч","маш.-ч",1,null,null,null,null,null,null,0.33,0,930.99,932.95,0,0,1,0,"",0.33,2,85315777,18,0,0,0,0,0,0,0,0]
[{"$f":"ROW(Source!A37)","v":37},85315784,85315782,77306346,114,1,1,1,"1-100-29","","Средний разряд работы 2,9",1191,null,1013,"чел.-ч.","чел.-ч.",1,null,null,null,null,null,null,0.98,0,0,0,0,0,1,1,"",0.98,2,85315783,19,0,0,0,0,0,0,0,0]
[{"$f":"ROW(Source!A38)","v":38},85315784,85315782,77306346,114,1,1,1,"1-100-29","","Средний разряд работы 2,9",1191,null,1013,"чел.-ч.","чел.-ч.",1,null,null,null,null,null,null,0.98,0,0,0,0,0,1,1,"",0.98,2,85315783,20,0,0,0,0,0,0,0,0]
[{"$f":"ROW(Source!A40)","v":40},85315792,85315786,83777477,117,1,1,1,"1-100-25","","Средний разряд работы 2,5",1191,null,1013,"чел.-ч.","чел.-ч.",1,null,null,null,null,null,null,0.44,0,0,0,690.62,0,1,1,"*(0,2+1)",0.52800000000000002,2,85315787,21,0,0,0,0,0,0,0,0]
[{"$f":"ROW(Source!A40)","v":40},85315793,85315786,83777689,117,1,1,1,"4-100-00","","Затраты труда машинистов",1191,null,1013,"чел.-ч.","чел.-ч.",1,null,null,null,null,null,null,0.48,0,0,0,0,0,1,2,"*(0,2+1)",0.57599999999999996,2,85315788,22,0,0,0,0,0,0,0,0]
[{"$f":"ROW(Source!A40)","v":40},85315794,85315786,83784178,1,1,1,2,"91.05.05-015","ФСЭМ-2022, 91.05.05-015, приказ Минстроя России от 18.05.2022 г. № 378/пр","Краны на автомобильном ходу, грузоподъемность 16 т",1368,null,1011,"маш.-ч","маш.-ч",1,null,null,null,null,null,null,0.24,0,1626.29,1090.46,0,0,1,0,"*(0,2+1)",0.28799999999999998,2,85315789,23,0,0,0,0,0,0,0,0]
[{"$f":"ROW(Source!A40)","v":40},85315795,85315786,83785137,1,1,1,2,"91.15.01-001","ФСЭМ-2022, 91.15.01-001, приказ Минстроя России от 18.05.2022 г. № 378/пр","Прицепы тракторные, грузоподъемность до 2 т",1368,null,1011,"маш.-ч","маш.-ч",1,null,null,null,null,null,null,0.24,0,13.86,0,0,0,1,0,"*(0,2+1)",0.28799999999999998,2,85315790,24,0,0,0,0,0,0,0,0]
[{"$f":"ROW(Source!A40)","v":40},85315796,85315786,83785155,1,1,1,2,"91.15.03-014","ФСЭМ-2022 доп.11, 91.15.03-014, приказ Минстроя России от 09.08.2024 г. № 524/пр","Тракторы на пневмоколесном ходу, мощность 59 кВт (80 л.с.)",1368,null,1011,"маш.-ч","маш.-ч",1,null,null,null,null,null,null,0.24,0,487.94,811.79,0,0,1,0,"*(0,2+1)",0.28799999999999998,2,85315791,25,0,0,0,0,0,0,0,0]
[{"$f":"ROW(Source!A41)","v":41},85315792,85315786,83777477,117,1,1,1,"1-100-25","","Средний разряд работы 2,5",1191,null,1013,"чел.-ч.","чел.-ч.",1,null,null,null,null,null,null,0.44,0,0,0,690.62,0,1,1,"*(0,2+1)",0.52800000000000002,2,85315787,26,0,0,0,0,0,0,0,0]
[{"$f":"ROW(Source!A41)","v":41},85315793,85315786,83777689,117,1,1,1,"4-100-00","","Затраты труда машинистов",1191,null,1013,"чел.-ч.","чел.-ч.",1,null,null,null,null,null,null,0.48,0,0,0,0,0,1,2,"*(0,2+1)",0.57599999999999996,2,85315788,27,0,0,0,0,0,0,0,0]
[{"$f":"ROW(Source!A41)","v":41},85315794,85315786,83784178,1,1,1,2,"91.05.05-015","ФСЭМ-2022, 91.05.05-015, приказ Минстроя России от 18.05.2022 г. № 378/пр","Краны на автомобильном ходу, грузоподъемность 16 т",1368,null,1011,"маш.-ч","маш.-ч",1,null,null,null,null,null,null,0.24,0,1626.29,1090.46,0,0,1,0,"*(0,2+1)",0.28799999999999998,2,85315789,28,0,0,0,0,0,0,0,0]
[{"$f":"ROW(Source!A41)","v":41},85315795,85315786,83785137,1,1,1,2,"91.15.01-001","ФСЭМ-2022, 91.15.01-001, приказ Минстроя России от 18.05.2022 г. № 378/пр","Прицепы тракторные, грузоподъемность до 2 т",1368,null,1011,"маш.-ч","маш.-ч",1,null,null,null,null,null,null,0.24,0,13.86,0,0,0,1,0,"*(0,2+1)",0.28799999999999998,2,85315790,29,0,0,0,0,0,0,0,0]
[{"$f":"ROW(Source!A41)","v":41},85315796,85315786,83785155,1,1,1,2,"91.15.03-014","ФСЭМ-2022 доп.11, 91.15.03-014, приказ Минстроя России от 09.08.2024 г. № 524/пр","Тракторы на пневмоколесном ходу, мощность 59 кВт (80 л.с.)",1368,null,1011,"маш.-ч","маш.-ч",1,null,null,null,null,null,null,0.24,0,487.94,811.79,0,0,1,0,"*(0,2+1)",0.28799999999999998,2,85315791,30,0,0,0,0,0,0,0,0]
[{"$f":"ROW(Source!A43)","v":43},85315804,85315798,77306332,114,1,1,1,"1-100-25","","Средний разряд работы 2,5",1191,null,1013,"чел.-ч.","чел.-ч.",1,null,null,null,null,null,null,0.41,0,0,0,0,0,1,1,"",0.41,2,85315799,31,0,0,0,0,0,0,0,0]
[{"$f":"ROW(Source!A43)","v":43},85315805,85315798,77306545,114,1,1,1,"4-100-00","","Затраты труда машинистов",1191,null,1013,"чел.-ч.","чел.-ч.",1,null,null,null,null,null,null,0.44,0,0,0,0,0,1,2,"",0.44,2,85315800,32,0,0,0,0,0,0,0,0]
[{"$f":"ROW(Source!A43)","v":43},85315806,85315798,77430988,1,1,1,2,"91.05.05-015","ФСЭМ-2022, 91.05.05-015, приказ Минстроя России от 18.05.2022 г. № 378/пр","Краны на автомобильном ходу, грузоподъемность 16 т",1368,null,1011,"маш.-ч","маш.-ч",1,null,null,null,null,null,null,0.22,0,1626.29,1090.46,0,0,1,0,"",0.22,2,85315801,33,0,0,0,0,0,0,0,0]
[{"$f":"ROW(Source!A43)","v":43},85315807,85315798,77431943,1,1,1,2,"91.15.01-001","ФСЭМ-2022, 91.15.01-001, приказ Минстроя России от 18.05.2022 г. № 378/пр","Прицепы тракторные, грузоподъемность до 2 т",1368,null,1011,"маш.-ч","маш.-ч",1,null,null,null,null,null,null,0.22,0,13.86,0,0,0,1,0,"",0.22,2,85315802,34,0,0,0,0,0,0,0,0]
[{"$f":"ROW(Source!A43)","v":43},85315808,85315798,77431961,1,1,1,2,"91.15.03-014","ФСЭМ-2022 доп.11, 91.15.03-014, приказ Минстроя России от 09.08.2024 г. № 524/пр","Тракторы на пневмоколесном ходу, мощность 59 кВт (80 л.с.)",1368,null,1011,"маш.-ч","маш.-ч",1,null,null,null,null,null,null,0.22,0,487.94,502.98,0,0,1,0,"",0.22,2,85315803,35,0,0,0,0,0,0,0,0]
[{"$f":"ROW(Source!A44)","v":44},85315804,85315798,77306332,114,1,1,1,"1-100-25","","Средний разряд работы 2,5",1191,null,1013,"чел.-ч.","чел.-ч.",1,null,null,null,null,null,null,0.41,0,0,0,0,0,1,1,"",0.41,2,85315799,36,0,0,0,0,0,0,0,0]
[{"$f":"ROW(Source!A44)","v":44},85315805,85315798,77306545,114,1,1,1,"4-100-00","","Затраты труда машинистов",1191,null,1013,"чел.-ч.","чел.-ч.",1,null,null,null,null,null,null,0.44,0,0,0,0,0,1,2,"",0.44,2,85315800,37,0,0,0,0,0,0,0,0]
[{"$f":"ROW(Source!A44)","v":44},85315806,85315798,77430988,1,1,1,2,"91.05.05-015","ФСЭМ-2022, 91.05.05-015, приказ Минстроя России от 18.05.2022 г. № 378/пр","Краны на автомобильном ходу, грузоподъемность 16 т",1368,null,1011,"маш.-ч","маш.-ч",1,null,null,null,null,null,null,0.22,0,1626.29,1090.46,0,0,1,0,"",0.22,2,85315801,38,0,0,0,0,0,0,0,0]
[{"$f":"ROW(Source!A44)","v":44},85315807,85315798,77431943,1,1,1,2,"91.15.01-001","ФСЭМ-2022, 91.15.01-001, приказ Минстроя России от 18.05.2022 г. № 378/пр","Прицепы тракторные, грузоподъемность до 2 т",1368,null,1011,"маш.-ч","маш.-ч",1,null,null,null,null,null,null,0.22,0,13.86,0,0,0,1,0,"",0.22,2,85315802,39,0,0,0,0,0,0,0,0]
[{"$f":"ROW(Source!A44)","v":44},85315808,85315798,77431961,1,1,1,2,"91.15.03-014","ФСЭМ-2022 доп.11, 91.15.03-014, приказ Минстроя России от 09.08.2024 г. № 524/пр","Тракторы на пневмоколесном ходу, мощность 59 кВт (80 л.с.)",1368,null,1011,"маш.-ч","маш.-ч",1,null,null,null,null,null,null,0.22,0,487.94,502.98,0,0,1,0,"",0.22,2,85315803,40,0,0,0,0,0,0,0,0]
[{"$f":"ROW(Source!A46)","v":46},85315815,85315810,83777477,117,1,1,1,"1-100-25","","Средний разряд работы 2,5",1191,null,1013,"чел.-ч.","чел.-ч.",1,null,null,null,null,null,null,0.25,0,0,0,690.62,0,1,1,"*(0,2+1)",0.3,2,85315811,41,0,0,0,0,0,0,0,0]
[{"$f":"ROW(Source!A46)","v":46},85315816,85315810,83777689,117,1,1,1,"4-100-00","","Затраты труда машинистов",1191,null,1013,"чел.-ч.","чел.-ч.",1,null,null,null,null,null,null,0.14000000000000001,0,0,0,0,0,1,2,"*(0,2+1)",0.16800000000000001,2,85315812,42,0,0,0,0,0,0,0,0]
[{"$f":"ROW(Source!A46)","v":46},85315817,85315810,83785137,1,1,1,2,"91.15.01-001","ФСЭМ-2022, 91.15.01-001, приказ Минстроя России от 18.05.2022 г. № 378/пр","Прицепы тракторные, грузоподъемность до 2 т",1368,null,1011,"маш.-ч","маш.-ч",1,null,null,null,null,null,null,0.14000000000000001,0,13.86,0,0,0,1,0,"*(0,2+1)",0.16800000000000001,2,85315813,43,0,0,0,0,0,0,0,0]
[{"$f":"ROW(Source!A46)","v":46},85315818,85315810,83785155,1,1,1,2,"91.15.03-014","ФСЭМ-2022 доп.11, 91.15.03-014, приказ Минстроя России от 09.08.2024 г. № 524/пр","Тракторы на пневмоколесном ходу, мощность 59 кВт (80 л.с.)",1368,null,1011,"маш.-ч","маш.-ч",1,null,null,null,null,null,null,0.14000000000000001,0,487.94,811.79,0,0,1,0,"*(0,2+1)",0.16800000000000001,2,85315814,44,0,0,0,0,0,0,0,0]
[{"$f":"ROW(Source!A47)","v":47},85315815,85315810,83777477,117,1,1,1,"1-100-25","","Средний разряд работы 2,5",1191,null,1013,"чел.-ч.","чел.-ч.",1,null,null,null,null,null,null,0.25,0,0,0,690.62,0,1,1,"*(0,2+1)",0.3,2,85315811,45,0,0,0,0,0,0,0,0]
[{"$f":"ROW(Source!A47)","v":47},85315816,85315810,83777689,117,1,1,1,"4-100-00","","Затраты труда машинистов",1191,null,1013,"чел.-ч.","чел.-ч.",1,null,null,null,null,null,null,0.14000000000000001,0,0,0,0,0,1,2,"*(0,2+1)",0.16800000000000001,2,85315812,46,0,0,0,0,0,0,0,0]
[{"$f":"ROW(Source!A47)","v":47},85315817,85315810,83785137,1,1,1,2,"91.15.01-001","ФСЭМ-2022, 91.15.01-001, приказ Минстроя России от 18.05.2022 г. № 378/пр","Прицепы тракторные, грузоподъемность до 2 т",1368,null,1011,"маш.-ч","маш.-ч",1,null,null,null,null,null,null,0.14000000000000001,0,13.86,0,0,0,1,0,"*(0,2+1)",0.16800000000000001,2,85315813,47,0,0,0,0,0,0,0,0]
[{"$f":"ROW(Source!A47)","v":47},85315818,85315810,83785155,1,1,1,2,"91.15.03-014","ФСЭМ-2022 доп.11, 91.15.03-014, приказ Минстроя России от 09.08.2024 г. № 524/пр","Тракторы на пневмоколесном ходу, мощность 59 кВт (80 л.с.)",1368,null,1011,"маш.-ч","маш.-ч",1,null,null,null,null,null,null,0.14000000000000001,0,487.94,811.79,0,0,1,0,"*(0,2+1)",0.16800000000000001,2,85315814,48,0,0,0,0,0,0,0,0]
[{"$f":"ROW(Source!A49)","v":49},85315825,85315820,83777477,117,1,1,1,"1-100-25","","Средний разряд работы 2,5",1191,null,1013,"чел.-ч.","чел.-ч.",1,null,null,null,null,null,null,0.3,0,0,0,690.62,0,1,1,"*(0,2+1)",0.36,2,85315821,49,0,0,0,0,0,0,0,0]
[{"$f":"ROW(Source!A49)","v":49},85315826,85315820,83777689,117,1,1,1,"4-100-00","","Затраты труда машинистов",1191,null,1013,"чел.-ч.","чел.-ч.",1,null,null,null,null,null,null,0.16,0,0,0,0,0,1,2,"*(0,2+1)",0.192,2,85315822,50,0,0,0,0,0,0,0,0]
[{"$f":"ROW(Source!A49)","v":49},85315827,85315820,83785137,1,1,1,2,"91.15.01-001","ФСЭМ-2022, 91.15.01-001, приказ Минстроя России от 18.05.2022 г. № 378/пр","Прицепы тракторные, грузоподъемность до 2 т",1368,null,1011,"маш.-ч","маш.-ч",1,null,null,null,null,null,null,0.16,0,13.86,0,0,0,1,0,"*(0,2+1)",0.192,2,85315823,51,0,0,0,0,0,0,0,0]
[{"$f":"ROW(Source!A49)","v":49},85315828,85315820,83785155,1,1,1,2,"91.15.03-014","ФСЭМ-2022 доп.11, 91.15.03-014, приказ Минстроя России от 09.08.2024 г. № 524/пр","Тракторы на пневмоколесном ходу, мощность 59 кВт (80 л.с.)",1368,null,1011,"маш.-ч","маш.-ч",1,null,null,null,null,null,null,0.16,0,487.94,811.79,0,0,1,0,"*(0,2+1)",0.192,2,85315824,52,0,0,0,0,0,0,0,0]
[{"$f":"ROW(Source!A50)","v":50},85315825,85315820,83777477,117,1,1,1,"1-100-25","","Средний разряд работы 2,5",1191,null,1013,"чел.-ч.","чел.-ч.",1,null,null,null,null,null,null,0.3,0,0,0,690.62,0,1,1,"*(0,2+1)",0.36,2,85315821,53,0,0,0,0,0,0,0,0]
[{"$f":"ROW(Source!A50)","v":50},85315826,85315820,83777689,117,1,1,1,"4-100-00","","Затраты труда машинистов",1191,null,1013,"чел.-ч.","чел.-ч.",1,null,null,null,null,null,null,0.16,0,0,0,0,0,1,2,"*(0,2+1)",0.192,2,85315822,54,0,0,0,0,0,0,0,0]
[{"$f":"ROW(Source!A50)","v":50},85315827,85315820,83785137,1,1,1,2,"91.15.01-001","ФСЭМ-2022, 91.15.01-001, приказ Минстроя России от 18.05.2022 г. № 378/пр","Прицепы тракторные, грузоподъемность до 2 т",1368,null,1011,"маш.-ч","маш.-ч",1,null,null,null,null,null,null,0.16,0,13.86,0,0,0,1,0,"*(0,2+1)",0.192,2,85315823,55,0,0,0,0,0,0,0,0]
[{"$f":"ROW(Source!A50)","v":50},85315828,85315820,83785155,1,1,1,2,"91.15.03-014","ФСЭМ-2022 доп.11, 91.15.03-014, приказ Минстроя России от 09.08.2024 г. № 524/пр","Тракторы на пневмоколесном ходу, мощность 59 кВт (80 л.с.)",1368,null,1011,"маш.-ч","маш.-ч",1,null,null,null,null,null,null,0.16,0,487.94,811.79,0,0,1,0,"*(0,2+1)",0.192,2,85315824,56,0,0,0,0,0,0,0,0]
[{"$f":"ROW(Source!A52)","v":52},85315849,85315830,83777501,117,1,1,1,"1-100-33","","Средний разряд работы 3,3",1191,null,1013,"чел.-ч.","чел.-ч.",1,null,null,null,null,null,null,3.06,0,0,0,748.18,0,1,1,"*(0,2+1)",3.6719999999999997,2,85315831,57,0,0,0,0,0,0,0,0]
[{"$f":"ROW(Source!A52)","v":52},85315850,85315830,83777689,117,1,1,1,"4-100-00","","Затраты труда машинистов",1191,null,1013,"чел.-ч.","чел.-ч.",1,null,null,null,null,null,null,0.87,0,0,0,0,0,1,2,"*(0,2+1)",1.044,2,85315832,58,0,0,0,0,0,0,0,0]
[{"$f":"ROW(Source!A52)","v":52},85315851,85315830,83784065,1,1,1,2,"91.04.01-031","ФСЭМ-2022 доп.11, 91.04.01-031, приказ Минстроя России от 07.11.2024 г. № 747/пр","Машины бурильно-крановые на автомобильном ходу, диаметр бурения до 800 мм, глубина бурения до 5 м",1368,null,1011,"маш.-ч","маш.-ч",1,null,null,null,null,null,null,0.68,0,2088.77,932.95,0,0,1,0,"*(0,2+1)",0.81600000000000006,2,85315833,59,0,0,0,0,0,0,0,0]
[{"$f":"ROW(Source!A52)","v":52},85315852,85315830,83785072,1,1,1,2,"91.14.02-001","ФСЭМ-2022 доп.7, 91.14.02-001, приказ Минстроя России от 02.08.2023 г. № 551/пр","Автомобили бортовые, грузоподъемность до 5 т",1368,null,1011,"маш.-ч","маш.-ч",1,null,null,null,null,null,null,0.19,0,641.70000000000005,811.79,0,0,1,0,"*(0,2+1)",0.22799999999999998,2,85315834,60,0,0,0,0,0,0,0,0]
[{"$f":"ROW(Source!A52)","v":52},85315853,85315830,83849794,1,1,1,3,"01.3.01.06-0038","ФСБЦ-2022 доп.17, 01.3.01.06-0038, приказ Минстроя России от 17.02.2026 г. № 91/пр","Смазка защитная электросетевая",1346,null,1009,"кг","кг",1,null,null,null,null,null,null,0.1,185.43,0,0,0,0,1,0,"",0.1,2,85315835,61,0,0,0,0,0,0,0,0]
[{"$f":"ROW(Source!A52)","v":52},85315854,85315830,83849801,1,1,1,3,"01.3.01.06-0051","ФСБЦ-2022 доп.12, 01.3.01.06-0051, приказ Минстроя России от 07.11.2024 г. № 747/пр","Смазка солидол жировой Ж",1346,null,1009,"кг","кг",1,null,null,null,null,null,null,0.03,58.53,0,0,0,0,1,0,"",0.03,2,85315836,62,0,0,0,0,0,0,0,0]
[{"$f":"ROW(Source!A52)","v":52},85315855,85315830,83853338,1,1,1,3,"01.7.15.03-0042","ФСБЦ-2022, 01.7.15.03-0042, приказ Минстроя России от 18.05.2022 г. № 378/пр","Болты с гайками и шайбами строительные",1346,null,1009,"кг","кг",1,null,null,null,null,null,null,0,174.93,0,0,0,1,0,0,"",0,2,85315837,63,0,0,0,0,0,0,0,0]
[{"$f":"ROW(Source!A52)","v":52},85315856,85315830,83854484,1,1,1,3,"01.7.20.08-0051","ФСБЦ-2022 доп.8, 01.7.20.08-0051, приказ Минстроя России от 14.11.2023 г. № 817/пр","Ветошь хлопчатобумажная цветная",1346,null,1009,"кг","кг",1,null,null,null,null,null,null,0.02,56.11,0,0,0,0,1,0,"",0.02,2,85315838,64,0,0,0,0,0,0,0,0]
[{"$f":"ROW(Source!A52)","v":52},85315857,85315830,83779061,117,1,1,3,"05.1.02.07","","Стойка железобетонная вибрированная для опор",1371,null,1013,"ШТ","ШТ",1,null,null,null,null,null,null,0,0,0,0,0,1,0,0,"",0,2,85315839,65,0,0,0,0,0,0,0,0]
[{"$f":"ROW(Source!A52)","v":52},85315858,85315830,83779738,117,1,1,3,"07.2.02.05","","Траверсы стальные",1348,null,1009,"т","т",1000,null,null,null,null,null,null,0,0,0,0,0,1,0,0,"",0,2,85315840,66,0,0,0,0,0,0,0,0]
[{"$f":"ROW(Source!A52)","v":52},85315859,85315830,83779884,117,1,1,3,"07.2.07.13","","Хомуты стальные",1346,null,1009,"кг","кг",1,null,null,null,null,null,null,0,0,0,0,0,1,0,0,"",0,2,85315841,67,0,0,0,0,0,0,0,0]
[{"$f":"ROW(Source!A52)","v":52},85315860,85315830,83780219,117,1,1,3,"08.3.04.02","","Сталь стержневая диаметром до 10 мм",1348,null,1009,"т","т",1000,null,null,null,null,null,null,0,0,0,0,0,1,0,0,"",0,2,85315842,68,0,0,0,0,0,0,0,0]
[{"$f":"ROW(Source!A52)","v":52},85315861,85315830,83870522,1,1,1,3,"14.4.02.04-0182","ФСБЦ-2022 доп.17, 14.4.02.04-0182, приказ Минстроя России от 17.02.2026 г. № 91/пр","Краска масляная МА-15, цветная",1346,null,1009,"кг","кг",1,null,null,null,null,null,null,0.4,61.28,0,0,0,0,1,0,"",0.4,2,85315843,69,0,0,0,0,0,0,0,0]
[{"$f":"ROW(Source!A52)","v":52},85315862,85315830,83870548,1,1,1,3,"14.4.03.03-0102","ФСБЦ-2022 доп.4, 14.4.03.03-0102, приказ Минстроя России от 27.12.2022 г. № 1133/пр","Лак битумный БТ-577",1348,null,1009,"т","т",1000,null,null,null,null,null,null,1E-4,80020.98,0,0,0,0,1,0,"",1E-4,2,85315844,70,0,0,0,0,0,0,0,0]
[{"$f":"ROW(Source!A52)","v":52},85315863,85315830,83878170,1,1,1,3,"20.2.02.04-0006","ФСБЦ-2022, 20.2.02.04-0006, приказ Минстроя России от 18.05.2022 г. № 378/пр","Колпачки полиэтиленовые К-6",1425,null,1013,"100 ШТ","100 ШТ",1,null,null,null,null,null,null,0.06,1031.73,0,0,0,0,1,0,"",0.06,2,85315845,71,0,0,0,0,0,0,0,0]
[{"$f":"ROW(Source!A52)","v":52},85315864,85315830,83782579,117,1,1,3,"22.2.01.04","","Изоляторы штыревые",1371,null,1013,"ШТ","ШТ",1,null,null,null,null,null,null,0,0,0,0,0,1,0,0,"",0,2,85315846,72,0,0,0,0,0,0,0,0]
[{"$f":"ROW(Source!A52)","v":52},85315865,85315830,83782625,117,1,1,3,"22.2.02.21","","Штыри",1371,null,1013,"ШТ","ШТ",1,null,null,null,null,null,null,0,0,0,0,0,1,0,0,"",0,2,85315847,73,0,0,0,0,0,0,0,0]
[{"$f":"ROW(Source!A52)","v":52},85315866,85315830,83782629,117,1,1,3,"22.2.02.23","","Металлические плакаты",1371,null,1013,"ШТ","ШТ",1,null,null,null,null,null,null,0,0,0,0,0,1,0,0,"",0,2,85315848,74,0,0,0,0,0,0,0,0]
[{"$f":"ROW(Source!A53)","v":53},85315849,85315830,83777501,117,1,1,1,"1-100-33","","Средний разряд работы 3,3",1191,null,1013,"чел.-ч.","чел.-ч.",1,null,null,null,null,null,null,3.06,0,0,0,748.18,0,1,1,"*(0,2+1)",3.6719999999999997,2,85315831,75,0,0,0,0,0,0,0,0]
[{"$f":"ROW(Source!A53)","v":53},85315850,85315830,83777689,117,1,1,1,"4-100-00","","Затраты труда машинистов",1191,null,1013,"чел.-ч.","чел.-ч.",1,null,null,null,null,null,null,0.87,0,0,0,0,0,1,2,"*(0,2+1)",1.044,2,85315832,76,0,0,0,0,0,0,0,0]
[{"$f":"ROW(Source!A53)","v":53},85315851,85315830,83784065,1,1,1,2,"91.04.01-031","ФСЭМ-2022 доп.11, 91.04.01-031, приказ Минстроя России от 07.11.2024 г. № 747/пр","Машины бурильно-крановые на автомобильном ходу, диаметр бурения до 800 мм, глубина бурения до 5 м",1368,null,1011,"маш.-ч","маш.-ч",1,null,null,null,null,null,null,0.68,0,2088.77,932.95,0,0,1,0,"*(0,2+1)",0.81600000000000006,2,85315833,77,0,0,0,0,0,0,0,0]
[{"$f":"ROW(Source!A53)","v":53},85315852,85315830,83785072,1,1,1,2,"91.14.02-001","ФСЭМ-2022 доп.7, 91.14.02-001, приказ Минстроя России от 02.08.2023 г. № 551/пр","Автомобили бортовые, грузоподъемность до 5 т",1368,null,1011,"маш.-ч","маш.-ч",1,null,null,null,null,null,null,0.19,0,641.70000000000005,811.79,0,0,1,0,"*(0,2+1)",0.22799999999999998,2,85315834,78,0,0,0,0,0,0,0,0]
[{"$f":"ROW(Source!A53)","v":53},85315853,85315830,83849794,1,1,1,3,"01.3.01.06-0038","ФСБЦ-2022 доп.17, 01.3.01.06-0038, приказ Минстроя России от 17.02.2026 г. № 91/пр","Смазка защитная электросетевая",1346,null,1009,"кг","кг",1,null,null,null,null,null,null,0.1,185.43,0,0,0,0,1,0,"",0.1,2,85315835,79,0,0,0,0,0,0,0,0]
[{"$f":"ROW(Source!A53)","v":53},85315854,85315830,83849801,1,1,1,3,"01.3.01.06-0051","ФСБЦ-2022 доп.12, 01.3.01.06-0051, приказ Минстроя России от 07.11.2024 г. № 747/пр","Смазка солидол жировой Ж",1346,null,1009,"кг","кг",1,null,null,null,null,null,null,0.03,58.53,0,0,0,0,1,0,"",0.03,2,85315836,80,0,0,0,0,0,0,0,0]
[{"$f":"ROW(Source!A53)","v":53},85315855,85315830,83853338,1,1,1,3,"01.7.15.03-0042","ФСБЦ-2022, 01.7.15.03-0042, приказ Минстроя России от 18.05.2022 г. № 378/пр","Болты с гайками и шайбами строительные",1346,null,1009,"кг","кг",1,null,null,null,null,null,null,0,174.93,0,0,0,1,0,0,"",0,2,85315837,81,0,0,0,0,0,0,0,0]
[{"$f":"ROW(Source!A53)","v":53},85315856,85315830,83854484,1,1,1,3,"01.7.20.08-0051","ФСБЦ-2022 доп.8, 01.7.20.08-0051, приказ Минстроя России от 14.11.2023 г. № 817/пр","Ветошь хлопчатобумажная цветная",1346,null,1009,"кг","кг",1,null,null,null,null,null,null,0.02,56.11,0,0,0,0,1,0,"",0.02,2,85315838,82,0,0,0,0,0,0,0,0]
[{"$f":"ROW(Source!A53)","v":53},85315857,85315830,83779061,117,1,1,3,"05.1.02.07","","Стойка железобетонная вибрированная для опор",1371,null,1013,"ШТ","ШТ",1,null,null,null,null,null,null,0,0,0,0,0,1,0,0,"",0,2,85315839,83,0,0,0,0,0,0,0,0]
[{"$f":"ROW(Source!A53)","v":53},85315858,85315830,83779738,117,1,1,3,"07.2.02.05","","Траверсы стальные",1348,null,1009,"т","т",1000,null,null,null,null,null,null,0,0,0,0,0,1,0,0,"",0,2,85315840,84,0,0,0,0,0,0,0,0]
[{"$f":"ROW(Source!A53)","v":53},85315859,85315830,83779884,117,1,1,3,"07.2.07.13","","Хомуты стальные",1346,null,1009,"кг","кг",1,null,null,null,null,null,null,0,0,0,0,0,1,0,0,"",0,2,85315841,85,0,0,0,0,0,0,0,0]
[{"$f":"ROW(Source!A53)","v":53},85315860,85315830,83780219,117,1,1,3,"08.3.04.02","","Сталь стержневая диаметром до 10 мм",1348,null,1009,"т","т",1000,null,null,null,null,null,null,0,0,0,0,0,1,0,0,"",0,2,85315842,86,0,0,0,0,0,0,0,0]
[{"$f":"ROW(Source!A53)","v":53},85315861,85315830,83870522,1,1,1,3,"14.4.02.04-0182","ФСБЦ-2022 доп.17, 14.4.02.04-0182, приказ Минстроя России от 17.02.2026 г. № 91/пр","Краска масляная МА-15, цветная",1346,null,1009,"кг","кг",1,null,null,null,null,null,null,0.4,61.28,0,0,0,0,1,0,"",0.4,2,85315843,87,0,0,0,0,0,0,0,0]
[{"$f":"ROW(Source!A53)","v":53},85315862,85315830,83870548,1,1,1,3,"14.4.03.03-0102","ФСБЦ-2022 доп.4, 14.4.03.03-0102, приказ Минстроя России от 27.12.2022 г. № 1133/пр","Лак битумный БТ-577",1348,null,1009,"т","т",1000,null,null,null,null,null,null,1E-4,80020.98,0,0,0,0,1,0,"",1E-4,2,85315844,88,0,0,0,0,0,0,0,0]
[{"$f":"ROW(Source!A53)","v":53},85315863,85315830,83878170,1,1,1,3,"20.2.02.04-0006","ФСБЦ-2022, 20.2.02.04-0006, приказ Минстроя России от 18.05.2022 г. № 378/пр","Колпачки полиэтиленовые К-6",1425,null,1013,"100 ШТ","100 ШТ",1,null,null,null,null,null,null,0.06,1031.73,0,0,0,0,1,0,"",0.06,2,85315845,89,0,0,0,0,0,0,0,0]
[{"$f":"ROW(Source!A53)","v":53},85315864,85315830,83782579,117,1,1,3,"22.2.01.04","","Изоляторы штыревые",1371,null,1013,"ШТ","ШТ",1,null,null,null,null,null,null,0,0,0,0,0,1,0,0,"",0,2,85315846,90,0,0,0,0,0,0,0,0]
[{"$f":"ROW(Source!A53)","v":53},85315865,85315830,83782625,117,1,1,3,"22.2.02.21","","Штыри",1371,null,1013,"ШТ","ШТ",1,null,null,null,null,null,null,0,0,0,0,0,1,0,0,"",0,2,85315847,91,0,0,0,0,0,0,0,0]
[{"$f":"ROW(Source!A53)","v":53},85315866,85315830,83782629,117,1,1,3,"22.2.02.23","","Металлические плакаты",1371,null,1013,"ШТ","ШТ",1,null,null,null,null,null,null,0,0,0,0,0,1,0,0,"",0,2,85315848,92,0,0,0,0,0,0,0,0]
[{"$f":"ROW(Source!A71)","v":71},85315896,85315876,77306354,114,1,1,1,"1-100-32","","Средний разряд работы 3,2",1191,null,1013,"чел.-ч.","чел.-ч.",1,null,null,null,null,null,null,5.81,0,0,0,0,0,1,1,"",5.81,2,85315877,93,0,0,0,0,0,0,0,0]
[{"$f":"ROW(Source!A71)","v":71},85315897,85315876,77306545,114,1,1,1,"4-100-00","","Затраты труда машинистов",1191,null,1013,"чел.-ч.","чел.-ч.",1,null,null,null,null,null,null,1.07,0,0,0,0,0,1,2,"",1.07,2,85315878,94,0,0,0,0,0,0,0,0]
[{"$f":"ROW(Source!A71)","v":71},85315898,85315876,77430875,1,1,1,2,"91.04.01-031","ФСЭМ-2022 доп.11, 91.04.01-031, приказ Минстроя России от 07.11.2024 г. № 747/пр","Машины бурильно-крановые на автомобильном ходу, диаметр бурения до 800 мм, глубина бурения до 5 м",1368,null,1011,"маш.-ч","маш.-ч",1,null,null,null,null,null,null,0.78,0,2088.77,578.04999999999995,0,0,1,0,"",0.78,2,85315879,95,0,0,0,0,0,0,0,0]
[{"$f":"ROW(Source!A71)","v":71},85315899,85315876,77431879,1,1,1,2,"91.14.02-001","ФСЭМ-2022 доп.7, 91.14.02-001, приказ Минстроя России от 02.08.2023 г. № 551/пр","Автомобили бортовые, грузоподъемность до 5 т",1368,null,1011,"маш.-ч","маш.-ч",1,null,null,null,null,null,null,0.28999999999999998,0,641.70000000000005,811.79,0,0,1,0,"",0.28999999999999998,2,85315880,96,0,0,0,0,0,0,0,0]
[{"$f":"ROW(Source!A71)","v":71},85315900,85315876,77375900,1,1,1,3,"01.3.01.06-0038","ФСБЦ-2022, 01.3.01.06-0038, приказ Минстроя России от 18.05.2022 г. № 378/пр","Смазка защитная электросетевая",1346,null,1009,"кг","кг",1,null,null,null,null,null,null,0.1,238.29,0,0,0,0,1,0,"",0.1,2,85315881,97,0,0,0,0,0,0,0,0]
[{"$f":"ROW(Source!A71)","v":71},85315901,85315876,77375907,1,1,1,3,"01.3.01.06-0051","ФСБЦ-2022 доп.12, 01.3.01.06-0051, приказ Минстроя России от 07.11.2024 г. № 747/пр","Смазка солидол жировой Ж",1346,null,1009,"кг","кг",1,null,null,null,null,null,null,0.03,58.53,0,0,0,0,1,0,"",0.03,2,85315882,98,0,0,0,0,0,0,0,0]
[{"$f":"ROW(Source!A71)","v":71},85315902,85315876,77379558,1,1,1,3,"01.7.15.03-0042","ФСБЦ-2022, 01.7.15.03-0042, приказ Минстроя России от 18.05.2022 г. № 378/пр","Болты с гайками и шайбами строительные",1346,null,1009,"кг","кг",1,null,null,null,null,null,null,0,174.93,0,0,0,1,0,0,"",0,2,85315883,99,0,0,0,0,0,0,0,0]
[{"$f":"ROW(Source!A71)","v":71},85315903,85315876,77380691,1,1,1,3,"01.7.20.08-0051","ФСБЦ-2022 доп.8, 01.7.20.08-0051, приказ Минстроя России от 14.11.2023 г. № 817/пр","Ветошь хлопчатобумажная цветная",1346,null,1009,"кг","кг",1,null,null,null,null,null,null,0.02,56.11,0,0,0,0,1,0,"",0.02,2,85315884,100,0,0,0,0,0,0,0,0]
[{"$f":"ROW(Source!A71)","v":71},85315904,85315876,77307872,114,1,1,3,"05.1.02.06","","Приставки железобетонные",1371,null,1013,"ШТ","ШТ",1,null,null,null,null,null,null,0,0,0,0,0,1,0,0,"",0,2,85315885,101,0,0,0,0,0,0,0,0]
[{"$f":"ROW(Source!A71)","v":71},85315905,85315876,77307877,114,1,1,3,"05.1.02.07","","Стойка железобетонная вибрированная для опор",1371,null,1013,"ШТ","ШТ",1,null,null,null,null,null,null,0,0,0,0,0,1,0,0,"",0,2,85315886,102,0,0,0,0,0,0,0,0]
[{"$f":"ROW(Source!A71)","v":71},85315906,85315876,77308556,114,1,1,3,"07.2.02.05","","Траверсы стальные",1348,null,1009,"т","т",1000,null,null,null,null,null,null,0,0,0,0,0,1,0,0,"",0,2,85315887,103,0,0,0,0,0,0,0,0]
[{"$f":"ROW(Source!A71)","v":71},85315907,85315876,77308705,114,1,1,3,"07.2.07.13","","Хомуты стальные",1346,null,1009,"кг","кг",1,null,null,null,null,null,null,0,0,0,0,0,1,0,0,"",0,2,85315888,104,0,0,0,0,0,0,0,0]
[{"$f":"ROW(Source!A71)","v":71},85315908,85315876,77309038,114,1,1,3,"08.3.04.02","","Сталь стержневая диаметром до 10 мм",1348,null,1009,"т","т",1000,null,null,null,null,null,null,0,0,0,0,0,1,0,0,"",0,2,85315889,105,0,0,0,0,0,0,0,0]
[{"$f":"ROW(Source!A71)","v":71},85315909,85315876,77397232,1,1,1,3,"14.4.02.04-0182","ФСБЦ-2022, 14.4.02.04-0182, приказ Минстроя России от 18.05.2022 г. № 378/пр","Краска масляная МА-15, цветная",1348,null,1009,"т","т",1000,null,null,null,null,null,null,4.0000000000000002E-4,61265.39,0,0,0,0,1,0,"",4.0000000000000002E-4,2,85315890,106,0,0,0,0,0,0,0,0]
[{"$f":"ROW(Source!A71)","v":71},85315910,85315876,77397258,1,1,1,3,"14.4.03.03-0102","ФСБЦ-2022 доп.4, 14.4.03.03-0102, приказ Минстроя России от 27.12.2022 г. № 1133/пр","Лак битумный БТ-577",1348,null,1009,"т","т",1000,null,null,null,null,null,null,1E-4,80020.98,0,0,0,0,1,0,"",1E-4,2,85315891,107,0,0,0,0,0,0,0,0]
[{"$f":"ROW(Source!A71)","v":71},85315911,85315876,77404679,1,1,1,3,"20.2.02.04-0006","ФСБЦ-2022, 20.2.02.04-0006, приказ Минстроя России от 18.05.2022 г. № 378/пр","Колпачки полиэтиленовые К-6",1425,null,1013,"100 ШТ","100 ШТ",1,null,null,null,null,null,null,0.06,1031.73,0,0,0,0,1,0,"",0.06,2,85315892,108,0,0,0,0,0,0,0,0]
[{"$f":"ROW(Source!A71)","v":71},85315912,85315876,77311321,114,1,1,3,"22.2.01.04","","Изоляторы штыревые",1371,null,1013,"ШТ","ШТ",1,null,null,null,null,null,null,0,0,0,0,0,1,0,0,"",0,2,85315893,109,0,0,0,0,0,0,0,0]
[{"$f":"ROW(Source!A71)","v":71},85315913,85315876,77311366,114,1,1,3,"22.2.02.21","","Штыри",1371,null,1013,"ШТ","ШТ",1,null,null,null,null,null,null,0,0,0,0,0,1,0,0,"",0,2,85315894,110,0,0,0,0,0,0,0,0]
[{"$f":"ROW(Source!A71)","v":71},85315914,85315876,77311370,114,1,1,3,"22.2.02.23","","Металлические плакаты",1371,null,1013,"ШТ","ШТ",1,null,null,null,null,null,null,0,0,0,0,0,1,0,0,"",0,2,85315895,111,0,0,0,0,0,0,0,0]
[{"$f":"ROW(Source!A72)","v":72},85315896,85315876,77306354,114,1,1,1,"1-100-32","","Средний разряд работы 3,2",1191,null,1013,"чел.-ч.","чел.-ч.",1,null,null,null,null,null,null,5.81,0,0,0,0,0,1,1,"",5.81,2,85315877,112,0,0,0,0,0,0,0,0]
[{"$f":"ROW(Source!A72)","v":72},85315897,85315876,77306545,114,1,1,1,"4-100-00","","Затраты труда машинистов",1191,null,1013,"чел.-ч.","чел.-ч.",1,null,null,null,null,null,null,1.07,0,0,0,0,0,1,2,"",1.07,2,85315878,113,0,0,0,0,0,0,0,0]
[{"$f":"ROW(Source!A72)","v":72},85315898,85315876,77430875,1,1,1,2,"91.04.01-031","ФСЭМ-2022 доп.11, 91.04.01-031, приказ Минстроя России от 07.11.2024 г. № 747/пр","Машины бурильно-крановые на автомобильном ходу, диаметр бурения до 800 мм, глубина бурения до 5 м",1368,null,1011,"маш.-ч","маш.-ч",1,null,null,null,null,null,null,0.78,0,2088.77,578.04999999999995,0,0,1,0,"",0.78,2,85315879,114,0,0,0,0,0,0,0,0]
[{"$f":"ROW(Source!A72)","v":72},85315899,85315876,77431879,1,1,1,2,"91.14.02-001","ФСЭМ-2022 доп.7, 91.14.02-001, приказ Минстроя России от 02.08.2023 г. № 551/пр","Автомобили бортовые, грузоподъемность до 5 т",1368,null,1011,"маш.-ч","маш.-ч",1,null,null,null,null,null,null,0.28999999999999998,0,641.70000000000005,811.79,0,0,1,0,"",0.28999999999999998,2,85315880,115,0,0,0,0,0,0,0,0]
[{"$f":"ROW(Source!A72)","v":72},85315900,85315876,77375900,1,1,1,3,"01.3.01.06-0038","ФСБЦ-2022, 01.3.01.06-0038, приказ Минстроя России от 18.05.2022 г. № 378/пр","Смазка защитная электросетевая",1346,null,1009,"кг","кг",1,null,null,null,null,null,null,0.1,238.29,0,0,0,0,1,0,"",0.1,2,85315881,116,0,0,0,0,0,0,0,0]
[{"$f":"ROW(Source!A72)","v":72},85315901,85315876,77375907,1,1,1,3,"01.3.01.06-0051","ФСБЦ-2022 доп.12, 01.3.01.06-0051, приказ Минстроя России от 07.11.2024 г. № 747/пр","Смазка солидол жировой Ж",1346,null,1009,"кг","кг",1,null,null,null,null,null,null,0.03,58.53,0,0,0,0,1,0,"",0.03,2,85315882,117,0,0,0,0,0,0,0,0]
[{"$f":"ROW(Source!A72)","v":72},85315902,85315876,77379558,1,1,1,3,"01.7.15.03-0042","ФСБЦ-2022, 01.7.15.03-0042, приказ Минстроя России от 18.05.2022 г. № 378/пр","Болты с гайками и шайбами строительные",1346,null,1009,"кг","кг",1,null,null,null,null,null,null,0,174.93,0,0,0,1,0,0,"",0,2,85315883,118,0,0,0,0,0,0,0,0]
[{"$f":"ROW(Source!A72)","v":72},85315903,85315876,77380691,1,1,1,3,"01.7.20.08-0051","ФСБЦ-2022 доп.8, 01.7.20.08-0051, приказ Минстроя России от 14.11.2023 г. № 817/пр","Ветошь хлопчатобумажная цветная",1346,null,1009,"кг","кг",1,null,null,null,null,null,null,0.02,56.11,0,0,0,0,1,0,"",0.02,2,85315884,119,0,0,0,0,0,0,0,0]
[{"$f":"ROW(Source!A72)","v":72},85315904,85315876,77307872,114,1,1,3,"05.1.02.06","","Приставки железобетонные",1371,null,1013,"ШТ","ШТ",1,null,null,null,null,null,null,0,0,0,0,0,1,0,0,"",0,2,85315885,120,0,0,0,0,0,0,0,0]
[{"$f":"ROW(Source!A72)","v":72},85315905,85315876,77307877,114,1,1,3,"05.1.02.07","","Стойка железобетонная вибрированная для опор",1371,null,1013,"ШТ","ШТ",1,null,null,null,null,null,null,0,0,0,0,0,1,0,0,"",0,2,85315886,121,0,0,0,0,0,0,0,0]
[{"$f":"ROW(Source!A72)","v":72},85315906,85315876,77308556,114,1,1,3,"07.2.02.05","","Траверсы стальные",1348,null,1009,"т","т",1000,null,null,null,null,null,null,0,0,0,0,0,1,0,0,"",0,2,85315887,122,0,0,0,0,0,0,0,0]
[{"$f":"ROW(Source!A72)","v":72},85315907,85315876,77308705,114,1,1,3,"07.2.07.13","","Хомуты стальные",1346,null,1009,"кг","кг",1,null,null,null,null,null,null,0,0,0,0,0,1,0,0,"",0,2,85315888,123,0,0,0,0,0,0,0,0]
[{"$f":"ROW(Source!A72)","v":72},85315908,85315876,77309038,114,1,1,3,"08.3.04.02","","Сталь стержневая диаметром до 10 мм",1348,null,1009,"т","т",1000,null,null,null,null,null,null,0,0,0,0,0,1,0,0,"",0,2,85315889,124,0,0,0,0,0,0,0,0]
[{"$f":"ROW(Source!A72)","v":72},85315909,85315876,77397232,1,1,1,3,"14.4.02.04-0182","ФСБЦ-2022, 14.4.02.04-0182, приказ Минстроя России от 18.05.2022 г. № 378/пр","Краска масляная МА-15, цветная",1348,null,1009,"т","т",1000,null,null,null,null,null,null,4.0000000000000002E-4,61265.39,0,0,0,0,1,0,"",4.0000000000000002E-4,2,85315890,125,0,0,0,0,0,0,0,0]
[{"$f":"ROW(Source!A72)","v":72},85315910,85315876,77397258,1,1,1,3,"14.4.03.03-0102","ФСБЦ-2022 доп.4, 14.4.03.03-0102, приказ Минстроя России от 27.12.2022 г. № 1133/пр","Лак битумный БТ-577",1348,null,1009,"т","т",1000,null,null,null,null,null,null,1E-4,80020.98,0,0,0,0,1,0,"",1E-4,2,85315891,126,0,0,0,0,0,0,0,0]
[{"$f":"ROW(Source!A72)","v":72},85315911,85315876,77404679,1,1,1,3,"20.2.02.04-0006","ФСБЦ-2022, 20.2.02.04-0006, приказ Минстроя России от 18.05.2022 г. № 378/пр","Колпачки полиэтиленовые К-6",1425,null,1013,"100 ШТ","100 ШТ",1,null,null,null,null,null,null,0.06,1031.73,0,0,0,0,1,0,"",0.06,2,85315892,127,0,0,0,0,0,0,0,0]
[{"$f":"ROW(Source!A72)","v":72},85315912,85315876,77311321,114,1,1,3,"22.2.01.04","","Изоляторы штыревые",1371,null,1013,"ШТ","ШТ",1,null,null,null,null,null,null,0,0,0,0,0,1,0,0,"",0,2,85315893,128,0,0,0,0,0,0,0,0]
[{"$f":"ROW(Source!A72)","v":72},85315913,85315876,77311366,114,1,1,3,"22.2.02.21","","Штыри",1371,null,1013,"ШТ","ШТ",1,null,null,null,null,null,null,0,0,0,0,0,1,0,0,"",0,2,85315894,129,0,0,0,0,0,0,0,0]
[{"$f":"ROW(Source!A72)","v":72},85315914,85315876,77311370,114,1,1,3,"22.2.02.23","","Металлические плакаты",1371,null,1013,"ШТ","ШТ",1,null,null,null,null,null,null,0,0,0,0,0,1,0,0,"",0,2,85315895,130,0,0,0,0,0,0,0,0]
[{"$f":"ROW(Source!A92)","v":92},85315946,85315925,77306356,114,1,1,1,"1-100-33","","Средний разряд работы 3,3",1191,null,1013,"чел.-ч.","чел.-ч.",1,null,null,null,null,null,null,9,0,0,0,0,0,1,1,"",9,2,85315926,131,0,0,0,0,0,0,0,0]
[{"$f":"ROW(Source!A92)","v":92},85315947,85315925,77306545,114,1,1,1,"4-100-00","","Затраты труда машинистов",1191,null,1013,"чел.-ч.","чел.-ч.",1,null,null,null,null,null,null,3.21,0,0,0,0,0,1,2,"",3.21,2,85315927,132,0,0,0,0,0,0,0,0]
[{"$f":"ROW(Source!A92)","v":92},85315948,85315925,77430875,1,1,1,2,"91.04.01-031","ФСЭМ-2022 доп.11, 91.04.01-031, приказ Минстроя России от 07.11.2024 г. № 747/пр","Машины бурильно-крановые на автомобильном ходу, диаметр бурения до 800 мм, глубина бурения до 5 м",1368,null,1011,"маш.-ч","маш.-ч",1,null,null,null,null,null,null,2.6,0,2088.77,578.04999999999995,0,0,1,0,"",2.6,2,85315928,133,0,0,0,0,0,0,0,0]
[{"$f":"ROW(Source!A92)","v":92},85315949,85315925,77431879,1,1,1,2,"91.14.02-001","ФСЭМ-2022 доп.7, 91.14.02-001, приказ Минстроя России от 02.08.2023 г. № 551/пр","Автомобили бортовые, грузоподъемность до 5 т",1368,null,1011,"маш.-ч","маш.-ч",1,null,null,null,null,null,null,0.61,0,641.70000000000005,811.79,0,0,1,0,"",0.61,2,85315929,134,0,0,0,0,0,0,0,0]
[{"$f":"ROW(Source!A92)","v":92},85315950,85315925,77375900,1,1,1,3,"01.3.01.06-0038","ФСБЦ-2022, 01.3.01.06-0038, приказ Минстроя России от 18.05.2022 г. № 378/пр","Смазка защитная электросетевая",1346,null,1009,"кг","кг",1,null,null,null,null,null,null,0.1,238.29,0,0,0,0,1,0,"",0.1,2,85315930,135,0,0,0,0,0,0,0,0]
[{"$f":"ROW(Source!A92)","v":92},85315951,85315925,77375907,1,1,1,3,"01.3.01.06-0051","ФСБЦ-2022 доп.12, 01.3.01.06-0051, приказ Минстроя России от 07.11.2024 г. № 747/пр","Смазка солидол жировой Ж",1346,null,1009,"кг","кг",1,null,null,null,null,null,null,0.03,58.53,0,0,0,0,1,0,"",0.03,2,85315931,136,0,0,0,0,0,0,0,0]
[{"$f":"ROW(Source!A92)","v":92},85315952,85315925,77379558,1,1,1,3,"01.7.15.03-0042","ФСБЦ-2022, 01.7.15.03-0042, приказ Минстроя России от 18.05.2022 г. № 378/пр","Болты с гайками и шайбами строительные",1346,null,1009,"кг","кг",1,null,null,null,null,null,null,0,174.93,0,0,0,1,0,0,"",0,2,85315932,137,0,0,0,0,0,0,0,0]
[{"$f":"ROW(Source!A92)","v":92},85315953,85315925,77380691,1,1,1,3,"01.7.20.08-0051","ФСБЦ-2022 доп.8, 01.7.20.08-0051, приказ Минстроя России от 14.11.2023 г. № 817/пр","Ветошь хлопчатобумажная цветная",1346,null,1009,"кг","кг",1,null,null,null,null,null,null,0.02,56.11,0,0,0,0,1,0,"",0.02,2,85315933,138,0,0,0,0,0,0,0,0]
[{"$f":"ROW(Source!A92)","v":92},85315954,85315925,77307877,114,1,1,3,"05.1.02.07","","Стойка железобетонная вибрированная для опор",1371,null,1013,"ШТ","ШТ",1,null,null,null,null,null,null,0,0,0,0,0,1,0,0,"",0,2,85315934,139,0,0,0,0,0,0,0,0]
[{"$f":"ROW(Source!A92)","v":92},85315955,85315925,77308556,114,1,1,3,"07.2.02.05","","Траверсы стальные",1348,null,1009,"т","т",1000,null,null,null,null,null,null,0,0,0,0,0,1,0,0,"",0,2,85315935,140,0,0,0,0,0,0,0,0]
[{"$f":"ROW(Source!A92)","v":92},85315956,85315925,77308705,114,1,1,3,"07.2.07.13","","Хомуты стальные",1346,null,1009,"кг","кг",1,null,null,null,null,null,null,0,0,0,0,0,1,0,0,"",0,2,85315936,141,0,0,0,0,0,0,0,0]
[{"$f":"ROW(Source!A92)","v":92},85315957,85315925,77309038,114,1,1,3,"08.3.04.02","","Сталь стержневая диаметром до 10 мм",1348,null,1009,"т","т",1000,null,null,null,null,null,null,0,0,0,0,0,1,0,0,"",0,2,85315937,142,0,0,0,0,0,0,0,0]
[{"$f":"ROW(Source!A92)","v":92},85315958,85315925,77397232,1,1,1,3,"14.4.02.04-0182","ФСБЦ-2022, 14.4.02.04-0182, приказ Минстроя России от 18.05.2022 г. № 378/пр","Краска масляная МА-15, цветная",1348,null,1009,"т","т",1000,null,null,null,null,null,null,4.0000000000000002E-4,61265.39,0,0,0,0,1,0,"",4.0000000000000002E-4,2,85315938,143,0,0,0,0,0,0,0,0]
[{"$f":"ROW(Source!A92)","v":92},85315959,85315925,77397258,1,1,1,3,"14.4.03.03-0102","ФСБЦ-2022 доп.4, 14.4.03.03-0102, приказ Минстроя России от 27.12.2022 г. № 1133/пр","Лак битумный БТ-577",1348,null,1009,"т","т",1000,null,null,null,null,null,null,1E-4,80020.98,0,0,0,0,1,0,"",1E-4,2,85315939,144,0,0,0,0,0,0,0,0]
[{"$f":"ROW(Source!A92)","v":92},85315960,85315925,77404679,1,1,1,3,"20.2.02.04-0006","ФСБЦ-2022, 20.2.02.04-0006, приказ Минстроя России от 18.05.2022 г. № 378/пр","Колпачки полиэтиленовые К-6",1425,null,1013,"100 ШТ","100 ШТ",1,null,null,null,null,null,null,0.06,1031.73,0,0,0,0,1,0,"",0.06,2,85315940,145,0,0,0,0,0,0,0,0]
[{"$f":"ROW(Source!A92)","v":92},85315961,85315925,77311321,114,1,1,3,"22.2.01.04","","Изоляторы штыревые",1371,null,1013,"ШТ","ШТ",1,null,null,null,null,null,null,0,0,0,0,0,1,0,0,"",0,2,85315941,146,0,0,0,0,0,0,0,0]
[{"$f":"ROW(Source!A92)","v":92},85315962,85315925,77311334,114,1,1,3,"22.2.02.07","","Детали крепления стальные",1346,null,1009,"кг","кг",1,null,null,null,null,null,null,0,0,0,0,0,1,0,0,"",0,2,85315942,147,0,0,0,0,0,0,0,0]
[{"$f":"ROW(Source!A92)","v":92},85315963,85315925,77311344,114,1,1,3,"22.2.02.09","","Детали крепления стальные",1346,null,1009,"кг","кг",1,null,null,null,null,null,null,0,0,0,0,0,1,0,0,"",0,2,85315943,148,0,0,0,0,0,0,0,0]
[{"$f":"ROW(Source!A92)","v":92},85315964,85315925,77311366,114,1,1,3,"22.2.02.21","","Штыри",1371,null,1013,"ШТ","ШТ",1,null,null,null,null,null,null,0,0,0,0,0,1,0,0,"",0,2,85315944,149,0,0,0,0,0,0,0,0]
[{"$f":"ROW(Source!A92)","v":92},85315965,85315925,77311370,114,1,1,3,"22.2.02.23","","Металлические плакаты",1371,null,1013,"ШТ","ШТ",1,null,null,null,null,null,null,0,0,0,0,0,1,0,0,"",0,2,85315945,150,0,0,0,0,0,0,0,0]
[{"$f":"ROW(Source!A93)","v":93},85315946,85315925,77306356,114,1,1,1,"1-100-33","","Средний разряд работы 3,3",1191,null,1013,"чел.-ч.","чел.-ч.",1,null,null,null,null,null,null,9,0,0,0,0,0,1,1,"",9,2,85315926,151,0,0,0,0,0,0,0,0]
[{"$f":"ROW(Source!A93)","v":93},85315947,85315925,77306545,114,1,1,1,"4-100-00","","Затраты труда машинистов",1191,null,1013,"чел.-ч.","чел.-ч.",1,null,null,null,null,null,null,3.21,0,0,0,0,0,1,2,"",3.21,2,85315927,152,0,0,0,0,0,0,0,0]
[{"$f":"ROW(Source!A93)","v":93},85315948,85315925,77430875,1,1,1,2,"91.04.01-031","ФСЭМ-2022 доп.11, 91.04.01-031, приказ Минстроя России от 07.11.2024 г. № 747/пр","Машины бурильно-крановые на автомобильном ходу, диаметр бурения до 800 мм, глубина бурения до 5 м",1368,null,1011,"маш.-ч","маш.-ч",1,null,null,null,null,null,null,2.6,0,2088.77,578.04999999999995,0,0,1,0,"",2.6,2,85315928,153,0,0,0,0,0,0,0,0]
[{"$f":"ROW(Source!A93)","v":93},85315949,85315925,77431879,1,1,1,2,"91.14.02-001","ФСЭМ-2022 доп.7, 91.14.02-001, приказ Минстроя России от 02.08.2023 г. № 551/пр","Автомобили бортовые, грузоподъемность до 5 т",1368,null,1011,"маш.-ч","маш.-ч",1,null,null,null,null,null,null,0.61,0,641.70000000000005,811.79,0,0,1,0,"",0.61,2,85315929,154,0,0,0,0,0,0,0,0]
[{"$f":"ROW(Source!A93)","v":93},85315950,85315925,77375900,1,1,1,3,"01.3.01.06-0038","ФСБЦ-2022, 01.3.01.06-0038, приказ Минстроя России от 18.05.2022 г. № 378/пр","Смазка защитная электросетевая",1346,null,1009,"кг","кг",1,null,null,null,null,null,null,0.1,238.29,0,0,0,0,1,0,"",0.1,2,85315930,155,0,0,0,0,0,0,0,0]
[{"$f":"ROW(Source!A93)","v":93},85315951,85315925,77375907,1,1,1,3,"01.3.01.06-0051","ФСБЦ-2022 доп.12, 01.3.01.06-0051, приказ Минстроя России от 07.11.2024 г. № 747/пр","Смазка солидол жировой Ж",1346,null,1009,"кг","кг",1,null,null,null,null,null,null,0.03,58.53,0,0,0,0,1,0,"",0.03,2,85315931,156,0,0,0,0,0,0,0,0]
[{"$f":"ROW(Source!A93)","v":93},85315952,85315925,77379558,1,1,1,3,"01.7.15.03-0042","ФСБЦ-2022, 01.7.15.03-0042, приказ Минстроя России от 18.05.2022 г. № 378/пр","Болты с гайками и шайбами строительные",1346,null,1009,"кг","кг",1,null,null,null,null,null,null,0,174.93,0,0,0,1,0,0,"",0,2,85315932,157,0,0,0,0,0,0,0,0]
[{"$f":"ROW(Source!A93)","v":93},85315953,85315925,77380691,1,1,1,3,"01.7.20.08-0051","ФСБЦ-2022 доп.8, 01.7.20.08-0051, приказ Минстроя России от 14.11.2023 г. № 817/пр","Ветошь хлопчатобумажная цветная",1346,null,1009,"кг","кг",1,null,null,null,null,null,null,0.02,56.11,0,0,0,0,1,0,"",0.02,2,85315933,158,0,0,0,0,0,0,0,0]
[{"$f":"ROW(Source!A93)","v":93},85315954,85315925,77307877,114,1,1,3,"05.1.02.07","","Стойка железобетонная вибрированная для опор",1371,null,1013,"ШТ","ШТ",1,null,null,null,null,null,null,0,0,0,0,0,1,0,0,"",0,2,85315934,159,0,0,0,0,0,0,0,0]
[{"$f":"ROW(Source!A93)","v":93},85315955,85315925,77308556,114,1,1,3,"07.2.02.05","","Траверсы стальные",1348,null,1009,"т","т",1000,null,null,null,null,null,null,0,0,0,0,0,1,0,0,"",0,2,85315935,160,0,0,0,0,0,0,0,0]
[{"$f":"ROW(Source!A93)","v":93},85315956,85315925,77308705,114,1,1,3,"07.2.07.13","","Хомуты стальные",1346,null,1009,"кг","кг",1,null,null,null,null,null,null,0,0,0,0,0,1,0,0,"",0,2,85315936,161,0,0,0,0,0,0,0,0]
[{"$f":"ROW(Source!A93)","v":93},85315957,85315925,77309038,114,1,1,3,"08.3.04.02","","Сталь стержневая диаметром до 10 мм",1348,null,1009,"т","т",1000,null,null,null,null,null,null,0,0,0,0,0,1,0,0,"",0,2,85315937,162,0,0,0,0,0,0,0,0]
[{"$f":"ROW(Source!A93)","v":93},85315958,85315925,77397232,1,1,1,3,"14.4.02.04-0182","ФСБЦ-2022, 14.4.02.04-0182, приказ Минстроя России от 18.05.2022 г. № 378/пр","Краска масляная МА-15, цветная",1348,null,1009,"т","т",1000,null,null,null,null,null,null,4.0000000000000002E-4,61265.39,0,0,0,0,1,0,"",4.0000000000000002E-4,2,85315938,163,0,0,0,0,0,0,0,0]
[{"$f":"ROW(Source!A93)","v":93},85315959,85315925,77397258,1,1,1,3,"14.4.03.03-0102","ФСБЦ-2022 доп.4, 14.4.03.03-0102, приказ Минстроя России от 27.12.2022 г. № 1133/пр","Лак битумный БТ-577",1348,null,1009,"т","т",1000,null,null,null,null,null,null,1E-4,80020.98,0,0,0,0,1,0,"",1E-4,2,85315939,164,0,0,0,0,0,0,0,0]
[{"$f":"ROW(Source!A93)","v":93},85315960,85315925,77404679,1,1,1,3,"20.2.02.04-0006","ФСБЦ-2022, 20.2.02.04-0006, приказ Минстроя России от 18.05.2022 г. № 378/пр","Колпачки полиэтиленовые К-6",1425,null,1013,"100 ШТ","100 ШТ",1,null,null,null,null,null,null,0.06,1031.73,0,0,0,0,1,0,"",0.06,2,85315940,165,0,0,0,0,0,0,0,0]
[{"$f":"ROW(Source!A93)","v":93},85315961,85315925,77311321,114,1,1,3,"22.2.01.04","","Изоляторы штыревые",1371,null,1013,"ШТ","ШТ",1,null,null,null,null,null,null,0,0,0,0,0,1,0,0,"",0,2,85315941,166,0,0,0,0,0,0,0,0]
[{"$f":"ROW(Source!A93)","v":93},85315962,85315925,77311334,114,1,1,3,"22.2.02.07","","Детали крепления стальные",1346,null,1009,"кг","кг",1,null,null,null,null,null,null,0,0,0,0,0,1,0,0,"",0,2,85315942,167,0,0,0,0,0,0,0,0]
[{"$f":"ROW(Source!A93)","v":93},85315963,85315925,77311344,114,1,1,3,"22.2.02.09","","Детали крепления стальные",1346,null,1009,"кг","кг",1,null,null,null,null,null,null,0,0,0,0,0,1,0,0,"",0,2,85315943,168,0,0,0,0,0,0,0,0]
[{"$f":"ROW(Source!A93)","v":93},85315964,85315925,77311366,114,1,1,3,"22.2.02.21","","Штыри",1371,null,1013,"ШТ","ШТ",1,null,null,null,null,null,null,0,0,0,0,0,1,0,0,"",0,2,85315944,169,0,0,0,0,0,0,0,0]
[{"$f":"ROW(Source!A93)","v":93},85315965,85315925,77311370,114,1,1,3,"22.2.02.23","","Металлические плакаты",1371,null,1013,"ШТ","ШТ",1,null,null,null,null,null,null,0,0,0,0,0,1,0,0,"",0,2,85315945,170,0,0,0,0,0,0,0,0]
[{"$f":"ROW(Source!A115)","v":115},85315997,85315977,83777501,117,1,1,1,"1-100-33","","Средний разряд работы 3,3",1191,null,1013,"чел.-ч.","чел.-ч.",1,null,null,null,null,null,null,5.98,0,0,0,748.18,0,1,1,"*(0,2+1)",7.1760000000000002,2,85315978,171,0,0,0,0,0,0,0,0]
[{"$f":"ROW(Source!A115)","v":115},85315998,85315977,83777689,117,1,1,1,"4-100-00","","Затраты труда машинистов",1191,null,1013,"чел.-ч.","чел.-ч.",1,null,null,null,null,null,null,2,0,0,0,0,0,1,2,"*(0,2+1)",2.4,2,85315979,172,0,0,0,0,0,0,0,0]
[{"$f":"ROW(Source!A115)","v":115},85315999,85315977,83784065,1,1,1,2,"91.04.01-031","ФСЭМ-2022 доп.11, 91.04.01-031, приказ Минстроя России от 07.11.2024 г. № 747/пр","Машины бурильно-крановые на автомобильном ходу, диаметр бурения до 800 мм, глубина бурения до 5 м",1368,null,1011,"маш.-ч","маш.-ч",1,null,null,null,null,null,null,1.6,0,2088.77,932.95,0,0,1,0,"*(0,2+1)",1.92,2,85315980,173,0,0,0,0,0,0,0,0]
[{"$f":"ROW(Source!A115)","v":115},85316000,85315977,83785072,1,1,1,2,"91.14.02-001","ФСЭМ-2022 доп.7, 91.14.02-001, приказ Минстроя России от 02.08.2023 г. № 551/пр","Автомобили бортовые, грузоподъемность до 5 т",1368,null,1011,"маш.-ч","маш.-ч",1,null,null,null,null,null,null,0.4,0,641.70000000000005,811.79,0,0,1,0,"*(0,2+1)",0.48,2,85315981,174,0,0,0,0,0,0,0,0]
[{"$f":"ROW(Source!A115)","v":115},85316001,85315977,83849794,1,1,1,3,"01.3.01.06-0038","ФСБЦ-2022 доп.17, 01.3.01.06-0038, приказ Минстроя России от 17.02.2026 г. № 91/пр","Смазка защитная электросетевая",1346,null,1009,"кг","кг",1,null,null,null,null,null,null,0.1,185.43,0,0,0,0,1,0,"",0.1,2,85315982,175,0,0,0,0,0,0,0,0]
[{"$f":"ROW(Source!A115)","v":115},85316002,85315977,83849801,1,1,1,3,"01.3.01.06-0051","ФСБЦ-2022 доп.12, 01.3.01.06-0051, приказ Минстроя России от 07.11.2024 г. № 747/пр","Смазка солидол жировой Ж",1346,null,1009,"кг","кг",1,null,null,null,null,null,null,0.03,58.53,0,0,0,0,1,0,"",0.03,2,85315983,176,0,0,0,0,0,0,0,0]
[{"$f":"ROW(Source!A115)","v":115},85316003,85315977,83853338,1,1,1,3,"01.7.15.03-0042","ФСБЦ-2022, 01.7.15.03-0042, приказ Минстроя России от 18.05.2022 г. № 378/пр","Болты с гайками и шайбами строительные",1346,null,1009,"кг","кг",1,null,null,null,null,null,null,0,174.93,0,0,0,1,0,0,"",0,2,85315984,177,0,0,0,0,0,0,0,0]
[{"$f":"ROW(Source!A115)","v":115},85316004,85315977,83854484,1,1,1,3,"01.7.20.08-0051","ФСБЦ-2022 доп.8, 01.7.20.08-0051, приказ Минстроя России от 14.11.2023 г. № 817/пр","Ветошь хлопчатобумажная цветная",1346,null,1009,"кг","кг",1,null,null,null,null,null,null,0.02,56.11,0,0,0,0,1,0,"",0.02,2,85315985,178,0,0,0,0,0,0,0,0]
[{"$f":"ROW(Source!A115)","v":115},85316005,85315977,83779061,117,1,1,3,"05.1.02.07","","Стойка железобетонная вибрированная для опор",1371,null,1013,"ШТ","ШТ",1,null,null,null,null,null,null,0,0,0,0,0,1,0,0,"",0,2,85315986,179,0,0,0,0,0,0,0,0]
[{"$f":"ROW(Source!A115)","v":115},85316006,85315977,83779738,117,1,1,3,"07.2.02.05","","Траверсы стальные",1348,null,1009,"т","т",1000,null,null,null,null,null,null,0,0,0,0,0,1,0,0,"",0,2,85315987,180,0,0,0,0,0,0,0,0]
[{"$f":"ROW(Source!A115)","v":115},85316007,85315977,83779884,117,1,1,3,"07.2.07.13","","Хомуты стальные",1346,null,1009,"кг","кг",1,null,null,null,null,null,null,0,0,0,0,0,1,0,0,"",0,2,85315988,181,0,0,0,0,0,0,0,0]
[{"$f":"ROW(Source!A115)","v":115},85316008,85315977,83780219,117,1,1,3,"08.3.04.02","","Сталь стержневая диаметром до 10 мм",1348,null,1009,"т","т",1000,null,null,null,null,null,null,0,0,0,0,0,1,0,0,"",0,2,85315989,182,0,0,0,0,0,0,0,0]
[{"$f":"ROW(Source!A115)","v":115},85316009,85315977,83870522,1,1,1,3,"14.4.02.04-0182","ФСБЦ-2022 доп.17, 14.4.02.04-0182, приказ Минстроя России от 17.02.2026 г. № 91/пр","Краска масляная МА-15, цветная",1346,null,1009,"кг","кг",1,null,null,null,null,null,null,0.4,61.28,0,0,0,0,1,0,"",0.4,2,85315990,183,0,0,0,0,0,0,0,0]
[{"$f":"ROW(Source!A115)","v":115},85316010,85315977,83870548,1,1,1,3,"14.4.03.03-0102","ФСБЦ-2022 доп.4, 14.4.03.03-0102, приказ Минстроя России от 27.12.2022 г. № 1133/пр","Лак битумный БТ-577",1348,null,1009,"т","т",1000,null,null,null,null,null,null,1E-4,80020.98,0,0,0,0,1,0,"",1E-4,2,85315991,184,0,0,0,0,0,0,0,0]
[{"$f":"ROW(Source!A115)","v":115},85316011,85315977,83878170,1,1,1,3,"20.2.02.04-0006","ФСБЦ-2022, 20.2.02.04-0006, приказ Минстроя России от 18.05.2022 г. № 378/пр","Колпачки полиэтиленовые К-6",1425,null,1013,"100 ШТ","100 ШТ",1,null,null,null,null,null,null,0.06,1031.73,0,0,0,0,1,0,"",0.06,2,85315992,185,0,0,0,0,0,0,0,0]
[{"$f":"ROW(Source!A115)","v":115},85316012,85315977,83782579,117,1,1,3,"22.2.01.04","","Изоляторы штыревые",1371,null,1013,"ШТ","ШТ",1,null,null,null,null,null,null,0,0,0,0,0,1,0,0,"",0,2,85315993,186,0,0,0,0,0,0,0,0]
[{"$f":"ROW(Source!A115)","v":115},85316013,85315977,83782592,117,1,1,3,"22.2.02.07","","Детали крепления",1346,null,1009,"кг","кг",1,null,null,null,null,null,null,0,0,0,0,0,1,0,0,"",0,2,85315994,187,0,0,0,0,0,0,0,0]
[{"$f":"ROW(Source!A115)","v":115},85316014,85315977,83782625,117,1,1,3,"22.2.02.21","","Штыри",1371,null,1013,"ШТ","ШТ",1,null,null,null,null,null,null,0,0,0,0,0,1,0,0,"",0,2,85315995,188,0,0,0,0,0,0,0,0]
[{"$f":"ROW(Source!A115)","v":115},85316015,85315977,83782629,117,1,1,3,"22.2.02.23","","Металлические плакаты",1371,null,1013,"ШТ","ШТ",1,null,null,null,null,null,null,0,0,0,0,0,1,0,0,"",0,2,85315996,189,0,0,0,0,0,0,0,0]
[{"$f":"ROW(Source!A116)","v":116},85315997,85315977,83777501,117,1,1,1,"1-100-33","","Средний разряд работы 3,3",1191,null,1013,"чел.-ч.","чел.-ч.",1,null,null,null,null,null,null,5.98,0,0,0,748.18,0,1,1,"*(0,2+1)",7.1760000000000002,2,85315978,190,0,0,0,0,0,0,0,0]
[{"$f":"ROW(Source!A116)","v":116},85315998,85315977,83777689,117,1,1,1,"4-100-00","","Затраты труда машинистов",1191,null,1013,"чел.-ч.","чел.-ч.",1,null,null,null,null,null,null,2,0,0,0,0,0,1,2,"*(0,2+1)",2.4,2,85315979,191,0,0,0,0,0,0,0,0]
[{"$f":"ROW(Source!A116)","v":116},85315999,85315977,83784065,1,1,1,2,"91.04.01-031","ФСЭМ-2022 доп.11, 91.04.01-031, приказ Минстроя России от 07.11.2024 г. № 747/пр","Машины бурильно-крановые на автомобильном ходу, диаметр бурения до 800 мм, глубина бурения до 5 м",1368,null,1011,"маш.-ч","маш.-ч",1,null,null,null,null,null,null,1.6,0,2088.77,932.95,0,0,1,0,"*(0,2+1)",1.92,2,85315980,192,0,0,0,0,0,0,0,0]
[{"$f":"ROW(Source!A116)","v":116},85316000,85315977,83785072,1,1,1,2,"91.14.02-001","ФСЭМ-2022 доп.7, 91.14.02-001, приказ Минстроя России от 02.08.2023 г. № 551/пр","Автомобили бортовые, грузоподъемность до 5 т",1368,null,1011,"маш.-ч","маш.-ч",1,null,null,null,null,null,null,0.4,0,641.70000000000005,811.79,0,0,1,0,"*(0,2+1)",0.48,2,85315981,193,0,0,0,0,0,0,0,0]
[{"$f":"ROW(Source!A116)","v":116},85316001,85315977,83849794,1,1,1,3,"01.3.01.06-0038","ФСБЦ-2022 доп.17, 01.3.01.06-0038, приказ Минстроя России от 17.02.2026 г. № 91/пр","Смазка защитная электросетевая",1346,null,1009,"кг","кг",1,null,null,null,null,null,null,0.1,185.43,0,0,0,0,1,0,"",0.1,2,85315982,194,0,0,0,0,0,0,0,0]
[{"$f":"ROW(Source!A116)","v":116},85316002,85315977,83849801,1,1,1,3,"01.3.01.06-0051","ФСБЦ-2022 доп.12, 01.3.01.06-0051, приказ Минстроя России от 07.11.2024 г. № 747/пр","Смазка солидол жировой Ж",1346,null,1009,"кг","кг",1,null,null,null,null,null,null,0.03,58.53,0,0,0,0,1,0,"",0.03,2,85315983,195,0,0,0,0,0,0,0,0]
[{"$f":"ROW(Source!A116)","v":116},85316003,85315977,83853338,1,1,1,3,"01.7.15.03-0042","ФСБЦ-2022, 01.7.15.03-0042, приказ Минстроя России от 18.05.2022 г. № 378/пр","Болты с гайками и шайбами строительные",1346,null,1009,"кг","кг",1,null,null,null,null,null,null,0,174.93,0,0,0,1,0,0,"",0,2,85315984,196,0,0,0,0,0,0,0,0]
[{"$f":"ROW(Source!A116)","v":116},85316004,85315977,83854484,1,1,1,3,"01.7.20.08-0051","ФСБЦ-2022 доп.8, 01.7.20.08-0051, приказ Минстроя России от 14.11.2023 г. № 817/пр","Ветошь хлопчатобумажная цветная",1346,null,1009,"кг","кг",1,null,null,null,null,null,null,0.02,56.11,0,0,0,0,1,0,"",0.02,2,85315985,197,0,0,0,0,0,0,0,0]
[{"$f":"ROW(Source!A116)","v":116},85316005,85315977,83779061,117,1,1,3,"05.1.02.07","","Стойка железобетонная вибрированная для опор",1371,null,1013,"ШТ","ШТ",1,null,null,null,null,null,null,0,0,0,0,0,1,0,0,"",0,2,85315986,198,0,0,0,0,0,0,0,0]
[{"$f":"ROW(Source!A116)","v":116},85316006,85315977,83779738,117,1,1,3,"07.2.02.05","","Траверсы стальные",1348,null,1009,"т","т",1000,null,null,null,null,null,null,0,0,0,0,0,1,0,0,"",0,2,85315987,199,0,0,0,0,0,0,0,0]
[{"$f":"ROW(Source!A116)","v":116},85316007,85315977,83779884,117,1,1,3,"07.2.07.13","","Хомуты стальные",1346,null,1009,"кг","кг",1,null,null,null,null,null,null,0,0,0,0,0,1,0,0,"",0,2,85315988,200,0,0,0,0,0,0,0,0]
[{"$f":"ROW(Source!A116)","v":116},85316008,85315977,83780219,117,1,1,3,"08.3.04.02","","Сталь стержневая диаметром до 10 мм",1348,null,1009,"т","т",1000,null,null,null,null,null,null,0,0,0,0,0,1,0,0,"",0,2,85315989,201,0,0,0,0,0,0,0,0]
[{"$f":"ROW(Source!A116)","v":116},85316009,85315977,83870522,1,1,1,3,"14.4.02.04-0182","ФСБЦ-2022 доп.17, 14.4.02.04-0182, приказ Минстроя России от 17.02.2026 г. № 91/пр","Краска масляная МА-15, цветная",1346,null,1009,"кг","кг",1,null,null,null,null,null,null,0.4,61.28,0,0,0,0,1,0,"",0.4,2,85315990,202,0,0,0,0,0,0,0,0]
[{"$f":"ROW(Source!A116)","v":116},85316010,85315977,83870548,1,1,1,3,"14.4.03.03-0102","ФСБЦ-2022 доп.4, 14.4.03.03-0102, приказ Минстроя России от 27.12.2022 г. № 1133/пр","Лак битумный БТ-577",1348,null,1009,"т","т",1000,null,null,null,null,null,null,1E-4,80020.98,0,0,0,0,1,0,"",1E-4,2,85315991,203,0,0,0,0,0,0,0,0]
[{"$f":"ROW(Source!A116)","v":116},85316011,85315977,83878170,1,1,1,3,"20.2.02.04-0006","ФСБЦ-2022, 20.2.02.04-0006, приказ Минстроя России от 18.05.2022 г. № 378/пр","Колпачки полиэтиленовые К-6",1425,null,1013,"100 ШТ","100 ШТ",1,null,null,null,null,null,null,0.06,1031.73,0,0,0,0,1,0,"",0.06,2,85315992,204,0,0,0,0,0,0,0,0]
[{"$f":"ROW(Source!A116)","v":116},85316012,85315977,83782579,117,1,1,3,"22.2.01.04","","Изоляторы штыревые",1371,null,1013,"ШТ","ШТ",1,null,null,null,null,null,null,0,0,0,0,0,1,0,0,"",0,2,85315993,205,0,0,0,0,0,0,0,0]
[{"$f":"ROW(Source!A116)","v":116},85316013,85315977,83782592,117,1,1,3,"22.2.02.07","","Детали крепления",1346,null,1009,"кг","кг",1,null,null,null,null,null,null,0,0,0,0,0,1,0,0,"",0,2,85315994,206,0,0,0,0,0,0,0,0]
[{"$f":"ROW(Source!A116)","v":116},85316014,85315977,83782625,117,1,1,3,"22.2.02.21","","Штыри",1371,null,1013,"ШТ","ШТ",1,null,null,null,null,null,null,0,0,0,0,0,1,0,0,"",0,2,85315995,207,0,0,0,0,0,0,0,0]
[{"$f":"ROW(Source!A116)","v":116},85316015,85315977,83782629,117,1,1,3,"22.2.02.23","","Металлические плакаты",1371,null,1013,"ШТ","ШТ",1,null,null,null,null,null,null,0,0,0,0,0,1,0,0,"",0,2,85315996,208,0,0,0,0,0,0,0,0]
[{"$f":"ROW(Source!A136)","v":136},85316045,85316026,83777501,117,1,1,1,"1-100-33","","Средний разряд работы 3,3",1191,null,1013,"чел.-ч.","чел.-ч.",1,null,null,null,null,null,null,4.55,0,0,0,748.18,0,1,1,"",4.55,2,85316027,209,0,0,0,0,0,0,0,0]
[{"$f":"ROW(Source!A136)","v":136},85316046,85316026,83777689,117,1,1,1,"4-100-00","","Затраты труда машинистов",1191,null,1013,"чел.-ч.","чел.-ч.",1,null,null,null,null,null,null,0.99,0,0,0,0,0,1,2,"",0.99,2,85316028,210,0,0,0,0,0,0,0,0]
[{"$f":"ROW(Source!A136)","v":136},85316047,85316026,83784065,1,1,1,2,"91.04.01-031","ФСЭМ-2022 доп.11, 91.04.01-031, приказ Минстроя России от 07.11.2024 г. № 747/пр","Машины бурильно-крановые на автомобильном ходу, диаметр бурения до 800 мм, глубина бурения до 5 м",1368,null,1011,"маш.-ч","маш.-ч",1,null,null,null,null,null,null,0.71,0,2088.77,932.95,0,0,1,0,"",0.71,2,85316029,211,0,0,0,0,0,0,0,0]
[{"$f":"ROW(Source!A136)","v":136},85316048,85316026,83785072,1,1,1,2,"91.14.02-001","ФСЭМ-2022 доп.7, 91.14.02-001, приказ Минстроя России от 02.08.2023 г. № 551/пр","Автомобили бортовые, грузоподъемность до 5 т",1368,null,1011,"маш.-ч","маш.-ч",1,null,null,null,null,null,null,0.28000000000000003,0,641.70000000000005,811.79,0,0,1,0,"",0.28000000000000003,2,85316030,212,0,0,0,0,0,0,0,0]
[{"$f":"ROW(Source!A136)","v":136},85316049,85316026,83849794,1,1,1,3,"01.3.01.06-0038","ФСБЦ-2022 доп.17, 01.3.01.06-0038, приказ Минстроя России от 17.02.2026 г. № 91/пр","Смазка защитная электросетевая",1346,null,1009,"кг","кг",1,null,null,null,null,null,null,0.1,185.43,0,0,0,0,1,0,"",0.1,2,85316031,213,0,0,0,0,0,0,0,0]
[{"$f":"ROW(Source!A136)","v":136},85316050,85316026,83849801,1,1,1,3,"01.3.01.06-0051","ФСБЦ-2022 доп.12, 01.3.01.06-0051, приказ Минстроя России от 07.11.2024 г. № 747/пр","Смазка солидол жировой Ж",1346,null,1009,"кг","кг",1,null,null,null,null,null,null,0.03,58.53,0,0,0,0,1,0,"",0.03,2,85316032,214,0,0,0,0,0,0,0,0]
[{"$f":"ROW(Source!A136)","v":136},85316051,85316026,83853338,1,1,1,3,"01.7.15.03-0042","ФСБЦ-2022, 01.7.15.03-0042, приказ Минстроя России от 18.05.2022 г. № 378/пр","Болты с гайками и шайбами строительные",1346,null,1009,"кг","кг",1,null,null,null,null,null,null,0,174.93,0,0,0,1,0,0,"",0,2,85316033,215,0,0,0,0,0,0,0,0]
[{"$f":"ROW(Source!A136)","v":136},85316052,85316026,83854484,1,1,1,3,"01.7.20.08-0051","ФСБЦ-2022 доп.8, 01.7.20.08-0051, приказ Минстроя России от 14.11.2023 г. № 817/пр","Ветошь хлопчатобумажная цветная",1346,null,1009,"кг","кг",1,null,null,null,null,null,null,0.02,56.11,0,0,0,0,1,0,"",0.02,2,85316034,216,0,0,0,0,0,0,0,0]
[{"$f":"ROW(Source!A136)","v":136},85316053,85316026,83779061,117,1,1,3,"05.1.02.07","","Стойка железобетонная вибрированная для опор",1371,null,1013,"ШТ","ШТ",1,null,null,null,null,null,null,0,0,0,0,0,1,0,0,"",0,2,85316035,217,0,0,0,0,0,0,0,0]
[{"$f":"ROW(Source!A136)","v":136},85316054,85316026,83779738,117,1,1,3,"07.2.02.05","","Траверсы стальные",1348,null,1009,"т","т",1000,null,null,null,null,null,null,0,0,0,0,0,1,0,0,"",0,2,85316036,218,0,0,0,0,0,0,0,0]
[{"$f":"ROW(Source!A136)","v":136},85316055,85316026,83779884,117,1,1,3,"07.2.07.13","","Хомуты стальные",1346,null,1009,"кг","кг",1,null,null,null,null,null,null,0,0,0,0,0,1,0,0,"",0,2,85316037,219,0,0,0,0,0,0,0,0]
[{"$f":"ROW(Source!A136)","v":136},85316056,85316026,83780219,117,1,1,3,"08.3.04.02","","Сталь стержневая диаметром до 10 мм",1348,null,1009,"т","т",1000,null,null,null,null,null,null,0,0,0,0,0,1,0,0,"",0,2,85316038,220,0,0,0,0,0,0,0,0]
[{"$f":"ROW(Source!A136)","v":136},85316057,85316026,83870522,1,1,1,3,"14.4.02.04-0182","ФСБЦ-2022 доп.17, 14.4.02.04-0182, приказ Минстроя России от 17.02.2026 г. № 91/пр","Краска масляная МА-15, цветная",1346,null,1009,"кг","кг",1,null,null,null,null,null,null,0.4,61.28,0,0,0,0,1,0,"",0.4,2,85316039,221,0,0,0,0,0,0,0,0]
[{"$f":"ROW(Source!A136)","v":136},85316058,85316026,83870548,1,1,1,3,"14.4.03.03-0102","ФСБЦ-2022 доп.4, 14.4.03.03-0102, приказ Минстроя России от 27.12.2022 г. № 1133/пр","Лак битумный БТ-577",1348,null,1009,"т","т",1000,null,null,null,null,null,null,1E-4,80020.98,0,0,0,0,1,0,"",1E-4,2,85316040,222,0,0,0,0,0,0,0,0]
[{"$f":"ROW(Source!A136)","v":136},85316059,85316026,83878170,1,1,1,3,"20.2.02.04-0006","ФСБЦ-2022, 20.2.02.04-0006, приказ Минстроя России от 18.05.2022 г. № 378/пр","Колпачки полиэтиленовые К-6",1425,null,1013,"100 ШТ","100 ШТ",1,null,null,null,null,null,null,0.12,1031.73,0,0,0,0,1,0,"",0.12,2,85316041,223,0,0,0,0,0,0,0,0]
[{"$f":"ROW(Source!A136)","v":136},85316060,85316026,83782579,117,1,1,3,"22.2.01.04","","Изоляторы штыревые",1371,null,1013,"ШТ","ШТ",1,null,null,null,null,null,null,0,0,0,0,0,1,0,0,"",0,2,85316042,224,0,0,0,0,0,0,0,0]
[{"$f":"ROW(Source!A136)","v":136},85316061,85316026,83782625,117,1,1,3,"22.2.02.21","","Штыри",1371,null,1013,"ШТ","ШТ",1,null,null,null,null,null,null,0,0,0,0,0,1,0,0,"",0,2,85316043,225,0,0,0,0,0,0,0,0]
[{"$f":"ROW(Source!A136)","v":136},85316062,85316026,83782629,117,1,1,3,"22.2.02.23","","Металлические плакаты",1371,null,1013,"ШТ","ШТ",1,null,null,null,null,null,null,0,0,0,0,0,1,0,0,"",0,2,85316044,226,0,0,0,0,0,0,0,0]
[{"$f":"ROW(Source!A137)","v":137},85316045,85316026,83777501,117,1,1,1,"1-100-33","","Средний разряд работы 3,3",1191,null,1013,"чел.-ч.","чел.-ч.",1,null,null,null,null,null,null,4.55,0,0,0,748.18,0,1,1,"",4.55,2,85316027,227,0,0,0,0,0,0,0,0]
[{"$f":"ROW(Source!A137)","v":137},85316046,85316026,83777689,117,1,1,1,"4-100-00","","Затраты труда машинистов",1191,null,1013,"чел.-ч.","чел.-ч.",1,null,null,null,null,null,null,0.99,0,0,0,0,0,1,2,"",0.99,2,85316028,228,0,0,0,0,0,0,0,0]
[{"$f":"ROW(Source!A137)","v":137},85316047,85316026,83784065,1,1,1,2,"91.04.01-031","ФСЭМ-2022 доп.11, 91.04.01-031, приказ Минстроя России от 07.11.2024 г. № 747/пр","Машины бурильно-крановые на автомобильном ходу, диаметр бурения до 800 мм, глубина бурения до 5 м",1368,null,1011,"маш.-ч","маш.-ч",1,null,null,null,null,null,null,0.71,0,2088.77,932.95,0,0,1,0,"",0.71,2,85316029,229,0,0,0,0,0,0,0,0]
[{"$f":"ROW(Source!A137)","v":137},85316048,85316026,83785072,1,1,1,2,"91.14.02-001","ФСЭМ-2022 доп.7, 91.14.02-001, приказ Минстроя России от 02.08.2023 г. № 551/пр","Автомобили бортовые, грузоподъемность до 5 т",1368,null,1011,"маш.-ч","маш.-ч",1,null,null,null,null,null,null,0.28000000000000003,0,641.70000000000005,811.79,0,0,1,0,"",0.28000000000000003,2,85316030,230,0,0,0,0,0,0,0,0]
[{"$f":"ROW(Source!A137)","v":137},85316049,85316026,83849794,1,1,1,3,"01.3.01.06-0038","ФСБЦ-2022 доп.17, 01.3.01.06-0038, приказ Минстроя России от 17.02.2026 г. № 91/пр","Смазка защитная электросетевая",1346,null,1009,"кг","кг",1,null,null,null,null,null,null,0.1,185.43,0,0,0,0,1,0,"",0.1,2,85316031,231,0,0,0,0,0,0,0,0]
[{"$f":"ROW(Source!A137)","v":137},85316050,85316026,83849801,1,1,1,3,"01.3.01.06-0051","ФСБЦ-2022 доп.12, 01.3.01.06-0051, приказ Минстроя России от 07.11.2024 г. № 747/пр","Смазка солидол жировой Ж",1346,null,1009,"кг","кг",1,null,null,null,null,null,null,0.03,58.53,0,0,0,0,1,0,"",0.03,2,85316032,232,0,0,0,0,0,0,0,0]
[{"$f":"ROW(Source!A137)","v":137},85316051,85316026,83853338,1,1,1,3,"01.7.15.03-0042","ФСБЦ-2022, 01.7.15.03-0042, приказ Минстроя России от 18.05.2022 г. № 378/пр","Болты с гайками и шайбами строительные",1346,null,1009,"кг","кг",1,null,null,null,null,null,null,0,174.93,0,0,0,1,0,0,"",0,2,85316033,233,0,0,0,0,0,0,0,0]
[{"$f":"ROW(Source!A137)","v":137},85316052,85316026,83854484,1,1,1,3,"01.7.20.08-0051","ФСБЦ-2022 доп.8, 01.7.20.08-0051, приказ Минстроя России от 14.11.2023 г. № 817/пр","Ветошь хлопчатобумажная цветная",1346,null,1009,"кг","кг",1,null,null,null,null,null,null,0.02,56.11,0,0,0,0,1,0,"",0.02,2,85316034,234,0,0,0,0,0,0,0,0]
[{"$f":"ROW(Source!A137)","v":137},85316053,85316026,83779061,117,1,1,3,"05.1.02.07","","Стойка железобетонная вибрированная для опор",1371,null,1013,"ШТ","ШТ",1,null,null,null,null,null,null,0,0,0,0,0,1,0,0,"",0,2,85316035,235,0,0,0,0,0,0,0,0]
[{"$f":"ROW(Source!A137)","v":137},85316054,85316026,83779738,117,1,1,3,"07.2.02.05","","Траверсы стальные",1348,null,1009,"т","т",1000,null,null,null,null,null,null,0,0,0,0,0,1,0,0,"",0,2,85316036,236,0,0,0,0,0,0,0,0]
[{"$f":"ROW(Source!A137)","v":137},85316055,85316026,83779884,117,1,1,3,"07.2.07.13","","Хомуты стальные",1346,null,1009,"кг","кг",1,null,null,null,null,null,null,0,0,0,0,0,1,0,0,"",0,2,85316037,237,0,0,0,0,0,0,0,0]
[{"$f":"ROW(Source!A137)","v":137},85316056,85316026,83780219,117,1,1,3,"08.3.04.02","","Сталь стержневая диаметром до 10 мм",1348,null,1009,"т","т",1000,null,null,null,null,null,null,0,0,0,0,0,1,0,0,"",0,2,85316038,238,0,0,0,0,0,0,0,0]
[{"$f":"ROW(Source!A137)","v":137},85316057,85316026,83870522,1,1,1,3,"14.4.02.04-0182","ФСБЦ-2022 доп.17, 14.4.02.04-0182, приказ Минстроя России от 17.02.2026 г. № 91/пр","Краска масляная МА-15, цветная",1346,null,1009,"кг","кг",1,null,null,null,null,null,null,0.4,61.28,0,0,0,0,1,0,"",0.4,2,85316039,239,0,0,0,0,0,0,0,0]
[{"$f":"ROW(Source!A137)","v":137},85316058,85316026,83870548,1,1,1,3,"14.4.03.03-0102","ФСБЦ-2022 доп.4, 14.4.03.03-0102, приказ Минстроя России от 27.12.2022 г. № 1133/пр","Лак битумный БТ-577",1348,null,1009,"т","т",1000,null,null,null,null,null,null,1E-4,80020.98,0,0,0,0,1,0,"",1E-4,2,85316040,240,0,0,0,0,0,0,0,0]
[{"$f":"ROW(Source!A137)","v":137},85316059,85316026,83878170,1,1,1,3,"20.2.02.04-0006","ФСБЦ-2022, 20.2.02.04-0006, приказ Минстроя России от 18.05.2022 г. № 378/пр","Колпачки полиэтиленовые К-6",1425,null,1013,"100 ШТ","100 ШТ",1,null,null,null,null,null,null,0.12,1031.73,0,0,0,0,1,0,"",0.12,2,85316041,241,0,0,0,0,0,0,0,0]
[{"$f":"ROW(Source!A137)","v":137},85316060,85316026,83782579,117,1,1,3,"22.2.01.04","","Изоляторы штыревые",1371,null,1013,"ШТ","ШТ",1,null,null,null,null,null,null,0,0,0,0,0,1,0,0,"",0,2,85316042,242,0,0,0,0,0,0,0,0]
[{"$f":"ROW(Source!A137)","v":137},85316061,85316026,83782625,117,1,1,3,"22.2.02.21","","Штыри",1371,null,1013,"ШТ","ШТ",1,null,null,null,null,null,null,0,0,0,0,0,1,0,0,"",0,2,85316043,243,0,0,0,0,0,0,0,0]
[{"$f":"ROW(Source!A137)","v":137},85316062,85316026,83782629,117,1,1,3,"22.2.02.23","","Металлические плакаты",1371,null,1013,"ШТ","ШТ",1,null,null,null,null,null,null,0,0,0,0,0,1,0,0,"",0,2,85316044,244,0,0,0,0,0,0,0,0]
[{"$f":"ROW(Source!A155)","v":155},85316077,85316072,77306306,114,1,1,1,"1-100-18","","Средний разряд работы 1,8",1191,null,1013,"чел.-ч.","чел.-ч.",1,null,null,null,null,null,null,4.84,0,0,0,0,0,1,1,"",4.84,2,85316073,245,0,0,0,0,0,0,0,0]
[{"$f":"ROW(Source!A155)","v":155},85316078,85316072,77306545,114,1,1,1,"4-100-00","","Затраты труда машинистов",1191,null,1013,"чел.-ч.","чел.-ч.",1,null,null,null,null,null,null,0.03,0,0,0,0,0,1,2,"",0.03,2,85316074,246,0,0,0,0,0,0,0,0]
[{"$f":"ROW(Source!A155)","v":155},85316079,85316072,77431879,1,1,1,2,"91.14.02-001","ФСЭМ-2022 доп.7, 91.14.02-001, приказ Минстроя России от 02.08.2023 г. № 551/пр","Автомобили бортовые, грузоподъемность до 5 т",1368,null,1011,"маш.-ч","маш.-ч",1,null,null,null,null,null,null,0.03,0,641.70000000000005,811.79,0,0,1,0,"",0.03,2,85316075,247,0,0,0,0,0,0,0,0]
[{"$f":"ROW(Source!A155)","v":155},85316080,85316072,77312233,114,1,1,3,"421/пр_2020_п.75_пп.а","","Сметная стоимость вспомогательных ненормируемых материальных ресурсов, не учтенная в сметной норме, 2%",3277935,null,1013,"%","%",1,null,null,null,null,null,null,2,0,0,0,0,0,0,0,"",2,2,85316076,248,0,0,0,0,0,0,0,0]
[{"$f":"ROW(Source!A156)","v":156},85316077,85316072,77306306,114,1,1,1,"1-100-18","","Средний разряд работы 1,8",1191,null,1013,"чел.-ч.","чел.-ч.",1,null,null,null,null,null,null,4.84,0,0,0,0,0,1,1,"",4.84,2,85316073,249,0,0,0,0,0,0,0,0]
[{"$f":"ROW(Source!A156)","v":156},85316078,85316072,77306545,114,1,1,1,"4-100-00","","Затраты труда машинистов",1191,null,1013,"чел.-ч.","чел.-ч.",1,null,null,null,null,null,null,0.03,0,0,0,0,0,1,2,"",0.03,2,85316074,250,0,0,0,0,0,0,0,0]
[{"$f":"ROW(Source!A156)","v":156},85316079,85316072,77431879,1,1,1,2,"91.14.02-001","ФСЭМ-2022 доп.7, 91.14.02-001, приказ Минстроя России от 02.08.2023 г. № 551/пр","Автомобили бортовые, грузоподъемность до 5 т",1368,null,1011,"маш.-ч","маш.-ч",1,null,null,null,null,null,null,0.03,0,641.70000000000005,811.79,0,0,1,0,"",0.03,2,85316075,251,0,0,0,0,0,0,0,0]
[{"$f":"ROW(Source!A156)","v":156},85316080,85316072,77312233,114,1,1,3,"421/пр_2020_п.75_пп.а","","Сметная стоимость вспомогательных ненормируемых материальных ресурсов, не учтенная в сметной норме, 2%",3277935,null,1013,"%","%",1,null,null,null,null,null,null,2,0,0,0,0,0,0,0,"",2,2,85316076,252,0,0,0,0,0,0,0,0]
[{"$f":"ROW(Source!A160)","v":160},85316093,85316083,83777513,117,1,1,1,"1-100-38","","Средний разряд работы 3,8",1191,null,1013,"чел.-ч.","чел.-ч.",1,null,null,null,null,null,null,31.28,0,0,0,793.61,0,1,1,"*(0,2+1)",37.536000000000001,2,85316084,253,0,0,0,0,0,0,0,0]
[{"$f":"ROW(Source!A160)","v":160},85316094,85316083,83777689,117,1,1,1,"4-100-00","","Затраты труда машинистов",1191,null,1013,"чел.-ч.","чел.-ч.",1,null,null,null,null,null,null,0.7,0,0,0,0,0,1,2,"*(0,2+1)",0.84,2,85316085,254,0,0,0,0,0,0,0,0]
[{"$f":"ROW(Source!A160)","v":160},85316095,85316083,83784178,1,1,1,2,"91.05.05-015","ФСЭМ-2022, 91.05.05-015, приказ Минстроя России от 18.05.2022 г. № 378/пр","Краны на автомобильном ходу, грузоподъемность 16 т",1368,null,1011,"маш.-ч","маш.-ч",1,null,null,null,null,null,null,0.35,0,1626.29,1090.46,0,0,1,0,"*(0,2+1)",0.42,2,85316086,255,0,0,0,0,0,0,0,0]
[{"$f":"ROW(Source!A160)","v":160},85316096,85316083,83785072,1,1,1,2,"91.14.02-001","ФСЭМ-2022 доп.7, 91.14.02-001, приказ Минстроя России от 02.08.2023 г. № 551/пр","Автомобили бортовые, грузоподъемность до 5 т",1368,null,1011,"маш.-ч","маш.-ч",1,null,null,null,null,null,null,0.35,0,641.70000000000005,811.79,0,0,1,0,"*(0,2+1)",0.42,2,85316087,256,0,0,0,0,0,0,0,0]
[{"$f":"ROW(Source!A160)","v":160},85316097,85316083,83785268,1,1,1,2,"91.17.04-233","ФСЭМ-2022, 91.17.04-233, приказ Минстроя России от 18.05.2022 г. № 378/пр","Аппараты сварочные для ручной дуговой сварки, сварочный ток до 350 А",1368,null,1011,"маш.-ч","маш.-ч",1,null,null,null,null,null,null,2.16,0,34.61,0,0,0,1,0,"*(0,2+1)",2.5920000000000001,2,85316088,257,0,0,0,0,0,0,0,0]
[{"$f":"ROW(Source!A160)","v":160},85316098,85316083,83851841,1,1,1,3,"01.7.03.04-0001","ФСБЦ-2022, 01.7.03.04-0001, приказ Минстроя России от 18.05.2022 г. № 378/пр","Электроэнергия",1383,null,1013,"КВТ-Ч","КВТ-Ч",1,null,null,null,null,null,null,1.1488,7.32,0,0,0,0,1,0,"",1.1488,2,85316089,258,0,0,0,0,0,0,0,0]
[{"$f":"ROW(Source!A160)","v":160},85316099,85316083,83852582,1,1,1,3,"01.7.11.07-0227","ФСБЦ-2022, 01.7.11.07-0227, приказ Минстроя России от 18.05.2022 г. № 378/пр","Электроды сварочные для сварки низколегированных и углеродистых сталей УОНИ 13/45, Э42А, диаметр 4-5 мм",1346,null,1009,"кг","кг",1,null,null,null,null,null,null,0.96,155.63,0,0,0,0,1,0,"",0.96,2,85316090,259,0,0,0,0,0,0,0,0]
[{"$f":"ROW(Source!A160)","v":160},85316100,85316083,83870031,1,1,1,3,"14.1.02.01-0002","ФСБЦ-2022, 14.1.02.01-0002, приказ Минстроя России от 18.05.2022 г. № 378/пр","Клей, марка БМК-5к",1346,null,1009,"кг","кг",1,null,null,null,null,null,null,0.55000000000000004,160.07,0,0,0,0,1,0,"",0.55000000000000004,2,85316091,260,0,0,0,0,0,0,0,0]
[{"$f":"ROW(Source!A160)","v":160},85316101,85316083,83783523,117,1,1,3,"421/пр_2020_п.75_пп.а","","Сметная стоимость вспомогательных ненормируемых материальных ресурсов, не учтенная в сметной норме, 2%",3277935,null,1013,"%","%",1,null,null,null,null,null,null,2,0,0,0,0,0,0,0,"",2,2,85316092,261,0,0,0,0,0,0,0,0]
[{"$f":"ROW(Source!A161)","v":161},85316093,85316083,83777513,117,1,1,1,"1-100-38","","Средний разряд работы 3,8",1191,null,1013,"чел.-ч.","чел.-ч.",1,null,null,null,null,null,null,31.28,0,0,0,793.61,0,1,1,"*(0,2+1)",37.536000000000001,2,85316084,262,0,0,0,0,0,0,0,0]
[{"$f":"ROW(Source!A161)","v":161},85316094,85316083,83777689,117,1,1,1,"4-100-00","","Затраты труда машинистов",1191,null,1013,"чел.-ч.","чел.-ч.",1,null,null,null,null,null,null,0.7,0,0,0,0,0,1,2,"*(0,2+1)",0.84,2,85316085,263,0,0,0,0,0,0,0,0]
[{"$f":"ROW(Source!A161)","v":161},85316095,85316083,83784178,1,1,1,2,"91.05.05-015","ФСЭМ-2022, 91.05.05-015, приказ Минстроя России от 18.05.2022 г. № 378/пр","Краны на автомобильном ходу, грузоподъемность 16 т",1368,null,1011,"маш.-ч","маш.-ч",1,null,null,null,null,null,null,0.35,0,1626.29,1090.46,0,0,1,0,"*(0,2+1)",0.42,2,85316086,264,0,0,0,0,0,0,0,0]
[{"$f":"ROW(Source!A161)","v":161},85316096,85316083,83785072,1,1,1,2,"91.14.02-001","ФСЭМ-2022 доп.7, 91.14.02-001, приказ Минстроя России от 02.08.2023 г. № 551/пр","Автомобили бортовые, грузоподъемность до 5 т",1368,null,1011,"маш.-ч","маш.-ч",1,null,null,null,null,null,null,0.35,0,641.70000000000005,811.79,0,0,1,0,"*(0,2+1)",0.42,2,85316087,265,0,0,0,0,0,0,0,0]
[{"$f":"ROW(Source!A161)","v":161},85316097,85316083,83785268,1,1,1,2,"91.17.04-233","ФСЭМ-2022, 91.17.04-233, приказ Минстроя России от 18.05.2022 г. № 378/пр","Аппараты сварочные для ручной дуговой сварки, сварочный ток до 350 А",1368,null,1011,"маш.-ч","маш.-ч",1,null,null,null,null,null,null,2.16,0,34.61,0,0,0,1,0,"*(0,2+1)",2.5920000000000001,2,85316088,266,0,0,0,0,0,0,0,0]
[{"$f":"ROW(Source!A161)","v":161},85316098,85316083,83851841,1,1,1,3,"01.7.03.04-0001","ФСБЦ-2022, 01.7.03.04-0001, приказ Минстроя России от 18.05.2022 г. № 378/пр","Электроэнергия",1383,null,1013,"КВТ-Ч","КВТ-Ч",1,null,null,null,null,null,null,1.1488,7.32,0,0,0,0,1,0,"",1.1488,2,85316089,267,0,0,0,0,0,0,0,0]
[{"$f":"ROW(Source!A161)","v":161},85316099,85316083,83852582,1,1,1,3,"01.7.11.07-0227","ФСБЦ-2022, 01.7.11.07-0227, приказ Минстроя России от 18.05.2022 г. № 378/пр","Электроды сварочные для сварки низколегированных и углеродистых сталей УОНИ 13/45, Э42А, диаметр 4-5 мм",1346,null,1009,"кг","кг",1,null,null,null,null,null,null,0.96,155.63,0,0,0,0,1,0,"",0.96,2,85316090,268,0,0,0,0,0,0,0,0]
[{"$f":"ROW(Source!A161)","v":161},85316100,85316083,83870031,1,1,1,3,"14.1.02.01-0002","ФСБЦ-2022, 14.1.02.01-0002, приказ Минстроя России от 18.05.2022 г. № 378/пр","Клей, марка БМК-5к",1346,null,1009,"кг","кг",1,null,null,null,null,null,null,0.55000000000000004,160.07,0,0,0,0,1,0,"",0.55000000000000004,2,85316091,269,0,0,0,0,0,0,0,0]
[{"$f":"ROW(Source!A161)","v":161},85316101,85316083,83783523,117,1,1,3,"421/пр_2020_п.75_пп.а","","Сметная стоимость вспомогательных ненормируемых материальных ресурсов, не учтенная в сметной норме, 2%",3277935,null,1013,"%","%",1,null,null,null,null,null,null,2,0,0,0,0,0,0,0,"",2,2,85316092,270,0,0,0,0,0,0,0,0]
[{"$f":"ROW(Source!A165)","v":165},85316115,85316104,83777513,117,1,1,1,"1-100-38","","Средний разряд работы 3,8",1191,null,1013,"чел.-ч.","чел.-ч.",1,null,null,null,null,null,null,14.4,0,0,0,793.61,0,1,1,"*(0,2+1)",17.28,2,85316105,271,0,0,0,0,0,0,0,0]
[{"$f":"ROW(Source!A165)","v":165},85316116,85316104,83777689,117,1,1,1,"4-100-00","","Затраты труда машинистов",1191,null,1013,"чел.-ч.","чел.-ч.",1,null,null,null,null,null,null,0.4,0,0,0,0,0,1,2,"*(0,2+1)",0.48,2,85316106,272,0,0,0,0,0,0,0,0]
[{"$f":"ROW(Source!A165)","v":165},85316117,85316104,83784178,1,1,1,2,"91.05.05-015","ФСЭМ-2022, 91.05.05-015, приказ Минстроя России от 18.05.2022 г. № 378/пр","Краны на автомобильном ходу, грузоподъемность 16 т",1368,null,1011,"маш.-ч","маш.-ч",1,null,null,null,null,null,null,0.2,0,1626.29,1090.46,0,0,1,0,"*(0,2+1)",0.24,2,85316107,273,0,0,0,0,0,0,0,0]
[{"$f":"ROW(Source!A165)","v":165},85316118,85316104,83785072,1,1,1,2,"91.14.02-001","ФСЭМ-2022 доп.7, 91.14.02-001, приказ Минстроя России от 02.08.2023 г. № 551/пр","Автомобили бортовые, грузоподъемность до 5 т",1368,null,1011,"маш.-ч","маш.-ч",1,null,null,null,null,null,null,0.2,0,641.70000000000005,811.79,0,0,1,0,"*(0,2+1)",0.24,2,85316108,274,0,0,0,0,0,0,0,0]
[{"$f":"ROW(Source!A165)","v":165},85316119,85316104,83852000,1,1,1,3,"01.7.06.05-0041","ФСБЦ-2022, 01.7.06.05-0041, приказ Минстроя России от 18.05.2022 г. № 378/пр","Ленты изоляционные хлопчатобумажные прорезиненные для электромонтажных и ремонтных работ, цвет черный, ширина 20 мм, толщина 0,35 мм",1301,null,1003,"м","м",1,null,null,null,null,null,null,33.33,5.87,0,0,0,0,1,0,"",33.33,2,85316109,275,0,0,0,0,0,0,0,0]
[{"$f":"ROW(Source!A165)","v":165},85316120,85316104,83852170,1,1,1,3,"01.7.07.20-0002","ФСБЦ-2022, 01.7.07.20-0002, приказ Минстроя России от 18.05.2022 г. № 378/пр","Тальк молотый, сорт I",1348,null,1009,"т","т",1000,null,null,null,null,null,null,1.3699999999999999E-3,43821.53,0,0,0,0,1,0,"",1.3699999999999999E-3,2,85316110,276,0,0,0,0,0,0,0,0]
[{"$f":"ROW(Source!A165)","v":165},85316121,85316104,83870516,1,1,1,3,"14.4.02.04-0142","ФСБЦ-2022, 14.4.02.04-0142, приказ Минстроя России от 18.05.2022 г. № 378/пр","Краска масляная МА-0115, мумия, сурик железный",1346,null,1009,"кг","кг",1,null,null,null,null,null,null,0.02,79.88,0,0,0,0,1,0,"",0.02,2,85316111,277,0,0,0,0,0,0,0,0]
[{"$f":"ROW(Source!A165)","v":165},85316122,85316104,83878106,1,1,1,3,"20.2.01.05-0011","ФСБЦ-2022 доп.11, 20.2.01.05-0011, приказ Минстроя России от 09.08.2024 г. № 524/пр","Гильзы кабельные медные 120 мм",1425,null,1013,"100 ШТ","100 ШТ",1,null,null,null,null,null,null,0.05,11574.95,0,0,0,0,1,0,"",0.05,2,85316112,278,0,0,0,0,0,0,0,0]
[{"$f":"ROW(Source!A165)","v":165},85316123,85316104,83878151,1,1,1,3,"20.2.02.01-0016","ФСБЦ-2022 доп.9, 20.2.02.01-0016, приказ Минстроя России от 16.02.2024 г. № 102/пр","Втулки полипропиленовые, диаметр 69 мм",1407,null,1013,"1000 ШТ","1000 ШТ",1,null,null,null,null,null,null,1.2200000000000001E-2,6904.76,0,0,0,0,1,0,"",1.2200000000000001E-2,2,85316113,279,0,0,0,0,0,0,0,0]
[{"$f":"ROW(Source!A165)","v":165},85316124,85316104,83783523,117,1,1,3,"421/пр_2020_п.75_пп.а","","Сметная стоимость вспомогательных ненормируемых материальных ресурсов, не учтенная в сметной норме, 2%",3277935,null,1013,"%","%",1,null,null,null,null,null,null,2,0,0,0,0,0,0,0,"",2,2,85316114,280,0,0,0,0,0,0,0,0]
[{"$f":"ROW(Source!A166)","v":166},85316115,85316104,83777513,117,1,1,1,"1-100-38","","Средний разряд работы 3,8",1191,null,1013,"чел.-ч.","чел.-ч.",1,null,null,null,null,null,null,14.4,0,0,0,793.61,0,1,1,"*(0,2+1)",17.28,2,85316105,281,0,0,0,0,0,0,0,0]
[{"$f":"ROW(Source!A166)","v":166},85316116,85316104,83777689,117,1,1,1,"4-100-00","","Затраты труда машинистов",1191,null,1013,"чел.-ч.","чел.-ч.",1,null,null,null,null,null,null,0.4,0,0,0,0,0,1,2,"*(0,2+1)",0.48,2,85316106,282,0,0,0,0,0,0,0,0]
[{"$f":"ROW(Source!A166)","v":166},85316117,85316104,83784178,1,1,1,2,"91.05.05-015","ФСЭМ-2022, 91.05.05-015, приказ Минстроя России от 18.05.2022 г. № 378/пр","Краны на автомобильном ходу, грузоподъемность 16 т",1368,null,1011,"маш.-ч","маш.-ч",1,null,null,null,null,null,null,0.2,0,1626.29,1090.46,0,0,1,0,"*(0,2+1)",0.24,2,85316107,283,0,0,0,0,0,0,0,0]
[{"$f":"ROW(Source!A166)","v":166},85316118,85316104,83785072,1,1,1,2,"91.14.02-001","ФСЭМ-2022 доп.7, 91.14.02-001, приказ Минстроя России от 02.08.2023 г. № 551/пр","Автомобили бортовые, грузоподъемность до 5 т",1368,null,1011,"маш.-ч","маш.-ч",1,null,null,null,null,null,null,0.2,0,641.70000000000005,811.79,0,0,1,0,"*(0,2+1)",0.24,2,85316108,284,0,0,0,0,0,0,0,0]
[{"$f":"ROW(Source!A166)","v":166},85316119,85316104,83852000,1,1,1,3,"01.7.06.05-0041","ФСБЦ-2022, 01.7.06.05-0041, приказ Минстроя России от 18.05.2022 г. № 378/пр","Ленты изоляционные хлопчатобумажные прорезиненные для электромонтажных и ремонтных работ, цвет черный, ширина 20 мм, толщина 0,35 мм",1301,null,1003,"м","м",1,null,null,null,null,null,null,33.33,5.87,0,0,0,0,1,0,"",33.33,2,85316109,285,0,0,0,0,0,0,0,0]
[{"$f":"ROW(Source!A166)","v":166},85316120,85316104,83852170,1,1,1,3,"01.7.07.20-0002","ФСБЦ-2022, 01.7.07.20-0002, приказ Минстроя России от 18.05.2022 г. № 378/пр","Тальк молотый, сорт I",1348,null,1009,"т","т",1000,null,null,null,null,null,null,1.3699999999999999E-3,43821.53,0,0,0,0,1,0,"",1.3699999999999999E-3,2,85316110,286,0,0,0,0,0,0,0,0]
[{"$f":"ROW(Source!A166)","v":166},85316121,85316104,83870516,1,1,1,3,"14.4.02.04-0142","ФСБЦ-2022, 14.4.02.04-0142, приказ Минстроя России от 18.05.2022 г. № 378/пр","Краска масляная МА-0115, мумия, сурик железный",1346,null,1009,"кг","кг",1,null,null,null,null,null,null,0.02,79.88,0,0,0,0,1,0,"",0.02,2,85316111,287,0,0,0,0,0,0,0,0]
[{"$f":"ROW(Source!A166)","v":166},85316122,85316104,83878106,1,1,1,3,"20.2.01.05-0011","ФСБЦ-2022 доп.11, 20.2.01.05-0011, приказ Минстроя России от 09.08.2024 г. № 524/пр","Гильзы кабельные медные 120 мм",1425,null,1013,"100 ШТ","100 ШТ",1,null,null,null,null,null,null,0.05,11574.95,0,0,0,0,1,0,"",0.05,2,85316112,288,0,0,0,0,0,0,0,0]
[{"$f":"ROW(Source!A166)","v":166},85316123,85316104,83878151,1,1,1,3,"20.2.02.01-0016","ФСБЦ-2022 доп.9, 20.2.02.01-0016, приказ Минстроя России от 16.02.2024 г. № 102/пр","Втулки полипропиленовые, диаметр 69 мм",1407,null,1013,"1000 ШТ","1000 ШТ",1,null,null,null,null,null,null,1.2200000000000001E-2,6904.76,0,0,0,0,1,0,"",1.2200000000000001E-2,2,85316113,289,0,0,0,0,0,0,0,0]
[{"$f":"ROW(Source!A166)","v":166},85316124,85316104,83783523,117,1,1,3,"421/пр_2020_п.75_пп.а","","Сметная стоимость вспомогательных ненормируемых материальных ресурсов, не учтенная в сметной норме, 2%",3277935,null,1013,"%","%",1,null,null,null,null,null,null,2,0,0,0,0,0,0,0,"",2,2,85316114,290,0,0,0,0,0,0,0,0]
[{"$f":"ROW(Source!A170)","v":170},85316139,85316127,83777513,117,1,1,1,"1-100-38","","Средний разряд работы 3,8",1191,null,1013,"чел.-ч.","чел.-ч.",1,null,null,null,null,null,null,41.12,0,0,0,793.61,0,1,1,"*(0,2+1)",49.343999999999994,2,85316128,291,0,0,0,0,0,0,0,0]
[{"$f":"ROW(Source!A170)","v":170},85316140,85316127,83777689,117,1,1,1,"4-100-00","","Затраты труда машинистов",1191,null,1013,"чел.-ч.","чел.-ч.",1,null,null,null,null,null,null,1.54,0,0,0,0,0,1,2,"*(0,2+1)",1.8479999999999999,2,85316129,292,0,0,0,0,0,0,0,0]
[{"$f":"ROW(Source!A170)","v":170},85316141,85316127,83784178,1,1,1,2,"91.05.05-015","ФСЭМ-2022, 91.05.05-015, приказ Минстроя России от 18.05.2022 г. № 378/пр","Краны на автомобильном ходу, грузоподъемность 16 т",1368,null,1011,"маш.-ч","маш.-ч",1,null,null,null,null,null,null,0.77,0,1626.29,1090.46,0,0,1,0,"*(0,2+1)",0.92399999999999993,2,85316130,293,0,0,0,0,0,0,0,0]
[{"$f":"ROW(Source!A170)","v":170},85316142,85316127,83785072,1,1,1,2,"91.14.02-001","ФСЭМ-2022 доп.7, 91.14.02-001, приказ Минстроя России от 02.08.2023 г. № 551/пр","Автомобили бортовые, грузоподъемность до 5 т",1368,null,1011,"маш.-ч","маш.-ч",1,null,null,null,null,null,null,0.77,0,641.70000000000005,811.79,0,0,1,0,"*(0,2+1)",0.92399999999999993,2,85316131,294,0,0,0,0,0,0,0,0]
[{"$f":"ROW(Source!A170)","v":170},85316143,85316127,83785268,1,1,1,2,"91.17.04-233","ФСЭМ-2022, 91.17.04-233, приказ Минстроя России от 18.05.2022 г. № 378/пр","Аппараты сварочные для ручной дуговой сварки, сварочный ток до 350 А",1368,null,1011,"маш.-ч","маш.-ч",1,null,null,null,null,null,null,4.9400000000000004,0,34.61,0,0,0,1,0,"*(0,2+1)",5.9279999999999999,2,85316132,295,0,0,0,0,0,0,0,0]
[{"$f":"ROW(Source!A170)","v":170},85316144,85316127,83851809,1,1,1,3,"01.7.02.07-0011","ФСБЦ-2022 доп.12, 01.7.02.07-0011, приказ Минстроя России от 07.11.2024 г. № 747/пр","Прессшпан листовой, марка А",1346,null,1009,"кг","кг",1,null,null,null,null,null,null,0.99,206.43,0,0,0,0,1,0,"",0.99,2,85316133,296,0,0,0,0,0,0,0,0]
[{"$f":"ROW(Source!A170)","v":170},85316145,85316127,83851841,1,1,1,3,"01.7.03.04-0001","ФСБЦ-2022, 01.7.03.04-0001, приказ Минстроя России от 18.05.2022 г. № 378/пр","Электроэнергия",1383,null,1013,"КВТ-Ч","КВТ-Ч",1,null,null,null,null,null,null,2.5428000000000002,7.32,0,0,0,0,1,0,"",2.5428000000000002,2,85316134,297,0,0,0,0,0,0,0,0]
[{"$f":"ROW(Source!A170)","v":170},85316146,85316127,83852582,1,1,1,3,"01.7.11.07-0227","ФСБЦ-2022, 01.7.11.07-0227, приказ Минстроя России от 18.05.2022 г. № 378/пр","Электроды сварочные для сварки низколегированных и углеродистых сталей УОНИ 13/45, Э42А, диаметр 4-5 мм",1346,null,1009,"кг","кг",1,null,null,null,null,null,null,3,155.63,0,0,0,0,1,0,"",3,2,85316135,298,0,0,0,0,0,0,0,0]
[{"$f":"ROW(Source!A170)","v":170},85316147,85316127,83853343,1,1,1,3,"01.7.15.04-0011","ФСБЦ-2022, 01.7.15.04-0011, приказ Минстроя России от 18.05.2022 г. № 378/пр","Винты стальные с полукруглой головкой, длина 50 мм",1348,null,1009,"т","т",1000,null,null,null,null,null,null,1.5499999999999999E-3,127406,0,0,0,0,1,0,"",1.5499999999999999E-3,2,85316136,299,0,0,0,0,0,0,0,0]
[{"$f":"ROW(Source!A170)","v":170},85316148,85316127,83870516,1,1,1,3,"14.4.02.04-0142","ФСБЦ-2022, 14.4.02.04-0142, приказ Минстроя России от 18.05.2022 г. № 378/пр","Краска масляная МА-0115, мумия, сурик железный",1346,null,1009,"кг","кг",1,null,null,null,null,null,null,0.1,79.88,0,0,0,0,1,0,"",0.1,2,85316137,300,0,0,0,0,0,0,0,0]
[{"$f":"ROW(Source!A170)","v":170},85316149,85316127,83783523,117,1,1,3,"421/пр_2020_п.75_пп.а","","Сметная стоимость вспомогательных ненормируемых материальных ресурсов, не учтенная в сметной норме, 2%",3277935,null,1013,"%","%",1,null,null,null,null,null,null,2,0,0,0,0,0,0,0,"",2,2,85316138,301,0,0,0,0,0,0,0,0]
[{"$f":"ROW(Source!A171)","v":171},85316139,85316127,83777513,117,1,1,1,"1-100-38","","Средний разряд работы 3,8",1191,null,1013,"чел.-ч.","чел.-ч.",1,null,null,null,null,null,null,41.12,0,0,0,793.61,0,1,1,"*(0,2+1)",49.343999999999994,2,85316128,302,0,0,0,0,0,0,0,0]
[{"$f":"ROW(Source!A171)","v":171},85316140,85316127,83777689,117,1,1,1,"4-100-00","","Затраты труда машинистов",1191,null,1013,"чел.-ч.","чел.-ч.",1,null,null,null,null,null,null,1.54,0,0,0,0,0,1,2,"*(0,2+1)",1.8479999999999999,2,85316129,303,0,0,0,0,0,0,0,0]
[{"$f":"ROW(Source!A171)","v":171},85316141,85316127,83784178,1,1,1,2,"91.05.05-015","ФСЭМ-2022, 91.05.05-015, приказ Минстроя России от 18.05.2022 г. № 378/пр","Краны на автомобильном ходу, грузоподъемность 16 т",1368,null,1011,"маш.-ч","маш.-ч",1,null,null,null,null,null,null,0.77,0,1626.29,1090.46,0,0,1,0,"*(0,2+1)",0.92399999999999993,2,85316130,304,0,0,0,0,0,0,0,0]
[{"$f":"ROW(Source!A171)","v":171},85316142,85316127,83785072,1,1,1,2,"91.14.02-001","ФСЭМ-2022 доп.7, 91.14.02-001, приказ Минстроя России от 02.08.2023 г. № 551/пр","Автомобили бортовые, грузоподъемность до 5 т",1368,null,1011,"маш.-ч","маш.-ч",1,null,null,null,null,null,null,0.77,0,641.70000000000005,811.79,0,0,1,0,"*(0,2+1)",0.92399999999999993,2,85316131,305,0,0,0,0,0,0,0,0]
[{"$f":"ROW(Source!A171)","v":171},85316143,85316127,83785268,1,1,1,2,"91.17.04-233","ФСЭМ-2022, 91.17.04-233, приказ Минстроя России от 18.05.2022 г. № 378/пр","Аппараты сварочные для ручной дуговой сварки, сварочный ток до 350 А",1368,null,1011,"маш.-ч","маш.-ч",1,null,null,null,null,null,null,4.9400000000000004,0,34.61,0,0,0,1,0,"*(0,2+1)",5.9279999999999999,2,85316132,306,0,0,0,0,0,0,0,0]
[{"$f":"ROW(Source!A171)","v":171},85316144,85316127,83851809,1,1,1,3,"01.7.02.07-0011","ФСБЦ-2022 доп.12, 01.7.02.07-0011, приказ Минстроя России от 07.11.2024 г. № 747/пр","Прессшпан листовой, марка А",1346,null,1009,"кг","кг",1,null,null,null,null,null,null,0.99,206.43,0,0,0,0,1,0,"",0.99,2,85316133,307,0,0,0,0,0,0,0,0]
[{"$f":"ROW(Source!A171)","v":171},85316145,85316127,83851841,1,1,1,3,"01.7.03.04-0001","ФСБЦ-2022, 01.7.03.04-0001, приказ Минстроя России от 18.05.2022 г. № 378/пр","Электроэнергия",1383,null,1013,"КВТ-Ч","КВТ-Ч",1,null,null,null,null,null,null,2.5428000000000002,7.32,0,0,0,0,1,0,"",2.5428000000000002,2,85316134,308,0,0,0,0,0,0,0,0]
[{"$f":"ROW(Source!A171)","v":171},85316146,85316127,83852582,1,1,1,3,"01.7.11.07-0227","ФСБЦ-2022, 01.7.11.07-0227, приказ Минстроя России от 18.05.2022 г. № 378/пр","Электроды сварочные для сварки низколегированных и углеродистых сталей УОНИ 13/45, Э42А, диаметр 4-5 мм",1346,null,1009,"кг","кг",1,null,null,null,null,null,null,3,155.63,0,0,0,0,1,0,"",3,2,85316135,309,0,0,0,0,0,0,0,0]
[{"$f":"ROW(Source!A171)","v":171},85316147,85316127,83853343,1,1,1,3,"01.7.15.04-0011","ФСБЦ-2022, 01.7.15.04-0011, приказ Минстроя России от 18.05.2022 г. № 378/пр","Винты стальные с полукруглой головкой, длина 50 мм",1348,null,1009,"т","т",1000,null,null,null,null,null,null,1.5499999999999999E-3,127406,0,0,0,0,1,0,"",1.5499999999999999E-3,2,85316136,310,0,0,0,0,0,0,0,0]
[{"$f":"ROW(Source!A171)","v":171},85316148,85316127,83870516,1,1,1,3,"14.4.02.04-0142","ФСБЦ-2022, 14.4.02.04-0142, приказ Минстроя России от 18.05.2022 г. № 378/пр","Краска масляная МА-0115, мумия, сурик железный",1346,null,1009,"кг","кг",1,null,null,null,null,null,null,0.1,79.88,0,0,0,0,1,0,"",0.1,2,85316137,311,0,0,0,0,0,0,0,0]
[{"$f":"ROW(Source!A171)","v":171},85316149,85316127,83783523,117,1,1,3,"421/пр_2020_п.75_пп.а","","Сметная стоимость вспомогательных ненормируемых материальных ресурсов, не учтенная в сметной норме, 2%",3277935,null,1013,"%","%",1,null,null,null,null,null,null,2,0,0,0,0,0,0,0,"",2,2,85316138,312,0,0,0,0,0,0,0,0]
[{"$f":"ROW(Source!A175)","v":175},85316166,85316152,83777647,117,1,1,1,"2-100-02","","Рабочий 2 разряда",1369,null,1013,"чел.-ч","чел.-ч",1,null,null,null,null,null,null,0.99,0,0,0,660.33,0,1,1,"*(0,2+1)",1.1879999999999999,2,85316153,313,0,0,0,0,0,0,0,0]
[{"$f":"ROW(Source!A175)","v":175},85316167,85316152,83777649,117,1,1,1,"2-100-03","","Рабочий 3 разряда",1369,null,1013,"чел.-ч","чел.-ч",1,null,null,null,null,null,null,47.29,0,0,0,720.91,0,1,1,"*(0,2+1)",56.747999999999998,2,85316154,314,0,0,0,0,0,0,0,0]
[{"$f":"ROW(Source!A175)","v":175},85316168,85316152,83777653,117,1,1,1,"2-100-04","","Рабочий 4 разряда",1369,null,1013,"чел.-ч","чел.-ч",1,null,null,null,null,null,null,23.42,0,0,0,811.79,0,1,1,"*(0,2+1)",28.104000000000003,2,85316155,315,0,0,0,0,0,0,0,0]
[{"$f":"ROW(Source!A175)","v":175},85316169,85316152,83777657,117,1,1,1,"2-100-05","","Рабочий 5 разряда",1369,null,1013,"чел.-ч","чел.-ч",1,null,null,null,null,null,null,23.42,0,0,0,932.95,0,1,1,"*(0,2+1)",28.104000000000003,2,85316156,316,0,0,0,0,0,0,0,0]
[{"$f":"ROW(Source!A175)","v":175},85316170,85316152,83777689,117,1,1,1,"4-100-00","","Затраты труда машинистов",1191,null,1013,"чел.-ч.","чел.-ч.",1,null,null,null,null,null,null,24.89,0,0,0,0,0,1,2,"*(0,2+1)",29.867999999999999,2,85316157,317,0,0,0,0,0,0,0,0]
[{"$f":"ROW(Source!A175)","v":175},85316171,85316152,83784178,1,1,1,2,"91.05.05-015","ФСЭМ-2022, 91.05.05-015, приказ Минстроя России от 18.05.2022 г. № 378/пр","Краны на автомобильном ходу, грузоподъемность 16 т",1368,null,1011,"маш.-ч","маш.-ч",1,null,null,null,null,null,null,0.75,0,1626.29,1090.46,0,0,1,0,"*(0,2+1)",0.89999999999999991,2,85316158,318,0,0,0,0,0,0,0,0]
[{"$f":"ROW(Source!A175)","v":175},85316172,85316152,83784312,1,1,1,2,"91.06.03-055","ФСЭМ-2022, 91.06.03-055, приказ Минстроя России от 18.05.2022 г. № 378/пр","Лебедки электрические тяговым усилием 19,62 кН (2 т)",1368,null,1011,"маш.-ч","маш.-ч",1,null,null,null,null,null,null,0.81,0,11.45,0,0,0,1,0,"*(0,2+1)",0.97199999999999998,2,85316159,319,0,0,0,0,0,0,0,0]
[{"$f":"ROW(Source!A175)","v":175},85316173,85316152,83784352,1,1,1,2,"91.06.06-011","ФСЭМ-2022, 91.06.06-011, приказ Минстроя России от 18.05.2022 г. № 378/пр","Автогидроподъемники, высота подъема 12 м",1368,null,1011,"маш.-ч","маш.-ч",1,null,null,null,null,null,null,22.74,0,346.73,811.79,0,0,1,0,"*(0,2+1)",27.287999999999997,2,85316160,320,0,0,0,0,0,0,0,0]
[{"$f":"ROW(Source!A175)","v":175},85316174,85316152,83785072,1,1,1,2,"91.14.02-001","ФСЭМ-2022 доп.7, 91.14.02-001, приказ Минстроя России от 02.08.2023 г. № 551/пр","Автомобили бортовые, грузоподъемность до 5 т",1368,null,1011,"маш.-ч","маш.-ч",1,null,null,null,null,null,null,0.59,0,641.70000000000005,811.79,0,0,1,0,"*(0,2+1)",0.70799999999999996,2,85316161,321,0,0,0,0,0,0,0,0]
[{"$f":"ROW(Source!A175)","v":175},85316175,85316152,83785270,1,1,1,2,"91.17.04-544","ФСЭМ-2022, 91.17.04-544, приказ Минстроя России от 18.05.2022 г. № 378/пр","Генераторы бензиновые портативные, мощность до 6 кВт",1368,null,1011,"маш.-ч","маш.-ч",1,null,null,null,null,null,null,0.81,0,192.86,811.79,0,0,1,0,"*(0,2+1)",0.97199999999999998,2,85316162,322,0,0,0,0,0,0,0,0]
[{"$f":"ROW(Source!A175)","v":175},85316176,85316152,83782364,117,1,1,3,"20.1.01.01","","Комплект линейной арматуры для крепления СИП-2 на опоре ВЛИ",1371,null,1013,"ШТ","ШТ",1,null,null,null,null,null,null,0,0,0,0,0,1,0,0,"",0,2,85316163,323,0,0,0,0,0,0,0,0]
[{"$f":"ROW(Source!A175)","v":175},85316177,85316152,83782372,117,1,1,3,"20.1.01.11","","Комплект линейной арматуры для устройства заземлений на опорах ВЛИ",1371,null,1013,"ШТ","ШТ",1,null,null,null,null,null,null,0,0,0,0,0,1,0,0,"",0,2,85316164,324,0,0,0,0,0,0,0,0]
[{"$f":"ROW(Source!A175)","v":175},85316178,85316152,83782541,117,1,1,3,"21.2.01.01","","Провода самонесущие изолированные для ВЛИ",1477,null,1013,"1000 м","1000 М",1,null,null,null,null,null,null,0,0,0,0,0,1,0,0,"",0,2,85316165,325,0,0,0,0,0,0,0,0]
[{"$f":"ROW(Source!A176)","v":176},85316166,85316152,83777647,117,1,1,1,"2-100-02","","Рабочий 2 разряда",1369,null,1013,"чел.-ч","чел.-ч",1,null,null,null,null,null,null,0.99,0,0,0,660.33,0,1,1,"*(0,2+1)",1.1879999999999999,2,85316153,326,0,0,0,0,0,0,0,0]
[{"$f":"ROW(Source!A176)","v":176},85316167,85316152,83777649,117,1,1,1,"2-100-03","","Рабочий 3 разряда",1369,null,1013,"чел.-ч","чел.-ч",1,null,null,null,null,null,null,47.29,0,0,0,720.91,0,1,1,"*(0,2+1)",56.747999999999998,2,85316154,327,0,0,0,0,0,0,0,0]
[{"$f":"ROW(Source!A176)","v":176},85316168,85316152,83777653,117,1,1,1,"2-100-04","","Рабочий 4 разряда",1369,null,1013,"чел.-ч","чел.-ч",1,null,null,null,null,null,null,23.42,0,0,0,811.79,0,1,1,"*(0,2+1)",28.104000000000003,2,85316155,328,0,0,0,0,0,0,0,0]
[{"$f":"ROW(Source!A176)","v":176},85316169,85316152,83777657,117,1,1,1,"2-100-05","","Рабочий 5 разряда",1369,null,1013,"чел.-ч","чел.-ч",1,null,null,null,null,null,null,23.42,0,0,0,932.95,0,1,1,"*(0,2+1)",28.104000000000003,2,85316156,329,0,0,0,0,0,0,0,0]
[{"$f":"ROW(Source!A176)","v":176},85316170,85316152,83777689,117,1,1,1,"4-100-00","","Затраты труда машинистов",1191,null,1013,"чел.-ч.","чел.-ч.",1,null,null,null,null,null,null,24.89,0,0,0,0,0,1,2,"*(0,2+1)",29.867999999999999,2,85316157,330,0,0,0,0,0,0,0,0]
[{"$f":"ROW(Source!A176)","v":176},85316171,85316152,83784178,1,1,1,2,"91.05.05-015","ФСЭМ-2022, 91.05.05-015, приказ Минстроя России от 18.05.2022 г. № 378/пр","Краны на автомобильном ходу, грузоподъемность 16 т",1368,null,1011,"маш.-ч","маш.-ч",1,null,null,null,null,null,null,0.75,0,1626.29,1090.46,0,0,1,0,"*(0,2+1)",0.89999999999999991,2,85316158,331,0,0,0,0,0,0,0,0]
[{"$f":"ROW(Source!A176)","v":176},85316172,85316152,83784312,1,1,1,2,"91.06.03-055","ФСЭМ-2022, 91.06.03-055, приказ Минстроя России от 18.05.2022 г. № 378/пр","Лебедки электрические тяговым усилием 19,62 кН (2 т)",1368,null,1011,"маш.-ч","маш.-ч",1,null,null,null,null,null,null,0.81,0,11.45,0,0,0,1,0,"*(0,2+1)",0.97199999999999998,2,85316159,332,0,0,0,0,0,0,0,0]
[{"$f":"ROW(Source!A176)","v":176},85316173,85316152,83784352,1,1,1,2,"91.06.06-011","ФСЭМ-2022, 91.06.06-011, приказ Минстроя России от 18.05.2022 г. № 378/пр","Автогидроподъемники, высота подъема 12 м",1368,null,1011,"маш.-ч","маш.-ч",1,null,null,null,null,null,null,22.74,0,346.73,811.79,0,0,1,0,"*(0,2+1)",27.287999999999997,2,85316160,333,0,0,0,0,0,0,0,0]
[{"$f":"ROW(Source!A176)","v":176},85316174,85316152,83785072,1,1,1,2,"91.14.02-001","ФСЭМ-2022 доп.7, 91.14.02-001, приказ Минстроя России от 02.08.2023 г. № 551/пр","Автомобили бортовые, грузоподъемность до 5 т",1368,null,1011,"маш.-ч","маш.-ч",1,null,null,null,null,null,null,0.59,0,641.70000000000005,811.79,0,0,1,0,"*(0,2+1)",0.70799999999999996,2,85316161,334,0,0,0,0,0,0,0,0]
[{"$f":"ROW(Source!A176)","v":176},85316175,85316152,83785270,1,1,1,2,"91.17.04-544","ФСЭМ-2022, 91.17.04-544, приказ Минстроя России от 18.05.2022 г. № 378/пр","Генераторы бензиновые портативные, мощность до 6 кВт",1368,null,1011,"маш.-ч","маш.-ч",1,null,null,null,null,null,null,0.81,0,192.86,811.79,0,0,1,0,"*(0,2+1)",0.97199999999999998,2,85316162,335,0,0,0,0,0,0,0,0]
[{"$f":"ROW(Source!A176)","v":176},85316176,85316152,83782364,117,1,1,3,"20.1.01.01","","Комплект линейной арматуры для крепления СИП-2 на опоре ВЛИ",1371,null,1013,"ШТ","ШТ",1,null,null,null,null,null,null,0,0,0,0,0,1,0,0,"",0,2,85316163,336,0,0,0,0,0,0,0,0]
[{"$f":"ROW(Source!A176)","v":176},85316177,85316152,83782372,117,1,1,3,"20.1.01.11","","Комплект линейной арматуры для устройства заземлений на опорах ВЛИ",1371,null,1013,"ШТ","ШТ",1,null,null,null,null,null,null,0,0,0,0,0,1,0,0,"",0,2,85316164,337,0,0,0,0,0,0,0,0]
[{"$f":"ROW(Source!A176)","v":176},85316178,85316152,83782541,117,1,1,3,"21.2.01.01","","Провода самонесущие изолированные для ВЛИ",1477,null,1013,"1000 м","1000 М",1,null,null,null,null,null,null,0,0,0,0,0,1,0,0,"",0,2,85316165,338,0,0,0,0,0,0,0,0]
[{"$f":"ROW(Source!A184)","v":184},85316191,85316183,83777649,117,1,1,1,"2-100-03","","Рабочий 3 разряда",1369,null,1013,"чел.-ч","чел.-ч",1,null,null,null,null,null,null,0.91,0,0,0,720.91,0,1,1,"*(0,2+1)",1.0920000000000001,2,85316184,339,0,0,0,0,0,0,0,0]
[{"$f":"ROW(Source!A184)","v":184},85316192,85316183,83777653,117,1,1,1,"2-100-04","","Рабочий 4 разряда",1369,null,1013,"чел.-ч","чел.-ч",1,null,null,null,null,null,null,0.45,0,0,0,811.79,0,1,1,"*(0,2+1)",0.54,2,85316185,340,0,0,0,0,0,0,0,0]
[{"$f":"ROW(Source!A184)","v":184},85316193,85316183,83777657,117,1,1,1,"2-100-05","","Рабочий 5 разряда",1369,null,1013,"чел.-ч","чел.-ч",1,null,null,null,null,null,null,0.45,0,0,0,932.95,0,1,1,"*(0,2+1)",0.54,2,85316186,341,0,0,0,0,0,0,0,0]
[{"$f":"ROW(Source!A184)","v":184},85316194,85316183,83777689,117,1,1,1,"4-100-00","","Затраты труда машинистов",1191,null,1013,"чел.-ч.","чел.-ч.",1,null,null,null,null,null,null,0.44,0,0,0,0,0,1,2,"*(0,2+1)",0.52800000000000002,2,85316187,342,0,0,0,0,0,0,0,0]
[{"$f":"ROW(Source!A184)","v":184},85316195,85316183,83784352,1,1,1,2,"91.06.06-011","ФСЭМ-2022, 91.06.06-011, приказ Минстроя России от 18.05.2022 г. № 378/пр","Автогидроподъемники, высота подъема 12 м",1368,null,1011,"маш.-ч","маш.-ч",1,null,null,null,null,null,null,0.44,0,346.73,811.79,0,0,1,0,"*(0,2+1)",0.52800000000000002,2,85316188,343,0,0,0,0,0,0,0,0]
[{"$f":"ROW(Source!A184)","v":184},85316196,85316183,83782364,117,1,1,3,"20.1.01.01","","Комплект линейной арматуры для крепления СИП-2 на опоре ВЛИ",1371,null,1013,"ШТ","ШТ",1,null,null,null,null,null,null,0,0,0,0,0,1,0,0,"",0,2,85316189,344,0,0,0,0,0,0,0,0]
[{"$f":"ROW(Source!A184)","v":184},85316197,85316183,83782372,117,1,1,3,"20.1.01.11","","Комплект линейной арматуры для устройства заземлений на опорах ВЛИ",1371,null,1013,"ШТ","ШТ",1,null,null,null,null,null,null,0,0,0,0,0,1,0,0,"",0,2,85316190,345,0,0,0,0,0,0,0,0]
[{"$f":"ROW(Source!A185)","v":185},85316191,85316183,83777649,117,1,1,1,"2-100-03","","Рабочий 3 разряда",1369,null,1013,"чел.-ч","чел.-ч",1,null,null,null,null,null,null,0.91,0,0,0,720.91,0,1,1,"*(0,2+1)",1.0920000000000001,2,85316184,346,0,0,0,0,0,0,0,0]
[{"$f":"ROW(Source!A185)","v":185},85316192,85316183,83777653,117,1,1,1,"2-100-04","","Рабочий 4 разряда",1369,null,1013,"чел.-ч","чел.-ч",1,null,null,null,null,null,null,0.45,0,0,0,811.79,0,1,1,"*(0,2+1)",0.54,2,85316185,347,0,0,0,0,0,0,0,0]
[{"$f":"ROW(Source!A185)","v":185},85316193,85316183,83777657,117,1,1,1,"2-100-05","","Рабочий 5 разряда",1369,null,1013,"чел.-ч","чел.-ч",1,null,null,null,null,null,null,0.45,0,0,0,932.95,0,1,1,"*(0,2+1)",0.54,2,85316186,348,0,0,0,0,0,0,0,0]
[{"$f":"ROW(Source!A185)","v":185},85316194,85316183,83777689,117,1,1,1,"4-100-00","","Затраты труда машинистов",1191,null,1013,"чел.-ч.","чел.-ч.",1,null,null,null,null,null,null,0.44,0,0,0,0,0,1,2,"*(0,2+1)",0.52800000000000002,2,85316187,349,0,0,0,0,0,0,0,0]
[{"$f":"ROW(Source!A185)","v":185},85316195,85316183,83784352,1,1,1,2,"91.06.06-011","ФСЭМ-2022, 91.06.06-011, приказ Минстроя России от 18.05.2022 г. № 378/пр","Автогидроподъемники, высота подъема 12 м",1368,null,1011,"маш.-ч","маш.-ч",1,null,null,null,null,null,null,0.44,0,346.73,811.79,0,0,1,0,"*(0,2+1)",0.52800000000000002,2,85316188,350,0,0,0,0,0,0,0,0]
[{"$f":"ROW(Source!A185)","v":185},85316196,85316183,83782364,117,1,1,3,"20.1.01.01","","Комплект линейной арматуры для крепления СИП-2 на опоре ВЛИ",1371,null,1013,"ШТ","ШТ",1,null,null,null,null,null,null,0,0,0,0,0,1,0,0,"",0,2,85316189,351,0,0,0,0,0,0,0,0]
[{"$f":"ROW(Source!A185)","v":185},85316197,85316183,83782372,117,1,1,3,"20.1.01.11","","Комплект линейной арматуры для устройства заземлений на опорах ВЛИ",1371,null,1013,"ШТ","ШТ",1,null,null,null,null,null,null,0,0,0,0,0,1,0,0,"",0,2,85316190,352,0,0,0,0,0,0,0,0]
[{"$f":"ROW(Source!A191)","v":191},85316211,85316201,83777519,117,1,1,1,"1-100-40","","Средний разряд работы 4,0",1191,null,1013,"чел.-ч.","чел.-ч.",1,null,null,null,null,null,null,41.2,0,0,0,811.79,0,1,1,"*(0,2+1)",49.440000000000005,2,85316202,353,0,0,0,0,0,0,0,0]
[{"$f":"ROW(Source!A191)","v":191},85316212,85316201,83777689,117,1,1,1,"4-100-00","","Затраты труда машинистов",1191,null,1013,"чел.-ч.","чел.-ч.",1,null,null,null,null,null,null,0.2,0,0,0,0,0,1,2,"*(0,2+1)",0.24,2,85316203,354,0,0,0,0,0,0,0,0]
[{"$f":"ROW(Source!A191)","v":191},85316213,85316201,83784178,1,1,1,2,"91.05.05-015","ФСЭМ-2022, 91.05.05-015, приказ Минстроя России от 18.05.2022 г. № 378/пр","Краны на автомобильном ходу, грузоподъемность 16 т",1368,null,1011,"маш.-ч","маш.-ч",1,null,null,null,null,null,null,0.1,0,1626.29,1090.46,0,0,1,0,"*(0,2+1)",0.12,2,85316204,355,0,0,0,0,0,0,0,0]
[{"$f":"ROW(Source!A191)","v":191},85316214,85316201,83785072,1,1,1,2,"91.14.02-001","ФСЭМ-2022 доп.7, 91.14.02-001, приказ Минстроя России от 02.08.2023 г. № 551/пр","Автомобили бортовые, грузоподъемность до 5 т",1368,null,1011,"маш.-ч","маш.-ч",1,null,null,null,null,null,null,0.1,0,641.70000000000005,811.79,0,0,1,0,"*(0,2+1)",0.12,2,85316205,356,0,0,0,0,0,0,0,0]
[{"$f":"ROW(Source!A191)","v":191},85316215,85316201,83785268,1,1,1,2,"91.17.04-233","ФСЭМ-2022, 91.17.04-233, приказ Минстроя России от 18.05.2022 г. № 378/пр","Аппараты сварочные для ручной дуговой сварки, сварочный ток до 350 А",1368,null,1011,"маш.-ч","маш.-ч",1,null,null,null,null,null,null,0.16,0,34.61,0,0,0,1,0,"*(0,2+1)",0.192,2,85316206,357,0,0,0,0,0,0,0,0]
[{"$f":"ROW(Source!A191)","v":191},85316216,85316201,83860728,1,1,1,3,"08.3.07.01-0052","ФСБЦ-2022 доп.4, 08.3.07.01-0052, приказ Минстроя России от 27.12.2022 г. № 1133/пр","Прокат стальной горячекатаный полосовой, марки стали Ст3сп, Ст3пс, размеры 50х5 мм",1348,null,1009,"т","т",1000,null,null,null,null,null,null,3.0000000000000001E-3,70310.45,0,0,0,0,1,0,"",3.0000000000000001E-3,2,85316207,358,0,0,0,0,0,0,0,0]
[{"$f":"ROW(Source!A191)","v":191},85316217,85316201,83870516,1,1,1,3,"14.4.02.04-0142","ФСБЦ-2022, 14.4.02.04-0142, приказ Минстроя России от 18.05.2022 г. № 378/пр","Краска масляная МА-0115, мумия, сурик железный",1346,null,1009,"кг","кг",1,null,null,null,null,null,null,0.8,79.88,0,0,0,0,1,0,"",0.8,2,85316208,359,0,0,0,0,0,0,0,0]
[{"$f":"ROW(Source!A191)","v":191},85316218,85316201,83881219,1,1,1,3,"20.5.04.03-0002","ФСБЦ-2022, 20.5.04.03-0002, приказ Минстроя России от 18.05.2022 г. № 378/пр","Зажимы наборные проходные ЗН24-4П25",1425,null,1013,"100 ШТ","100 ШТ",1,null,null,null,null,null,null,1.02,896.51,0,0,0,0,1,0,"",1.02,2,85316209,360,0,0,0,0,0,0,0,0]
[{"$f":"ROW(Source!A191)","v":191},85316219,85316201,83783523,117,1,1,3,"421/пр_2020_п.75_пп.а","","Сметная стоимость вспомогательных ненормируемых материальных ресурсов, не учтенная в сметной норме, 2%",3277935,null,1013,"%","%",1,null,null,null,null,null,null,2,0,0,0,0,0,0,0,"",2,2,85316210,361,0,0,0,0,0,0,0,0]
[{"$f":"ROW(Source!A192)","v":192},85316211,85316201,83777519,117,1,1,1,"1-100-40","","Средний разряд работы 4,0",1191,null,1013,"чел.-ч.","чел.-ч.",1,null,null,null,null,null,null,41.2,0,0,0,811.79,0,1,1,"*(0,2+1)",49.440000000000005,2,85316202,362,0,0,0,0,0,0,0,0]
[{"$f":"ROW(Source!A192)","v":192},85316212,85316201,83777689,117,1,1,1,"4-100-00","","Затраты труда машинистов",1191,null,1013,"чел.-ч.","чел.-ч.",1,null,null,null,null,null,null,0.2,0,0,0,0,0,1,2,"*(0,2+1)",0.24,2,85316203,363,0,0,0,0,0,0,0,0]
[{"$f":"ROW(Source!A192)","v":192},85316213,85316201,83784178,1,1,1,2,"91.05.05-015","ФСЭМ-2022, 91.05.05-015, приказ Минстроя России от 18.05.2022 г. № 378/пр","Краны на автомобильном ходу, грузоподъемность 16 т",1368,null,1011,"маш.-ч","маш.-ч",1,null,null,null,null,null,null,0.1,0,1626.29,1090.46,0,0,1,0,"*(0,2+1)",0.12,2,85316204,364,0,0,0,0,0,0,0,0]
[{"$f":"ROW(Source!A192)","v":192},85316214,85316201,83785072,1,1,1,2,"91.14.02-001","ФСЭМ-2022 доп.7, 91.14.02-001, приказ Минстроя России от 02.08.2023 г. № 551/пр","Автомобили бортовые, грузоподъемность до 5 т",1368,null,1011,"маш.-ч","маш.-ч",1,null,null,null,null,null,null,0.1,0,641.70000000000005,811.79,0,0,1,0,"*(0,2+1)",0.12,2,85316205,365,0,0,0,0,0,0,0,0]
[{"$f":"ROW(Source!A192)","v":192},85316215,85316201,83785268,1,1,1,2,"91.17.04-233","ФСЭМ-2022, 91.17.04-233, приказ Минстроя России от 18.05.2022 г. № 378/пр","Аппараты сварочные для ручной дуговой сварки, сварочный ток до 350 А",1368,null,1011,"маш.-ч","маш.-ч",1,null,null,null,null,null,null,0.16,0,34.61,0,0,0,1,0,"*(0,2+1)",0.192,2,85316206,366,0,0,0,0,0,0,0,0]
[{"$f":"ROW(Source!A192)","v":192},85316216,85316201,83860728,1,1,1,3,"08.3.07.01-0052","ФСБЦ-2022 доп.4, 08.3.07.01-0052, приказ Минстроя России от 27.12.2022 г. № 1133/пр","Прокат стальной горячекатаный полосовой, марки стали Ст3сп, Ст3пс, размеры 50х5 мм",1348,null,1009,"т","т",1000,null,null,null,null,null,null,3.0000000000000001E-3,70310.45,0,0,0,0,1,0,"",3.0000000000000001E-3,2,85316207,367,0,0,0,0,0,0,0,0]
[{"$f":"ROW(Source!A192)","v":192},85316217,85316201,83870516,1,1,1,3,"14.4.02.04-0142","ФСБЦ-2022, 14.4.02.04-0142, приказ Минстроя России от 18.05.2022 г. № 378/пр","Краска масляная МА-0115, мумия, сурик железный",1346,null,1009,"кг","кг",1,null,null,null,null,null,null,0.8,79.88,0,0,0,0,1,0,"",0.8,2,85316208,368,0,0,0,0,0,0,0,0]
[{"$f":"ROW(Source!A192)","v":192},85316218,85316201,83881219,1,1,1,3,"20.5.04.03-0002","ФСБЦ-2022, 20.5.04.03-0002, приказ Минстроя России от 18.05.2022 г. № 378/пр","Зажимы наборные проходные ЗН24-4П25",1425,null,1013,"100 ШТ","100 ШТ",1,null,null,null,null,null,null,1.02,896.51,0,0,0,0,1,0,"",1.02,2,85316209,369,0,0,0,0,0,0,0,0]
[{"$f":"ROW(Source!A192)","v":192},85316219,85316201,83783523,117,1,1,3,"421/пр_2020_п.75_пп.а","","Сметная стоимость вспомогательных ненормируемых материальных ресурсов, не учтенная в сметной норме, 2%",3277935,null,1013,"%","%",1,null,null,null,null,null,null,2,0,0,0,0,0,0,0,"",2,2,85316210,370,0,0,0,0,0,0,0,0]
[{"$f":"ROW(Source!A198)","v":198},85316238,85316223,77306356,114,1,1,1,"1-100-33","","Средний разряд работы 3,3",1191,null,1013,"чел.-ч.","чел.-ч.",1,null,null,null,null,null,null,3.76,0,0,0,0,0,1,1,"",3.76,2,85316224,371,0,0,0,0,0,0,0,0]
[{"$f":"ROW(Source!A198)","v":198},85316239,85316223,77306545,114,1,1,1,"4-100-00","","Затраты труда машинистов",1191,null,1013,"чел.-ч.","чел.-ч.",1,null,null,null,null,null,null,1.07,0,0,0,0,0,1,2,"",1.07,2,85316225,372,0,0,0,0,0,0,0,0]
[{"$f":"ROW(Source!A198)","v":198},85316240,85316223,77431161,1,1,1,2,"91.06.06-011","ФСЭМ-2022, 91.06.06-011, приказ Минстроя России от 18.05.2022 г. № 378/пр","Автогидроподъемники, высота подъема 12 м",1368,null,1011,"маш.-ч","маш.-ч",1,null,null,null,null,null,null,0.85,0,346.73,502.98,0,0,1,0,"",0.85,2,85316226,373,0,0,0,0,0,0,0,0]
[{"$f":"ROW(Source!A198)","v":198},85316241,85316223,77431879,1,1,1,2,"91.14.02-001","ФСЭМ-2022 доп.7, 91.14.02-001, приказ Минстроя России от 02.08.2023 г. № 551/пр","Автомобили бортовые, грузоподъемность до 5 т",1368,null,1011,"маш.-ч","маш.-ч",1,null,null,null,null,null,null,0.22,0,641.70000000000005,811.79,0,0,1,0,"",0.22,2,85316227,374,0,0,0,0,0,0,0,0]
[{"$f":"ROW(Source!A198)","v":198},85316242,85316223,77375900,1,1,1,3,"01.3.01.06-0038","ФСБЦ-2022, 01.3.01.06-0038, приказ Минстроя России от 18.05.2022 г. № 378/пр","Смазка защитная электросетевая",1346,null,1009,"кг","кг",1,null,null,null,null,null,null,0.1,238.29,0,0,0,0,1,0,"",0.1,2,85316228,375,0,0,0,0,0,0,0,0]
[{"$f":"ROW(Source!A198)","v":198},85316243,85316223,77375907,1,1,1,3,"01.3.01.06-0051","ФСБЦ-2022 доп.12, 01.3.01.06-0051, приказ Минстроя России от 07.11.2024 г. № 747/пр","Смазка солидол жировой Ж",1346,null,1009,"кг","кг",1,null,null,null,null,null,null,0.03,58.53,0,0,0,0,1,0,"",0.03,2,85316229,376,0,0,0,0,0,0,0,0]
[{"$f":"ROW(Source!A198)","v":198},85316244,85316223,77379558,1,1,1,3,"01.7.15.03-0042","ФСБЦ-2022, 01.7.15.03-0042, приказ Минстроя России от 18.05.2022 г. № 378/пр","Болты с гайками и шайбами строительные",1346,null,1009,"кг","кг",1,null,null,null,null,null,null,0,174.93,0,0,0,1,0,0,"",0,2,85316230,377,0,0,0,0,0,0,0,0]
[{"$f":"ROW(Source!A198)","v":198},85316245,85316223,77380691,1,1,1,3,"01.7.20.08-0051","ФСБЦ-2022 доп.8, 01.7.20.08-0051, приказ Минстроя России от 14.11.2023 г. № 817/пр","Ветошь хлопчатобумажная цветная",1346,null,1009,"кг","кг",1,null,null,null,null,null,null,0.02,56.11,0,0,0,0,1,0,"",0.02,2,85316231,378,0,0,0,0,0,0,0,0]
[{"$f":"ROW(Source!A198)","v":198},85316246,85316223,77308705,114,1,1,3,"07.2.07.13","","Хомуты стальные",1346,null,1009,"кг","кг",1,null,null,null,null,null,null,0,0,0,0,0,1,0,0,"",0,2,85316232,379,0,0,0,0,0,0,0,0]
[{"$f":"ROW(Source!A198)","v":198},85316247,85316223,77309038,114,1,1,3,"08.3.04.02","","Сталь стержневая диаметром до 10 мм",1348,null,1009,"т","т",1000,null,null,null,null,null,null,0,0,0,0,0,1,0,0,"",0,2,85316233,380,0,0,0,0,0,0,0,0]
[{"$f":"ROW(Source!A198)","v":198},85316248,85316223,77397258,1,1,1,3,"14.4.03.03-0102","ФСБЦ-2022 доп.4, 14.4.03.03-0102, приказ Минстроя России от 27.12.2022 г. № 1133/пр","Лак битумный БТ-577",1348,null,1009,"т","т",1000,null,null,null,null,null,null,1E-4,80020.98,0,0,0,0,1,0,"",1E-4,2,85316234,381,0,0,0,0,0,0,0,0]
[{"$f":"ROW(Source!A198)","v":198},85316249,85316223,77397652,1,1,1,3,"14.5.09.11-0102","ФСБЦ-2022, 14.5.09.11-0102, приказ Минстроя России от 18.05.2022 г. № 378/пр","Уайт-спирит",1346,null,1009,"кг","кг",1,null,null,null,null,null,null,0.03,60.6,0,0,0,0,1,0,"",0.03,2,85316235,382,0,0,0,0,0,0,0,0]
[{"$f":"ROW(Source!A198)","v":198},85316250,85316223,77311321,114,1,1,3,"22.2.01.04","","Изоляторы линейные штыревые фарфоровые",1371,null,1013,"ШТ","ШТ",1,null,null,null,null,null,null,0,0,0,0,0,1,0,0,"",0,2,85316236,383,0,0,0,0,0,0,0,0]
[{"$f":"ROW(Source!A198)","v":198},85316251,85316223,77311330,114,1,1,3,"22.2.02.03","","Детали крепления стальные",1346,null,1009,"кг","кг",1,null,null,null,null,null,null,0,0,0,0,0,1,0,0,"",0,2,85316237,384,0,0,0,0,0,0,0,0]
[{"$f":"ROW(Source!A199)","v":199},85316238,85316223,77306356,114,1,1,1,"1-100-33","","Средний разряд работы 3,3",1191,null,1013,"чел.-ч.","чел.-ч.",1,null,null,null,null,null,null,3.76,0,0,0,0,0,1,1,"",3.76,2,85316224,385,0,0,0,0,0,0,0,0]
[{"$f":"ROW(Source!A199)","v":199},85316239,85316223,77306545,114,1,1,1,"4-100-00","","Затраты труда машинистов",1191,null,1013,"чел.-ч.","чел.-ч.",1,null,null,null,null,null,null,1.07,0,0,0,0,0,1,2,"",1.07,2,85316225,386,0,0,0,0,0,0,0,0]
[{"$f":"ROW(Source!A199)","v":199},85316240,85316223,77431161,1,1,1,2,"91.06.06-011","ФСЭМ-2022, 91.06.06-011, приказ Минстроя России от 18.05.2022 г. № 378/пр","Автогидроподъемники, высота подъема 12 м",1368,null,1011,"маш.-ч","маш.-ч",1,null,null,null,null,null,null,0.85,0,346.73,502.98,0,0,1,0,"",0.85,2,85316226,387,0,0,0,0,0,0,0,0]
[{"$f":"ROW(Source!A199)","v":199},85316241,85316223,77431879,1,1,1,2,"91.14.02-001","ФСЭМ-2022 доп.7, 91.14.02-001, приказ Минстроя России от 02.08.2023 г. № 551/пр","Автомобили бортовые, грузоподъемность до 5 т",1368,null,1011,"маш.-ч","маш.-ч",1,null,null,null,null,null,null,0.22,0,641.70000000000005,811.79,0,0,1,0,"",0.22,2,85316227,388,0,0,0,0,0,0,0,0]
[{"$f":"ROW(Source!A199)","v":199},85316242,85316223,77375900,1,1,1,3,"01.3.01.06-0038","ФСБЦ-2022, 01.3.01.06-0038, приказ Минстроя России от 18.05.2022 г. № 378/пр","Смазка защитная электросетевая",1346,null,1009,"кг","кг",1,null,null,null,null,null,null,0.1,238.29,0,0,0,0,1,0,"",0.1,2,85316228,389,0,0,0,0,0,0,0,0]
[{"$f":"ROW(Source!A199)","v":199},85316243,85316223,77375907,1,1,1,3,"01.3.01.06-0051","ФСБЦ-2022 доп.12, 01.3.01.06-0051, приказ Минстроя России от 07.11.2024 г. № 747/пр","Смазка солидол жировой Ж",1346,null,1009,"кг","кг",1,null,null,null,null,null,null,0.03,58.53,0,0,0,0,1,0,"",0.03,2,85316229,390,0,0,0,0,0,0,0,0]
[{"$f":"ROW(Source!A199)","v":199},85316244,85316223,77379558,1,1,1,3,"01.7.15.03-0042","ФСБЦ-2022, 01.7.15.03-0042, приказ Минстроя России от 18.05.2022 г. № 378/пр","Болты с гайками и шайбами строительные",1346,null,1009,"кг","кг",1,null,null,null,null,null,null,0,174.93,0,0,0,1,0,0,"",0,2,85316230,391,0,0,0,0,0,0,0,0]
[{"$f":"ROW(Source!A199)","v":199},85316245,85316223,77380691,1,1,1,3,"01.7.20.08-0051","ФСБЦ-2022 доп.8, 01.7.20.08-0051, приказ Минстроя России от 14.11.2023 г. № 817/пр","Ветошь хлопчатобумажная цветная",1346,null,1009,"кг","кг",1,null,null,null,null,null,null,0.02,56.11,0,0,0,0,1,0,"",0.02,2,85316231,392,0,0,0,0,0,0,0,0]
[{"$f":"ROW(Source!A199)","v":199},85316246,85316223,77308705,114,1,1,3,"07.2.07.13","","Хомуты стальные",1346,null,1009,"кг","кг",1,null,null,null,null,null,null,0,0,0,0,0,1,0,0,"",0,2,85316232,393,0,0,0,0,0,0,0,0]
[{"$f":"ROW(Source!A199)","v":199},85316247,85316223,77309038,114,1,1,3,"08.3.04.02","","Сталь стержневая диаметром до 10 мм",1348,null,1009,"т","т",1000,null,null,null,null,null,null,0,0,0,0,0,1,0,0,"",0,2,85316233,394,0,0,0,0,0,0,0,0]
[{"$f":"ROW(Source!A199)","v":199},85316248,85316223,77397258,1,1,1,3,"14.4.03.03-0102","ФСБЦ-2022 доп.4, 14.4.03.03-0102, приказ Минстроя России от 27.12.2022 г. № 1133/пр","Лак битумный БТ-577",1348,null,1009,"т","т",1000,null,null,null,null,null,null,1E-4,80020.98,0,0,0,0,1,0,"",1E-4,2,85316234,395,0,0,0,0,0,0,0,0]
[{"$f":"ROW(Source!A199)","v":199},85316249,85316223,77397652,1,1,1,3,"14.5.09.11-0102","ФСБЦ-2022, 14.5.09.11-0102, приказ Минстроя России от 18.05.2022 г. № 378/пр","Уайт-спирит",1346,null,1009,"кг","кг",1,null,null,null,null,null,null,0.03,60.6,0,0,0,0,1,0,"",0.03,2,85316235,396,0,0,0,0,0,0,0,0]
[{"$f":"ROW(Source!A199)","v":199},85316250,85316223,77311321,114,1,1,3,"22.2.01.04","","Изоляторы линейные штыревые фарфоровые",1371,null,1013,"ШТ","ШТ",1,null,null,null,null,null,null,0,0,0,0,0,1,0,0,"",0,2,85316236,397,0,0,0,0,0,0,0,0]
[{"$f":"ROW(Source!A199)","v":199},85316251,85316223,77311330,114,1,1,3,"22.2.02.03","","Детали крепления стальные",1346,null,1009,"кг","кг",1,null,null,null,null,null,null,0,0,0,0,0,1,0,0,"",0,2,85316237,398,0,0,0,0,0,0,0,0]
[{"$f":"ROW(Source!A211)","v":211},85316273,85316258,83777525,117,1,1,1,"1-100-42","","Средний разряд работы 4,2",1191,null,1013,"чел.-ч.","чел.-ч.",1,null,null,null,null,null,null,52.53,0,0,0,836.02,0,1,1,"*(0,2+1)",63.036000000000001,2,85316259,399,0,0,0,0,0,0,0,0]
[{"$f":"ROW(Source!A211)","v":211},85316274,85316258,83777689,117,1,1,1,"4-100-00","","Затраты труда машинистов",1191,null,1013,"чел.-ч.","чел.-ч.",1,null,null,null,null,null,null,0.06,0,0,0,0,0,1,2,"*(0,2+1)",7.1999999999999995E-2,2,85316260,400,0,0,0,0,0,0,0,0]
[{"$f":"ROW(Source!A211)","v":211},85316275,85316258,83784178,1,1,1,2,"91.05.05-015","ФСЭМ-2022, 91.05.05-015, приказ Минстроя России от 18.05.2022 г. № 378/пр","Краны на автомобильном ходу, грузоподъемность 16 т",1368,null,1011,"маш.-ч","маш.-ч",1,null,null,null,null,null,null,0.03,0,1626.29,1090.46,0,0,1,0,"*(0,2+1)",3.5999999999999997E-2,2,85316261,401,0,0,0,0,0,0,0,0]
[{"$f":"ROW(Source!A211)","v":211},85316276,85316258,83785072,1,1,1,2,"91.14.02-001","ФСЭМ-2022 доп.7, 91.14.02-001, приказ Минстроя России от 02.08.2023 г. № 551/пр","Автомобили бортовые, грузоподъемность до 5 т",1368,null,1011,"маш.-ч","маш.-ч",1,null,null,null,null,null,null,0.03,0,641.70000000000005,811.79,0,0,1,0,"*(0,2+1)",3.5999999999999997E-2,2,85316262,402,0,0,0,0,0,0,0,0]
[{"$f":"ROW(Source!A211)","v":211},85316277,85316258,83785705,1,1,1,2,"91.21.16-012","ФСЭМ-2022, 91.21.16-012, приказ Минстроя России от 18.05.2022 г. № 378/пр","Прессы гидравлические с электроприводом",1368,null,1011,"маш.-ч","маш.-ч",1,null,null,null,null,null,null,17.5,0,15.84,0,0,0,1,0,"*(0,2+1)",21,2,85316263,403,0,0,0,0,0,0,0,0]
[{"$f":"ROW(Source!A211)","v":211},85316278,85316258,83849775,1,1,1,3,"01.3.01.02-0002","ФСБЦ-2022 доп.8, 01.3.01.02-0002, приказ Минстроя России от 14.11.2023 г. № 817/пр","Вазелин технический",1346,null,1009,"кг","кг",1,null,null,null,null,null,null,0.3,150.04,0,0,0,0,1,0,"",0.3,2,85316264,404,0,0,0,0,0,0,0,0]
[{"$f":"ROW(Source!A211)","v":211},85316279,85316258,83851817,1,1,1,3,"01.7.02.09-0002","ФСБЦ-2022, 01.7.02.09-0002, приказ Минстроя России от 18.05.2022 г. № 378/пр","Шпагат бумажный, диаметр 2,5 мм",1346,null,1009,"кг","кг",1,null,null,null,null,null,null,0.1,187.38,0,0,0,0,1,0,"",0.1,2,85316265,405,0,0,0,0,0,0,0,0]
[{"$f":"ROW(Source!A211)","v":211},85316280,85316258,83852000,1,1,1,3,"01.7.06.05-0041","ФСБЦ-2022, 01.7.06.05-0041, приказ Минстроя России от 18.05.2022 г. № 378/пр","Ленты изоляционные хлопчатобумажные прорезиненные для электромонтажных и ремонтных работ, цвет черный, ширина 20 мм, толщина 0,35 мм",1301,null,1003,"м","м",1,null,null,null,null,null,null,83.33,5.87,0,0,0,0,1,0,"",83.33,2,85316266,406,0,0,0,0,0,0,0,0]
[{"$f":"ROW(Source!A211)","v":211},85316281,85316258,83852014,1,1,1,3,"01.7.06.07-0002","ФСБЦ-2022, 01.7.06.07-0002, приказ Минстроя России от 18.05.2022 г. № 378/пр","Ленты монтажные из пластмассы для бандажирования проводов, скрепляются пластмассовыми кнопками, ширина 10 мм",1302,null,1003,"10 м","10 м",10,null,null,null,null,null,null,1.5,37.71,0,0,0,0,1,0,"",1.5,2,85316267,407,0,0,0,0,0,0,0,0]
[{"$f":"ROW(Source!A211)","v":211},85316282,85316258,83853338,1,1,1,3,"01.7.15.03-0042","ФСБЦ-2022, 01.7.15.03-0042, приказ Минстроя России от 18.05.2022 г. № 378/пр","Болты с гайками и шайбами строительные",1346,null,1009,"кг","кг",1,null,null,null,null,null,null,7.94,174.93,0,0,0,0,1,0,"",7.94,2,85316268,408,0,0,0,0,0,0,0,0]
[{"$f":"ROW(Source!A211)","v":211},85316283,85316258,83854460,1,1,1,3,"01.7.20.04-0005","ФСБЦ-2022, 01.7.20.04-0005, приказ Минстроя России от 18.05.2022 г. № 378/пр","Нитки швейные армированные",1346,null,1009,"кг","кг",1,null,null,null,null,null,null,0.06,395.65,0,0,0,0,1,0,"",0.06,2,85316269,409,0,0,0,0,0,0,0,0]
[{"$f":"ROW(Source!A211)","v":211},85316284,85316258,83870611,1,1,1,3,"14.4.03.17-0101","ФСБЦ-2022, 14.4.03.17-0101, приказ Минстроя России от 18.05.2022 г. № 378/пр","Лак КФ-965",1348,null,1009,"т","т",1000,null,null,null,null,null,null,4.0000000000000002E-4,308849.7,0,0,0,0,1,0,"",4.0000000000000002E-4,2,85316270,410,0,0,0,0,0,0,0,0]
[{"$f":"ROW(Source!A211)","v":211},85316285,85316258,83896008,1,1,1,3,"25.2.01.01-0001","ФСБЦ-2022, 25.2.01.01-0001, приказ Минстроя России от 18.05.2022 г. № 378/пр","Бирки-оконцеватели маркировочные А671",1425,null,1013,"100 ШТ","100 ШТ",1,null,null,null,null,null,null,1.02,655.9,0,0,0,0,1,0,"",1.02,2,85316271,411,0,0,0,0,0,0,0,0]
[{"$f":"ROW(Source!A211)","v":211},85316286,85316258,83783523,117,1,1,3,"421/пр_2020_п.75_пп.а","","Сметная стоимость вспомогательных ненормируемых материальных ресурсов, не учтенная в сметной норме, 2%",3277935,null,1013,"%","%",1,null,null,null,null,null,null,2,0,0,0,0,0,0,0,"",2,2,85316272,412,0,0,0,0,0,0,0,0]
[{"$f":"ROW(Source!A212)","v":212},85316273,85316258,83777525,117,1,1,1,"1-100-42","","Средний разряд работы 4,2",1191,null,1013,"чел.-ч.","чел.-ч.",1,null,null,null,null,null,null,52.53,0,0,0,836.02,0,1,1,"*(0,2+1)",63.036000000000001,2,85316259,413,0,0,0,0,0,0,0,0]
[{"$f":"ROW(Source!A212)","v":212},85316274,85316258,83777689,117,1,1,1,"4-100-00","","Затраты труда машинистов",1191,null,1013,"чел.-ч.","чел.-ч.",1,null,null,null,null,null,null,0.06,0,0,0,0,0,1,2,"*(0,2+1)",7.1999999999999995E-2,2,85316260,414,0,0,0,0,0,0,0,0]
[{"$f":"ROW(Source!A212)","v":212},85316275,85316258,83784178,1,1,1,2,"91.05.05-015","ФСЭМ-2022, 91.05.05-015, приказ Минстроя России от 18.05.2022 г. № 378/пр","Краны на автомобильном ходу, грузоподъемность 16 т",1368,null,1011,"маш.-ч","маш.-ч",1,null,null,null,null,null,null,0.03,0,1626.29,1090.46,0,0,1,0,"*(0,2+1)",3.5999999999999997E-2,2,85316261,415,0,0,0,0,0,0,0,0]
[{"$f":"ROW(Source!A212)","v":212},85316276,85316258,83785072,1,1,1,2,"91.14.02-001","ФСЭМ-2022 доп.7, 91.14.02-001, приказ Минстроя России от 02.08.2023 г. № 551/пр","Автомобили бортовые, грузоподъемность до 5 т",1368,null,1011,"маш.-ч","маш.-ч",1,null,null,null,null,null,null,0.03,0,641.70000000000005,811.79,0,0,1,0,"*(0,2+1)",3.5999999999999997E-2,2,85316262,416,0,0,0,0,0,0,0,0]
[{"$f":"ROW(Source!A212)","v":212},85316277,85316258,83785705,1,1,1,2,"91.21.16-012","ФСЭМ-2022, 91.21.16-012, приказ Минстроя России от 18.05.2022 г. № 378/пр","Прессы гидравлические с электроприводом",1368,null,1011,"маш.-ч","маш.-ч",1,null,null,null,null,null,null,17.5,0,15.84,0,0,0,1,0,"*(0,2+1)",21,2,85316263,417,0,0,0,0,0,0,0,0]
[{"$f":"ROW(Source!A212)","v":212},85316278,85316258,83849775,1,1,1,3,"01.3.01.02-0002","ФСБЦ-2022 доп.8, 01.3.01.02-0002, приказ Минстроя России от 14.11.2023 г. № 817/пр","Вазелин технический",1346,null,1009,"кг","кг",1,null,null,null,null,null,null,0.3,150.04,0,0,0,0,1,0,"",0.3,2,85316264,418,0,0,0,0,0,0,0,0]
[{"$f":"ROW(Source!A212)","v":212},85316279,85316258,83851817,1,1,1,3,"01.7.02.09-0002","ФСБЦ-2022, 01.7.02.09-0002, приказ Минстроя России от 18.05.2022 г. № 378/пр","Шпагат бумажный, диаметр 2,5 мм",1346,null,1009,"кг","кг",1,null,null,null,null,null,null,0.1,187.38,0,0,0,0,1,0,"",0.1,2,85316265,419,0,0,0,0,0,0,0,0]
[{"$f":"ROW(Source!A212)","v":212},85316280,85316258,83852000,1,1,1,3,"01.7.06.05-0041","ФСБЦ-2022, 01.7.06.05-0041, приказ Минстроя России от 18.05.2022 г. № 378/пр","Ленты изоляционные хлопчатобумажные прорезиненные для электромонтажных и ремонтных работ, цвет черный, ширина 20 мм, толщина 0,35 мм",1301,null,1003,"м","м",1,null,null,null,null,null,null,83.33,5.87,0,0,0,0,1,0,"",83.33,2,85316266,420,0,0,0,0,0,0,0,0]
[{"$f":"ROW(Source!A212)","v":212},85316281,85316258,83852014,1,1,1,3,"01.7.06.07-0002","ФСБЦ-2022, 01.7.06.07-0002, приказ Минстроя России от 18.05.2022 г. № 378/пр","Ленты монтажные из пластмассы для бандажирования проводов, скрепляются пластмассовыми кнопками, ширина 10 мм",1302,null,1003,"10 м","10 м",10,null,null,null,null,null,null,1.5,37.71,0,0,0,0,1,0,"",1.5,2,85316267,421,0,0,0,0,0,0,0,0]
[{"$f":"ROW(Source!A212)","v":212},85316282,85316258,83853338,1,1,1,3,"01.7.15.03-0042","ФСБЦ-2022, 01.7.15.03-0042, приказ Минстроя России от 18.05.2022 г. № 378/пр","Болты с гайками и шайбами строительные",1346,null,1009,"кг","кг",1,null,null,null,null,null,null,7.94,174.93,0,0,0,0,1,0,"",7.94,2,85316268,422,0,0,0,0,0,0,0,0]
[{"$f":"ROW(Source!A212)","v":212},85316283,85316258,83854460,1,1,1,3,"01.7.20.04-0005","ФСБЦ-2022, 01.7.20.04-0005, приказ Минстроя России от 18.05.2022 г. № 378/пр","Нитки швейные армированные",1346,null,1009,"кг","кг",1,null,null,null,null,null,null,0.06,395.65,0,0,0,0,1,0,"",0.06,2,85316269,423,0,0,0,0,0,0,0,0]
[{"$f":"ROW(Source!A212)","v":212},85316284,85316258,83870611,1,1,1,3,"14.4.03.17-0101","ФСБЦ-2022, 14.4.03.17-0101, приказ Минстроя России от 18.05.2022 г. № 378/пр","Лак КФ-965",1348,null,1009,"т","т",1000,null,null,null,null,null,null,4.0000000000000002E-4,308849.7,0,0,0,0,1,0,"",4.0000000000000002E-4,2,85316270,424,0,0,0,0,0,0,0,0]
[{"$f":"ROW(Source!A212)","v":212},85316285,85316258,83896008,1,1,1,3,"25.2.01.01-0001","ФСБЦ-2022, 25.2.01.01-0001, приказ Минстроя России от 18.05.2022 г. № 378/пр","Бирки-оконцеватели маркировочные А671",1425,null,1013,"100 ШТ","100 ШТ",1,null,null,null,null,null,null,1.02,655.9,0,0,0,0,1,0,"",1.02,2,85316271,425,0,0,0,0,0,0,0,0]
[{"$f":"ROW(Source!A212)","v":212},85316286,85316258,83783523,117,1,1,3,"421/пр_2020_п.75_пп.а","","Сметная стоимость вспомогательных ненормируемых материальных ресурсов, не учтенная в сметной норме, 2%",3277935,null,1013,"%","%",1,null,null,null,null,null,null,2,0,0,0,0,0,0,0,"",2,2,85316272,426,0,0,0,0,0,0,0,0]
[{"$f":"ROW(Source!A216)","v":216},85316309,85316289,77306386,114,1,1,1,"1-100-45","","Средний разряд работы 4,5",1191,null,1013,"чел.-ч.","чел.-ч.",1,null,null,null,null,null,null,2.38,0,0,0,0,0,1,1,"",2.38,2,85316290,427,0,0,0,0,0,0,0,0]
[{"$f":"ROW(Source!A216)","v":216},85316310,85316289,77306545,114,1,1,1,"4-100-00","","Затраты труда машинистов",1191,null,1013,"чел.-ч.","чел.-ч.",1,null,null,null,null,null,null,0.02,0,0,0,0,0,1,2,"",0.02,2,85316291,428,0,0,0,0,0,0,0,0]
[{"$f":"ROW(Source!A216)","v":216},85316311,85316289,77430988,1,1,1,2,"91.05.05-015","ФСЭМ-2022, 91.05.05-015, приказ Минстроя России от 18.05.2022 г. № 378/пр","Краны на автомобильном ходу, грузоподъемность 16 т",1368,null,1011,"маш.-ч","маш.-ч",1,null,null,null,null,null,null,0.01,0,1626.29,1090.46,0,0,1,0,"",0.01,2,85316292,429,0,0,0,0,0,0,0,0]
[{"$f":"ROW(Source!A216)","v":216},85316312,85316289,77431879,1,1,1,2,"91.14.02-001","ФСЭМ-2022 доп.7, 91.14.02-001, приказ Минстроя России от 02.08.2023 г. № 551/пр","Автомобили бортовые, грузоподъемность до 5 т",1368,null,1011,"маш.-ч","маш.-ч",1,null,null,null,null,null,null,0.01,0,641.70000000000005,811.79,0,0,1,0,"",0.01,2,85316293,430,0,0,0,0,0,0,0,0]
[{"$f":"ROW(Source!A216)","v":216},85316313,85316289,77432074,1,1,1,2,"91.17.04-233","ФСЭМ-2022, 91.17.04-233, приказ Минстроя России от 18.05.2022 г. № 378/пр","Аппараты сварочные для ручной дуговой сварки, сварочный ток до 350 А",1368,null,1011,"маш.-ч","маш.-ч",1,null,null,null,null,null,null,0.108,0,34.61,0,0,0,1,0,"",0.108,2,85316294,431,0,0,0,0,0,0,0,0]
[{"$f":"ROW(Source!A216)","v":216},85316314,85316289,77432509,1,1,1,2,"91.21.16-012","ФСЭМ-2022, 91.21.16-012, приказ Минстроя России от 18.05.2022 г. № 378/пр","Прессы гидравлические с электроприводом",1368,null,1011,"маш.-ч","маш.-ч",1,null,null,null,null,null,null,0.19800000000000001,0,15.84,0,0,0,1,0,"",0.19800000000000001,2,85316295,432,0,0,0,0,0,0,0,0]
[{"$f":"ROW(Source!A216)","v":216},85316315,85316289,77375881,1,1,1,3,"01.3.01.02-0002","ФСБЦ-2022 доп.8, 01.3.01.02-0002, приказ Минстроя России от 14.11.2023 г. № 817/пр","Вазелин технический",1346,null,1009,"кг","кг",1,null,null,null,null,null,null,8.9999999999999993E-3,150.04,0,0,0,0,1,0,"",8.9999999999999993E-3,2,85316296,433,0,0,0,0,0,0,0,0]
[{"$f":"ROW(Source!A216)","v":216},85316316,85316289,77378054,1,1,1,3,"01.7.02.09-0002","ФСБЦ-2022, 01.7.02.09-0002, приказ Минстроя России от 18.05.2022 г. № 378/пр","Шпагат бумажный, диаметр 2,5 мм",1346,null,1009,"кг","кг",1,null,null,null,null,null,null,4.0000000000000001E-3,187.38,0,0,0,0,1,0,"",4.0000000000000001E-3,2,85316297,434,0,0,0,0,0,0,0,0]
[{"$f":"ROW(Source!A216)","v":216},85316317,85316289,77378078,1,1,1,3,"01.7.03.04-0001","ФСБЦ-2022, 01.7.03.04-0001, приказ Минстроя России от 18.05.2022 г. № 378/пр","Электроэнергия",1383,null,1013,"КВТ-Ч","КВТ-Ч",1,null,null,null,null,null,null,2.0799999999999999E-2,7.32,0,0,0,0,1,0,"",2.0799999999999999E-2,2,85316298,435,0,0,0,0,0,0,0,0]
[{"$f":"ROW(Source!A216)","v":216},85316318,85316289,77378231,1,1,1,3,"01.7.06.05-0041","ФСБЦ-2022, 01.7.06.05-0041, приказ Минстроя России от 18.05.2022 г. № 378/пр","Ленты изоляционные хлопчатобумажные прорезиненные для электромонтажных и ремонтных работ, цвет черный, ширина 20 мм, толщина 0,35 мм",1301,null,1003,"м","м",1,null,null,null,null,null,null,3.5,5.87,0,0,0,0,1,0,"",3.5,2,85316299,436,0,0,0,0,0,0,0,0]
[{"$f":"ROW(Source!A216)","v":216},85316319,85316289,77378830,1,1,1,3,"01.7.11.07-0227","ФСБЦ-2022, 01.7.11.07-0227, приказ Минстроя России от 18.05.2022 г. № 378/пр","Электроды сварочные для сварки низколегированных и углеродистых сталей УОНИ 13/45, Э42А, диаметр 4-5 мм",1346,null,1009,"кг","кг",1,null,null,null,null,null,null,7.0000000000000007E-2,155.63,0,0,0,0,1,0,"",7.0000000000000007E-2,2,85316300,437,0,0,0,0,0,0,0,0]
[{"$f":"ROW(Source!A216)","v":216},85316320,85316289,77379558,1,1,1,3,"01.7.15.03-0042","ФСБЦ-2022, 01.7.15.03-0042, приказ Минстроя России от 18.05.2022 г. № 378/пр","Болты с гайками и шайбами строительные",1346,null,1009,"кг","кг",1,null,null,null,null,null,null,0.43099999999999999,174.93,0,0,0,0,1,0,"",0.43099999999999999,2,85316301,438,0,0,0,0,0,0,0,0]
[{"$f":"ROW(Source!A216)","v":216},85316321,85316289,77379624,1,1,1,3,"01.7.15.07-0014","ФСБЦ-2022, 01.7.15.07-0014, приказ Минстроя России от 18.05.2022 г. № 378/пр","Дюбели распорные полипропиленовые",1425,null,1013,"100 ШТ","100 ШТ",1,null,null,null,null,null,null,1.4E-2,41.71,0,0,0,0,1,0,"",1.4E-2,2,85316302,439,0,0,0,0,0,0,0,0]
[{"$f":"ROW(Source!A216)","v":216},85316322,85316289,77380667,1,1,1,3,"01.7.20.04-0005","ФСБЦ-2022, 01.7.20.04-0005, приказ Минстроя России от 18.05.2022 г. № 378/пр","Нитки швейные армированные",1346,null,1009,"кг","кг",1,null,null,null,null,null,null,2E-3,395.65,0,0,0,0,1,0,"",2E-3,2,85316303,440,0,0,0,0,0,0,0,0]
[{"$f":"ROW(Source!A216)","v":216},85316323,85316289,77385128,1,1,1,3,"07.2.07.04-0007","ФСБЦ-2022, 07.2.07.04-0007, приказ Минстроя России от 18.05.2022 г. № 378/пр","Конструкции стальные индивидуального изготовления из сортового проката",1348,null,1009,"т","т",1000,null,null,null,null,null,null,3.0000000000000001E-3,105278.81,0,0,0,0,1,0,"",3.0000000000000001E-3,2,85316304,441,0,0,0,0,0,0,0,0]
[{"$f":"ROW(Source!A216)","v":216},85316324,85316289,77397226,1,1,1,3,"14.4.02.04-0142","ФСБЦ-2022, 14.4.02.04-0142, приказ Минстроя России от 18.05.2022 г. № 378/пр","Краска масляная МА-0115, мумия, сурик железный",1346,null,1009,"кг","кг",1,null,null,null,null,null,null,4.7E-2,79.88,0,0,0,0,1,0,"",4.7E-2,2,85316305,442,0,0,0,0,0,0,0,0]
[{"$f":"ROW(Source!A216)","v":216},85316325,85316289,77397272,1,1,1,3,"14.4.03.06-0001","ФСБЦ-2022 доп.9, 14.4.03.06-0001, приказ Минстроя России от 16.02.2024 г. № 102/пр","Лак электроизоляционный МЛ-92",1346,null,1009,"кг","кг",1,null,null,null,null,null,null,1.6E-2,157.44,0,0,0,0,1,0,"",1.6E-2,2,85316306,443,0,0,0,0,0,0,0,0]
[{"$f":"ROW(Source!A216)","v":216},85316326,85316289,77404544,1,1,1,3,"20.1.02.23-0082","ФСБЦ-2022, 20.1.02.23-0082, приказ Минстроя России от 18.05.2022 г. № 378/пр","Перемычки гибкие, тип ПГС-50",1455,null,1013,"10 ШТ","10 ШТ",1,null,null,null,null,null,null,0.1,944.69,0,0,0,0,1,0,"",0.1,2,85316307,444,0,0,0,0,0,0,0,0]
[{"$f":"ROW(Source!A216)","v":216},85316327,85316289,77312233,114,1,1,3,"421/пр_2020_п.75_пп.а","","Сметная стоимость вспомогательных ненормируемых материальных ресурсов, не учтенная в сметной норме, 2%",3277935,null,1013,"%","%",1,null,null,null,null,null,null,2,0,0,0,0,0,0,0,"",2,2,85316308,445,0,0,0,0,0,0,0,0]
[{"$f":"ROW(Source!A217)","v":217},85316309,85316289,77306386,114,1,1,1,"1-100-45","","Средний разряд работы 4,5",1191,null,1013,"чел.-ч.","чел.-ч.",1,null,null,null,null,null,null,2.38,0,0,0,0,0,1,1,"",2.38,2,85316290,446,0,0,0,0,0,0,0,0]
[{"$f":"ROW(Source!A217)","v":217},85316310,85316289,77306545,114,1,1,1,"4-100-00","","Затраты труда машинистов",1191,null,1013,"чел.-ч.","чел.-ч.",1,null,null,null,null,null,null,0.02,0,0,0,0,0,1,2,"",0.02,2,85316291,447,0,0,0,0,0,0,0,0]
[{"$f":"ROW(Source!A217)","v":217},85316311,85316289,77430988,1,1,1,2,"91.05.05-015","ФСЭМ-2022, 91.05.05-015, приказ Минстроя России от 18.05.2022 г. № 378/пр","Краны на автомобильном ходу, грузоподъемность 16 т",1368,null,1011,"маш.-ч","маш.-ч",1,null,null,null,null,null,null,0.01,0,1626.29,1090.46,0,0,1,0,"",0.01,2,85316292,448,0,0,0,0,0,0,0,0]
[{"$f":"ROW(Source!A217)","v":217},85316312,85316289,77431879,1,1,1,2,"91.14.02-001","ФСЭМ-2022 доп.7, 91.14.02-001, приказ Минстроя России от 02.08.2023 г. № 551/пр","Автомобили бортовые, грузоподъемность до 5 т",1368,null,1011,"маш.-ч","маш.-ч",1,null,null,null,null,null,null,0.01,0,641.70000000000005,811.79,0,0,1,0,"",0.01,2,85316293,449,0,0,0,0,0,0,0,0]
[{"$f":"ROW(Source!A217)","v":217},85316313,85316289,77432074,1,1,1,2,"91.17.04-233","ФСЭМ-2022, 91.17.04-233, приказ Минстроя России от 18.05.2022 г. № 378/пр","Аппараты сварочные для ручной дуговой сварки, сварочный ток до 350 А",1368,null,1011,"маш.-ч","маш.-ч",1,null,null,null,null,null,null,0.108,0,34.61,0,0,0,1,0,"",0.108,2,85316294,450,0,0,0,0,0,0,0,0]
[{"$f":"ROW(Source!A217)","v":217},85316314,85316289,77432509,1,1,1,2,"91.21.16-012","ФСЭМ-2022, 91.21.16-012, приказ Минстроя России от 18.05.2022 г. № 378/пр","Прессы гидравлические с электроприводом",1368,null,1011,"маш.-ч","маш.-ч",1,null,null,null,null,null,null,0.19800000000000001,0,15.84,0,0,0,1,0,"",0.19800000000000001,2,85316295,451,0,0,0,0,0,0,0,0]
[{"$f":"ROW(Source!A217)","v":217},85316315,85316289,77375881,1,1,1,3,"01.3.01.02-0002","ФСБЦ-2022 доп.8, 01.3.01.02-0002, приказ Минстроя России от 14.11.2023 г. № 817/пр","Вазелин технический",1346,null,1009,"кг","кг",1,null,null,null,null,null,null,8.9999999999999993E-3,150.04,0,0,0,0,1,0,"",8.9999999999999993E-3,2,85316296,452,0,0,0,0,0,0,0,0]
[{"$f":"ROW(Source!A217)","v":217},85316316,85316289,77378054,1,1,1,3,"01.7.02.09-0002","ФСБЦ-2022, 01.7.02.09-0002, приказ Минстроя России от 18.05.2022 г. № 378/пр","Шпагат бумажный, диаметр 2,5 мм",1346,null,1009,"кг","кг",1,null,null,null,null,null,null,4.0000000000000001E-3,187.38,0,0,0,0,1,0,"",4.0000000000000001E-3,2,85316297,453,0,0,0,0,0,0,0,0]
[{"$f":"ROW(Source!A217)","v":217},85316317,85316289,77378078,1,1,1,3,"01.7.03.04-0001","ФСБЦ-2022, 01.7.03.04-0001, приказ Минстроя России от 18.05.2022 г. № 378/пр","Электроэнергия",1383,null,1013,"КВТ-Ч","КВТ-Ч",1,null,null,null,null,null,null,2.0799999999999999E-2,7.32,0,0,0,0,1,0,"",2.0799999999999999E-2,2,85316298,454,0,0,0,0,0,0,0,0]
[{"$f":"ROW(Source!A217)","v":217},85316318,85316289,77378231,1,1,1,3,"01.7.06.05-0041","ФСБЦ-2022, 01.7.06.05-0041, приказ Минстроя России от 18.05.2022 г. № 378/пр","Ленты изоляционные хлопчатобумажные прорезиненные для электромонтажных и ремонтных работ, цвет черный, ширина 20 мм, толщина 0,35 мм",1301,null,1003,"м","м",1,null,null,null,null,null,null,3.5,5.87,0,0,0,0,1,0,"",3.5,2,85316299,455,0,0,0,0,0,0,0,0]
[{"$f":"ROW(Source!A217)","v":217},85316319,85316289,77378830,1,1,1,3,"01.7.11.07-0227","ФСБЦ-2022, 01.7.11.07-0227, приказ Минстроя России от 18.05.2022 г. № 378/пр","Электроды сварочные для сварки низколегированных и углеродистых сталей УОНИ 13/45, Э42А, диаметр 4-5 мм",1346,null,1009,"кг","кг",1,null,null,null,null,null,null,7.0000000000000007E-2,155.63,0,0,0,0,1,0,"",7.0000000000000007E-2,2,85316300,456,0,0,0,0,0,0,0,0]
[{"$f":"ROW(Source!A217)","v":217},85316320,85316289,77379558,1,1,1,3,"01.7.15.03-0042","ФСБЦ-2022, 01.7.15.03-0042, приказ Минстроя России от 18.05.2022 г. № 378/пр","Болты с гайками и шайбами строительные",1346,null,1009,"кг","кг",1,null,null,null,null,null,null,0.43099999999999999,174.93,0,0,0,0,1,0,"",0.43099999999999999,2,85316301,457,0,0,0,0,0,0,0,0]
[{"$f":"ROW(Source!A217)","v":217},85316321,85316289,77379624,1,1,1,3,"01.7.15.07-0014","ФСБЦ-2022, 01.7.15.07-0014, приказ Минстроя России от 18.05.2022 г. № 378/пр","Дюбели распорные полипропиленовые",1425,null,1013,"100 ШТ","100 ШТ",1,null,null,null,null,null,null,1.4E-2,41.71,0,0,0,0,1,0,"",1.4E-2,2,85316302,458,0,0,0,0,0,0,0,0]
[{"$f":"ROW(Source!A217)","v":217},85316322,85316289,77380667,1,1,1,3,"01.7.20.04-0005","ФСБЦ-2022, 01.7.20.04-0005, приказ Минстроя России от 18.05.2022 г. № 378/пр","Нитки швейные армированные",1346,null,1009,"кг","кг",1,null,null,null,null,null,null,2E-3,395.65,0,0,0,0,1,0,"",2E-3,2,85316303,459,0,0,0,0,0,0,0,0]
[{"$f":"ROW(Source!A217)","v":217},85316323,85316289,77385128,1,1,1,3,"07.2.07.04-0007","ФСБЦ-2022, 07.2.07.04-0007, приказ Минстроя России от 18.05.2022 г. № 378/пр","Конструкции стальные индивидуального изготовления из сортового проката",1348,null,1009,"т","т",1000,null,null,null,null,null,null,3.0000000000000001E-3,105278.81,0,0,0,0,1,0,"",3.0000000000000001E-3,2,85316304,460,0,0,0,0,0,0,0,0]
[{"$f":"ROW(Source!A217)","v":217},85316324,85316289,77397226,1,1,1,3,"14.4.02.04-0142","ФСБЦ-2022, 14.4.02.04-0142, приказ Минстроя России от 18.05.2022 г. № 378/пр","Краска масляная МА-0115, мумия, сурик железный",1346,null,1009,"кг","кг",1,null,null,null,null,null,null,4.7E-2,79.88,0,0,0,0,1,0,"",4.7E-2,2,85316305,461,0,0,0,0,0,0,0,0]
[{"$f":"ROW(Source!A217)","v":217},85316325,85316289,77397272,1,1,1,3,"14.4.03.06-0001","ФСБЦ-2022 доп.9, 14.4.03.06-0001, приказ Минстроя России от 16.02.2024 г. № 102/пр","Лак электроизоляционный МЛ-92",1346,null,1009,"кг","кг",1,null,null,null,null,null,null,1.6E-2,157.44,0,0,0,0,1,0,"",1.6E-2,2,85316306,462,0,0,0,0,0,0,0,0]
[{"$f":"ROW(Source!A217)","v":217},85316326,85316289,77404544,1,1,1,3,"20.1.02.23-0082","ФСБЦ-2022, 20.1.02.23-0082, приказ Минстроя России от 18.05.2022 г. № 378/пр","Перемычки гибкие, тип ПГС-50",1455,null,1013,"10 ШТ","10 ШТ",1,null,null,null,null,null,null,0.1,944.69,0,0,0,0,1,0,"",0.1,2,85316307,463,0,0,0,0,0,0,0,0]
[{"$f":"ROW(Source!A217)","v":217},85316327,85316289,77312233,114,1,1,3,"421/пр_2020_п.75_пп.а","","Сметная стоимость вспомогательных ненормируемых материальных ресурсов, не учтенная в сметной норме, 2%",3277935,null,1013,"%","%",1,null,null,null,null,null,null,2,0,0,0,0,0,0,0,"",2,2,85316308,464,0,0,0,0,0,0,0,0]
[{"$f":"ROW(Source!A221)","v":221},85316345,85316330,77306374,114,1,1,1,"1-100-40","","Средний разряд работы 4,0",1191,null,1013,"чел.-ч.","чел.-ч.",1,null,null,null,null,null,null,45.3,0,0,0,0,0,1,1,"",45.3,2,85316331,465,0,0,0,0,0,0,0,0]
[{"$f":"ROW(Source!A221)","v":221},85316346,85316330,77306545,114,1,1,1,"4-100-00","","Затраты труда машинистов",1191,null,1013,"чел.-ч.","чел.-ч.",1,null,null,null,null,null,null,5.3,0,0,0,0,0,1,2,"",5.3,2,85316332,466,0,0,0,0,0,0,0,0]
[{"$f":"ROW(Source!A221)","v":221},85316347,85316330,77430988,1,1,1,2,"91.05.05-015","ФСЭМ-2022, 91.05.05-015, приказ Минстроя России от 18.05.2022 г. № 378/пр","Краны на автомобильном ходу, грузоподъемность 16 т",1368,null,1011,"маш.-ч","маш.-ч",1,null,null,null,null,null,null,0.2,0,1626.29,1090.46,0,0,1,0,"",0.2,2,85316333,467,0,0,0,0,0,0,0,0]
[{"$f":"ROW(Source!A221)","v":221},85316348,85316330,77431879,1,1,1,2,"91.14.02-001","ФСЭМ-2022 доп.7, 91.14.02-001, приказ Минстроя России от 02.08.2023 г. № 551/пр","Автомобили бортовые, грузоподъемность до 5 т",1368,null,1011,"маш.-ч","маш.-ч",1,null,null,null,null,null,null,0.2,0,641.70000000000005,811.79,0,0,1,0,"",0.2,2,85316334,468,0,0,0,0,0,0,0,0]
[{"$f":"ROW(Source!A221)","v":221},85316349,85316330,77432074,1,1,1,2,"91.17.04-233","ФСЭМ-2022, 91.17.04-233, приказ Минстроя России от 18.05.2022 г. № 378/пр","Аппараты сварочные для ручной дуговой сварки, сварочный ток до 350 А",1368,null,1011,"маш.-ч","маш.-ч",1,null,null,null,null,null,null,1.69,0,34.61,0,0,0,1,0,"",1.69,2,85316335,469,0,0,0,0,0,0,0,0]
[{"$f":"ROW(Source!A221)","v":221},85316350,85316330,77432548,1,1,1,2,"91.21.19-031","ФСЭМ-2022, 91.21.19-031, приказ Минстроя России от 18.05.2022 г. № 378/пр","Станки сверлильные",1368,null,1011,"маш.-ч","маш.-ч",1,null,null,null,null,null,null,0.86,0,23.89,0,0,0,1,0,"",0.86,2,85316336,470,0,0,0,0,0,0,0,0]
[{"$f":"ROW(Source!A221)","v":221},85316351,85316330,77432634,1,1,1,2,"91.21.22-491","ФСЭМ-2022, 91.21.22-491, приказ Минстроя России от 18.05.2022 г. № 378/пр","Шиногибы гидравлические универсальные",1368,null,1011,"маш.-ч","маш.-ч",1,null,null,null,null,null,null,4.9000000000000004,0,26.76,502.98,0,0,1,0,"",4.9000000000000004,2,85316337,471,0,0,0,0,0,0,0,0]
[{"$f":"ROW(Source!A221)","v":221},85316352,85316330,77375932,1,1,1,3,"01.3.02.02-0001","ФСБЦ-2022 доп.3, 01.3.02.02-0001, приказ Минстроя России от 26.10.2022 г. № 905/пр","Аргон газообразный, сорт I",1339,null,1007,"м3","м3",1,null,null,null,null,null,null,0.31,253.96,0,0,0,0,1,0,"",0.31,2,85316338,472,0,0,0,0,0,0,0,0]
[{"$f":"ROW(Source!A221)","v":221},85316353,85316330,77379558,1,1,1,3,"01.7.15.03-0042","ФСБЦ-2022, 01.7.15.03-0042, приказ Минстроя России от 18.05.2022 г. № 378/пр","Болты с гайками и шайбами строительные",1346,null,1009,"кг","кг",1,null,null,null,null,null,null,2.88,174.93,0,0,0,0,1,0,"",2.88,2,85316339,473,0,0,0,0,0,0,0,0]
[{"$f":"ROW(Source!A221)","v":221},85316354,85316330,77379734,1,1,1,3,"01.7.15.11-0061","ФСБЦ-2022, 01.7.15.11-0061, приказ Минстроя России от 18.05.2022 г. № 378/пр","Шайбы стальные оцинкованные пружинные (гровер), диаметр отверстия М3",1348,null,1009,"т","т",1000,null,null,null,null,null,null,1.2E-4,195421.95,0,0,0,0,1,0,"",1.2E-4,2,85316340,474,0,0,0,0,0,0,0,0]
[{"$f":"ROW(Source!A221)","v":221},85316355,85316330,77388710,1,1,1,3,"10.1.02.04-0009","ФСБЦ-2022 доп.9, 10.1.02.04-0009, приказ Минстроя России от 16.02.2024 г. № 102/пр","Прутки круглого сечения из алюминиевых сплавов марок АД0, АД1, АД, АД31, АД33, АД35, АВ, диаметр 135,0-200,0 мм",1348,null,1009,"т","т",1000,null,null,null,null,null,null,6.0000000000000002E-5,530491.82999999996,0,0,0,0,1,0,"",6.0000000000000002E-5,2,85316341,475,0,0,0,0,0,0,0,0]
[{"$f":"ROW(Source!A221)","v":221},85316356,85316330,77388985,1,1,1,3,"10.2.02.10-0013","ФСБЦ-2022, 10.2.02.10-0013, приказ Минстроя России от 18.05.2022 г. № 378/пр","Прутки круглые из меди марки М3, диаметр 10-30 мм",1348,null,1009,"т","т",1000,null,null,null,null,null,null,3.0000000000000001E-5,945143.92,0,0,0,0,1,0,"",3.0000000000000001E-5,2,85316342,476,0,0,0,0,0,0,0,0]
[{"$f":"ROW(Source!A221)","v":221},85316357,85316330,77397226,1,1,1,3,"14.4.02.04-0142","ФСБЦ-2022, 14.4.02.04-0142, приказ Минстроя России от 18.05.2022 г. № 378/пр","Краска масляная МА-0115, мумия, сурик железный",1346,null,1009,"кг","кг",1,null,null,null,null,null,null,1.74,79.88,0,0,0,0,1,0,"",1.74,2,85316343,477,0,0,0,0,0,0,0,0]
[{"$f":"ROW(Source!A221)","v":221},85316358,85316330,77312233,114,1,1,3,"421/пр_2020_п.75_пп.а","","Сметная стоимость вспомогательных ненормируемых материальных ресурсов, не учтенная в сметной норме, 2%",3277935,null,1013,"%","%",1,null,null,null,null,null,null,2,0,0,0,0,0,0,0,"",2,2,85316344,478,0,0,0,0,0,0,0,0]
[{"$f":"ROW(Source!A222)","v":222},85316345,85316330,77306374,114,1,1,1,"1-100-40","","Средний разряд работы 4,0",1191,null,1013,"чел.-ч.","чел.-ч.",1,null,null,null,null,null,null,45.3,0,0,0,0,0,1,1,"",45.3,2,85316331,479,0,0,0,0,0,0,0,0]
[{"$f":"ROW(Source!A222)","v":222},85316346,85316330,77306545,114,1,1,1,"4-100-00","","Затраты труда машинистов",1191,null,1013,"чел.-ч.","чел.-ч.",1,null,null,null,null,null,null,5.3,0,0,0,0,0,1,2,"",5.3,2,85316332,480,0,0,0,0,0,0,0,0]
[{"$f":"ROW(Source!A222)","v":222},85316347,85316330,77430988,1,1,1,2,"91.05.05-015","ФСЭМ-2022, 91.05.05-015, приказ Минстроя России от 18.05.2022 г. № 378/пр","Краны на автомобильном ходу, грузоподъемность 16 т",1368,null,1011,"маш.-ч","маш.-ч",1,null,null,null,null,null,null,0.2,0,1626.29,1090.46,0,0,1,0,"",0.2,2,85316333,481,0,0,0,0,0,0,0,0]
[{"$f":"ROW(Source!A222)","v":222},85316348,85316330,77431879,1,1,1,2,"91.14.02-001","ФСЭМ-2022 доп.7, 91.14.02-001, приказ Минстроя России от 02.08.2023 г. № 551/пр","Автомобили бортовые, грузоподъемность до 5 т",1368,null,1011,"маш.-ч","маш.-ч",1,null,null,null,null,null,null,0.2,0,641.70000000000005,811.79,0,0,1,0,"",0.2,2,85316334,482,0,0,0,0,0,0,0,0]
[{"$f":"ROW(Source!A222)","v":222},85316349,85316330,77432074,1,1,1,2,"91.17.04-233","ФСЭМ-2022, 91.17.04-233, приказ Минстроя России от 18.05.2022 г. № 378/пр","Аппараты сварочные для ручной дуговой сварки, сварочный ток до 350 А",1368,null,1011,"маш.-ч","маш.-ч",1,null,null,null,null,null,null,1.69,0,34.61,0,0,0,1,0,"",1.69,2,85316335,483,0,0,0,0,0,0,0,0]
[{"$f":"ROW(Source!A222)","v":222},85316350,85316330,77432548,1,1,1,2,"91.21.19-031","ФСЭМ-2022, 91.21.19-031, приказ Минстроя России от 18.05.2022 г. № 378/пр","Станки сверлильные",1368,null,1011,"маш.-ч","маш.-ч",1,null,null,null,null,null,null,0.86,0,23.89,0,0,0,1,0,"",0.86,2,85316336,484,0,0,0,0,0,0,0,0]
[{"$f":"ROW(Source!A222)","v":222},85316351,85316330,77432634,1,1,1,2,"91.21.22-491","ФСЭМ-2022, 91.21.22-491, приказ Минстроя России от 18.05.2022 г. № 378/пр","Шиногибы гидравлические универсальные",1368,null,1011,"маш.-ч","маш.-ч",1,null,null,null,null,null,null,4.9000000000000004,0,26.76,502.98,0,0,1,0,"",4.9000000000000004,2,85316337,485,0,0,0,0,0,0,0,0]
[{"$f":"ROW(Source!A222)","v":222},85316352,85316330,77375932,1,1,1,3,"01.3.02.02-0001","ФСБЦ-2022 доп.3, 01.3.02.02-0001, приказ Минстроя России от 26.10.2022 г. № 905/пр","Аргон газообразный, сорт I",1339,null,1007,"м3","м3",1,null,null,null,null,null,null,0.31,253.96,0,0,0,0,1,0,"",0.31,2,85316338,486,0,0,0,0,0,0,0,0]
[{"$f":"ROW(Source!A222)","v":222},85316353,85316330,77379558,1,1,1,3,"01.7.15.03-0042","ФСБЦ-2022, 01.7.15.03-0042, приказ Минстроя России от 18.05.2022 г. № 378/пр","Болты с гайками и шайбами строительные",1346,null,1009,"кг","кг",1,null,null,null,null,null,null,2.88,174.93,0,0,0,0,1,0,"",2.88,2,85316339,487,0,0,0,0,0,0,0,0]
[{"$f":"ROW(Source!A222)","v":222},85316354,85316330,77379734,1,1,1,3,"01.7.15.11-0061","ФСБЦ-2022, 01.7.15.11-0061, приказ Минстроя России от 18.05.2022 г. № 378/пр","Шайбы стальные оцинкованные пружинные (гровер), диаметр отверстия М3",1348,null,1009,"т","т",1000,null,null,null,null,null,null,1.2E-4,195421.95,0,0,0,0,1,0,"",1.2E-4,2,85316340,488,0,0,0,0,0,0,0,0]
[{"$f":"ROW(Source!A222)","v":222},85316355,85316330,77388710,1,1,1,3,"10.1.02.04-0009","ФСБЦ-2022 доп.9, 10.1.02.04-0009, приказ Минстроя России от 16.02.2024 г. № 102/пр","Прутки круглого сечения из алюминиевых сплавов марок АД0, АД1, АД, АД31, АД33, АД35, АВ, диаметр 135,0-200,0 мм",1348,null,1009,"т","т",1000,null,null,null,null,null,null,6.0000000000000002E-5,530491.82999999996,0,0,0,0,1,0,"",6.0000000000000002E-5,2,85316341,489,0,0,0,0,0,0,0,0]
[{"$f":"ROW(Source!A222)","v":222},85316356,85316330,77388985,1,1,1,3,"10.2.02.10-0013","ФСБЦ-2022, 10.2.02.10-0013, приказ Минстроя России от 18.05.2022 г. № 378/пр","Прутки круглые из меди марки М3, диаметр 10-30 мм",1348,null,1009,"т","т",1000,null,null,null,null,null,null,3.0000000000000001E-5,945143.92,0,0,0,0,1,0,"",3.0000000000000001E-5,2,85316342,490,0,0,0,0,0,0,0,0]
[{"$f":"ROW(Source!A222)","v":222},85316357,85316330,77397226,1,1,1,3,"14.4.02.04-0142","ФСБЦ-2022, 14.4.02.04-0142, приказ Минстроя России от 18.05.2022 г. № 378/пр","Краска масляная МА-0115, мумия, сурик железный",1346,null,1009,"кг","кг",1,null,null,null,null,null,null,1.74,79.88,0,0,0,0,1,0,"",1.74,2,85316343,491,0,0,0,0,0,0,0,0]
[{"$f":"ROW(Source!A222)","v":222},85316358,85316330,77312233,114,1,1,3,"421/пр_2020_п.75_пп.а","","Сметная стоимость вспомогательных ненормируемых материальных ресурсов, не учтенная в сметной норме, 2%",3277935,null,1013,"%","%",1,null,null,null,null,null,null,2,0,0,0,0,0,0,0,"",2,2,85316344,492,0,0,0,0,0,0,0,0]
[{"$f":"ROW(Source!A226)","v":226},85316375,85316361,77306380,114,1,1,1,"1-100-42","","Средний разряд работы 4,2",1191,null,1013,"чел.-ч.","чел.-ч.",1,null,null,null,null,null,null,103,0,0,0,0,0,1,1,"",103,2,85316362,493,0,0,0,0,0,0,0,0]
[{"$f":"ROW(Source!A226)","v":226},85316376,85316361,77306545,114,1,1,1,"4-100-00","","Затраты труда машинистов",1191,null,1013,"чел.-ч.","чел.-ч.",1,null,null,null,null,null,null,20.65,0,0,0,0,0,1,2,"",20.65,2,85316363,494,0,0,0,0,0,0,0,0]
[{"$f":"ROW(Source!A226)","v":226},85316377,85316361,77430971,1,1,1,2,"91.05.04-010","ФСЭМ-2022, 91.05.04-010, приказ Минстроя России от 18.05.2022 г. № 378/пр","Краны мостовые электрические, грузоподъемность 50 т",1368,null,1011,"маш.-ч","маш.-ч",1,null,null,null,null,null,null,7.83,0,1689.57,578.04999999999995,0,0,1,0,"",7.83,2,85316364,495,0,0,0,0,0,0,0,0]
[{"$f":"ROW(Source!A226)","v":226},85316378,85316361,77430988,1,1,1,2,"91.05.05-015","ФСЭМ-2022, 91.05.05-015, приказ Минстроя России от 18.05.2022 г. № 378/пр","Краны на автомобильном ходу, грузоподъемность 16 т",1368,null,1011,"маш.-ч","маш.-ч",1,null,null,null,null,null,null,0.6,0,1626.29,1090.46,0,0,1,0,"",0.6,2,85316365,496,0,0,0,0,0,0,0,0]
[{"$f":"ROW(Source!A226)","v":226},85316379,85316361,77431168,1,1,1,2,"91.06.06-042","ФСЭМ-2022, 91.06.06-042, приказ Минстроя России от 18.05.2022 г. № 378/пр","Подъемники гидравлические, высота подъема 10 м",1368,null,1011,"маш.-ч","маш.-ч",1,null,null,null,null,null,null,5.5,0,104.99,502.98,0,0,1,0,"",5.5,2,85316366,497,0,0,0,0,0,0,0,0]
[{"$f":"ROW(Source!A226)","v":226},85316380,85316361,77431879,1,1,1,2,"91.14.02-001","ФСЭМ-2022 доп.7, 91.14.02-001, приказ Минстроя России от 02.08.2023 г. № 551/пр","Автомобили бортовые, грузоподъемность до 5 т",1368,null,1011,"маш.-ч","маш.-ч",1,null,null,null,null,null,null,0.6,0,641.70000000000005,811.79,0,0,1,0,"",0.6,2,85316367,498,0,0,0,0,0,0,0,0]
[{"$f":"ROW(Source!A226)","v":226},85316381,85316361,77432062,1,1,1,2,"91.17.04-161","ФСЭМ-2022, 91.17.04-161, приказ Минстроя России от 18.05.2022 г. № 378/пр","Аппарат сварочный для полуавтоматической сварки, сварочный ток до 500 А, в комплекте с механизмом подачи проволоки",1368,null,1011,"маш.-ч","маш.-ч",1,null,null,null,null,null,null,72.3,0,103.08,0,0,0,1,0,"",72.3,2,85316368,499,0,0,0,0,0,0,0,0]
[{"$f":"ROW(Source!A226)","v":226},85316382,85316361,77432634,1,1,1,2,"91.21.22-491","ФСЭМ-2022, 91.21.22-491, приказ Минстроя России от 18.05.2022 г. № 378/пр","Шиногибы гидравлические универсальные",1368,null,1011,"маш.-ч","маш.-ч",1,null,null,null,null,null,null,6.12,0,26.76,502.98,0,0,1,0,"",6.12,2,85316369,500,0,0,0,0,0,0,0,0]
[{"$f":"ROW(Source!A226)","v":226},85316383,85316361,77375932,1,1,1,3,"01.3.02.02-0001","ФСБЦ-2022 доп.3, 01.3.02.02-0001, приказ Минстроя России от 26.10.2022 г. № 905/пр","Аргон газообразный, сорт I",1339,null,1007,"м3","м3",1,null,null,null,null,null,null,1.5,253.96,0,0,0,0,1,0,"",1.5,2,85316370,501,0,0,0,0,0,0,0,0]
[{"$f":"ROW(Source!A226)","v":226},85316384,85316361,77378830,1,1,1,3,"01.7.11.07-0227","ФСБЦ-2022, 01.7.11.07-0227, приказ Минстроя России от 18.05.2022 г. № 378/пр","Электроды сварочные для сварки низколегированных и углеродистых сталей УОНИ 13/45, Э42А, диаметр 4-5 мм",1346,null,1009,"кг","кг",1,null,null,null,null,null,null,4,155.63,0,0,0,0,1,0,"",4,2,85316371,502,0,0,0,0,0,0,0,0]
[{"$f":"ROW(Source!A226)","v":226},85316385,85316361,77388702,1,1,1,3,"10.1.02.04-0001","ФСБЦ-2022 доп.9, 10.1.02.04-0001, приказ Минстроя России от 16.02.2024 г. № 102/пр","Прутки круглого сечения из алюминиевых сплавов марок АД0, АД1, АД, АД31, АД33, АД35, АВ, диаметр 5,0 мм",1348,null,1009,"т","т",1000,null,null,null,null,null,null,2.5300000000000001E-3,590968.93000000005,0,0,0,0,1,0,"",2.5300000000000001E-3,2,85316372,503,0,0,0,0,0,0,0,0]
[{"$f":"ROW(Source!A226)","v":226},85316386,85316361,77397226,1,1,1,3,"14.4.02.04-0142","ФСБЦ-2022, 14.4.02.04-0142, приказ Минстроя России от 18.05.2022 г. № 378/пр","Краска масляная МА-0115, мумия, сурик железный",1346,null,1009,"кг","кг",1,null,null,null,null,null,null,14.9,79.88,0,0,0,0,1,0,"",14.9,2,85316373,504,0,0,0,0,0,0,0,0]
[{"$f":"ROW(Source!A226)","v":226},85316387,85316361,77312233,114,1,1,3,"421/пр_2020_п.75_пп.а","","Сметная стоимость вспомогательных ненормируемых материальных ресурсов, не учтенная в сметной норме, 2%",3277935,null,1013,"%","%",1,null,null,null,null,null,null,2,0,0,0,0,0,0,0,"",2,2,85316374,505,0,0,0,0,0,0,0,0]
[{"$f":"ROW(Source!A227)","v":227},85316375,85316361,77306380,114,1,1,1,"1-100-42","","Средний разряд работы 4,2",1191,null,1013,"чел.-ч.","чел.-ч.",1,null,null,null,null,null,null,103,0,0,0,0,0,1,1,"",103,2,85316362,506,0,0,0,0,0,0,0,0]
[{"$f":"ROW(Source!A227)","v":227},85316376,85316361,77306545,114,1,1,1,"4-100-00","","Затраты труда машинистов",1191,null,1013,"чел.-ч.","чел.-ч.",1,null,null,null,null,null,null,20.65,0,0,0,0,0,1,2,"",20.65,2,85316363,507,0,0,0,0,0,0,0,0]
[{"$f":"ROW(Source!A227)","v":227},85316377,85316361,77430971,1,1,1,2,"91.05.04-010","ФСЭМ-2022, 91.05.04-010, приказ Минстроя России от 18.05.2022 г. № 378/пр","Краны мостовые электрические, грузоподъемность 50 т",1368,null,1011,"маш.-ч","маш.-ч",1,null,null,null,null,null,null,7.83,0,1689.57,578.04999999999995,0,0,1,0,"",7.83,2,85316364,508,0,0,0,0,0,0,0,0]
[{"$f":"ROW(Source!A227)","v":227},85316378,85316361,77430988,1,1,1,2,"91.05.05-015","ФСЭМ-2022, 91.05.05-015, приказ Минстроя России от 18.05.2022 г. № 378/пр","Краны на автомобильном ходу, грузоподъемность 16 т",1368,null,1011,"маш.-ч","маш.-ч",1,null,null,null,null,null,null,0.6,0,1626.29,1090.46,0,0,1,0,"",0.6,2,85316365,509,0,0,0,0,0,0,0,0]
[{"$f":"ROW(Source!A227)","v":227},85316379,85316361,77431168,1,1,1,2,"91.06.06-042","ФСЭМ-2022, 91.06.06-042, приказ Минстроя России от 18.05.2022 г. № 378/пр","Подъемники гидравлические, высота подъема 10 м",1368,null,1011,"маш.-ч","маш.-ч",1,null,null,null,null,null,null,5.5,0,104.99,502.98,0,0,1,0,"",5.5,2,85316366,510,0,0,0,0,0,0,0,0]
[{"$f":"ROW(Source!A227)","v":227},85316380,85316361,77431879,1,1,1,2,"91.14.02-001","ФСЭМ-2022 доп.7, 91.14.02-001, приказ Минстроя России от 02.08.2023 г. № 551/пр","Автомобили бортовые, грузоподъемность до 5 т",1368,null,1011,"маш.-ч","маш.-ч",1,null,null,null,null,null,null,0.6,0,641.70000000000005,811.79,0,0,1,0,"",0.6,2,85316367,511,0,0,0,0,0,0,0,0]
[{"$f":"ROW(Source!A227)","v":227},85316381,85316361,77432062,1,1,1,2,"91.17.04-161","ФСЭМ-2022, 91.17.04-161, приказ Минстроя России от 18.05.2022 г. № 378/пр","Аппарат сварочный для полуавтоматической сварки, сварочный ток до 500 А, в комплекте с механизмом подачи проволоки",1368,null,1011,"маш.-ч","маш.-ч",1,null,null,null,null,null,null,72.3,0,103.08,0,0,0,1,0,"",72.3,2,85316368,512,0,0,0,0,0,0,0,0]
[{"$f":"ROW(Source!A227)","v":227},85316382,85316361,77432634,1,1,1,2,"91.21.22-491","ФСЭМ-2022, 91.21.22-491, приказ Минстроя России от 18.05.2022 г. № 378/пр","Шиногибы гидравлические универсальные",1368,null,1011,"маш.-ч","маш.-ч",1,null,null,null,null,null,null,6.12,0,26.76,502.98,0,0,1,0,"",6.12,2,85316369,513,0,0,0,0,0,0,0,0]
[{"$f":"ROW(Source!A227)","v":227},85316383,85316361,77375932,1,1,1,3,"01.3.02.02-0001","ФСБЦ-2022 доп.3, 01.3.02.02-0001, приказ Минстроя России от 26.10.2022 г. № 905/пр","Аргон газообразный, сорт I",1339,null,1007,"м3","м3",1,null,null,null,null,null,null,1.5,253.96,0,0,0,0,1,0,"",1.5,2,85316370,514,0,0,0,0,0,0,0,0]
[{"$f":"ROW(Source!A227)","v":227},85316384,85316361,77378830,1,1,1,3,"01.7.11.07-0227","ФСБЦ-2022, 01.7.11.07-0227, приказ Минстроя России от 18.05.2022 г. № 378/пр","Электроды сварочные для сварки низколегированных и углеродистых сталей УОНИ 13/45, Э42А, диаметр 4-5 мм",1346,null,1009,"кг","кг",1,null,null,null,null,null,null,4,155.63,0,0,0,0,1,0,"",4,2,85316371,515,0,0,0,0,0,0,0,0]
[{"$f":"ROW(Source!A227)","v":227},85316385,85316361,77388702,1,1,1,3,"10.1.02.04-0001","ФСБЦ-2022 доп.9, 10.1.02.04-0001, приказ Минстроя России от 16.02.2024 г. № 102/пр","Прутки круглого сечения из алюминиевых сплавов марок АД0, АД1, АД, АД31, АД33, АД35, АВ, диаметр 5,0 мм",1348,null,1009,"т","т",1000,null,null,null,null,null,null,2.5300000000000001E-3,590968.93000000005,0,0,0,0,1,0,"",2.5300000000000001E-3,2,85316372,516,0,0,0,0,0,0,0,0]
[{"$f":"ROW(Source!A227)","v":227},85316386,85316361,77397226,1,1,1,3,"14.4.02.04-0142","ФСБЦ-2022, 14.4.02.04-0142, приказ Минстроя России от 18.05.2022 г. № 378/пр","Краска масляная МА-0115, мумия, сурик железный",1346,null,1009,"кг","кг",1,null,null,null,null,null,null,14.9,79.88,0,0,0,0,1,0,"",14.9,2,85316373,517,0,0,0,0,0,0,0,0]
[{"$f":"ROW(Source!A227)","v":227},85316387,85316361,77312233,114,1,1,3,"421/пр_2020_п.75_пп.а","","Сметная стоимость вспомогательных ненормируемых материальных ресурсов, не учтенная в сметной норме, 2%",3277935,null,1013,"%","%",1,null,null,null,null,null,null,2,0,0,0,0,0,0,0,"",2,2,85316374,518,0,0,0,0,0,0,0,0]
[{"$f":"ROW(Source!A231)","v":231},85316406,85316390,77306382,114,1,1,1,"1-100-43","","Средний разряд работы 4,3",1191,null,1013,"чел.-ч.","чел.-ч.",1,null,null,null,null,null,null,7.42,0,0,0,0,0,1,1,"",7.42,2,85316391,519,0,0,0,0,0,0,0,0]
[{"$f":"ROW(Source!A231)","v":231},85316407,85316390,77306545,114,1,1,1,"4-100-00","","Затраты труда машинистов",1191,null,1013,"чел.-ч.","чел.-ч.",1,null,null,null,null,null,null,1.02,0,0,0,0,0,1,2,"",1.02,2,85316392,520,0,0,0,0,0,0,0,0]
[{"$f":"ROW(Source!A231)","v":231},85316408,85316390,77430988,1,1,1,2,"91.05.05-015","ФСЭМ-2022, 91.05.05-015, приказ Минстроя России от 18.05.2022 г. № 378/пр","Краны на автомобильном ходу, грузоподъемность 16 т",1368,null,1011,"маш.-ч","маш.-ч",1,null,null,null,null,null,null,0.61,0,1626.29,1090.46,0,0,1,0,"",0.61,2,85316393,521,0,0,0,0,0,0,0,0]
[{"$f":"ROW(Source!A231)","v":231},85316409,85316390,77431879,1,1,1,2,"91.14.02-001","ФСЭМ-2022 доп.7, 91.14.02-001, приказ Минстроя России от 02.08.2023 г. № 551/пр","Автомобили бортовые, грузоподъемность до 5 т",1368,null,1011,"маш.-ч","маш.-ч",1,null,null,null,null,null,null,0.41,0,641.70000000000005,811.79,0,0,1,0,"",0.41,2,85316394,522,0,0,0,0,0,0,0,0]
[{"$f":"ROW(Source!A231)","v":231},85316410,85316390,77375900,1,1,1,3,"01.3.01.06-0038","ФСБЦ-2022, 01.3.01.06-0038, приказ Минстроя России от 18.05.2022 г. № 378/пр","Смазка защитная электросетевая",1346,null,1009,"кг","кг",1,null,null,null,null,null,null,0.01,238.29,0,0,0,0,1,0,"",0.01,2,85316395,523,0,0,0,0,0,0,0,0]
[{"$f":"ROW(Source!A231)","v":231},85316411,85316390,77375907,1,1,1,3,"01.3.01.06-0051","ФСБЦ-2022 доп.12, 01.3.01.06-0051, приказ Минстроя России от 07.11.2024 г. № 747/пр","Смазка солидол жировой Ж",1346,null,1009,"кг","кг",1,null,null,null,null,null,null,0.03,58.53,0,0,0,0,1,0,"",0.03,2,85316396,524,0,0,0,0,0,0,0,0]
[{"$f":"ROW(Source!A231)","v":231},85316412,85316390,77379558,1,1,1,3,"01.7.15.03-0042","ФСБЦ-2022, 01.7.15.03-0042, приказ Минстроя России от 18.05.2022 г. № 378/пр","Болты с гайками и шайбами строительные",1346,null,1009,"кг","кг",1,null,null,null,null,null,null,0,174.93,0,0,0,1,0,0,"",0,2,85316397,525,0,0,0,0,0,0,0,0]
[{"$f":"ROW(Source!A231)","v":231},85316413,85316390,77380691,1,1,1,3,"01.7.20.08-0051","ФСБЦ-2022 доп.8, 01.7.20.08-0051, приказ Минстроя России от 14.11.2023 г. № 817/пр","Ветошь хлопчатобумажная цветная",1346,null,1009,"кг","кг",1,null,null,null,null,null,null,0.02,56.11,0,0,0,0,1,0,"",0.02,2,85316398,526,0,0,0,0,0,0,0,0]
[{"$f":"ROW(Source!A231)","v":231},85316414,85316390,77308705,114,1,1,3,"07.2.07.13","","Хомуты стальные",1346,null,1009,"кг","кг",1,null,null,null,null,null,null,0,0,0,0,0,1,0,0,"",0,2,85316399,527,0,0,0,0,0,0,0,0]
[{"$f":"ROW(Source!A231)","v":231},85316415,85316390,77309038,114,1,1,3,"08.3.04.02","","Сталь стержневая диаметром до 10 мм",1348,null,1009,"т","т",1000,null,null,null,null,null,null,0,0,0,0,0,1,0,0,"",0,2,85316400,528,0,0,0,0,0,0,0,0]
[{"$f":"ROW(Source!A231)","v":231},85316416,85316390,77397258,1,1,1,3,"14.4.03.03-0102","ФСБЦ-2022 доп.4, 14.4.03.03-0102, приказ Минстроя России от 27.12.2022 г. № 1133/пр","Лак битумный БТ-577",1348,null,1009,"т","т",1000,null,null,null,null,null,null,1E-4,80020.98,0,0,0,0,1,0,"",1E-4,2,85316401,529,0,0,0,0,0,0,0,0]
[{"$f":"ROW(Source!A231)","v":231},85316417,85316390,77397652,1,1,1,3,"14.5.09.11-0102","ФСБЦ-2022, 14.5.09.11-0102, приказ Минстроя России от 18.05.2022 г. № 378/пр","Уайт-спирит",1346,null,1009,"кг","кг",1,null,null,null,null,null,null,0.12,60.6,0,0,0,0,1,0,"",0.12,2,85316402,530,0,0,0,0,0,0,0,0]
[{"$f":"ROW(Source!A231)","v":231},85316418,85316390,77311290,114,1,1,3,"21.2.01.02","","Провода неизолированные для воздушных линий электропередач",1348,null,1009,"т","т",1000,null,null,null,null,null,null,0,0,0,0,0,1,0,0,"",0,2,85316403,531,0,0,0,0,0,0,0,0]
[{"$f":"ROW(Source!A231)","v":231},85316419,85316390,77311321,114,1,1,3,"22.2.01.04","","Изоляторы линейные штыревые фарфоровые",1371,null,1013,"ШТ","ШТ",1,null,null,null,null,null,null,0,0,0,0,0,1,0,0,"",0,2,85316404,532,0,0,0,0,0,0,0,0]
[{"$f":"ROW(Source!A231)","v":231},85316420,85316390,77311330,114,1,1,3,"22.2.02.03","","Детали крепления стальные",1346,null,1009,"кг","кг",1,null,null,null,null,null,null,0,0,0,0,0,1,0,0,"",0,2,85316405,533,0,0,0,0,0,0,0,0]
[{"$f":"ROW(Source!A232)","v":232},85316406,85316390,77306382,114,1,1,1,"1-100-43","","Средний разряд работы 4,3",1191,null,1013,"чел.-ч.","чел.-ч.",1,null,null,null,null,null,null,7.42,0,0,0,0,0,1,1,"",7.42,2,85316391,534,0,0,0,0,0,0,0,0]
[{"$f":"ROW(Source!A232)","v":232},85316407,85316390,77306545,114,1,1,1,"4-100-00","","Затраты труда машинистов",1191,null,1013,"чел.-ч.","чел.-ч.",1,null,null,null,null,null,null,1.02,0,0,0,0,0,1,2,"",1.02,2,85316392,535,0,0,0,0,0,0,0,0]
[{"$f":"ROW(Source!A232)","v":232},85316408,85316390,77430988,1,1,1,2,"91.05.05-015","ФСЭМ-2022, 91.05.05-015, приказ Минстроя России от 18.05.2022 г. № 378/пр","Краны на автомобильном ходу, грузоподъемность 16 т",1368,null,1011,"маш.-ч","маш.-ч",1,null,null,null,null,null,null,0.61,0,1626.29,1090.46,0,0,1,0,"",0.61,2,85316393,536,0,0,0,0,0,0,0,0]
[{"$f":"ROW(Source!A232)","v":232},85316409,85316390,77431879,1,1,1,2,"91.14.02-001","ФСЭМ-2022 доп.7, 91.14.02-001, приказ Минстроя России от 02.08.2023 г. № 551/пр","Автомобили бортовые, грузоподъемность до 5 т",1368,null,1011,"маш.-ч","маш.-ч",1,null,null,null,null,null,null,0.41,0,641.70000000000005,811.79,0,0,1,0,"",0.41,2,85316394,537,0,0,0,0,0,0,0,0]
[{"$f":"ROW(Source!A232)","v":232},85316410,85316390,77375900,1,1,1,3,"01.3.01.06-0038","ФСБЦ-2022, 01.3.01.06-0038, приказ Минстроя России от 18.05.2022 г. № 378/пр","Смазка защитная электросетевая",1346,null,1009,"кг","кг",1,null,null,null,null,null,null,0.01,238.29,0,0,0,0,1,0,"",0.01,2,85316395,538,0,0,0,0,0,0,0,0]
[{"$f":"ROW(Source!A232)","v":232},85316411,85316390,77375907,1,1,1,3,"01.3.01.06-0051","ФСБЦ-2022 доп.12, 01.3.01.06-0051, приказ Минстроя России от 07.11.2024 г. № 747/пр","Смазка солидол жировой Ж",1346,null,1009,"кг","кг",1,null,null,null,null,null,null,0.03,58.53,0,0,0,0,1,0,"",0.03,2,85316396,539,0,0,0,0,0,0,0,0]
[{"$f":"ROW(Source!A232)","v":232},85316412,85316390,77379558,1,1,1,3,"01.7.15.03-0042","ФСБЦ-2022, 01.7.15.03-0042, приказ Минстроя России от 18.05.2022 г. № 378/пр","Болты с гайками и шайбами строительные",1346,null,1009,"кг","кг",1,null,null,null,null,null,null,0,174.93,0,0,0,1,0,0,"",0,2,85316397,540,0,0,0,0,0,0,0,0]
[{"$f":"ROW(Source!A232)","v":232},85316413,85316390,77380691,1,1,1,3,"01.7.20.08-0051","ФСБЦ-2022 доп.8, 01.7.20.08-0051, приказ Минстроя России от 14.11.2023 г. № 817/пр","Ветошь хлопчатобумажная цветная",1346,null,1009,"кг","кг",1,null,null,null,null,null,null,0.02,56.11,0,0,0,0,1,0,"",0.02,2,85316398,541,0,0,0,0,0,0,0,0]
[{"$f":"ROW(Source!A232)","v":232},85316414,85316390,77308705,114,1,1,3,"07.2.07.13","","Хомуты стальные",1346,null,1009,"кг","кг",1,null,null,null,null,null,null,0,0,0,0,0,1,0,0,"",0,2,85316399,542,0,0,0,0,0,0,0,0]
[{"$f":"ROW(Source!A232)","v":232},85316415,85316390,77309038,114,1,1,3,"08.3.04.02","","Сталь стержневая диаметром до 10 мм",1348,null,1009,"т","т",1000,null,null,null,null,null,null,0,0,0,0,0,1,0,0,"",0,2,85316400,543,0,0,0,0,0,0,0,0]
[{"$f":"ROW(Source!A232)","v":232},85316416,85316390,77397258,1,1,1,3,"14.4.03.03-0102","ФСБЦ-2022 доп.4, 14.4.03.03-0102, приказ Минстроя России от 27.12.2022 г. № 1133/пр","Лак битумный БТ-577",1348,null,1009,"т","т",1000,null,null,null,null,null,null,1E-4,80020.98,0,0,0,0,1,0,"",1E-4,2,85316401,544,0,0,0,0,0,0,0,0]
[{"$f":"ROW(Source!A232)","v":232},85316417,85316390,77397652,1,1,1,3,"14.5.09.11-0102","ФСБЦ-2022, 14.5.09.11-0102, приказ Минстроя России от 18.05.2022 г. № 378/пр","Уайт-спирит",1346,null,1009,"кг","кг",1,null,null,null,null,null,null,0.12,60.6,0,0,0,0,1,0,"",0.12,2,85316402,545,0,0,0,0,0,0,0,0]
[{"$f":"ROW(Source!A232)","v":232},85316418,85316390,77311290,114,1,1,3,"21.2.01.02","","Провода неизолированные для воздушных линий электропередач",1348,null,1009,"т","т",1000,null,null,null,null,null,null,0,0,0,0,0,1,0,0,"",0,2,85316403,546,0,0,0,0,0,0,0,0]
[{"$f":"ROW(Source!A232)","v":232},85316419,85316390,77311321,114,1,1,3,"22.2.01.04","","Изоляторы линейные штыревые фарфоровые",1371,null,1013,"ШТ","ШТ",1,null,null,null,null,null,null,0,0,0,0,0,1,0,0,"",0,2,85316404,547,0,0,0,0,0,0,0,0]
[{"$f":"ROW(Source!A232)","v":232},85316420,85316390,77311330,114,1,1,3,"22.2.02.03","","Детали крепления стальные",1346,null,1009,"кг","кг",1,null,null,null,null,null,null,0,0,0,0,0,1,0,0,"",0,2,85316405,548,0,0,0,0,0,0,0,0]
[{"$f":"ROW(Source!A246)","v":246},85316439,85316428,83777499,117,1,1,1,"1-100-32","","Средний разряд работы 3,2",1191,null,1013,"чел.-ч.","чел.-ч.",1,null,null,null,null,null,null,19.2,0,0,0,739.09,0,1,1,"*(0,2+1)",23.04,2,85316429,549,0,0,0,0,0,0,0,0]
[{"$f":"ROW(Source!A246)","v":246},85316440,85316428,83777689,117,1,1,1,"4-100-00","","Затраты труда машинистов",1191,null,1013,"чел.-ч.","чел.-ч.",1,null,null,null,null,null,null,0.06,0,0,0,0,0,1,2,"*(0,2+1)",7.1999999999999995E-2,2,85316430,550,0,0,0,0,0,0,0,0]
[{"$f":"ROW(Source!A246)","v":246},85316441,85316428,83784365,1,1,1,2,"91.06.06-048","ФСЭМ-2022, 91.06.06-048, приказ Минстроя России от 18.05.2022 г. № 378/пр","Подъемники одномачтовые, грузоподъемность до 500 кг, высота подъема 45 м",1368,null,1011,"маш.-ч","маш.-ч",1,null,null,null,null,null,null,0.01,0,37.32,720.91,0,0,1,0,"*(0,2+1)",1.2E-2,2,85316431,551,0,0,0,0,0,0,0,0]
[{"$f":"ROW(Source!A246)","v":246},85316442,85316428,83785072,1,1,1,2,"91.14.02-001","ФСЭМ-2022 доп.7, 91.14.02-001, приказ Минстроя России от 02.08.2023 г. № 551/пр","Автомобили бортовые, грузоподъемность до 5 т",1368,null,1011,"маш.-ч","маш.-ч",1,null,null,null,null,null,null,0.05,0,641.70000000000005,811.79,0,0,1,0,"*(0,2+1)",0.06,2,85316432,552,0,0,0,0,0,0,0,0]
[{"$f":"ROW(Source!A246)","v":246},85316443,85316428,83852432,1,1,1,3,"01.7.10.17-0141","ФСБЦ-2022, 01.7.10.17-0141, приказ Минстроя России от 18.05.2022 г. № 378/пр","Пемза",1346,null,1009,"кг","кг",1,null,null,null,null,null,null,0.24,2507.62,0,0,0,0,1,0,"",0.24,2,85316433,553,0,0,0,0,0,0,0,0]
[{"$f":"ROW(Source!A246)","v":246},85316444,85316428,83854120,1,1,1,3,"01.7.17.11-0011","ФСБЦ-2022, 01.7.17.11-0011, приказ Минстроя России от 18.05.2022 г. № 378/пр","Шкурка шлифовальная двухслойная с зернистостью 40-25",1327,null,1005,"м2","м2",1,null,null,null,null,null,null,0.8,531.44000000000005,0,0,0,0,1,0,"",0.8,2,85316434,554,0,0,0,0,0,0,0,0]
[{"$f":"ROW(Source!A246)","v":246},85316445,85316428,83854484,1,1,1,3,"01.7.20.08-0051","ФСБЦ-2022 доп.8, 01.7.20.08-0051, приказ Минстроя России от 14.11.2023 г. № 817/пр","Ветошь хлопчатобумажная цветная",1346,null,1009,"кг","кг",1,null,null,null,null,null,null,0.21,56.11,0,0,0,0,1,0,"",0.21,2,85316435,555,0,0,0,0,0,0,0,0]
[{"$f":"ROW(Source!A246)","v":246},85316446,85316428,83781429,117,1,1,3,"14.4.02.04","","Краски для внутренних работ масляные готовые к применению",1346,null,1009,"кг","кг",1,null,null,null,null,null,null,26.7,0,0,0,0,0,0,0,"",26.7,2,85316436,556,0,0,0,0,0,0,0,0]
[{"$f":"ROW(Source!A246)","v":246},85316447,85316428,83781533,117,1,1,3,"14.5.05.01","","Олифы комбинированные",1348,null,1009,"т","т",1000,null,null,null,null,null,null,1.03E-2,0,0,0,0,0,0,0,"",1.03E-2,2,85316437,557,0,0,0,0,0,0,0,0]
[{"$f":"ROW(Source!A246)","v":246},85316448,85316428,83870953,1,1,1,3,"14.5.11.01-0003","ФСБЦ-2022, 14.5.11.01-0003, приказ Минстроя России от 18.05.2022 г. № 378/пр","Шпатлевка масляно-клеевая",1348,null,1009,"т","т",1000,null,null,null,null,null,null,5.0000000000000001E-3,24995.33,0,0,0,0,1,0,"",5.0000000000000001E-3,2,85316438,558,0,0,0,0,0,0,0,0]
[{"$f":"ROW(Source!A247)","v":247},85316439,85316428,83777499,117,1,1,1,"1-100-32","","Средний разряд работы 3,2",1191,null,1013,"чел.-ч.","чел.-ч.",1,null,null,null,null,null,null,19.2,0,0,0,739.09,0,1,1,"*(0,2+1)",23.04,2,85316429,559,0,0,0,0,0,0,0,0]
[{"$f":"ROW(Source!A247)","v":247},85316440,85316428,83777689,117,1,1,1,"4-100-00","","Затраты труда машинистов",1191,null,1013,"чел.-ч.","чел.-ч.",1,null,null,null,null,null,null,0.06,0,0,0,0,0,1,2,"*(0,2+1)",7.1999999999999995E-2,2,85316430,560,0,0,0,0,0,0,0,0]
[{"$f":"ROW(Source!A247)","v":247},85316441,85316428,83784365,1,1,1,2,"91.06.06-048","ФСЭМ-2022, 91.06.06-048, приказ Минстроя России от 18.05.2022 г. № 378/пр","Подъемники одномачтовые, грузоподъемность до 500 кг, высота подъема 45 м",1368,null,1011,"маш.-ч","маш.-ч",1,null,null,null,null,null,null,0.01,0,37.32,720.91,0,0,1,0,"*(0,2+1)",1.2E-2,2,85316431,561,0,0,0,0,0,0,0,0]
[{"$f":"ROW(Source!A247)","v":247},85316442,85316428,83785072,1,1,1,2,"91.14.02-001","ФСЭМ-2022 доп.7, 91.14.02-001, приказ Минстроя России от 02.08.2023 г. № 551/пр","Автомобили бортовые, грузоподъемность до 5 т",1368,null,1011,"маш.-ч","маш.-ч",1,null,null,null,null,null,null,0.05,0,641.70000000000005,811.79,0,0,1,0,"*(0,2+1)",0.06,2,85316432,562,0,0,0,0,0,0,0,0]
[{"$f":"ROW(Source!A247)","v":247},85316443,85316428,83852432,1,1,1,3,"01.7.10.17-0141","ФСБЦ-2022, 01.7.10.17-0141, приказ Минстроя России от 18.05.2022 г. № 378/пр","Пемза",1346,null,1009,"кг","кг",1,null,null,null,null,null,null,0.24,2507.62,0,0,0,0,1,0,"",0.24,2,85316433,563,0,0,0,0,0,0,0,0]
[{"$f":"ROW(Source!A247)","v":247},85316444,85316428,83854120,1,1,1,3,"01.7.17.11-0011","ФСБЦ-2022, 01.7.17.11-0011, приказ Минстроя России от 18.05.2022 г. № 378/пр","Шкурка шлифовальная двухслойная с зернистостью 40-25",1327,null,1005,"м2","м2",1,null,null,null,null,null,null,0.8,531.44000000000005,0,0,0,0,1,0,"",0.8,2,85316434,564,0,0,0,0,0,0,0,0]
[{"$f":"ROW(Source!A247)","v":247},85316445,85316428,83854484,1,1,1,3,"01.7.20.08-0051","ФСБЦ-2022 доп.8, 01.7.20.08-0051, приказ Минстроя России от 14.11.2023 г. № 817/пр","Ветошь хлопчатобумажная цветная",1346,null,1009,"кг","кг",1,null,null,null,null,null,null,0.21,56.11,0,0,0,0,1,0,"",0.21,2,85316435,565,0,0,0,0,0,0,0,0]
[{"$f":"ROW(Source!A247)","v":247},85316446,85316428,83781429,117,1,1,3,"14.4.02.04","","Краски для внутренних работ масляные готовые к применению",1346,null,1009,"кг","кг",1,null,null,null,null,null,null,26.7,0,0,0,0,0,0,0,"",26.7,2,85316436,566,0,0,0,0,0,0,0,0]
[{"$f":"ROW(Source!A247)","v":247},85316447,85316428,83781533,117,1,1,3,"14.5.05.01","","Олифы комбинированные",1348,null,1009,"т","т",1000,null,null,null,null,null,null,1.03E-2,0,0,0,0,0,0,0,"",1.03E-2,2,85316437,567,0,0,0,0,0,0,0,0]
[{"$f":"ROW(Source!A247)","v":247},85316448,85316428,83870953,1,1,1,3,"14.5.11.01-0003","ФСБЦ-2022, 14.5.11.01-0003, приказ Минстроя России от 18.05.2022 г. № 378/пр","Шпатлевка масляно-клеевая",1348,null,1009,"т","т",1000,null,null,null,null,null,null,5.0000000000000001E-3,24995.33,0,0,0,0,1,0,"",5.0000000000000001E-3,2,85316438,568,0,0,0,0,0,0,0,0]
[{"$f":"ROW(Source!A288)","v":288},85316454,85316452,83777455,117,1,1,1,"1-100-20","","Средний разряд работы 2,0",1191,null,1013,"чел.-ч.","чел.-ч.",1,null,null,null,null,null,null,154,0,0,0,660.33,0,1,1,"*(0,2+1)",184.79999999999998,2,85316453,569,0,0,0,0,0,0,0,0]
[{"$f":"ROW(Source!A289)","v":289},85316454,85316452,83777455,117,1,1,1,"1-100-20","","Средний разряд работы 2,0",1191,null,1013,"чел.-ч.","чел.-ч.",1,null,null,null,null,null,null,154,0,0,0,660.33,0,1,1,"*(0,2+1)",184.79999999999998,2,85316453,570,0,0,0,0,0,0,0,0]
[{"$f":"ROW(Source!A290)","v":290},85316457,85316455,83777445,117,1,1,1,"1-100-15","","Средний разряд работы 1,5",1191,null,1013,"чел.-ч.","чел.-ч.",1,null,null,null,null,null,null,88.5,0,0,0,633.07000000000005,0,1,1,"*(0,2+1)",106.2,2,85316456,571,0,0,0,0,0,0,0,0]
[{"$f":"ROW(Source!A291)","v":291},85316457,85316455,83777445,117,1,1,1,"1-100-15","","Средний разряд работы 1,5",1191,null,1013,"чел.-ч.","чел.-ч.",1,null,null,null,null,null,null,88.5,0,0,0,633.07000000000005,0,1,1,"*(0,2+1)",106.2,2,85316456,572,0,0,0,0,0,0,0,0]
[{"$f":"ROW(Source!A292)","v":292},85316467,85316458,83777513,117,1,1,1,"1-100-38","","Средний разряд работы 3,8",1191,null,1013,"чел.-ч.","чел.-ч.",1,null,null,null,null,null,null,9.27,0,0,0,793.61,0,1,1,"*(0,2+1)",11.123999999999999,2,85316459,573,0,0,0,0,0,0,0,0]
[{"$f":"ROW(Source!A292)","v":292},85316468,85316458,83777689,117,1,1,1,"4-100-00","","Затраты труда машинистов",1191,null,1013,"чел.-ч.","чел.-ч.",1,null,null,null,null,null,null,0.34,0,0,0,0,0,1,2,"*(0,2+1)",0.40800000000000003,2,85316460,574,0,0,0,0,0,0,0,0]
[{"$f":"ROW(Source!A292)","v":292},85316469,85316458,83784178,1,1,1,2,"91.05.05-015","ФСЭМ-2022, 91.05.05-015, приказ Минстроя России от 18.05.2022 г. № 378/пр","Краны на автомобильном ходу, грузоподъемность 16 т",1368,null,1011,"маш.-ч","маш.-ч",1,null,null,null,null,null,null,0.17,0,1626.29,1090.46,0,0,1,0,"*(0,2+1)",0.20400000000000001,2,85316461,575,0,0,0,0,0,0,0,0]
[{"$f":"ROW(Source!A292)","v":292},85316470,85316458,83785072,1,1,1,2,"91.14.02-001","ФСЭМ-2022 доп.7, 91.14.02-001, приказ Минстроя России от 02.08.2023 г. № 551/пр","Автомобили бортовые, грузоподъемность до 5 т",1368,null,1011,"маш.-ч","маш.-ч",1,null,null,null,null,null,null,0.17,0,641.70000000000005,811.79,0,0,1,0,"*(0,2+1)",0.20400000000000001,2,85316462,576,0,0,0,0,0,0,0,0]
[{"$f":"ROW(Source!A292)","v":292},85316471,85316458,83785268,1,1,1,2,"91.17.04-233","ФСЭМ-2022, 91.17.04-233, приказ Минстроя России от 18.05.2022 г. № 378/пр","Аппараты сварочные для ручной дуговой сварки, сварочный ток до 350 А",1368,null,1011,"маш.-ч","маш.-ч",1,null,null,null,null,null,null,1.51,0,34.61,0,0,0,1,0,"*(0,2+1)",1.8119999999999998,2,85316463,577,0,0,0,0,0,0,0,0]
[{"$f":"ROW(Source!A292)","v":292},85316472,85316458,83852582,1,1,1,3,"01.7.11.07-0227","ФСБЦ-2022, 01.7.11.07-0227, приказ Минстроя России от 18.05.2022 г. № 378/пр","Электроды сварочные для сварки низколегированных и углеродистых сталей УОНИ 13/45, Э42А, диаметр 4-5 мм",1346,null,1009,"кг","кг",1,null,null,null,null,null,null,0.65,155.63,0,0,0,0,1,0,"",0.65,2,85316464,578,0,0,0,0,0,0,0,0]
[{"$f":"ROW(Source!A292)","v":292},85316473,85316458,83870453,1,1,1,3,"14.4.01.09-0427","ФСБЦ-2022 доп.8, 14.4.01.09-0427, приказ Минстроя России от 14.11.2023 г. № 817/пр","Грунтовка эпоксидная антикоррозионная с содержанием цинка для защиты металлических поверхностей, расход 0,20-0,39 кг/м2",1346,null,1009,"кг","кг",1,null,null,null,null,null,null,2,911.56,0,0,0,0,1,0,"",2,2,85316465,579,0,0,0,0,0,0,0,0]
[{"$f":"ROW(Source!A292)","v":292},85316474,85316458,83783523,117,1,1,3,"421/пр_2020_п.75_пп.а","","Сметная стоимость вспомогательных ненормируемых материальных ресурсов, не учтенная в сметной норме, 2%",3277935,null,1013,"%","%",1,null,null,null,null,null,null,2,0,0,0,0,0,0,0,"",2,2,85316466,580,0,0,0,0,0,0,0,0]
[{"$f":"ROW(Source!A293)","v":293},85316467,85316458,83777513,117,1,1,1,"1-100-38","","Средний разряд работы 3,8",1191,null,1013,"чел.-ч.","чел.-ч.",1,null,null,null,null,null,null,9.27,0,0,0,793.61,0,1,1,"*(0,2+1)",11.123999999999999,2,85316459,581,0,0,0,0,0,0,0,0]
[{"$f":"ROW(Source!A293)","v":293},85316468,85316458,83777689,117,1,1,1,"4-100-00","","Затраты труда машинистов",1191,null,1013,"чел.-ч.","чел.-ч.",1,null,null,null,null,null,null,0.34,0,0,0,0,0,1,2,"*(0,2+1)",0.40800000000000003,2,85316460,582,0,0,0,0,0,0,0,0]
[{"$f":"ROW(Source!A293)","v":293},85316469,85316458,83784178,1,1,1,2,"91.05.05-015","ФСЭМ-2022, 91.05.05-015, приказ Минстроя России от 18.05.2022 г. № 378/пр","Краны на автомобильном ходу, грузоподъемность 16 т",1368,null,1011,"маш.-ч","маш.-ч",1,null,null,null,null,null,null,0.17,0,1626.29,1090.46,0,0,1,0,"*(0,2+1)",0.20400000000000001,2,85316461,583,0,0,0,0,0,0,0,0]
[{"$f":"ROW(Source!A293)","v":293},85316470,85316458,83785072,1,1,1,2,"91.14.02-001","ФСЭМ-2022 доп.7, 91.14.02-001, приказ Минстроя России от 02.08.2023 г. № 551/пр","Автомобили бортовые, грузоподъемность до 5 т",1368,null,1011,"маш.-ч","маш.-ч",1,null,null,null,null,null,null,0.17,0,641.70000000000005,811.79,0,0,1,0,"*(0,2+1)",0.20400000000000001,2,85316462,584,0,0,0,0,0,0,0,0]
[{"$f":"ROW(Source!A293)","v":293},85316471,85316458,83785268,1,1,1,2,"91.17.04-233","ФСЭМ-2022, 91.17.04-233, приказ Минстроя России от 18.05.2022 г. № 378/пр","Аппараты сварочные для ручной дуговой сварки, сварочный ток до 350 А",1368,null,1011,"маш.-ч","маш.-ч",1,null,null,null,null,null,null,1.51,0,34.61,0,0,0,1,0,"*(0,2+1)",1.8119999999999998,2,85316463,585,0,0,0,0,0,0,0,0]
[{"$f":"ROW(Source!A293)","v":293},85316472,85316458,83852582,1,1,1,3,"01.7.11.07-0227","ФСБЦ-2022, 01.7.11.07-0227, приказ Минстроя России от 18.05.2022 г. № 378/пр","Электроды сварочные для сварки низколегированных и углеродистых сталей УОНИ 13/45, Э42А, диаметр 4-5 мм",1346,null,1009,"кг","кг",1,null,null,null,null,null,null,0.65,155.63,0,0,0,0,1,0,"",0.65,2,85316464,586,0,0,0,0,0,0,0,0]
[{"$f":"ROW(Source!A293)","v":293},85316473,85316458,83870453,1,1,1,3,"14.4.01.09-0427","ФСБЦ-2022 доп.8, 14.4.01.09-0427, приказ Минстроя России от 14.11.2023 г. № 817/пр","Грунтовка эпоксидная антикоррозионная с содержанием цинка для защиты металлических поверхностей, расход 0,20-0,39 кг/м2",1346,null,1009,"кг","кг",1,null,null,null,null,null,null,2,911.56,0,0,0,0,1,0,"",2,2,85316465,587,0,0,0,0,0,0,0,0]
[{"$f":"ROW(Source!A293)","v":293},85316474,85316458,83783523,117,1,1,3,"421/пр_2020_п.75_пп.а","","Сметная стоимость вспомогательных ненормируемых материальных ресурсов, не учтенная в сметной норме, 2%",3277935,null,1013,"%","%",1,null,null,null,null,null,null,2,0,0,0,0,0,0,0,"",2,2,85316466,588,0,0,0,0,0,0,0,0]
[{"$f":"ROW(Source!A299)","v":299},85316487,85316478,83777513,117,1,1,1,"1-100-38","","Средний разряд работы 3,8",1191,null,1013,"чел.-ч.","чел.-ч.",1,null,null,null,null,null,null,16.5,0,0,0,793.61,0,1,1,"*(0,2+1)",19.8,2,85316479,589,0,0,0,0,0,0,0,0]
[{"$f":"ROW(Source!A299)","v":299},85316488,85316478,83777689,117,1,1,1,"4-100-00","","Затраты труда машинистов",1191,null,1013,"чел.-ч.","чел.-ч.",1,null,null,null,null,null,null,0.26,0,0,0,0,0,1,2,"*(0,2+1)",0.312,2,85316480,590,0,0,0,0,0,0,0,0]
[{"$f":"ROW(Source!A299)","v":299},85316489,85316478,83784178,1,1,1,2,"91.05.05-015","ФСЭМ-2022, 91.05.05-015, приказ Минстроя России от 18.05.2022 г. № 378/пр","Краны на автомобильном ходу, грузоподъемность 16 т",1368,null,1011,"маш.-ч","маш.-ч",1,null,null,null,null,null,null,0.13,0,1626.29,1090.46,0,0,1,0,"*(0,2+1)",0.156,2,85316481,591,0,0,0,0,0,0,0,0]
[{"$f":"ROW(Source!A299)","v":299},85316490,85316478,83785072,1,1,1,2,"91.14.02-001","ФСЭМ-2022 доп.7, 91.14.02-001, приказ Минстроя России от 02.08.2023 г. № 551/пр","Автомобили бортовые, грузоподъемность до 5 т",1368,null,1011,"маш.-ч","маш.-ч",1,null,null,null,null,null,null,0.13,0,641.70000000000005,811.79,0,0,1,0,"*(0,2+1)",0.156,2,85316482,592,0,0,0,0,0,0,0,0]
[{"$f":"ROW(Source!A299)","v":299},85316491,85316478,83785268,1,1,1,2,"91.17.04-233","ФСЭМ-2022, 91.17.04-233, приказ Минстроя России от 18.05.2022 г. № 378/пр","Аппараты сварочные для ручной дуговой сварки, сварочный ток до 350 А",1368,null,1011,"маш.-ч","маш.-ч",1,null,null,null,null,null,null,2.7,0,34.61,0,0,0,1,0,"*(0,2+1)",3.24,2,85316483,593,0,0,0,0,0,0,0,0]
[{"$f":"ROW(Source!A299)","v":299},85316492,85316478,83852582,1,1,1,3,"01.7.11.07-0227","ФСБЦ-2022, 01.7.11.07-0227, приказ Минстроя России от 18.05.2022 г. № 378/пр","Электроды сварочные для сварки низколегированных и углеродистых сталей УОНИ 13/45, Э42А, диаметр 4-5 мм",1346,null,1009,"кг","кг",1,null,null,null,null,null,null,0.6,155.63,0,0,0,0,1,0,"",0.6,2,85316484,594,0,0,0,0,0,0,0,0]
[{"$f":"ROW(Source!A299)","v":299},85316493,85316478,83870453,1,1,1,3,"14.4.01.09-0427","ФСБЦ-2022 доп.8, 14.4.01.09-0427, приказ Минстроя России от 14.11.2023 г. № 817/пр","Грунтовка эпоксидная антикоррозионная с содержанием цинка для защиты металлических поверхностей, расход 0,20-0,39 кг/м2",1346,null,1009,"кг","кг",1,null,null,null,null,null,null,2,911.56,0,0,0,0,1,0,"",2,2,85316485,595,0,0,0,0,0,0,0,0]
[{"$f":"ROW(Source!A299)","v":299},85316494,85316478,83783523,117,1,1,3,"421/пр_2020_п.75_пп.а","","Сметная стоимость вспомогательных ненормируемых материальных ресурсов, не учтенная в сметной норме, 2%",3277935,null,1013,"%","%",1,null,null,null,null,null,null,2,0,0,0,0,0,0,0,"",2,2,85316486,596,0,0,0,0,0,0,0,0]
[{"$f":"ROW(Source!A300)","v":300},85316487,85316478,83777513,117,1,1,1,"1-100-38","","Средний разряд работы 3,8",1191,null,1013,"чел.-ч.","чел.-ч.",1,null,null,null,null,null,null,16.5,0,0,0,793.61,0,1,1,"*(0,2+1)",19.8,2,85316479,597,0,0,0,0,0,0,0,0]
[{"$f":"ROW(Source!A300)","v":300},85316488,85316478,83777689,117,1,1,1,"4-100-00","","Затраты труда машинистов",1191,null,1013,"чел.-ч.","чел.-ч.",1,null,null,null,null,null,null,0.26,0,0,0,0,0,1,2,"*(0,2+1)",0.312,2,85316480,598,0,0,0,0,0,0,0,0]
[{"$f":"ROW(Source!A300)","v":300},85316489,85316478,83784178,1,1,1,2,"91.05.05-015","ФСЭМ-2022, 91.05.05-015, приказ Минстроя России от 18.05.2022 г. № 378/пр","Краны на автомобильном ходу, грузоподъемность 16 т",1368,null,1011,"маш.-ч","маш.-ч",1,null,null,null,null,null,null,0.13,0,1626.29,1090.46,0,0,1,0,"*(0,2+1)",0.156,2,85316481,599,0,0,0,0,0,0,0,0]
[{"$f":"ROW(Source!A300)","v":300},85316490,85316478,83785072,1,1,1,2,"91.14.02-001","ФСЭМ-2022 доп.7, 91.14.02-001, приказ Минстроя России от 02.08.2023 г. № 551/пр","Автомобили бортовые, грузоподъемность до 5 т",1368,null,1011,"маш.-ч","маш.-ч",1,null,null,null,null,null,null,0.13,0,641.70000000000005,811.79,0,0,1,0,"*(0,2+1)",0.156,2,85316482,600,0,0,0,0,0,0,0,0]
[{"$f":"ROW(Source!A300)","v":300},85316491,85316478,83785268,1,1,1,2,"91.17.04-233","ФСЭМ-2022, 91.17.04-233, приказ Минстроя России от 18.05.2022 г. № 378/пр","Аппараты сварочные для ручной дуговой сварки, сварочный ток до 350 А",1368,null,1011,"маш.-ч","маш.-ч",1,null,null,null,null,null,null,2.7,0,34.61,0,0,0,1,0,"*(0,2+1)",3.24,2,85316483,601,0,0,0,0,0,0,0,0]
[{"$f":"ROW(Source!A300)","v":300},85316492,85316478,83852582,1,1,1,3,"01.7.11.07-0227","ФСБЦ-2022, 01.7.11.07-0227, приказ Минстроя России от 18.05.2022 г. № 378/пр","Электроды сварочные для сварки низколегированных и углеродистых сталей УОНИ 13/45, Э42А, диаметр 4-5 мм",1346,null,1009,"кг","кг",1,null,null,null,null,null,null,0.6,155.63,0,0,0,0,1,0,"",0.6,2,85316484,602,0,0,0,0,0,0,0,0]
[{"$f":"ROW(Source!A300)","v":300},85316493,85316478,83870453,1,1,1,3,"14.4.01.09-0427","ФСБЦ-2022 доп.8, 14.4.01.09-0427, приказ Минстроя России от 14.11.2023 г. № 817/пр","Грунтовка эпоксидная антикоррозионная с содержанием цинка для защиты металлических поверхностей, расход 0,20-0,39 кг/м2",1346,null,1009,"кг","кг",1,null,null,null,null,null,null,2,911.56,0,0,0,0,1,0,"",2,2,85316485,603,0,0,0,0,0,0,0,0]
[{"$f":"ROW(Source!A300)","v":300},85316494,85316478,83783523,117,1,1,3,"421/пр_2020_п.75_пп.а","","Сметная стоимость вспомогательных ненормируемых материальных ресурсов, не учтенная в сметной норме, 2%",3277935,null,1013,"%","%",1,null,null,null,null,null,null,2,0,0,0,0,0,0,0,"",2,2,85316486,604,0,0,0,0,0,0,0,0]
[{"$f":"ROW(Source!A304)","v":304},85316507,85316497,83777513,117,1,1,1,"1-100-38","","Средний разряд работы 3,8",1191,null,1013,"чел.-ч.","чел.-ч.",1,null,null,null,null,null,null,18.5,0,0,0,793.61,0,1,1,"*(0,2+1)",22.2,2,85316498,605,0,0,0,0,0,0,0,0]
[{"$f":"ROW(Source!A304)","v":304},85316508,85316497,83777689,117,1,1,1,"4-100-00","","Затраты труда машинистов",1191,null,1013,"чел.-ч.","чел.-ч.",1,null,null,null,null,null,null,0.34,0,0,0,0,0,1,2,"*(0,2+1)",0.40800000000000003,2,85316499,606,0,0,0,0,0,0,0,0]
[{"$f":"ROW(Source!A304)","v":304},85316509,85316497,83784178,1,1,1,2,"91.05.05-015","ФСЭМ-2022, 91.05.05-015, приказ Минстроя России от 18.05.2022 г. № 378/пр","Краны на автомобильном ходу, грузоподъемность 16 т",1368,null,1011,"маш.-ч","маш.-ч",1,null,null,null,null,null,null,0.17,0,1626.29,1090.46,0,0,1,0,"*(0,2+1)",0.20400000000000001,2,85316500,607,0,0,0,0,0,0,0,0]
[{"$f":"ROW(Source!A304)","v":304},85316510,85316497,83785072,1,1,1,2,"91.14.02-001","ФСЭМ-2022 доп.7, 91.14.02-001, приказ Минстроя России от 02.08.2023 г. № 551/пр","Автомобили бортовые, грузоподъемность до 5 т",1368,null,1011,"маш.-ч","маш.-ч",1,null,null,null,null,null,null,0.17,0,641.70000000000005,811.79,0,0,1,0,"*(0,2+1)",0.20400000000000001,2,85316501,608,0,0,0,0,0,0,0,0]
[{"$f":"ROW(Source!A304)","v":304},85316511,85316497,83785268,1,1,1,2,"91.17.04-233","ФСЭМ-2022, 91.17.04-233, приказ Минстроя России от 18.05.2022 г. № 378/пр","Аппараты сварочные для ручной дуговой сварки, сварочный ток до 350 А",1368,null,1011,"маш.-ч","маш.-ч",1,null,null,null,null,null,null,2.9,0,34.61,0,0,0,1,0,"*(0,2+1)",3.48,2,85316502,609,0,0,0,0,0,0,0,0]
[{"$f":"ROW(Source!A304)","v":304},85316512,85316497,83852582,1,1,1,3,"01.7.11.07-0227","ФСБЦ-2022, 01.7.11.07-0227, приказ Минстроя России от 18.05.2022 г. № 378/пр","Электроды сварочные для сварки низколегированных и углеродистых сталей УОНИ 13/45, Э42А, диаметр 4-5 мм",1346,null,1009,"кг","кг",1,null,null,null,null,null,null,0.9,155.63,0,0,0,0,1,0,"",0.9,2,85316503,610,0,0,0,0,0,0,0,0]
[{"$f":"ROW(Source!A304)","v":304},85316513,85316497,83860653,1,1,1,3,"08.3.05.02-0021","ФСБЦ-2022, 08.3.05.02-0021, приказ Минстроя России от 18.05.2022 г. № 378/пр","Прокат листовой горячекатаный, марки стали Ст3сп, Ст3пс, ширина 1200-3000 мм, толщина 1-8 мм",1348,null,1009,"т","т",1000,null,null,null,null,null,null,4.0000000000000001E-3,49995.77,0,0,0,0,1,0,"",4.0000000000000001E-3,2,85316504,611,0,0,0,0,0,0,0,0]
[{"$f":"ROW(Source!A304)","v":304},85316514,85316497,83870453,1,1,1,3,"14.4.01.09-0427","ФСБЦ-2022 доп.8, 14.4.01.09-0427, приказ Минстроя России от 14.11.2023 г. № 817/пр","Грунтовка эпоксидная антикоррозионная с содержанием цинка для защиты металлических поверхностей, расход 0,20-0,39 кг/м2",1346,null,1009,"кг","кг",1,null,null,null,null,null,null,2.4,911.56,0,0,0,0,1,0,"",2.4,2,85316505,612,0,0,0,0,0,0,0,0]
[{"$f":"ROW(Source!A304)","v":304},85316515,85316497,83783523,117,1,1,3,"421/пр_2020_п.75_пп.а","","Сметная стоимость вспомогательных ненормируемых материальных ресурсов, не учтенная в сметной норме, 2%",3277935,null,1013,"%","%",1,null,null,null,null,null,null,2,0,0,0,0,0,0,0,"",2,2,85316506,613,0,0,0,0,0,0,0,0]
[{"$f":"ROW(Source!A305)","v":305},85316507,85316497,83777513,117,1,1,1,"1-100-38","","Средний разряд работы 3,8",1191,null,1013,"чел.-ч.","чел.-ч.",1,null,null,null,null,null,null,18.5,0,0,0,793.61,0,1,1,"*(0,2+1)",22.2,2,85316498,614,0,0,0,0,0,0,0,0]
[{"$f":"ROW(Source!A305)","v":305},85316508,85316497,83777689,117,1,1,1,"4-100-00","","Затраты труда машинистов",1191,null,1013,"чел.-ч.","чел.-ч.",1,null,null,null,null,null,null,0.34,0,0,0,0,0,1,2,"*(0,2+1)",0.40800000000000003,2,85316499,615,0,0,0,0,0,0,0,0]
[{"$f":"ROW(Source!A305)","v":305},85316509,85316497,83784178,1,1,1,2,"91.05.05-015","ФСЭМ-2022, 91.05.05-015, приказ Минстроя России от 18.05.2022 г. № 378/пр","Краны на автомобильном ходу, грузоподъемность 16 т",1368,null,1011,"маш.-ч","маш.-ч",1,null,null,null,null,null,null,0.17,0,1626.29,1090.46,0,0,1,0,"*(0,2+1)",0.20400000000000001,2,85316500,616,0,0,0,0,0,0,0,0]
[{"$f":"ROW(Source!A305)","v":305},85316510,85316497,83785072,1,1,1,2,"91.14.02-001","ФСЭМ-2022 доп.7, 91.14.02-001, приказ Минстроя России от 02.08.2023 г. № 551/пр","Автомобили бортовые, грузоподъемность до 5 т",1368,null,1011,"маш.-ч","маш.-ч",1,null,null,null,null,null,null,0.17,0,641.70000000000005,811.79,0,0,1,0,"*(0,2+1)",0.20400000000000001,2,85316501,617,0,0,0,0,0,0,0,0]
[{"$f":"ROW(Source!A305)","v":305},85316511,85316497,83785268,1,1,1,2,"91.17.04-233","ФСЭМ-2022, 91.17.04-233, приказ Минстроя России от 18.05.2022 г. № 378/пр","Аппараты сварочные для ручной дуговой сварки, сварочный ток до 350 А",1368,null,1011,"маш.-ч","маш.-ч",1,null,null,null,null,null,null,2.9,0,34.61,0,0,0,1,0,"*(0,2+1)",3.48,2,85316502,618,0,0,0,0,0,0,0,0]
[{"$f":"ROW(Source!A305)","v":305},85316512,85316497,83852582,1,1,1,3,"01.7.11.07-0227","ФСБЦ-2022, 01.7.11.07-0227, приказ Минстроя России от 18.05.2022 г. № 378/пр","Электроды сварочные для сварки низколегированных и углеродистых сталей УОНИ 13/45, Э42А, диаметр 4-5 мм",1346,null,1009,"кг","кг",1,null,null,null,null,null,null,0.9,155.63,0,0,0,0,1,0,"",0.9,2,85316503,619,0,0,0,0,0,0,0,0]
[{"$f":"ROW(Source!A305)","v":305},85316513,85316497,83860653,1,1,1,3,"08.3.05.02-0021","ФСБЦ-2022, 08.3.05.02-0021, приказ Минстроя России от 18.05.2022 г. № 378/пр","Прокат листовой горячекатаный, марки стали Ст3сп, Ст3пс, ширина 1200-3000 мм, толщина 1-8 мм",1348,null,1009,"т","т",1000,null,null,null,null,null,null,4.0000000000000001E-3,49995.77,0,0,0,0,1,0,"",4.0000000000000001E-3,2,85316504,620,0,0,0,0,0,0,0,0]
[{"$f":"ROW(Source!A305)","v":305},85316514,85316497,83870453,1,1,1,3,"14.4.01.09-0427","ФСБЦ-2022 доп.8, 14.4.01.09-0427, приказ Минстроя России от 14.11.2023 г. № 817/пр","Грунтовка эпоксидная антикоррозионная с содержанием цинка для защиты металлических поверхностей, расход 0,20-0,39 кг/м2",1346,null,1009,"кг","кг",1,null,null,null,null,null,null,2.4,911.56,0,0,0,0,1,0,"",2.4,2,85316505,621,0,0,0,0,0,0,0,0]
[{"$f":"ROW(Source!A305)","v":305},85316515,85316497,83783523,117,1,1,3,"421/пр_2020_п.75_пп.а","","Сметная стоимость вспомогательных ненормируемых материальных ресурсов, не учтенная в сметной норме, 2%",3277935,null,1013,"%","%",1,null,null,null,null,null,null,2,0,0,0,0,0,0,0,"",2,2,85316506,622,0,0,0,0,0,0,0,0]
[{"$f":"ROW(Source!A311)","v":311},85316529,85316519,83777519,117,1,1,1,"1-100-40","","Средний разряд работы 4,0",1191,null,1013,"чел.-ч.","чел.-ч.",1,null,null,null,null,null,null,41.2,0,0,0,811.79,0,1,1,"",41.2,2,85316520,623,0,0,0,0,0,0,0,0]
[{"$f":"ROW(Source!A311)","v":311},85316530,85316519,83777689,117,1,1,1,"4-100-00","","Затраты труда машинистов",1191,null,1013,"чел.-ч.","чел.-ч.",1,null,null,null,null,null,null,0.2,0,0,0,0,0,1,2,"",0.2,2,85316521,624,0,0,0,0,0,0,0,0]
[{"$f":"ROW(Source!A311)","v":311},85316531,85316519,83784178,1,1,1,2,"91.05.05-015","ФСЭМ-2022, 91.05.05-015, приказ Минстроя России от 18.05.2022 г. № 378/пр","Краны на автомобильном ходу, грузоподъемность 16 т",1368,null,1011,"маш.-ч","маш.-ч",1,null,null,null,null,null,null,0.1,0,1626.29,1090.46,0,0,1,0,"",0.1,2,85316522,625,0,0,0,0,0,0,0,0]
[{"$f":"ROW(Source!A311)","v":311},85316532,85316519,83785072,1,1,1,2,"91.14.02-001","ФСЭМ-2022 доп.7, 91.14.02-001, приказ Минстроя России от 02.08.2023 г. № 551/пр","Автомобили бортовые, грузоподъемность до 5 т",1368,null,1011,"маш.-ч","маш.-ч",1,null,null,null,null,null,null,0.1,0,641.70000000000005,811.79,0,0,1,0,"",0.1,2,85316523,626,0,0,0,0,0,0,0,0]
[{"$f":"ROW(Source!A311)","v":311},85316533,85316519,83785268,1,1,1,2,"91.17.04-233","ФСЭМ-2022, 91.17.04-233, приказ Минстроя России от 18.05.2022 г. № 378/пр","Аппараты сварочные для ручной дуговой сварки, сварочный ток до 350 А",1368,null,1011,"маш.-ч","маш.-ч",1,null,null,null,null,null,null,0.16,0,34.61,0,0,0,1,0,"",0.16,2,85316524,627,0,0,0,0,0,0,0,0]
[{"$f":"ROW(Source!A311)","v":311},85316534,85316519,83860728,1,1,1,3,"08.3.07.01-0052","ФСБЦ-2022 доп.4, 08.3.07.01-0052, приказ Минстроя России от 27.12.2022 г. № 1133/пр","Прокат стальной горячекатаный полосовой, марки стали Ст3сп, Ст3пс, размеры 50х5 мм",1348,null,1009,"т","т",1000,null,null,null,null,null,null,3.0000000000000001E-3,70310.45,0,0,0,0,1,0,"",3.0000000000000001E-3,2,85316525,628,0,0,0,0,0,0,0,0]
[{"$f":"ROW(Source!A311)","v":311},85316535,85316519,83870516,1,1,1,3,"14.4.02.04-0142","ФСБЦ-2022, 14.4.02.04-0142, приказ Минстроя России от 18.05.2022 г. № 378/пр","Краска масляная МА-0115, мумия, сурик железный",1346,null,1009,"кг","кг",1,null,null,null,null,null,null,0.8,79.88,0,0,0,0,1,0,"",0.8,2,85316526,629,0,0,0,0,0,0,0,0]
[{"$f":"ROW(Source!A311)","v":311},85316536,85316519,83881219,1,1,1,3,"20.5.04.03-0002","ФСБЦ-2022, 20.5.04.03-0002, приказ Минстроя России от 18.05.2022 г. № 378/пр","Зажимы наборные проходные ЗН24-4П25",1425,null,1013,"100 ШТ","100 ШТ",1,null,null,null,null,null,null,1.02,896.51,0,0,0,0,1,0,"",1.02,2,85316527,630,0,0,0,0,0,0,0,0]
[{"$f":"ROW(Source!A311)","v":311},85316537,85316519,83783523,117,1,1,3,"421/пр_2020_п.75_пп.а","","Сметная стоимость вспомогательных ненормируемых материальных ресурсов, не учтенная в сметной норме, 2%",3277935,null,1013,"%","%",1,null,null,null,null,null,null,2,0,0,0,0,0,0,0,"",2,2,85316528,631,0,0,0,0,0,0,0,0]
[{"$f":"ROW(Source!A312)","v":312},85316529,85316519,83777519,117,1,1,1,"1-100-40","","Средний разряд работы 4,0",1191,null,1013,"чел.-ч.","чел.-ч.",1,null,null,null,null,null,null,41.2,0,0,0,811.79,0,1,1,"",41.2,2,85316520,632,0,0,0,0,0,0,0,0]
[{"$f":"ROW(Source!A312)","v":312},85316530,85316519,83777689,117,1,1,1,"4-100-00","","Затраты труда машинистов",1191,null,1013,"чел.-ч.","чел.-ч.",1,null,null,null,null,null,null,0.2,0,0,0,0,0,1,2,"",0.2,2,85316521,633,0,0,0,0,0,0,0,0]
[{"$f":"ROW(Source!A312)","v":312},85316531,85316519,83784178,1,1,1,2,"91.05.05-015","ФСЭМ-2022, 91.05.05-015, приказ Минстроя России от 18.05.2022 г. № 378/пр","Краны на автомобильном ходу, грузоподъемность 16 т",1368,null,1011,"маш.-ч","маш.-ч",1,null,null,null,null,null,null,0.1,0,1626.29,1090.46,0,0,1,0,"",0.1,2,85316522,634,0,0,0,0,0,0,0,0]
[{"$f":"ROW(Source!A312)","v":312},85316532,85316519,83785072,1,1,1,2,"91.14.02-001","ФСЭМ-2022 доп.7, 91.14.02-001, приказ Минстроя России от 02.08.2023 г. № 551/пр","Автомобили бортовые, грузоподъемность до 5 т",1368,null,1011,"маш.-ч","маш.-ч",1,null,null,null,null,null,null,0.1,0,641.70000000000005,811.79,0,0,1,0,"",0.1,2,85316523,635,0,0,0,0,0,0,0,0]
[{"$f":"ROW(Source!A312)","v":312},85316533,85316519,83785268,1,1,1,2,"91.17.04-233","ФСЭМ-2022, 91.17.04-233, приказ Минстроя России от 18.05.2022 г. № 378/пр","Аппараты сварочные для ручной дуговой сварки, сварочный ток до 350 А",1368,null,1011,"маш.-ч","маш.-ч",1,null,null,null,null,null,null,0.16,0,34.61,0,0,0,1,0,"",0.16,2,85316524,636,0,0,0,0,0,0,0,0]
[{"$f":"ROW(Source!A312)","v":312},85316534,85316519,83860728,1,1,1,3,"08.3.07.01-0052","ФСБЦ-2022 доп.4, 08.3.07.01-0052, приказ Минстроя России от 27.12.2022 г. № 1133/пр","Прокат стальной горячекатаный полосовой, марки стали Ст3сп, Ст3пс, размеры 50х5 мм",1348,null,1009,"т","т",1000,null,null,null,null,null,null,3.0000000000000001E-3,70310.45,0,0,0,0,1,0,"",3.0000000000000001E-3,2,85316525,637,0,0,0,0,0,0,0,0]
[{"$f":"ROW(Source!A312)","v":312},85316535,85316519,83870516,1,1,1,3,"14.4.02.04-0142","ФСБЦ-2022, 14.4.02.04-0142, приказ Минстроя России от 18.05.2022 г. № 378/пр","Краска масляная МА-0115, мумия, сурик железный",1346,null,1009,"кг","кг",1,null,null,null,null,null,null,0.8,79.88,0,0,0,0,1,0,"",0.8,2,85316526,638,0,0,0,0,0,0,0,0]
[{"$f":"ROW(Source!A312)","v":312},85316536,85316519,83881219,1,1,1,3,"20.5.04.03-0002","ФСБЦ-2022, 20.5.04.03-0002, приказ Минстроя России от 18.05.2022 г. № 378/пр","Зажимы наборные проходные ЗН24-4П25",1425,null,1013,"100 ШТ","100 ШТ",1,null,null,null,null,null,null,1.02,896.51,0,0,0,0,1,0,"",1.02,2,85316527,639,0,0,0,0,0,0,0,0]
[{"$f":"ROW(Source!A312)","v":312},85316537,85316519,83783523,117,1,1,3,"421/пр_2020_п.75_пп.а","","Сметная стоимость вспомогательных ненормируемых материальных ресурсов, не учтенная в сметной норме, 2%",3277935,null,1013,"%","%",1,null,null,null,null,null,null,2,0,0,0,0,0,0,0,"",2,2,85316528,640,0,0,0,0,0,0,0,0]
[{"$f":"ROW(Source!A542)","v":542},85316586,85316583,83777659,117,1,1,1,"2-100-06","","Рабочий 6 разряда",1369,null,1013,"чел.-ч","чел.-ч",1,null,null,null,null,null,null,0.5,0,0,0,1090.46,0,1,1,"*(0,2+1)",0.6,2,85316584,641,0,0,0,0,0,0,0,0]
[{"$f":"ROW(Source!A542)","v":542},85316587,85316583,83777683,117,1,1,1,"3-200-03","","Инженер III категории",1369,null,1013,"чел.-ч","чел.-ч",1,null,null,null,null,null,null,0.5,0,0,0,1066.23,0,1,1,"*(0,2+1)",0.6,2,85316585,642,0,0,0,0,0,0,0,0]
[{"$f":"ROW(Source!A543)","v":543},85316586,85316583,83777659,117,1,1,1,"2-100-06","","Рабочий 6 разряда",1369,null,1013,"чел.-ч","чел.-ч",1,null,null,null,null,null,null,0.5,0,0,0,1090.46,0,1,1,"*(0,2+1)",0.6,2,85316584,643,0,0,0,0,0,0,0,0]
[{"$f":"ROW(Source!A543)","v":543},85316587,85316583,83777683,117,1,1,1,"3-200-03","","Инженер III категории",1369,null,1013,"чел.-ч","чел.-ч",1,null,null,null,null,null,null,0.5,0,0,0,1066.23,0,1,1,"*(0,2+1)",0.6,2,85316585,644,0,0,0,0,0,0,0,0]
[{"$f":"ROW(Source!A545)","v":545},85316592,85316589,83777659,117,1,1,1,"2-100-06","","Рабочий 6 разряда",1369,null,1013,"чел.-ч","чел.-ч",1,null,null,null,null,null,null,6.48,0,0,0,1090.46,0,1,1,"*(0,2+1)",7.7759999999999998,2,85316590,645,0,0,0,0,0,0,0,0]
[{"$f":"ROW(Source!A545)","v":545},85316593,85316589,83777683,117,1,1,1,"3-200-03","","Инженер III категории",1369,null,1013,"чел.-ч","чел.-ч",1,null,null,null,null,null,null,6.48,0,0,0,1066.23,0,1,1,"*(0,2+1)",7.7759999999999998,2,85316591,646,0,0,0,0,0,0,0,0]
[{"$f":"ROW(Source!A546)","v":546},85316592,85316589,83777659,117,1,1,1,"2-100-06","","Рабочий 6 разряда",1369,null,1013,"чел.-ч","чел.-ч",1,null,null,null,null,null,null,6.48,0,0,0,1090.46,0,1,1,"*(0,2+1)",7.7759999999999998,2,85316590,647,0,0,0,0,0,0,0,0]
[{"$f":"ROW(Source!A546)","v":546},85316593,85316589,83777683,117,1,1,1,"3-200-03","","Инженер III категории",1369,null,1013,"чел.-ч","чел.-ч",1,null,null,null,null,null,null,6.48,0,0,0,1066.23,0,1,1,"*(0,2+1)",7.7759999999999998,2,85316591,648,0,0,0,0,0,0,0,0]
[{"$f":"ROW(Source!A548)","v":548},85316598,85316595,77306515,114,1,1,1,"2-100-06","","Рабочий 6 разряда",1369,null,1013,"чел.-ч","чел.-ч",1,null,null,null,null,null,null,0.41,0,0,0,0,0,1,1,"*(0,2+1)",0.49199999999999994,2,85316596,649,0,0,0,0,0,0,0,0]
[{"$f":"ROW(Source!A548)","v":548},85316599,85316595,77306539,114,1,1,1,"3-200-03","","Инженер III категории",1369,null,1013,"чел.-ч","чел.-ч",1,null,null,null,null,null,null,0.41,0,0,0,0,0,1,1,"*(0,2+1)",0.49199999999999994,2,85316597,650,0,0,0,0,0,0,0,0]
[{"$f":"ROW(Source!A549)","v":549},85316598,85316595,77306515,114,1,1,1,"2-100-06","","Рабочий 6 разряда",1369,null,1013,"чел.-ч","чел.-ч",1,null,null,null,null,null,null,0.41,0,0,0,0,0,1,1,"*(0,2+1)",0.49199999999999994,2,85316596,651,0,0,0,0,0,0,0,0]
[{"$f":"ROW(Source!A549)","v":549},85316599,85316595,77306539,114,1,1,1,"3-200-03","","Инженер III категории",1369,null,1013,"чел.-ч","чел.-ч",1,null,null,null,null,null,null,0.41,0,0,0,0,0,1,1,"*(0,2+1)",0.49199999999999994,2,85316597,652,0,0,0,0,0,0,0,0]
[{"$f":"ROW(Source!A551)","v":551},85316604,85316601,77306515,114,1,1,1,"2-100-06","","Рабочий 6 разряда",1369,null,1013,"чел.-ч","чел.-ч",1,null,null,null,null,null,null,1.62,0,0,0,0,0,1,1,"*(0,2+1)",1.944,2,85316602,653,0,0,0,0,0,0,0,0]
[{"$f":"ROW(Source!A551)","v":551},85316605,85316601,77306539,114,1,1,1,"3-200-03","","Инженер III категории",1369,null,1013,"чел.-ч","чел.-ч",1,null,null,null,null,null,null,1.62,0,0,0,0,0,1,1,"*(0,2+1)",1.944,2,85316603,654,0,0,0,0,0,0,0,0]
[{"$f":"ROW(Source!A552)","v":552},85316604,85316601,77306515,114,1,1,1,"2-100-06","","Рабочий 6 разряда",1369,null,1013,"чел.-ч","чел.-ч",1,null,null,null,null,null,null,1.62,0,0,0,0,0,1,1,"*(0,2+1)",1.944,2,85316602,655,0,0,0,0,0,0,0,0]
[{"$f":"ROW(Source!A552)","v":552},85316605,85316601,77306539,114,1,1,1,"3-200-03","","Инженер III категории",1369,null,1013,"чел.-ч","чел.-ч",1,null,null,null,null,null,null,1.62,0,0,0,0,0,1,1,"*(0,2+1)",1.944,2,85316603,656,0,0,0,0,0,0,0,0]
[{"$f":"ROW(Source!A554)","v":554},85316610,85316607,77306511,114,1,1,1,"2-100-04","","Рабочий 4 разряда",1369,null,1013,"чел.-ч","чел.-ч",1,null,null,null,null,null,null,1.35,0,0,0,0,0,1,1,"*(0,2+1)",1.62,2,85316608,657,0,0,0,0,0,0,0,0]
[{"$f":"ROW(Source!A554)","v":554},85316611,85316607,77306529,114,1,1,1,"3-100-02","","Техник II категории",1369,null,1013,"чел.-ч","чел.-ч",1,null,null,null,null,null,null,1.35,0,0,0,0,0,1,1,"*(0,2+1)",1.62,2,85316609,658,0,0,0,0,0,0,0,0]
[{"$f":"ROW(Source!A555)","v":555},85316610,85316607,77306511,114,1,1,1,"2-100-04","","Рабочий 4 разряда",1369,null,1013,"чел.-ч","чел.-ч",1,null,null,null,null,null,null,1.35,0,0,0,0,0,1,1,"*(0,2+1)",1.62,2,85316608,659,0,0,0,0,0,0,0,0]
[{"$f":"ROW(Source!A555)","v":555},85316611,85316607,77306529,114,1,1,1,"3-100-02","","Техник II категории",1369,null,1013,"чел.-ч","чел.-ч",1,null,null,null,null,null,null,1.35,0,0,0,0,0,1,1,"*(0,2+1)",1.62,2,85316609,660,0,0,0,0,0,0,0,0]
[{"$f":"ROW(Source!A557)","v":557},85316616,85316613,77306515,114,1,1,1,"2-100-06","","Рабочий 6 разряда",1369,null,1013,"чел.-ч","чел.-ч",1,null,null,null,null,null,null,0.5,0,0,0,0,0,1,1,"*(0,2+1)",0.6,2,85316614,661,0,0,0,0,0,0,0,0]
[{"$f":"ROW(Source!A557)","v":557},85316617,85316613,77306539,114,1,1,1,"3-200-03","","Инженер III категории",1369,null,1013,"чел.-ч","чел.-ч",1,null,null,null,null,null,null,0.5,0,0,0,0,0,1,1,"*(0,2+1)",0.6,2,85316615,662,0,0,0,0,0,0,0,0]
[{"$f":"ROW(Source!A558)","v":558},85316616,85316613,77306515,114,1,1,1,"2-100-06","","Рабочий 6 разряда",1369,null,1013,"чел.-ч","чел.-ч",1,null,null,null,null,null,null,0.5,0,0,0,0,0,1,1,"*(0,2+1)",0.6,2,85316614,663,0,0,0,0,0,0,0,0]
[{"$f":"ROW(Source!A558)","v":558},85316617,85316613,77306539,114,1,1,1,"3-200-03","","Инженер III категории",1369,null,1013,"чел.-ч","чел.-ч",1,null,null,null,null,null,null,0.5,0,0,0,0,0,1,1,"*(0,2+1)",0.6,2,85316615,664,0,0,0,0,0,0,0,0]
[{"$f":"ROW(Source!A560)","v":560},85316622,85316619,77306515,114,1,1,1,"2-100-06","","Рабочий 6 разряда",1369,null,1013,"чел.-ч","чел.-ч",1,null,null,null,null,null,null,0.16,0,0,0,0,0,1,1,"*(0,2+1)",0.192,2,85316620,665,0,0,0,0,0,0,0,0]
[{"$f":"ROW(Source!A560)","v":560},85316623,85316619,77306539,114,1,1,1,"3-200-03","","Инженер III категории",1369,null,1013,"чел.-ч","чел.-ч",1,null,null,null,null,null,null,0.16,0,0,0,0,0,1,1,"*(0,2+1)",0.192,2,85316621,666,0,0,0,0,0,0,0,0]
[{"$f":"ROW(Source!A561)","v":561},85316622,85316619,77306515,114,1,1,1,"2-100-06","","Рабочий 6 разряда",1369,null,1013,"чел.-ч","чел.-ч",1,null,null,null,null,null,null,0.16,0,0,0,0,0,1,1,"*(0,2+1)",0.192,2,85316620,667,0,0,0,0,0,0,0,0]
[{"$f":"ROW(Source!A561)","v":561},85316623,85316619,77306539,114,1,1,1,"3-200-03","","Инженер III категории",1369,null,1013,"чел.-ч","чел.-ч",1,null,null,null,null,null,null,0.16,0,0,0,0,0,1,1,"*(0,2+1)",0.192,2,85316621,668,0,0,0,0,0,0,0,0]
[{"$f":"ROW(Source!A563)","v":563},85316628,85316625,77306511,114,1,1,1,"2-100-04","","Рабочий 4 разряда",1369,null,1013,"чел.-ч","чел.-ч",1,null,null,null,null,null,null,2.92,0,0,0,0,0,1,1,"*(0,2+1)",3.504,2,85316626,669,0,0,0,0,0,0,0,0]
[{"$f":"ROW(Source!A563)","v":563},85316629,85316625,77306539,114,1,1,1,"3-200-03","","Инженер III категории",1369,null,1013,"чел.-ч","чел.-ч",1,null,null,null,null,null,null,4.37,0,0,0,0,0,1,1,"*(0,2+1)",5.2439999999999998,2,85316627,670,0,0,0,0,0,0,0,0]
[{"$f":"ROW(Source!A564)","v":564},85316628,85316625,77306511,114,1,1,1,"2-100-04","","Рабочий 4 разряда",1369,null,1013,"чел.-ч","чел.-ч",1,null,null,null,null,null,null,2.92,0,0,0,0,0,1,1,"*(0,2+1)",3.504,2,85316626,671,0,0,0,0,0,0,0,0]
[{"$f":"ROW(Source!A564)","v":564},85316629,85316625,77306539,114,1,1,1,"3-200-03","","Инженер III категории",1369,null,1013,"чел.-ч","чел.-ч",1,null,null,null,null,null,null,4.37,0,0,0,0,0,1,1,"*(0,2+1)",5.2439999999999998,2,85316627,672,0,0,0,0,0,0,0,0]

{"sheet":"SrcPoprs","index":6,"n_rows":52,"n_cols":21,"rows_kept":52,"cut":false,"hidden":false,"merged":[]}
[40,1,"","","*1,20","*1,20","*1,20","","*1,20","*1,20","","","","","*1,20","","","","421/пр_2020_прил.10_т.1_п.4_гр.5","Производство работ осуществляется в охранной зоне действующей воздушной линии электропередачи, вблизи объектов, находящихся под напряжением, внутри объектов капитального строительства, внутренняя проводка в которых не обесточена, если это приведет к ограничению действий рабочих в соответствии с требованиями техники безопасности","Методика 421/пр (Строительство)"]
[41,1,"","","*1,20","*1,20","*1,20","","*1,20","*1,20","","","","","*1,20","","","","421/пр_2020_прил.10_т.1_п.4_гр.5","Производство работ осуществляется в охранной зоне действующей воздушной линии электропередачи, вблизи объектов, находящихся под напряжением, внутри объектов капитального строительства, внутренняя проводка в которых не обесточена, если это приведет к ограничению действий рабочих в соответствии с требованиями техники безопасности","Методика 421/пр (Строительство)"]
[46,1,"","","*1,20","*1,20","*1,20","","*1,20","*1,20","","","","","*1,20","","","","421/пр_2020_прил.10_т.1_п.4_гр.5","Производство работ осуществляется в охранной зоне действующей воздушной линии электропередачи, вблизи объектов, находящихся под напряжением, внутри объектов капитального строительства, внутренняя проводка в которых не обесточена, если это приведет к ограничению действий рабочих в соответствии с требованиями техники безопасности","Методика 421/пр (Строительство)"]
[47,1,"","","*1,20","*1,20","*1,20","","*1,20","*1,20","","","","","*1,20","","","","421/пр_2020_прил.10_т.1_п.4_гр.5","Производство работ осуществляется в охранной зоне действующей воздушной линии электропередачи, вблизи объектов, находящихся под напряжением, внутри объектов капитального строительства, внутренняя проводка в которых не обесточена, если это приведет к ограничению действий рабочих в соответствии с требованиями техники безопасности","Методика 421/пр (Строительство)"]
[49,1,"","","*1,20","*1,20","*1,20","","*1,20","*1,20","","","","","*1,20","","","","421/пр_2020_прил.10_т.1_п.4_гр.5","Производство работ осуществляется в охранной зоне действующей воздушной линии электропередачи, вблизи объектов, находящихся под напряжением, внутри объектов капитального строительства, внутренняя проводка в которых не обесточена, если это приведет к ограничению действий рабочих в соответствии с требованиями техники безопасности","Методика 421/пр (Строительство)"]
[50,1,"","","*1,20","*1,20","*1,20","","*1,20","*1,20","","","","","*1,20","","","","421/пр_2020_прил.10_т.1_п.4_гр.5","Производство работ осуществляется в охранной зоне действующей воздушной линии электропередачи, вблизи объектов, находящихся под напряжением, внутри объектов капитального строительства, внутренняя проводка в которых не обесточена, если это приведет к ограничению действий рабочих в соответствии с требованиями техники безопасности","Методика 421/пр (Строительство)"]
[52,1,"","","*1,20","*1,20","*1,20","","*1,20","*1,20","","","","","*1,20","","","","421/пр_2020_прил.10_т.1_п.4_гр.5","Производство работ осуществляется в охранной зоне действующей воздушной линии электропередачи, вблизи объектов, находящихся под напряжением, внутри объектов капитального строительства, внутренняя проводка в которых не обесточена, если это приведет к ограничению действий рабочих в соответствии с требованиями техники безопасности","Методика 421/пр (Строительство)"]
[53,1,"","","*1,20","*1,20","*1,20","","*1,20","*1,20","","","","","*1,20","","","","421/пр_2020_прил.10_т.1_п.4_гр.5","Производство работ осуществляется в охранной зоне действующей воздушной линии электропередачи, вблизи объектов, находящихся под напряжением, внутри объектов капитального строительства, внутренняя проводка в которых не обесточена, если это приведет к ограничению действий рабочих в соответствии с требованиями техники безопасности","Методика 421/пр (Строительство)"]
[115,1,"","","*1,20","*1,20","*1,20","","*1,20","*1,20","","","","","*1,20","","","","421/пр_2020_прил.10_т.1_п.4_гр.5","Производство работ осуществляется в охранной зоне действующей воздушной линии электропередачи, вблизи объектов, находящихся под напряжением, внутри объектов капитального строительства, внутренняя проводка в которых не обесточена, если это приведет к ограничению действий рабочих в соответствии с требованиями техники безопасности","Методика 421/пр (Строительство)"]
[116,1,"","","*1,20","*1,20","*1,20","","*1,20","*1,20","","","","","*1,20","","","","421/пр_2020_прил.10_т.1_п.4_гр.5","Производство работ осуществляется в охранной зоне действующей воздушной линии электропередачи, вблизи объектов, находящихся под напряжением, внутри объектов капитального строительства, внутренняя проводка в которых не обесточена, если это приведет к ограничению действий рабочих в соответствии с требованиями техники безопасности","Методика 421/пр (Строительство)"]
[160,1,"","","*1,20","*1,20","*1,20","","*1,20","*1,20","","","","","*1,20","","","","421/пр_2020_прил.10_т.1_п.4_гр.5","Производство работ осуществляется в охранной зоне действующей воздушной линии электропередачи, вблизи объектов, находящихся под напряжением, внутри объектов капитального строительства, внутренняя проводка в которых не обесточена, если это приведет к ограничению действий рабочих в соответствии с требованиями техники безопасности","Методика 421/пр (Строительство)"]
[161,1,"","","*1,20","*1,20","*1,20","","*1,20","*1,20","","","","","*1,20","","","","421/пр_2020_прил.10_т.1_п.4_гр.5","Производство работ осуществляется в охранной зоне действующей воздушной линии электропередачи, вблизи объектов, находящихся под напряжением, внутри объектов капитального строительства, внутренняя проводка в которых не обесточена, если это приведет к ограничению действий рабочих в соответствии с требованиями техники безопасности","Методика 421/пр (Строительство)"]
[165,1,"","","*1,20","*1,20","*1,20","","*1,20","*1,20","","","","","*1,20","","","","421/пр_2020_прил.10_т.1_п.4_гр.5","Производство работ осуществляется в охранной зоне действующей воздушной линии электропередачи, вблизи объектов, находящихся под напряжением, внутри объектов капитального строительства, внутренняя проводка в которых не обесточена, если это приведет к ограничению действий рабочих в соответствии с требованиями техники безопасности","Методика 421/пр (Строительство)"]
[166,1,"","","*1,20","*1,20","*1,20","","*1,20","*1,20","","","","","*1,20","","","","421/пр_2020_прил.10_т.1_п.4_гр.5","Производство работ осуществляется в охранной зоне действующей воздушной линии электропередачи, вблизи объектов, находящихся под напряжением, внутри объектов капитального строительства, внутренняя проводка в которых не обесточена, если это приведет к ограничению действий рабочих в соответствии с требованиями техники безопасности","Методика 421/пр (Строительство)"]
[170,1,"","","*1,20","*1,20","*1,20","","*1,20","*1,20","","","","","*1,20","","","","421/пр_2020_прил.10_т.1_п.4_гр.5","Производство работ осуществляется в охранной зоне действующей воздушной линии электропередачи, вблизи объектов, находящихся под напряжением, внутри объектов капитального строительства, внутренняя проводка в которых не обесточена, если это приведет к ограничению действий рабочих в соответствии с требованиями техники безопасности","Методика 421/пр (Строительство)"]
[171,1,"","","*1,20","*1,20","*1,20","","*1,20","*1,20","","","","","*1,20","","","","421/пр_2020_прил.10_т.1_п.4_гр.5","Производство работ осуществляется в охранной зоне действующей воздушной линии электропередачи, вблизи объектов, находящихся под напряжением, внутри объектов капитального строительства, внутренняя проводка в которых не обесточена, если это приведет к ограничению действий рабочих в соответствии с требованиями техники безопасности","Методика 421/пр (Строительство)"]
[175,1,"","","*1,20","*1,20","*1,20","","*1,20","*1,20","","","","","*1,20","","","","421/пр_2020_прил.10_т.1_п.4_гр.5","Производство работ осуществляется в охранной зоне действующей воздушной линии электропередачи, вблизи объектов, находящихся под напряжением, внутри объектов капитального строительства, внутренняя проводка в которых не обесточена, если это приведет к ограничению действий рабочих в соответствии с требованиями техники безопасности","Методика 421/пр (Строительство)"]
[176,1,"","","*1,20","*1,20","*1,20","","*1,20","*1,20","","","","","*1,20","","","","421/пр_2020_прил.10_т.1_п.4_гр.5","Производство работ осуществляется в охранной зоне действующей воздушной линии электропередачи, вблизи объектов, находящихся под напряжением, внутри объектов капитального строительства, внутренняя проводка в которых не обесточена, если это приведет к ограничению действий рабочих в соответствии с требованиями техники безопасности","Методика 421/пр (Строительство)"]
[184,1,"","","*1,20","*1,20","*1,20","","*1,20","*1,20","","","","","*1,20","","","","421/пр_2020_прил.10_т.1_п.4_гр.5","Производство работ осуществляется в охранной зоне действующей воздушной линии электропередачи, вблизи объектов, находящихся под напряжением, внутри объектов капитального строительства, внутренняя проводка в которых не обесточена, если это приведет к ограничению действий рабочих в соответствии с требованиями техники безопасности","Методика 421/пр (Строительство)"]
[185,1,"","","*1,20","*1,20","*1,20","","*1,20","*1,20","","","","","*1,20","","","","421/пр_2020_прил.10_т.1_п.4_гр.5","Производство работ осуществляется в охранной зоне действующей воздушной линии электропередачи, вблизи объектов, находящихся под напряжением, внутри объектов капитального строительства, внутренняя проводка в которых не обесточена, если это приведет к ограничению действий рабочих в соответствии с требованиями техники безопасности","Методика 421/пр (Строительство)"]
[191,1,"","","*1,20","*1,20","*1,20","","*1,20","*1,20","","","","","*1,20","","","","421/пр_2020_прил.10_т.1_п.4_гр.5","Производство работ осуществляется в охранной зоне действующей воздушной линии электропередачи, вблизи объектов, находящихся под напряжением, внутри объектов капитального строительства, внутренняя проводка в которых не обесточена, если это приведет к ограничению действий рабочих в соответствии с требованиями техники безопасности","Методика 421/пр (Строительство)"]
[192,1,"","","*1,20","*1,20","*1,20","","*1,20","*1,20","","","","","*1,20","","","","421/пр_2020_прил.10_т.1_п.4_гр.5","Производство работ осуществляется в охранной зоне действующей воздушной линии электропередачи, вблизи объектов, находящихся под напряжением, внутри объектов капитального строительства, внутренняя проводка в которых не обесточена, если это приведет к ограничению действий рабочих в соответствии с требованиями техники безопасности","Методика 421/пр (Строительство)"]
[211,1,"","","*1,20","*1,20","*1,20","","*1,20","*1,20","","","","","*1,20","","","","421/пр_2020_прил.10_т.1_п.4_гр.5","Производство работ осуществляется в охранной зоне действующей воздушной линии электропередачи, вблизи объектов, находящихся под напряжением, внутри объектов капитального строительства, внутренняя проводка в которых не обесточена, если это приведет к ограничению действий рабочих в соответствии с требованиями техники безопасности","Методика 421/пр (Строительство)"]
[212,1,"","","*1,20","*1,20","*1,20","","*1,20","*1,20","","","","","*1,20","","","","421/пр_2020_прил.10_т.1_п.4_гр.5","Производство работ осуществляется в охранной зоне действующей воздушной линии электропередачи, вблизи объектов, находящихся под напряжением, внутри объектов капитального строительства, внутренняя проводка в которых не обесточена, если это приведет к ограничению действий рабочих в соответствии с требованиями техники безопасности","Методика 421/пр (Строительство)"]
[246,1,"","","*1,20","*1,20","*1,20","","*1,20","*1,20","","","","","*1,20","","","","421/пр_2020_прил.10_т.1_п.4_гр.5","Производство работ осуществляется в охранной зоне действующей воздушной линии электропередачи, вблизи объектов, находящихся под напряжением, внутри объектов капитального строительства, внутренняя проводка в которых не обесточена, если это приведет к ограничению действий рабочих в соответствии с требованиями техники безопасности","Методика 421/пр (Строительство)"]
[247,1,"","","*1,20","*1,20","*1,20","","*1,20","*1,20","","","","","*1,20","","","","421/пр_2020_прил.10_т.1_п.4_гр.5","Производство работ осуществляется в охранной зоне действующей воздушной линии электропередачи, вблизи объектов, находящихся под напряжением, внутри объектов капитального строительства, внутренняя проводка в которых не обесточена, если это приведет к ограничению действий рабочих в соответствии с требованиями техники безопасности","Методика 421/пр (Строительство)"]
[288,1,"","","*1,20","*1,20","*1,20","","*1,20","*1,20","","","","","*1,20","","","","421/пр_2020_прил.10_т.1_п.4_гр.5","Производство работ осуществляется в охранной зоне действующей воздушной линии электропередачи, вблизи объектов, находящихся под напряжением, внутри объектов капитального строительства, внутренняя проводка в которых не обесточена, если это приведет к ограничению действий рабочих в соответствии с требованиями техники безопасности","Методика 421/пр (Строительство)"]
[289,1,"","","*1,20","*1,20","*1,20","","*1,20","*1,20","","","","","*1,20","","","","421/пр_2020_прил.10_т.1_п.4_гр.5","Производство работ осуществляется в охранной зоне действующей воздушной линии электропередачи, вблизи объектов, находящихся под напряжением, внутри объектов капитального строительства, внутренняя проводка в которых не обесточена, если это приведет к ограничению действий рабочих в соответствии с требованиями техники безопасности","Методика 421/пр (Строительство)"]
[290,1,"","","*1,20","*1,20","*1,20","","*1,20","*1,20","","","","","*1,20","","","","421/пр_2020_прил.10_т.1_п.4_гр.5","Производство работ осуществляется в охранной зоне действующей воздушной линии электропередачи, вблизи объектов, находящихся под напряжением, внутри объектов капитального строительства, внутренняя проводка в которых не обесточена, если это приведет к ограничению действий рабочих в соответствии с требованиями техники безопасности","Методика 421/пр (Строительство)"]
[291,1,"","","*1,20","*1,20","*1,20","","*1,20","*1,20","","","","","*1,20","","","","421/пр_2020_прил.10_т.1_п.4_гр.5","Производство работ осуществляется в охранной зоне действующей воздушной линии электропередачи, вблизи объектов, находящихся под напряжением, внутри объектов капитального строительства, внутренняя проводка в которых не обесточена, если это приведет к ограничению действий рабочих в соответствии с требованиями техники безопасности","Методика 421/пр (Строительство)"]
[292,1,"","","*1,20","*1,20","*1,20","","*1,20","*1,20","","","","","*1,20","","","","421/пр_2020_прил.10_т.1_п.4_гр.5","Производство работ осуществляется в охранной зоне действующей воздушной линии электропередачи, вблизи объектов, находящихся под напряжением, внутри объектов капитального строительства, внутренняя проводка в которых не обесточена, если это приведет к ограничению действий рабочих в соответствии с требованиями техники безопасности","Методика 421/пр (Строительство)"]
[293,1,"","","*1,20","*1,20","*1,20","","*1,20","*1,20","","","","","*1,20","","","","421/пр_2020_прил.10_т.1_п.4_гр.5","Производство работ осуществляется в охранной зоне действующей воздушной линии электропередачи, вблизи объектов, находящихся под напряжением, внутри объектов капитального строительства, внутренняя проводка в которых не обесточена, если это приведет к ограничению действий рабочих в соответствии с требованиями техники безопасности","Методика 421/пр (Строительство)"]
[299,1,"","","*1,20","*1,20","*1,20","","*1,20","*1,20","","","","","*1,20","","","","421/пр_2020_прил.10_т.1_п.4_гр.5","Производство работ осуществляется в охранной зоне действующей воздушной линии электропередачи, вблизи объектов, находящихся под напряжением, внутри объектов капитального строительства, внутренняя проводка в которых не обесточена, если это приведет к ограничению действий рабочих в соответствии с требованиями техники безопасности","Методика 421/пр (Строительство)"]
[300,1,"","","*1,20","*1,20","*1,20","","*1,20","*1,20","","","","","*1,20","","","","421/пр_2020_прил.10_т.1_п.4_гр.5","Производство работ осуществляется в охранной зоне действующей воздушной линии электропередачи, вблизи объектов, находящихся под напряжением, внутри объектов капитального строительства, внутренняя проводка в которых не обесточена, если это приведет к ограничению действий рабочих в соответствии с требованиями техники безопасности","Методика 421/пр (Строительство)"]
[304,1,"","","*1,20","*1,20","*1,20","","*1,20","*1,20","","","","","*1,20","","","","421/пр_2020_прил.10_т.1_п.4_гр.5","Производство работ осуществляется в охранной зоне действующей воздушной линии электропередачи, вблизи объектов, находящихся под напряжением, внутри объектов капитального строительства, внутренняя проводка в которых не обесточена, если это приведет к ограничению действий рабочих в соответствии с требованиями техники безопасности","Методика 421/пр (Строительство)"]
[305,1,"","","*1,20","*1,20","*1,20","","*1,20","*1,20","","","","","*1,20","","","","421/пр_2020_прил.10_т.1_п.4_гр.5","Производство работ осуществляется в охранной зоне действующей воздушной линии электропередачи, вблизи объектов, находящихся под напряжением, внутри объектов капитального строительства, внутренняя проводка в которых не обесточена, если это приведет к ограничению действий рабочих в соответствии с требованиями техники безопасности","Методика 421/пр (Строительство)"]
[542,1,"","","*1,20","*1,20","*1,20","","*1,20","*1,20","","","","","*1,20","","","","421/пр_2020_прил.10_т.1_п.4_гр.3","Производство работ осуществляется в охранной зоне действующей воздушной линии электропередачи, вблизи объектов, находящихся под напряжением, внутри объектов капитального строительства, внутренняя проводка в которых не обесточена, если это приведет к ограничению действий рабочих в соответствии с требованиями техники безопасности","Методика 421/пр (Строительство)"]
[543,1,"","","*1,20","*1,20","*1,20","","*1,20","*1,20","","","","","*1,20","","","","421/пр_2020_прил.10_т.1_п.4_гр.3","Производство работ осуществляется в охранной зоне действующей воздушной линии электропередачи, вблизи объектов, находящихся под напряжением, внутри объектов капитального строительства, внутренняя проводка в которых не обесточена, если это приведет к ограничению действий рабочих в соответствии с требованиями техники безопасности","Методика 421/пр (Строительство)"]
[545,1,"","","*1,20","*1,20","*1,20","","*1,20","*1,20","","","","","*1,20","","","","421/пр_2020_прил.10_т.1_п.4_гр.3","Производство работ осуществляется в охранной зоне действующей воздушной линии электропередачи, вблизи объектов, находящихся под напряжением, внутри объектов капитального строительства, внутренняя проводка в которых не обесточена, если это приведет к ограничению действий рабочих в соответствии с требованиями техники безопасности","Методика 421/пр (Строительство)"]
[546,1,"","","*1,20","*1,20","*1,20","","*1,20","*1,20","","","","","*1,20","","","","421/пр_2020_прил.10_т.1_п.4_гр.3","Производство работ осуществляется в охранной зоне действующей воздушной линии электропередачи, вблизи объектов, находящихся под напряжением, внутри объектов капитального строительства, внутренняя проводка в которых не обесточена, если это приведет к ограничению действий рабочих в соответствии с требованиями техники безопасности","Методика 421/пр (Строительство)"]
[548,1,"","","*1,20","*1,20","*1,20","","*1,20","*1,20","","","","","*1,20","","","","421/пр_2020_прил.10_т.1_п.4_гр.3","Производство работ осуществляется в охранной зоне действующей воздушной линии электропередачи, вблизи объектов, находящихся под напряжением, внутри объектов капитального строительства, внутренняя проводка в которых не обесточена, если это приведет к ограничению действий рабочих в соответствии с требованиями техники безопасности","Методика 421/пр (Строительство)"]
[549,1,"","","*1,20","*1,20","*1,20","","*1,20","*1,20","","","","","*1,20","","","","421/пр_2020_прил.10_т.1_п.4_гр.3","Производство работ осуществляется в охранной зоне действующей воздушной линии электропередачи, вблизи объектов, находящихся под напряжением, внутри объектов капитального строительства, внутренняя проводка в которых не обесточена, если это приведет к ограничению действий рабочих в соответствии с требованиями техники безопасности","Методика 421/пр (Строительство)"]
[551,1,"","","*1,20","*1,20","*1,20","","*1,20","*1,20","","","","","*1,20","","","","421/пр_2020_прил.10_т.1_п.4_гр.3","Производство работ осуществляется в охранной зоне действующей воздушной линии электропередачи, вблизи объектов, находящихся под напряжением, внутри объектов капитального строительства, внутренняя проводка в которых не обесточена, если это приведет к ограничению действий рабочих в соответствии с требованиями техники безопасности","Методика 421/пр (Строительство)"]
[552,1,"","","*1,20","*1,20","*1,20","","*1,20","*1,20","","","","","*1,20","","","","421/пр_2020_прил.10_т.1_п.4_гр.3","Производство работ осуществляется в охранной зоне действующей воздушной линии электропередачи, вблизи объектов, находящихся под напряжением, внутри объектов капитального строительства, внутренняя проводка в которых не обесточена, если это приведет к ограничению действий рабочих в соответствии с требованиями техники безопасности","Методика 421/пр (Строительство)"]
[554,1,"","","*1,20","*1,20","*1,20","","*1,20","*1,20","","","","","*1,20","","","","421/пр_2020_прил.10_т.1_п.4_гр.3","Производство работ осуществляется в охранной зоне действующей воздушной линии электропередачи, вблизи объектов, находящихся под напряжением, внутри объектов капитального строительства, внутренняя проводка в которых не обесточена, если это приведет к ограничению действий рабочих в соответствии с требованиями техники безопасности","Методика 421/пр (Строительство)"]
[555,1,"","","*1,20","*1,20","*1,20","","*1,20","*1,20","","","","","*1,20","","","","421/пр_2020_прил.10_т.1_п.4_гр.3","Производство работ осуществляется в охранной зоне действующей воздушной линии электропередачи, вблизи объектов, находящихся под напряжением, внутри объектов капитального строительства, внутренняя проводка в которых не обесточена, если это приведет к ограничению действий рабочих в соответствии с требованиями техники безопасности","Методика 421/пр (Строительство)"]
[557,1,"","","*1,20","*1,20","*1,20","","*1,20","*1,20","","","","","*1,20","","","","421/пр_2020_прил.10_т.1_п.4_гр.3","Производство работ осуществляется в охранной зоне действующей воздушной линии электропередачи, вблизи объектов, находящихся под напряжением, внутри объектов капитального строительства, внутренняя проводка в которых не обесточена, если это приведет к ограничению действий рабочих в соответствии с требованиями техники безопасности","Методика 421/пр (Строительство)"]
[558,1,"","","*1,20","*1,20","*1,20","","*1,20","*1,20","","","","","*1,20","","","","421/пр_2020_прил.10_т.1_п.4_гр.3","Производство работ осуществляется в охранной зоне действующей воздушной линии электропередачи, вблизи объектов, находящихся под напряжением, внутри объектов капитального строительства, внутренняя проводка в которых не обесточена, если это приведет к ограничению действий рабочих в соответствии с требованиями техники безопасности","Методика 421/пр (Строительство)"]
[560,1,"","","*1,2","*1,2","*1,2","","*1,2","*1,2","","","","","*1,2","","","","421/пр_2020_прил.10_т.7_п.3_гр.3","Производство работ осуществляется в охранной зоне действующей воздушной линии электропередачи, вблизи объектов, находящихся под напряжением, внутри объектов капитального строительства, внутренняя проводка в которых не обесточена, если это приведет к ограничению действий рабочих в соответствии с требованиями техники безопасности","Методика 421/пр (Пусконаладка)"]
[561,1,"","","*1,2","*1,2","*1,2","","*1,2","*1,2","","","","","*1,2","","","","421/пр_2020_прил.10_т.7_п.3_гр.3","Производство работ осуществляется в охранной зоне действующей воздушной линии электропередачи, вблизи объектов, находящихся под напряжением, внутри объектов капитального строительства, внутренняя проводка в которых не обесточена, если это приведет к ограничению действий рабочих в соответствии с требованиями техники безопасности","Методика 421/пр (Пусконаладка)"]
[563,1,"","","*1,20","*1,20","*1,20","","*1,20","*1,20","","","","","*1,20","","","","421/пр_2020_прил.10_т.1_п.4_гр.3","Производство работ осуществляется в охранной зоне действующей воздушной линии электропередачи, вблизи объектов, находящихся под напряжением, внутри объектов капитального строительства, внутренняя проводка в которых не обесточена, если это приведет к ограничению действий рабочих в соответствии с требованиями техники безопасности","Методика 421/пр (Строительство)"]
[564,1,"","","*1,20","*1,20","*1,20","","*1,20","*1,20","","","","","*1,20","","","","421/пр_2020_прил.10_т.1_п.4_гр.3","Производство работ осуществляется в охранной зоне действующей воздушной линии электропередачи, вблизи объектов, находящихся под напряжением, внутри объектов капитального строительства, внутренняя проводка в которых не обесточена, если это приведет к ограничению действий рабочих в соответствии с требованиями техники безопасности","Методика 421/пр (Строительство)"]

{"sheet":"SrcKA","index":7,"n_rows":12,"n_cols":103,"rows_kept":12,"cut":false,"hidden":false,"merged":[]}
[0,"Smeta.RU Flash  (495) 974-1589",null,"_PS_",null,0,0,0,"Smeta.RU Flash","",1,68757,10,12,0,0,3]
[]
[]
[]
[]
[]
[]
[]
[]
[]
[]
[null,null,null,null,null,{"$f":"Source!F12","v":"Новый объект"},{"$f":"Source!G12","v":"355838_Талантбеков_ВЛИ_Катасонова_РАЗБИВКА_ПС_С"},null,null,null,null,null,null,null,null,null,null,null,null,null,null,null,null,null,null,null,null,"","","","","","","","",46057,"","","",null,null,null,null,null,null,null,null,null,null,null,null,null,null,null,null,null,null,null,null,null,null,null,null,null,null,null,null,null,null,null,null,null,null,null,null,null,null,null,null,null,null,null,null,null,null,null,null,null,null,null,null,null,null,null,null,null,null,null,null,null,null,null,0]