{"text_format":"1","workbook":"xlsx","n_sheets":8,"sheets":["02-01-01","09-01-01","Source","SourceObSm","SmtRes","EtalonRes","SrcPoprs","SrcKA"],"not_rendered":{"charts":0,"images":0,"macros":0,"external_links":0,"defined_names":4,"comments":0,"pivot_tables":0},"unopened":[],"bounds":{"document_bytes":16777216,"sheet_cells":100000,"rows_first":2000,"rows_last":500,"rows_between":2000,"halvings":0,"cell_chars":16384,"cell_head_chars":4096},"cells_cut":0,"cells_raw":0,"read":"whole","date_system":"1900"}

{"sheet":"02-01-01","index":0,"n_rows":255,"n_cols":93,"rows_kept":255,"cut":false,"hidden":false,"merged":[[1,0,1,4],[1,5,1,11],[3,0,3,4],[3,5,3,11],[5,0,5,4],[5,5,5,11],[13,0,13,4],[13,5,13,11],[15,0,15,4],[15,5,15,11],[18,0,18,11],[19,0,19,11],[7,0,7,4],[7,5,7,11],[9,0,9,4],[9,5,9,11],[11,0,11,4],[11,5,11,11],[33,2,33,11],[37,2,37,3],[40,2,40,3],[41,2,41,3],[42,2,42,3],[43,2,43,3],[21,0,21,11],[22,0,22,11],[24,0,24,11],[26,0,26,11],[27,0,27,11],[32,2,32,11],[52,0,52,11],[71,2,71,7],[71,8,71,9],[71,10,71,11],[73,2,73,7],[74,2,74,7],[45,0,49,0],[45,1,49,1],[45,2,49,2],[45,3,49,3],[45,4,48,6],[45,7,48,11],[81,2,81,7],[82,2,82,7],[83,2,83,7],[84,2,84,7],[85,2,85,7],[86,2,86,7],[75,2,75,7],[76,2,76,7],[77,2,77,7],[78,2,78,7],[79,2,79,7],[80,2,80,7],[93,2,93,7],[94,2,94,7],[95,2,95,7],[96,2,96,7],[97,2,97,7],[98,2,98,7],[87,2,87,7],[88,2,88,7],[89,2,89,7],[90,2,90,7],[91,2,91,7],[92,2,92,7],[109,2,109,7],[109,8,109,9],[109,10,109,11],[111,2,111,7],[111,8,111,9],[111,10,111,11],[99,2,99,7],[100,2,100,7],[101,2,101,5],[102,2,102,5],[105,0,105,11],[107,2,107,7],[107,8,107,9],[107,10,107,11],[119,2,119,7],[120,2,120,7],[121,2,121,7],[122,2,122,7],[123,2,123,7],[124,2,124,7],[113,2,113,7],[114,2,114,7],[115,2,115,7],[116,2,116,7],[117,2,117,7],[118,2,118,7],[131,2,131,7],[132,2,132,7],[133,2,133,7],[134,2,134,7],[135,2,135,7],[136,2,136,7],[125,2,125,7],[126,2,126,7],[127,2,127,7],[128,2,128,7],[129,2,129,7],[130,2,130,7],[145,2,145,7],[147,2,147,7],[148,2,148,7],[149,2,149,7],[150,2,150,7],[151,2,151,7],[137,2,137,7],[138,2,138,7],[139,2,139,7],[140,2,140,7],[141,2,141,5],[142,2,142,5],[158,2,158,7],[159,2,159,7],[160,2,160,7],[161,2,161,7],[162,2,162,7],[163,2,163,7],[152,2,152,7],[153,2,153,7],[154,2,154,7],[155,2,155,7],[156,2,156,7],[157,2,157,7],[171,2,171,7],[172,2,172,7],[173,2,173,7],[174,2,174,7],[175,2,175,7],[176,2,176,7],[164,2,164,7],[165,2,165,7],[167,2,167,7],[168,2,168,7],[169,2,169,7],[170,2,170,7],[183,2,183,7],[184,2,184,7],[185,2,185,7],[187,2,187,7],[188,2,188,7],[189,2,189,7],[177,2,177,7],[178,2,178,7],[179,2,179,7],[180,2,180,7],[181,2,181,7],[182,2,182,7],[197,2,197,7],[198,2,198,7],[199,2,199,7],[200,2,200,7],[201,2,201,7],[202,2,202,7],[190,2,190,7],[192,2,192,7],[193,2,193,7],[194,2,194,7],[195,2,195,7],[196,2,196,7],[209,2,209,7],[210,2,210,7],[211,2,211,7],[212,2,212,7],[213,2,213,7],[214,2,214,7],[203,2,203,7],[204,2,204,7],[205,2,205,7],[206,2,206,7],[207,2,207,7],[208,2,208,7],[222,2,222,7],[223,2,223,7],[224,2,224,7],[225,2,225,7],[226,2,226,7],[227,2,227,7],[215,2,215,7],[216,2,216,7],[218,2,218,7],[219,2,219,7],[220,2,220,7],[221,2,221,7],[234,2,234,7],[235,2,235,7],[236,2,236,7],[237,2,237,7],[238,2,238,7],[239,2,239,7],[228,2,228,7],[229,2,229,7],[230,2,230,7],[231,2,231,7],[232,2,232,7],[233,2,233,7],[246,2,246,5],[251,2,251,6],[254,2,254,6],[240,2,240,7],[241,2,241,7],[242,2,242,7],[243,2,243,7],[244,2,244,7],[245,2,245,5]]}
[{"$f":"Source!B1","v":"Smeta.RU Flash  (495) 974-1589"}]
["Наименование программного продукта",null,null,null,null,"Программа для ЭВМ «Программа: «Smeta.RU Flash» версия 12»"]
[]
["Наименование редакции сметных нормативов",null,null,null,null,{"$f":"IF(Source!CQ12 <> \"\", Source!CQ12, \"\")","v":"Приказ Минстроя России от 30.12.2021 г. № 1046/пр;  Приказ Минстроя России от 04.08.2020 г. № 421/пр;  Приказ Минстроя России от 21.12.2020 г. № 812/пр;  Приказ Минстроя России от 11.12.2020 г. № 774/пр"},null,null,null,null,null,null,null,null,null,null,null,null,null,null,null,null,null,null,null,null,null,null,null,null,null,null,null,null,null,null,null,null,null,null,null,null,null,null,null,null,null,null,null,null,null,null,null,null,null,null,null,null,null,null,null,null,null,null,null,null,null,null,null,null,null,null,null,null,null,null,null,null,null,null,null,null,null,null,null,null,null,null,null,null,null,null,{"$f":"IF(Source!CQ12 <> \"\", Source!CQ12, \"\")","v":"Приказ Минстроя России от 30.12.2021 г. № 1046/пр;  Приказ Минстроя России от 04.08.2020 г. № 421/пр;  Приказ Минстроя России от 21.12.2020 г. № 812/пр;  Приказ Минстроя России от 11.12.2020 г. № 774/пр"}]
[]
["Реквизиты приказа Минстроя России об утверждении дополнений и изменений к сметным нормативам",null,null,null,null,{"$f":"IF(Source!CV12 <> \"\", Source!CV12, \"\")","v":"Приказ Минстроя России от 18.05.2022 г. № 378/пр; Приказ Минстроя России от 26.08.2022 г. № 703/пр; Приказ Минстроя России от 26.10.2022 г. № 905/пр;  Приказ Минстроя России от 27.12.2022 г. № 1133/пр; Приказ Минстроя России от 10.02.2023 г. № 84/пр; Приказ Минстроя России от 11.05.2023 г. № 335/пр;  Приказ Минстроя России от 02.08.2023 г. № 551/пр; Приказ Минстроя России от 14.11.2023 г. № 817/пр; Приказ Минстроя России от 16.02.2024 г. № 102/пр;  Приказ Минстроя России от 13.05.2024 г. № 323/пр; Приказ Минстроя России от 09.08.2024 г. № 524/пр; Приказ Минстроя России от 07.11.2024 г. № 747/пр;  Приказ Минстроя России от 07.02.2025 г. № 69/пр; Приказ Минстроя России от 19.05.2025 г. № 299/пр; Приказ Минстроя России от 14.08.2025 г. № 490/пр;  Приказ Минстроя России от 12.11.2025 г. № 696/пр; Приказ Минстроя России от 17.02.2026 г. № 91/пр;  Приказ Минстроя России от 07.07.2022 г. № 557/пр; Приказ Минстроя России от 30.01.2024 г. № 55/пр; Приказ Минстроя России от 23.01.2025 г. № 30/пр;  Приказ Минстроя России от 02.09.2021 г. № 636/пр; Приказ Минстроя России от 26.07.2022 г. № 611/пр; Приказ Минстроя России от 22.04.2022 г. № 317/пр"},null,null,null,null,null,null,null,null,null,null,null,null,null,null,null,null,null,null,null,null,null,null,null,null,null,null,null,null,null,null,null,null,null,null,null,null,null,null,null,null,null,null,null,null,null,null,null,null,null,null,null,null,null,null,null,null,null,null,null,null,null,null,null,null,null,null,null,null,null,null,null,null,null,null,null,null,null,null,null,null,null,null,null,null,null,null,{"$f":"IF(Source!CV12 <> \"\", Source!CV12, \"\")","v":"Приказ Минстроя России от 18.05.2022 г. № 378/пр; Приказ Минстроя России от 26.08.2022 г. № 703/пр; Приказ Минстроя России от 26.10.2022 г. № 905/пр;  Приказ Минстроя России от 27.12.2022 г. № 1133/пр; Приказ Минстроя России от 10.02.2023 г. № 84/пр; Приказ Минстроя России от 11.05.2023 г. № 335/пр;  Приказ Минстроя России от 02.08.2023 г. № 551/пр; Приказ Минстроя России от 14.11.2023 г. № 817/пр; Приказ Минстроя России от 16.02.2024 г. № 102/пр;  Приказ Минстроя России от 13.05.2024 г. № 323/пр; Приказ Минстроя России от 09.08.2024 г. № 524/пр; Приказ Минстроя России от 07.11.2024 г. № 747/пр;  Приказ Минстроя России от 07.02.2025 г. № 69/пр; Приказ Минстроя России от 19.05.2025 г. № 299/пр; Приказ Минстроя России от 14.08.2025 г. № 490/пр;  Приказ Минстроя России от 12.11.2025 г. № 696/пр; Приказ Минстроя России от 17.02.2026 г. № 91/пр;  Приказ Минстроя России от 07.07.2022 г. № 557/пр; Приказ Минстроя России от 30.01.2024 г. № 55/пр; Приказ Минстроя России от 23.01.2025 г. № 30/пр;  Приказ Минстроя России от 02.09.2021 г. № 636/пр; Приказ Минстроя России от 26.07.2022 г. № 611/пр; Приказ Минстроя России от 22.04.2022 г. № 317/пр"}]
[]
["Реквизиты письма Минстроя России об индексах изменения сметной стоимости строительства, включаемые в федеральный реестр сметных нормативов и размещаемые в федеральной государственной информационной системе ценообразования в строительстве, подготовленного в соответствии с пунктом 85 Методики расчета индексов изменения сметной стоимости строительства, утвержденной приказом Министерства строительства и жилищно-коммунального хозяйства Российской Федерации от 5 июня 2019 г. N 326/пр ",null,null,null,null,"Письмо Минстроя России от 25.02.2026 № 9859-ИФ/09"]
[]
["Реквизиты нормативного правового акта об утверждении оплаты труда, утверждаемый в соответствии с пунктом 22(1) Правилами мониторинга цен, утвержденными постановлением Правительства Российской Федерации от 23 декабря 2016 г. N 1452",null,null,null,null,"Приказ ПАО 'РОССЕТИ' от 26.12.2024 № 612"]
[]
["Обоснование принятых текущих цен на строительные ресурсы",null,null,null,null,"ФГИС ЦС, конъюнктурный анализ"]
[]
["Наименование субъекта Российской Федерации",null,null,null,null,{"$f":"IF(Source!CZ12 <> \"\", Source!CZ12, \"\")","v":""}]
[]
["Наименование зоны субъекта Российской Федерации",null,null,null,null,{"$f":"IF(Source!DA12 <> \"\", Source!DA12, \"\")","v":""}]
[]
[]
[]
["(наименование стройки)"]
[]
["355841_Гончарова_(ДОТ)"]
["(наименование объекта капитального строительства)"]
[]
[{"$f":"CONCATENATE( \"ЛОКАЛЬНАЯ СМЕТА № \", Source!L20, \" \",Source!CM20)","v":"ЛОКАЛЬНАЯ СМЕТА № 02-01-01 "}]
[]
[{"$f":"IF(Source!G20<>\"Новая локальная смета\", Source!G20, \"\")","v":"Строительство ВЛИ-0,4 кВ"}]
["(наименование работ и затрат)"]
[]
[]
["Составлен",null,"Ресурсно-индексным","методом"]
[]
["Основание"]
[null,null,"(проектная и (или) иная техническая документация)"]
[]
["Составлен(а) в текущем уровне цен на май 2026 года"]
[]
["Сметная стоимость",null,{"$f":"C41+C42+C43+C44","v":5.2},null,"тыс. руб."]
[null,null,null,null,null,null,"Средства на оплату труда рабочих",null,null,null,{"$f":"ROUND(SUM(AR52:AR248)/1000, 2)","v":1.2},"тыс. руб."]
[null,"в том числе:",null,null,null,null,"Средства на оплату труда машинистов",null,null,null,{"$f":"ROUND(SUM(AT52:AT248)/1000, 2)","v":0},"тыс. руб."]
[null,"строительных работ",{"$f":"ROUND((Source!F516)/1000, 2)","v":5.2},null,"тыс. руб.",null,"Нормативные затраты труда рабочих ",null,null,null,{"$f":"Source!F521","v":1.6281600000000001},"чел.-ч."]
[null,"монтажных работ    ",{"$f":"ROUND((Source!F517)/1000, 2)","v":0},null,"тыс. руб.",null,"Нормативные затраты труда машинистов ",null,null,null,{"$f":"Source!F522","v":5.0879999999999996E-3},"чел.-ч."]
[null,"оборудования         ",{"$f":"ROUND((Source!F508)/1000, 2)","v":0},null,"тыс. руб."]
[null,"прочих затрат       ",{"$f":"ROUND((Source!F518)/1000, 2)","v":0},null,"тыс. руб."]
[]
["№ п/п","Обоснование","Наименование работ и затрат","Единица измерения","Количество",null,null,"Сметная стоимость, руб."]
[]
[]
[]
[null,null,null,null,"на единицу измерения","коэффициенты","всего с учетом коэффициентов","на единицу измерения в базисном уровне цен","индекс","на единицу измерения в текущем уровне цен","коэффициенты","всего в текущем уровне цен"]
[1,2,3,4,5,6,7,8,9,10,11,12]
[]
["Раздел: СМР"]
["10","ГЭСН 15-04-024-08",{"$f":"Source!G244","v":"Простая окраска масляными составами по штукатурке и сборным конструкциям: стен, подготовленных под окраску"},{"$f":"Source!H244","v":"100 м2"},{"$f":"Source!K244","v":8.48E-2},null,{"$f":"Source!I244","v":8.48E-2}]
[null,1,"ОТ (ЗТ)","чел.-ч.",null,null,{"$f":"Source!U244","v":1.6281600000000001},null,null,null,null,{"$f":"SUM(L56:L56)-SUMIF(CE56:CE56, 1, L56:L56)","v":1203.3599999999999}]
[null,"1-100-32","Средний разряд работы 3,2","чел.-ч.",19.2,null,{"$f":"SmtRes!CX547","v":1.6281600000000001},null,null,{"$f":"SmtRes!CZ547","v":739.09},null,{"$f":"SmtRes!DI547","v":1203.3599999999999}]
[null,2,"ЭМ",null,null,null,null,null,null,null,null,{"$f":"SUM(L58:L62)-SUMIF(CE58:CE62, 1, L58:L62)","v":2.7699999999999996}]
[null,null,"ОТм(ЗТм)","чел.-ч.",null,null,{"$f":"Source!V244","v":5.0879999999999996E-3},null,null,null,null,{"$f":"SUMIF(CE59:CE62, 1, L59:L62)","v":4.05},null,null,null,null,null,null,null,null,null,null,null,null,null,null,null,null,null,null,null,null,null,null,null,null,null,null,null,null,null,null,null,null,null,null,null,null,null,null,null,null,null,null,null,null,null,null,null,null,null,null,null,null,null,null,null,null,null,null,null,null,null,null,null,null,null,null,null,null,null,null,1]
[null,"91.06.06-048","Подъемники одномачтовые, грузоподъемность до 500 кг, высота подъема 45 м","маш.-ч",0.01,null,{"$f":"SmtRes!CX549","v":8.4800000000000001E-4},{"$f":"SmtRes!CZ549","v":37.32},{"$f":"SmtRes!AJ549","v":1.55},{"$f":"ROUND(H59*I59, 2)","v":57.85},null,{"$f":"SmtRes!DG549","v":0.05}]
[null,"4-100-030","ОТм(ЗТм) Средний разряд машинистов 3","чел.-ч.",{"$f":"SmtRes!DO549*SmtRes!AT549","v":0.01},null,{"$f":"ROUND(E60*G54, 7)","v":8.4800000000000001E-4},null,null,{"$f":"ROUND(SmtRes!AG549/SmtRes!DO549, 2)","v":720.91},null,{"$f":"SmtRes!DH549","v":0.61},null,null,null,null,null,null,null,null,null,null,null,null,null,null,null,null,null,null,null,null,null,null,null,null,null,null,null,null,null,null,null,null,null,null,null,null,null,null,null,null,null,null,null,null,null,null,null,null,null,null,null,null,null,null,null,null,null,null,null,null,null,null,null,null,null,null,null,null,null,null,1]
[null,"91.14.02-001","Автомобили бортовые, грузоподъемность до 5 т","маш.-ч",0.05,null,{"$f":"SmtRes!CX550","v":4.2399999999999998E-3},null,null,{"$f":"SmtRes!CZ550","v":641.70000000000005},null,{"$f":"SmtRes!DG550","v":2.72}]
[null,"4-100-040","ОТм(ЗТм) Средний разряд машинистов 4","чел.-ч.",{"$f":"SmtRes!DO550*SmtRes!AT550","v":0.05},null,{"$f":"ROUND(E62*G54, 7)","v":4.2399999999999998E-3},null,null,{"$f":"ROUND(SmtRes!AG550/SmtRes!DO550, 2)","v":811.79},null,{"$f":"SmtRes!DH550","v":3.44},null,null,null,null,null,null,null,null,null,null,null,null,null,null,null,null,null,null,null,null,null,null,null,null,null,null,null,null,null,null,null,null,null,null,null,null,null,null,null,null,null,null,null,null,null,null,null,null,null,null,null,null,null,null,null,null,null,null,null,null,null,null,null,null,null,null,null,null,null,null,1]
[null,4,"М",null,null,null,null,null,null,null,null,{"$f":"SUM(L64:L67)-SUMIF(CE64:CE67, 1, L64:L67)","v":131.97000000000003}]
[null,"01.7.10.17-0141","Пемза","кг",0.24,null,{"$f":"SmtRes!CX551","v":2.0351999999999999E-2},{"$f":"SmtRes!CZ551","v":2507.62},{"$f":"SmtRes!AI551","v":1.32},{"$f":"ROUND(H64*I64, 2)","v":3310.06},null,{"$f":"SmtRes!DF551","v":67.37}]
[null,"01.7.17.11-0011","Шкурка шлифовальная двухслойная с зернистостью 40-25","м2",0.8,null,{"$f":"SmtRes!CX552","v":6.7839999999999998E-2},{"$f":"SmtRes!CZ552","v":531.44000000000005},{"$f":"SmtRes!AI552","v":1.32},{"$f":"ROUND(H65*I65, 2)","v":701.5},null,{"$f":"SmtRes!DF552","v":47.59}]
[null,"01.7.20.08-0051","Ветошь хлопчатобумажная цветная","кг",0.21,null,{"$f":"SmtRes!CX553","v":1.7808000000000001E-2},{"$f":"SmtRes!CZ553","v":56.11},{"$f":"SmtRes!AI553","v":1.54},{"$f":"ROUND(H66*I66, 2)","v":86.41},null,{"$f":"SmtRes!DF553","v":1.54}]
[null,"14.5.11.01-0003","Шпатлевка масляно-клеевая","т",5.0000000000000001E-3,null,{"$f":"SmtRes!CX556","v":4.2400000000000001E-4},{"$f":"SmtRes!CZ556","v":24995.33},{"$f":"SmtRes!AI556","v":1.46},{"$f":"ROUND(H67*I67, 2)","v":36493.18},null,{"$f":"SmtRes!DF556","v":15.47}]
[null,null,"Итого прямые затраты",null,null,null,null,null,null,null,null,{"$f":"L55+L57+L58+L63","v":1342.1499999999999}]
[null,null,"ФОТ",null,null,null,null,null,null,null,null,{"$f":"SUM(AR54:AR72)+SUM(AS54:AS72)+SUM(AT54:AT72)+SUM(AU54:AU72)+SUM(AV54:AV72)","v":1207.4099999999999}]
[null,"Пр/812-015.0-1","НР Отделочные работы","%",{"$f":"Source!BZ244","v":100},null,{"$f":"Source!AT244","v":100},null,null,null,null,{"$f":"SUM(AZ54:AZ72)","v":1207.4100000000001}]
[null,"Пр/774-015.0","СП Отделочные работы","%",{"$f":"Source!CA244","v":49},null,{"$f":"Source!AU244","v":49},null,null,null,null,{"$f":"SUM(BA54:BA72)","v":591.63}]
[null,null,"Всего по позиции",null,null,null,null,null,{"$f":"IF(E54<>0,K72/E54, 0)","v":37042.334905660384},null,{"$f":"L55+L57+L63+L70+L71+L58","v":3141.1900000000005},null,null,null,null,null,null,null,null,null,null,null,null,null,null,null,null,null,null,{"$f":"ROUND((Source!AT244/100)*((ROUND(SUMIF(SmtRes!AQ547:'SmtRes'!AQ556,\"=1\",SmtRes!AD547:'SmtRes'!AD556)*Source!I244, 2)+ROUND(SUMIF(SmtRes!AQ547:'SmtRes'!AQ556,\"=1\",SmtRes!AC547:'SmtRes'!AC556)*Source!I244, 2))), 2)","v":192.64},{"$f":"ROUND((Source!AU244/100)*((ROUND(SUMIF(SmtRes!AQ547:'SmtRes'!AQ556,\"=1\",SmtRes!AD547:'SmtRes'!AD556)*Source!I244, 2)+ROUND(SUMIF(SmtRes!AQ547:'SmtRes'!AQ556,\"=1\",SmtRes!AC547:'SmtRes'!AC556)*Source!I244, 2))), 2)","v":94.39},null,null,null,null,null,null,null,null,{"$f":"L55+L57+L63+L70+L71+L58","v":3141.1900000000005},{"$f":"L57","v":2.7699999999999996},null,"=",{"$f":"L55","v":1203.3599999999999},null,{"$f":"L58","v":4.05},null,"=",{"$f":"L63","v":131.97000000000003},null,null,{"$f":"Source!X244","v":1207.4100000000001},{"$f":"Source!Y244","v":591.63},null,null,null,null,null,null,null,null,null,null,null,null,null,null,null,null,null,null,null,null,null,null,null,null,null,null,null,null,1]
[]
[null,null,"Итого прямые затраты по разделу",null,null,null,null,null,null,null,null,{"$f":"L76+L77+L83+L87","v":1342.1499999999999}]
[null,null,"в том числе"]
[null,null,"  оплата труда",null,null,null,null,null,null,null,null,{"$f":"SUM(AR53:AR72)","v":1203.3599999999999}]
[null,null,"  эксплуатация машин и механизмов",null,null,null,null,null,null,null,null,{"$f":"L79+L82+L81","v":6.8199999999999994}]
[null,null,"  в том числе"]
[null,null,"  эксплуатация машин и механизмов",null,null,null,null,null,null,null,null,{"$f":"SUM(AO53:AO72)","v":2.7699999999999996}]
[null,null,"    в том числе"]
[null,null,"  оплата труда машинистов (ОТм)",null,null,null,null,null,null,null,null,{"$f":"SUM(AT53:AT72)","v":4.05}]
[null,null,"    доплаты к оплате труда машинистов",null,null,null,null,null,null,null,null,{"$f":"SUM(AV53:AV72)","v":0}]
[null,null,"  материальные ресурсы",null,null,null,null,null,null,null,null,{"$f":"L85+L86","v":131.97000000000003}]
[null,null,"  в том числе"]
[null,null,"    материальные ресурсы без учета дополнительной перевозки",null,null,null,null,null,null,null,null,{"$f":"SUM(AW53:AW72)-SUM(BK53:BK72)","v":131.97000000000003}]
[null,null,"    дополнительная перевозка материальных ресурсов",null,null,null,null,null,null,null,null,{"$f":"SUM(BC53:BC72)","v":0}]
[null,null,"  перевозка",null,null,null,null,null,null,null,null,{"$f":"SUM(BB53:BB72)","v":0}]
[null,null,"Всего ФОТ (справочно)",null,null,null,null,null,null,null,null,{"$f":"SUM(AR53:AR72)+SUM(AT53:AT72)+SUM(AV53:AV72)","v":1207.4099999999999}]
[null,null,"Всего накладные расходы",null,null,null,null,null,null,null,null,{"$f":"SUM(AZ53:AZ72)","v":1207.4100000000001}]
[null,null,"Всего сметная прибыль",null,null,null,null,null,null,null,null,{"$f":"SUM(BA53:BA72)","v":591.63}]
[null,null,"Итого оборудование",null,null,null,null,null,null,null,null,{"$f":"L93+L94","v":0}]
[null,null,"в том числе"]
[null,null,"  оборудование без учета дополнительной перевозки",null,null,null,null,null,null,null,null,{"$f":"SUM(BK53:BK72)","v":0}]
[null,null,"  дополнительная перевозка оборудования",null,null,null,null,null,null,null,null,{"$f":"SUM(BD53:BD72)","v":0}]
[null,null,"Итого прочие затраты"]
[null,null,"Итого прочие затраты",null,null,null,null,null,null,null,null,{"$f":"SUM(BQ53:BQ72)","v":0}]
[null,null,"Итого хозяйственный инвентарь",null,null,null,null,null,null,null,null,{"$f":"SUM(BO53:BO72)","v":0}]
[null,null,"Итого по разделу",null,null,null,null,null,null,null,null,{"$f":"L74+L89+L90+L91+L96+L97","v":3141.19}]
[null,null,"Справочно"]
[null,null,"  материальные ресурсы, отсутствующие в ФРСН",null,null,null,null,null,null,null,null,{"$f":"SUM(AX53:AX72)","v":0}]
[null,null,"  оборудование, отсутствующие в ФРСН",null,null,null,null,null,null,null,null,{"$f":"SUM(AY53:AY72)","v":0}]
[null,null,"  затраты труда рабочих",null,null,null,{"$f":"Source!F274","v":1.6281600000000001}]
[null,null,"  затраты труда машинистов",null,null,null,{"$f":"Source!F275","v":5.0879999999999996E-3}]
[]
[]
["Раздел: Материалы"]
["38",{"$f":"Source!F421","v":"ТЦ_14.4.04.03_77_7736281025_12.01.2026_02_61.1"},{"$f":"Source!G421","v":"Эмаль алкидная, белая ПФ-115"},{"$f":"Source!H421","v":"кг"},{"$f":"Source!K421","v":0.72},null,{"$f":"Source!I421","v":0.72},null,null,{"$f":"Source!AL421","v":594.98},null,{"$f":"Source!HG421","v":428.39}]
[null,null,"Всего по позиции",null,null,null,null,null,{"$f":"IF(E107<>0,K108/E107, 0)","v":594.98611111111109},null,{"$f":"L107","v":428.39},null,null,null,null,null,null,null,null,null,null,null,null,null,null,null,null,null,null,{"$f":"ROUND((Source!AT421/100)*((ROUND(ROUND(Source!AO421,2)*Source!I421, 2)+ROUND(ROUND(Source!AN421,2)*Source!I421, 2))), 2)","v":0},{"$f":"ROUND((Source!AU421/100)*((ROUND(ROUND(Source!AO421,2)*Source!I421, 2)+ROUND(ROUND(Source!AN421,2)*Source!I421, 2))), 2)","v":0},null,null,null,null,null,null,null,null,{"$f":"L107","v":428.39},{"$f":"0","v":0},null,"=",{"$f":"0","v":0},null,{"$f":"0","v":0},null,"=",{"$f":"L107","v":428.39},{"$f":"L107","v":428.39},null,{"$f":"Source!X421","v":0},{"$f":"Source!Y421","v":0},null,null,null,null,null,null,null,null,null,null,null,null,null,null,null,null,null,null,null,null,null,null,null,null,null,null,null,null,1]
["39",{"$f":"Source!F423","v":"ТЦ_14.4.04.03_77_7736281025_12.01.2026_02_62.1"},{"$f":"Source!G423","v":"Эмаль алкидная, синяя ПФ-115"},{"$f":"Source!H423","v":"кг"},{"$f":"Source!K423","v":1.4},null,{"$f":"Source!I423","v":1.4},null,null,{"$f":"Source!AL423","v":557.4},null,{"$f":"Source!HG423","v":780.36}]
[null,null,"Всего по позиции",null,null,null,null,null,{"$f":"IF(E109<>0,K110/E109, 0)","v":557.40000000000009},null,{"$f":"L109","v":780.36},null,null,null,null,null,null,null,null,null,null,null,null,null,null,null,null,null,null,{"$f":"ROUND((Source!AT423/100)*((ROUND(ROUND(Source!AO423,2)*Source!I423, 2)+ROUND(ROUND(Source!AN423,2)*Source!I423, 2))), 2)","v":0},{"$f":"ROUND((Source!AU423/100)*((ROUND(ROUND(Source!AO423,2)*Source!I423, 2)+ROUND(ROUND(Source!AN423,2)*Source!I423, 2))), 2)","v":0},null,null,null,null,null,null,null,null,{"$f":"L109","v":780.36},{"$f":"0","v":0},null,"=",{"$f":"0","v":0},null,{"$f":"0","v":0},null,"=",{"$f":"L109","v":780.36},{"$f":"L109","v":780.36},null,{"$f":"Source!X423","v":0},{"$f":"Source!Y423","v":0},null,null,null,null,null,null,null,null,null,null,null,null,null,null,null,null,null,null,null,null,null,null,null,null,null,null,null,null,1]
["40",{"$f":"Source!F425","v":"ТЦ_14.4.02.00_77_7736281025_12.01.2026_02_63.1"},{"$f":"Source!G425","v":"Краска аэрозольная, черная"},{"$f":"Source!H425","v":"л"},{"$f":"Source!K425","v":0.48},null,{"$f":"Source!I425","v":0.48},null,null,{"$f":"Source!AL425","v":1767.71},null,{"$f":"Source!HG425","v":848.5}]
[null,null,"Всего по позиции",null,null,null,null,null,{"$f":"IF(E111<>0,K112/E111, 0)","v":1767.7083333333335},null,{"$f":"L111","v":848.5},null,null,null,null,null,null,null,null,null,null,null,null,null,null,null,null,null,null,{"$f":"ROUND((Source!AT425/100)*((ROUND(ROUND(Source!AO425,2)*Source!I425, 2)+ROUND(ROUND(Source!AN425,2)*Source!I425, 2))), 2)","v":0},{"$f":"ROUND((Source!AU425/100)*((ROUND(ROUND(Source!AO425,2)*Source!I425, 2)+ROUND(ROUND(Source!AN425,2)*Source!I425, 2))), 2)","v":0},null,null,null,null,null,null,null,null,{"$f":"L111","v":848.5},{"$f":"0","v":0},null,"=",{"$f":"0","v":0},null,{"$f":"0","v":0},null,"=",{"$f":"L111","v":848.5},{"$f":"L111","v":848.5},null,{"$f":"Source!X425","v":0},{"$f":"Source!Y425","v":0},null,null,null,null,null,null,null,null,null,null,null,null,null,null,null,null,null,null,null,null,null,null,null,null,null,null,null,null,1]
[]
[null,null,"Итого прямые затраты по разделу",null,null,null,null,null,null,null,null,{"$f":"L116+L117+L123+L127","v":2057.25}]
[null,null,"в том числе"]
[null,null,"  оплата труда",null,null,null,null,null,null,null,null,{"$f":"SUM(AR106:AR112)","v":0}]
[null,null,"  эксплуатация машин и механизмов",null,null,null,null,null,null,null,null,{"$f":"L119+L122+L121","v":0}]
[null,null,"  в том числе"]
[null,null,"  эксплуатация машин и механизмов",null,null,null,null,null,null,null,null,{"$f":"SUM(AO106:AO112)","v":0}]
[null,null,"    в том числе"]
[null,null,"  оплата труда машинистов (ОТм)",null,null,null,null,null,null,null,null,{"$f":"SUM(AT106:AT112)","v":0}]
[null,null,"    доплаты к оплате труда машинистов",null,null,null,null,null,null,null,null,{"$f":"SUM(AV106:AV112)","v":0}]
[null,null,"  материальные ресурсы",null,null,null,null,null,null,null,null,{"$f":"L125+L126","v":2057.25}]
[null,null,"  в том числе"]
[null,null,"    материальные ресурсы без учета дополнительной перевозки",null,null,null,null,null,null,null,null,{"$f":"SUM(AW106:AW112)-SUM(BK106:BK112)","v":2057.25}]
[null,null,"    дополнительная перевозка материальных ресурсов",null,null,null,null,null,null,null,null,{"$f":"SUM(BC106:BC112)","v":0}]
[null,null,"  перевозка",null,null,null,null,null,null,null,null,{"$f":"SUM(BB106:BB112)","v":0}]
[null,null,"Всего ФОТ (справочно)",null,null,null,null,null,null,null,null,{"$f":"SUM(AR106:AR112)+SUM(AT106:AT112)+SUM(AV106:AV112)","v":0}]
[null,null,"Всего накладные расходы",null,null,null,null,null,null,null,null,{"$f":"SUM(AZ106:AZ112)","v":0}]
[null,null,"Всего сметная прибыль",null,null,null,null,null,null,null,null,{"$f":"SUM(BA106:BA112)","v":0}]
[null,null,"Итого оборудование",null,null,null,null,null,null,null,null,{"$f":"L133+L134","v":0}]
[null,null,"в том числе"]
[null,null,"  оборудование без учета дополнительной перевозки",null,null,null,null,null,null,null,null,{"$f":"SUM(BK106:BK112)","v":0}]
[null,null,"  дополнительная перевозка оборудования",null,null,null,null,null,null,null,null,{"$f":"SUM(BD106:BD112)","v":0}]
[null,null,"Итого прочие затраты"]
[null,null,"Итого прочие затраты",null,null,null,null,null,null,null,null,{"$f":"SUM(BQ106:BQ112)","v":0}]
[null,null,"Итого хозяйственный инвентарь",null,null,null,null,null,null,null,null,{"$f":"SUM(BO106:BO112)","v":0}]
[null,null,"Итого по разделу",null,null,null,null,null,null,null,null,{"$f":"L114+L129+L130+L131+L136+L137","v":2057.25}]
[null,null,"Справочно"]
[null,null,"  материальные ресурсы, отсутствующие в ФРСН",null,null,null,null,null,null,null,null,{"$f":"SUM(AX106:AX112)","v":2057.25}]
[null,null,"  оборудование, отсутствующие в ФРСН",null,null,null,null,null,null,null,null,{"$f":"SUM(AY106:AY112)","v":0}]
[null,null,"  затраты труда рабочих",null,null,null,{"$f":"Source!F454","v":0}]
[null,null,"  затраты труда машинистов",null,null,null,{"$f":"Source!F455","v":0}]
[]
[]
[null,null,"ИТОГИ ПО СМЕТЕ"]
[]
[null,null,"ВСЕГО строительные работы",null,null,null,null,null,null,null,null,{"$f":"L150+L165+L166","v":5198.4400000000005}]
[null,null,"в том числе"]
[null,null,"Всего прямые затраты",null,null,null,null,null,null,null,null,{"$f":"L152+L153+L159+L163","v":3399.4}]
[null,null,"в том числе"]
[null,null,"  оплата труда (ОТ)",null,null,null,null,null,null,null,null,{"$f":"SUMIF(CD52:CD144, 1, AR52:AR144)","v":1203.3599999999999}]
[null,null,"  эксплуатация машин и механизмов",null,null,null,null,null,null,null,null,{"$f":"L155+L158+L157","v":6.8199999999999994}]
[null,null,"  в том числе"]
[null,null,"  эксплуатация машин и механизмов",null,null,null,null,null,null,null,null,{"$f":"SUMIF(CD52:CD144, 1, AO52:AO144)","v":2.7699999999999996}]
[null,null,"    в том числе"]
[null,null,"  оплата труда машинистов (ОТм)",null,null,null,null,null,null,null,null,{"$f":"SUMIF(CD52:CD144, 1, AT52:AT144)","v":4.05}]
[null,null,"    доплаты к оплате труда машинистов",null,null,null,null,null,null,null,null,{"$f":"SUMIF(CD52:CD144, 1, AV52:AV144)","v":0}]
[null,null,"  материальные ресурсы",null,null,null,null,null,null,null,null,{"$f":"L161+L162","v":2189.2200000000003}]
[null,null,"  в том числе"]
[null,null,"    материальные ресурсы без учета дополнительной перевозки",null,null,null,null,null,null,null,null,{"$f":"SUMIF(CD52:CD144, 1, AW52:AW144)-SUMIF(CD52:CD144, 1, BK52:BK144)","v":2189.2200000000003}]
[null,null,"    дополнительная перевозка материальных ресурсов",null,null,null,null,null,null,null,null,{"$f":"SUMIF(CD52:CD144, 1, BC52:BC144)","v":0}]
[null,null,"  перевозка",null,null,null,null,null,null,null,null,{"$f":"SUMIF(CD52:CD144, 1, BB52:BB144)","v":0}]
[null,null,"ФОТ (справочно)",null,null,null,null,null,null,null,null,{"$f":"SUMIF(CD52:CD144, 1, AR52:AR144)+SUMIF(CD52:CD144, 1, AT52:AT144)+SUMIF(CD52:CD144, 1, AV52:AV144)","v":1207.4099999999999}]
[null,null,"накладные расходы",null,null,null,null,null,null,null,null,{"$f":"SUMIF(CD52:CD144, 1, AZ52:AZ144)","v":1207.4100000000001}]
[null,null,"сметная прибыль",null,null,null,null,null,null,null,null,{"$f":"SUMIF(CD52:CD144, 1, BA52:BA144)","v":591.63}]
[]
[null,null,"ВСЕГО монтажные работы",null,null,null,null,null,null,null,null,{"$f":"L170+L185+L186","v":0}]
[null,null,"в том числе"]
[null,null,"Всего прямые затраты",null,null,null,null,null,null,null,null,{"$f":"L172+L173+L179+L183","v":0}]
[null,null,"в том числе"]
[null,null,"  оплата труда (ОТ)",null,null,null,null,null,null,null,null,{"$f":"SUMIF(CD52:CD166, 2, AR52:AR166)","v":0}]
[null,null,"  эксплуатация машин и механизмов",null,null,null,null,null,null,null,null,{"$f":"L175+L178+L177","v":0}]
[null,null,"  в том числе"]
[null,null,"  эксплуатация машин и механизмов",null,null,null,null,null,null,null,null,{"$f":"SUMIF(CD52:CD166, 2, AO52:AO166)","v":0}]
[null,null,"    в том числе"]
[null,null,"  оплата труда машинистов (ОТм)",null,null,null,null,null,null,null,null,{"$f":"SUMIF(CD52:CD166, 2, AT52:AT166)","v":0}]
[null,null,"    доплаты к оплате труда машинистов",null,null,null,null,null,null,null,null,{"$f":"SUMIF(CD52:CD166, 2, AV52:AV166)","v":0}]
[null,null,"  материальные ресурсы",null,null,null,null,null,null,null,null,{"$f":"L181+L182","v":0}]
[null,null,"  в том числе"]
[null,null,"    материальные ресурсы без учета дополнительной перевозки",null,null,null,null,null,null,null,null,{"$f":"SUMIF(CD52:CD166, 2, AW52:AW166)-SUMIF(CD52:CD166, 2, BK52:BK166)","v":0}]
[null,null,"    дополнительная перевозка материальных ресурсов",null,null,null,null,null,null,null,null,{"$f":"SUMIF(CD52:CD166, 2, BC52:BC166)","v":0}]
[null,null,"  перевозка",null,null,null,null,null,null,null,null,{"$f":"SUMIF(CD52:CD166, 2, BB52:BB166)","v":0}]
[null,null,"ФОТ (справочно)",null,null,null,null,null,null,null,null,{"$f":"SUMIF(CD52:CD166, 2, AR52:AR166)+SUMIF(CD52:CD166, 2, AT52:AT166)+SUMIF(CD52:CD166, 2, AV52:AV166)","v":0}]
[null,null,"накладные расходы",null,null,null,null,null,null,null,null,{"$f":"SUMIF(CD52:CD166, 2, AZ52:AZ166)","v":0}]
[null,null,"сметная прибыль",null,null,null,null,null,null,null,null,{"$f":"SUMIF(CD52:CD166, 2, BA52:BA166)","v":0}]
[]
[null,null,"ВСЕГО оборудование",null,null,null,null,null,null,null,null,{"$f":"L190+L191","v":0}]
[null,null,"в том числе"]
[null,null,"  оборудование без учета дополнительной перевозки",null,null,null,null,null,null,null,null,{"$f":"SUMIF(CD52:CD186, 3, BK52:BK186)","v":0}]
[null,null,"  дополнительная перевозка оборудования",null,null,null,null,null,null,null,null,{"$f":"SUMIF(CD52:CD186, 3, BD52:BD186)","v":0}]
[]
[null,null,"ВСЕГО прочие затраты",null,null,null,null,null,null,null,null,{"$f":"L201+L216+L217+L195+L196+L197+L198","v":0}]
[null,null,"в том числе"]
[null,null,"   прочие затраты"]
[null,null,"   прочие затраты",null,null,null,null,null,null,null,null,{"$f":"SUM(BQ52:BQ191)","v":0}]
[null,null,"   прочие перевозки",null,null,null,null,null,null,null,null,{"$f":"SUMIF(CD52:CD191, 4, BB52:BB191)+SUMIF(CD52:CD191, 4, BC52:BC191)+SUMIF(CD52:CD191, 4, BD52:BD191)","v":0}]
[null,null,"   Хозяйственный инвентарь",null,null,null,null,null,null,null,null,{"$f":"SUM(BO52:BO191)","v":0}]
[null,null,"Пусконаладочные работы",null,null,null,null,null,null,null,null,{"$f":"L201+L216+L217","v":0}]
[null,null,"в том числе"]
[null,null,"Всего прямые затраты",null,null,null,null,null,null,null,null,{"$f":"L203+L204+L210+L214","v":0}]
[null,null,"в том числе"]
[null,null,"  оплата труда (ОТ)",null,null,null,null,null,null,null,null,{"$f":"SUMIF(CD52:CD191, 4, AR52:AR191)","v":0}]
[null,null,"  эксплуатация машин и механизмов",null,null,null,null,null,null,null,null,{"$f":"L206+L209+L208","v":0}]
[null,null,"  в том числе"]
[null,null,"  эксплуатация машин и механизмов",null,null,null,null,null,null,null,null,{"$f":"SUMIF(CD52:CD191, 4, AO52:AO191)","v":0}]
[null,null,"    в том числе"]
[null,null,"  оплата труда машинистов (ОТм)",null,null,null,null,null,null,null,null,{"$f":"SUMIF(CD52:CD191, 4, AT52:AT191)","v":0}]
[null,null,"    доплаты к оплате труда машинистов",null,null,null,null,null,null,null,null,{"$f":"SUMIF(CD52:CD191, 4, AV52:AV191)","v":0}]
[null,null,"  материальные ресурсы",null,null,null,null,null,null,null,null,{"$f":"L212+L213","v":0}]
[null,null,"  в том числе"]
[null,null,"    материальные ресурсы без учета дополнительной перевозки",null,null,null,null,null,null,null,null,{"$f":"SUMIF(CD52:CD191, 4, AW52:AW191)-SUMIF(CD52:CD191, 4, BK52:BK191)","v":0}]
[null,null,"    дополнительная перевозка материальных ресурсов",null,null,null,null,null,null,null,null,{"$f":"SUMIF(CD52:CD191, 4, BC52:BC191)","v":0}]
[null,null,"  перевозка",null,null,null,null,null,null,null,null,{"$f":"SUMIF(CD52:CD191, 4, BB52:BB191)","v":0}]
[null,null,"ФОТ (справочно)",null,null,null,null,null,null,null,null,{"$f":"SUMIF(CD52:CD191, 4, AR52:AR191)+SUMIF(CD52:CD191, 4, AT52:AT191)+SUMIF(CD52:CD191, 4, AV52:AV191)","v":0}]
[null,null,"накладные расходы",null,null,null,null,null,null,null,null,{"$f":"SUMIF(CD52:CD191, 4, AZ52:AZ191)","v":0}]
[null,null,"сметная прибыль",null,null,null,null,null,null,null,null,{"$f":"SUMIF(CD52:CD191, 4, BA52:BA191)","v":0}]
[]
[null,null,"ВСЕГО по смете",null,null,null,null,null,null,null,null,{"$f":"L148+L168+L188+L193","v":5198.4400000000005}]
[null,null,"в том числе"]
[null,null,"Всего прямые затраты",null,null,null,null,null,null,null,null,{"$f":"L223+L224+L230+L234","v":3399.4}]
[null,null,"в том числе"]
[null,null,"  оплата труда (ОТ)",null,null,null,null,null,null,null,null,{"$f":"SUM(AR52:AR217)","v":1203.3599999999999}]
[null,null,"  эксплуатация машин и механизмов",null,null,null,null,null,null,null,null,{"$f":"L226+L229+L228","v":6.8199999999999994}]
[null,null,"  в том числе"]
[null,null,"  эксплуатация машин и механизмов",null,null,null,null,null,null,null,null,{"$f":"SUM(AO52:AO217)","v":2.7699999999999996}]
[null,null,"    в том числе"]
[null,null,"  оплата труда машинистов (ОТм)",null,null,null,null,null,null,null,null,{"$f":"SUM(AT52:AT217)","v":4.05}]
[null,null,"    доплаты к оплате труда машинистов",null,null,null,null,null,null,null,null,{"$f":"SUM(AV52:AV217)","v":0}]
[null,null,"  материальные ресурсы",null,null,null,null,null,null,null,null,{"$f":"L232+L233","v":2189.2200000000003}]
[null,null,"  в том числе"]
[null,null,"    материальные ресурсы без учета дополнительной перевозки",null,null,null,null,null,null,null,null,{"$f":"SUM(AW52:AW217)-SUM(BK52:BK217)","v":2189.2200000000003}]
[null,null,"    дополнительная перевозка материальных ресурсов",null,null,null,null,null,null,null,null,{"$f":"SUM(BC52:BC217)","v":0}]
[null,null,"  перевозка",null,null,null,null,null,null,null,null,{"$f":"SUM(BB52:BB217)","v":0}]
[null,null,"Всего ФОТ (справочно)",null,null,null,null,null,null,null,null,{"$f":"SUM(AR52:AR217)+SUM(AT52:AT217)+SUM(AV52:AV217)","v":1207.4099999999999}]
[null,null,"Всего накладные расходы",null,null,null,null,null,null,null,null,{"$f":"SUM(AZ52:AZ217)","v":1207.4100000000001}]
[null,null,"Всего сметная прибыль",null,null,null,null,null,null,null,null,{"$f":"SUM(BA52:BA217)","v":591.63}]
[null,null,"Всего оборудование",null,null,null,null,null,null,null,null,{"$f":"L240+L241","v":0}]
[null,null,"в том числе"]
[null,null,"  оборудование без учета дополнительной перевозки",null,null,null,null,null,null,null,null,{"$f":"SUM(BK52:BK217)","v":0}]
[null,null,"  дополнительная перевозка оборудования",null,null,null,null,null,null,null,null,{"$f":"SUM(BD52:BD217)","v":0}]
[null,null,"Всего прочие затраты",null,null,null,null,null,null,null,null,{"$f":"L193","v":0}]
[null,null,"Справочно"]
[null,null,"  материальные ресурсы, отсутствующие в ФРСН",null,null,null,null,null,null,null,null,{"$f":"SUM(AX52:AX217)","v":2057.25}]
[null,null,"  оборудование, отсутствующие в ФРСН",null,null,null,null,null,null,null,null,{"$f":"SUM(AY52:AY217)","v":0}]
[null,null,"  затраты труда рабочих",null,null,null,{"$f":"Source!F521","v":1.6281600000000001}]
[null,null,"  затраты труда машинистов",null,null,null,{"$f":"Source!F522","v":5.0879999999999996E-3}]
[]
[]
[]
[null,"Составил   ",{"$f":"IF(Source!AC15<>\"\", Source!AC15,\" \")","v":" "},null,null,null,null,{"$f":"IF(Source!AB15<>\"\", Source!AB15,\" \")","v":"Чайкин А.В."}]
[null,null,"[должность,подпись(инициалы,фамилия)]"]
[]
[null,"Проверил   ",{"$f":"IF(Source!AE15<>\"\", Source!AE15,\" \")","v":" "},null,null,null,null,{"$f":"IF(Source!AD15<>\"\", Source!AD15,\" \")","v":" "}]
[null,null,"[должность,подпись(инициалы,фамилия)]"]

{"sheet":"09-01-01","index":1,"n_rows":256,"n_cols":93,"rows_kept":256,"cut":false,"hidden":false,"merged":[[1,0,1,4],[1,5,1,11],[3,0,3,4],[3,5,3,11],[5,0,5,4],[5,5,5,11],[13,0,13,4],[13,5,13,11],[15,0,15,4],[15,5,15,11],[18,0,18,11],[19,0,19,11],[7,0,7,4],[7,5,7,11],[9,0,9,4],[9,5,9,11],[11,0,11,4],[11,5,11,11],[33,2,33,11],[37,2,37,3],[40,2,40,3],[41,2,41,3],[42,2,42,3],[43,2,43,3],[21,0,21,11],[22,0,22,11],[24,0,24,11],[26,0,26,11],[27,0,27,11],[32,2,32,11],[52,0,52,11],[54,2,54,11],[62,2,62,7],[62,8,62,9],[62,10,62,11],[64,2,64,11],[45,0,49,0],[45,1,49,1],[45,2,49,2],[45,3,49,3],[45,4,48,6],[45,7,48,11],[84,2,84,11],[92,2,92,7],[92,8,92,9],[92,10,92,11],[94,2,94,11],[102,2,102,7],[102,8,102,9],[102,10,102,11],[72,2,72,7],[72,8,72,9],[72,10,72,11],[74,2,74,11],[82,2,82,7],[82,8,82,9],[82,10,82,11],[116,2,116,7],[117,2,117,7],[118,2,118,7],[119,2,119,7],[120,2,120,7],[121,2,121,7],[104,2,104,11],[112,2,112,7],[112,8,112,9],[112,10,112,11],[114,2,114,7],[115,2,115,7],[128,2,128,7],[129,2,129,7],[130,2,130,7],[131,2,131,7],[132,2,132,7],[133,2,133,7],[122,2,122,7],[123,2,123,7],[124,2,124,7],[125,2,125,7],[126,2,126,7],[127,2,127,7],[140,2,140,7],[141,2,141,7],[142,2,142,5],[143,2,143,5],[146,2,146,7],[148,2,148,7],[134,2,134,7],[135,2,135,7],[136,2,136,7],[137,2,137,7],[138,2,138,7],[139,2,139,7],[155,2,155,7],[156,2,156,7],[157,2,157,7],[158,2,158,7],[159,2,159,7],[160,2,160,7],[149,2,149,7],[150,2,150,7],[151,2,151,7],[152,2,152,7],[153,2,153,7],[154,2,154,7],[168,2,168,7],[169,2,169,7],[170,2,170,7],[171,2,171,7],[172,2,172,7],[173,2,173,7],[161,2,161,7],[162,2,162,7],[163,2,163,7],[164,2,164,7],[165,2,165,7],[166,2,166,7],[180,2,180,7],[181,2,181,7],[182,2,182,7],[183,2,183,7],[184,2,184,7],[185,2,185,7],[174,2,174,7],[175,2,175,7],[176,2,176,7],[177,2,177,7],[178,2,178,7],[179,2,179,7],[194,2,194,7],[195,2,195,7],[196,2,196,7],[197,2,197,7],[198,2,198,7],[199,2,199,7],[186,2,186,7],[188,2,188,7],[189,2,189,7],[190,2,190,7],[191,2,191,7],[193,2,193,7],[206,2,206,7],[207,2,207,7],[208,2,208,7],[209,2,209,7],[210,2,210,7],[211,2,211,7],[200,2,200,7],[201,2,201,7],[202,2,202,7],[203,2,203,7],[204,2,204,7],[205,2,205,7],[219,2,219,7],[220,2,220,7],[221,2,221,7],[222,2,222,7],[223,2,223,7],[224,2,224,7],[212,2,212,7],[213,2,213,7],[214,2,214,7],[215,2,215,7],[216,2,216,7],[217,2,217,7],[231,2,231,7],[232,2,232,7],[233,2,233,7],[234,2,234,7],[235,2,235,7],[236,2,236,7],[225,2,225,7],[226,2,226,7],[227,2,227,7],[228,2,228,7],[229,2,229,7],[230,2,230,7],[255,2,255,6],[243,2,243,7],[244,2,244,7],[245,2,245,7],[246,2,246,5],[247,2,247,5],[252,2,252,6],[237,2,237,7],[238,2,238,7],[239,2,239,7],[240,2,240,7],[241,2,241,7],[242,2,242,7]]}
[{"$f":"Source!B1","v":"Smeta.RU Flash  (495) 974-1589"}]
["Наименование программного продукта",null,null,null,null,"Программа для ЭВМ «Программа: «Smeta.RU Flash» версия 12»"]
[]
["Наименование редакции сметных нормативов",null,null,null,null,{"$f":"IF(Source!CQ12 <> \"\", Source!CQ12, \"\")","v":"Приказ Минстроя России от 30.12.2021 г. № 1046/пр;  Приказ Минстроя России от 04.08.2020 г. № 421/пр;  Приказ Минстроя России от 21.12.2020 г. № 812/пр;  Приказ Минстроя России от 11.12.2020 г. № 774/пр"},null,null,null,null,null,null,null,null,null,null,null,null,null,null,null,null,null,null,null,null,null,null,null,null,null,null,null,null,null,null,null,null,null,null,null,null,null,null,null,null,null,null,null,null,null,null,null,null,null,null,null,null,null,null,null,null,null,null,null,null,null,null,null,null,null,null,null,null,null,null,null,null,null,null,null,null,null,null,null,null,null,null,null,null,null,null,{"$f":"IF(Source!CQ12 <> \"\", Source!CQ12, \"\")","v":"Приказ Минстроя России от 30.12.2021 г. № 1046/пр;  Приказ Минстроя России от 04.08.2020 г. № 421/пр;  Приказ Минстроя России от 21.12.2020 г. № 812/пр;  Приказ Минстроя России от 11.12.2020 г. № 774/пр"}]
[]
["Реквизиты приказа Минстроя России об утверждении дополнений и изменений к сметным нормативам",null,null,null,null,{"$f":"IF(Source!CV12 <> \"\", Source!CV12, \"\")","v":"Приказ Минстроя России от 18.05.2022 г. № 378/пр; Приказ Минстроя России от 26.08.2022 г. № 703/пр; Приказ Минстроя России от 26.10.2022 г. № 905/пр;  Приказ Минстроя России от 27.12.2022 г. № 1133/пр; Приказ Минстроя России от 10.02.2023 г. № 84/пр; Приказ Минстроя России от 11.05.2023 г. № 335/пр;  Приказ Минстроя России от 02.08.2023 г. № 551/пр; Приказ Минстроя России от 14.11.2023 г. № 817/пр; Приказ Минстроя России от 16.02.2024 г. № 102/пр;  Приказ Минстроя России от 13.05.2024 г. № 323/пр; Приказ Минстроя России от 09.08.2024 г. № 524/пр; Приказ Минстроя России от 07.11.2024 г. № 747/пр;  Приказ Минстроя России от 07.02.2025 г. № 69/пр; Приказ Минстроя России от 19.05.2025 г. № 299/пр; Приказ Минстроя России от 14.08.2025 г. № 490/пр;  Приказ Минстроя России от 12.11.2025 г. № 696/пр; Приказ Минстроя России от 17.02.2026 г. № 91/пр;  Приказ Минстроя России от 07.07.2022 г. № 557/пр; Приказ Минстроя России от 30.01.2024 г. № 55/пр; Приказ Минстроя России от 23.01.2025 г. № 30/пр;  Приказ Минстроя России от 02.09.2021 г. № 636/пр; Приказ Минстроя России от 26.07.2022 г. № 611/пр; Приказ Минстроя России от 22.04.2022 г. № 317/пр"},null,null,null,null,null,null,null,null,null,null,null,null,null,null,null,null,null,null,null,null,null,null,null,null,null,null,null,null,null,null,null,null,null,null,null,null,null,null,null,null,null,null,null,null,null,null,null,null,null,null,null,null,null,null,null,null,null,null,null,null,null,null,null,null,null,null,null,null,null,null,null,null,null,null,null,null,null,null,null,null,null,null,null,null,null,null,{"$f":"IF(Source!CV12 <> \"\", Source!CV12, \"\")","v":"Приказ Минстроя России от 18.05.2022 г. № 378/пр; Приказ Минстроя России от 26.08.2022 г. № 703/пр; Приказ Минстроя России от 26.10.2022 г. № 905/пр;  Приказ Минстроя России от 27.12.2022 г. № 1133/пр; Приказ Минстроя России от 10.02.2023 г. № 84/пр; Приказ Минстроя России от 11.05.2023 г. № 335/пр;  Приказ Минстроя России от 02.08.2023 г. № 551/пр; Приказ Минстроя России от 14.11.2023 г. № 817/пр; Приказ Минстроя России от 16.02.2024 г. № 102/пр;  Приказ Минстроя России от 13.05.2024 г. № 323/пр; Приказ Минстроя России от 09.08.2024 г. № 524/пр; Приказ Минстроя России от 07.11.2024 г. № 747/пр;  Приказ Минстроя России от 07.02.2025 г. № 69/пр; Приказ Минстроя России от 19.05.2025 г. № 299/пр; Приказ Минстроя России от 14.08.2025 г. № 490/пр;  Приказ Минстроя России от 12.11.2025 г. № 696/пр; Приказ Минстроя России от 17.02.2026 г. № 91/пр;  Приказ Минстроя России от 07.07.2022 г. № 557/пр; Приказ Минстроя России от 30.01.2024 г. № 55/пр; Приказ Минстроя России от 23.01.2025 г. № 30/пр;  Приказ Минстроя России от 02.09.2021 г. № 636/пр; Приказ Минстроя России от 26.07.2022 г. № 611/пр; Приказ Минстроя России от 22.04.2022 г. № 317/пр"}]
[]
["Реквизиты письма Минстроя России об индексах изменения сметной стоимости строительства, включаемые в федеральный реестр сметных нормативов и размещаемые в федеральной государственной информационной системе ценообразования в строительстве, подготовленного в соответствии с пунктом 85 Методики расчета индексов изменения сметной стоимости строительства, утвержденной приказом Министерства строительства и жилищно-коммунального хозяйства Российской Федерации от 5 июня 2019 г. N 326/пр ",null,null,null,null,"Письмо Минстроя России от 25.02.2026 № 9859-ИФ/09"]
[]
["Реквизиты нормативного правового акта об утверждении оплаты труда, утверждаемый в соответствии с пунктом 22(1) Правилами мониторинга цен, утвержденными постановлением Правительства Российской Федерации от 23 декабря 2016 г. N 1452",null,null,null,null,"Приказ ПАО 'РОССЕТИ' от 26.12.2024 № 612"]
[]
["Обоснование принятых текущих цен на строительные ресурсы",null,null,null,null,"ФГИС ЦС, конъюнктурный анализ"]
[]
["Наименование субъекта Российской Федерации",null,null,null,null,{"$f":"IF(Source!CZ12 <> \"\", Source!CZ12, \"\")","v":""}]
[]
["Наименование зоны субъекта Российской Федерации",null,null,null,null,{"$f":"IF(Source!DA12 <> \"\", Source!DA12, \"\")","v":""}]
[]
[]
[]
["(наименование стройки)"]
[]
["355841_Гончарова_(ДОТ)"]
["(наименование объекта капитального строительства)"]
[]
[{"$f":"CONCATENATE( \"ЛОКАЛЬНАЯ СМЕТА № \", Source!L532, \" \",Source!CM532)","v":"ЛОКАЛЬНАЯ СМЕТА № 09-01-01 "}]
[]
[{"$f":"IF(Source!G532<>\"Новая локальная смета\", Source!G532, \"\")","v":"ПНР ВЛИ-0,4 кВ"}]
["(наименование работ и затрат)"]
[]
[]
["Составлен",null,"Ресурсно-индексным","методом"]
[]
["Основание"]
[null,null,"(проектная и (или) иная техническая документация)"]
[]
["Составлен(а) в текущем уровне цен на май 2026 года"]
[]
["Сметная стоимость",null,{"$f":"C41+C42+C43+C44","v":29.34},null,"тыс. руб."]
[null,null,null,null,null,null,"Средства на оплату труда рабочих",null,null,null,{"$f":"ROUND(SUM(AR52:AR249)/1000, 2)","v":13.97},"тыс. руб."]
[null,"в том числе:",null,null,null,null,"Средства на оплату труда машинистов",null,null,null,{"$f":"ROUND(SUM(AT52:AT249)/1000, 2)","v":0},"тыс. руб."]
[null,"строительных работ",{"$f":"ROUND((Source!F612)/1000, 2)","v":0},null,"тыс. руб.",null,"Нормативные затраты труда рабочих ",null,null,null,{"$f":"Source!F617","v":12.95712},"чел.-ч."]
[null,"монтажных работ    ",{"$f":"ROUND((Source!F613)/1000, 2)","v":0},null,"тыс. руб.",null,"Нормативные затраты труда машинистов ",null,null,null,{"$f":"Source!F618","v":0},"чел.-ч."]
[null,"оборудования         ",{"$f":"ROUND((Source!F604)/1000, 2)","v":0},null,"тыс. руб."]
[null,"прочих затрат       ",{"$f":"ROUND((Source!F614)/1000, 2)","v":29.34},null,"тыс. руб."]
[]
["№ п/п","Обоснование","Наименование работ и затрат","Единица измерения","Количество",null,null,"Сметная стоимость, руб."]
[]
[]
[]
[null,null,null,null,"на единицу измерения","коэффициенты","всего с учетом коэффициентов","на единицу измерения в базисном уровне цен","индекс","на единицу измерения в текущем уровне цен","коэффициенты","всего в текущем уровне цен"]
[1,2,3,4,5,6,7,8,9,10,11,12]
[]
["Раздел: ПНР"]
["1","ГЭСНп 01-11-010-01",{"$f":"Source!G540","v":"Измерение сопротивления растеканию тока: заземлителя"},{"$f":"Source!H540","v":"измерение"},{"$f":"Source!K540","v":3},null,{"$f":"Source!I540","v":3}]
[null,"421/пр_2020_прил.10_т.1_п.4_гр.3","ЭМ *1,20; ЗТ *1,20; ЗТм *1,20"]
[null,1,"ОТ (ЗТ)","чел.-ч.",null,null,{"$f":"Source!U540","v":3.6},null,null,null,null,{"$f":"SUM(L57:L58)-SUMIF(CE57:CE58, 1, L57:L58)","v":3882.04}]
[null,"2-100-06","Рабочий 6 разряда","чел.-ч",0.5,{"$f":"ROUND((0.2+1),7)","v":1.2},{"$f":"SmtRes!CX639","v":1.8},null,null,{"$f":"SmtRes!CZ639","v":1090.46},null,{"$f":"SmtRes!DI639","v":1962.83}]
[null,"3-200-03","Инженер III категории","чел.-ч",0.5,{"$f":"ROUND((0.2+1),7)","v":1.2},{"$f":"SmtRes!CX640","v":1.8},null,null,{"$f":"SmtRes!CZ640","v":1066.23},null,{"$f":"SmtRes!DI640","v":1919.21}]
[null,null,"Итого прямые затраты",null,null,null,null,null,null,null,null,{"$f":"L56","v":3882.04}]
[null,null,"ФОТ",null,null,null,null,null,null,null,null,{"$f":"SUM(AR54:AR63)+SUM(AS54:AS63)+SUM(AT54:AT63)+SUM(AU54:AU63)+SUM(AV54:AV63)","v":3882.04}]
[null,"Пр/812-083.0-1","НР Пусконаладочные работы","%",{"$f":"Source!BZ540","v":74},null,{"$f":"Source!AT540","v":74},null,null,null,null,{"$f":"SUM(AZ54:AZ63)","v":2872.71}]
[null,"Пр/774-083.0","СП Пусконаладочные работы","%",{"$f":"Source!CA540","v":36},null,{"$f":"Source!AU540","v":36},null,null,null,null,{"$f":"SUM(BA54:BA63)","v":1397.53}]
[null,null,"Всего по позиции",null,null,null,null,null,{"$f":"IF(E54<>0,K63/E54, 0)","v":2717.4266666666667},null,{"$f":"L56+L61+L62","v":8152.28},null,null,null,null,null,null,null,null,null,null,null,null,null,null,null,null,null,null,{"$f":"ROUND((Source!AT540/100)*((ROUND(SUMIF(SmtRes!AQ639:'SmtRes'!AQ640,\"=1\",SmtRes!AD639:'SmtRes'!AD640)*Source!I540, 2)+ROUND(SUMIF(SmtRes!AQ639:'SmtRes'!AQ640,\"=1\",SmtRes!AC639:'SmtRes'!AC640)*Source!I540, 2))), 2)","v":4787.8500000000004},{"$f":"ROUND((Source!AU540/100)*((ROUND(SUMIF(SmtRes!AQ639:'SmtRes'!AQ640,\"=1\",SmtRes!AD639:'SmtRes'!AD640)*Source!I540, 2)+ROUND(SUMIF(SmtRes!AQ639:'SmtRes'!AQ640,\"=1\",SmtRes!AC639:'SmtRes'!AC640)*Source!I540, 2))), 2)","v":2329.23},null,null,null,null,null,null,null,null,{"$f":"L56+L61+L62","v":8152.28},{"$f":"0","v":0},null,"=",{"$f":"L56","v":3882.04},null,{"$f":"0","v":0},null,"=",{"$f":"0","v":0},null,null,{"$f":"Source!X540","v":2872.71},{"$f":"Source!Y540","v":1397.53},null,null,null,null,null,null,null,null,null,null,null,null,null,null,null,null,null,null,{"$f":"K63","v":8152.28},null,null,{"$f":"ROUND(K63*80/100, 2)","v":6521.82},{"$f":"K63-BW63","v":1630.46},null,null,null,{"$f":"Source!BM540","v":200001},{"$f":"Source!E540","v":"1"},4]
["2","ГЭСНп 01-11-011-01",{"$f":"Source!G543","v":"Проверка наличия цепи между заземлителями и заземленными элементами"},{"$f":"Source!H543","v":"100 измерений"},{"$f":"Source!K543","v":0.06},null,{"$f":"Source!I543","v":0.06}]
[null,"421/пр_2020_прил.10_т.1_п.4_гр.3","ЭМ *1,20; ЗТ *1,20; ЗТм *1,20"]
[null,1,"ОТ (ЗТ)","чел.-ч.",null,null,{"$f":"Source!U543","v":0.93311999999999995},null,null,null,null,{"$f":"SUM(L67:L68)-SUMIF(CE67:CE68, 1, L67:L68)","v":1006.23}]
[null,"2-100-06","Рабочий 6 разряда","чел.-ч",6.48,{"$f":"ROUND((0.2+1),7)","v":1.2},{"$f":"SmtRes!CX643","v":0.46655999999999997},null,null,{"$f":"SmtRes!CZ643","v":1090.46},null,{"$f":"SmtRes!DI643","v":508.77}]
[null,"3-200-03","Инженер III категории","чел.-ч",6.48,{"$f":"ROUND((0.2+1),7)","v":1.2},{"$f":"SmtRes!CX644","v":0.46655999999999997},null,null,{"$f":"SmtRes!CZ644","v":1066.23},null,{"$f":"SmtRes!DI644","v":497.46}]
[null,null,"Итого прямые затраты",null,null,null,null,null,null,null,null,{"$f":"L66","v":1006.23}]
[null,null,"ФОТ",null,null,null,null,null,null,null,null,{"$f":"SUM(AR64:AR73)+SUM(AS64:AS73)+SUM(AT64:AT73)+SUM(AU64:AU73)+SUM(AV64:AV73)","v":1006.23}]
[null,"Пр/812-083.0-1","НР Пусконаладочные работы","%",{"$f":"Source!BZ543","v":74},null,{"$f":"Source!AT543","v":74},null,null,null,null,{"$f":"SUM(AZ64:AZ73)","v":744.61}]
[null,"Пр/774-083.0","СП Пусконаладочные работы","%",{"$f":"Source!CA543","v":36},null,{"$f":"Source!AU543","v":36},null,null,null,null,{"$f":"SUM(BA64:BA73)","v":362.24}]
[null,null,"Всего по позиции",null,null,null,null,null,{"$f":"IF(E64<>0,K73/E64, 0)","v":35218},null,{"$f":"L66+L71+L72","v":2113.08},null,null,null,null,null,null,null,null,null,null,null,null,null,null,null,null,null,null,{"$f":"ROUND((Source!AT543/100)*((ROUND(SUMIF(SmtRes!AQ643:'SmtRes'!AQ644,\"=1\",SmtRes!AD643:'SmtRes'!AD644)*Source!I543, 2)+ROUND(SUMIF(SmtRes!AQ643:'SmtRes'!AQ644,\"=1\",SmtRes!AC643:'SmtRes'!AC644)*Source!I543, 2))), 2)","v":95.76},{"$f":"ROUND((Source!AU543/100)*((ROUND(SUMIF(SmtRes!AQ643:'SmtRes'!AQ644,\"=1\",SmtRes!AD643:'SmtRes'!AD644)*Source!I543, 2)+ROUND(SUMIF(SmtRes!AQ643:'SmtRes'!AQ644,\"=1\",SmtRes!AC643:'SmtRes'!AC644)*Source!I543, 2))), 2)","v":46.58},null,null,null,null,null,null,null,null,{"$f":"L66+L71+L72","v":2113.08},{"$f":"0","v":0},null,"=",{"$f":"L66","v":1006.23},null,{"$f":"0","v":0},null,"=",{"$f":"0","v":0},null,null,{"$f":"Source!X543","v":744.61},{"$f":"Source!Y543","v":362.24},null,null,null,null,null,null,null,null,null,null,null,null,null,null,null,null,null,null,{"$f":"K73","v":2113.08},null,null,{"$f":"ROUND(K73*80/100, 2)","v":1690.46},{"$f":"K73-BW73","v":422.61999999999989},null,null,null,{"$f":"Source!BM543","v":200001},{"$f":"Source!E543","v":"2"},4]
["3","ГЭСНп 01-11-024-01",{"$f":"Source!G546","v":"Фазировка электрической линии или трансформатора с сетью напряжением: до 1 кВ"},{"$f":"Source!H546","v":"ШТ"},{"$f":"Source!K546","v":3},null,{"$f":"Source!I546","v":3}]
[null,"421/пр_2020_прил.10_т.1_п.4_гр.3","ЭМ *1,20; ЗТ *1,20; ЗТм *1,20"]
[null,1,"ОТ (ЗТ)","чел.-ч.",null,null,{"$f":"Source!U546","v":2.952},null,null,null,null,{"$f":"SUM(L77:L78)-SUMIF(CE77:CE78, 1, L77:L78)","v":3183.2799999999997}]
[null,"2-100-06","Рабочий 6 разряда","чел.-ч",0.41,{"$f":"ROUND((0.2+1),7)","v":1.2},{"$f":"SmtRes!CX647","v":1.476},null,null,{"$f":"SmtRes!CZ647","v":1090.46},null,{"$f":"SmtRes!DI647","v":1609.52}]
[null,"3-200-03","Инженер III категории","чел.-ч",0.41,{"$f":"ROUND((0.2+1),7)","v":1.2},{"$f":"SmtRes!CX648","v":1.476},null,null,{"$f":"SmtRes!CZ648","v":1066.23},null,{"$f":"SmtRes!DI648","v":1573.76}]
[null,null,"Итого прямые затраты",null,null,null,null,null,null,null,null,{"$f":"L76","v":3183.2799999999997}]
[null,null,"ФОТ",null,null,null,null,null,null,null,null,{"$f":"SUM(AR74:AR83)+SUM(AS74:AS83)+SUM(AT74:AT83)+SUM(AU74:AU83)+SUM(AV74:AV83)","v":3183.2799999999997}]
[null,"Пр/812-083.0-1","НР Пусконаладочные работы","%",{"$f":"Source!BZ546","v":74},null,{"$f":"Source!AT546","v":74},null,null,null,null,{"$f":"SUM(AZ74:AZ83)","v":2355.63}]
[null,"Пр/774-083.0","СП Пусконаладочные работы","%",{"$f":"Source!CA546","v":36},null,{"$f":"Source!AU546","v":36},null,null,null,null,{"$f":"SUM(BA74:BA83)","v":1145.98}]
[null,null,"Всего по позиции",null,null,null,null,null,{"$f":"IF(E74<>0,K83/E74, 0)","v":2228.2966666666666},null,{"$f":"L76+L81+L82","v":6684.8899999999994},null,null,null,null,null,null,null,null,null,null,null,null,null,null,null,null,null,null,{"$f":"ROUND((Source!AT546/100)*((ROUND(SUMIF(SmtRes!AQ647:'SmtRes'!AQ648,\"=1\",SmtRes!AD647:'SmtRes'!AD648)*Source!I546, 2)+ROUND(SUMIF(SmtRes!AQ647:'SmtRes'!AQ648,\"=1\",SmtRes!AC647:'SmtRes'!AC648)*Source!I546, 2))), 2)","v":4787.8500000000004},{"$f":"ROUND((Source!AU546/100)*((ROUND(SUMIF(SmtRes!AQ647:'SmtRes'!AQ648,\"=1\",SmtRes!AD647:'SmtRes'!AD648)*Source!I546, 2)+ROUND(SUMIF(SmtRes!AQ647:'SmtRes'!AQ648,\"=1\",SmtRes!AC647:'SmtRes'!AC648)*Source!I546, 2))), 2)","v":2329.23},null,null,null,null,null,null,null,null,{"$f":"L76+L81+L82","v":6684.8899999999994},{"$f":"0","v":0},null,"=",{"$f":"L76","v":3183.2799999999997},null,{"$f":"0","v":0},null,"=",{"$f":"0","v":0},null,null,{"$f":"Source!X546","v":2355.63},{"$f":"Source!Y546","v":1145.98},null,null,null,null,null,null,null,null,null,null,null,null,null,null,null,null,null,null,{"$f":"K83","v":6684.8899999999994},null,null,{"$f":"ROUND(K83*80/100, 2)","v":5347.91},{"$f":"K83-BW83","v":1336.9799999999996},null,null,null,{"$f":"Source!BM546","v":200001},{"$f":"Source!E546","v":"3"},4]
["4","ГЭСНп 01-11-012-01",{"$f":"Source!G549","v":"Определение удельного сопротивления грунта"},{"$f":"Source!H549","v":"измерение"},{"$f":"Source!K549","v":1},null,{"$f":"Source!I549","v":1}]
[null,"421/пр_2020_прил.10_т.1_п.4_гр.3","ЭМ *1,20; ЗТ *1,20; ЗТм *1,20"]
[null,1,"ОТ (ЗТ)","чел.-ч.",null,null,{"$f":"Source!U549","v":3.8879999999999999},null,null,null,null,{"$f":"SUM(L87:L88)-SUMIF(CE87:CE88, 1, L87:L88)","v":4192.6000000000004}]
[null,"2-100-06","Рабочий 6 разряда","чел.-ч",1.62,{"$f":"ROUND((0.2+1),7)","v":1.2},{"$f":"SmtRes!CX651","v":1.944},null,null,{"$f":"SmtRes!CZ651","v":1090.46},null,{"$f":"SmtRes!DI651","v":2119.85}]
[null,"3-200-03","Инженер III категории","чел.-ч",1.62,{"$f":"ROUND((0.2+1),7)","v":1.2},{"$f":"SmtRes!CX652","v":1.944},null,null,{"$f":"SmtRes!CZ652","v":1066.23},null,{"$f":"SmtRes!DI652","v":2072.75}]
[null,null,"Итого прямые затраты",null,null,null,null,null,null,null,null,{"$f":"L86","v":4192.6000000000004}]
[null,null,"ФОТ",null,null,null,null,null,null,null,null,{"$f":"SUM(AR84:AR93)+SUM(AS84:AS93)+SUM(AT84:AT93)+SUM(AU84:AU93)+SUM(AV84:AV93)","v":4192.6000000000004}]
[null,"Пр/812-083.0-1","НР Пусконаладочные работы","%",{"$f":"Source!BZ549","v":74},null,{"$f":"Source!AT549","v":74},null,null,null,null,{"$f":"SUM(AZ84:AZ93)","v":3102.52}]
[null,"Пр/774-083.0","СП Пусконаладочные работы","%",{"$f":"Source!CA549","v":36},null,{"$f":"Source!AU549","v":36},null,null,null,null,{"$f":"SUM(BA84:BA93)","v":1509.34}]
[null,null,"Всего по позиции",null,null,null,null,null,{"$f":"IF(E84<>0,K93/E84, 0)","v":8804.4600000000009},null,{"$f":"L86+L91+L92","v":8804.4600000000009},null,null,null,null,null,null,null,null,null,null,null,null,null,null,null,null,null,null,{"$f":"ROUND((Source!AT549/100)*((ROUND(SUMIF(SmtRes!AQ651:'SmtRes'!AQ652,\"=1\",SmtRes!AD651:'SmtRes'!AD652)*Source!I549, 2)+ROUND(SUMIF(SmtRes!AQ651:'SmtRes'!AQ652,\"=1\",SmtRes!AC651:'SmtRes'!AC652)*Source!I549, 2))), 2)","v":1595.95},{"$f":"ROUND((Source!AU549/100)*((ROUND(SUMIF(SmtRes!AQ651:'SmtRes'!AQ652,\"=1\",SmtRes!AD651:'SmtRes'!AD652)*Source!I549, 2)+ROUND(SUMIF(SmtRes!AQ651:'SmtRes'!AQ652,\"=1\",SmtRes!AC651:'SmtRes'!AC652)*Source!I549, 2))), 2)","v":776.41},null,null,null,null,null,null,null,null,{"$f":"L86+L91+L92","v":8804.4600000000009},{"$f":"0","v":0},null,"=",{"$f":"L86","v":4192.6000000000004},null,{"$f":"0","v":0},null,"=",{"$f":"0","v":0},null,null,{"$f":"Source!X549","v":3102.52},{"$f":"Source!Y549","v":1509.34},null,null,null,null,null,null,null,null,null,null,null,null,null,null,null,null,null,null,{"$f":"K93","v":8804.4600000000009},null,null,{"$f":"ROUND(K93*80/100, 2)","v":7043.57},{"$f":"K93-BW93","v":1760.8900000000012},null,null,null,{"$f":"Source!BM549","v":200001},{"$f":"Source!E549","v":"4"},4]
["5","ГЭСНп 01-11-013-01",{"$f":"Source!G555","v":"Замер полного сопротивления цепи \"фаза-нуль\""},{"$f":"Source!H555","v":"ШТ"},{"$f":"Source!K555","v":1},null,{"$f":"Source!I555","v":1}]
[null,"421/пр_2020_прил.10_т.1_п.4_гр.3","ЭМ *1,20; ЗТ *1,20; ЗТм *1,20"]
[null,1,"ОТ (ЗТ)","чел.-ч.",null,null,{"$f":"Source!U555","v":1.2},null,null,null,null,{"$f":"SUM(L97:L98)-SUMIF(CE97:CE98, 1, L97:L98)","v":1294.02}]
[null,"2-100-06","Рабочий 6 разряда","чел.-ч",0.5,{"$f":"ROUND((0.2+1),7)","v":1.2},{"$f":"SmtRes!CX659","v":0.6},null,null,{"$f":"SmtRes!CZ659","v":1090.46},null,{"$f":"SmtRes!DI659","v":654.28}]
[null,"3-200-03","Инженер III категории","чел.-ч",0.5,{"$f":"ROUND((0.2+1),7)","v":1.2},{"$f":"SmtRes!CX660","v":0.6},null,null,{"$f":"SmtRes!CZ660","v":1066.23},null,{"$f":"SmtRes!DI660","v":639.74}]
[null,null,"Итого прямые затраты",null,null,null,null,null,null,null,null,{"$f":"L96","v":1294.02}]
[null,null,"ФОТ",null,null,null,null,null,null,null,null,{"$f":"SUM(AR94:AR103)+SUM(AS94:AS103)+SUM(AT94:AT103)+SUM(AU94:AU103)+SUM(AV94:AV103)","v":1294.02}]
[null,"Пр/812-083.0-1","НР Пусконаладочные работы","%",{"$f":"Source!BZ555","v":74},null,{"$f":"Source!AT555","v":74},null,null,null,null,{"$f":"SUM(AZ94:AZ103)","v":957.57}]
[null,"Пр/774-083.0","СП Пусконаладочные работы","%",{"$f":"Source!CA555","v":36},null,{"$f":"Source!AU555","v":36},null,null,null,null,{"$f":"SUM(BA94:BA103)","v":465.85}]
[null,null,"Всего по позиции",null,null,null,null,null,{"$f":"IF(E94<>0,K103/E94, 0)","v":2717.44},null,{"$f":"L96+L101+L102","v":2717.44},null,null,null,null,null,null,null,null,null,null,null,null,null,null,null,null,null,null,{"$f":"ROUND((Source!AT555/100)*((ROUND(SUMIF(SmtRes!AQ659:'SmtRes'!AQ660,\"=1\",SmtRes!AD659:'SmtRes'!AD660)*Source!I555, 2)+ROUND(SUMIF(SmtRes!AQ659:'SmtRes'!AQ660,\"=1\",SmtRes!AC659:'SmtRes'!AC660)*Source!I555, 2))), 2)","v":1595.95},{"$f":"ROUND((Source!AU555/100)*((ROUND(SUMIF(SmtRes!AQ659:'SmtRes'!AQ660,\"=1\",SmtRes!AD659:'SmtRes'!AD660)*Source!I555, 2)+ROUND(SUMIF(SmtRes!AQ659:'SmtRes'!AQ660,\"=1\",SmtRes!AC659:'SmtRes'!AC660)*Source!I555, 2))), 2)","v":776.41},null,null,null,null,null,null,null,null,{"$f":"L96+L101+L102","v":2717.44},{"$f":"0","v":0},null,"=",{"$f":"L96","v":1294.02},null,{"$f":"0","v":0},null,"=",{"$f":"0","v":0},null,null,{"$f":"Source!X555","v":957.57},{"$f":"Source!Y555","v":465.85},null,null,null,null,null,null,null,null,null,null,null,null,null,null,null,null,null,null,{"$f":"K103","v":2717.44},null,null,{"$f":"ROUND(K103*80/100, 2)","v":2173.9499999999998},{"$f":"K103-BW103","v":543.49000000000024},null,null,null,{"$f":"Source!BM555","v":200001},{"$f":"Source!E555","v":"5"},4]
["6","ГЭСНп 01-11-028-01",{"$f":"Source!G558","v":"Измерение сопротивления изоляции (на линию) мегаомметром кабельных и других линий напряжением до 1 кВ, предназначенных для передачи электроэнергии к распределительным устройствам, щитам, шкафам, коммутационным аппаратам и электропотребителям"},{"$f":"Source!H558","v":"ШТ"},{"$f":"Source!K558","v":1},null,{"$f":"Source!I558","v":1}]
[null,"421/пр_2020_прил.10_т.7_п.3_гр.3","ЭМ *1,2; ЗТ *1,2; ЗТм *1,2"]
[null,1,"ОТ (ЗТ)","чел.-ч.",null,null,{"$f":"Source!U558","v":0.38400000000000001},null,null,null,null,{"$f":"SUM(L107:L108)-SUMIF(CE107:CE108, 1, L107:L108)","v":414.09000000000003}]
[null,"2-100-06","Рабочий 6 разряда","чел.-ч",0.16,{"$f":"ROUND((0.2+1),7)","v":1.2},{"$f":"SmtRes!CX663","v":0.192},null,null,{"$f":"SmtRes!CZ663","v":1090.46},null,{"$f":"SmtRes!DI663","v":209.37}]
[null,"3-200-03","Инженер III категории","чел.-ч",0.16,{"$f":"ROUND((0.2+1),7)","v":1.2},{"$f":"SmtRes!CX664","v":0.192},null,null,{"$f":"SmtRes!CZ664","v":1066.23},null,{"$f":"SmtRes!DI664","v":204.72}]
[null,null,"Итого прямые затраты",null,null,null,null,null,null,null,null,{"$f":"L106","v":414.09000000000003}]
[null,null,"ФОТ",null,null,null,null,null,null,null,null,{"$f":"SUM(AR104:AR113)+SUM(AS104:AS113)+SUM(AT104:AT113)+SUM(AU104:AU113)+SUM(AV104:AV113)","v":414.09000000000003}]
[null,"Пр/812-083.0-1","НР Пусконаладочные работы","%",{"$f":"Source!BZ558","v":74},null,{"$f":"Source!AT558","v":74},null,null,null,null,{"$f":"SUM(AZ104:AZ113)","v":306.43}]
[null,"Пр/774-083.0","СП Пусконаладочные работы","%",{"$f":"Source!CA558","v":36},null,{"$f":"Source!AU558","v":36},null,null,null,null,{"$f":"SUM(BA104:BA113)","v":149.07}]
[null,null,"Всего по позиции",null,null,null,null,null,{"$f":"IF(E104<>0,K113/E104, 0)","v":869.58999999999992},null,{"$f":"L106+L111+L112","v":869.58999999999992},null,null,null,null,null,null,null,null,null,null,null,null,null,null,null,null,null,null,{"$f":"ROUND((Source!AT558/100)*((ROUND(SUMIF(SmtRes!AQ663:'SmtRes'!AQ664,\"=1\",SmtRes!AD663:'SmtRes'!AD664)*Source!I558, 2)+ROUND(SUMIF(SmtRes!AQ663:'SmtRes'!AQ664,\"=1\",SmtRes!AC663:'SmtRes'!AC664)*Source!I558, 2))), 2)","v":1595.95},{"$f":"ROUND((Source!AU558/100)*((ROUND(SUMIF(SmtRes!AQ663:'SmtRes'!AQ664,\"=1\",SmtRes!AD663:'SmtRes'!AD664)*Source!I558, 2)+ROUND(SUMIF(SmtRes!AQ663:'SmtRes'!AQ664,\"=1\",SmtRes!AC663:'SmtRes'!AC664)*Source!I558, 2))), 2)","v":776.41},null,null,null,null,null,null,null,null,{"$f":"L106+L111+L112","v":869.58999999999992},{"$f":"0","v":0},null,"=",{"$f":"L106","v":414.09000000000003},null,{"$f":"0","v":0},null,"=",{"$f":"0","v":0},null,null,{"$f":"Source!X558","v":306.43},{"$f":"Source!Y558","v":149.07},null,null,null,null,null,null,null,null,null,null,null,null,null,null,null,null,null,null,{"$f":"K113","v":869.58999999999992},null,null,{"$f":"ROUND(K113*80/100, 2)","v":695.67},{"$f":"K113-BW113","v":173.91999999999996},null,null,null,{"$f":"Source!BM558","v":200001},{"$f":"Source!E558","v":"6"},4]
[]
[null,null,"Итого прямые затраты по разделу",null,null,null,null,null,null,null,null,{"$f":"L117+L118+L124+L128","v":13972.260000000002}]
[null,null,"в том числе"]
[null,null,"  оплата труда",null,null,null,null,null,null,null,null,{"$f":"SUM(AR53:AR113)","v":13972.260000000002}]
[null,null,"  эксплуатация машин и механизмов",null,null,null,null,null,null,null,null,{"$f":"L120+L123+L122","v":0}]
[null,null,"  в том числе"]
[null,null,"  эксплуатация машин и механизмов",null,null,null,null,null,null,null,null,{"$f":"SUM(AO53:AO113)","v":0}]
[null,null,"    в том числе"]
[null,null,"  оплата труда машинистов (ОТм)",null,null,null,null,null,null,null,null,{"$f":"SUM(AT53:AT113)","v":0}]
[null,null,"    доплаты к оплате труда машинистов",null,null,null,null,null,null,null,null,{"$f":"SUM(AV53:AV113)","v":0}]
[null,null,"  материальные ресурсы",null,null,null,null,null,null,null,null,{"$f":"L126+L127","v":0}]
[null,null,"  в том числе"]
[null,null,"    материальные ресурсы без учета дополнительной перевозки",null,null,null,null,null,null,null,null,{"$f":"SUM(AW53:AW113)-SUM(BK53:BK113)","v":0}]
[null,null,"    дополнительная перевозка материальных ресурсов",null,null,null,null,null,null,null,null,{"$f":"SUM(BC53:BC113)","v":0}]
[null,null,"  перевозка",null,null,null,null,null,null,null,null,{"$f":"SUM(BB53:BB113)","v":0}]
[null,null,"Всего ФОТ (справочно)",null,null,null,null,null,null,null,null,{"$f":"SUM(AR53:AR113)+SUM(AT53:AT113)+SUM(AV53:AV113)","v":13972.260000000002}]
[null,null,"Всего накладные расходы",null,null,null,null,null,null,null,null,{"$f":"SUM(AZ53:AZ113)","v":10339.470000000001}]
[null,null,"Всего сметная прибыль",null,null,null,null,null,null,null,null,{"$f":"SUM(BA53:BA113)","v":5030.01}]
[null,null,"Итого оборудование",null,null,null,null,null,null,null,null,{"$f":"L134+L135","v":0}]
[null,null,"в том числе"]
[null,null,"  оборудование без учета дополнительной перевозки",null,null,null,null,null,null,null,null,{"$f":"SUM(BK53:BK113)","v":0}]
[null,null,"  дополнительная перевозка оборудования",null,null,null,null,null,null,null,null,{"$f":"SUM(BD53:BD113)","v":0}]
[null,null,"Итого прочие затраты"]
[null,null,"Итого прочие затраты",null,null,null,null,null,null,null,null,{"$f":"SUM(BQ53:BQ113)","v":0}]
[null,null,"Итого хозяйственный инвентарь",null,null,null,null,null,null,null,null,{"$f":"SUM(BO53:BO113)","v":0}]
[null,null,"Итого по разделу",null,null,null,null,null,null,null,null,{"$f":"L115+L130+L131+L132+L137+L138","v":29341.740000000005}]
[null,null,"Справочно"]
[null,null,"  материальные ресурсы, отсутствующие в ФРСН",null,null,null,null,null,null,null,null,{"$f":"SUM(AX53:AX113)","v":0}]
[null,null,"  оборудование, отсутствующие в ФРСН",null,null,null,null,null,null,null,null,{"$f":"SUM(AY53:AY113)","v":0}]
[null,null,"  затраты труда рабочих",null,null,null,{"$f":"Source!F587","v":12.95712}]
[null,null,"  затраты труда машинистов",null,null,null,{"$f":"Source!F588","v":0}]
[]
[]
[null,null,"ИТОГИ ПО СМЕТЕ"]
[]
[null,null,"ВСЕГО строительные работы",null,null,null,null,null,null,null,null,{"$f":"L151+L166+L167","v":0}]
[null,null,"в том числе"]
[null,null,"Всего прямые затраты",null,null,null,null,null,null,null,null,{"$f":"L153+L154+L160+L164","v":0}]
[null,null,"в том числе"]
[null,null,"  оплата труда (ОТ)",null,null,null,null,null,null,null,null,{"$f":"SUMIF(CD52:CD145, 1, AR52:AR145)","v":0}]
[null,null,"  эксплуатация машин и механизмов",null,null,null,null,null,null,null,null,{"$f":"L156+L159+L158","v":0}]
[null,null,"  в том числе"]
[null,null,"  эксплуатация машин и механизмов",null,null,null,null,null,null,null,null,{"$f":"SUMIF(CD52:CD145, 1, AO52:AO145)","v":0}]
[null,null,"    в том числе"]
[null,null,"  оплата труда машинистов (ОТм)",null,null,null,null,null,null,null,null,{"$f":"SUMIF(CD52:CD145, 1, AT52:AT145)","v":0}]
[null,null,"    доплаты к оплате труда машинистов",null,null,null,null,null,null,null,null,{"$f":"SUMIF(CD52:CD145, 1, AV52:AV145)","v":0}]
[null,null,"  материальные ресурсы",null,null,null,null,null,null,null,null,{"$f":"L162+L163","v":0}]
[null,null,"  в том числе"]
[null,null,"    материальные ресурсы без учета дополнительной перевозки",null,null,null,null,null,null,null,null,{"$f":"SUMIF(CD52:CD145, 1, AW52:AW145)-SUMIF(CD52:CD145, 1, BK52:BK145)","v":0}]
[null,null,"    дополнительная перевозка материальных ресурсов",null,null,null,null,null,null,null,null,{"$f":"SUMIF(CD52:CD145, 1, BC52:BC145)","v":0}]
[null,null,"  перевозка",null,null,null,null,null,null,null,null,{"$f":"SUMIF(CD52:CD145, 1, BB52:BB145)","v":0}]
[null,null,"ФОТ (справочно)",null,null,null,null,null,null,null,null,{"$f":"SUMIF(CD52:CD145, 1, AR52:AR145)+SUMIF(CD52:CD145, 1, AT52:AT145)+SUMIF(CD52:CD145, 1, AV52:AV145)","v":0}]
[null,null,"накладные расходы",null,null,null,null,null,null,null,null,{"$f":"SUMIF(CD52:CD145, 1, AZ52:AZ145)","v":0}]
[null,null,"сметная прибыль",null,null,null,null,null,null,null,null,{"$f":"SUMIF(CD52:CD145, 1, BA52:BA145)","v":0}]
[]
[null,null,"ВСЕГО монтажные работы",null,null,null,null,null,null,null,null,{"$f":"L171+L186+L187","v":0}]
[null,null,"в том числе"]
[null,null,"Всего прямые затраты",null,null,null,null,null,null,null,null,{"$f":"L173+L174+L180+L184","v":0}]
[null,null,"в том числе"]
[null,null,"  оплата труда (ОТ)",null,null,null,null,null,null,null,null,{"$f":"SUMIF(CD52:CD167, 2, AR52:AR167)","v":0}]
[null,null,"  эксплуатация машин и механизмов",null,null,null,null,null,null,null,null,{"$f":"L176+L179+L178","v":0}]
[null,null,"  в том числе"]
[null,null,"  эксплуатация машин и механизмов",null,null,null,null,null,null,null,null,{"$f":"SUMIF(CD52:CD167, 2, AO52:AO167)","v":0}]
[null,null,"    в том числе"]
[null,null,"  оплата труда машинистов (ОТм)",null,null,null,null,null,null,null,null,{"$f":"SUMIF(CD52:CD167, 2, AT52:AT167)","v":0}]
[null,null,"    доплаты к оплате труда машинистов",null,null,null,null,null,null,null,null,{"$f":"SUMIF(CD52:CD167, 2, AV52:AV167)","v":0}]
[null,null,"  материальные ресурсы",null,null,null,null,null,null,null,null,{"$f":"L182+L183","v":0}]
[null,null,"  в том числе"]
[null,null,"    материальные ресурсы без учета дополнительной перевозки",null,null,null,null,null,null,null,null,{"$f":"SUMIF(CD52:CD167, 2, AW52:AW167)-SUMIF(CD52:CD167, 2, BK52:BK167)","v":0}]
[null,null,"    дополнительная перевозка материальных ресурсов",null,null,null,null,null,null,null,null,{"$f":"SUMIF(CD52:CD167, 2, BC52:BC167)","v":0}]
[null,null,"  перевозка",null,null,null,null,null,null,null,null,{"$f":"SUMIF(CD52:CD167, 2, BB52:BB167)","v":0}]
[null,null,"ФОТ (справочно)",null,null,null,null,null,null,null,null,{"$f":"SUMIF(CD52:CD167, 2, AR52:AR167)+SUMIF(CD52:CD167, 2, AT52:AT167)+SUMIF(CD52:CD167, 2, AV52:AV167)","v":0}]
[null,null,"накладные расходы",null,null,null,null,null,null,null,null,{"$f":"SUMIF(CD52:CD167, 2, AZ52:AZ167)","v":0}]
[null,null,"сметная прибыль",null,null,null,null,null,null,null,null,{"$f":"SUMIF(CD52:CD167, 2, BA52:BA167)","v":0}]
[]
[null,null,"ВСЕГО оборудование",null,null,null,null,null,null,null,null,{"$f":"L191+L192","v":0}]
[null,null,"в том числе"]
[null,null,"  оборудование без учета дополнительной перевозки",null,null,null,null,null,null,null,null,{"$f":"SUMIF(CD52:CD187, 3, BK52:BK187)","v":0}]
[null,null,"  дополнительная перевозка оборудования",null,null,null,null,null,null,null,null,{"$f":"SUMIF(CD52:CD187, 3, BD52:BD187)","v":0}]
[]
[null,null,"ВСЕГО прочие затраты",null,null,null,null,null,null,null,null,{"$f":"L202+L217+L218+L196+L197+L198+L199","v":29341.740000000005}]
[null,null,"в том числе"]
[null,null,"   прочие затраты"]
[null,null,"   прочие затраты",null,null,null,null,null,null,null,null,{"$f":"SUM(BQ52:BQ192)","v":0}]
[null,null,"   прочие перевозки",null,null,null,null,null,null,null,null,{"$f":"SUMIF(CD52:CD192, 4, BB52:BB192)+SUMIF(CD52:CD192, 4, BC52:BC192)+SUMIF(CD52:CD192, 4, BD52:BD192)","v":0}]
[null,null,"   Хозяйственный инвентарь",null,null,null,null,null,null,null,null,{"$f":"SUM(BO52:BO192)","v":0}]
[null,null,"Пусконаладочные работы",null,null,null,null,null,null,null,null,{"$f":"L202+L217+L218","v":29341.740000000005}]
[null,null,"в том числе"]
[null,null,"Всего прямые затраты",null,null,null,null,null,null,null,null,{"$f":"L204+L205+L211+L215","v":13972.260000000002}]
[null,null,"в том числе"]
[null,null,"  оплата труда (ОТ)",null,null,null,null,null,null,null,null,{"$f":"SUMIF(CD52:CD192, 4, AR52:AR192)","v":13972.260000000002}]
[null,null,"  эксплуатация машин и механизмов",null,null,null,null,null,null,null,null,{"$f":"L207+L210+L209","v":0}]
[null,null,"  в том числе"]
[null,null,"  эксплуатация машин и механизмов",null,null,null,null,null,null,null,null,{"$f":"SUMIF(CD52:CD192, 4, AO52:AO192)","v":0}]
[null,null,"    в том числе"]
[null,null,"  оплата труда машинистов (ОТм)",null,null,null,null,null,null,null,null,{"$f":"SUMIF(CD52:CD192, 4, AT52:AT192)","v":0}]
[null,null,"    доплаты к оплате труда машинистов",null,null,null,null,null,null,null,null,{"$f":"SUMIF(CD52:CD192, 4, AV52:AV192)","v":0}]
[null,null,"  материальные ресурсы",null,null,null,null,null,null,null,null,{"$f":"L213+L214","v":0}]
[null,null,"  в том числе"]
[null,null,"    материальные ресурсы без учета дополнительной перевозки",null,null,null,null,null,null,null,null,{"$f":"SUMIF(CD52:CD192, 4, AW52:AW192)-SUMIF(CD52:CD192, 4, BK52:BK192)","v":0}]
[null,null,"    дополнительная перевозка материальных ресурсов",null,null,null,null,null,null,null,null,{"$f":"SUMIF(CD52:CD192, 4, BC52:BC192)","v":0}]
[null,null,"  перевозка",null,null,null,null,null,null,null,null,{"$f":"SUMIF(CD52:CD192, 4, BB52:BB192)","v":0}]
[null,null,"ФОТ (справочно)",null,null,null,null,null,null,null,null,{"$f":"SUMIF(CD52:CD192, 4, AR52:AR192)+SUMIF(CD52:CD192, 4, AT52:AT192)+SUMIF(CD52:CD192, 4, AV52:AV192)","v":13972.260000000002}]
[null,null,"накладные расходы",null,null,null,null,null,null,null,null,{"$f":"SUMIF(CD52:CD192, 4, AZ52:AZ192)","v":10339.470000000001}]
[null,null,"сметная прибыль",null,null,null,null,null,null,null,null,{"$f":"SUMIF(CD52:CD192, 4, BA52:BA192)","v":5030.01}]
[]
[null,null,"ВСЕГО по смете",null,null,null,null,null,null,null,null,{"$f":"L149+L169+L189+L194","v":29341.740000000005}]
[null,null,"в том числе"]
[null,null,"Всего прямые затраты",null,null,null,null,null,null,null,null,{"$f":"L224+L225+L231+L235","v":13972.260000000002}]
[null,null,"в том числе"]
[null,null,"  оплата труда (ОТ)",null,null,null,null,null,null,null,null,{"$f":"SUM(AR52:AR218)","v":13972.260000000002}]
[null,null,"  эксплуатация машин и механизмов",null,null,null,null,null,null,null,null,{"$f":"L227+L230+L229","v":0}]
[null,null,"  в том числе"]
[null,null,"  эксплуатация машин и механизмов",null,null,null,null,null,null,null,null,{"$f":"SUM(AO52:AO218)","v":0}]
[null,null,"    в том числе"]
[null,null,"  оплата труда машинистов (ОТм)",null,null,null,null,null,null,null,null,{"$f":"SUM(AT52:AT218)","v":0}]
[null,null,"    доплаты к оплате труда машинистов",null,null,null,null,null,null,null,null,{"$f":"SUM(AV52:AV218)","v":0}]
[null,null,"  материальные ресурсы",null,null,null,null,null,null,null,null,{"$f":"L233+L234","v":0}]
[null,null,"  в том числе"]
[null,null,"    материальные ресурсы без учета дополнительной перевозки",null,null,null,null,null,null,null,null,{"$f":"SUM(AW52:AW218)-SUM(BK52:BK218)","v":0}]
[null,null,"    дополнительная перевозка материальных ресурсов",null,null,null,null,null,null,null,null,{"$f":"SUM(BC52:BC218)","v":0}]
[null,null,"  перевозка",null,null,null,null,null,null,null,null,{"$f":"SUM(BB52:BB218)","v":0}]
[null,null,"Всего ФОТ (справочно)",null,null,null,null,null,null,null,null,{"$f":"SUM(AR52:AR218)+SUM(AT52:AT218)+SUM(AV52:AV218)","v":13972.260000000002}]
[null,null,"Всего накладные расходы",null,null,null,null,null,null,null,null,{"$f":"SUM(AZ52:AZ218)","v":10339.470000000001}]
[null,null,"Всего сметная прибыль",null,null,null,null,null,null,null,null,{"$f":"SUM(BA52:BA218)","v":5030.01}]
[null,null,"Всего оборудование",null,null,null,null,null,null,null,null,{"$f":"L241+L242","v":0}]
[null,null,"в том числе"]
[null,null,"  оборудование без учета дополнительной перевозки",null,null,null,null,null,null,null,null,{"$f":"SUM(BK52:BK218)","v":0}]
[null,null,"  дополнительная перевозка оборудования",null,null,null,null,null,null,null,null,{"$f":"SUM(BD52:BD218)","v":0}]
[null,null,"Всего прочие затраты",null,null,null,null,null,null,null,null,{"$f":"L194","v":29341.740000000005}]
[null,null,"Справочно"]
[null,null,"  материальные ресурсы, отсутствующие в ФРСН",null,null,null,null,null,null,null,null,{"$f":"SUM(AX52:AX218)","v":0}]
[null,null,"  оборудование, отсутствующие в ФРСН",null,null,null,null,null,null,null,null,{"$f":"SUM(AY52:AY218)","v":0}]
[null,null,"  затраты труда рабочих",null,null,null,{"$f":"Source!F617","v":12.95712}]
[null,null,"  затраты труда машинистов",null,null,null,{"$f":"Source!F618","v":0}]
[]
[]
[]
[null,"Составил   ",{"$f":"IF(Source!AC15<>\"\", Source!AC15,\" \")","v":" "},null,null,null,null,{"$f":"IF(Source!AB15<>\"\", Source!AB15,\" \")","v":"Чайкин А.В."}]
[null,null,"[должность,подпись(инициалы,фамилия)]"]
[]
[null,"Проверил   ",{"$f":"IF(Source!AE15<>\"\", Source!AE15,\" \")","v":" "},null,null,null,null,{"$f":"IF(Source!AD15<>\"\", Source!AD15,\" \")","v":" "}]
[null,null,"[должность,подпись(инициалы,фамилия)]"]

{"sheet":"Source","index":2,"n_rows":699,"n_cols":245,"rows_kept":699,"cut":false,"hidden":false,"merged":[]}
[0,"Smeta.RU Flash  (495) 974-1589",null,"_PS_",null,0,0,0,"Smeta.RU Flash","",1,68757,10,12,0,0,3]
[]
[]
[]
[]
[]
[]
[]
[]
[]
[]
[1,690,0,{"$f":"ROW(A625)","v":625},0,"Новый объект","355841_Гончарова_ВЛИ_Катасонова_РАЗБИВКА_ПС_С","",0,"",0,0,523,null,0,0,7,0,0,4,"",0,"","","","","","Чайкин А.В.","","","","","","","","",null,"","","",null,"","","",null,null,null,null,null,"","","",null,0,null,null,null,null,null,"Сметные нормы списания","Коды ценников",1,1,0,0,1,0,2,2,1,0,0,0,1,0,0,"ФСНБ-2022_И17","Версия 1.17.0 для ФСНБ-2022 И17","ФСНБ-2022 - Изменения И17","ФСНБ-2022 - Изменения И17","ФСНБ-2022 - Изменения И17","ФСНБ-2022 - Изменения И17","Поправки для ФСНБ-2022 от 25.02.2026 г И17 (55/пр) Строительство",0,0,487096330,"","",17,null,null,null,null,null,"Приказ Минстроя России от 30.12.2021 г. № 1046/пр;  Приказ Минстроя России от 04.08.2020 г. № 421/пр;  Приказ Минстроя России от 21.12.2020 г. № 812/пр;  Приказ Минстроя России от 11.12.2020 г. № 774/пр","ГСН",46073,540,17,"Приказ Минстроя России от 18.05.2022 г. № 378/пр; Приказ Минстроя России от 26.08.2022 г. № 703/пр; Приказ Минстроя России от 26.10.2022 г. № 905/пр;  Приказ Минстроя России от 27.12.2022 г. № 1133/пр; Приказ Минстроя России от 10.02.2023 г. № 84/пр; Приказ Минстроя России от 11.05.2023 г. № 335/пр;  Приказ Минстроя России от 02.08.2023 г. № 551/пр; Приказ Минстроя России от 14.11.2023 г. № 817/пр; Приказ Минстроя России от 16.02.2024 г. № 102/пр;  Приказ Минстроя России от 13.05.2024 г. № 323/пр; Приказ Минстроя России от 09.08.2024 г. № 524/пр; Приказ Минстроя России от 07.11.2024 г. № 747/пр;  Приказ Минстроя России от 07.02.2025 г. № 69/пр; Приказ Минстроя России от 19.05.2025 г. № 299/пр; Приказ Минстроя России от 14.08.2025 г. № 490/пр;  Приказ Минстроя России от 12.11.2025 г. № 696/пр; Приказ Минстроя России от 17.02.2026 г. № 91/пр;  Приказ Минстроя России от 07.07.2022 г. № 557/пр; Приказ Минстроя России от 30.01.2024 г. № 55/пр; Приказ Минстроя России от 23.01.2025 г. № 30/пр;  Приказ Минстроя России от 02.09.2021 г. № 636/пр; Приказ Минстроя России от 26.07.2022 г. № 611/пр; Приказ Минстроя России от 22.04.2022 г. № 317/пр",null,null,0,"","",null,null,null,null,null,null,null,null,null,null,null,null,null,null,null,null,null,null,null,null,null,null,null,null,null,null,null,0]
[]
[]
[85319753,1,2026,6,null,"Июнь, 2026 г.","Июнь, 2026 г.",null,null,null,null,null,523,null,null,null,7,null,null,4,"",null,null,null,null,null,null,"Чайкин А.В.","","","","","","","","","","","","","","","","","","","","","","","","","",0,null,null,null,null,null,"Сметные нормы списания","Сметные нормы списания",1,1,0,0,1,0,2,2,1,0,0,0,1,0,0,"ФСНБ-2022_И17","Версия 1.17.0 для ФСНБ-2022 И17","ФСНБ-2022 - Изменения И17","ФСНБ-2022 - Изменения И17","ФСНБ-2022 - Изменения И17","ФСНБ-2022 - Изменения И17","Поправки для ФСНБ-2022 от 25.02.2026 г И17 (55/пр) Строительство",0,null,487096330,"",null,0,0,0,"","","","","",0,"",0,46174,46203,0,null,null,null,null,null,null,null,null,null,null,null,null,null,null,null,null,null,null,null,null,null,null,null,null,null,null,null,null,null,null,0]
[]
[]
[52,{"$f":"B625","v":690},1,12,0,"Новый объект","355841_Гончарова_ВЛИ_Катасонова_РАЗБИВКА_ПС_С",null,null,null,null,null,null,null,{"$f":"O625","v":17371.66},2189.2199999999998,2.77,4.05,15175.62,0,14.585279999999999,5.0879999999999996E-3,0,11546.88,5621.64,0,0,0,0,0,0,0,0,0,0,0,0,0,0,0,0,0,0,34540.18,5198.4399999999996,0,{"$f":"AU625","v":29341.74},2189.2199999999998,2189.2199999999998,0,2189.2199999999998,0,0,0,0,0,0,0,0,0,0,0,0,0,0,0,0,0,0,0,0,0,0,0,0,0,0,0,{"$f":"CA625","v":0},0,0,0,0,0,0,0,0,0,0,0,0,0,0,0,0,0,0,0,0,0,0,0,0,0,0,0,0,0,0,0,{"$f":"DG625","v":17371.66},2189.2199999999998,2.77,4.05,15175.62,0,14.585279999999999,5.0879999999999996E-3,0,11546.88,5621.64,0,0,0,0,0,0,0,0,0,0,0,0,0,0,0,0,0,0,34540.18,5198.4399999999996,0,{"$f":"EM625","v":29341.74},2189.2199999999998,2189.2199999999998,0,2189.2199999999998,0,0,0,0,0,0,0,0,0,0,0,0,0,0,0,0,0,0,0,0,0,0,0,0,0,0,0,{"$f":"FS625","v":0},0,0,0,0,0,0,0,0,0,0,0,0,0,0,0,0,0,0,0,0,0,0,0,0,0,0,0,0,0,0,0]
[]
[3,1,null,{"$f":"ROW(A499)","v":499},null,"02-01-01","Строительство ВЛИ-0,4 кВ","",0,"",-1,"02-01-01","",null,null,null,null,null,0,0,"",0,null,null,null,null,null,"","","","","","",null,null,null,null,null,null,null,null,"","","",null,null,null,null,null,null,null,"",null,"","","","","","","","","","","","","","","",null,null,null,null,null,null,null,0,null,null,null,null,null,null,null,0,0,null,"","","","","","","","",""]
[]
[52,{"$f":"B499","v":1},3,20,0,"02-01-01","Строительство ВЛИ-0,4 кВ",null,null,null,null,null,null,null,{"$f":"O499","v":3399.4},2189.2199999999998,2.77,4.05,1203.3599999999999,0,1.6281600000000001,5.0879999999999996E-3,0,1207.4100000000001,591.63,0,0,0,0,0,0,0,0,0,0,0,0,0,0,0,0,0,0,5198.4399999999996,5198.4399999999996,0,{"$f":"AU499","v":0},2189.2199999999998,2189.2199999999998,0,2189.2199999999998,0,0,0,0,0,0,0,0,0,0,0,0,0,0,0,0,0,0,0,0,0,0,0,0,0,0,0,{"$f":"CA499","v":0},0,0,0,0,0,0,0,0,0,0,0,0,0,0,0,0,0,0,0,0,0,0,0,0,0,0,0,0,0,0,0,{"$f":"DG499","v":3399.4},2189.2199999999998,2.77,4.05,1203.3599999999999,0,1.6281600000000001,5.0879999999999996E-3,0,1207.4100000000001,591.63,0,0,0,0,0,0,0,0,0,0,0,0,0,0,0,0,0,0,5198.4399999999996,5198.4399999999996,0,{"$f":"EM499","v":0},2189.2199999999998,2189.2199999999998,0,2189.2199999999998,0,0,0,0,0,0,0,0,0,0,0,0,0,0,0,0,0,0,0,0,0,0,0,0,0,0,0,{"$f":"FS499","v":0},0,0,0,0,0,0,0,0,0,0,0,0,0,0,0,0,0,0,0,0,0,0,0,0,0,0,0,0,0,0,0]
[]
[4,1,null,{"$f":"ROW(A252)","v":252},null,"Новый раздел","СМР","",0,null,0,null,"",null,null,null,null,null,0,0,"",0,null,null,null,null,null,"","","","","","",null,null,null,null,null,null,null,null,"","","",null,null,null,null,null,null,null,"",null,"","","","","","","","","","","","","","","",null,null,null,null,null,null,null,0,null,null,null,null,null,null,null,null,null,null,null,0]
[]
[52,{"$f":"B252","v":1},4,24,0,"Новый раздел","СМР",null,null,null,null,null,null,null,{"$f":"O252","v":1342.15},131.97,2.77,4.05,1203.3599999999999,0,1.6281600000000001,5.0879999999999996E-3,0,1207.4100000000001,591.63,0,0,1342.15,131.97,2.77,4.05,1203.3599999999999,0,1.6281600000000001,5.0879999999999996E-3,0,1207.4100000000001,591.63,0,0,0,0,0,3141.19,3141.19,0,{"$f":"AU252","v":0},131.97,131.97,0,131.97,0,0,0,0,0,0,0,0,0,0,0,0,0,0,0,0,0,0,0,0,0,0,0,0,0,0,0,{"$f":"CA252","v":3141.19},3141.19,0,0,131.97,131.97,0,131.97,0,0,0,0,0,0,0,0,0,0,0,0,0,0,0,0,0,0,0,0,0,0,0,0,{"$f":"DG252","v":1342.15},131.97,2.77,4.05,1203.3599999999999,0,1.6281600000000001,5.0879999999999996E-3,0,1207.4100000000001,591.63,0,0,1342.15,131.97,2.77,4.05,1203.3599999999999,0,1.6281600000000001,5.0879999999999996E-3,0,1207.4100000000001,591.63,0,0,0,0,0,3141.19,3141.19,0,{"$f":"EM252","v":0},131.97,131.97,0,131.97,0,0,0,0,0,0,0,0,0,0,0,0,0,0,0,0,0,0,0,0,0,0,0,0,0,0,0,{"$f":"FS252","v":3141.19},3141.19,0,0,131.97,131.97,0,131.97,0,0,0,0,0,0,0,0,0,0,0,0,0,0,0,0,0,0,0,0,0,0,0,0]
[]
[17,1,{"$f":"ROW(SmtRes!A3)","v":3},{"$f":"ROW(EtalonRes!A3)","v":3},"","47-01-001-03","Разбивка участка","100 м2",0,0,0,0.01,0.01,{"$f":"ROUND(L28-M28,4)","v":0},{"$f":"ROUND(CP28,2)","v":0},{"$f":"SUMIF(SmtRes!AQ1:'SmtRes'!AQ3,\"=1\",SmtRes!DF1:'SmtRes'!DF3)","v":0},{"$f":"SUMIF(SmtRes!AQ1:'SmtRes'!AQ3,\"=1\",SmtRes!DG1:'SmtRes'!DG3)","v":0},{"$f":"SUMIF(SmtRes!AQ1:'SmtRes'!AQ3,\"=1\",SmtRes!DH1:'SmtRes'!DH3)","v":0},{"$f":"SUMIF(SmtRes!AQ1:'SmtRes'!AQ3,\"=1\",SmtRes!DI1:'SmtRes'!DI3)","v":0},{"$f":"ROUND(CU28*I28,2)","v":0},{"$f":"SUMIF(SmtRes!AQ1:'SmtRes'!AQ3,\"=1\",SmtRes!CV1:'SmtRes'!CV3)","v":0},{"$f":"SUMIF(SmtRes!AQ1:'SmtRes'!AQ3,\"=1\",SmtRes!CW1:'SmtRes'!CW3)","v":0},{"$f":"ROUND(CX28*I28,2)","v":0},{"$f":"ROUND(CY28,2)","v":0},{"$f":"ROUND(CZ28,2)","v":0},null,-1,{"$f":"ROUND((AC28+AD28+AF28),2)","v":5594.46},{"$f":"ROUND((SUM(SmtRes!BQ1:'SmtRes'!BQ3)),2)","v":50.45},{"$f":"ROUND((((0)-(0))+AE28),2)","v":0},{"$f":"ROUND((0),2)","v":0},{"$f":"ROUND((SUM(SmtRes!BT1:'SmtRes'!BT3)),2)","v":5544.01},{"$f":"ROUND((AP28),2)","v":0},{"$f":"(SUM(SmtRes!BU1:'SmtRes'!BU3))","v":7.41},{"$f":"(0)","v":0},{"$f":"(AS28)","v":0},5594.4627999999993,50.449000000000005,0,0,5544.0137999999997,0,7.41,0,0,103,72,1,1,null,null,1,1,1,1,"","","","",0,1,"ГЭСН-2022, 47-01-001-03, приказ Минстроя России от 18.05.2022 г. № 378/пр",null,null,47001,0,"",0,2,0,1,1,1,1,1,1,"",103,72,"",null,null,0,0,0,0,0,0,0,0,0,"",0,{"$f":"(P28+Q28+S28+R28)","v":0},{"$f":"SUMIF(SmtRes!AQ1:'SmtRes'!AQ3,\"=1\",SmtRes!AA1:'SmtRes'!AA3)","v":12342.730000000001},{"$f":"SUMIF(SmtRes!AQ1:'SmtRes'!AQ3,\"=1\",SmtRes!AB1:'SmtRes'!AB3)","v":0},{"$f":"SUMIF(SmtRes!AQ1:'SmtRes'!AQ3,\"=1\",SmtRes!AC1:'SmtRes'!AC3)","v":0},{"$f":"SUMIF(SmtRes!AQ1:'SmtRes'!AQ3,\"=1\",SmtRes!AD1:'SmtRes'!AD3)","v":748.18},{"$f":"AG28","v":0},{"$f":"SUMIF(SmtRes!AQ1:'SmtRes'!AQ3,\"=1\",SmtRes!BU1:'SmtRes'!BU3)","v":7.41},{"$f":"SUMIF(SmtRes!AQ1:'SmtRes'!AQ3,\"=1\",SmtRes!BV1:'SmtRes'!BV3)","v":0},{"$f":"AJ28","v":0},{"$f":"(((S28+R28)*AT28)/100)","v":0},{"$f":"(((S28+R28)*AU28)/100)","v":0},null,null,"","","","","","","","","","","",0,0,1,1,null,null,null,1005,"100 м2","100 м2",100,null,"","","","",null,83666893,2,"Общестроительные работы",41,"Озеленение. Защитные лесонасаждения",1,47001,"Озеленение. Защитные лесонасаждения","ФЕР-47",null,"",null,132096,0,0,0,0,0,7.41,0,0,null,null,null,null,null,null,null,null,null,null,null,null,null,null,null,null,null,0,0,0,null,null,null,null,103,72,null,"",null,null,1,null,1577446129,2,1,-2,0,0,{"$f":"ROUND(IF(AND(BH28=3,BI28=3,FS28<>0),P28,0),2)","v":0},{"$f":"ROUND(O28+X28+Y28,2)+GX28","v":0},{"$f":"IF(OR(BI28=0,BI28=1),GM28-GX28,0)","v":0},{"$f":"IF(BI28=2,GM28-GX28,0)","v":0},{"$f":"IF(BI28=4,GM28-GX28,0)","v":0},null,0,0,0,"",{"$f":"ROUND((GT28),2)","v":0},1,{"$f":"ROUND(HC28*I28,2)","v":0},null,null,0,0,{"$f":"GV28*GW28","v":0},null,"","",null,null,null,null,null,null,"","Пр/812-041.0-1","Пр/774-041.0","Озеленение. Защитные лесонасаждения","Озеленение. Защитные лесонасаждения",null,0,null,null,null,null,null,null,null,null,null,null,null,null,null,null,null,null,null,0]
[17,1,{"$f":"ROW(SmtRes!A6)","v":6},{"$f":"ROW(EtalonRes!A6)","v":6},"","47-01-001-03","Разбивка участка","100 м2",0,0,0,0.01,0.01,{"$f":"ROUND(L29-M29,4)","v":0},{"$f":"ROUND(CP29,2)","v":0},{"$f":"SUMIF(SmtRes!AQ4:'SmtRes'!AQ6,\"=1\",SmtRes!DF4:'SmtRes'!DF6)","v":0},{"$f":"SUMIF(SmtRes!AQ4:'SmtRes'!AQ6,\"=1\",SmtRes!DG4:'SmtRes'!DG6)","v":0},{"$f":"SUMIF(SmtRes!AQ4:'SmtRes'!AQ6,\"=1\",SmtRes!DH4:'SmtRes'!DH6)","v":0},{"$f":"SUMIF(SmtRes!AQ4:'SmtRes'!AQ6,\"=1\",SmtRes!DI4:'SmtRes'!DI6)","v":0},{"$f":"ROUND(CU29*I29,2)","v":0},{"$f":"SUMIF(SmtRes!AQ4:'SmtRes'!AQ6,\"=1\",SmtRes!CV4:'SmtRes'!CV6)","v":0},{"$f":"SUMIF(SmtRes!AQ4:'SmtRes'!AQ6,\"=1\",SmtRes!CW4:'SmtRes'!CW6)","v":0},{"$f":"ROUND(CX29*I29,2)","v":0},{"$f":"ROUND(CY29,2)","v":0},{"$f":"ROUND(CZ29,2)","v":0},null,-1,{"$f":"ROUND((AC29+AD29+AF29),2)","v":5594.46},{"$f":"ROUND((SUM(SmtRes!BQ4:'SmtRes'!BQ6)),2)","v":50.45},{"$f":"ROUND((((0)-(0))+AE29),2)","v":0},{"$f":"ROUND((0),2)","v":0},{"$f":"ROUND((SUM(SmtRes!BT4:'SmtRes'!BT6)),2)","v":5544.01},{"$f":"ROUND((AP29),2)","v":0},{"$f":"(SUM(SmtRes!BU4:'SmtRes'!BU6))","v":7.41},{"$f":"(0)","v":0},{"$f":"(AS29)","v":0},5594.4627999999993,50.449000000000005,0,0,5544.0137999999997,0,7.41,0,0,103,72,1,1,null,null,1,1,1,1,"","","","",0,1,"ГЭСН-2022, 47-01-001-03, приказ Минстроя России от 18.05.2022 г. № 378/пр",null,null,47001,0,"",0,2,0,1,1,1,1,1,1,"",103,72,"",null,null,0,0,0,0,0,0,0,0,0,"",0,{"$f":"(P29+Q29+S29+R29)","v":0},{"$f":"SUMIF(SmtRes!AQ4:'SmtRes'!AQ6,\"=1\",SmtRes!AA4:'SmtRes'!AA6)","v":12342.730000000001},{"$f":"SUMIF(SmtRes!AQ4:'SmtRes'!AQ6,\"=1\",SmtRes!AB4:'SmtRes'!AB6)","v":0},{"$f":"SUMIF(SmtRes!AQ4:'SmtRes'!AQ6,\"=1\",SmtRes!AC4:'SmtRes'!AC6)","v":0},{"$f":"SUMIF(SmtRes!AQ4:'SmtRes'!AQ6,\"=1\",SmtRes!AD4:'SmtRes'!AD6)","v":748.18},{"$f":"AG29","v":0},{"$f":"SUMIF(SmtRes!AQ4:'SmtRes'!AQ6,\"=1\",SmtRes!BU4:'SmtRes'!BU6)","v":7.41},{"$f":"SUMIF(SmtRes!AQ4:'SmtRes'!AQ6,\"=1\",SmtRes!BV4:'SmtRes'!BV6)","v":0},{"$f":"AJ29","v":0},{"$f":"(((S29+R29)*AT29)/100)","v":0},{"$f":"(((S29+R29)*AU29)/100)","v":0},null,null,"","","","","","","","","","","",0,0,1,1,null,null,null,1005,"100 м2","100 м2",100,null,"","","","",null,83666893,2,"Общестроительные работы",41,"Озеленение. Защитные лесонасаждения",1,47001,"Озеленение. Защитные лесонасаждения","ФЕР-47",null,"",null,132096,0,0,0,0,0,7.41,0,0,null,null,null,null,null,null,null,null,null,null,null,null,null,null,null,null,null,0,0,0,null,null,null,null,103,72,null,"",null,null,1,null,1577446129,2,1,-2,0,0,{"$f":"ROUND(IF(AND(BH29=3,BI29=3,FS29<>0),P29,0),2)","v":0},{"$f":"ROUND(O29+X29+Y29,2)+GX29","v":0},{"$f":"IF(OR(BI29=0,BI29=1),GM29-GX29,0)","v":0},{"$f":"IF(BI29=2,GM29-GX29,0)","v":0},{"$f":"IF(BI29=4,GM29-GX29,0)","v":0},null,0,0,0,"",{"$f":"ROUND((GT29),2)","v":0},1,{"$f":"ROUND(HC29*I29,2)","v":0},null,null,0,0,{"$f":"GV29*GW29","v":0},null,"","",null,null,null,null,null,null,"","Пр/812-041.0-1","Пр/774-041.0","Озеленение. Защитные лесонасаждения","Озеленение. Защитные лесонасаждения",null,0,null,null,null,null,null,null,null,null,null,null,null,null,null,null,null,null,null,0]
[19,1,null,null,null,"","По ВОР \"Разбивка трассы\"","",null,null,null,null,null,null,null,null,null,null,null,null,null,null,null,null,null,null,1,null,null,null,null,null,null,null,null,null,null,null,null,null,null,null,null,null,null,null,null,null,null,null,null,null,null,null,null,null,null,null,null,null,null,null,null,null,null,null,null,null,null,null,null,null,null,null,null,null,null,null,null,null,null,null,null,null,null,null,null,null,null,null,null,null,null,null,null,null,null,null,null,null,null,null,null,null,null,null,null,null,null,null,null,null,null,null,null,null,null,null,null,null,null,null,null,null,null,null,null,null,null,null,null,null,null,null,null,null,null,null,null,null,null,null,null,null,null,null,null,null,null,null,null,null,null,null,null,null,null,null,null,null,null,null,null,null,null,null,null,null,null,null,null,null,null,null,null,null,null,null,null,null,null,null,null,null,null,null,null,null,null,null,null,null,null,null,null,null,null,null,null,null,null,null,null,null,null,null,null,null,null,null,null,null,null,null,null,null,null,null,null,null,null,null,null,null,null,null,null,null,null,null,null,null,null,null,null,null,null,null,null,null,null,null,null,null,0]
[17,1,{"$f":"ROW(SmtRes!A9)","v":9},{"$f":"ROW(EtalonRes!A9)","v":9},"","01-02-027-02","Планировка площадей: механизированным способом, группа грунтов 2","1000 м2",0,0,0,1E-3,1E-3,{"$f":"ROUND(L31-M31,4)","v":0},{"$f":"ROUND(CP31,2)","v":0},{"$f":"SUMIF(SmtRes!AQ7:'SmtRes'!AQ9,\"=1\",SmtRes!DF7:'SmtRes'!DF9)","v":0},{"$f":"SUMIF(SmtRes!AQ7:'SmtRes'!AQ9,\"=1\",SmtRes!DG7:'SmtRes'!DG9)","v":0},{"$f":"SUMIF(SmtRes!AQ7:'SmtRes'!AQ9,\"=1\",SmtRes!DH7:'SmtRes'!DH9)","v":0},{"$f":"SUMIF(SmtRes!AQ7:'SmtRes'!AQ9,\"=1\",SmtRes!DI7:'SmtRes'!DI9)","v":0},{"$f":"ROUND(CU31*I31,2)","v":0},{"$f":"SUMIF(SmtRes!AQ7:'SmtRes'!AQ9,\"=1\",SmtRes!CV7:'SmtRes'!CV9)","v":0},{"$f":"SUMIF(SmtRes!AQ7:'SmtRes'!AQ9,\"=1\",SmtRes!CW7:'SmtRes'!CW9)","v":0},{"$f":"ROUND(CX31*I31,2)","v":0},{"$f":"ROUND(CY31,2)","v":0},{"$f":"ROUND(CZ31,2)","v":0},null,-1,{"$f":"ROUND((AC31+AD31+AF31),2)","v":1275.94},{"$f":"ROUND((0),2)","v":0},{"$f":"ROUND((((SUM(SmtRes!BR7:'SmtRes'!BR9))-(SUM(SmtRes!BS7:'SmtRes'!BS9)))+AE31),2)","v":1275.94},{"$f":"ROUND((SUM(SmtRes!BS7:'SmtRes'!BS9)),2)","v":1079.56},{"$f":"ROUND((0),2)","v":0},{"$f":"ROUND((AP31),2)","v":0},{"$f":"(0)","v":0},{"$f":"(SUM(SmtRes!BV7:'SmtRes'!BV9))","v":0.99},{"$f":"(AS31)","v":0},2355.4947999999999,0,1275.9394,1079.5554,0,0,0,0.99,0,89,41,1,1,null,null,1,1,1,1,"","","","",0,1,"ГЭСН-2022, 01-02-027-02, приказ Минстроя России от 18.05.2022 г. № 378/пр",null,null,1006,0,"",0,2,0,1,1,1,1,1,1,"",89,41,"",null,null,0,0,0,0,0,0,0,0,0,"",0,{"$f":"(P31+Q31+S31+R31)","v":0},{"$f":"SUMIF(SmtRes!AQ7:'SmtRes'!AQ9,\"=1\",SmtRes!AA7:'SmtRes'!AA9)","v":0},{"$f":"SUMIF(SmtRes!AQ7:'SmtRes'!AQ9,\"=1\",SmtRes!AB7:'SmtRes'!AB9)","v":3835.9300000000003},{"$f":"SUMIF(SmtRes!AQ7:'SmtRes'!AQ9,\"=1\",SmtRes!AC7:'SmtRes'!AC9)","v":2180.92},{"$f":"SUMIF(SmtRes!AQ7:'SmtRes'!AQ9,\"=1\",SmtRes!AD7:'SmtRes'!AD9)","v":0},{"$f":"AG31","v":0},{"$f":"SUMIF(SmtRes!AQ7:'SmtRes'!AQ9,\"=1\",SmtRes!BU7:'SmtRes'!BU9)","v":0},{"$f":"SUMIF(SmtRes!AQ7:'SmtRes'!AQ9,\"=1\",SmtRes!BV7:'SmtRes'!BV9)","v":0.99},{"$f":"AJ31","v":0},{"$f":"(((S31+R31)*AT31)/100)","v":0},{"$f":"(((S31+R31)*AU31)/100)","v":0},null,null,"","","","","","","","","","","",0,0,1,1,null,null,null,1005,"1000 м2","1000 м2",1000,null,"","","","",null,83666803,2,"Общестроительные работы",1,"Земляные работы",1,1006,"Земляные работы, выполняемые: по другим видам работ ( подготовительные, сопутствующие, укрепительные )","ФЕР-01",null,"",null,132096,0,0,0,0,0,0,0.99,0,null,null,null,null,null,null,null,null,null,null,null,null,null,null,null,null,null,0,0,0,null,null,null,null,89,41,null,"",null,null,1,null,778139628,2,1,-2,0,0,{"$f":"ROUND(IF(AND(BH31=3,BI31=3,FS31<>0),P31,0),2)","v":0},{"$f":"ROUND(O31+X31+Y31,2)+GX31","v":0},{"$f":"IF(OR(BI31=0,BI31=1),GM31-GX31,0)","v":0},{"$f":"IF(BI31=2,GM31-GX31,0)","v":0},{"$f":"IF(BI31=4,GM31-GX31,0)","v":0},null,0,0,0,"",{"$f":"ROUND((GT31),2)","v":0},1,{"$f":"ROUND(HC31*I31,2)","v":0},null,null,0,0,{"$f":"GV31*GW31","v":0},null,"","",null,null,null,null,null,null,"","Пр/812-001.4-1","Пр/774-001.4","Земляные работы, выполняемые: по другим видам работ (подготовительные, сопутствующие, укрепительные)","Земляные работы, выполняемые: по другим видам работ (подготовительные, сопутствующие, укрепительные)",null,0,null,null,null,null,null,null,null,null,null,null,null,null,null,null,null,null,null,0]
[17,1,{"$f":"ROW(SmtRes!A12)","v":12},{"$f":"ROW(EtalonRes!A12)","v":12},"","01-02-027-02","Планировка площадей: механизированным способом, группа грунтов 2","1000 м2",0,0,0,1E-3,1E-3,{"$f":"ROUND(L32-M32,4)","v":0},{"$f":"ROUND(CP32,2)","v":0},{"$f":"SUMIF(SmtRes!AQ10:'SmtRes'!AQ12,\"=1\",SmtRes!DF10:'SmtRes'!DF12)","v":0},{"$f":"SUMIF(SmtRes!AQ10:'SmtRes'!AQ12,\"=1\",SmtRes!DG10:'SmtRes'!DG12)","v":0},{"$f":"SUMIF(SmtRes!AQ10:'SmtRes'!AQ12,\"=1\",SmtRes!DH10:'SmtRes'!DH12)","v":0},{"$f":"SUMIF(SmtRes!AQ10:'SmtRes'!AQ12,\"=1\",SmtRes!DI10:'SmtRes'!DI12)","v":0},{"$f":"ROUND(CU32*I32,2)","v":0},{"$f":"SUMIF(SmtRes!AQ10:'SmtRes'!AQ12,\"=1\",SmtRes!CV10:'SmtRes'!CV12)","v":0},{"$f":"SUMIF(SmtRes!AQ10:'SmtRes'!AQ12,\"=1\",SmtRes!CW10:'SmtRes'!CW12)","v":0},{"$f":"ROUND(CX32*I32,2)","v":0},{"$f":"ROUND(CY32,2)","v":0},{"$f":"ROUND(CZ32,2)","v":0},null,-1,{"$f":"ROUND((AC32+AD32+AF32),2)","v":1275.94},{"$f":"ROUND((0),2)","v":0},{"$f":"ROUND((((SUM(SmtRes!BR10:'SmtRes'!BR12))-(SUM(SmtRes!BS10:'SmtRes'!BS12)))+AE32),2)","v":1275.94},{"$f":"ROUND((SUM(SmtRes!BS10:'SmtRes'!BS12)),2)","v":1079.56},{"$f":"ROUND((0),2)","v":0},{"$f":"ROUND((AP32),2)","v":0},{"$f":"(0)","v":0},{"$f":"(SUM(SmtRes!BV10:'SmtRes'!BV12))","v":0.99},{"$f":"(AS32)","v":0},2355.4947999999999,0,1275.9394,1079.5554,0,0,0,0.99,0,89,41,1,1,null,null,1,1,1,1,"","","","",0,1,"ГЭСН-2022, 01-02-027-02, приказ Минстроя России от 18.05.2022 г. № 378/пр",null,null,1006,0,"",0,2,0,1,1,1,1,1,1,"",89,41,"",null,null,0,0,0,0,0,0,0,0,0,"",0,{"$f":"(P32+Q32+S32+R32)","v":0},{"$f":"SUMIF(SmtRes!AQ10:'SmtRes'!AQ12,\"=1\",SmtRes!AA10:'SmtRes'!AA12)","v":0},{"$f":"SUMIF(SmtRes!AQ10:'SmtRes'!AQ12,\"=1\",SmtRes!AB10:'SmtRes'!AB12)","v":3835.9300000000003},{"$f":"SUMIF(SmtRes!AQ10:'SmtRes'!AQ12,\"=1\",SmtRes!AC10:'SmtRes'!AC12)","v":2180.92},{"$f":"SUMIF(SmtRes!AQ10:'SmtRes'!AQ12,\"=1\",SmtRes!AD10:'SmtRes'!AD12)","v":0},{"$f":"AG32","v":0},{"$f":"SUMIF(SmtRes!AQ10:'SmtRes'!AQ12,\"=1\",SmtRes!BU10:'SmtRes'!BU12)","v":0},{"$f":"SUMIF(SmtRes!AQ10:'SmtRes'!AQ12,\"=1\",SmtRes!BV10:'SmtRes'!BV12)","v":0.99},{"$f":"AJ32","v":0},{"$f":"(((S32+R32)*AT32)/100)","v":0},{"$f":"(((S32+R32)*AU32)/100)","v":0},null,null,"","","","","","","","","","","",0,0,1,1,null,null,null,1005,"1000 м2","1000 м2",1000,null,"","","","",null,83666803,2,"Общестроительные работы",1,"Земляные работы",1,1006,"Земляные работы, выполняемые: по другим видам работ ( подготовительные, сопутствующие, укрепительные )","ФЕР-01",null,"",null,132096,0,0,0,0,0,0,0.99,0,null,null,null,null,null,null,null,null,null,null,null,null,null,null,null,null,null,0,0,0,null,null,null,null,89,41,null,"",null,null,1,null,778139628,2,1,-2,0,0,{"$f":"ROUND(IF(AND(BH32=3,BI32=3,FS32<>0),P32,0),2)","v":0},{"$f":"ROUND(O32+X32+Y32,2)+GX32","v":0},{"$f":"IF(OR(BI32=0,BI32=1),GM32-GX32,0)","v":0},{"$f":"IF(BI32=2,GM32-GX32,0)","v":0},{"$f":"IF(BI32=4,GM32-GX32,0)","v":0},null,0,0,0,"",{"$f":"ROUND((GT32),2)","v":0},1,{"$f":"ROUND(HC32*I32,2)","v":0},null,null,0,0,{"$f":"GV32*GW32","v":0},null,"","",null,null,null,null,null,null,"","Пр/812-001.4-1","Пр/774-001.4","Земляные работы, выполняемые: по другим видам работ (подготовительные, сопутствующие, укрепительные)","Земляные работы, выполняемые: по другим видам работ (подготовительные, сопутствующие, укрепительные)",null,0,null,null,null,null,null,null,null,null,null,null,null,null,null,null,null,null,null,0]
[19,1,null,null,null,"","По ВОР \"Планировка площадей\"","",null,null,null,null,null,null,null,null,null,null,null,null,null,null,null,null,null,null,1,null,null,null,null,null,null,null,null,null,null,null,null,null,null,null,null,null,null,null,null,null,null,null,null,null,null,null,null,null,null,null,null,null,null,null,null,null,null,null,null,null,null,null,null,null,null,null,null,null,null,null,null,null,null,null,null,null,null,null,null,null,null,null,null,null,null,null,null,null,null,null,null,null,null,null,null,null,null,null,null,null,null,null,null,null,null,null,null,null,null,null,null,null,null,null,null,null,null,null,null,null,null,null,null,null,null,null,null,null,null,null,null,null,null,null,null,null,null,null,null,null,null,null,null,null,null,null,null,null,null,null,null,null,null,null,null,null,null,null,null,null,null,null,null,null,null,null,null,null,null,null,null,null,null,null,null,null,null,null,null,null,null,null,null,null,null,null,null,null,null,null,null,null,null,null,null,null,null,null,null,null,null,null,null,null,null,null,null,null,null,null,null,null,null,null,null,null,null,null,null,null,null,null,null,null,null,null,null,null,null,null,null,null,null,null,null,null,0]
[17,1,{"$f":"ROW(SmtRes!A15)","v":15},{"$f":"ROW(EtalonRes!A15)","v":15},"","47-01-109-02","Обрезка крон деревьев под естественный вид: с автогидроподъемника","ШТ",0,0,0,1,1,{"$f":"ROUND(L34-M34,4)","v":0},{"$f":"ROUND(CP34,2)","v":0},{"$f":"SUMIF(SmtRes!AQ13:'SmtRes'!AQ15,\"=1\",SmtRes!DF13:'SmtRes'!DF15)","v":0},{"$f":"SUMIF(SmtRes!AQ13:'SmtRes'!AQ15,\"=1\",SmtRes!DG13:'SmtRes'!DG15)","v":0},{"$f":"SUMIF(SmtRes!AQ13:'SmtRes'!AQ15,\"=1\",SmtRes!DH13:'SmtRes'!DH15)","v":0},{"$f":"SUMIF(SmtRes!AQ13:'SmtRes'!AQ15,\"=1\",SmtRes!DI13:'SmtRes'!DI15)","v":0},{"$f":"ROUND(CU34*I34,2)","v":0},{"$f":"SUMIF(SmtRes!AQ13:'SmtRes'!AQ15,\"=1\",SmtRes!CV13:'SmtRes'!CV15)","v":0},{"$f":"SUMIF(SmtRes!AQ13:'SmtRes'!AQ15,\"=1\",SmtRes!CW13:'SmtRes'!CW15)","v":0},{"$f":"ROUND(CX34*I34,2)","v":0},{"$f":"ROUND(CY34,2)","v":0},{"$f":"ROUND(CZ34,2)","v":0},null,-1,{"$f":"ROUND((AC34+AD34+AF34),2)","v":900.43},{"$f":"ROUND((0),2)","v":0},{"$f":"ROUND((((SUM(SmtRes!BR13:'SmtRes'!BR15))-(SUM(SmtRes!BS13:'SmtRes'!BS15)))+AE34),2)","v":307.22000000000003},{"$f":"ROUND((SUM(SmtRes!BS13:'SmtRes'!BS15)),2)","v":307.87},{"$f":"ROUND((SUM(SmtRes!BT13:'SmtRes'!BT15)),2)","v":593.21},{"$f":"ROUND((AP34),2)","v":0},{"$f":"(SUM(SmtRes!BU13:'SmtRes'!BU15))","v":0.68},{"$f":"(SUM(SmtRes!BV13:'SmtRes'!BV15))","v":0.33},{"$f":"(AS34)","v":0},1208.3117999999999,0,307.22669999999999,307.87350000000004,593.21160000000009,0,0.68,0.33,0,103,72,1,1,null,null,1,1,1,1,"","","","",0,1,"ГЭСН-2022, 47-01-109-02, приказ Минстроя России от 18.05.2022 г. № 378/пр",null,null,47001,0,"",0,2,0,1,1,1,1,1,1,"",103,72,"",null,null,0,0,0,0,0,0,0,0,0,"",0,{"$f":"(P34+Q34+S34+R34)","v":0},{"$f":"SUMIF(SmtRes!AQ13:'SmtRes'!AQ15,\"=1\",SmtRes!AA13:'SmtRes'!AA15)","v":0},{"$f":"SUMIF(SmtRes!AQ13:'SmtRes'!AQ15,\"=1\",SmtRes!AB13:'SmtRes'!AB15)","v":930.99},{"$f":"SUMIF(SmtRes!AQ13:'SmtRes'!AQ15,\"=1\",SmtRes!AC13:'SmtRes'!AC15)","v":932.95},{"$f":"SUMIF(SmtRes!AQ13:'SmtRes'!AQ15,\"=1\",SmtRes!AD13:'SmtRes'!AD15)","v":872.37},{"$f":"AG34","v":0},{"$f":"SUMIF(SmtRes!AQ13:'SmtRes'!AQ15,\"=1\",SmtRes!BU13:'SmtRes'!BU15)","v":0.68},{"$f":"SUMIF(SmtRes!AQ13:'SmtRes'!AQ15,\"=1\",SmtRes!BV13:'SmtRes'!BV15)","v":0.33},{"$f":"AJ34","v":0},{"$f":"(((S34+R34)*AT34)/100)","v":0},{"$f":"(((S34+R34)*AU34)/100)","v":0},null,null,"","","","","","","","","","","",0,0,1,1,null,null,null,1013,"ШТ","ШТ",1,null,"","","","",null,83666893,2,"Общестроительные работы",41,"Озеленение. Защитные лесонасаждения",1,47001,"Озеленение. Защитные лесонасаждения","ФЕР-47",null,"",null,132096,0,0,0,0,0,0.68,0.33,0,null,null,null,null,null,null,null,null,null,null,null,null,null,null,null,null,null,0,0,0,null,null,null,null,103,72,null,"",null,null,1,null,-1710942875,2,1,-2,0,0,{"$f":"ROUND(IF(AND(BH34=3,BI34=3,FS34<>0),P34,0),2)","v":0},{"$f":"ROUND(O34+X34+Y34,2)+GX34","v":0},{"$f":"IF(OR(BI34=0,BI34=1),GM34-GX34,0)","v":0},{"$f":"IF(BI34=2,GM34-GX34,0)","v":0},{"$f":"IF(BI34=4,GM34-GX34,0)","v":0},null,0,0,0,"",{"$f":"ROUND((GT34),2)","v":0},1,{"$f":"ROUND(HC34*I34,2)","v":0},null,null,0,0,{"$f":"GV34*GW34","v":0},null,"","",null,null,null,null,null,null,"","Пр/812-041.0-1","Пр/774-041.0","Озеленение. Защитные лесонасаждения","Озеленение. Защитные лесонасаждения",null,0,null,null,null,null,null,null,null,null,null,null,null,null,null,null,null,null,null,0]
[17,1,{"$f":"ROW(SmtRes!A18)","v":18},{"$f":"ROW(EtalonRes!A18)","v":18},"","47-01-109-02","Обрезка крон деревьев под естественный вид: с автогидроподъемника","ШТ",0,0,0,1,1,{"$f":"ROUND(L35-M35,4)","v":0},{"$f":"ROUND(CP35,2)","v":0},{"$f":"SUMIF(SmtRes!AQ16:'SmtRes'!AQ18,\"=1\",SmtRes!DF16:'SmtRes'!DF18)","v":0},{"$f":"SUMIF(SmtRes!AQ16:'SmtRes'!AQ18,\"=1\",SmtRes!DG16:'SmtRes'!DG18)","v":0},{"$f":"SUMIF(SmtRes!AQ16:'SmtRes'!AQ18,\"=1\",SmtRes!DH16:'SmtRes'!DH18)","v":0},{"$f":"SUMIF(SmtRes!AQ16:'SmtRes'!AQ18,\"=1\",SmtRes!DI16:'SmtRes'!DI18)","v":0},{"$f":"ROUND(CU35*I35,2)","v":0},{"$f":"SUMIF(SmtRes!AQ16:'SmtRes'!AQ18,\"=1\",SmtRes!CV16:'SmtRes'!CV18)","v":0},{"$f":"SUMIF(SmtRes!AQ16:'SmtRes'!AQ18,\"=1\",SmtRes!CW16:'SmtRes'!CW18)","v":0},{"$f":"ROUND(CX35*I35,2)","v":0},{"$f":"ROUND(CY35,2)","v":0},{"$f":"ROUND(CZ35,2)","v":0},null,-1,{"$f":"ROUND((AC35+AD35+AF35),2)","v":900.43},{"$f":"ROUND((0),2)","v":0},{"$f":"ROUND((((SUM(SmtRes!BR16:'SmtRes'!BR18))-(SUM(SmtRes!BS16:'SmtRes'!BS18)))+AE35),2)","v":307.22000000000003},{"$f":"ROUND((SUM(SmtRes!BS16:'SmtRes'!BS18)),2)","v":307.87},{"$f":"ROUND((SUM(SmtRes!BT16:'SmtRes'!BT18)),2)","v":593.21},{"$f":"ROUND((AP35),2)","v":0},{"$f":"(SUM(SmtRes!BU16:'SmtRes'!BU18))","v":0.68},{"$f":"(SUM(SmtRes!BV16:'SmtRes'!BV18))","v":0.33},{"$f":"(AS35)","v":0},1208.3117999999999,0,307.22669999999999,307.87350000000004,593.21160000000009,0,0.68,0.33,0,103,72,1,1,null,null,1,1,1,1,"","","","",0,1,"ГЭСН-2022, 47-01-109-02, приказ Минстроя России от 18.05.2022 г. № 378/пр",null,null,47001,0,"",0,2,0,1,1,1,1,1,1,"",103,72,"",null,null,0,0,0,0,0,0,0,0,0,"",0,{"$f":"(P35+Q35+S35+R35)","v":0},{"$f":"SUMIF(SmtRes!AQ16:'SmtRes'!AQ18,\"=1\",SmtRes!AA16:'SmtRes'!AA18)","v":0},{"$f":"SUMIF(SmtRes!AQ16:'SmtRes'!AQ18,\"=1\",SmtRes!AB16:'SmtRes'!AB18)","v":930.99},{"$f":"SUMIF(SmtRes!AQ16:'SmtRes'!AQ18,\"=1\",SmtRes!AC16:'SmtRes'!AC18)","v":932.95},{"$f":"SUMIF(SmtRes!AQ16:'SmtRes'!AQ18,\"=1\",SmtRes!AD16:'SmtRes'!AD18)","v":872.37},{"$f":"AG35","v":0},{"$f":"SUMIF(SmtRes!AQ16:'SmtRes'!AQ18,\"=1\",SmtRes!BU16:'SmtRes'!BU18)","v":0.68},{"$f":"SUMIF(SmtRes!AQ16:'SmtRes'!AQ18,\"=1\",SmtRes!BV16:'SmtRes'!BV18)","v":0.33},{"$f":"AJ35","v":0},{"$f":"(((S35+R35)*AT35)/100)","v":0},{"$f":"(((S35+R35)*AU35)/100)","v":0},null,null,"","","","","","","","","","","",0,0,1,1,null,null,null,1013,"ШТ","ШТ",1,null,"","","","",null,83666893,2,"Общестроительные работы",41,"Озеленение. Защитные лесонасаждения",1,47001,"Озеленение. Защитные лесонасаждения","ФЕР-47",null,"",null,132096,0,0,0,0,0,0.68,0.33,0,null,null,null,null,null,null,null,null,null,null,null,null,null,null,null,null,null,0,0,0,null,null,null,null,103,72,null,"",null,null,1,null,-1710942875,2,1,-2,0,0,{"$f":"ROUND(IF(AND(BH35=3,BI35=3,FS35<>0),P35,0),2)","v":0},{"$f":"ROUND(O35+X35+Y35,2)+GX35","v":0},{"$f":"IF(OR(BI35=0,BI35=1),GM35-GX35,0)","v":0},{"$f":"IF(BI35=2,GM35-GX35,0)","v":0},{"$f":"IF(BI35=4,GM35-GX35,0)","v":0},null,0,0,0,"",{"$f":"ROUND((GT35),2)","v":0},1,{"$f":"ROUND(HC35*I35,2)","v":0},null,null,0,0,{"$f":"GV35*GW35","v":0},null,"","",null,null,null,null,null,null,"","Пр/812-041.0-1","Пр/774-041.0","Озеленение. Защитные лесонасаждения","Озеленение. Защитные лесонасаждения",null,0,null,null,null,null,null,null,null,null,null,null,null,null,null,null,null,null,null,0]
[19,1,null,null,null,"","По ВОР \"Опиловка деревьев выше 5м\"","",null,null,null,null,null,null,null,null,null,null,null,null,null,null,null,null,null,null,1,null,null,null,null,null,null,null,null,null,null,null,null,null,null,null,null,null,null,null,null,null,null,null,null,null,null,null,null,null,null,null,null,null,null,null,null,null,null,null,null,null,null,null,null,null,null,null,null,null,null,null,null,null,null,null,null,null,null,null,null,null,null,null,null,null,null,null,null,null,null,null,null,null,null,null,null,null,null,null,null,null,null,null,null,null,null,null,null,null,null,null,null,null,null,null,null,null,null,null,null,null,null,null,null,null,null,null,null,null,null,null,null,null,null,null,null,null,null,null,null,null,null,null,null,null,null,null,null,null,null,null,null,null,null,null,null,null,null,null,null,null,null,null,null,null,null,null,null,null,null,null,null,null,null,null,null,null,null,null,null,null,null,null,null,null,null,null,null,null,null,null,null,null,null,null,null,null,null,null,null,null,null,null,null,null,null,null,null,null,null,null,null,null,null,null,null,null,null,null,null,null,null,null,null,null,null,null,null,null,null,null,null,null,null,null,null,null,0]
[17,1,{"$f":"ROW(SmtRes!A19)","v":19},{"$f":"ROW(EtalonRes!A19)","v":19},"","68-01-005-03","Вырезка сухих ветвей деревьев лиственных пород диаметром: до 350 мм при количестве срезанных ветвей до 15","ШТ",0,0,0,1,1,{"$f":"ROUND(L37-M37,4)","v":0},{"$f":"ROUND(CP37,2)","v":0},{"$f":"SUMIF(SmtRes!AQ19:'SmtRes'!AQ19,\"=1\",SmtRes!DF19:'SmtRes'!DF19)","v":0},{"$f":"SUMIF(SmtRes!AQ19:'SmtRes'!AQ19,\"=1\",SmtRes!DG19:'SmtRes'!DG19)","v":0},{"$f":"SUMIF(SmtRes!AQ19:'SmtRes'!AQ19,\"=1\",SmtRes!DH19:'SmtRes'!DH19)","v":0},{"$f":"SUMIF(SmtRes!AQ19:'SmtRes'!AQ19,\"=1\",SmtRes!DI19:'SmtRes'!DI19)","v":0},{"$f":"ROUND(CU37*I37,2)","v":0},{"$f":"SUMIF(SmtRes!AQ19:'SmtRes'!AQ19,\"=1\",SmtRes!CV19:'SmtRes'!CV19)","v":0},{"$f":"SUMIF(SmtRes!AQ19:'SmtRes'!AQ19,\"=1\",SmtRes!CW19:'SmtRes'!CW19)","v":0},{"$f":"ROUND(CX37*I37,2)","v":0},{"$f":"ROUND(CY37,2)","v":0},{"$f":"ROUND(CZ37,2)","v":0},null,-1,{"$f":"ROUND((AC37+AD37+AF37),2)","v":700.56},{"$f":"ROUND((0),2)","v":0},{"$f":"ROUND((((0)-(0))+AE37),2)","v":0},{"$f":"ROUND((0),2)","v":0},{"$f":"ROUND((SUM(SmtRes!BT19:'SmtRes'!BT19)),2)","v":700.56},{"$f":"ROUND((AP37),2)","v":0},{"$f":"(SUM(SmtRes!BU19:'SmtRes'!BU19))","v":0.98},{"$f":"(0)","v":0},{"$f":"(AS37)","v":0},700.56280000000004,0,0,0,700.56280000000004,0,0.98,0,0,102,54,1,1,null,null,1,1,1,1,"","","","",0,1,"ГЭСНр-2022, 68-01-005-03, приказ Минстроя России от 18.05.2022 г. № 378/пр",null,null,68001,0,"",0,6,0,1,1,1,1,1,1,"",102,54,"",null,null,0,0,0,0,0,0,0,0,0,"",0,{"$f":"(P37+Q37+S37+R37)","v":0},{"$f":"SUMIF(SmtRes!AQ19:'SmtRes'!AQ19,\"=1\",SmtRes!AA19:'SmtRes'!AA19)","v":0},{"$f":"SUMIF(SmtRes!AQ19:'SmtRes'!AQ19,\"=1\",SmtRes!AB19:'SmtRes'!AB19)","v":0},{"$f":"SUMIF(SmtRes!AQ19:'SmtRes'!AQ19,\"=1\",SmtRes!AC19:'SmtRes'!AC19)","v":0},{"$f":"SUMIF(SmtRes!AQ19:'SmtRes'!AQ19,\"=1\",SmtRes!AD19:'SmtRes'!AD19)","v":714.86},{"$f":"AG37","v":0},{"$f":"SUMIF(SmtRes!AQ19:'SmtRes'!AQ19,\"=1\",SmtRes!BU19:'SmtRes'!BU19)","v":0.98},{"$f":"SUMIF(SmtRes!AQ19:'SmtRes'!AQ19,\"=1\",SmtRes!BV19:'SmtRes'!BV19)","v":0},{"$f":"AJ37","v":0},{"$f":"(((S37+R37)*AT37)/100)","v":0},{"$f":"(((S37+R37)*AU37)/100)","v":0},null,null,"","","","","","","","","","","",0,0,1,1,null,null,null,1013,"ШТ","ШТ",1,null,"","","","",null,83666950,6,"Ремонтно-строительные работы",102,"Благоустройство",1,68001,"Благоустройство","рФЕР-68",null,"",null,132096,0,0,0,0,0,0.98,0,0,null,null,null,null,null,null,null,null,null,null,null,null,null,null,null,null,null,0,0,0,null,null,null,null,102,54,null,"",null,null,1,null,-420139828,2,1,-2,0,0,{"$f":"ROUND(IF(AND(BH37=3,BI37=3,FS37<>0),P37,0),2)","v":0},{"$f":"ROUND(O37+X37+Y37,2)+GX37","v":0},{"$f":"IF(OR(BI37=0,BI37=1),GM37-GX37,0)","v":0},{"$f":"IF(BI37=2,GM37-GX37,0)","v":0},{"$f":"IF(BI37=4,GM37-GX37,0)","v":0},null,0,0,0,"",{"$f":"ROUND((GT37),2)","v":0},1,{"$f":"ROUND(HC37*I37,2)","v":0},null,null,0,0,{"$f":"GV37*GW37","v":0},null,"","",null,null,null,null,null,null,"","Пр/812-102.0-1","Пр/774-102.0","Благоустройство","Благоустройство",null,0,null,null,null,null,null,null,null,null,null,null,null,null,null,null,null,null,null,0]
[17,1,{"$f":"ROW(SmtRes!A20)","v":20},{"$f":"ROW(EtalonRes!A20)","v":20},"","68-01-005-03","Вырезка сухих ветвей деревьев лиственных пород диаметром: до 350 мм при количестве срезанных ветвей до 15","ШТ",0,0,0,1,1,{"$f":"ROUND(L38-M38,4)","v":0},{"$f":"ROUND(CP38,2)","v":0},{"$f":"SUMIF(SmtRes!AQ20:'SmtRes'!AQ20,\"=1\",SmtRes!DF20:'SmtRes'!DF20)","v":0},{"$f":"SUMIF(SmtRes!AQ20:'SmtRes'!AQ20,\"=1\",SmtRes!DG20:'SmtRes'!DG20)","v":0},{"$f":"SUMIF(SmtRes!AQ20:'SmtRes'!AQ20,\"=1\",SmtRes!DH20:'SmtRes'!DH20)","v":0},{"$f":"SUMIF(SmtRes!AQ20:'SmtRes'!AQ20,\"=1\",SmtRes!DI20:'SmtRes'!DI20)","v":0},{"$f":"ROUND(CU38*I38,2)","v":0},{"$f":"SUMIF(SmtRes!AQ20:'SmtRes'!AQ20,\"=1\",SmtRes!CV20:'SmtRes'!CV20)","v":0},{"$f":"SUMIF(SmtRes!AQ20:'SmtRes'!AQ20,\"=1\",SmtRes!CW20:'SmtRes'!CW20)","v":0},{"$f":"ROUND(CX38*I38,2)","v":0},{"$f":"ROUND(CY38,2)","v":0},{"$f":"ROUND(CZ38,2)","v":0},null,-1,{"$f":"ROUND((AC38+AD38+AF38),2)","v":700.56},{"$f":"ROUND((0),2)","v":0},{"$f":"ROUND((((0)-(0))+AE38),2)","v":0},{"$f":"ROUND((0),2)","v":0},{"$f":"ROUND((SUM(SmtRes!BT20:'SmtRes'!BT20)),2)","v":700.56},{"$f":"ROUND((AP38),2)","v":0},{"$f":"(SUM(SmtRes!BU20:'SmtRes'!BU20))","v":0.98},{"$f":"(0)","v":0},{"$f":"(AS38)","v":0},700.56280000000004,0,0,0,700.56280000000004,0,0.98,0,0,102,54,1,1,null,null,1,1,1,1,"","","","",0,1,"ГЭСНр-2022, 68-01-005-03, приказ Минстроя России от 18.05.2022 г. № 378/пр",null,null,68001,0,"",0,6,0,1,1,1,1,1,1,"",102,54,"",null,null,0,0,0,0,0,0,0,0,0,"",0,{"$f":"(P38+Q38+S38+R38)","v":0},{"$f":"SUMIF(SmtRes!AQ20:'SmtRes'!AQ20,\"=1\",SmtRes!AA20:'SmtRes'!AA20)","v":0},{"$f":"SUMIF(SmtRes!AQ20:'SmtRes'!AQ20,\"=1\",SmtRes!AB20:'SmtRes'!AB20)","v":0},{"$f":"SUMIF(SmtRes!AQ20:'SmtRes'!AQ20,\"=1\",SmtRes!AC20:'SmtRes'!AC20)","v":0},{"$f":"SUMIF(SmtRes!AQ20:'SmtRes'!AQ20,\"=1\",SmtRes!AD20:'SmtRes'!AD20)","v":714.86},{"$f":"AG38","v":0},{"$f":"SUMIF(SmtRes!AQ20:'SmtRes'!AQ20,\"=1\",SmtRes!BU20:'SmtRes'!BU20)","v":0.98},{"$f":"SUMIF(SmtRes!AQ20:'SmtRes'!AQ20,\"=1\",SmtRes!BV20:'SmtRes'!BV20)","v":0},{"$f":"AJ38","v":0},{"$f":"(((S38+R38)*AT38)/100)","v":0},{"$f":"(((S38+R38)*AU38)/100)","v":0},null,null,"","","","","","","","","","","",0,0,1,1,null,null,null,1013,"ШТ","ШТ",1,null,"","","","",null,83666950,6,"Ремонтно-строительные работы",102,"Благоустройство",1,68001,"Благоустройство","рФЕР-68",null,"",null,132096,0,0,0,0,0,0.98,0,0,null,null,null,null,null,null,null,null,null,null,null,null,null,null,null,null,null,0,0,0,null,null,null,null,102,54,null,"",null,null,1,null,-420139828,2,1,-2,0,0,{"$f":"ROUND(IF(AND(BH38=3,BI38=3,FS38<>0),P38,0),2)","v":0},{"$f":"ROUND(O38+X38+Y38,2)+GX38","v":0},{"$f":"IF(OR(BI38=0,BI38=1),GM38-GX38,0)","v":0},{"$f":"IF(BI38=2,GM38-GX38,0)","v":0},{"$f":"IF(BI38=4,GM38-GX38,0)","v":0},null,0,0,0,"",{"$f":"ROUND((GT38),2)","v":0},1,{"$f":"ROUND(HC38*I38,2)","v":0},null,null,0,0,{"$f":"GV38*GW38","v":0},null,"","",null,null,null,null,null,null,"","Пр/812-102.0-1","Пр/774-102.0","Благоустройство","Благоустройство",null,0,null,null,null,null,null,null,null,null,null,null,null,null,null,null,null,null,null,0]
[19,1,null,null,null,"","По ВОР \"Формовочная обрезка деревьев высотой более 5м\"","",null,null,null,null,null,null,null,null,null,null,null,null,null,null,null,null,null,null,1,null,null,null,null,null,null,null,null,null,null,null,null,null,null,null,null,null,null,null,null,null,null,null,null,null,null,null,null,null,null,null,null,null,null,null,null,null,null,null,null,null,null,null,null,null,null,null,null,null,null,null,null,null,null,null,null,null,null,null,null,null,null,null,null,null,null,null,null,null,null,null,null,null,null,null,null,null,null,null,null,null,null,null,null,null,null,null,null,null,null,null,null,null,null,null,null,null,null,null,null,null,null,null,null,null,null,null,null,null,null,null,null,null,null,null,null,null,null,null,null,null,null,null,null,null,null,null,null,null,null,null,null,null,null,null,null,null,null,null,null,null,null,null,null,null,null,null,null,null,null,null,null,null,null,null,null,null,null,null,null,null,null,null,null,null,null,null,null,null,null,null,null,null,null,null,null,null,null,null,null,null,null,null,null,null,null,null,null,null,null,null,null,null,null,null,null,null,null,null,null,null,null,null,null,null,null,null,null,null,null,null,null,null,null,null,null,null,0]
[17,1,{"$f":"ROW(SmtRes!A25)","v":25},{"$f":"ROW(EtalonRes!A25)","v":25},"1","33-04-016-02","Развозка конструкций и материалов опор ВЛ 0,38-10 кВ по трассе: одностоечных железобетонных опор","ШТ",0,0,0,10,10,{"$f":"ROUND(L40-M40,4)","v":0},{"$f":"ROUND(CP40,2)","v":0},{"$f":"SUMIF(SmtRes!AQ21:'SmtRes'!AQ25,\"=1\",SmtRes!DF21:'SmtRes'!DF25)","v":0},{"$f":"SUMIF(SmtRes!AQ21:'SmtRes'!AQ25,\"=1\",SmtRes!DG21:'SmtRes'!DG25)","v":0},{"$f":"SUMIF(SmtRes!AQ21:'SmtRes'!AQ25,\"=1\",SmtRes!DH21:'SmtRes'!DH25)","v":0},{"$f":"SUMIF(SmtRes!AQ21:'SmtRes'!AQ25,\"=1\",SmtRes!DI21:'SmtRes'!DI25)","v":0},{"$f":"ROUND(CU40*I40,2)","v":0},{"$f":"SUMIF(SmtRes!AQ21:'SmtRes'!AQ25,\"=1\",SmtRes!CV21:'SmtRes'!CV25)","v":0},{"$f":"SUMIF(SmtRes!AQ21:'SmtRes'!AQ25,\"=1\",SmtRes!CW21:'SmtRes'!CW25)","v":0},{"$f":"ROUND(CX40*I40,2)","v":0},{"$f":"ROUND(CY40,2)","v":0},{"$f":"ROUND(CZ40,2)","v":0},null,85316715,{"$f":"ROUND((AC40+AD40+AF40),2)","v":814.61},{"$f":"ROUND((0),2)","v":0},{"$f":"ROUND((((SUM(SmtRes!BR21:'SmtRes'!BR25))-(SUM(SmtRes!BS21:'SmtRes'!BS25)))+AE40),2)","v":510.74},{"$f":"ROUND((SUM(SmtRes!BS21:'SmtRes'!BS25)),2)","v":456.54},{"$f":"ROUND((SUM(SmtRes!BT21:'SmtRes'!BT25)),2)","v":303.87},{"$f":"ROUND((AP40),2)","v":0},{"$f":"(SUM(SmtRes!BU21:'SmtRes'!BU25))","v":0.44},{"$f":"(SUM(SmtRes!BV21:'SmtRes'!BV25))","v":0.48},{"$f":"(AS40)","v":0},1271.1543999999999,0,510.74159999999995,456.53999999999996,303.87279999999998,0,0.44,0.48,0,103,60,1,1,null,null,1,1,1,1,"","","","",0,1,"ГЭСН-2022, 33-04-016-02, приказ Минстроя России от 18.05.2022 г. № 378/пр",null,null,33001,0,"",0,2,0,1,1,1,1,1,1,"",103,60,"",null,null,0,0,0,1,0,0,0,0,0,"",0,{"$f":"(P40+Q40+S40+R40)","v":0},{"$f":"SUMIF(SmtRes!AQ21:'SmtRes'!AQ25,\"=1\",SmtRes!AA21:'SmtRes'!AA25)","v":0},{"$f":"SUMIF(SmtRes!AQ21:'SmtRes'!AQ25,\"=1\",SmtRes!AB21:'SmtRes'!AB25)","v":2274.4699999999998},{"$f":"SUMIF(SmtRes!AQ21:'SmtRes'!AQ25,\"=1\",SmtRes!AC21:'SmtRes'!AC25)","v":1902.25},{"$f":"SUMIF(SmtRes!AQ21:'SmtRes'!AQ25,\"=1\",SmtRes!AD21:'SmtRes'!AD25)","v":690.62},{"$f":"AG40","v":0},{"$f":"SUMIF(SmtRes!AQ21:'SmtRes'!AQ25,\"=1\",SmtRes!BU21:'SmtRes'!BU25)","v":0.44},{"$f":"SUMIF(SmtRes!AQ21:'SmtRes'!AQ25,\"=1\",SmtRes!BV21:'SmtRes'!BV25)","v":0.48},{"$f":"AJ40","v":0},{"$f":"(((S40+R40)*AT40)/100)","v":0},{"$f":"(((S40+R40)*AU40)/100)","v":0},null,null,"","","","","","","","","","","",0,0,1,1,null,null,null,1013,"ШТ","ШТ",1,null,"","","","",null,83666879,2,"Общестроительные работы",27,"Линии электропередачи",1,33001,"Линии электропередачи","ФЕР-33",null,"",null,131072,0,0,0,0,0,0.44,0.48,0,null,null,null,null,null,null,null,null,null,null,null,null,null,null,null,null,null,0,0,0,null,null,null,null,103,60,null,"",null,null,1,null,1316594094,2,1,-2,0,0,{"$f":"ROUND(IF(AND(BH40=3,BI40=3,FS40<>0),P40,0),2)","v":0},{"$f":"ROUND(O40+X40+Y40,2)+GX40","v":0},{"$f":"IF(OR(BI40=0,BI40=1),GM40-GX40,0)","v":0},{"$f":"IF(BI40=2,GM40-GX40,0)","v":0},{"$f":"IF(BI40=4,GM40-GX40,0)","v":0},null,0,3,0,"",{"$f":"ROUND((GT40),2)","v":0},1,{"$f":"ROUND(HC40*I40,2)","v":0},null,null,0,0,{"$f":"GV40*GW40","v":0},null,"","",null,null,null,null,null,null,"","Пр/812-027.0-1","Пр/774-027.0","Линии электропередачи","Линии электропередачи",null,0,null,null,null,null,null,null,null,null,null,null,null,null,null,null,null,null,null,0]
[17,1,{"$f":"ROW(SmtRes!A30)","v":30},{"$f":"ROW(EtalonRes!A30)","v":30},"1","33-04-016-02","Развозка конструкций и материалов опор ВЛ 0,38-10 кВ по трассе: одностоечных железобетонных опор","ШТ",0,0,0,10,10,{"$f":"ROUND(L41-M41,4)","v":0},{"$f":"ROUND(CP41,2)","v":0},{"$f":"SUMIF(SmtRes!AQ26:'SmtRes'!AQ30,\"=1\",SmtRes!DF26:'SmtRes'!DF30)","v":0},{"$f":"SUMIF(SmtRes!AQ26:'SmtRes'!AQ30,\"=1\",SmtRes!DG26:'SmtRes'!DG30)","v":0},{"$f":"SUMIF(SmtRes!AQ26:'SmtRes'!AQ30,\"=1\",SmtRes!DH26:'SmtRes'!DH30)","v":0},{"$f":"SUMIF(SmtRes!AQ26:'SmtRes'!AQ30,\"=1\",SmtRes!DI26:'SmtRes'!DI30)","v":0},{"$f":"ROUND(CU41*I41,2)","v":0},{"$f":"SUMIF(SmtRes!AQ26:'SmtRes'!AQ30,\"=1\",SmtRes!CV26:'SmtRes'!CV30)","v":0},{"$f":"SUMIF(SmtRes!AQ26:'SmtRes'!AQ30,\"=1\",SmtRes!CW26:'SmtRes'!CW30)","v":0},{"$f":"ROUND(CX41*I41,2)","v":0},{"$f":"ROUND(CY41,2)","v":0},{"$f":"ROUND(CZ41,2)","v":0},null,85316656,{"$f":"ROUND((AC41+AD41+AF41),2)","v":814.61},{"$f":"ROUND((0),2)","v":0},{"$f":"ROUND((((SUM(SmtRes!BR26:'SmtRes'!BR30))-(SUM(SmtRes!BS26:'SmtRes'!BS30)))+AE41),2)","v":510.74},{"$f":"ROUND((SUM(SmtRes!BS26:'SmtRes'!BS30)),2)","v":456.54},{"$f":"ROUND((SUM(SmtRes!BT26:'SmtRes'!BT30)),2)","v":303.87},{"$f":"ROUND((AP41),2)","v":0},{"$f":"(SUM(SmtRes!BU26:'SmtRes'!BU30))","v":0.44},{"$f":"(SUM(SmtRes!BV26:'SmtRes'!BV30))","v":0.48},{"$f":"(AS41)","v":0},1271.1543999999999,0,510.74159999999995,456.53999999999996,303.87279999999998,0,0.44,0.48,0,103,60,1,1,null,null,1,1,1,1,"","","","",0,1,"ГЭСН-2022, 33-04-016-02, приказ Минстроя России от 18.05.2022 г. № 378/пр",null,null,33001,0,"",0,2,0,1,1,1,1,1,1,"",103,60,"",null,null,0,0,0,1,0,0,0,0,0,"",0,{"$f":"(P41+Q41+S41+R41)","v":0},{"$f":"SUMIF(SmtRes!AQ26:'SmtRes'!AQ30,\"=1\",SmtRes!AA26:'SmtRes'!AA30)","v":0},{"$f":"SUMIF(SmtRes!AQ26:'SmtRes'!AQ30,\"=1\",SmtRes!AB26:'SmtRes'!AB30)","v":2274.4699999999998},{"$f":"SUMIF(SmtRes!AQ26:'SmtRes'!AQ30,\"=1\",SmtRes!AC26:'SmtRes'!AC30)","v":1902.25},{"$f":"SUMIF(SmtRes!AQ26:'SmtRes'!AQ30,\"=1\",SmtRes!AD26:'SmtRes'!AD30)","v":690.62},{"$f":"AG41","v":0},{"$f":"SUMIF(SmtRes!AQ26:'SmtRes'!AQ30,\"=1\",SmtRes!BU26:'SmtRes'!BU30)","v":0.44},{"$f":"SUMIF(SmtRes!AQ26:'SmtRes'!AQ30,\"=1\",SmtRes!BV26:'SmtRes'!BV30)","v":0.48},{"$f":"AJ41","v":0},{"$f":"(((S41+R41)*AT41)/100)","v":0},{"$f":"(((S41+R41)*AU41)/100)","v":0},null,null,"","","","","","","","","","","",0,0,1,1,null,null,null,1013,"ШТ","ШТ",1,null,"","","","",null,83666879,2,"Общестроительные работы",27,"Линии электропередачи",1,33001,"Линии электропередачи","ФЕР-33",null,"",null,131072,0,0,0,0,0,0.44,0.48,0,null,null,null,null,null,null,null,null,null,null,null,null,null,null,null,null,null,0,0,0,null,null,null,null,103,60,null,"",null,null,1,null,1316594094,2,1,-2,0,0,{"$f":"ROUND(IF(AND(BH41=3,BI41=3,FS41<>0),P41,0),2)","v":0},{"$f":"ROUND(O41+X41+Y41,2)+GX41","v":0},{"$f":"IF(OR(BI41=0,BI41=1),GM41-GX41,0)","v":0},{"$f":"IF(BI41=2,GM41-GX41,0)","v":0},{"$f":"IF(BI41=4,GM41-GX41,0)","v":0},null,0,3,0,"",{"$f":"ROUND((GT41),2)","v":0},1,{"$f":"ROUND(HC41*I41,2)","v":0},null,null,0,0,{"$f":"GV41*GW41","v":0},null,"","",null,null,null,null,null,null,"","Пр/812-027.0-1","Пр/774-027.0","Линии электропередачи","Линии электропередачи",null,0,null,null,null,null,null,null,null,null,null,null,null,null,null,null,null,null,null,0]
[19,1,null,null,null,"","По ВОР \"Развозка по трассе железобетонных стоек\"","",null,null,null,null,null,null,null,null,null,null,null,null,null,null,null,null,null,null,1,null,null,null,null,null,null,null,null,null,null,null,null,null,null,null,null,null,null,null,null,null,null,null,null,null,null,null,null,null,null,null,null,null,null,null,null,null,null,null,null,null,null,null,null,null,null,null,null,null,null,null,null,null,null,null,null,null,null,null,null,null,null,null,null,null,null,null,null,null,null,null,null,null,null,null,null,null,null,null,null,null,null,null,null,null,null,null,null,null,null,null,null,null,null,null,null,null,null,null,null,null,null,null,null,null,null,null,null,null,null,null,null,null,null,null,null,null,null,null,null,null,null,null,null,null,null,null,null,null,null,null,null,null,null,null,null,null,null,null,null,null,null,null,null,null,null,null,null,null,null,null,null,null,null,null,null,null,null,null,null,null,null,null,null,null,null,null,null,null,null,null,null,null,null,null,null,null,null,null,null,null,null,null,null,null,null,null,null,null,null,null,null,null,null,null,null,null,null,null,null,null,null,null,null,null,null,null,null,null,null,null,null,null,null,null,null,null,0]
[17,1,{"$f":"ROW(SmtRes!A35)","v":35},{"$f":"ROW(EtalonRes!A35)","v":35},"","33-04-016-04","Развозка конструкций и материалов опор ВЛ 0,38-10 кВ по трассе: приставок железобетонных","ШТ",0,0,0,1,1,{"$f":"ROUND(L43-M43,4)","v":0},{"$f":"ROUND(CP43,2)","v":0},{"$f":"SUMIF(SmtRes!AQ31:'SmtRes'!AQ35,\"=1\",SmtRes!DF31:'SmtRes'!DF35)","v":0},{"$f":"SUMIF(SmtRes!AQ31:'SmtRes'!AQ35,\"=1\",SmtRes!DG31:'SmtRes'!DG35)","v":0},{"$f":"SUMIF(SmtRes!AQ31:'SmtRes'!AQ35,\"=1\",SmtRes!DH31:'SmtRes'!DH35)","v":0},{"$f":"SUMIF(SmtRes!AQ31:'SmtRes'!AQ35,\"=1\",SmtRes!DI31:'SmtRes'!DI35)","v":0},{"$f":"ROUND(CU43*I43,2)","v":0},{"$f":"SUMIF(SmtRes!AQ31:'SmtRes'!AQ35,\"=1\",SmtRes!CV31:'SmtRes'!CV35)","v":0},{"$f":"SUMIF(SmtRes!AQ31:'SmtRes'!AQ35,\"=1\",SmtRes!CW31:'SmtRes'!CW35)","v":0},{"$f":"ROUND(CX43*I43,2)","v":0},{"$f":"ROUND(CY43,2)","v":0},{"$f":"ROUND(CZ43,2)","v":0},null,-1,{"$f":"ROUND((AC43+AD43+AF43),2)","v":751.33},{"$f":"ROUND((0),2)","v":0},{"$f":"ROUND((((SUM(SmtRes!BR31:'SmtRes'!BR35))-(SUM(SmtRes!BS31:'SmtRes'!BS35)))+AE43),2)","v":468.18},{"$f":"ROUND((SUM(SmtRes!BS31:'SmtRes'!BS35)),2)","v":418.5},{"$f":"ROUND((SUM(SmtRes!BT31:'SmtRes'!BT35)),2)","v":283.14999999999998},{"$f":"ROUND((AP43),2)","v":0},{"$f":"(SUM(SmtRes!BU31:'SmtRes'!BU35))","v":0.41},{"$f":"(SUM(SmtRes!BV31:'SmtRes'!BV35))","v":0.44},{"$f":"(AS43)","v":0},1169.8290000000002,0,468.1798,418.495,283.1542,0,0.41,0.44,0,103,60,1,1,null,null,1,1,1,1,"","","","",0,1,"ГЭСН-2022, 33-04-016-04, приказ Минстроя России от 18.05.2022 г. № 378/пр",null,null,33001,0,"",0,2,0,1,1,1,1,1,1,"",103,60,"",null,null,0,0,0,0,0,0,0,0,0,"",0,{"$f":"(P43+Q43+S43+R43)","v":0},{"$f":"SUMIF(SmtRes!AQ31:'SmtRes'!AQ35,\"=1\",SmtRes!AA31:'SmtRes'!AA35)","v":0},{"$f":"SUMIF(SmtRes!AQ31:'SmtRes'!AQ35,\"=1\",SmtRes!AB31:'SmtRes'!AB35)","v":2274.4699999999998},{"$f":"SUMIF(SmtRes!AQ31:'SmtRes'!AQ35,\"=1\",SmtRes!AC31:'SmtRes'!AC35)","v":1902.25},{"$f":"SUMIF(SmtRes!AQ31:'SmtRes'!AQ35,\"=1\",SmtRes!AD31:'SmtRes'!AD35)","v":690.62},{"$f":"AG43","v":0},{"$f":"SUMIF(SmtRes!AQ31:'SmtRes'!AQ35,\"=1\",SmtRes!BU31:'SmtRes'!BU35)","v":0.41},{"$f":"SUMIF(SmtRes!AQ31:'SmtRes'!AQ35,\"=1\",SmtRes!BV31:'SmtRes'!BV35)","v":0.44},{"$f":"AJ43","v":0},{"$f":"(((S43+R43)*AT43)/100)","v":0},{"$f":"(((S43+R43)*AU43)/100)","v":0},null,null,"","","","","","","","","","","",0,0,1,1,null,null,null,1013,"ШТ","ШТ",1,null,"","","","",null,83666879,2,"Общестроительные работы",27,"Линии электропередачи",1,33001,"Линии электропередачи","ФЕР-33",null,"",null,132096,0,0,0,0,0,0.41,0.44,0,null,null,null,null,null,null,null,null,null,null,null,null,null,null,null,null,null,0,0,0,null,null,null,null,103,60,null,"",null,null,1,null,116903011,2,1,-2,0,0,{"$f":"ROUND(IF(AND(BH43=3,BI43=3,FS43<>0),P43,0),2)","v":0},{"$f":"ROUND(O43+X43+Y43,2)+GX43","v":0},{"$f":"IF(OR(BI43=0,BI43=1),GM43-GX43,0)","v":0},{"$f":"IF(BI43=2,GM43-GX43,0)","v":0},{"$f":"IF(BI43=4,GM43-GX43,0)","v":0},null,0,0,0,"",{"$f":"ROUND((GT43),2)","v":0},1,{"$f":"ROUND(HC43*I43,2)","v":0},null,null,0,0,{"$f":"GV43*GW43","v":0},null,"","",null,null,null,null,null,null,"","Пр/812-027.0-1","Пр/774-027.0","Линии электропередачи","Линии электропередачи",null,0,null,null,null,null,null,null,null,null,null,null,null,null,null,null,null,null,null,0]
[17,1,{"$f":"ROW(SmtRes!A40)","v":40},{"$f":"ROW(EtalonRes!A40)","v":40},"","33-04-016-04","Развозка конструкций и материалов опор ВЛ 0,38-10 кВ по трассе: приставок железобетонных","ШТ",0,0,0,1,1,{"$f":"ROUND(L44-M44,4)","v":0},{"$f":"ROUND(CP44,2)","v":0},{"$f":"SUMIF(SmtRes!AQ36:'SmtRes'!AQ40,\"=1\",SmtRes!DF36:'SmtRes'!DF40)","v":0},{"$f":"SUMIF(SmtRes!AQ36:'SmtRes'!AQ40,\"=1\",SmtRes!DG36:'SmtRes'!DG40)","v":0},{"$f":"SUMIF(SmtRes!AQ36:'SmtRes'!AQ40,\"=1\",SmtRes!DH36:'SmtRes'!DH40)","v":0},{"$f":"SUMIF(SmtRes!AQ36:'SmtRes'!AQ40,\"=1\",SmtRes!DI36:'SmtRes'!DI40)","v":0},{"$f":"ROUND(CU44*I44,2)","v":0},{"$f":"SUMIF(SmtRes!AQ36:'SmtRes'!AQ40,\"=1\",SmtRes!CV36:'SmtRes'!CV40)","v":0},{"$f":"SUMIF(SmtRes!AQ36:'SmtRes'!AQ40,\"=1\",SmtRes!CW36:'SmtRes'!CW40)","v":0},{"$f":"ROUND(CX44*I44,2)","v":0},{"$f":"ROUND(CY44,2)","v":0},{"$f":"ROUND(CZ44,2)","v":0},null,-1,{"$f":"ROUND((AC44+AD44+AF44),2)","v":751.33},{"$f":"ROUND((0),2)","v":0},{"$f":"ROUND((((SUM(SmtRes!BR36:'SmtRes'!BR40))-(SUM(SmtRes!BS36:'SmtRes'!BS40)))+AE44),2)","v":468.18},{"$f":"ROUND((SUM(SmtRes!BS36:'SmtRes'!BS40)),2)","v":418.5},{"$f":"ROUND((SUM(SmtRes!BT36:'SmtRes'!BT40)),2)","v":283.14999999999998},{"$f":"ROUND((AP44),2)","v":0},{"$f":"(SUM(SmtRes!BU36:'SmtRes'!BU40))","v":0.41},{"$f":"(SUM(SmtRes!BV36:'SmtRes'!BV40))","v":0.44},{"$f":"(AS44)","v":0},1169.8290000000002,0,468.1798,418.495,283.1542,0,0.41,0.44,0,103,60,1,1,null,null,1,1,1,1,"","","","",0,1,"ГЭСН-2022, 33-04-016-04, приказ Минстроя России от 18.05.2022 г. № 378/пр",null,null,33001,0,"",0,2,0,1,1,1,1,1,1,"",103,60,"",null,null,0,0,0,0,0,0,0,0,0,"",0,{"$f":"(P44+Q44+S44+R44)","v":0},{"$f":"SUMIF(SmtRes!AQ36:'SmtRes'!AQ40,\"=1\",SmtRes!AA36:'SmtRes'!AA40)","v":0},{"$f":"SUMIF(SmtRes!AQ36:'SmtRes'!AQ40,\"=1\",SmtRes!AB36:'SmtRes'!AB40)","v":2274.4699999999998},{"$f":"SUMIF(SmtRes!AQ36:'SmtRes'!AQ40,\"=1\",SmtRes!AC36:'SmtRes'!AC40)","v":1902.25},{"$f":"SUMIF(SmtRes!AQ36:'SmtRes'!AQ40,\"=1\",SmtRes!AD36:'SmtRes'!AD40)","v":690.62},{"$f":"AG44","v":0},{"$f":"SUMIF(SmtRes!AQ36:'SmtRes'!AQ40,\"=1\",SmtRes!BU36:'SmtRes'!BU40)","v":0.41},{"$f":"SUMIF(SmtRes!AQ36:'SmtRes'!AQ40,\"=1\",SmtRes!BV36:'SmtRes'!BV40)","v":0.44},{"$f":"AJ44","v":0},{"$f":"(((S44+R44)*AT44)/100)","v":0},{"$f":"(((S44+R44)*AU44)/100)","v":0},null,null,"","","","","","","","","","","",0,0,1,1,null,null,null,1013,"ШТ","ШТ",1,null,"","","","",null,83666879,2,"Общестроительные работы",27,"Линии электропередачи",1,33001,"Линии электропередачи","ФЕР-33",null,"",null,132096,0,0,0,0,0,0.41,0.44,0,null,null,null,null,null,null,null,null,null,null,null,null,null,null,null,null,null,0,0,0,null,null,null,null,103,60,null,"",null,null,1,null,116903011,2,1,-2,0,0,{"$f":"ROUND(IF(AND(BH44=3,BI44=3,FS44<>0),P44,0),2)","v":0},{"$f":"ROUND(O44+X44+Y44,2)+GX44","v":0},{"$f":"IF(OR(BI44=0,BI44=1),GM44-GX44,0)","v":0},{"$f":"IF(BI44=2,GM44-GX44,0)","v":0},{"$f":"IF(BI44=4,GM44-GX44,0)","v":0},null,0,0,0,"",{"$f":"ROUND((GT44),2)","v":0},1,{"$f":"ROUND(HC44*I44,2)","v":0},null,null,0,0,{"$f":"GV44*GW44","v":0},null,"","",null,null,null,null,null,null,"","Пр/812-027.0-1","Пр/774-027.0","Линии электропередачи","Линии электропередачи",null,0,null,null,null,null,null,null,null,null,null,null,null,null,null,null,null,null,null,0]
[19,1,null,null,null,"","По ВОР \"Развозка по трассе железобетонных приставок\"","",null,null,null,null,null,null,null,null,null,null,null,null,null,null,null,null,null,null,1,null,null,null,null,null,null,null,null,null,null,null,null,null,null,null,null,null,null,null,null,null,null,null,null,null,null,null,null,null,null,null,null,null,null,null,null,null,null,null,null,null,null,null,null,null,null,null,null,null,null,null,null,null,null,null,null,null,null,null,null,null,null,null,null,null,null,null,null,null,null,null,null,null,null,null,null,null,null,null,null,null,null,null,null,null,null,null,null,null,null,null,null,null,null,null,null,null,null,null,null,null,null,null,null,null,null,null,null,null,null,null,null,null,null,null,null,null,null,null,null,null,null,null,null,null,null,null,null,null,null,null,null,null,null,null,null,null,null,null,null,null,null,null,null,null,null,null,null,null,null,null,null,null,null,null,null,null,null,null,null,null,null,null,null,null,null,null,null,null,null,null,null,null,null,null,null,null,null,null,null,null,null,null,null,null,null,null,null,null,null,null,null,null,null,null,null,null,null,null,null,null,null,null,null,null,null,null,null,null,null,null,null,null,null,null,null,null,0]
[17,1,{"$f":"ROW(SmtRes!A44)","v":44},{"$f":"ROW(EtalonRes!A44)","v":44},"2","33-04-016-05","Развозка конструкций и материалов опор ВЛ 0,38-10 кВ по трассе: материалов оснастки одностоечных опор","ШТ",0,0,0,3,3,{"$f":"ROUND(L46-M46,4)","v":0},{"$f":"ROUND(CP46,2)","v":0},{"$f":"SUMIF(SmtRes!AQ41:'SmtRes'!AQ44,\"=1\",SmtRes!DF41:'SmtRes'!DF44)","v":0},{"$f":"SUMIF(SmtRes!AQ41:'SmtRes'!AQ44,\"=1\",SmtRes!DG41:'SmtRes'!DG44)","v":0},{"$f":"SUMIF(SmtRes!AQ41:'SmtRes'!AQ44,\"=1\",SmtRes!DH41:'SmtRes'!DH44)","v":0},{"$f":"SUMIF(SmtRes!AQ41:'SmtRes'!AQ44,\"=1\",SmtRes!DI41:'SmtRes'!DI44)","v":0},{"$f":"ROUND(CU46*I46,2)","v":0},{"$f":"SUMIF(SmtRes!AQ41:'SmtRes'!AQ44,\"=1\",SmtRes!CV41:'SmtRes'!CV44)","v":0},{"$f":"SUMIF(SmtRes!AQ41:'SmtRes'!AQ44,\"=1\",SmtRes!CW41:'SmtRes'!CW44)","v":0},{"$f":"ROUND(CX46*I46,2)","v":0},{"$f":"ROUND(CY46,2)","v":0},{"$f":"ROUND(CZ46,2)","v":0},null,85316715,{"$f":"ROUND((AC46+AD46+AF46),2)","v":242.91},{"$f":"ROUND((0),2)","v":0},{"$f":"ROUND((((SUM(SmtRes!BR41:'SmtRes'!BR44))-(SUM(SmtRes!BS41:'SmtRes'!BS44)))+AE46),2)","v":70.25},{"$f":"ROUND((SUM(SmtRes!BS41:'SmtRes'!BS44)),2)","v":113.65},{"$f":"ROUND((SUM(SmtRes!BT41:'SmtRes'!BT44)),2)","v":172.66},{"$f":"ROUND((AP46),2)","v":0},{"$f":"(SUM(SmtRes!BU41:'SmtRes'!BU44))","v":0.25},{"$f":"(SUM(SmtRes!BV41:'SmtRes'!BV44))","v":0.14000000000000001},{"$f":"(AS46)","v":0},356.55760000000004,0,70.25200000000001,113.65060000000001,172.655,0,0.25,0.14000000000000001,0,103,60,1,1,null,null,1,1,1,1,"","","","",0,1,"ГЭСН-2022, 33-04-016-05, приказ Минстроя России от 18.05.2022 г. № 378/пр",null,null,33001,0,"",0,2,0,1,1,1,1,1,1,"",103,60,"",null,null,0,0,0,2,0,0,0,0,0,"",0,{"$f":"(P46+Q46+S46+R46)","v":0},{"$f":"SUMIF(SmtRes!AQ41:'SmtRes'!AQ44,\"=1\",SmtRes!AA41:'SmtRes'!AA44)","v":0},{"$f":"SUMIF(SmtRes!AQ41:'SmtRes'!AQ44,\"=1\",SmtRes!AB41:'SmtRes'!AB44)","v":648.18000000000006},{"$f":"SUMIF(SmtRes!AQ41:'SmtRes'!AQ44,\"=1\",SmtRes!AC41:'SmtRes'!AC44)","v":811.79},{"$f":"SUMIF(SmtRes!AQ41:'SmtRes'!AQ44,\"=1\",SmtRes!AD41:'SmtRes'!AD44)","v":690.62},{"$f":"AG46","v":0},{"$f":"SUMIF(SmtRes!AQ41:'SmtRes'!AQ44,\"=1\",SmtRes!BU41:'SmtRes'!BU44)","v":0.25},{"$f":"SUMIF(SmtRes!AQ41:'SmtRes'!AQ44,\"=1\",SmtRes!BV41:'SmtRes'!BV44)","v":0.14000000000000001},{"$f":"AJ46","v":0},{"$f":"(((S46+R46)*AT46)/100)","v":0},{"$f":"(((S46+R46)*AU46)/100)","v":0},null,null,"","","","","","","","","","","",0,0,1,1,null,null,null,1013,"ШТ","ШТ",1,null,"","","","",null,83666879,2,"Общестроительные работы",27,"Линии электропередачи",1,33001,"Линии электропередачи","ФЕР-33",null,"",null,131072,0,0,0,0,0,0.25,0.14000000000000001,0,null,null,null,null,null,null,null,null,null,null,null,null,null,null,null,null,null,0,0,0,null,null,null,null,103,60,null,"",null,null,1,null,-718096970,2,1,-2,0,0,{"$f":"ROUND(IF(AND(BH46=3,BI46=3,FS46<>0),P46,0),2)","v":0},{"$f":"ROUND(O46+X46+Y46,2)+GX46","v":0},{"$f":"IF(OR(BI46=0,BI46=1),GM46-GX46,0)","v":0},{"$f":"IF(BI46=2,GM46-GX46,0)","v":0},{"$f":"IF(BI46=4,GM46-GX46,0)","v":0},null,0,3,0,"",{"$f":"ROUND((GT46),2)","v":0},1,{"$f":"ROUND(HC46*I46,2)","v":0},null,null,0,0,{"$f":"GV46*GW46","v":0},null,"","",null,null,null,null,null,null,"","Пр/812-027.0-1","Пр/774-027.0","Линии электропередачи","Линии электропередачи",null,0,null,null,null,null,null,null,null,null,null,null,null,null,null,null,null,null,null,0]
[17,1,{"$f":"ROW(SmtRes!A48)","v":48},{"$f":"ROW(EtalonRes!A48)","v":48},"2","33-04-016-05","Развозка конструкций и материалов опор ВЛ 0,38-10 кВ по трассе: материалов оснастки одностоечных опор","ШТ",0,0,0,3,3,{"$f":"ROUND(L47-M47,4)","v":0},{"$f":"ROUND(CP47,2)","v":0},{"$f":"SUMIF(SmtRes!AQ45:'SmtRes'!AQ48,\"=1\",SmtRes!DF45:'SmtRes'!DF48)","v":0},{"$f":"SUMIF(SmtRes!AQ45:'SmtRes'!AQ48,\"=1\",SmtRes!DG45:'SmtRes'!DG48)","v":0},{"$f":"SUMIF(SmtRes!AQ45:'SmtRes'!AQ48,\"=1\",SmtRes!DH45:'SmtRes'!DH48)","v":0},{"$f":"SUMIF(SmtRes!AQ45:'SmtRes'!AQ48,\"=1\",SmtRes!DI45:'SmtRes'!DI48)","v":0},{"$f":"ROUND(CU47*I47,2)","v":0},{"$f":"SUMIF(SmtRes!AQ45:'SmtRes'!AQ48,\"=1\",SmtRes!CV45:'SmtRes'!CV48)","v":0},{"$f":"SUMIF(SmtRes!AQ45:'SmtRes'!AQ48,\"=1\",SmtRes!CW45:'SmtRes'!CW48)","v":0},{"$f":"ROUND(CX47*I47,2)","v":0},{"$f":"ROUND(CY47,2)","v":0},{"$f":"ROUND(CZ47,2)","v":0},null,85316656,{"$f":"ROUND((AC47+AD47+AF47),2)","v":242.91},{"$f":"ROUND((0),2)","v":0},{"$f":"ROUND((((SUM(SmtRes!BR45:'SmtRes'!BR48))-(SUM(SmtRes!BS45:'SmtRes'!BS48)))+AE47),2)","v":70.25},{"$f":"ROUND((SUM(SmtRes!BS45:'SmtRes'!BS48)),2)","v":113.65},{"$f":"ROUND((SUM(SmtRes!BT45:'SmtRes'!BT48)),2)","v":172.66},{"$f":"ROUND((AP47),2)","v":0},{"$f":"(SUM(SmtRes!BU45:'SmtRes'!BU48))","v":0.25},{"$f":"(SUM(SmtRes!BV45:'SmtRes'!BV48))","v":0.14000000000000001},{"$f":"(AS47)","v":0},356.55760000000004,0,70.25200000000001,113.65060000000001,172.655,0,0.25,0.14000000000000001,0,103,60,1,1,null,null,1,1,1,1,"","","","",0,1,"ГЭСН-2022, 33-04-016-05, приказ Минстроя России от 18.05.2022 г. № 378/пр",null,null,33001,0,"",0,2,0,1,1,1,1,1,1,"",103,60,"",null,null,0,0,0,2,0,0,0,0,0,"",0,{"$f":"(P47+Q47+S47+R47)","v":0},{"$f":"SUMIF(SmtRes!AQ45:'SmtRes'!AQ48,\"=1\",SmtRes!AA45:'SmtRes'!AA48)","v":0},{"$f":"SUMIF(SmtRes!AQ45:'SmtRes'!AQ48,\"=1\",SmtRes!AB45:'SmtRes'!AB48)","v":648.18000000000006},{"$f":"SUMIF(SmtRes!AQ45:'SmtRes'!AQ48,\"=1\",SmtRes!AC45:'SmtRes'!AC48)","v":811.79},{"$f":"SUMIF(SmtRes!AQ45:'SmtRes'!AQ48,\"=1\",SmtRes!AD45:'SmtRes'!AD48)","v":690.62},{"$f":"AG47","v":0},{"$f":"SUMIF(SmtRes!AQ45:'SmtRes'!AQ48,\"=1\",SmtRes!BU45:'SmtRes'!BU48)","v":0.25},{"$f":"SUMIF(SmtRes!AQ45:'SmtRes'!AQ48,\"=1\",SmtRes!BV45:'SmtRes'!BV48)","v":0.14000000000000001},{"$f":"AJ47","v":0},{"$f":"(((S47+R47)*AT47)/100)","v":0},{"$f":"(((S47+R47)*AU47)/100)","v":0},null,null,"","","","","","","","","","","",0,0,1,1,null,null,null,1013,"ШТ","ШТ",1,null,"","","","",null,83666879,2,"Общестроительные работы",27,"Линии электропередачи",1,33001,"Линии электропередачи","ФЕР-33",null,"",null,131072,0,0,0,0,0,0.25,0.14000000000000001,0,null,null,null,null,null,null,null,null,null,null,null,null,null,null,null,null,null,0,0,0,null,null,null,null,103,60,null,"",null,null,1,null,-718096970,2,1,-2,0,0,{"$f":"ROUND(IF(AND(BH47=3,BI47=3,FS47<>0),P47,0),2)","v":0},{"$f":"ROUND(O47+X47+Y47,2)+GX47","v":0},{"$f":"IF(OR(BI47=0,BI47=1),GM47-GX47,0)","v":0},{"$f":"IF(BI47=2,GM47-GX47,0)","v":0},{"$f":"IF(BI47=4,GM47-GX47,0)","v":0},null,0,3,0,"",{"$f":"ROUND((GT47),2)","v":0},1,{"$f":"ROUND(HC47*I47,2)","v":0},null,null,0,0,{"$f":"GV47*GW47","v":0},null,"","",null,null,null,null,null,null,"","Пр/812-027.0-1","Пр/774-027.0","Линии электропередачи","Линии электропередачи",null,0,null,null,null,null,null,null,null,null,null,null,null,null,null,null,null,null,null,0]
[19,1,null,null,null,"","По ВОР \"Развозка по трассе конструкций и материалов оснастки одностоечных опор\"","",null,null,null,null,null,null,null,null,null,null,null,null,null,null,null,null,null,null,1,null,null,null,null,null,null,null,null,null,null,null,null,null,null,null,null,null,null,null,null,null,null,null,null,null,null,null,null,null,null,null,null,null,null,null,null,null,null,null,null,null,null,null,null,null,null,null,null,null,null,null,null,null,null,null,null,null,null,null,null,null,null,null,null,null,null,null,null,null,null,null,null,null,null,null,null,null,null,null,null,null,null,null,null,null,null,null,null,null,null,null,null,null,null,null,null,null,null,null,null,null,null,null,null,null,null,null,null,null,null,null,null,null,null,null,null,null,null,null,null,null,null,null,null,null,null,null,null,null,null,null,null,null,null,null,null,null,null,null,null,null,null,null,null,null,null,null,null,null,null,null,null,null,null,null,null,null,null,null,null,null,null,null,null,null,null,null,null,null,null,null,null,null,null,null,null,null,null,null,null,null,null,null,null,null,null,null,null,null,null,null,null,null,null,null,null,null,null,null,null,null,null,null,null,null,null,null,null,null,null,null,null,null,null,null,null,null,0]
[17,1,{"$f":"ROW(SmtRes!A52)","v":52},{"$f":"ROW(EtalonRes!A52)","v":52},"3","33-04-016-06","Развозка конструкций и материалов опор ВЛ 0,38-10 кВ по трассе: материалов оснастки сложных опор","ШТ",0,0,0,3,3,{"$f":"ROUND(L49-M49,4)","v":0},{"$f":"ROUND(CP49,2)","v":0},{"$f":"SUMIF(SmtRes!AQ49:'SmtRes'!AQ52,\"=1\",SmtRes!DF49:'SmtRes'!DF52)","v":0},{"$f":"SUMIF(SmtRes!AQ49:'SmtRes'!AQ52,\"=1\",SmtRes!DG49:'SmtRes'!DG52)","v":0},{"$f":"SUMIF(SmtRes!AQ49:'SmtRes'!AQ52,\"=1\",SmtRes!DH49:'SmtRes'!DH52)","v":0},{"$f":"SUMIF(SmtRes!AQ49:'SmtRes'!AQ52,\"=1\",SmtRes!DI49:'SmtRes'!DI52)","v":0},{"$f":"ROUND(CU49*I49,2)","v":0},{"$f":"SUMIF(SmtRes!AQ49:'SmtRes'!AQ52,\"=1\",SmtRes!CV49:'SmtRes'!CV52)","v":0},{"$f":"SUMIF(SmtRes!AQ49:'SmtRes'!AQ52,\"=1\",SmtRes!CW49:'SmtRes'!CW52)","v":0},{"$f":"ROUND(CX49*I49,2)","v":0},{"$f":"ROUND(CY49,2)","v":0},{"$f":"ROUND(CZ49,2)","v":0},null,85316715,{"$f":"ROUND((AC49+AD49+AF49),2)","v":287.48},{"$f":"ROUND((0),2)","v":0},{"$f":"ROUND((((SUM(SmtRes!BR49:'SmtRes'!BR52))-(SUM(SmtRes!BS49:'SmtRes'!BS52)))+AE49),2)","v":80.290000000000006},{"$f":"ROUND((SUM(SmtRes!BS49:'SmtRes'!BS52)),2)","v":129.88999999999999},{"$f":"ROUND((SUM(SmtRes!BT49:'SmtRes'!BT52)),2)","v":207.19},{"$f":"ROUND((AP49),2)","v":0},{"$f":"(SUM(SmtRes!BU49:'SmtRes'!BU52))","v":0.3},{"$f":"(SUM(SmtRes!BV49:'SmtRes'!BV52))","v":0.16},{"$f":"(AS49)","v":0},417.36040000000003,0,80.288000000000011,129.88640000000001,207.18600000000001,0,0.3,0.16,0,103,60,1,1,null,null,1,1,1,1,"","","","",0,1,"ГЭСН-2022, 33-04-016-06, приказ Минстроя России от 18.05.2022 г. № 378/пр",null,null,33001,0,"",0,2,0,1,1,1,1,1,1,"",103,60,"",null,null,0,0,0,3,0,0,0,0,0,"",0,{"$f":"(P49+Q49+S49+R49)","v":0},{"$f":"SUMIF(SmtRes!AQ49:'SmtRes'!AQ52,\"=1\",SmtRes!AA49:'SmtRes'!AA52)","v":0},{"$f":"SUMIF(SmtRes!AQ49:'SmtRes'!AQ52,\"=1\",SmtRes!AB49:'SmtRes'!AB52)","v":648.18000000000006},{"$f":"SUMIF(SmtRes!AQ49:'SmtRes'!AQ52,\"=1\",SmtRes!AC49:'SmtRes'!AC52)","v":811.79},{"$f":"SUMIF(SmtRes!AQ49:'SmtRes'!AQ52,\"=1\",SmtRes!AD49:'SmtRes'!AD52)","v":690.62},{"$f":"AG49","v":0},{"$f":"SUMIF(SmtRes!AQ49:'SmtRes'!AQ52,\"=1\",SmtRes!BU49:'SmtRes'!BU52)","v":0.3},{"$f":"SUMIF(SmtRes!AQ49:'SmtRes'!AQ52,\"=1\",SmtRes!BV49:'SmtRes'!BV52)","v":0.16},{"$f":"AJ49","v":0},{"$f":"(((S49+R49)*AT49)/100)","v":0},{"$f":"(((S49+R49)*AU49)/100)","v":0},null,null,"","","","","","","","","","","",0,0,1,1,null,null,null,1013,"ШТ","ШТ",1,null,"","","","",null,83666879,2,"Общестроительные работы",27,"Линии электропередачи",1,33001,"Линии электропередачи","ФЕР-33",null,"",null,131072,0,0,0,0,0,0.3,0.16,0,null,null,null,null,null,null,null,null,null,null,null,null,null,null,null,null,null,0,0,0,null,null,null,null,103,60,null,"",null,null,1,null,-859650132,2,1,-2,0,0,{"$f":"ROUND(IF(AND(BH49=3,BI49=3,FS49<>0),P49,0),2)","v":0},{"$f":"ROUND(O49+X49+Y49,2)+GX49","v":0},{"$f":"IF(OR(BI49=0,BI49=1),GM49-GX49,0)","v":0},{"$f":"IF(BI49=2,GM49-GX49,0)","v":0},{"$f":"IF(BI49=4,GM49-GX49,0)","v":0},null,0,3,0,"",{"$f":"ROUND((GT49),2)","v":0},1,{"$f":"ROUND(HC49*I49,2)","v":0},null,null,0,0,{"$f":"GV49*GW49","v":0},null,"","",null,null,null,null,null,null,"","Пр/812-027.0-1","Пр/774-027.0","Линии электропередачи","Линии электропередачи",null,0,null,null,null,null,null,null,null,null,null,null,null,null,null,null,null,null,null,0]
[17,1,{"$f":"ROW(SmtRes!A56)","v":56},{"$f":"ROW(EtalonRes!A56)","v":56},"3","33-04-016-06","Развозка конструкций и материалов опор ВЛ 0,38-10 кВ по трассе: материалов оснастки сложных опор","ШТ",0,0,0,3,3,{"$f":"ROUND(L50-M50,4)","v":0},{"$f":"ROUND(CP50,2)","v":0},{"$f":"SUMIF(SmtRes!AQ53:'SmtRes'!AQ56,\"=1\",SmtRes!DF53:'SmtRes'!DF56)","v":0},{"$f":"SUMIF(SmtRes!AQ53:'SmtRes'!AQ56,\"=1\",SmtRes!DG53:'SmtRes'!DG56)","v":0},{"$f":"SUMIF(SmtRes!AQ53:'SmtRes'!AQ56,\"=1\",SmtRes!DH53:'SmtRes'!DH56)","v":0},{"$f":"SUMIF(SmtRes!AQ53:'SmtRes'!AQ56,\"=1\",SmtRes!DI53:'SmtRes'!DI56)","v":0},{"$f":"ROUND(CU50*I50,2)","v":0},{"$f":"SUMIF(SmtRes!AQ53:'SmtRes'!AQ56,\"=1\",SmtRes!CV53:'SmtRes'!CV56)","v":0},{"$f":"SUMIF(SmtRes!AQ53:'SmtRes'!AQ56,\"=1\",SmtRes!CW53:'SmtRes'!CW56)","v":0},{"$f":"ROUND(CX50*I50,2)","v":0},{"$f":"ROUND(CY50,2)","v":0},{"$f":"ROUND(CZ50,2)","v":0},null,85316656,{"$f":"ROUND((AC50+AD50+AF50),2)","v":287.48},{"$f":"ROUND((0),2)","v":0},{"$f":"ROUND((((SUM(SmtRes!BR53:'SmtRes'!BR56))-(SUM(SmtRes!BS53:'SmtRes'!BS56)))+AE50),2)","v":80.290000000000006},{"$f":"ROUND((SUM(SmtRes!BS53:'SmtRes'!BS56)),2)","v":129.88999999999999},{"$f":"ROUND((SUM(SmtRes!BT53:'SmtRes'!BT56)),2)","v":207.19},{"$f":"ROUND((AP50),2)","v":0},{"$f":"(SUM(SmtRes!BU53:'SmtRes'!BU56))","v":0.3},{"$f":"(SUM(SmtRes!BV53:'SmtRes'!BV56))","v":0.16},{"$f":"(AS50)","v":0},417.36040000000003,0,80.288000000000011,129.88640000000001,207.18600000000001,0,0.3,0.16,0,103,60,1,1,null,null,1,1,1,1,"","","","",0,1,"ГЭСН-2022, 33-04-016-06, приказ Минстроя России от 18.05.2022 г. № 378/пр",null,null,33001,0,"",0,2,0,1,1,1,1,1,1,"",103,60,"",null,null,0,0,0,3,0,0,0,0,0,"",0,{"$f":"(P50+Q50+S50+R50)","v":0},{"$f":"SUMIF(SmtRes!AQ53:'SmtRes'!AQ56,\"=1\",SmtRes!AA53:'SmtRes'!AA56)","v":0},{"$f":"SUMIF(SmtRes!AQ53:'SmtRes'!AQ56,\"=1\",SmtRes!AB53:'SmtRes'!AB56)","v":648.18000000000006},{"$f":"SUMIF(SmtRes!AQ53:'SmtRes'!AQ56,\"=1\",SmtRes!AC53:'SmtRes'!AC56)","v":811.79},{"$f":"SUMIF(SmtRes!AQ53:'SmtRes'!AQ56,\"=1\",SmtRes!AD53:'SmtRes'!AD56)","v":690.62},{"$f":"AG50","v":0},{"$f":"SUMIF(SmtRes!AQ53:'SmtRes'!AQ56,\"=1\",SmtRes!BU53:'SmtRes'!BU56)","v":0.3},{"$f":"SUMIF(SmtRes!AQ53:'SmtRes'!AQ56,\"=1\",SmtRes!BV53:'SmtRes'!BV56)","v":0.16},{"$f":"AJ50","v":0},{"$f":"(((S50+R50)*AT50)/100)","v":0},{"$f":"(((S50+R50)*AU50)/100)","v":0},null,null,"","","","","","","","","","","",0,0,1,1,null,null,null,1013,"ШТ","ШТ",1,null,"","","","",null,83666879,2,"Общестроительные работы",27,"Линии электропередачи",1,33001,"Линии электропередачи","ФЕР-33",null,"",null,131072,0,0,0,0,0,0.3,0.16,0,null,null,null,null,null,null,null,null,null,null,null,null,null,null,null,null,null,0,0,0,null,null,null,null,103,60,null,"",null,null,1,null,-859650132,2,1,-2,0,0,{"$f":"ROUND(IF(AND(BH50=3,BI50=3,FS50<>0),P50,0),2)","v":0},{"$f":"ROUND(O50+X50+Y50,2)+GX50","v":0},{"$f":"IF(OR(BI50=0,BI50=1),GM50-GX50,0)","v":0},{"$f":"IF(BI50=2,GM50-GX50,0)","v":0},{"$f":"IF(BI50=4,GM50-GX50,0)","v":0},null,0,3,0,"",{"$f":"ROUND((GT50),2)","v":0},1,{"$f":"ROUND(HC50*I50,2)","v":0},null,null,0,0,{"$f":"GV50*GW50","v":0},null,"","",null,null,null,null,null,null,"","Пр/812-027.0-1","Пр/774-027.0","Линии электропередачи","Линии электропередачи",null,0,null,null,null,null,null,null,null,null,null,null,null,null,null,null,null,null,null,0]
[19,1,null,null,null,"","По ВОР \"Развозка по трассе конструкций и материалов оснастки сложных опор\"","",null,null,null,null,null,null,null,null,null,null,null,null,null,null,null,null,null,null,1,null,null,null,null,null,null,null,null,null,null,null,null,null,null,null,null,null,null,null,null,null,null,null,null,null,null,null,null,null,null,null,null,null,null,null,null,null,null,null,null,null,null,null,null,null,null,null,null,null,null,null,null,null,null,null,null,null,null,null,null,null,null,null,null,null,null,null,null,null,null,null,null,null,null,null,null,null,null,null,null,null,null,null,null,null,null,null,null,null,null,null,null,null,null,null,null,null,null,null,null,null,null,null,null,null,null,null,null,null,null,null,null,null,null,null,null,null,null,null,null,null,null,null,null,null,null,null,null,null,null,null,null,null,null,null,null,null,null,null,null,null,null,null,null,null,null,null,null,null,null,null,null,null,null,null,null,null,null,null,null,null,null,null,null,null,null,null,null,null,null,null,null,null,null,null,null,null,null,null,null,null,null,null,null,null,null,null,null,null,null,null,null,null,null,null,null,null,null,null,null,null,null,null,null,null,null,null,null,null,null,null,null,null,null,null,null,null,0]
[17,1,{"$f":"ROW(SmtRes!A74)","v":74},{"$f":"ROW(EtalonRes!A74)","v":74},"4","33-04-003-01","Установка железобетонных опор ВЛ 0,38; 6-10 кВ с траверсами без приставок: одностоечных","ШТ",0,0,0,3,3,{"$f":"ROUND(L52-M52,4)","v":0},{"$f":"ROUND(CP52,2)","v":0},{"$f":"SUMIF(SmtRes!AQ57:'SmtRes'!AQ74,\"=1\",SmtRes!DF57:'SmtRes'!DF74)","v":0},{"$f":"SUMIF(SmtRes!AQ57:'SmtRes'!AQ74,\"=1\",SmtRes!DG57:'SmtRes'!DG74)","v":0},{"$f":"SUMIF(SmtRes!AQ57:'SmtRes'!AQ74,\"=1\",SmtRes!DH57:'SmtRes'!DH74)","v":0},{"$f":"SUMIF(SmtRes!AQ57:'SmtRes'!AQ74,\"=1\",SmtRes!DI57:'SmtRes'!DI74)","v":0},{"$f":"ROUND(CU52*I52,2)","v":0},{"$f":"SUMIF(SmtRes!AQ57:'SmtRes'!AQ74,\"=1\",SmtRes!CV57:'SmtRes'!CV74)","v":0},{"$f":"SUMIF(SmtRes!AQ57:'SmtRes'!AQ74,\"=1\",SmtRes!CW57:'SmtRes'!CW74)","v":0},{"$f":"ROUND(CX52*I52,2)","v":0},{"$f":"ROUND(CY52,2)","v":0},{"$f":"ROUND(CZ52,2)","v":0},null,85316715,{"$f":"ROUND((AC52+AD52+AF52),2)","v":3947.56},{"$f":"ROUND((SUM(SmtRes!BQ57:'SmtRes'!BQ74)),2)","v":115.84},{"$f":"ROUND((((SUM(SmtRes!BR57:'SmtRes'!BR74))-(SUM(SmtRes!BS57:'SmtRes'!BS74)))+AE52),2)","v":1542.29},{"$f":"ROUND((SUM(SmtRes!BS57:'SmtRes'!BS74)),2)","v":788.65},{"$f":"ROUND((SUM(SmtRes!BT57:'SmtRes'!BT74)),2)","v":2289.4299999999998},{"$f":"ROUND((AP52),2)","v":0},{"$f":"(SUM(SmtRes!BU57:'SmtRes'!BU74))","v":3.06},{"$f":"(SUM(SmtRes!BV57:'SmtRes'!BV74))","v":0.87000000000000011},{"$f":"(AS52)","v":0},4736.2024980000006,115.838998,1542.2866000000001,788.64610000000005,2289.4308000000001,0,3.06,0.87000000000000011,0,103,60,1,1,null,null,1,1,1,1,"","","","",0,1,"ГЭСН-2022 доп.17, 33-04-003-01, приказ Минстроя России от 17.02.2026 г. № 91/пр",null,null,33001,0,"",0,2,0,1,1,1,1,1,1,"",103,60,"",null,null,0,0,0,4,0,0,0,0,0,"",0,{"$f":"(P52+Q52+S52+R52)","v":0},{"$f":"SUMIF(SmtRes!AQ57:'SmtRes'!AQ74,\"=1\",SmtRes!AA57:'SmtRes'!AA74)","v":105143.62000000001},{"$f":"SUMIF(SmtRes!AQ57:'SmtRes'!AQ74,\"=1\",SmtRes!AB57:'SmtRes'!AB74)","v":3377.99},{"$f":"SUMIF(SmtRes!AQ57:'SmtRes'!AQ74,\"=1\",SmtRes!AC57:'SmtRes'!AC74)","v":1744.74},{"$f":"SUMIF(SmtRes!AQ57:'SmtRes'!AQ74,\"=1\",SmtRes!AD57:'SmtRes'!AD74)","v":748.18},{"$f":"AG52","v":0},{"$f":"SUMIF(SmtRes!AQ57:'SmtRes'!AQ74,\"=1\",SmtRes!BU57:'SmtRes'!BU74)","v":3.06},{"$f":"SUMIF(SmtRes!AQ57:'SmtRes'!AQ74,\"=1\",SmtRes!BV57:'SmtRes'!BV74)","v":0.87000000000000011},{"$f":"AJ52","v":0},{"$f":"(((S52+R52)*AT52)/100)","v":0},{"$f":"(((S52+R52)*AU52)/100)","v":0},null,null,"","","","","","","","","","","",0,0,1,1,null,null,null,1013,"ШТ","ШТ",1,null,"","","","",null,83666879,2,"Общестроительные работы",27,"Линии электропередачи",1,33001,"Линии электропередачи","ФЕР-33",null,"",null,131072,0,0,0,0,0,3.06,0.87,0,null,null,null,null,null,null,null,null,null,null,null,null,null,null,null,null,null,0,0,0,null,null,null,null,103,60,null,"",null,null,1,null,-343713442,2,1,-2,0,0,{"$f":"ROUND(IF(AND(BH52=3,BI52=3,FS52<>0),P52,0),2)","v":0},{"$f":"ROUND(O52+X52+Y52,2)+GX52","v":0},{"$f":"IF(OR(BI52=0,BI52=1),GM52-GX52,0)","v":0},{"$f":"IF(BI52=2,GM52-GX52,0)","v":0},{"$f":"IF(BI52=4,GM52-GX52,0)","v":0},null,0,3,0,"",{"$f":"ROUND((GT52),2)","v":0},1,{"$f":"ROUND(HC52*I52,2)","v":0},null,null,0,0,{"$f":"GV52*GW52","v":0},null,"","",null,null,null,null,null,null,"","Пр/812-027.0-1","Пр/774-027.0","Линии электропередачи","Линии электропередачи",null,0,null,null,null,null,null,null,null,null,null,null,null,null,null,null,null,null,null,0]
[17,1,{"$f":"ROW(SmtRes!A92)","v":92},{"$f":"ROW(EtalonRes!A92)","v":92},"4","33-04-003-01","Установка железобетонных опор ВЛ 0,38; 6-10 кВ с траверсами без приставок: одностоечных","ШТ",0,0,0,3,3,{"$f":"ROUND(L53-M53,4)","v":0},{"$f":"ROUND(CP53,2)","v":0},{"$f":"SUMIF(SmtRes!AQ75:'SmtRes'!AQ92,\"=1\",SmtRes!DF75:'SmtRes'!DF92)","v":0},{"$f":"SUMIF(SmtRes!AQ75:'SmtRes'!AQ92,\"=1\",SmtRes!DG75:'SmtRes'!DG92)","v":0},{"$f":"SUMIF(SmtRes!AQ75:'SmtRes'!AQ92,\"=1\",SmtRes!DH75:'SmtRes'!DH92)","v":0},{"$f":"SUMIF(SmtRes!AQ75:'SmtRes'!AQ92,\"=1\",SmtRes!DI75:'SmtRes'!DI92)","v":0},{"$f":"ROUND(CU53*I53,2)","v":0},{"$f":"SUMIF(SmtRes!AQ75:'SmtRes'!AQ92,\"=1\",SmtRes!CV75:'SmtRes'!CV92)","v":0},{"$f":"SUMIF(SmtRes!AQ75:'SmtRes'!AQ92,\"=1\",SmtRes!CW75:'SmtRes'!CW92)","v":0},{"$f":"ROUND(CX53*I53,2)","v":0},{"$f":"ROUND(CY53,2)","v":0},{"$f":"ROUND(CZ53,2)","v":0},null,85316656,{"$f":"ROUND((AC53+AD53+AF53),2)","v":3947.56},{"$f":"ROUND((SUM(SmtRes!BQ75:'SmtRes'!BQ92)),2)","v":115.84},{"$f":"ROUND((((SUM(SmtRes!BR75:'SmtRes'!BR92))-(SUM(SmtRes!BS75:'SmtRes'!BS92)))+AE53),2)","v":1542.29},{"$f":"ROUND((SUM(SmtRes!BS75:'SmtRes'!BS92)),2)","v":788.65},{"$f":"ROUND((SUM(SmtRes!BT75:'SmtRes'!BT92)),2)","v":2289.4299999999998},{"$f":"ROUND((AP53),2)","v":0},{"$f":"(SUM(SmtRes!BU75:'SmtRes'!BU92))","v":3.06},{"$f":"(SUM(SmtRes!BV75:'SmtRes'!BV92))","v":0.87000000000000011},{"$f":"(AS53)","v":0},4736.2024980000006,115.838998,1542.2866000000001,788.64610000000005,2289.4308000000001,0,3.06,0.87000000000000011,0,103,60,1,1,null,null,1,1,1,1,"","","","",0,1,"ГЭСН-2022 доп.17, 33-04-003-01, приказ Минстроя России от 17.02.2026 г. № 91/пр",null,null,33001,0,"",0,2,0,1,1,1,1,1,1,"",103,60,"",null,null,0,0,0,4,0,0,0,0,0,"",0,{"$f":"(P53+Q53+S53+R53)","v":0},{"$f":"SUMIF(SmtRes!AQ75:'SmtRes'!AQ92,\"=1\",SmtRes!AA75:'SmtRes'!AA92)","v":105143.62000000001},{"$f":"SUMIF(SmtRes!AQ75:'SmtRes'!AQ92,\"=1\",SmtRes!AB75:'SmtRes'!AB92)","v":3377.99},{"$f":"SUMIF(SmtRes!AQ75:'SmtRes'!AQ92,\"=1\",SmtRes!AC75:'SmtRes'!AC92)","v":1744.74},{"$f":"SUMIF(SmtRes!AQ75:'SmtRes'!AQ92,\"=1\",SmtRes!AD75:'SmtRes'!AD92)","v":748.18},{"$f":"AG53","v":0},{"$f":"SUMIF(SmtRes!AQ75:'SmtRes'!AQ92,\"=1\",SmtRes!BU75:'SmtRes'!BU92)","v":3.06},{"$f":"SUMIF(SmtRes!AQ75:'SmtRes'!AQ92,\"=1\",SmtRes!BV75:'SmtRes'!BV92)","v":0.87000000000000011},{"$f":"AJ53","v":0},{"$f":"(((S53+R53)*AT53)/100)","v":0},{"$f":"(((S53+R53)*AU53)/100)","v":0},null,null,"","","","","","","","","","","",0,0,1,1,null,null,null,1013,"ШТ","ШТ",1,null,"","","","",null,83666879,2,"Общестроительные работы",27,"Линии электропередачи",1,33001,"Линии электропередачи","ФЕР-33",null,"",null,131072,0,0,0,0,0,3.06,0.87,0,null,null,null,null,null,null,null,null,null,null,null,null,null,null,null,null,null,0,0,0,null,null,null,null,103,60,null,"",null,null,1,null,-343713442,2,1,-2,0,0,{"$f":"ROUND(IF(AND(BH53=3,BI53=3,FS53<>0),P53,0),2)","v":0},{"$f":"ROUND(O53+X53+Y53,2)+GX53","v":0},{"$f":"IF(OR(BI53=0,BI53=1),GM53-GX53,0)","v":0},{"$f":"IF(BI53=2,GM53-GX53,0)","v":0},{"$f":"IF(BI53=4,GM53-GX53,0)","v":0},null,0,3,0,"",{"$f":"ROUND((GT53),2)","v":0},1,{"$f":"ROUND(HC53*I53,2)","v":0},null,null,0,0,{"$f":"GV53*GW53","v":0},null,"","",null,null,null,null,null,null,"","Пр/812-027.0-1","Пр/774-027.0","Линии электропередачи","Линии электропередачи",null,0,null,null,null,null,null,null,null,null,null,null,null,null,null,null,null,null,null,0]
[19,1,null,null,null,"","По ВОР \"Установка ЖБ опор без приставок одностоечных\"","",null,null,null,null,null,null,null,null,null,null,null,null,null,null,null,null,null,null,1,null,null,null,null,null,null,null,null,null,null,null,null,null,null,null,null,null,null,null,null,null,null,null,null,null,null,null,null,null,null,null,null,null,null,null,null,null,null,null,null,null,null,null,null,null,null,null,null,null,null,null,null,null,null,null,null,null,null,null,null,null,null,null,null,null,null,null,null,null,null,null,null,null,null,null,null,null,null,null,null,null,null,null,null,null,null,null,null,null,null,null,null,null,null,null,null,null,null,null,null,null,null,null,null,null,null,null,null,null,null,null,null,null,null,null,null,null,null,null,null,null,null,null,null,null,null,null,null,null,null,null,null,null,null,null,null,null,null,null,null,null,null,null,null,null,null,null,null,null,null,null,null,null,null,null,null,null,null,null,null,null,null,null,null,null,null,null,null,null,null,null,null,null,null,null,null,null,null,null,null,null,null,null,null,null,null,null,null,null,null,null,null,null,null,null,null,null,null,null,null,null,null,null,null,null,null,null,null,null,null,null,null,null,null,null,null,null,0]
[18,1,63,null,"4,1","01.7.15.03-0042","Болты с гайками и шайбами строительные","кг",{"$f":"I52*J55","v":0},0,0,0,0,{"$f":"ROUND(L55-M55,4)","v":0},{"$f":"ROUND(CP55,2)","v":0},{"$f":"ROUND(CQ55*I55,2)","v":0},{"$f":"ROUND(CR55*I55,2)","v":0},{"$f":"ROUND(CS55*I55,2)","v":0},{"$f":"ROUND(CT55*I55,2)","v":0},{"$f":"ROUND(CU55*I55,2)","v":0},{"$f":"ROUND(CV55*I55,7)","v":0},{"$f":"ROUND(CW55*I55,7)","v":0},{"$f":"ROUND(CX55*I55,2)","v":0},{"$f":"ROUND(CY55,2)","v":0},{"$f":"ROUND(CZ55,2)","v":0},null,85316715,{"$f":"ROUND((AC55+AD55+AF55),2)","v":174.93},{"$f":"ROUND((ES55),2)","v":174.93},{"$f":"ROUND((((ET55)-(EU55))+AE55),2)","v":0},{"$f":"ROUND((EU55),2)","v":0},{"$f":"ROUND((EV55),2)","v":0},{"$f":"ROUND((AP55),2)","v":0},{"$f":"(EW55)","v":0},{"$f":"(EX55)","v":0},{"$f":"(AS55)","v":0},174.93,174.93,0,0,0,0,0,0,0,103,60,1,1,null,null,1,1,1,1.08,"","","","",3,1,"ФСБЦ-2022, 01.7.15.03-0042, приказ Минстроя России от 18.05.2022 г. № 378/пр",null,null,33001,0,"01.7.15.03-0042",1,2,0,1,1,1,1,1,1,"",103,60,"",null,null,0,0,0,4,1,0,0,0,0,"",0,{"$f":"(P55+Q55+S55+R55)","v":0},{"$f":"ROUND(AL55*BC55,2)","v":188.92},{"$f":"ROUND(AM55*BB55,2)","v":0},{"$f":"ROUND(AN55*BS55,2)","v":0},{"$f":"ROUND(AO55*BA55,2)","v":0},{"$f":"AG55","v":0},{"$f":"AH55","v":0},{"$f":"AI55","v":0},{"$f":"AJ55","v":0},{"$f":"(((S55+R55)*AT55)/100)","v":0},{"$f":"(((S55+R55)*AU55)/100)","v":0},null,null,"","","","","","","","","","","",0,0,1,1,null,null,null,1009,"кг","кг",1,null,"","","","",null,83666879,2,"Общестроительные работы",27,"Линии электропередачи",1,33001,"Линии электропередачи","ФЕР-33",null,"",null,0,174.93,174.93,0,0,0,0,0,null,null,null,null,null,null,null,null,null,null,null,null,null,null,null,null,null,null,0,0,0,null,null,null,null,103,60,null,"",null,null,1,null,-1131385474,2,1,2,0,0,{"$f":"ROUND(IF(AND(BH55=3,BI55=3,FS55<>0),P55,0),2)","v":0},{"$f":"ROUND(O55+X55+Y55,2)+GX55","v":0},{"$f":"IF(OR(BI55=0,BI55=1),GM55-GX55,0)","v":0},{"$f":"IF(BI55=2,GM55-GX55,0)","v":0},{"$f":"IF(BI55=4,GM55-GX55,0)","v":0},null,0,3,0,"",{"$f":"ROUND((GT55),2)","v":0},1,{"$f":"ROUND(HC55*I55,2)","v":0},null,null,0,0,{"$f":"GV55*GW55","v":0},null,"","",null,null,null,null,null,null,"","Пр/812-027.0-1","Пр/774-027.0","Линии электропередачи","Линии электропередачи",null,0,null,null,null,null,null,null,null,null,null,null,null,null,null,null,null,null,null,0]
[18,1,81,null,"4,1","01.7.15.03-0042","Болты с гайками и шайбами строительные","кг",{"$f":"I53*J56","v":0},0,0,0,0,0,0,0,0,0,0,0,0,0,0,0,0,null,85316656,174.93,174.93,0,0,0,0,0,0,0,174.93,174.93,0,0,0,0,0,0,0,103,60,1,1,null,null,1,1,1,1.08,"","","","",3,1,"ФСБЦ-2022, 01.7.15.03-0042, приказ Минстроя России от 18.05.2022 г. № 378/пр",null,null,33001,0,"01.7.15.03-0042",1,2,0,1,1,1,1,1,1,"",103,60,"",null,null,0,0,0,4,1,0,0,0,0,"",0,0,188.92,0,0,0,0,0,0,0,0,0,null,null,"","","","","","","","","","","",0,0,1,1,null,null,null,1009,"кг","кг",1,null,"","","","",null,83666879,2,"Общестроительные работы",27,"Линии электропередачи",1,33001,"Линии электропередачи","ФЕР-33",null,"",null,0,174.93,174.93,0,0,0,0,0,null,null,null,null,null,null,null,null,null,null,null,null,null,null,null,null,null,null,0,0,0,null,null,null,null,103,60,null,"",null,null,1,null,-1131385474,2,1,2,0,0,0,0,0,0,0,null,0,3,0,"",0,1,0,null,null,0,0,0,null,"","",null,null,null,null,null,null,"","Пр/812-027.0-1","Пр/774-027.0","Линии электропередачи","Линии электропередачи",null,0,null,null,null,null,null,null,null,null,null,null,null,null,null,null,null,null,null,0]
[18,1,65,null,"4,2","05.1.02.07","Стойка железобетонная вибрированная для опор","ШТ",{"$f":"I52*J57","v":0},0,0,0,0,0,0,0,0,0,0,0,0,0,0,0,0,null,85316715,0,0,0,0,0,0,0,0,0,0,0,0,0,0,0,0,0,0,103,60,1,1,null,null,1,1,1,1,"","","","",3,1,"",null,null,33001,0,"",0,2,0,1,1,1,1,1,1,"",103,60,"",null,null,0,0,0,4,2,0,0,0,0,"",0,0,0,0,0,0,0,0,0,0,0,0,null,null,"","","","","","","","","","","",0,0,1,1,null,null,null,1013,"ШТ","ШТ",1,null,"","","","",null,83666879,2,"Общестроительные работы",27,"Линии электропередачи",1,33001,"Линии электропередачи","ФЕР-33",null,"",null,0,0,0,0,0,0,0,0,null,null,null,null,null,null,null,null,null,null,null,null,null,null,null,null,null,null,0,0,0,null,null,null,null,103,60,null,"",null,null,1,null,457934895,2,1,-2,0,0,0,0,0,0,0,null,0,3,0,"",0,1,0,null,null,0,0,0,null,"","",null,null,null,null,null,null,"","Пр/812-027.0-1","Пр/774-027.0","Линии электропередачи","Линии электропередачи",null,0,null,null,null,null,null,null,null,null,null,null,null,null,null,null,null,null,null,0]
[18,1,83,null,"4,2","05.1.02.07","Стойка железобетонная вибрированная для опор","ШТ",{"$f":"I53*J58","v":0},0,0,0,0,0,0,0,0,0,0,0,0,0,0,0,0,null,85316656,0,0,0,0,0,0,0,0,0,0,0,0,0,0,0,0,0,0,103,60,1,1,null,null,1,1,1,1,"","","","",3,1,"",null,null,33001,0,"",0,2,0,1,1,1,1,1,1,"",103,60,"",null,null,0,0,0,4,2,0,0,0,0,"",0,0,0,0,0,0,0,0,0,0,0,0,null,null,"","","","","","","","","","","",0,0,1,1,null,null,null,1013,"ШТ","ШТ",1,null,"","","","",null,83666879,2,"Общестроительные работы",27,"Линии электропередачи",1,33001,"Линии электропередачи","ФЕР-33",null,"",null,0,0,0,0,0,0,0,0,null,null,null,null,null,null,null,null,null,null,null,null,null,null,null,null,null,null,0,0,0,null,null,null,null,103,60,null,"",null,null,1,null,457934895,2,1,-2,0,0,0,0,0,0,0,null,0,3,0,"",0,1,0,null,null,0,0,0,null,"","",null,null,null,null,null,null,"","Пр/812-027.0-1","Пр/774-027.0","Линии электропередачи","Линии электропередачи",null,0,null,null,null,null,null,null,null,null,null,null,null,null,null,null,null,null,null,0]
[18,1,66,null,"4,3","07.2.02.05","Траверсы стальные","т",{"$f":"I52*J59","v":0},0,0,0,0,0,0,0,0,0,0,0,0,0,0,0,0,null,85316715,0,0,0,0,0,0,0,0,0,0,0,0,0,0,0,0,0,0,103,60,1,1,null,null,1,1,1,1,"","","","",3,1,"",null,null,33001,0,"",0,2,0,1,1,1,1,1,1,"",103,60,"",null,null,0,0,0,4,3,0,0,0,0,"",0,0,0,0,0,0,0,0,0,0,0,0,null,null,"","","","","","","","","","","",0,0,1,1,null,null,null,1009,"т","т",1000,null,"","","","",null,83666879,2,"Общестроительные работы",27,"Линии электропередачи",1,33001,"Линии электропередачи","ФЕР-33",null,"",null,0,0,0,0,0,0,0,0,null,null,null,null,null,null,null,null,null,null,null,null,null,null,null,null,null,null,0,0,0,null,null,null,null,103,60,null,"",null,null,1,null,1602794472,2,1,-2,0,0,0,0,0,0,0,null,0,3,0,"",0,1,0,null,null,0,0,0,null,"","",null,null,null,null,null,null,"","Пр/812-027.0-1","Пр/774-027.0","Линии электропередачи","Линии электропередачи",null,0,null,null,null,null,null,null,null,null,null,null,null,null,null,null,null,null,null,0]
[18,1,84,null,"4,3","07.2.02.05","Траверсы стальные","т",{"$f":"I53*J60","v":0},0,0,0,0,0,0,0,0,0,0,0,0,0,0,0,0,null,85316656,0,0,0,0,0,0,0,0,0,0,0,0,0,0,0,0,0,0,103,60,1,1,null,null,1,1,1,1,"","","","",3,1,"",null,null,33001,0,"",0,2,0,1,1,1,1,1,1,"",103,60,"",null,null,0,0,0,4,3,0,0,0,0,"",0,0,0,0,0,0,0,0,0,0,0,0,null,null,"","","","","","","","","","","",0,0,1,1,null,null,null,1009,"т","т",1000,null,"","","","",null,83666879,2,"Общестроительные работы",27,"Линии электропередачи",1,33001,"Линии электропередачи","ФЕР-33",null,"",null,0,0,0,0,0,0,0,0,null,null,null,null,null,null,null,null,null,null,null,null,null,null,null,null,null,null,0,0,0,null,null,null,null,103,60,null,"",null,null,1,null,1602794472,2,1,-2,0,0,0,0,0,0,0,null,0,3,0,"",0,1,0,null,null,0,0,0,null,"","",null,null,null,null,null,null,"","Пр/812-027.0-1","Пр/774-027.0","Линии электропередачи","Линии электропередачи",null,0,null,null,null,null,null,null,null,null,null,null,null,null,null,null,null,null,null,0]
[18,1,67,null,"4,4","07.2.07.13","Хомуты стальные","кг",{"$f":"I52*J61","v":0},0,0,0,0,0,0,0,0,0,0,0,0,0,0,0,0,null,85316715,0,0,0,0,0,0,0,0,0,0,0,0,0,0,0,0,0,0,103,60,1,1,null,null,1,1,1,1,"","","","",3,1,"",null,null,33001,0,"",0,2,0,1,1,1,1,1,1,"",103,60,"",null,null,0,0,0,4,4,0,0,0,0,"",0,0,0,0,0,0,0,0,0,0,0,0,null,null,"","","","","","","","","","","",0,0,1,1,null,null,null,1009,"кг","кг",1,null,"","","","",null,83666879,2,"Общестроительные работы",27,"Линии электропередачи",1,33001,"Линии электропередачи","ФЕР-33",null,"",null,0,0,0,0,0,0,0,0,null,null,null,null,null,null,null,null,null,null,null,null,null,null,null,null,null,null,0,0,0,null,null,null,null,103,60,null,"",null,null,1,null,-1111733769,2,1,-2,0,0,0,0,0,0,0,null,0,3,0,"",0,1,0,null,null,0,0,0,null,"","",null,null,null,null,null,null,"","Пр/812-027.0-1","Пр/774-027.0","Линии электропередачи","Линии электропередачи",null,0,null,null,null,null,null,null,null,null,null,null,null,null,null,null,null,null,null,0]
[18,1,85,null,"4,4","07.2.07.13","Хомуты стальные","кг",{"$f":"I53*J62","v":0},0,0,0,0,0,0,0,0,0,0,0,0,0,0,0,0,null,85316656,0,0,0,0,0,0,0,0,0,0,0,0,0,0,0,0,0,0,103,60,1,1,null,null,1,1,1,1,"","","","",3,1,"",null,null,33001,0,"",0,2,0,1,1,1,1,1,1,"",103,60,"",null,null,0,0,0,4,4,0,0,0,0,"",0,0,0,0,0,0,0,0,0,0,0,0,null,null,"","","","","","","","","","","",0,0,1,1,null,null,null,1009,"кг","кг",1,null,"","","","",null,83666879,2,"Общестроительные работы",27,"Линии электропередачи",1,33001,"Линии электропередачи","ФЕР-33",null,"",null,0,0,0,0,0,0,0,0,null,null,null,null,null,null,null,null,null,null,null,null,null,null,null,null,null,null,0,0,0,null,null,null,null,103,60,null,"",null,null,1,null,-1111733769,2,1,-2,0,0,0,0,0,0,0,null,0,3,0,"",0,1,0,null,null,0,0,0,null,"","",null,null,null,null,null,null,"","Пр/812-027.0-1","Пр/774-027.0","Линии электропередачи","Линии электропередачи",null,0,null,null,null,null,null,null,null,null,null,null,null,null,null,null,null,null,null,0]
[18,1,68,null,"4,5","08.3.04.02","Сталь стержневая диаметром до 10 мм","т",{"$f":"I52*J63","v":0},0,0,0,0,0,0,0,0,0,0,0,0,0,0,0,0,null,85316715,0,0,0,0,0,0,0,0,0,0,0,0,0,0,0,0,0,0,103,60,1,1,null,null,1,1,1,1,"","","","",3,1,"",null,null,33001,0,"",0,2,0,1,1,1,1,1,1,"",103,60,"",null,null,0,0,0,4,5,0,0,0,0,"",0,0,0,0,0,0,0,0,0,0,0,0,null,null,"","","","","","","","","","","",0,0,1,1,null,null,null,1009,"т","т",1000,null,"","","","",null,83666879,2,"Общестроительные работы",27,"Линии электропередачи",1,33001,"Линии электропередачи","ФЕР-33",null,"",null,0,0,0,0,0,0,0,0,null,null,null,null,null,null,null,null,null,null,null,null,null,null,null,null,null,null,0,0,0,null,null,null,null,103,60,null,"",null,null,1,null,1613753229,2,1,-2,0,0,0,0,0,0,0,null,0,3,0,"",0,1,0,null,null,0,0,0,null,"","",null,null,null,null,null,null,"","Пр/812-027.0-1","Пр/774-027.0","Линии электропередачи","Линии электропередачи",null,0,null,null,null,null,null,null,null,null,null,null,null,null,null,null,null,null,null,0]
[18,1,86,null,"4,5","08.3.04.02","Сталь стержневая диаметром до 10 мм","т",{"$f":"I53*J64","v":0},0,0,0,0,0,0,0,0,0,0,0,0,0,0,0,0,null,85316656,0,0,0,0,0,0,0,0,0,0,0,0,0,0,0,0,0,0,103,60,1,1,null,null,1,1,1,1,"","","","",3,1,"",null,null,33001,0,"",0,2,0,1,1,1,1,1,1,"",103,60,"",null,null,0,0,0,4,5,0,0,0,0,"",0,0,0,0,0,0,0,0,0,0,0,0,null,null,"","","","","","","","","","","",0,0,1,1,null,null,null,1009,"т","т",1000,null,"","","","",null,83666879,2,"Общестроительные работы",27,"Линии электропередачи",1,33001,"Линии электропередачи","ФЕР-33",null,"",null,0,0,0,0,0,0,0,0,null,null,null,null,null,null,null,null,null,null,null,null,null,null,null,null,null,null,0,0,0,null,null,null,null,103,60,null,"",null,null,1,null,1613753229,2,1,-2,0,0,0,0,0,0,0,null,0,3,0,"",0,1,0,null,null,0,0,0,null,"","",null,null,null,null,null,null,"","Пр/812-027.0-1","Пр/774-027.0","Линии электропередачи","Линии электропередачи",null,0,null,null,null,null,null,null,null,null,null,null,null,null,null,null,null,null,null,0]
[18,1,72,null,"4,6","22.2.01.04","Изоляторы штыревые","ШТ",{"$f":"I52*J65","v":0},0,0,0,0,0,0,0,0,0,0,0,0,0,0,0,0,null,85316715,0,0,0,0,0,0,0,0,0,0,0,0,0,0,0,0,0,0,103,60,1,1,null,null,1,1,1,1,"","","","",3,1,"",null,null,33001,0,"",0,2,0,1,1,1,1,1,1,"",103,60,"",null,null,0,0,0,4,6,0,0,0,0,"",0,0,0,0,0,0,0,0,0,0,0,0,null,null,"","","","","","","","","","","",0,0,1,1,null,null,null,1013,"ШТ","ШТ",1,null,"","","","",null,83666879,2,"Общестроительные работы",27,"Линии электропередачи",1,33001,"Линии электропередачи","ФЕР-33",null,"",null,0,0,0,0,0,0,0,0,null,null,null,null,null,null,null,null,null,null,null,null,null,null,null,null,null,null,0,0,0,null,null,null,null,103,60,null,"",null,null,1,null,-950997571,2,1,-2,0,0,0,0,0,0,0,null,0,3,0,"",0,1,0,null,null,0,0,0,null,"","",null,null,null,null,null,null,"","Пр/812-027.0-1","Пр/774-027.0","Линии электропередачи","Линии электропередачи",null,0,null,null,null,null,null,null,null,null,null,null,null,null,null,null,null,null,null,0]
[18,1,90,null,"4,6","22.2.01.04","Изоляторы штыревые","ШТ",{"$f":"I53*J66","v":0},0,0,0,0,0,0,0,0,0,0,0,0,0,0,0,0,null,85316656,0,0,0,0,0,0,0,0,0,0,0,0,0,0,0,0,0,0,103,60,1,1,null,null,1,1,1,1,"","","","",3,1,"",null,null,33001,0,"",0,2,0,1,1,1,1,1,1,"",103,60,"",null,null,0,0,0,4,6,0,0,0,0,"",0,0,0,0,0,0,0,0,0,0,0,0,null,null,"","","","","","","","","","","",0,0,1,1,null,null,null,1013,"ШТ","ШТ",1,null,"","","","",null,83666879,2,"Общестроительные работы",27,"Линии электропередачи",1,33001,"Линии электропередачи","ФЕР-33",null,"",null,0,0,0,0,0,0,0,0,null,null,null,null,null,null,null,null,null,null,null,null,null,null,null,null,null,null,0,0,0,null,null,null,null,103,60,null,"",null,null,1,null,-950997571,2,1,-2,0,0,0,0,0,0,0,null,0,3,0,"",0,1,0,null,null,0,0,0,null,"","",null,null,null,null,null,null,"","Пр/812-027.0-1","Пр/774-027.0","Линии электропередачи","Линии электропередачи",null,0,null,null,null,null,null,null,null,null,null,null,null,null,null,null,null,null,null,0]
[18,1,73,null,"4,7","22.2.02.21","Штыри","ШТ",{"$f":"I52*J67","v":0},0,0,0,0,0,0,0,0,0,0,0,0,0,0,0,0,null,85316715,0,0,0,0,0,0,0,0,0,0,0,0,0,0,0,0,0,0,103,60,1,1,null,null,1,1,1,1,"","","","",3,1,"",null,null,33001,0,"",0,2,0,1,1,1,1,1,1,"",103,60,"",null,null,0,0,0,4,7,0,0,0,0,"",0,0,0,0,0,0,0,0,0,0,0,0,null,null,"","","","","","","","","","","",0,0,1,1,null,null,null,1013,"ШТ","ШТ",1,null,"","","","",null,83666879,2,"Общестроительные работы",27,"Линии электропередачи",1,33001,"Линии электропередачи","ФЕР-33",null,"",null,0,0,0,0,0,0,0,0,null,null,null,null,null,null,null,null,null,null,null,null,null,null,null,null,null,null,0,0,0,null,null,null,null,103,60,null,"",null,null,1,null,-320198552,2,1,-2,0,0,0,0,0,0,0,null,0,3,0,"",0,1,0,null,null,0,0,0,null,"","",null,null,null,null,null,null,"","Пр/812-027.0-1","Пр/774-027.0","Линии электропередачи","Линии электропередачи",null,0,null,null,null,null,null,null,null,null,null,null,null,null,null,null,null,null,null,0]
[18,1,91,null,"4,7","22.2.02.21","Штыри","ШТ",{"$f":"I53*J68","v":0},0,0,0,0,0,0,0,0,0,0,0,0,0,0,0,0,null,85316656,0,0,0,0,0,0,0,0,0,0,0,0,0,0,0,0,0,0,103,60,1,1,null,null,1,1,1,1,"","","","",3,1,"",null,null,33001,0,"",0,2,0,1,1,1,1,1,1,"",103,60,"",null,null,0,0,0,4,7,0,0,0,0,"",0,0,0,0,0,0,0,0,0,0,0,0,null,null,"","","","","","","","","","","",0,0,1,1,null,null,null,1013,"ШТ","ШТ",1,null,"","","","",null,83666879,2,"Общестроительные работы",27,"Линии электропередачи",1,33001,"Линии электропередачи","ФЕР-33",null,"",null,0,0,0,0,0,0,0,0,null,null,null,null,null,null,null,null,null,null,null,null,null,null,null,null,null,null,0,0,0,null,null,null,null,103,60,null,"",null,null,1,null,-320198552,2,1,-2,0,0,0,0,0,0,0,null,0,3,0,"",0,1,0,null,null,0,0,0,null,"","",null,null,null,null,null,null,"","Пр/812-027.0-1","Пр/774-027.0","Линии электропередачи","Линии электропередачи",null,0,null,null,null,null,null,null,null,null,null,null,null,null,null,null,null,null,null,0]
[18,1,74,null,"4,8","22.2.02.23","Металлические плакаты","ШТ",{"$f":"I52*J69","v":0},0,0,0,0,0,0,0,0,0,0,0,0,0,0,0,0,null,85316715,0,0,0,0,0,0,0,0,0,0,0,0,0,0,0,0,0,0,103,60,1,1,null,null,1,1,1,1,"","","","",3,1,"",null,null,33001,0,"",0,2,0,1,1,1,1,1,1,"",103,60,"",null,null,0,0,0,4,8,0,0,0,0,"",0,0,0,0,0,0,0,0,0,0,0,0,null,null,"","","","","","","","","","","",0,0,1,1,null,null,null,1013,"ШТ","ШТ",1,null,"","","","",null,83666879,2,"Общестроительные работы",27,"Линии электропередачи",1,33001,"Линии электропередачи","ФЕР-33",null,"",null,0,0,0,0,0,0,0,0,null,null,null,null,null,null,null,null,null,null,null,null,null,null,null,null,null,null,0,0,0,null,null,null,null,103,60,null,"",null,null,1,null,326010188,2,1,-2,0,0,0,0,0,0,0,null,0,3,0,"",0,1,0,null,null,0,0,0,null,"","",null,null,null,null,null,null,"","Пр/812-027.0-1","Пр/774-027.0","Линии электропередачи","Линии электропередачи",null,0,null,null,null,null,null,null,null,null,null,null,null,null,null,null,null,null,null,0]
[18,1,92,null,"4,8","22.2.02.23","Металлические плакаты","ШТ",{"$f":"I53*J70","v":0},0,0,0,0,0,0,0,0,0,0,0,0,0,0,0,0,null,85316656,0,0,0,0,0,0,0,0,0,0,0,0,0,0,0,0,0,0,103,60,1,1,null,null,1,1,1,1,"","","","",3,1,"",null,null,33001,0,"",0,2,0,1,1,1,1,1,1,"",103,60,"",null,null,0,0,0,4,8,0,0,0,0,"",0,0,0,0,0,0,0,0,0,0,0,0,null,null,"","","","","","","","","","","",0,0,1,1,null,null,null,1013,"ШТ","ШТ",1,null,"","","","",null,83666879,2,"Общестроительные работы",27,"Линии электропередачи",1,33001,"Линии электропередачи","ФЕР-33",null,"",null,0,0,0,0,0,0,0,0,null,null,null,null,null,null,null,null,null,null,null,null,null,null,null,null,null,null,0,0,0,null,null,null,null,103,60,null,"",null,null,1,null,326010188,2,1,-2,0,0,0,0,0,0,0,null,0,3,0,"",0,1,0,null,null,0,0,0,null,"","",null,null,null,null,null,null,"","Пр/812-027.0-1","Пр/774-027.0","Линии электропередачи","Линии электропередачи",null,0,null,null,null,null,null,null,null,null,null,null,null,null,null,null,null,null,null,0]
[17,1,{"$f":"ROW(SmtRes!A111)","v":111},{"$f":"ROW(EtalonRes!A111)","v":111},"","33-04-003-07","Установка железобетонных опор ВЛ 0,38; 6-10 кВ с траверсами с одинарными приставками: одностоечных","ШТ",0,0,0,1,1,0,0,{"$f":"SUMIF(SmtRes!AQ93:'SmtRes'!AQ111,\"=1\",SmtRes!DF93:'SmtRes'!DF111)","v":0},{"$f":"SUMIF(SmtRes!AQ93:'SmtRes'!AQ111,\"=1\",SmtRes!DG93:'SmtRes'!DG111)","v":0},{"$f":"SUMIF(SmtRes!AQ93:'SmtRes'!AQ111,\"=1\",SmtRes!DH93:'SmtRes'!DH111)","v":0},{"$f":"SUMIF(SmtRes!AQ93:'SmtRes'!AQ111,\"=1\",SmtRes!DI93:'SmtRes'!DI111)","v":0},0,{"$f":"SUMIF(SmtRes!AQ93:'SmtRes'!AQ111,\"=1\",SmtRes!CV93:'SmtRes'!CV111)","v":0},{"$f":"SUMIF(SmtRes!AQ93:'SmtRes'!AQ111,\"=1\",SmtRes!CW93:'SmtRes'!CW111)","v":0},0,0,0,null,-1,6144.15,{"$f":"ROUND((SUM(SmtRes!BQ93:'SmtRes'!BQ111)),2)","v":34.71},{"$f":"ROUND((((SUM(SmtRes!BR93:'SmtRes'!BR111))-(SUM(SmtRes!BS93:'SmtRes'!BS111)))+AE71),2)","v":1815.33},{"$f":"ROUND((SUM(SmtRes!BS93:'SmtRes'!BS111)),2)","v":963.12},{"$f":"ROUND((SUM(SmtRes!BT93:'SmtRes'!BT111)),2)","v":4294.1099999999997},0,{"$f":"(SUM(SmtRes!BU93:'SmtRes'!BU111))","v":5.81},{"$f":"(SUM(SmtRes!BV93:'SmtRes'!BV111))","v":1.07},0,7107.2757980000006,34.709198000000001,1815.3336000000002,963.12009999999998,4294.1129000000001,0,5.81,1.07,0,103,60,1,1,null,null,1,1,1,1,"","","","",0,1,"ГЭСН-2022 доп.11, 33-04-003-07, приказ Минстроя России от 09.08.2024 г. № 524/пр",null,null,33001,0,"",0,2,0,1,1,1,1,1,1,"",103,60,"",null,null,0,0,0,0,0,0,0,0,0,"",0,0,{"$f":"SUMIF(SmtRes!AQ93:'SmtRes'!AQ111,\"=1\",SmtRes!AA93:'SmtRes'!AA111)","v":193362.11000000002},{"$f":"SUMIF(SmtRes!AQ93:'SmtRes'!AQ111,\"=1\",SmtRes!AB93:'SmtRes'!AB111)","v":3377.99},{"$f":"SUMIF(SmtRes!AQ93:'SmtRes'!AQ111,\"=1\",SmtRes!AC93:'SmtRes'!AC111)","v":1744.74},{"$f":"SUMIF(SmtRes!AQ93:'SmtRes'!AQ111,\"=1\",SmtRes!AD93:'SmtRes'!AD111)","v":739.09},{"$f":"AG71","v":0},{"$f":"SUMIF(SmtRes!AQ93:'SmtRes'!AQ111,\"=1\",SmtRes!BU93:'SmtRes'!BU111)","v":5.81},{"$f":"SUMIF(SmtRes!AQ93:'SmtRes'!AQ111,\"=1\",SmtRes!BV93:'SmtRes'!BV111)","v":1.07},{"$f":"AJ71","v":0},0,0,null,null,"","","","","","","","","","","",0,0,1,1,null,null,null,1013,"ШТ","ШТ",1,null,"","","","",null,83666879,2,"Общестроительные работы",27,"Линии электропередачи",1,33001,"Линии электропередачи","ФЕР-33",null,"",null,132096,0,0,0,0,0,5.81,1.07,0,null,null,null,null,null,null,null,null,null,null,null,null,null,null,null,null,null,0,0,0,null,null,null,null,103,60,null,"",null,null,1,null,-751358411,2,1,-2,0,0,0,0,0,0,0,null,0,0,0,"",0,1,0,null,null,0,0,0,null,"","",null,null,null,null,null,null,"","Пр/812-027.0-1","Пр/774-027.0","Линии электропередачи","Линии электропередачи",null,0,null,null,null,null,null,null,null,null,null,null,null,null,null,null,null,null,null,0]
[17,1,{"$f":"ROW(SmtRes!A130)","v":130},{"$f":"ROW(EtalonRes!A130)","v":130},"","33-04-003-07","Установка железобетонных опор ВЛ 0,38; 6-10 кВ с траверсами с одинарными приставками: одностоечных","ШТ",0,0,0,1,1,0,0,{"$f":"SUMIF(SmtRes!AQ112:'SmtRes'!AQ130,\"=1\",SmtRes!DF112:'SmtRes'!DF130)","v":0},{"$f":"SUMIF(SmtRes!AQ112:'SmtRes'!AQ130,\"=1\",SmtRes!DG112:'SmtRes'!DG130)","v":0},{"$f":"SUMIF(SmtRes!AQ112:'SmtRes'!AQ130,\"=1\",SmtRes!DH112:'SmtRes'!DH130)","v":0},{"$f":"SUMIF(SmtRes!AQ112:'SmtRes'!AQ130,\"=1\",SmtRes!DI112:'SmtRes'!DI130)","v":0},0,{"$f":"SUMIF(SmtRes!AQ112:'SmtRes'!AQ130,\"=1\",SmtRes!CV112:'SmtRes'!CV130)","v":0},{"$f":"SUMIF(SmtRes!AQ112:'SmtRes'!AQ130,\"=1\",SmtRes!CW112:'SmtRes'!CW130)","v":0},0,0,0,null,-1,6144.15,{"$f":"ROUND((SUM(SmtRes!BQ112:'SmtRes'!BQ130)),2)","v":34.71},{"$f":"ROUND((((SUM(SmtRes!BR112:'SmtRes'!BR130))-(SUM(SmtRes!BS112:'SmtRes'!BS130)))+AE72),2)","v":1815.33},{"$f":"ROUND((SUM(SmtRes!BS112:'SmtRes'!BS130)),2)","v":963.12},{"$f":"ROUND((SUM(SmtRes!BT112:'SmtRes'!BT130)),2)","v":4294.1099999999997},0,{"$f":"(SUM(SmtRes!BU112:'SmtRes'!BU130))","v":5.81},{"$f":"(SUM(SmtRes!BV112:'SmtRes'!BV130))","v":1.07},0,7107.2757980000006,34.709198000000001,1815.3336000000002,963.12009999999998,4294.1129000000001,0,5.81,1.07,0,103,60,1,1,null,null,1,1,1,1,"","","","",0,1,"ГЭСН-2022 доп.11, 33-04-003-07, приказ Минстроя России от 09.08.2024 г. № 524/пр",null,null,33001,0,"",0,2,0,1,1,1,1,1,1,"",103,60,"",null,null,0,0,0,0,0,0,0,0,0,"",0,0,{"$f":"SUMIF(SmtRes!AQ112:'SmtRes'!AQ130,\"=1\",SmtRes!AA112:'SmtRes'!AA130)","v":193362.11000000002},{"$f":"SUMIF(SmtRes!AQ112:'SmtRes'!AQ130,\"=1\",SmtRes!AB112:'SmtRes'!AB130)","v":3377.99},{"$f":"SUMIF(SmtRes!AQ112:'SmtRes'!AQ130,\"=1\",SmtRes!AC112:'SmtRes'!AC130)","v":1744.74},{"$f":"SUMIF(SmtRes!AQ112:'SmtRes'!AQ130,\"=1\",SmtRes!AD112:'SmtRes'!AD130)","v":739.09},{"$f":"AG72","v":0},{"$f":"SUMIF(SmtRes!AQ112:'SmtRes'!AQ130,\"=1\",SmtRes!BU112:'SmtRes'!BU130)","v":5.81},{"$f":"SUMIF(SmtRes!AQ112:'SmtRes'!AQ130,\"=1\",SmtRes!BV112:'SmtRes'!BV130)","v":1.07},{"$f":"AJ72","v":0},0,0,null,null,"","","","","","","","","","","",0,0,1,1,null,null,null,1013,"ШТ","ШТ",1,null,"","","","",null,83666879,2,"Общестроительные работы",27,"Линии электропередачи",1,33001,"Линии электропередачи","ФЕР-33",null,"",null,132096,0,0,0,0,0,5.81,1.07,0,null,null,null,null,null,null,null,null,null,null,null,null,null,null,null,null,null,0,0,0,null,null,null,null,103,60,null,"",null,null,1,null,-751358411,2,1,-2,0,0,0,0,0,0,0,null,0,0,0,"",0,1,0,null,null,0,0,0,null,"","",null,null,null,null,null,null,"","Пр/812-027.0-1","Пр/774-027.0","Линии электропередачи","Линии электропередачи",null,0,null,null,null,null,null,null,null,null,null,null,null,null,null,null,null,null,null,0]
[19,1,null,null,null,"","По ВОР \"Установка жб опор с приставками одностоечных\"","",null,null,null,null,null,null,null,null,null,null,null,null,null,null,null,null,null,null,1,null,null,null,null,null,null,null,null,null,null,null,null,null,null,null,null,null,null,null,null,null,null,null,null,null,null,null,null,null,null,null,null,null,null,null,null,null,null,null,null,null,null,null,null,null,null,null,null,null,null,null,null,null,null,null,null,null,null,null,null,null,null,null,null,null,null,null,null,null,null,null,null,null,null,null,null,null,null,null,null,null,null,null,null,null,null,null,null,null,null,null,null,null,null,null,null,null,null,null,null,null,null,null,null,null,null,null,null,null,null,null,null,null,null,null,null,null,null,null,null,null,null,null,null,null,null,null,null,null,null,null,null,null,null,null,null,null,null,null,null,null,null,null,null,null,null,null,null,null,null,null,null,null,null,null,null,null,null,null,null,null,null,null,null,null,null,null,null,null,null,null,null,null,null,null,null,null,null,null,null,null,null,null,null,null,null,null,null,null,null,null,null,null,null,null,null,null,null,null,null,null,null,null,null,null,null,null,null,null,null,null,null,null,null,null,null,null,0]
[18,1,99,null,"","01.7.15.03-0042","Болты с гайками и шайбами строительные","кг",{"$f":"I71*J74","v":0},0,0,0,0,{"$f":"ROUND(L74-M74,4)","v":0},{"$f":"ROUND(CP74,2)","v":0},{"$f":"ROUND(CQ74*I74,2)","v":0},{"$f":"ROUND(CR74*I74,2)","v":0},{"$f":"ROUND(CS74*I74,2)","v":0},{"$f":"ROUND(CT74*I74,2)","v":0},{"$f":"ROUND(CU74*I74,2)","v":0},{"$f":"ROUND(CV74*I74,7)","v":0},{"$f":"ROUND(CW74*I74,7)","v":0},{"$f":"ROUND(CX74*I74,2)","v":0},{"$f":"ROUND(CY74,2)","v":0},{"$f":"ROUND(CZ74,2)","v":0},null,-1,{"$f":"ROUND((AC74+AD74+AF74),2)","v":174.93},{"$f":"ROUND((ES74),2)","v":174.93},{"$f":"ROUND((((ET74)-(EU74))+AE74),2)","v":0},{"$f":"ROUND((EU74),2)","v":0},{"$f":"ROUND((EV74),2)","v":0},{"$f":"ROUND((AP74),2)","v":0},{"$f":"(EW74)","v":0},{"$f":"(EX74)","v":0},{"$f":"(AS74)","v":0},174.93,174.93,0,0,0,0,0,0,0,103,60,1,1,null,null,1,1,1,1.08,"","","","",3,1,"ФСБЦ-2022, 01.7.15.03-0042, приказ Минстроя России от 18.05.2022 г. № 378/пр",null,null,33001,0,"01.7.15.03-0042",1,2,0,1,1,1,1,1,1,"",103,60,"",null,null,0,0,0,0,0,0,0,0,0,"",0,{"$f":"(P74+Q74+S74+R74)","v":0},{"$f":"ROUND(AL74*BC74,2)","v":188.92},{"$f":"ROUND(AM74*BB74,2)","v":0},{"$f":"ROUND(AN74*BS74,2)","v":0},{"$f":"ROUND(AO74*BA74,2)","v":0},{"$f":"AG74","v":0},{"$f":"AH74","v":0},{"$f":"AI74","v":0},{"$f":"AJ74","v":0},{"$f":"(((S74+R74)*AT74)/100)","v":0},{"$f":"(((S74+R74)*AU74)/100)","v":0},null,null,"","","","","","","","","","","",0,0,1,1,null,null,null,1009,"кг","кг",1,null,"","","","",null,83666879,2,"Общестроительные работы",27,"Линии электропередачи",1,33001,"Линии электропередачи","ФЕР-33",null,"",null,1024,174.93,174.93,0,0,0,0,0,null,null,null,null,null,null,null,null,null,null,null,null,null,null,null,null,null,null,0,0,0,null,null,null,null,103,60,null,"",null,null,1,null,1181962216,2,1,2,0,0,{"$f":"ROUND(IF(AND(BH74=3,BI74=3,FS74<>0),P74,0),2)","v":0},{"$f":"ROUND(O74+X74+Y74,2)+GX74","v":0},{"$f":"IF(OR(BI74=0,BI74=1),GM74-GX74,0)","v":0},{"$f":"IF(BI74=2,GM74-GX74,0)","v":0},{"$f":"IF(BI74=4,GM74-GX74,0)","v":0},null,0,0,0,"",{"$f":"ROUND((GT74),2)","v":0},1,{"$f":"ROUND(HC74*I74,2)","v":0},null,null,0,0,{"$f":"GV74*GW74","v":0},null,"","",null,null,null,null,null,null,"","Пр/812-027.0-1","Пр/774-027.0","Линии электропередачи","Линии электропередачи",null,0,null,null,null,null,null,null,null,null,null,null,null,null,null,null,null,null,null,0]
[18,1,118,null,"","01.7.15.03-0042","Болты с гайками и шайбами строительные","кг",{"$f":"I72*J75","v":0},0,0,0,0,0,0,0,0,0,0,0,0,0,0,0,0,null,-1,174.93,174.93,0,0,0,0,0,0,0,174.93,174.93,0,0,0,0,0,0,0,103,60,1,1,null,null,1,1,1,1.08,"","","","",3,1,"ФСБЦ-2022, 01.7.15.03-0042, приказ Минстроя России от 18.05.2022 г. № 378/пр",null,null,33001,0,"01.7.15.03-0042",1,2,0,1,1,1,1,1,1,"",103,60,"",null,null,0,0,0,0,0,0,0,0,0,"",0,0,188.92,0,0,0,0,0,0,0,0,0,null,null,"","","","","","","","","","","",0,0,1,1,null,null,null,1009,"кг","кг",1,null,"","","","",null,83666879,2,"Общестроительные работы",27,"Линии электропередачи",1,33001,"Линии электропередачи","ФЕР-33",null,"",null,1024,174.93,174.93,0,0,0,0,0,null,null,null,null,null,null,null,null,null,null,null,null,null,null,null,null,null,null,0,0,0,null,null,null,null,103,60,null,"",null,null,1,null,1181962216,2,1,2,0,0,0,0,0,0,0,null,0,0,0,"",0,1,0,null,null,0,0,0,null,"","",null,null,null,null,null,null,"","Пр/812-027.0-1","Пр/774-027.0","Линии электропередачи","Линии электропередачи",null,0,null,null,null,null,null,null,null,null,null,null,null,null,null,null,null,null,null,0]
[18,1,101,null,"","05.1.02.06","Приставки железобетонные","ШТ",{"$f":"I71*J76","v":0},0,0,0,0,0,0,0,0,0,0,0,0,0,0,0,0,null,-1,0,0,0,0,0,0,0,0,0,0,0,0,0,0,0,0,0,0,103,60,1,1,null,null,1,1,1,1,"","","","",3,1,"",null,null,33001,0,"",0,2,0,1,1,1,1,1,1,"",103,60,"",null,null,0,0,0,0,0,0,0,0,0,"",0,0,0,0,0,0,0,0,0,0,0,0,null,null,"","","","","","","","","","","",0,0,1,1,null,null,null,1013,"ШТ","ШТ",1,null,"","","","",null,83666879,2,"Общестроительные работы",27,"Линии электропередачи",1,33001,"Линии электропередачи","ФЕР-33",null,"",null,1024,0,0,0,0,0,0,0,null,null,null,null,null,null,null,null,null,null,null,null,null,null,null,null,null,null,0,0,0,null,null,null,null,103,60,null,"",null,null,1,null,-1729700736,2,1,-2,0,0,0,0,0,0,0,null,0,0,0,"",0,1,0,null,null,0,0,0,null,"","",null,null,null,null,null,null,"","Пр/812-027.0-1","Пр/774-027.0","Линии электропередачи","Линии электропередачи",null,0,null,null,null,null,null,null,null,null,null,null,null,null,null,null,null,null,null,0]
[18,1,120,null,"","05.1.02.06","Приставки железобетонные","ШТ",{"$f":"I72*J77","v":0},0,0,0,0,0,0,0,0,0,0,0,0,0,0,0,0,null,-1,0,0,0,0,0,0,0,0,0,0,0,0,0,0,0,0,0,0,103,60,1,1,null,null,1,1,1,1,"","","","",3,1,"",null,null,33001,0,"",0,2,0,1,1,1,1,1,1,"",103,60,"",null,null,0,0,0,0,0,0,0,0,0,"",0,0,0,0,0,0,0,0,0,0,0,0,null,null,"","","","","","","","","","","",0,0,1,1,null,null,null,1013,"ШТ","ШТ",1,null,"","","","",null,83666879,2,"Общестроительные работы",27,"Линии электропередачи",1,33001,"Линии электропередачи","ФЕР-33",null,"",null,1024,0,0,0,0,0,0,0,null,null,null,null,null,null,null,null,null,null,null,null,null,null,null,null,null,null,0,0,0,null,null,null,null,103,60,null,"",null,null,1,null,-1729700736,2,1,-2,0,0,0,0,0,0,0,null,0,0,0,"",0,1,0,null,null,0,0,0,null,"","",null,null,null,null,null,null,"","Пр/812-027.0-1","Пр/774-027.0","Линии электропередачи","Линии электропередачи",null,0,null,null,null,null,null,null,null,null,null,null,null,null,null,null,null,null,null,0]
[18,1,102,null,"","05.1.02.07","Стойка железобетонная вибрированная для опор","ШТ",{"$f":"I71*J78","v":0},0,0,0,0,0,0,0,0,0,0,0,0,0,0,0,0,null,-1,0,0,0,0,0,0,0,0,0,0,0,0,0,0,0,0,0,0,103,60,1,1,null,null,1,1,1,1,"","","","",3,1,"",null,null,33001,0,"",0,2,0,1,1,1,1,1,1,"",103,60,"",null,null,0,0,0,0,0,0,0,0,0,"",0,0,0,0,0,0,0,0,0,0,0,0,null,null,"","","","","","","","","","","",0,0,1,1,null,null,null,1013,"ШТ","ШТ",1,null,"","","","",null,83666879,2,"Общестроительные работы",27,"Линии электропередачи",1,33001,"Линии электропередачи","ФЕР-33",null,"",null,1024,0,0,0,0,0,0,0,null,null,null,null,null,null,null,null,null,null,null,null,null,null,null,null,null,null,0,0,0,null,null,null,null,103,60,null,"",null,null,1,null,457934895,2,1,-2,0,0,0,0,0,0,0,null,0,0,0,"",0,1,0,null,null,0,0,0,null,"","",null,null,null,null,null,null,"","Пр/812-027.0-1","Пр/774-027.0","Линии электропередачи","Линии электропередачи",null,0,null,null,null,null,null,null,null,null,null,null,null,null,null,null,null,null,null,0]
[18,1,121,null,"","05.1.02.07","Стойка железобетонная вибрированная для опор","ШТ",{"$f":"I72*J79","v":0},0,0,0,0,0,0,0,0,0,0,0,0,0,0,0,0,null,-1,0,0,0,0,0,0,0,0,0,0,0,0,0,0,0,0,0,0,103,60,1,1,null,null,1,1,1,1,"","","","",3,1,"",null,null,33001,0,"",0,2,0,1,1,1,1,1,1,"",103,60,"",null,null,0,0,0,0,0,0,0,0,0,"",0,0,0,0,0,0,0,0,0,0,0,0,null,null,"","","","","","","","","","","",0,0,1,1,null,null,null,1013,"ШТ","ШТ",1,null,"","","","",null,83666879,2,"Общестроительные работы",27,"Линии электропередачи",1,33001,"Линии электропередачи","ФЕР-33",null,"",null,1024,0,0,0,0,0,0,0,null,null,null,null,null,null,null,null,null,null,null,null,null,null,null,null,null,null,0,0,0,null,null,null,null,103,60,null,"",null,null,1,null,457934895,2,1,-2,0,0,0,0,0,0,0,null,0,0,0,"",0,1,0,null,null,0,0,0,null,"","",null,null,null,null,null,null,"","Пр/812-027.0-1","Пр/774-027.0","Линии электропередачи","Линии электропередачи",null,0,null,null,null,null,null,null,null,null,null,null,null,null,null,null,null,null,null,0]
[18,1,103,null,"","07.2.02.05","Траверсы стальные","т",{"$f":"I71*J80","v":0},0,0,0,0,0,0,0,0,0,0,0,0,0,0,0,0,null,-1,0,0,0,0,0,0,0,0,0,0,0,0,0,0,0,0,0,0,103,60,1,1,null,null,1,1,1,1,"","","","",3,1,"",null,null,33001,0,"",0,2,0,1,1,1,1,1,1,"",103,60,"",null,null,0,0,0,0,0,0,0,0,0,"",0,0,0,0,0,0,0,0,0,0,0,0,null,null,"","","","","","","","","","","",0,0,1,1,null,null,null,1009,"т","т",1000,null,"","","","",null,83666879,2,"Общестроительные работы",27,"Линии электропередачи",1,33001,"Линии электропередачи","ФЕР-33",null,"",null,1024,0,0,0,0,0,0,0,null,null,null,null,null,null,null,null,null,null,null,null,null,null,null,null,null,null,0,0,0,null,null,null,null,103,60,null,"",null,null,1,null,1602794472,2,1,-2,0,0,0,0,0,0,0,null,0,0,0,"",0,1,0,null,null,0,0,0,null,"","",null,null,null,null,null,null,"","Пр/812-027.0-1","Пр/774-027.0","Линии электропередачи","Линии электропередачи",null,0,null,null,null,null,null,null,null,null,null,null,null,null,null,null,null,null,null,0]
[18,1,122,null,"","07.2.02.05","Траверсы стальные","т",{"$f":"I72*J81","v":0},0,0,0,0,0,0,0,0,0,0,0,0,0,0,0,0,null,-1,0,0,0,0,0,0,0,0,0,0,0,0,0,0,0,0,0,0,103,60,1,1,null,null,1,1,1,1,"","","","",3,1,"",null,null,33001,0,"",0,2,0,1,1,1,1,1,1,"",103,60,"",null,null,0,0,0,0,0,0,0,0,0,"",0,0,0,0,0,0,0,0,0,0,0,0,null,null,"","","","","","","","","","","",0,0,1,1,null,null,null,1009,"т","т",1000,null,"","","","",null,83666879,2,"Общестроительные работы",27,"Линии электропередачи",1,33001,"Линии электропередачи","ФЕР-33",null,"",null,1024,0,0,0,0,0,0,0,null,null,null,null,null,null,null,null,null,null,null,null,null,null,null,null,null,null,0,0,0,null,null,null,null,103,60,null,"",null,null,1,null,1602794472,2,1,-2,0,0,0,0,0,0,0,null,0,0,0,"",0,1,0,null,null,0,0,0,null,"","",null,null,null,null,null,null,"","Пр/812-027.0-1","Пр/774-027.0","Линии электропередачи","Линии электропередачи",null,0,null,null,null,null,null,null,null,null,null,null,null,null,null,null,null,null,null,0]
[18,1,104,null,"","07.2.07.13","Хомуты стальные","кг",{"$f":"I71*J82","v":0},0,0,0,0,0,0,0,0,0,0,0,0,0,0,0,0,null,-1,0,0,0,0,0,0,0,0,0,0,0,0,0,0,0,0,0,0,103,60,1,1,null,null,1,1,1,1,"","","","",3,1,"",null,null,33001,0,"",0,2,0,1,1,1,1,1,1,"",103,60,"",null,null,0,0,0,0,0,0,0,0,0,"",0,0,0,0,0,0,0,0,0,0,0,0,null,null,"","","","","","","","","","","",0,0,1,1,null,null,null,1009,"кг","кг",1,null,"","","","",null,83666879,2,"Общестроительные работы",27,"Линии электропередачи",1,33001,"Линии электропередачи","ФЕР-33",null,"",null,1024,0,0,0,0,0,0,0,null,null,null,null,null,null,null,null,null,null,null,null,null,null,null,null,null,null,0,0,0,null,null,null,null,103,60,null,"",null,null,1,null,-1111733769,2,1,-2,0,0,0,0,0,0,0,null,0,0,0,"",0,1,0,null,null,0,0,0,null,"","",null,null,null,null,null,null,"","Пр/812-027.0-1","Пр/774-027.0","Линии электропередачи","Линии электропередачи",null,0,null,null,null,null,null,null,null,null,null,null,null,null,null,null,null,null,null,0]
[18,1,123,null,"","07.2.07.13","Хомуты стальные","кг",{"$f":"I72*J83","v":0},0,0,0,0,0,0,0,0,0,0,0,0,0,0,0,0,null,-1,0,0,0,0,0,0,0,0,0,0,0,0,0,0,0,0,0,0,103,60,1,1,null,null,1,1,1,1,"","","","",3,1,"",null,null,33001,0,"",0,2,0,1,1,1,1,1,1,"",103,60,"",null,null,0,0,0,0,0,0,0,0,0,"",0,0,0,0,0,0,0,0,0,0,0,0,null,null,"","","","","","","","","","","",0,0,1,1,null,null,null,1009,"кг","кг",1,null,"","","","",null,83666879,2,"Общестроительные работы",27,"Линии электропередачи",1,33001,"Линии электропередачи","ФЕР-33",null,"",null,1024,0,0,0,0,0,0,0,null,null,null,null,null,null,null,null,null,null,null,null,null,null,null,null,null,null,0,0,0,null,null,null,null,103,60,null,"",null,null,1,null,-1111733769,2,1,-2,0,0,0,0,0,0,0,null,0,0,0,"",0,1,0,null,null,0,0,0,null,"","",null,null,null,null,null,null,"","Пр/812-027.0-1","Пр/774-027.0","Линии электропередачи","Линии электропередачи",null,0,null,null,null,null,null,null,null,null,null,null,null,null,null,null,null,null,null,0]
[18,1,105,null,"","08.3.04.02","Сталь стержневая диаметром до 10 мм","т",{"$f":"I71*J84","v":0},0,0,0,0,0,0,0,0,0,0,0,0,0,0,0,0,null,-1,0,0,0,0,0,0,0,0,0,0,0,0,0,0,0,0,0,0,103,60,1,1,null,null,1,1,1,1,"","","","",3,1,"",null,null,33001,0,"",0,2,0,1,1,1,1,1,1,"",103,60,"",null,null,0,0,0,0,0,0,0,0,0,"",0,0,0,0,0,0,0,0,0,0,0,0,null,null,"","","","","","","","","","","",0,0,1,1,null,null,null,1009,"т","т",1000,null,"","","","",null,83666879,2,"Общестроительные работы",27,"Линии электропередачи",1,33001,"Линии электропередачи","ФЕР-33",null,"",null,1024,0,0,0,0,0,0,0,null,null,null,null,null,null,null,null,null,null,null,null,null,null,null,null,null,null,0,0,0,null,null,null,null,103,60,null,"",null,null,1,null,1613753229,2,1,-2,0,0,0,0,0,0,0,null,0,0,0,"",0,1,0,null,null,0,0,0,null,"","",null,null,null,null,null,null,"","Пр/812-027.0-1","Пр/774-027.0","Линии электропередачи","Линии электропередачи",null,0,null,null,null,null,null,null,null,null,null,null,null,null,null,null,null,null,null,0]
[18,1,124,null,"","08.3.04.02","Сталь стержневая диаметром до 10 мм","т",{"$f":"I72*J85","v":0},0,0,0,0,0,0,0,0,0,0,0,0,0,0,0,0,null,-1,0,0,0,0,0,0,0,0,0,0,0,0,0,0,0,0,0,0,103,60,1,1,null,null,1,1,1,1,"","","","",3,1,"",null,null,33001,0,"",0,2,0,1,1,1,1,1,1,"",103,60,"",null,null,0,0,0,0,0,0,0,0,0,"",0,0,0,0,0,0,0,0,0,0,0,0,null,null,"","","","","","","","","","","",0,0,1,1,null,null,null,1009,"т","т",1000,null,"","","","",null,83666879,2,"Общестроительные работы",27,"Линии электропередачи",1,33001,"Линии электропередачи","ФЕР-33",null,"",null,1024,0,0,0,0,0,0,0,null,null,null,null,null,null,null,null,null,null,null,null,null,null,null,null,null,null,0,0,0,null,null,null,null,103,60,null,"",null,null,1,null,1613753229,2,1,-2,0,0,0,0,0,0,0,null,0,0,0,"",0,1,0,null,null,0,0,0,null,"","",null,null,null,null,null,null,"","Пр/812-027.0-1","Пр/774-027.0","Линии электропередачи","Линии электропередачи",null,0,null,null,null,null,null,null,null,null,null,null,null,null,null,null,null,null,null,0]
[18,1,109,null,"","22.2.01.04","Изоляторы штыревые","ШТ",{"$f":"I71*J86","v":0},0,0,0,0,0,0,0,0,0,0,0,0,0,0,0,0,null,-1,0,0,0,0,0,0,0,0,0,0,0,0,0,0,0,0,0,0,103,60,1,1,null,null,1,1,1,1,"","","","",3,1,"",null,null,33001,0,"",0,2,0,1,1,1,1,1,1,"",103,60,"",null,null,0,0,0,0,0,0,0,0,0,"",0,0,0,0,0,0,0,0,0,0,0,0,null,null,"","","","","","","","","","","",0,0,1,1,null,null,null,1013,"ШТ","ШТ",1,null,"","","","",null,83666879,2,"Общестроительные работы",27,"Линии электропередачи",1,33001,"Линии электропередачи","ФЕР-33",null,"",null,1024,0,0,0,0,0,0,0,null,null,null,null,null,null,null,null,null,null,null,null,null,null,null,null,null,null,0,0,0,null,null,null,null,103,60,null,"",null,null,1,null,-950997571,2,1,-2,0,0,0,0,0,0,0,null,0,0,0,"",0,1,0,null,null,0,0,0,null,"","",null,null,null,null,null,null,"","Пр/812-027.0-1","Пр/774-027.0","Линии электропередачи","Линии электропередачи",null,0,null,null,null,null,null,null,null,null,null,null,null,null,null,null,null,null,null,0]
[18,1,128,null,"","22.2.01.04","Изоляторы штыревые","ШТ",{"$f":"I72*J87","v":0},0,0,0,0,0,0,0,0,0,0,0,0,0,0,0,0,null,-1,0,0,0,0,0,0,0,0,0,0,0,0,0,0,0,0,0,0,103,60,1,1,null,null,1,1,1,1,"","","","",3,1,"",null,null,33001,0,"",0,2,0,1,1,1,1,1,1,"",103,60,"",null,null,0,0,0,0,0,0,0,0,0,"",0,0,0,0,0,0,0,0,0,0,0,0,null,null,"","","","","","","","","","","",0,0,1,1,null,null,null,1013,"ШТ","ШТ",1,null,"","","","",null,83666879,2,"Общестроительные работы",27,"Линии электропередачи",1,33001,"Линии электропередачи","ФЕР-33",null,"",null,1024,0,0,0,0,0,0,0,null,null,null,null,null,null,null,null,null,null,null,null,null,null,null,null,null,null,0,0,0,null,null,null,null,103,60,null,"",null,null,1,null,-950997571,2,1,-2,0,0,0,0,0,0,0,null,0,0,0,"",0,1,0,null,null,0,0,0,null,"","",null,null,null,null,null,null,"","Пр/812-027.0-1","Пр/774-027.0","Линии электропередачи","Линии электропередачи",null,0,null,null,null,null,null,null,null,null,null,null,null,null,null,null,null,null,null,0]
[18,1,110,null,"","22.2.02.21","Штыри","ШТ",{"$f":"I71*J88","v":0},0,0,0,0,0,0,0,0,0,0,0,0,0,0,0,0,null,-1,0,0,0,0,0,0,0,0,0,0,0,0,0,0,0,0,0,0,103,60,1,1,null,null,1,1,1,1,"","","","",3,1,"",null,null,33001,0,"",0,2,0,1,1,1,1,1,1,"",103,60,"",null,null,0,0,0,0,0,0,0,0,0,"",0,0,0,0,0,0,0,0,0,0,0,0,null,null,"","","","","","","","","","","",0,0,1,1,null,null,null,1013,"ШТ","ШТ",1,null,"","","","",null,83666879,2,"Общестроительные работы",27,"Линии электропередачи",1,33001,"Линии электропередачи","ФЕР-33",null,"",null,1024,0,0,0,0,0,0,0,null,null,null,null,null,null,null,null,null,null,null,null,null,null,null,null,null,null,0,0,0,null,null,null,null,103,60,null,"",null,null,1,null,-320198552,2,1,-2,0,0,0,0,0,0,0,null,0,0,0,"",0,1,0,null,null,0,0,0,null,"","",null,null,null,null,null,null,"","Пр/812-027.0-1","Пр/774-027.0","Линии электропередачи","Линии электропередачи",null,0,null,null,null,null,null,null,null,null,null,null,null,null,null,null,null,null,null,0]
[18,1,129,null,"","22.2.02.21","Штыри","ШТ",{"$f":"I72*J89","v":0},0,0,0,0,0,0,0,0,0,0,0,0,0,0,0,0,null,-1,0,0,0,0,0,0,0,0,0,0,0,0,0,0,0,0,0,0,103,60,1,1,null,null,1,1,1,1,"","","","",3,1,"",null,null,33001,0,"",0,2,0,1,1,1,1,1,1,"",103,60,"",null,null,0,0,0,0,0,0,0,0,0,"",0,0,0,0,0,0,0,0,0,0,0,0,null,null,"","","","","","","","","","","",0,0,1,1,null,null,null,1013,"ШТ","ШТ",1,null,"","","","",null,83666879,2,"Общестроительные работы",27,"Линии электропередачи",1,33001,"Линии электропередачи","ФЕР-33",null,"",null,1024,0,0,0,0,0,0,0,null,null,null,null,null,null,null,null,null,null,null,null,null,null,null,null,null,null,0,0,0,null,null,null,null,103,60,null,"",null,null,1,null,-320198552,2,1,-2,0,0,0,0,0,0,0,null,0,0,0,"",0,1,0,null,null,0,0,0,null,"","",null,null,null,null,null,null,"","Пр/812-027.0-1","Пр/774-027.0","Линии электропередачи","Линии электропередачи",null,0,null,null,null,null,null,null,null,null,null,null,null,null,null,null,null,null,null,0]
[18,1,111,null,"","22.2.02.23","Металлические плакаты","ШТ",{"$f":"I71*J90","v":0},0,0,0,0,0,0,0,0,0,0,0,0,0,0,0,0,null,-1,0,0,0,0,0,0,0,0,0,0,0,0,0,0,0,0,0,0,103,60,1,1,null,null,1,1,1,1,"","","","",3,1,"",null,null,33001,0,"",0,2,0,1,1,1,1,1,1,"",103,60,"",null,null,0,0,0,0,0,0,0,0,0,"",0,0,0,0,0,0,0,0,0,0,0,0,null,null,"","","","","","","","","","","",0,0,1,1,null,null,null,1013,"ШТ","ШТ",1,null,"","","","",null,83666879,2,"Общестроительные работы",27,"Линии электропередачи",1,33001,"Линии электропередачи","ФЕР-33",null,"",null,1024,0,0,0,0,0,0,0,null,null,null,null,null,null,null,null,null,null,null,null,null,null,null,null,null,null,0,0,0,null,null,null,null,103,60,null,"",null,null,1,null,326010188,2,1,-2,0,0,0,0,0,0,0,null,0,0,0,"",0,1,0,null,null,0,0,0,null,"","",null,null,null,null,null,null,"","Пр/812-027.0-1","Пр/774-027.0","Линии электропередачи","Линии электропередачи",null,0,null,null,null,null,null,null,null,null,null,null,null,null,null,null,null,null,null,0]
[18,1,130,null,"","22.2.02.23","Металлические плакаты","ШТ",{"$f":"I72*J91","v":0},0,0,0,0,0,0,0,0,0,0,0,0,0,0,0,0,null,-1,0,0,0,0,0,0,0,0,0,0,0,0,0,0,0,0,0,0,103,60,1,1,null,null,1,1,1,1,"","","","",3,1,"",null,null,33001,0,"",0,2,0,1,1,1,1,1,1,"",103,60,"",null,null,0,0,0,0,0,0,0,0,0,"",0,0,0,0,0,0,0,0,0,0,0,0,null,null,"","","","","","","","","","","",0,0,1,1,null,null,null,1013,"ШТ","ШТ",1,null,"","","","",null,83666879,2,"Общестроительные работы",27,"Линии электропередачи",1,33001,"Линии электропередачи","ФЕР-33",null,"",null,1024,0,0,0,0,0,0,0,null,null,null,null,null,null,null,null,null,null,null,null,null,null,null,null,null,null,0,0,0,null,null,null,null,103,60,null,"",null,null,1,null,326010188,2,1,-2,0,0,0,0,0,0,0,null,0,0,0,"",0,1,0,null,null,0,0,0,null,"","",null,null,null,null,null,null,"","Пр/812-027.0-1","Пр/774-027.0","Линии электропередачи","Линии электропередачи",null,0,null,null,null,null,null,null,null,null,null,null,null,null,null,null,null,null,null,0]
[17,1,{"$f":"ROW(SmtRes!A149)","v":149},{"$f":"ROW(EtalonRes!A149)","v":149},"5","33-04-003-02","Установка железобетонных опор ВЛ 0,38; 6-10 кВ с траверсами без приставок: одностоечных с одним подкосом","ШТ",0,0,0,2,2,0,0,{"$f":"SUMIF(SmtRes!AQ131:'SmtRes'!AQ149,\"=1\",SmtRes!DF131:'SmtRes'!DF149)","v":0},{"$f":"SUMIF(SmtRes!AQ131:'SmtRes'!AQ149,\"=1\",SmtRes!DG131:'SmtRes'!DG149)","v":0},{"$f":"SUMIF(SmtRes!AQ131:'SmtRes'!AQ149,\"=1\",SmtRes!DH131:'SmtRes'!DH149)","v":0},{"$f":"SUMIF(SmtRes!AQ131:'SmtRes'!AQ149,\"=1\",SmtRes!DI131:'SmtRes'!DI149)","v":0},0,{"$f":"SUMIF(SmtRes!AQ131:'SmtRes'!AQ149,\"=1\",SmtRes!CV131:'SmtRes'!CV149)","v":0},{"$f":"SUMIF(SmtRes!AQ131:'SmtRes'!AQ149,\"=1\",SmtRes!CW131:'SmtRes'!CW149)","v":0},0,0,0,null,85316715,8188.68,{"$f":"ROUND((SUM(SmtRes!BQ131:'SmtRes'!BQ149)),2)","v":115.84},{"$f":"ROUND((((SUM(SmtRes!BR131:'SmtRes'!BR149))-(SUM(SmtRes!BS131:'SmtRes'!BS149)))+AE92),2)","v":3598.72},{"$f":"ROUND((SUM(SmtRes!BS131:'SmtRes'!BS149)),2)","v":1817.44},{"$f":"ROUND((SUM(SmtRes!BT131:'SmtRes'!BT149)),2)","v":4474.12},0,{"$f":"(SUM(SmtRes!BU131:'SmtRes'!BU149))","v":5.98},{"$f":"(SUM(SmtRes!BV131:'SmtRes'!BV149))","v":2},0,10006.103397999999,115.838998,3598.712,1817.4360000000001,4474.1163999999999,0,5.98,2,0,103,60,1,1,null,null,1,1,1,1,"","","","",0,1,"ГЭСН-2022 доп.17, 33-04-003-02, приказ Минстроя России от 17.02.2026 г. № 91/пр",null,null,33001,0,"",0,2,0,1,1,1,1,1,1,"",103,60,"",null,null,0,0,0,5,0,0,0,0,0,"",0,0,{"$f":"SUMIF(SmtRes!AQ131:'SmtRes'!AQ149,\"=1\",SmtRes!AA131:'SmtRes'!AA149)","v":105143.62000000001},{"$f":"SUMIF(SmtRes!AQ131:'SmtRes'!AQ149,\"=1\",SmtRes!AB131:'SmtRes'!AB149)","v":3377.99},{"$f":"SUMIF(SmtRes!AQ131:'SmtRes'!AQ149,\"=1\",SmtRes!AC131:'SmtRes'!AC149)","v":1744.74},{"$f":"SUMIF(SmtRes!AQ131:'SmtRes'!AQ149,\"=1\",SmtRes!AD131:'SmtRes'!AD149)","v":748.18},{"$f":"AG92","v":0},{"$f":"SUMIF(SmtRes!AQ131:'SmtRes'!AQ149,\"=1\",SmtRes!BU131:'SmtRes'!BU149)","v":5.98},{"$f":"SUMIF(SmtRes!AQ131:'SmtRes'!AQ149,\"=1\",SmtRes!BV131:'SmtRes'!BV149)","v":2},{"$f":"AJ92","v":0},0,0,null,null,"","","","","","","","","","","",0,0,1,1,null,null,null,1013,"ШТ","ШТ",1,null,"","","","",null,83666879,2,"Общестроительные работы",27,"Линии электропередачи",1,33001,"Линии электропередачи","ФЕР-33",null,"",null,131072,0,0,0,0,0,5.98,2,0,null,null,null,null,null,null,null,null,null,null,null,null,null,null,null,null,null,0,0,0,null,null,null,null,103,60,null,"",null,null,1,null,-307086544,2,1,-2,0,0,0,0,0,0,0,null,0,3,0,"",0,1,0,null,null,0,0,0,null,"","",null,null,null,null,null,null,"","Пр/812-027.0-1","Пр/774-027.0","Линии электропередачи","Линии электропередачи",null,0,null,null,null,null,null,null,null,null,null,null,null,null,null,null,null,null,null,0]
[17,1,{"$f":"ROW(SmtRes!A168)","v":168},{"$f":"ROW(EtalonRes!A168)","v":168},"5","33-04-003-02","Установка железобетонных опор ВЛ 0,38; 6-10 кВ с траверсами без приставок: одностоечных с одним подкосом","ШТ",0,0,0,2,2,0,0,{"$f":"SUMIF(SmtRes!AQ150:'SmtRes'!AQ168,\"=1\",SmtRes!DF150:'SmtRes'!DF168)","v":0},{"$f":"SUMIF(SmtRes!AQ150:'SmtRes'!AQ168,\"=1\",SmtRes!DG150:'SmtRes'!DG168)","v":0},{"$f":"SUMIF(SmtRes!AQ150:'SmtRes'!AQ168,\"=1\",SmtRes!DH150:'SmtRes'!DH168)","v":0},{"$f":"SUMIF(SmtRes!AQ150:'SmtRes'!AQ168,\"=1\",SmtRes!DI150:'SmtRes'!DI168)","v":0},0,{"$f":"SUMIF(SmtRes!AQ150:'SmtRes'!AQ168,\"=1\",SmtRes!CV150:'SmtRes'!CV168)","v":0},{"$f":"SUMIF(SmtRes!AQ150:'SmtRes'!AQ168,\"=1\",SmtRes!CW150:'SmtRes'!CW168)","v":0},0,0,0,null,85316656,8188.68,{"$f":"ROUND((SUM(SmtRes!BQ150:'SmtRes'!BQ168)),2)","v":115.84},{"$f":"ROUND((((SUM(SmtRes!BR150:'SmtRes'!BR168))-(SUM(SmtRes!BS150:'SmtRes'!BS168)))+AE93),2)","v":3598.72},{"$f":"ROUND((SUM(SmtRes!BS150:'SmtRes'!BS168)),2)","v":1817.44},{"$f":"ROUND((SUM(SmtRes!BT150:'SmtRes'!BT168)),2)","v":4474.12},0,{"$f":"(SUM(SmtRes!BU150:'SmtRes'!BU168))","v":5.98},{"$f":"(SUM(SmtRes!BV150:'SmtRes'!BV168))","v":2},0,10006.103397999999,115.838998,3598.712,1817.4360000000001,4474.1163999999999,0,5.98,2,0,103,60,1,1,null,null,1,1,1,1,"","","","",0,1,"ГЭСН-2022 доп.17, 33-04-003-02, приказ Минстроя России от 17.02.2026 г. № 91/пр",null,null,33001,0,"",0,2,0,1,1,1,1,1,1,"",103,60,"",null,null,0,0,0,5,0,0,0,0,0,"",0,0,{"$f":"SUMIF(SmtRes!AQ150:'SmtRes'!AQ168,\"=1\",SmtRes!AA150:'SmtRes'!AA168)","v":105143.62000000001},{"$f":"SUMIF(SmtRes!AQ150:'SmtRes'!AQ168,\"=1\",SmtRes!AB150:'SmtRes'!AB168)","v":3377.99},{"$f":"SUMIF(SmtRes!AQ150:'SmtRes'!AQ168,\"=1\",SmtRes!AC150:'SmtRes'!AC168)","v":1744.74},{"$f":"SUMIF(SmtRes!AQ150:'SmtRes'!AQ168,\"=1\",SmtRes!AD150:'SmtRes'!AD168)","v":748.18},{"$f":"AG93","v":0},{"$f":"SUMIF(SmtRes!AQ150:'SmtRes'!AQ168,\"=1\",SmtRes!BU150:'SmtRes'!BU168)","v":5.98},{"$f":"SUMIF(SmtRes!AQ150:'SmtRes'!AQ168,\"=1\",SmtRes!BV150:'SmtRes'!BV168)","v":2},{"$f":"AJ93","v":0},0,0,null,null,"","","","","","","","","","","",0,0,1,1,null,null,null,1013,"ШТ","ШТ",1,null,"","","","",null,83666879,2,"Общестроительные работы",27,"Линии электропередачи",1,33001,"Линии электропередачи","ФЕР-33",null,"",null,131072,0,0,0,0,0,5.98,2,0,null,null,null,null,null,null,null,null,null,null,null,null,null,null,null,null,null,0,0,0,null,null,null,null,103,60,null,"",null,null,1,null,-307086544,2,1,-2,0,0,0,0,0,0,0,null,0,3,0,"",0,1,0,null,null,0,0,0,null,"","",null,null,null,null,null,null,"","Пр/812-027.0-1","Пр/774-027.0","Линии электропередачи","Линии электропередачи",null,0,null,null,null,null,null,null,null,null,null,null,null,null,null,null,null,null,null,0]
[19,1,null,null,null,"","По ВОР \"Установка ЖБ опор без приставок одностоечных с одним подкосом\"","",null,null,null,null,null,null,null,null,null,null,null,null,null,null,null,null,null,null,1,null,null,null,null,null,null,null,null,null,null,null,null,null,null,null,null,null,null,null,null,null,null,null,null,null,null,null,null,null,null,null,null,null,null,null,null,null,null,null,null,null,null,null,null,null,null,null,null,null,null,null,null,null,null,null,null,null,null,null,null,null,null,null,null,null,null,null,null,null,null,null,null,null,null,null,null,null,null,null,null,null,null,null,null,null,null,null,null,null,null,null,null,null,null,null,null,null,null,null,null,null,null,null,null,null,null,null,null,null,null,null,null,null,null,null,null,null,null,null,null,null,null,null,null,null,null,null,null,null,null,null,null,null,null,null,null,null,null,null,null,null,null,null,null,null,null,null,null,null,null,null,null,null,null,null,null,null,null,null,null,null,null,null,null,null,null,null,null,null,null,null,null,null,null,null,null,null,null,null,null,null,null,null,null,null,null,null,null,null,null,null,null,null,null,null,null,null,null,null,null,null,null,null,null,null,null,null,null,null,null,null,null,null,null,null,null,null,0]
[18,1,137,null,"5,1","01.7.15.03-0042","Болты с гайками и шайбами строительные","кг",{"$f":"I92*J95","v":0},0,0,0,0,{"$f":"ROUND(L95-M95,4)","v":0},{"$f":"ROUND(CP95,2)","v":0},{"$f":"ROUND(CQ95*I95,2)","v":0},{"$f":"ROUND(CR95*I95,2)","v":0},{"$f":"ROUND(CS95*I95,2)","v":0},{"$f":"ROUND(CT95*I95,2)","v":0},{"$f":"ROUND(CU95*I95,2)","v":0},{"$f":"ROUND(CV95*I95,7)","v":0},{"$f":"ROUND(CW95*I95,7)","v":0},{"$f":"ROUND(CX95*I95,2)","v":0},{"$f":"ROUND(CY95,2)","v":0},{"$f":"ROUND(CZ95,2)","v":0},null,85316715,{"$f":"ROUND((AC95+AD95+AF95),2)","v":174.93},{"$f":"ROUND((ES95),2)","v":174.93},{"$f":"ROUND((((ET95)-(EU95))+AE95),2)","v":0},{"$f":"ROUND((EU95),2)","v":0},{"$f":"ROUND((EV95),2)","v":0},{"$f":"ROUND((AP95),2)","v":0},{"$f":"(EW95)","v":0},{"$f":"(EX95)","v":0},{"$f":"(AS95)","v":0},174.93,174.93,0,0,0,0,0,0,0,103,60,1,1,null,null,1,1,1,1.08,"","","","",3,1,"ФСБЦ-2022, 01.7.15.03-0042, приказ Минстроя России от 18.05.2022 г. № 378/пр",null,null,33001,0,"01.7.15.03-0042",1,2,0,1,1,1,1,1,1,"",103,60,"",null,null,0,0,0,5,1,0,0,0,0,"",0,{"$f":"(P95+Q95+S95+R95)","v":0},{"$f":"ROUND(AL95*BC95,2)","v":188.92},{"$f":"ROUND(AM95*BB95,2)","v":0},{"$f":"ROUND(AN95*BS95,2)","v":0},{"$f":"ROUND(AO95*BA95,2)","v":0},{"$f":"AG95","v":0},{"$f":"AH95","v":0},{"$f":"AI95","v":0},{"$f":"AJ95","v":0},{"$f":"(((S95+R95)*AT95)/100)","v":0},{"$f":"(((S95+R95)*AU95)/100)","v":0},null,null,"","","","","","","","","","","",0,0,1,1,null,null,null,1009,"кг","кг",1,null,"","","","",null,83666879,2,"Общестроительные работы",27,"Линии электропередачи",1,33001,"Линии электропередачи","ФЕР-33",null,"",null,0,174.93,174.93,0,0,0,0,0,null,null,null,null,null,null,null,null,null,null,null,null,null,null,null,null,null,null,0,0,0,null,null,null,null,103,60,null,"",null,null,1,null,-1131385474,2,1,2,0,0,{"$f":"ROUND(IF(AND(BH95=3,BI95=3,FS95<>0),P95,0),2)","v":0},{"$f":"ROUND(O95+X95+Y95,2)+GX95","v":0},{"$f":"IF(OR(BI95=0,BI95=1),GM95-GX95,0)","v":0},{"$f":"IF(BI95=2,GM95-GX95,0)","v":0},{"$f":"IF(BI95=4,GM95-GX95,0)","v":0},null,0,3,0,"",{"$f":"ROUND((GT95),2)","v":0},1,{"$f":"ROUND(HC95*I95,2)","v":0},null,null,0,0,{"$f":"GV95*GW95","v":0},null,"","",null,null,null,null,null,null,"","Пр/812-027.0-1","Пр/774-027.0","Линии электропередачи","Линии электропередачи",null,0,null,null,null,null,null,null,null,null,null,null,null,null,null,null,null,null,null,0]
[18,1,156,null,"5,1","01.7.15.03-0042","Болты с гайками и шайбами строительные","кг",{"$f":"I93*J96","v":0},0,0,0,0,0,0,0,0,0,0,0,0,0,0,0,0,null,85316656,174.93,174.93,0,0,0,0,0,0,0,174.93,174.93,0,0,0,0,0,0,0,103,60,1,1,null,null,1,1,1,1.08,"","","","",3,1,"ФСБЦ-2022, 01.7.15.03-0042, приказ Минстроя России от 18.05.2022 г. № 378/пр",null,null,33001,0,"01.7.15.03-0042",1,2,0,1,1,1,1,1,1,"",103,60,"",null,null,0,0,0,5,1,0,0,0,0,"",0,0,188.92,0,0,0,0,0,0,0,0,0,null,null,"","","","","","","","","","","",0,0,1,1,null,null,null,1009,"кг","кг",1,null,"","","","",null,83666879,2,"Общестроительные работы",27,"Линии электропередачи",1,33001,"Линии электропередачи","ФЕР-33",null,"",null,0,174.93,174.93,0,0,0,0,0,null,null,null,null,null,null,null,null,null,null,null,null,null,null,null,null,null,null,0,0,0,null,null,null,null,103,60,null,"",null,null,1,null,-1131385474,2,1,2,0,0,0,0,0,0,0,null,0,3,0,"",0,1,0,null,null,0,0,0,null,"","",null,null,null,null,null,null,"","Пр/812-027.0-1","Пр/774-027.0","Линии электропередачи","Линии электропередачи",null,0,null,null,null,null,null,null,null,null,null,null,null,null,null,null,null,null,null,0]
[18,1,139,null,"5,2","05.1.02.07","Стойка железобетонная вибрированная для опор","ШТ",{"$f":"I92*J97","v":0},0,0,0,0,0,0,0,0,0,0,0,0,0,0,0,0,null,85316715,0,0,0,0,0,0,0,0,0,0,0,0,0,0,0,0,0,0,103,60,1,1,null,null,1,1,1,1,"","","","",3,1,"",null,null,33001,0,"",0,2,0,1,1,1,1,1,1,"",103,60,"",null,null,0,0,0,5,2,0,0,0,0,"",0,0,0,0,0,0,0,0,0,0,0,0,null,null,"","","","","","","","","","","",0,0,1,1,null,null,null,1013,"ШТ","ШТ",1,null,"","","","",null,83666879,2,"Общестроительные работы",27,"Линии электропередачи",1,33001,"Линии электропередачи","ФЕР-33",null,"",null,0,0,0,0,0,0,0,0,null,null,null,null,null,null,null,null,null,null,null,null,null,null,null,null,null,null,0,0,0,null,null,null,null,103,60,null,"",null,null,1,null,457934895,2,1,-2,0,0,0,0,0,0,0,null,0,3,0,"",0,1,0,null,null,0,0,0,null,"","",null,null,null,null,null,null,"","Пр/812-027.0-1","Пр/774-027.0","Линии электропередачи","Линии электропередачи",null,0,null,null,null,null,null,null,null,null,null,null,null,null,null,null,null,null,null,0]
[18,1,158,null,"5,2","05.1.02.07","Стойка железобетонная вибрированная для опор","ШТ",{"$f":"I93*J98","v":0},0,0,0,0,0,0,0,0,0,0,0,0,0,0,0,0,null,85316656,0,0,0,0,0,0,0,0,0,0,0,0,0,0,0,0,0,0,103,60,1,1,null,null,1,1,1,1,"","","","",3,1,"",null,null,33001,0,"",0,2,0,1,1,1,1,1,1,"",103,60,"",null,null,0,0,0,5,2,0,0,0,0,"",0,0,0,0,0,0,0,0,0,0,0,0,null,null,"","","","","","","","","","","",0,0,1,1,null,null,null,1013,"ШТ","ШТ",1,null,"","","","",null,83666879,2,"Общестроительные работы",27,"Линии электропередачи",1,33001,"Линии электропередачи","ФЕР-33",null,"",null,0,0,0,0,0,0,0,0,null,null,null,null,null,null,null,null,null,null,null,null,null,null,null,null,null,null,0,0,0,null,null,null,null,103,60,null,"",null,null,1,null,457934895,2,1,-2,0,0,0,0,0,0,0,null,0,3,0,"",0,1,0,null,null,0,0,0,null,"","",null,null,null,null,null,null,"","Пр/812-027.0-1","Пр/774-027.0","Линии электропередачи","Линии электропередачи",null,0,null,null,null,null,null,null,null,null,null,null,null,null,null,null,null,null,null,0]
[18,1,140,null,"5,3","07.2.02.05","Траверсы стальные","т",{"$f":"I92*J99","v":0},0,0,0,0,0,0,0,0,0,0,0,0,0,0,0,0,null,85316715,0,0,0,0,0,0,0,0,0,0,0,0,0,0,0,0,0,0,103,60,1,1,null,null,1,1,1,1,"","","","",3,1,"",null,null,33001,0,"",0,2,0,1,1,1,1,1,1,"",103,60,"",null,null,0,0,0,5,3,0,0,0,0,"",0,0,0,0,0,0,0,0,0,0,0,0,null,null,"","","","","","","","","","","",0,0,1,1,null,null,null,1009,"т","т",1000,null,"","","","",null,83666879,2,"Общестроительные работы",27,"Линии электропередачи",1,33001,"Линии электропередачи","ФЕР-33",null,"",null,0,0,0,0,0,0,0,0,null,null,null,null,null,null,null,null,null,null,null,null,null,null,null,null,null,null,0,0,0,null,null,null,null,103,60,null,"",null,null,1,null,1602794472,2,1,-2,0,0,0,0,0,0,0,null,0,3,0,"",0,1,0,null,null,0,0,0,null,"","",null,null,null,null,null,null,"","Пр/812-027.0-1","Пр/774-027.0","Линии электропередачи","Линии электропередачи",null,0,null,null,null,null,null,null,null,null,null,null,null,null,null,null,null,null,null,0]
[18,1,159,null,"5,3","07.2.02.05","Траверсы стальные","т",{"$f":"I93*J100","v":0},0,0,0,0,0,0,0,0,0,0,0,0,0,0,0,0,null,85316656,0,0,0,0,0,0,0,0,0,0,0,0,0,0,0,0,0,0,103,60,1,1,null,null,1,1,1,1,"","","","",3,1,"",null,null,33001,0,"",0,2,0,1,1,1,1,1,1,"",103,60,"",null,null,0,0,0,5,3,0,0,0,0,"",0,0,0,0,0,0,0,0,0,0,0,0,null,null,"","","","","","","","","","","",0,0,1,1,null,null,null,1009,"т","т",1000,null,"","","","",null,83666879,2,"Общестроительные работы",27,"Линии электропередачи",1,33001,"Линии электропередачи","ФЕР-33",null,"",null,0,0,0,0,0,0,0,0,null,null,null,null,null,null,null,null,null,null,null,null,null,null,null,null,null,null,0,0,0,null,null,null,null,103,60,null,"",null,null,1,null,1602794472,2,1,-2,0,0,0,0,0,0,0,null,0,3,0,"",0,1,0,null,null,0,0,0,null,"","",null,null,null,null,null,null,"","Пр/812-027.0-1","Пр/774-027.0","Линии электропередачи","Линии электропередачи",null,0,null,null,null,null,null,null,null,null,null,null,null,null,null,null,null,null,null,0]
[18,1,141,null,"5,4","07.2.07.13","Хомуты стальные","кг",{"$f":"I92*J101","v":0},0,0,0,0,0,0,0,0,0,0,0,0,0,0,0,0,null,85316715,0,0,0,0,0,0,0,0,0,0,0,0,0,0,0,0,0,0,103,60,1,1,null,null,1,1,1,1,"","","","",3,1,"",null,null,33001,0,"",0,2,0,1,1,1,1,1,1,"",103,60,"",null,null,0,0,0,5,4,0,0,0,0,"",0,0,0,0,0,0,0,0,0,0,0,0,null,null,"","","","","","","","","","","",0,0,1,1,null,null,null,1009,"кг","кг",1,null,"","","","",null,83666879,2,"Общестроительные работы",27,"Линии электропередачи",1,33001,"Линии электропередачи","ФЕР-33",null,"",null,0,0,0,0,0,0,0,0,null,null,null,null,null,null,null,null,null,null,null,null,null,null,null,null,null,null,0,0,0,null,null,null,null,103,60,null,"",null,null,1,null,-1111733769,2,1,-2,0,0,0,0,0,0,0,null,0,3,0,"",0,1,0,null,null,0,0,0,null,"","",null,null,null,null,null,null,"","Пр/812-027.0-1","Пр/774-027.0","Линии электропередачи","Линии электропередачи",null,0,null,null,null,null,null,null,null,null,null,null,null,null,null,null,null,null,null,0]
[18,1,160,null,"5,4","07.2.07.13","Хомуты стальные","кг",{"$f":"I93*J102","v":0},0,0,0,0,0,0,0,0,0,0,0,0,0,0,0,0,null,85316656,0,0,0,0,0,0,0,0,0,0,0,0,0,0,0,0,0,0,103,60,1,1,null,null,1,1,1,1,"","","","",3,1,"",null,null,33001,0,"",0,2,0,1,1,1,1,1,1,"",103,60,"",null,null,0,0,0,5,4,0,0,0,0,"",0,0,0,0,0,0,0,0,0,0,0,0,null,null,"","","","","","","","","","","",0,0,1,1,null,null,null,1009,"кг","кг",1,null,"","","","",null,83666879,2,"Общестроительные работы",27,"Линии электропередачи",1,33001,"Линии электропередачи","ФЕР-33",null,"",null,0,0,0,0,0,0,0,0,null,null,null,null,null,null,null,null,null,null,null,null,null,null,null,null,null,null,0,0,0,null,null,null,null,103,60,null,"",null,null,1,null,-1111733769,2,1,-2,0,0,0,0,0,0,0,null,0,3,0,"",0,1,0,null,null,0,0,0,null,"","",null,null,null,null,null,null,"","Пр/812-027.0-1","Пр/774-027.0","Линии электропередачи","Линии электропередачи",null,0,null,null,null,null,null,null,null,null,null,null,null,null,null,null,null,null,null,0]
[18,1,142,null,"5,5","08.3.04.02","Сталь стержневая диаметром до 10 мм","т",{"$f":"I92*J103","v":0},0,0,0,0,0,0,0,0,0,0,0,0,0,0,0,0,null,85316715,0,0,0,0,0,0,0,0,0,0,0,0,0,0,0,0,0,0,103,60,1,1,null,null,1,1,1,1,"","","","",3,1,"",null,null,33001,0,"",0,2,0,1,1,1,1,1,1,"",103,60,"",null,null,0,0,0,5,5,0,0,0,0,"",0,0,0,0,0,0,0,0,0,0,0,0,null,null,"","","","","","","","","","","",0,0,1,1,null,null,null,1009,"т","т",1000,null,"","","","",null,83666879,2,"Общестроительные работы",27,"Линии электропередачи",1,33001,"Линии электропередачи","ФЕР-33",null,"",null,0,0,0,0,0,0,0,0,null,null,null,null,null,null,null,null,null,null,null,null,null,null,null,null,null,null,0,0,0,null,null,null,null,103,60,null,"",null,null,1,null,1613753229,2,1,-2,0,0,0,0,0,0,0,null,0,3,0,"",0,1,0,null,null,0,0,0,null,"","",null,null,null,null,null,null,"","Пр/812-027.0-1","Пр/774-027.0","Линии электропередачи","Линии электропередачи",null,0,null,null,null,null,null,null,null,null,null,null,null,null,null,null,null,null,null,0]
[18,1,161,null,"5,5","08.3.04.02","Сталь стержневая диаметром до 10 мм","т",{"$f":"I93*J104","v":0},0,0,0,0,0,0,0,0,0,0,0,0,0,0,0,0,null,85316656,0,0,0,0,0,0,0,0,0,0,0,0,0,0,0,0,0,0,103,60,1,1,null,null,1,1,1,1,"","","","",3,1,"",null,null,33001,0,"",0,2,0,1,1,1,1,1,1,"",103,60,"",null,null,0,0,0,5,5,0,0,0,0,"",0,0,0,0,0,0,0,0,0,0,0,0,null,null,"","","","","","","","","","","",0,0,1,1,null,null,null,1009,"т","т",1000,null,"","","","",null,83666879,2,"Общестроительные работы",27,"Линии электропередачи",1,33001,"Линии электропередачи","ФЕР-33",null,"",null,0,0,0,0,0,0,0,0,null,null,null,null,null,null,null,null,null,null,null,null,null,null,null,null,null,null,0,0,0,null,null,null,null,103,60,null,"",null,null,1,null,1613753229,2,1,-2,0,0,0,0,0,0,0,null,0,3,0,"",0,1,0,null,null,0,0,0,null,"","",null,null,null,null,null,null,"","Пр/812-027.0-1","Пр/774-027.0","Линии электропередачи","Линии электропередачи",null,0,null,null,null,null,null,null,null,null,null,null,null,null,null,null,null,null,null,0]
[18,1,146,null,"5,6","22.2.01.04","Изоляторы штыревые","ШТ",{"$f":"I92*J105","v":0},0,0,0,0,0,0,0,0,0,0,0,0,0,0,0,0,null,85316715,0,0,0,0,0,0,0,0,0,0,0,0,0,0,0,0,0,0,103,60,1,1,null,null,1,1,1,1,"","","","",3,1,"",null,null,33001,0,"",0,2,0,1,1,1,1,1,1,"",103,60,"",null,null,0,0,0,5,6,0,0,0,0,"",0,0,0,0,0,0,0,0,0,0,0,0,null,null,"","","","","","","","","","","",0,0,1,1,null,null,null,1013,"ШТ","ШТ",1,null,"","","","",null,83666879,2,"Общестроительные работы",27,"Линии электропередачи",1,33001,"Линии электропередачи","ФЕР-33",null,"",null,0,0,0,0,0,0,0,0,null,null,null,null,null,null,null,null,null,null,null,null,null,null,null,null,null,null,0,0,0,null,null,null,null,103,60,null,"",null,null,1,null,-950997571,2,1,-2,0,0,0,0,0,0,0,null,0,3,0,"",0,1,0,null,null,0,0,0,null,"","",null,null,null,null,null,null,"","Пр/812-027.0-1","Пр/774-027.0","Линии электропередачи","Линии электропередачи",null,0,null,null,null,null,null,null,null,null,null,null,null,null,null,null,null,null,null,0]
[18,1,165,null,"5,6","22.2.01.04","Изоляторы штыревые","ШТ",{"$f":"I93*J106","v":0},0,0,0,0,0,0,0,0,0,0,0,0,0,0,0,0,null,85316656,0,0,0,0,0,0,0,0,0,0,0,0,0,0,0,0,0,0,103,60,1,1,null,null,1,1,1,1,"","","","",3,1,"",null,null,33001,0,"",0,2,0,1,1,1,1,1,1,"",103,60,"",null,null,0,0,0,5,6,0,0,0,0,"",0,0,0,0,0,0,0,0,0,0,0,0,null,null,"","","","","","","","","","","",0,0,1,1,null,null,null,1013,"ШТ","ШТ",1,null,"","","","",null,83666879,2,"Общестроительные работы",27,"Линии электропередачи",1,33001,"Линии электропередачи","ФЕР-33",null,"",null,0,0,0,0,0,0,0,0,null,null,null,null,null,null,null,null,null,null,null,null,null,null,null,null,null,null,0,0,0,null,null,null,null,103,60,null,"",null,null,1,null,-950997571,2,1,-2,0,0,0,0,0,0,0,null,0,3,0,"",0,1,0,null,null,0,0,0,null,"","",null,null,null,null,null,null,"","Пр/812-027.0-1","Пр/774-027.0","Линии электропередачи","Линии электропередачи",null,0,null,null,null,null,null,null,null,null,null,null,null,null,null,null,null,null,null,0]
[18,1,147,null,"5,7","22.2.02.07","Детали крепления","кг",{"$f":"I92*J107","v":0},0,0,0,0,0,0,0,0,0,0,0,0,0,0,0,0,null,85316715,0,0,0,0,0,0,0,0,0,0,0,0,0,0,0,0,0,0,103,60,1,1,null,null,1,1,1,1,"","","","",3,1,"",null,null,33001,0,"",0,2,0,1,1,1,1,1,1,"",103,60,"",null,null,0,0,0,5,7,0,0,0,0,"",0,0,0,0,0,0,0,0,0,0,0,0,null,null,"","","","","","","","","","","",0,0,1,1,null,null,null,1009,"кг","кг",1,null,"","","","",null,83666879,2,"Общестроительные работы",27,"Линии электропередачи",1,33001,"Линии электропередачи","ФЕР-33",null,"",null,0,0,0,0,0,0,0,0,null,null,null,null,null,null,null,null,null,null,null,null,null,null,null,null,null,null,0,0,0,null,null,null,null,103,60,null,"",null,null,1,null,-1204247626,2,1,-2,0,0,0,0,0,0,0,null,0,3,0,"",0,1,0,null,null,0,0,0,null,"","",null,null,null,null,null,null,"","Пр/812-027.0-1","Пр/774-027.0","Линии электропередачи","Линии электропередачи",null,0,null,null,null,null,null,null,null,null,null,null,null,null,null,null,null,null,null,0]
[18,1,166,null,"5,7","22.2.02.07","Детали крепления","кг",{"$f":"I93*J108","v":0},0,0,0,0,0,0,0,0,0,0,0,0,0,0,0,0,null,85316656,0,0,0,0,0,0,0,0,0,0,0,0,0,0,0,0,0,0,103,60,1,1,null,null,1,1,1,1,"","","","",3,1,"",null,null,33001,0,"",0,2,0,1,1,1,1,1,1,"",103,60,"",null,null,0,0,0,5,7,0,0,0,0,"",0,0,0,0,0,0,0,0,0,0,0,0,null,null,"","","","","","","","","","","",0,0,1,1,null,null,null,1009,"кг","кг",1,null,"","","","",null,83666879,2,"Общестроительные работы",27,"Линии электропередачи",1,33001,"Линии электропередачи","ФЕР-33",null,"",null,0,0,0,0,0,0,0,0,null,null,null,null,null,null,null,null,null,null,null,null,null,null,null,null,null,null,0,0,0,null,null,null,null,103,60,null,"",null,null,1,null,-1204247626,2,1,-2,0,0,0,0,0,0,0,null,0,3,0,"",0,1,0,null,null,0,0,0,null,"","",null,null,null,null,null,null,"","Пр/812-027.0-1","Пр/774-027.0","Линии электропередачи","Линии электропередачи",null,0,null,null,null,null,null,null,null,null,null,null,null,null,null,null,null,null,null,0]
[18,1,148,null,"5,8","22.2.02.21","Штыри","ШТ",{"$f":"I92*J109","v":0},0,0,0,0,0,0,0,0,0,0,0,0,0,0,0,0,null,85316715,0,0,0,0,0,0,0,0,0,0,0,0,0,0,0,0,0,0,103,60,1,1,null,null,1,1,1,1,"","","","",3,1,"",null,null,33001,0,"",0,2,0,1,1,1,1,1,1,"",103,60,"",null,null,0,0,0,5,8,0,0,0,0,"",0,0,0,0,0,0,0,0,0,0,0,0,null,null,"","","","","","","","","","","",0,0,1,1,null,null,null,1013,"ШТ","ШТ",1,null,"","","","",null,83666879,2,"Общестроительные работы",27,"Линии электропередачи",1,33001,"Линии электропередачи","ФЕР-33",null,"",null,0,0,0,0,0,0,0,0,null,null,null,null,null,null,null,null,null,null,null,null,null,null,null,null,null,null,0,0,0,null,null,null,null,103,60,null,"",null,null,1,null,-320198552,2,1,-2,0,0,0,0,0,0,0,null,0,3,0,"",0,1,0,null,null,0,0,0,null,"","",null,null,null,null,null,null,"","Пр/812-027.0-1","Пр/774-027.0","Линии электропередачи","Линии электропередачи",null,0,null,null,null,null,null,null,null,null,null,null,null,null,null,null,null,null,null,0]
[18,1,167,null,"5,8","22.2.02.21","Штыри","ШТ",{"$f":"I93*J110","v":0},0,0,0,0,0,0,0,0,0,0,0,0,0,0,0,0,null,85316656,0,0,0,0,0,0,0,0,0,0,0,0,0,0,0,0,0,0,103,60,1,1,null,null,1,1,1,1,"","","","",3,1,"",null,null,33001,0,"",0,2,0,1,1,1,1,1,1,"",103,60,"",null,null,0,0,0,5,8,0,0,0,0,"",0,0,0,0,0,0,0,0,0,0,0,0,null,null,"","","","","","","","","","","",0,0,1,1,null,null,null,1013,"ШТ","ШТ",1,null,"","","","",null,83666879,2,"Общестроительные работы",27,"Линии электропередачи",1,33001,"Линии электропередачи","ФЕР-33",null,"",null,0,0,0,0,0,0,0,0,null,null,null,null,null,null,null,null,null,null,null,null,null,null,null,null,null,null,0,0,0,null,null,null,null,103,60,null,"",null,null,1,null,-320198552,2,1,-2,0,0,0,0,0,0,0,null,0,3,0,"",0,1,0,null,null,0,0,0,null,"","",null,null,null,null,null,null,"","Пр/812-027.0-1","Пр/774-027.0","Линии электропередачи","Линии электропередачи",null,0,null,null,null,null,null,null,null,null,null,null,null,null,null,null,null,null,null,0]
[18,1,149,null,"5,9","22.2.02.23","Металлические плакаты","ШТ",{"$f":"I92*J111","v":0},0,0,0,0,0,0,0,0,0,0,0,0,0,0,0,0,null,85316715,0,0,0,0,0,0,0,0,0,0,0,0,0,0,0,0,0,0,103,60,1,1,null,null,1,1,1,1,"","","","",3,1,"",null,null,33001,0,"",0,2,0,1,1,1,1,1,1,"",103,60,"",null,null,0,0,0,5,9,0,0,0,0,"",0,0,0,0,0,0,0,0,0,0,0,0,null,null,"","","","","","","","","","","",0,0,1,1,null,null,null,1013,"ШТ","ШТ",1,null,"","","","",null,83666879,2,"Общестроительные работы",27,"Линии электропередачи",1,33001,"Линии электропередачи","ФЕР-33",null,"",null,0,0,0,0,0,0,0,0,null,null,null,null,null,null,null,null,null,null,null,null,null,null,null,null,null,null,0,0,0,null,null,null,null,103,60,null,"",null,null,1,null,326010188,2,1,-2,0,0,0,0,0,0,0,null,0,3,0,"",0,1,0,null,null,0,0,0,null,"","",null,null,null,null,null,null,"","Пр/812-027.0-1","Пр/774-027.0","Линии электропередачи","Линии электропередачи",null,0,null,null,null,null,null,null,null,null,null,null,null,null,null,null,null,null,null,0]
[18,1,168,null,"5,9","22.2.02.23","Металлические плакаты","ШТ",{"$f":"I93*J112","v":0},0,0,0,0,0,0,0,0,0,0,0,0,0,0,0,0,null,85316656,0,0,0,0,0,0,0,0,0,0,0,0,0,0,0,0,0,0,103,60,1,1,null,null,1,1,1,1,"","","","",3,1,"",null,null,33001,0,"",0,2,0,1,1,1,1,1,1,"",103,60,"",null,null,0,0,0,5,9,0,0,0,0,"",0,0,0,0,0,0,0,0,0,0,0,0,null,null,"","","","","","","","","","","",0,0,1,1,null,null,null,1013,"ШТ","ШТ",1,null,"","","","",null,83666879,2,"Общестроительные работы",27,"Линии электропередачи",1,33001,"Линии электропередачи","ФЕР-33",null,"",null,0,0,0,0,0,0,0,0,null,null,null,null,null,null,null,null,null,null,null,null,null,null,null,null,null,null,0,0,0,null,null,null,null,103,60,null,"",null,null,1,null,326010188,2,1,-2,0,0,0,0,0,0,0,null,0,3,0,"",0,1,0,null,null,0,0,0,null,"","",null,null,null,null,null,null,"","Пр/812-027.0-1","Пр/774-027.0","Линии электропередачи","Линии электропередачи",null,0,null,null,null,null,null,null,null,null,null,null,null,null,null,null,null,null,null,0]
[17,1,{"$f":"ROW(SmtRes!A187)","v":187},{"$f":"ROW(EtalonRes!A187)","v":187},"6","33-04-003-03","Установка железобетонных опор ВЛ 0,38; 6-10 кВ с траверсами без приставок: одностоечных с двумя подкосами","ШТ",0,0,0,1,1,0,0,{"$f":"SUMIF(SmtRes!AQ169:'SmtRes'!AQ187,\"=1\",SmtRes!DF169:'SmtRes'!DF187)","v":0},{"$f":"SUMIF(SmtRes!AQ169:'SmtRes'!AQ187,\"=1\",SmtRes!DG169:'SmtRes'!DG187)","v":0},{"$f":"SUMIF(SmtRes!AQ169:'SmtRes'!AQ187,\"=1\",SmtRes!DH169:'SmtRes'!DH187)","v":0},{"$f":"SUMIF(SmtRes!AQ169:'SmtRes'!AQ187,\"=1\",SmtRes!DI169:'SmtRes'!DI187)","v":0},0,{"$f":"SUMIF(SmtRes!AQ169:'SmtRes'!AQ187,\"=1\",SmtRes!CV169:'SmtRes'!CV187)","v":0},{"$f":"SUMIF(SmtRes!AQ169:'SmtRes'!AQ187,\"=1\",SmtRes!CW169:'SmtRes'!CW187)","v":0},0,0,0,null,85316715,12671.7,{"$f":"ROUND((SUM(SmtRes!BQ169:'SmtRes'!BQ187)),2)","v":115.84},{"$f":"ROUND((((SUM(SmtRes!BR169:'SmtRes'!BR187))-(SUM(SmtRes!BS169:'SmtRes'!BS187)))+AE113),2)","v":5822.24},{"$f":"ROUND((SUM(SmtRes!BS169:'SmtRes'!BS187)),2)","v":2920.86},{"$f":"ROUND((SUM(SmtRes!BT169:'SmtRes'!BT187)),2)","v":6733.62},0,{"$f":"(SUM(SmtRes!BU169:'SmtRes'!BU187))","v":9},{"$f":"(SUM(SmtRes!BV169:'SmtRes'!BV187))","v":3.21},0,15592.559898,115.838998,5822.2390000000005,2920.8618999999999,6733.62,0,9,3.21,0,103,60,1,1,null,null,1,1,1,1,"","","","",0,1,"ГЭСН-2022 доп.17, 33-04-003-03, приказ Минстроя России от 17.02.2026 г. № 91/пр",null,null,33001,0,"",0,2,0,1,1,1,1,1,1,"",103,60,"",null,null,0,0,0,6,0,0,0,0,0,"",0,0,{"$f":"SUMIF(SmtRes!AQ169:'SmtRes'!AQ187,\"=1\",SmtRes!AA169:'SmtRes'!AA187)","v":105143.62000000001},{"$f":"SUMIF(SmtRes!AQ169:'SmtRes'!AQ187,\"=1\",SmtRes!AB169:'SmtRes'!AB187)","v":3377.99},{"$f":"SUMIF(SmtRes!AQ169:'SmtRes'!AQ187,\"=1\",SmtRes!AC169:'SmtRes'!AC187)","v":1744.74},{"$f":"SUMIF(SmtRes!AQ169:'SmtRes'!AQ187,\"=1\",SmtRes!AD169:'SmtRes'!AD187)","v":748.18},{"$f":"AG113","v":0},{"$f":"SUMIF(SmtRes!AQ169:'SmtRes'!AQ187,\"=1\",SmtRes!BU169:'SmtRes'!BU187)","v":9},{"$f":"SUMIF(SmtRes!AQ169:'SmtRes'!AQ187,\"=1\",SmtRes!BV169:'SmtRes'!BV187)","v":3.21},{"$f":"AJ113","v":0},0,0,null,null,"","","","","","","","","","","",0,0,1,1,null,null,null,1013,"ШТ","ШТ",1,null,"","","","",null,83666879,2,"Общестроительные работы",27,"Линии электропередачи",1,33001,"Линии электропередачи","ФЕР-33",null,"",null,131072,0,0,0,0,0,9,3.21,0,null,null,null,null,null,null,null,null,null,null,null,null,null,null,null,null,null,0,0,0,null,null,null,null,103,60,null,"",null,null,1,null,1035565378,2,1,-2,0,0,0,0,0,0,0,null,0,3,0,"",0,1,0,null,null,0,0,0,null,"","",null,null,null,null,null,null,"","Пр/812-027.0-1","Пр/774-027.0","Линии электропередачи","Линии электропередачи",null,0,null,null,null,null,null,null,null,null,null,null,null,null,null,null,null,null,null,0]
[17,1,{"$f":"ROW(SmtRes!A206)","v":206},{"$f":"ROW(EtalonRes!A206)","v":206},"6","33-04-003-03","Установка железобетонных опор ВЛ 0,38; 6-10 кВ с траверсами без приставок: одностоечных с двумя подкосами","ШТ",0,0,0,1,1,0,0,{"$f":"SUMIF(SmtRes!AQ188:'SmtRes'!AQ206,\"=1\",SmtRes!DF188:'SmtRes'!DF206)","v":0},{"$f":"SUMIF(SmtRes!AQ188:'SmtRes'!AQ206,\"=1\",SmtRes!DG188:'SmtRes'!DG206)","v":0},{"$f":"SUMIF(SmtRes!AQ188:'SmtRes'!AQ206,\"=1\",SmtRes!DH188:'SmtRes'!DH206)","v":0},{"$f":"SUMIF(SmtRes!AQ188:'SmtRes'!AQ206,\"=1\",SmtRes!DI188:'SmtRes'!DI206)","v":0},0,{"$f":"SUMIF(SmtRes!AQ188:'SmtRes'!AQ206,\"=1\",SmtRes!CV188:'SmtRes'!CV206)","v":0},{"$f":"SUMIF(SmtRes!AQ188:'SmtRes'!AQ206,\"=1\",SmtRes!CW188:'SmtRes'!CW206)","v":0},0,0,0,null,85316656,12671.7,{"$f":"ROUND((SUM(SmtRes!BQ188:'SmtRes'!BQ206)),2)","v":115.84},{"$f":"ROUND((((SUM(SmtRes!BR188:'SmtRes'!BR206))-(SUM(SmtRes!BS188:'SmtRes'!BS206)))+AE114),2)","v":5822.24},{"$f":"ROUND((SUM(SmtRes!BS188:'SmtRes'!BS206)),2)","v":2920.86},{"$f":"ROUND((SUM(SmtRes!BT188:'SmtRes'!BT206)),2)","v":6733.62},0,{"$f":"(SUM(SmtRes!BU188:'SmtRes'!BU206))","v":9},{"$f":"(SUM(SmtRes!BV188:'SmtRes'!BV206))","v":3.21},0,15592.559898,115.838998,5822.2390000000005,2920.8618999999999,6733.62,0,9,3.21,0,103,60,1,1,null,null,1,1,1,1,"","","","",0,1,"ГЭСН-2022 доп.17, 33-04-003-03, приказ Минстроя России от 17.02.2026 г. № 91/пр",null,null,33001,0,"",0,2,0,1,1,1,1,1,1,"",103,60,"",null,null,0,0,0,6,0,0,0,0,0,"",0,0,{"$f":"SUMIF(SmtRes!AQ188:'SmtRes'!AQ206,\"=1\",SmtRes!AA188:'SmtRes'!AA206)","v":105143.62000000001},{"$f":"SUMIF(SmtRes!AQ188:'SmtRes'!AQ206,\"=1\",SmtRes!AB188:'SmtRes'!AB206)","v":3377.99},{"$f":"SUMIF(SmtRes!AQ188:'SmtRes'!AQ206,\"=1\",SmtRes!AC188:'SmtRes'!AC206)","v":1744.74},{"$f":"SUMIF(SmtRes!AQ188:'SmtRes'!AQ206,\"=1\",SmtRes!AD188:'SmtRes'!AD206)","v":748.18},{"$f":"AG114","v":0},{"$f":"SUMIF(SmtRes!AQ188:'SmtRes'!AQ206,\"=1\",SmtRes!BU188:'SmtRes'!BU206)","v":9},{"$f":"SUMIF(SmtRes!AQ188:'SmtRes'!AQ206,\"=1\",SmtRes!BV188:'SmtRes'!BV206)","v":3.21},{"$f":"AJ114","v":0},0,0,null,null,"","","","","","","","","","","",0,0,1,1,null,null,null,1013,"ШТ","ШТ",1,null,"","","","",null,83666879,2,"Общестроительные работы",27,"Линии электропередачи",1,33001,"Линии электропередачи","ФЕР-33",null,"",null,131072,0,0,0,0,0,9,3.21,0,null,null,null,null,null,null,null,null,null,null,null,null,null,null,null,null,null,0,0,0,null,null,null,null,103,60,null,"",null,null,1,null,1035565378,2,1,-2,0,0,0,0,0,0,0,null,0,3,0,"",0,1,0,null,null,0,0,0,null,"","",null,null,null,null,null,null,"","Пр/812-027.0-1","Пр/774-027.0","Линии электропередачи","Линии электропередачи",null,0,null,null,null,null,null,null,null,null,null,null,null,null,null,null,null,null,null,0]
[19,1,null,null,null,"","По ВОР \"Устновка жб опор без приставок одностоечных с двумя подкосами\"","",null,null,null,null,null,null,null,null,null,null,null,null,null,null,null,null,null,null,1,null,null,null,null,null,null,null,null,null,null,null,null,null,null,null,null,null,null,null,null,null,null,null,null,null,null,null,null,null,null,null,null,null,null,null,null,null,null,null,null,null,null,null,null,null,null,null,null,null,null,null,null,null,null,null,null,null,null,null,null,null,null,null,null,null,null,null,null,null,null,null,null,null,null,null,null,null,null,null,null,null,null,null,null,null,null,null,null,null,null,null,null,null,null,null,null,null,null,null,null,null,null,null,null,null,null,null,null,null,null,null,null,null,null,null,null,null,null,null,null,null,null,null,null,null,null,null,null,null,null,null,null,null,null,null,null,null,null,null,null,null,null,null,null,null,null,null,null,null,null,null,null,null,null,null,null,null,null,null,null,null,null,null,null,null,null,null,null,null,null,null,null,null,null,null,null,null,null,null,null,null,null,null,null,null,null,null,null,null,null,null,null,null,null,null,null,null,null,null,null,null,null,null,null,null,null,null,null,null,null,null,null,null,null,null,null,null,0]
[18,1,175,null,"6,1","01.7.15.03-0042","Болты с гайками и шайбами строительные","кг",{"$f":"I113*J116","v":0},0,0,0,0,{"$f":"ROUND(L116-M116,4)","v":0},{"$f":"ROUND(CP116,2)","v":0},{"$f":"ROUND(CQ116*I116,2)","v":0},{"$f":"ROUND(CR116*I116,2)","v":0},{"$f":"ROUND(CS116*I116,2)","v":0},{"$f":"ROUND(CT116*I116,2)","v":0},{"$f":"ROUND(CU116*I116,2)","v":0},{"$f":"ROUND(CV116*I116,7)","v":0},{"$f":"ROUND(CW116*I116,7)","v":0},{"$f":"ROUND(CX116*I116,2)","v":0},{"$f":"ROUND(CY116,2)","v":0},{"$f":"ROUND(CZ116,2)","v":0},null,85316715,{"$f":"ROUND((AC116+AD116+AF116),2)","v":174.93},{"$f":"ROUND((ES116),2)","v":174.93},{"$f":"ROUND((((ET116)-(EU116))+AE116),2)","v":0},{"$f":"ROUND((EU116),2)","v":0},{"$f":"ROUND((EV116),2)","v":0},{"$f":"ROUND((AP116),2)","v":0},{"$f":"(EW116)","v":0},{"$f":"(EX116)","v":0},{"$f":"(AS116)","v":0},174.93,174.93,0,0,0,0,0,0,0,103,60,1,1,null,null,1,1,1,1.08,"","","","",3,1,"ФСБЦ-2022, 01.7.15.03-0042, приказ Минстроя России от 18.05.2022 г. № 378/пр",null,null,33001,0,"01.7.15.03-0042",1,2,0,1,1,1,1,1,1,"",103,60,"",null,null,0,0,0,6,1,0,0,0,0,"",0,{"$f":"(P116+Q116+S116+R116)","v":0},{"$f":"ROUND(AL116*BC116,2)","v":188.92},{"$f":"ROUND(AM116*BB116,2)","v":0},{"$f":"ROUND(AN116*BS116,2)","v":0},{"$f":"ROUND(AO116*BA116,2)","v":0},{"$f":"AG116","v":0},{"$f":"AH116","v":0},{"$f":"AI116","v":0},{"$f":"AJ116","v":0},{"$f":"(((S116+R116)*AT116)/100)","v":0},{"$f":"(((S116+R116)*AU116)/100)","v":0},null,null,"","","","","","","","","","","",0,0,1,1,null,null,null,1009,"кг","кг",1,null,"","","","",null,83666879,2,"Общестроительные работы",27,"Линии электропередачи",1,33001,"Линии электропередачи","ФЕР-33",null,"",null,0,174.93,174.93,0,0,0,0,0,null,null,null,null,null,null,null,null,null,null,null,null,null,null,null,null,null,null,0,0,0,null,null,null,null,103,60,null,"",null,null,1,null,-1131385474,2,1,2,0,0,{"$f":"ROUND(IF(AND(BH116=3,BI116=3,FS116<>0),P116,0),2)","v":0},{"$f":"ROUND(O116+X116+Y116,2)+GX116","v":0},{"$f":"IF(OR(BI116=0,BI116=1),GM116-GX116,0)","v":0},{"$f":"IF(BI116=2,GM116-GX116,0)","v":0},{"$f":"IF(BI116=4,GM116-GX116,0)","v":0},null,0,3,0,"",{"$f":"ROUND((GT116),2)","v":0},1,{"$f":"ROUND(HC116*I116,2)","v":0},null,null,0,0,{"$f":"GV116*GW116","v":0},null,"","",null,null,null,null,null,null,"","Пр/812-027.0-1","Пр/774-027.0","Линии электропередачи","Линии электропередачи",null,0,null,null,null,null,null,null,null,null,null,null,null,null,null,null,null,null,null,0]
[18,1,194,null,"6,1","01.7.15.03-0042","Болты с гайками и шайбами строительные","кг",{"$f":"I114*J117","v":0},0,0,0,0,0,0,0,0,0,0,0,0,0,0,0,0,null,85316656,174.93,174.93,0,0,0,0,0,0,0,174.93,174.93,0,0,0,0,0,0,0,103,60,1,1,null,null,1,1,1,1.08,"","","","",3,1,"ФСБЦ-2022, 01.7.15.03-0042, приказ Минстроя России от 18.05.2022 г. № 378/пр",null,null,33001,0,"01.7.15.03-0042",1,2,0,1,1,1,1,1,1,"",103,60,"",null,null,0,0,0,6,1,0,0,0,0,"",0,0,188.92,0,0,0,0,0,0,0,0,0,null,null,"","","","","","","","","","","",0,0,1,1,null,null,null,1009,"кг","кг",1,null,"","","","",null,83666879,2,"Общестроительные работы",27,"Линии электропередачи",1,33001,"Линии электропередачи","ФЕР-33",null,"",null,0,174.93,174.93,0,0,0,0,0,null,null,null,null,null,null,null,null,null,null,null,null,null,null,null,null,null,null,0,0,0,null,null,null,null,103,60,null,"",null,null,1,null,-1131385474,2,1,2,0,0,0,0,0,0,0,null,0,3,0,"",0,1,0,null,null,0,0,0,null,"","",null,null,null,null,null,null,"","Пр/812-027.0-1","Пр/774-027.0","Линии электропередачи","Линии электропередачи",null,0,null,null,null,null,null,null,null,null,null,null,null,null,null,null,null,null,null,0]
[18,1,177,null,"6,2","05.1.02.07","Стойка железобетонная вибрированная для опор","ШТ",{"$f":"I113*J118","v":0},0,0,0,0,0,0,0,0,0,0,0,0,0,0,0,0,null,85316715,0,0,0,0,0,0,0,0,0,0,0,0,0,0,0,0,0,0,103,60,1,1,null,null,1,1,1,1,"","","","",3,1,"",null,null,33001,0,"",0,2,0,1,1,1,1,1,1,"",103,60,"",null,null,0,0,0,6,2,0,0,0,0,"",0,0,0,0,0,0,0,0,0,0,0,0,null,null,"","","","","","","","","","","",0,0,1,1,null,null,null,1013,"ШТ","ШТ",1,null,"","","","",null,83666879,2,"Общестроительные работы",27,"Линии электропередачи",1,33001,"Линии электропередачи","ФЕР-33",null,"",null,0,0,0,0,0,0,0,0,null,null,null,null,null,null,null,null,null,null,null,null,null,null,null,null,null,null,0,0,0,null,null,null,null,103,60,null,"",null,null,1,null,457934895,2,1,-2,0,0,0,0,0,0,0,null,0,3,0,"",0,1,0,null,null,0,0,0,null,"","",null,null,null,null,null,null,"","Пр/812-027.0-1","Пр/774-027.0","Линии электропередачи","Линии электропередачи",null,0,null,null,null,null,null,null,null,null,null,null,null,null,null,null,null,null,null,0]
[18,1,196,null,"6,2","05.1.02.07","Стойка железобетонная вибрированная для опор","ШТ",{"$f":"I114*J119","v":0},0,0,0,0,0,0,0,0,0,0,0,0,0,0,0,0,null,85316656,0,0,0,0,0,0,0,0,0,0,0,0,0,0,0,0,0,0,103,60,1,1,null,null,1,1,1,1,"","","","",3,1,"",null,null,33001,0,"",0,2,0,1,1,1,1,1,1,"",103,60,"",null,null,0,0,0,6,2,0,0,0,0,"",0,0,0,0,0,0,0,0,0,0,0,0,null,null,"","","","","","","","","","","",0,0,1,1,null,null,null,1013,"ШТ","ШТ",1,null,"","","","",null,83666879,2,"Общестроительные работы",27,"Линии электропередачи",1,33001,"Линии электропередачи","ФЕР-33",null,"",null,0,0,0,0,0,0,0,0,null,null,null,null,null,null,null,null,null,null,null,null,null,null,null,null,null,null,0,0,0,null,null,null,null,103,60,null,"",null,null,1,null,457934895,2,1,-2,0,0,0,0,0,0,0,null,0,3,0,"",0,1,0,null,null,0,0,0,null,"","",null,null,null,null,null,null,"","Пр/812-027.0-1","Пр/774-027.0","Линии электропередачи","Линии электропередачи",null,0,null,null,null,null,null,null,null,null,null,null,null,null,null,null,null,null,null,0]
[18,1,178,null,"6,3","07.2.02.05","Траверсы стальные","т",{"$f":"I113*J120","v":0},0,0,0,0,0,0,0,0,0,0,0,0,0,0,0,0,null,85316715,0,0,0,0,0,0,0,0,0,0,0,0,0,0,0,0,0,0,103,60,1,1,null,null,1,1,1,1,"","","","",3,1,"",null,null,33001,0,"",0,2,0,1,1,1,1,1,1,"",103,60,"",null,null,0,0,0,6,3,0,0,0,0,"",0,0,0,0,0,0,0,0,0,0,0,0,null,null,"","","","","","","","","","","",0,0,1,1,null,null,null,1009,"т","т",1000,null,"","","","",null,83666879,2,"Общестроительные работы",27,"Линии электропередачи",1,33001,"Линии электропередачи","ФЕР-33",null,"",null,0,0,0,0,0,0,0,0,null,null,null,null,null,null,null,null,null,null,null,null,null,null,null,null,null,null,0,0,0,null,null,null,null,103,60,null,"",null,null,1,null,1602794472,2,1,-2,0,0,0,0,0,0,0,null,0,3,0,"",0,1,0,null,null,0,0,0,null,"","",null,null,null,null,null,null,"","Пр/812-027.0-1","Пр/774-027.0","Линии электропередачи","Линии электропередачи",null,0,null,null,null,null,null,null,null,null,null,null,null,null,null,null,null,null,null,0]
[18,1,197,null,"6,3","07.2.02.05","Траверсы стальные","т",{"$f":"I114*J121","v":0},0,0,0,0,0,0,0,0,0,0,0,0,0,0,0,0,null,85316656,0,0,0,0,0,0,0,0,0,0,0,0,0,0,0,0,0,0,103,60,1,1,null,null,1,1,1,1,"","","","",3,1,"",null,null,33001,0,"",0,2,0,1,1,1,1,1,1,"",103,60,"",null,null,0,0,0,6,3,0,0,0,0,"",0,0,0,0,0,0,0,0,0,0,0,0,null,null,"","","","","","","","","","","",0,0,1,1,null,null,null,1009,"т","т",1000,null,"","","","",null,83666879,2,"Общестроительные работы",27,"Линии электропередачи",1,33001,"Линии электропередачи","ФЕР-33",null,"",null,0,0,0,0,0,0,0,0,null,null,null,null,null,null,null,null,null,null,null,null,null,null,null,null,null,null,0,0,0,null,null,null,null,103,60,null,"",null,null,1,null,1602794472,2,1,-2,0,0,0,0,0,0,0,null,0,3,0,"",0,1,0,null,null,0,0,0,null,"","",null,null,null,null,null,null,"","Пр/812-027.0-1","Пр/774-027.0","Линии электропередачи","Линии электропередачи",null,0,null,null,null,null,null,null,null,null,null,null,null,null,null,null,null,null,null,0]
[18,1,179,null,"6,4","07.2.07.13","Хомуты стальные","кг",{"$f":"I113*J122","v":0},0,0,0,0,0,0,0,0,0,0,0,0,0,0,0,0,null,85316715,0,0,0,0,0,0,0,0,0,0,0,0,0,0,0,0,0,0,103,60,1,1,null,null,1,1,1,1,"","","","",3,1,"",null,null,33001,0,"",0,2,0,1,1,1,1,1,1,"",103,60,"",null,null,0,0,0,6,4,0,0,0,0,"",0,0,0,0,0,0,0,0,0,0,0,0,null,null,"","","","","","","","","","","",0,0,1,1,null,null,null,1009,"кг","кг",1,null,"","","","",null,83666879,2,"Общестроительные работы",27,"Линии электропередачи",1,33001,"Линии электропередачи","ФЕР-33",null,"",null,0,0,0,0,0,0,0,0,null,null,null,null,null,null,null,null,null,null,null,null,null,null,null,null,null,null,0,0,0,null,null,null,null,103,60,null,"",null,null,1,null,-1111733769,2,1,-2,0,0,0,0,0,0,0,null,0,3,0,"",0,1,0,null,null,0,0,0,null,"","",null,null,null,null,null,null,"","Пр/812-027.0-1","Пр/774-027.0","Линии электропередачи","Линии электропередачи",null,0,null,null,null,null,null,null,null,null,null,null,null,null,null,null,null,null,null,0]
[18,1,198,null,"6,4","07.2.07.13","Хомуты стальные","кг",{"$f":"I114*J123","v":0},0,0,0,0,0,0,0,0,0,0,0,0,0,0,0,0,null,85316656,0,0,0,0,0,0,0,0,0,0,0,0,0,0,0,0,0,0,103,60,1,1,null,null,1,1,1,1,"","","","",3,1,"",null,null,33001,0,"",0,2,0,1,1,1,1,1,1,"",103,60,"",null,null,0,0,0,6,4,0,0,0,0,"",0,0,0,0,0,0,0,0,0,0,0,0,null,null,"","","","","","","","","","","",0,0,1,1,null,null,null,1009,"кг","кг",1,null,"","","","",null,83666879,2,"Общестроительные работы",27,"Линии электропередачи",1,33001,"Линии электропередачи","ФЕР-33",null,"",null,0,0,0,0,0,0,0,0,null,null,null,null,null,null,null,null,null,null,null,null,null,null,null,null,null,null,0,0,0,null,null,null,null,103,60,null,"",null,null,1,null,-1111733769,2,1,-2,0,0,0,0,0,0,0,null,0,3,0,"",0,1,0,null,null,0,0,0,null,"","",null,null,null,null,null,null,"","Пр/812-027.0-1","Пр/774-027.0","Линии электропередачи","Линии электропередачи",null,0,null,null,null,null,null,null,null,null,null,null,null,null,null,null,null,null,null,0]
[18,1,180,null,"6,5","08.3.04.02","Сталь стержневая диаметром до 10 мм","т",{"$f":"I113*J124","v":0},0,0,0,0,0,0,0,0,0,0,0,0,0,0,0,0,null,85316715,0,0,0,0,0,0,0,0,0,0,0,0,0,0,0,0,0,0,103,60,1,1,null,null,1,1,1,1,"","","","",3,1,"",null,null,33001,0,"",0,2,0,1,1,1,1,1,1,"",103,60,"",null,null,0,0,0,6,5,0,0,0,0,"",0,0,0,0,0,0,0,0,0,0,0,0,null,null,"","","","","","","","","","","",0,0,1,1,null,null,null,1009,"т","т",1000,null,"","","","",null,83666879,2,"Общестроительные работы",27,"Линии электропередачи",1,33001,"Линии электропередачи","ФЕР-33",null,"",null,0,0,0,0,0,0,0,0,null,null,null,null,null,null,null,null,null,null,null,null,null,null,null,null,null,null,0,0,0,null,null,null,null,103,60,null,"",null,null,1,null,1613753229,2,1,-2,0,0,0,0,0,0,0,null,0,3,0,"",0,1,0,null,null,0,0,0,null,"","",null,null,null,null,null,null,"","Пр/812-027.0-1","Пр/774-027.0","Линии электропередачи","Линии электропередачи",null,0,null,null,null,null,null,null,null,null,null,null,null,null,null,null,null,null,null,0]
[18,1,199,null,"6,5","08.3.04.02","Сталь стержневая диаметром до 10 мм","т",{"$f":"I114*J125","v":0},0,0,0,0,0,0,0,0,0,0,0,0,0,0,0,0,null,85316656,0,0,0,0,0,0,0,0,0,0,0,0,0,0,0,0,0,0,103,60,1,1,null,null,1,1,1,1,"","","","",3,1,"",null,null,33001,0,"",0,2,0,1,1,1,1,1,1,"",103,60,"",null,null,0,0,0,6,5,0,0,0,0,"",0,0,0,0,0,0,0,0,0,0,0,0,null,null,"","","","","","","","","","","",0,0,1,1,null,null,null,1009,"т","т",1000,null,"","","","",null,83666879,2,"Общестроительные работы",27,"Линии электропередачи",1,33001,"Линии электропередачи","ФЕР-33",null,"",null,0,0,0,0,0,0,0,0,null,null,null,null,null,null,null,null,null,null,null,null,null,null,null,null,null,null,0,0,0,null,null,null,null,103,60,null,"",null,null,1,null,1613753229,2,1,-2,0,0,0,0,0,0,0,null,0,3,0,"",0,1,0,null,null,0,0,0,null,"","",null,null,null,null,null,null,"","Пр/812-027.0-1","Пр/774-027.0","Линии электропередачи","Линии электропередачи",null,0,null,null,null,null,null,null,null,null,null,null,null,null,null,null,null,null,null,0]
[18,1,184,null,"6,6","22.2.01.04","Изоляторы штыревые","ШТ",{"$f":"I113*J126","v":0},0,0,0,0,0,0,0,0,0,0,0,0,0,0,0,0,null,85316715,0,0,0,0,0,0,0,0,0,0,0,0,0,0,0,0,0,0,103,60,1,1,null,null,1,1,1,1,"","","","",3,1,"",null,null,33001,0,"",0,2,0,1,1,1,1,1,1,"",103,60,"",null,null,0,0,0,6,6,0,0,0,0,"",0,0,0,0,0,0,0,0,0,0,0,0,null,null,"","","","","","","","","","","",0,0,1,1,null,null,null,1013,"ШТ","ШТ",1,null,"","","","",null,83666879,2,"Общестроительные работы",27,"Линии электропередачи",1,33001,"Линии электропередачи","ФЕР-33",null,"",null,0,0,0,0,0,0,0,0,null,null,null,null,null,null,null,null,null,null,null,null,null,null,null,null,null,null,0,0,0,null,null,null,null,103,60,null,"",null,null,1,null,-950997571,2,1,-2,0,0,0,0,0,0,0,null,0,3,0,"",0,1,0,null,null,0,0,0,null,"","",null,null,null,null,null,null,"","Пр/812-027.0-1","Пр/774-027.0","Линии электропередачи","Линии электропередачи",null,0,null,null,null,null,null,null,null,null,null,null,null,null,null,null,null,null,null,0]
[18,1,203,null,"6,6","22.2.01.04","Изоляторы штыревые","ШТ",{"$f":"I114*J127","v":0},0,0,0,0,0,0,0,0,0,0,0,0,0,0,0,0,null,85316656,0,0,0,0,0,0,0,0,0,0,0,0,0,0,0,0,0,0,103,60,1,1,null,null,1,1,1,1,"","","","",3,1,"",null,null,33001,0,"",0,2,0,1,1,1,1,1,1,"",103,60,"",null,null,0,0,0,6,6,0,0,0,0,"",0,0,0,0,0,0,0,0,0,0,0,0,null,null,"","","","","","","","","","","",0,0,1,1,null,null,null,1013,"ШТ","ШТ",1,null,"","","","",null,83666879,2,"Общестроительные работы",27,"Линии электропередачи",1,33001,"Линии электропередачи","ФЕР-33",null,"",null,0,0,0,0,0,0,0,0,null,null,null,null,null,null,null,null,null,null,null,null,null,null,null,null,null,null,0,0,0,null,null,null,null,103,60,null,"",null,null,1,null,-950997571,2,1,-2,0,0,0,0,0,0,0,null,0,3,0,"",0,1,0,null,null,0,0,0,null,"","",null,null,null,null,null,null,"","Пр/812-027.0-1","Пр/774-027.0","Линии электропередачи","Линии электропередачи",null,0,null,null,null,null,null,null,null,null,null,null,null,null,null,null,null,null,null,0]
[18,1,185,null,"6,7","22.2.02.07","Детали крепления","кг",{"$f":"I113*J128","v":0},0,0,0,0,0,0,0,0,0,0,0,0,0,0,0,0,null,85316715,0,0,0,0,0,0,0,0,0,0,0,0,0,0,0,0,0,0,103,60,1,1,null,null,1,1,1,1,"","","","",3,1,"",null,null,33001,0,"",0,2,0,1,1,1,1,1,1,"",103,60,"",null,null,0,0,0,6,7,0,0,0,0,"",0,0,0,0,0,0,0,0,0,0,0,0,null,null,"","","","","","","","","","","",0,0,1,1,null,null,null,1009,"кг","кг",1,null,"","","","",null,83666879,2,"Общестроительные работы",27,"Линии электропередачи",1,33001,"Линии электропередачи","ФЕР-33",null,"",null,0,0,0,0,0,0,0,0,null,null,null,null,null,null,null,null,null,null,null,null,null,null,null,null,null,null,0,0,0,null,null,null,null,103,60,null,"",null,null,1,null,-1204247626,2,1,-2,0,0,0,0,0,0,0,null,0,3,0,"",0,1,0,null,null,0,0,0,null,"","",null,null,null,null,null,null,"","Пр/812-027.0-1","Пр/774-027.0","Линии электропередачи","Линии электропередачи",null,0,null,null,null,null,null,null,null,null,null,null,null,null,null,null,null,null,null,0]
[18,1,204,null,"6,7","22.2.02.07","Детали крепления","кг",{"$f":"I114*J129","v":0},0,0,0,0,0,0,0,0,0,0,0,0,0,0,0,0,null,85316656,0,0,0,0,0,0,0,0,0,0,0,0,0,0,0,0,0,0,103,60,1,1,null,null,1,1,1,1,"","","","",3,1,"",null,null,33001,0,"",0,2,0,1,1,1,1,1,1,"",103,60,"",null,null,0,0,0,6,7,0,0,0,0,"",0,0,0,0,0,0,0,0,0,0,0,0,null,null,"","","","","","","","","","","",0,0,1,1,null,null,null,1009,"кг","кг",1,null,"","","","",null,83666879,2,"Общестроительные работы",27,"Линии электропередачи",1,33001,"Линии электропередачи","ФЕР-33",null,"",null,0,0,0,0,0,0,0,0,null,null,null,null,null,null,null,null,null,null,null,null,null,null,null,null,null,null,0,0,0,null,null,null,null,103,60,null,"",null,null,1,null,-1204247626,2,1,-2,0,0,0,0,0,0,0,null,0,3,0,"",0,1,0,null,null,0,0,0,null,"","",null,null,null,null,null,null,"","Пр/812-027.0-1","Пр/774-027.0","Линии электропередачи","Линии электропередачи",null,0,null,null,null,null,null,null,null,null,null,null,null,null,null,null,null,null,null,0]
[18,1,186,null,"6,8","22.2.02.21","Штыри","ШТ",{"$f":"I113*J130","v":0},0,0,0,0,0,0,0,0,0,0,0,0,0,0,0,0,null,85316715,0,0,0,0,0,0,0,0,0,0,0,0,0,0,0,0,0,0,103,60,1,1,null,null,1,1,1,1,"","","","",3,1,"",null,null,33001,0,"",0,2,0,1,1,1,1,1,1,"",103,60,"",null,null,0,0,0,6,8,0,0,0,0,"",0,0,0,0,0,0,0,0,0,0,0,0,null,null,"","","","","","","","","","","",0,0,1,1,null,null,null,1013,"ШТ","ШТ",1,null,"","","","",null,83666879,2,"Общестроительные работы",27,"Линии электропередачи",1,33001,"Линии электропередачи","ФЕР-33",null,"",null,0,0,0,0,0,0,0,0,null,null,null,null,null,null,null,null,null,null,null,null,null,null,null,null,null,null,0,0,0,null,null,null,null,103,60,null,"",null,null,1,null,-320198552,2,1,-2,0,0,0,0,0,0,0,null,0,3,0,"",0,1,0,null,null,0,0,0,null,"","",null,null,null,null,null,null,"","Пр/812-027.0-1","Пр/774-027.0","Линии электропередачи","Линии электропередачи",null,0,null,null,null,null,null,null,null,null,null,null,null,null,null,null,null,null,null,0]
[18,1,205,null,"6,8","22.2.02.21","Штыри","ШТ",{"$f":"I114*J131","v":0},0,0,0,0,0,0,0,0,0,0,0,0,0,0,0,0,null,85316656,0,0,0,0,0,0,0,0,0,0,0,0,0,0,0,0,0,0,103,60,1,1,null,null,1,1,1,1,"","","","",3,1,"",null,null,33001,0,"",0,2,0,1,1,1,1,1,1,"",103,60,"",null,null,0,0,0,6,8,0,0,0,0,"",0,0,0,0,0,0,0,0,0,0,0,0,null,null,"","","","","","","","","","","",0,0,1,1,null,null,null,1013,"ШТ","ШТ",1,null,"","","","",null,83666879,2,"Общестроительные работы",27,"Линии электропередачи",1,33001,"Линии электропередачи","ФЕР-33",null,"",null,0,0,0,0,0,0,0,0,null,null,null,null,null,null,null,null,null,null,null,null,null,null,null,null,null,null,0,0,0,null,null,null,null,103,60,null,"",null,null,1,null,-320198552,2,1,-2,0,0,0,0,0,0,0,null,0,3,0,"",0,1,0,null,null,0,0,0,null,"","",null,null,null,null,null,null,"","Пр/812-027.0-1","Пр/774-027.0","Линии электропередачи","Линии электропередачи",null,0,null,null,null,null,null,null,null,null,null,null,null,null,null,null,null,null,null,0]
[18,1,187,null,"6,9","22.2.02.23","Металлические плакаты","ШТ",{"$f":"I113*J132","v":0},0,0,0,0,0,0,0,0,0,0,0,0,0,0,0,0,null,85316715,0,0,0,0,0,0,0,0,0,0,0,0,0,0,0,0,0,0,103,60,1,1,null,null,1,1,1,1,"","","","",3,1,"",null,null,33001,0,"",0,2,0,1,1,1,1,1,1,"",103,60,"",null,null,0,0,0,6,9,0,0,0,0,"",0,0,0,0,0,0,0,0,0,0,0,0,null,null,"","","","","","","","","","","",0,0,1,1,null,null,null,1013,"ШТ","ШТ",1,null,"","","","",null,83666879,2,"Общестроительные работы",27,"Линии электропередачи",1,33001,"Линии электропередачи","ФЕР-33",null,"",null,0,0,0,0,0,0,0,0,null,null,null,null,null,null,null,null,null,null,null,null,null,null,null,null,null,null,0,0,0,null,null,null,null,103,60,null,"",null,null,1,null,326010188,2,1,-2,0,0,0,0,0,0,0,null,0,3,0,"",0,1,0,null,null,0,0,0,null,"","",null,null,null,null,null,null,"","Пр/812-027.0-1","Пр/774-027.0","Линии электропередачи","Линии электропередачи",null,0,null,null,null,null,null,null,null,null,null,null,null,null,null,null,null,null,null,0]
[18,1,206,null,"6,9","22.2.02.23","Металлические плакаты","ШТ",{"$f":"I114*J133","v":0},0,0,0,0,0,0,0,0,0,0,0,0,0,0,0,0,null,85316656,0,0,0,0,0,0,0,0,0,0,0,0,0,0,0,0,0,0,103,60,1,1,null,null,1,1,1,1,"","","","",3,1,"",null,null,33001,0,"",0,2,0,1,1,1,1,1,1,"",103,60,"",null,null,0,0,0,6,9,0,0,0,0,"",0,0,0,0,0,0,0,0,0,0,0,0,null,null,"","","","","","","","","","","",0,0,1,1,null,null,null,1013,"ШТ","ШТ",1,null,"","","","",null,83666879,2,"Общестроительные работы",27,"Линии электропередачи",1,33001,"Линии электропередачи","ФЕР-33",null,"",null,0,0,0,0,0,0,0,0,null,null,null,null,null,null,null,null,null,null,null,null,null,null,null,null,null,null,0,0,0,null,null,null,null,103,60,null,"",null,null,1,null,326010188,2,1,-2,0,0,0,0,0,0,0,null,0,3,0,"",0,1,0,null,null,0,0,0,null,"","",null,null,null,null,null,null,"","Пр/812-027.0-1","Пр/774-027.0","Линии электропередачи","Линии электропередачи",null,0,null,null,null,null,null,null,null,null,null,null,null,null,null,null,null,null,null,0]
[17,1,{"$f":"ROW(SmtRes!A224)","v":224},{"$f":"ROW(EtalonRes!A224)","v":224},"","33-04-003-04","Установка железобетонных опор для совместной подвески проводов ВЛ 0,38; 6-10 кВ без приставок: одностоечных (Подкос)","ШТ",0,0,0,1,1,0,0,{"$f":"SUMIF(SmtRes!AQ207:'SmtRes'!AQ224,\"=1\",SmtRes!DF207:'SmtRes'!DF224)","v":0},{"$f":"SUMIF(SmtRes!AQ207:'SmtRes'!AQ224,\"=1\",SmtRes!DG207:'SmtRes'!DG224)","v":0},{"$f":"SUMIF(SmtRes!AQ207:'SmtRes'!AQ224,\"=1\",SmtRes!DH207:'SmtRes'!DH224)","v":0},{"$f":"SUMIF(SmtRes!AQ207:'SmtRes'!AQ224,\"=1\",SmtRes!DI207:'SmtRes'!DI224)","v":0},0,{"$f":"SUMIF(SmtRes!AQ207:'SmtRes'!AQ224,\"=1\",SmtRes!CV207:'SmtRes'!CV224)","v":0},{"$f":"SUMIF(SmtRes!AQ207:'SmtRes'!AQ224,\"=1\",SmtRes!CW207:'SmtRes'!CW224)","v":0},0,0,0,null,-1,5096.3500000000004,{"$f":"ROUND((SUM(SmtRes!BQ207:'SmtRes'!BQ224)),2)","v":29.42},{"$f":"ROUND((((SUM(SmtRes!BR207:'SmtRes'!BR224))-(SUM(SmtRes!BS207:'SmtRes'!BS224)))+AE134),2)","v":1662.71},{"$f":"ROUND((SUM(SmtRes!BS207:'SmtRes'!BS224)),2)","v":889.7},{"$f":"ROUND((SUM(SmtRes!BT207:'SmtRes'!BT224)),2)","v":3404.22},0,{"$f":"(SUM(SmtRes!BU207:'SmtRes'!BU224))","v":4.55},{"$f":"(SUM(SmtRes!BV207:'SmtRes'!BV224))","v":0.99},0,5986.0405979999996,29.423198000000003,1662.7026999999998,889.69569999999999,3404.2189999999996,0,4.55,0.99,0,103,60,1,1,null,null,1,1,1,1,"","","","",0,1,"ГЭСН-2022 доп.17, 33-04-003-04, приказ Минстроя России от 17.02.2026 г. № 91/пр",null,null,33001,0,"",0,2,0,1,1,1,1,1,1,"",103,60,"",null,null,0,0,0,0,0,0,0,0,0,"",0,0,{"$f":"SUMIF(SmtRes!AQ207:'SmtRes'!AQ224,\"=1\",SmtRes!AA207:'SmtRes'!AA224)","v":105143.62000000001},{"$f":"SUMIF(SmtRes!AQ207:'SmtRes'!AQ224,\"=1\",SmtRes!AB207:'SmtRes'!AB224)","v":3377.99},{"$f":"SUMIF(SmtRes!AQ207:'SmtRes'!AQ224,\"=1\",SmtRes!AC207:'SmtRes'!AC224)","v":1744.74},{"$f":"SUMIF(SmtRes!AQ207:'SmtRes'!AQ224,\"=1\",SmtRes!AD207:'SmtRes'!AD224)","v":748.18},{"$f":"AG134","v":0},{"$f":"SUMIF(SmtRes!AQ207:'SmtRes'!AQ224,\"=1\",SmtRes!BU207:'SmtRes'!BU224)","v":4.55},{"$f":"SUMIF(SmtRes!AQ207:'SmtRes'!AQ224,\"=1\",SmtRes!BV207:'SmtRes'!BV224)","v":0.99},{"$f":"AJ134","v":0},0,0,null,null,"","","","","","","","","","","",0,0,1,1,null,null,null,1013,"ШТ","ШТ",1,null,"","","","",null,83666879,2,"Общестроительные работы",27,"Линии электропередачи",1,33001,"Линии электропередачи","ФЕР-33",null,"",null,132096,0,0,0,0,0,4.55,0.99,0,null,null,null,null,null,null,null,null,null,null,null,null,null,null,null,null,null,0,0,0,null,null,null,null,103,60,null,"",null,null,1,null,-1295720092,2,1,-2,0,0,0,0,0,0,0,null,0,3,0,"",0,1,0,null,null,0,0,0,null,"","",null,null,null,null,null,null,"","Пр/812-027.0-1","Пр/774-027.0","Линии электропередачи","Линии электропередачи",null,0,null,null,null,null,null,null,null,null,null,null,null,null,null,null,null,null,null,0]
[17,1,{"$f":"ROW(SmtRes!A242)","v":242},{"$f":"ROW(EtalonRes!A242)","v":242},"","33-04-003-04","Установка железобетонных опор для совместной подвески проводов ВЛ 0,38; 6-10 кВ без приставок: одностоечных (Подкос)","ШТ",0,0,0,1,1,0,0,{"$f":"SUMIF(SmtRes!AQ225:'SmtRes'!AQ242,\"=1\",SmtRes!DF225:'SmtRes'!DF242)","v":0},{"$f":"SUMIF(SmtRes!AQ225:'SmtRes'!AQ242,\"=1\",SmtRes!DG225:'SmtRes'!DG242)","v":0},{"$f":"SUMIF(SmtRes!AQ225:'SmtRes'!AQ242,\"=1\",SmtRes!DH225:'SmtRes'!DH242)","v":0},{"$f":"SUMIF(SmtRes!AQ225:'SmtRes'!AQ242,\"=1\",SmtRes!DI225:'SmtRes'!DI242)","v":0},0,{"$f":"SUMIF(SmtRes!AQ225:'SmtRes'!AQ242,\"=1\",SmtRes!CV225:'SmtRes'!CV242)","v":0},{"$f":"SUMIF(SmtRes!AQ225:'SmtRes'!AQ242,\"=1\",SmtRes!CW225:'SmtRes'!CW242)","v":0},0,0,0,null,-1,5096.3500000000004,{"$f":"ROUND((SUM(SmtRes!BQ225:'SmtRes'!BQ242)),2)","v":29.42},{"$f":"ROUND((((SUM(SmtRes!BR225:'SmtRes'!BR242))-(SUM(SmtRes!BS225:'SmtRes'!BS242)))+AE135),2)","v":1662.71},{"$f":"ROUND((SUM(SmtRes!BS225:'SmtRes'!BS242)),2)","v":889.7},{"$f":"ROUND((SUM(SmtRes!BT225:'SmtRes'!BT242)),2)","v":3404.22},0,{"$f":"(SUM(SmtRes!BU225:'SmtRes'!BU242))","v":4.55},{"$f":"(SUM(SmtRes!BV225:'SmtRes'!BV242))","v":0.99},0,5986.0405979999996,29.423198000000003,1662.7026999999998,889.69569999999999,3404.2189999999996,0,4.55,0.99,0,103,60,1,1,null,null,1,1,1,1,"","","","",0,1,"ГЭСН-2022 доп.17, 33-04-003-04, приказ Минстроя России от 17.02.2026 г. № 91/пр",null,null,33001,0,"",0,2,0,1,1,1,1,1,1,"",103,60,"",null,null,0,0,0,0,0,0,0,0,0,"",0,0,{"$f":"SUMIF(SmtRes!AQ225:'SmtRes'!AQ242,\"=1\",SmtRes!AA225:'SmtRes'!AA242)","v":105143.62000000001},{"$f":"SUMIF(SmtRes!AQ225:'SmtRes'!AQ242,\"=1\",SmtRes!AB225:'SmtRes'!AB242)","v":3377.99},{"$f":"SUMIF(SmtRes!AQ225:'SmtRes'!AQ242,\"=1\",SmtRes!AC225:'SmtRes'!AC242)","v":1744.74},{"$f":"SUMIF(SmtRes!AQ225:'SmtRes'!AQ242,\"=1\",SmtRes!AD225:'SmtRes'!AD242)","v":748.18},{"$f":"AG135","v":0},{"$f":"SUMIF(SmtRes!AQ225:'SmtRes'!AQ242,\"=1\",SmtRes!BU225:'SmtRes'!BU242)","v":4.55},{"$f":"SUMIF(SmtRes!AQ225:'SmtRes'!AQ242,\"=1\",SmtRes!BV225:'SmtRes'!BV242)","v":0.99},{"$f":"AJ135","v":0},0,0,null,null,"","","","","","","","","","","",0,0,1,1,null,null,null,1013,"ШТ","ШТ",1,null,"","","","",null,83666879,2,"Общестроительные работы",27,"Линии электропередачи",1,33001,"Линии электропередачи","ФЕР-33",null,"",null,132096,0,0,0,0,0,4.55,0.99,0,null,null,null,null,null,null,null,null,null,null,null,null,null,null,null,null,null,0,0,0,null,null,null,null,103,60,null,"",null,null,1,null,-1295720092,2,1,-2,0,0,0,0,0,0,0,null,0,3,0,"",0,1,0,null,null,0,0,0,null,"","",null,null,null,null,null,null,"","Пр/812-027.0-1","Пр/774-027.0","Линии электропередачи","Линии электропередачи",null,0,null,null,null,null,null,null,null,null,null,null,null,null,null,null,null,null,null,0]
[19,1,null,null,null,"","По ВОР \"Переоборудование жб опор без приставок одностоечных с одним подкосом в жб опоры без приставок одностоечных с двумя подкосами\" / По ВОР \"Переоборудование жб опор без приставок одностоечных с одним подкосом в одностоечных с двумя подкосами двухцепные\" / По ВОР \"Переоборудование жб опор без приставок одностоечных в жб опоры без приставок одностоечные с одним подкосом\"","",null,null,null,null,null,null,null,null,null,null,null,null,null,null,null,null,null,null,1,null,null,null,null,null,null,null,null,null,null,null,null,null,null,null,null,null,null,null,null,null,null,null,null,null,null,null,null,null,null,null,null,null,null,null,null,null,null,null,null,null,null,null,null,null,null,null,null,null,null,null,null,null,null,null,null,null,null,null,null,null,null,null,null,null,null,null,null,null,null,null,null,null,null,null,null,null,null,null,null,null,null,null,null,null,null,null,null,null,null,null,null,null,null,null,null,null,null,null,null,null,null,null,null,null,null,null,null,null,null,null,null,null,null,null,null,null,null,null,null,null,null,null,null,null,null,null,null,null,null,null,null,null,null,null,null,null,null,null,null,null,null,null,null,null,null,null,null,null,null,null,null,null,null,null,null,null,null,null,null,null,null,null,null,null,null,null,null,null,null,null,null,null,null,null,null,null,null,null,null,null,null,null,null,null,null,null,null,null,null,null,null,null,null,null,null,null,null,null,null,null,null,null,null,null,null,null,null,null,null,null,null,null,null,null,null,null,0]
[18,1,213,null,"","01.7.15.03-0042","Болты с гайками и шайбами строительные","кг",{"$f":"I134*J137","v":0},0,0,0,0,{"$f":"ROUND(L137-M137,4)","v":0},{"$f":"ROUND(CP137,2)","v":0},{"$f":"ROUND(CQ137*I137,2)","v":0},{"$f":"ROUND(CR137*I137,2)","v":0},{"$f":"ROUND(CS137*I137,2)","v":0},{"$f":"ROUND(CT137*I137,2)","v":0},{"$f":"ROUND(CU137*I137,2)","v":0},{"$f":"ROUND(CV137*I137,7)","v":0},{"$f":"ROUND(CW137*I137,7)","v":0},{"$f":"ROUND(CX137*I137,2)","v":0},{"$f":"ROUND(CY137,2)","v":0},{"$f":"ROUND(CZ137,2)","v":0},null,-1,{"$f":"ROUND((AC137+AD137+AF137),2)","v":174.93},{"$f":"ROUND((ES137),2)","v":174.93},{"$f":"ROUND((((ET137)-(EU137))+AE137),2)","v":0},{"$f":"ROUND((EU137),2)","v":0},{"$f":"ROUND((EV137),2)","v":0},{"$f":"ROUND((AP137),2)","v":0},{"$f":"(EW137)","v":0},{"$f":"(EX137)","v":0},{"$f":"(AS137)","v":0},174.93,174.93,0,0,0,0,0,0,0,103,60,1,1,null,null,1,1,1,1.08,"","","","",3,1,"ФСБЦ-2022, 01.7.15.03-0042, приказ Минстроя России от 18.05.2022 г. № 378/пр",null,null,33001,0,"01.7.15.03-0042",1,2,0,1,1,1,1,1,1,"",103,60,"",null,null,0,0,0,0,0,0,0,0,0,"",0,{"$f":"(P137+Q137+S137+R137)","v":0},{"$f":"ROUND(AL137*BC137,2)","v":188.92},{"$f":"ROUND(AM137*BB137,2)","v":0},{"$f":"ROUND(AN137*BS137,2)","v":0},{"$f":"ROUND(AO137*BA137,2)","v":0},{"$f":"AG137","v":0},{"$f":"AH137","v":0},{"$f":"AI137","v":0},{"$f":"AJ137","v":0},{"$f":"(((S137+R137)*AT137)/100)","v":0},{"$f":"(((S137+R137)*AU137)/100)","v":0},null,null,"","","","","","","","","","","",0,0,1,1,null,null,null,1009,"кг","кг",1,null,"","","","",null,83666879,2,"Общестроительные работы",27,"Линии электропередачи",1,33001,"Линии электропередачи","ФЕР-33",null,"",null,1024,174.93,174.93,0,0,0,0,0,null,null,null,null,null,null,null,null,null,null,null,null,null,null,null,null,null,null,0,0,0,null,null,null,null,103,60,null,"",null,null,1,null,-1131385474,2,1,2,0,0,{"$f":"ROUND(IF(AND(BH137=3,BI137=3,FS137<>0),P137,0),2)","v":0},{"$f":"ROUND(O137+X137+Y137,2)+GX137","v":0},{"$f":"IF(OR(BI137=0,BI137=1),GM137-GX137,0)","v":0},{"$f":"IF(BI137=2,GM137-GX137,0)","v":0},{"$f":"IF(BI137=4,GM137-GX137,0)","v":0},null,0,3,0,"",{"$f":"ROUND((GT137),2)","v":0},1,{"$f":"ROUND(HC137*I137,2)","v":0},null,null,0,0,{"$f":"GV137*GW137","v":0},null,"","",null,null,null,null,null,null,"","Пр/812-027.0-1","Пр/774-027.0","Линии электропередачи","Линии электропередачи",null,0,null,null,null,null,null,null,null,null,null,null,null,null,null,null,null,null,null,0]
[18,1,231,null,"","01.7.15.03-0042","Болты с гайками и шайбами строительные","кг",{"$f":"I135*J138","v":0},0,0,0,0,0,0,0,0,0,0,0,0,0,0,0,0,null,-1,174.93,174.93,0,0,0,0,0,0,0,174.93,174.93,0,0,0,0,0,0,0,103,60,1,1,null,null,1,1,1,1.08,"","","","",3,1,"ФСБЦ-2022, 01.7.15.03-0042, приказ Минстроя России от 18.05.2022 г. № 378/пр",null,null,33001,0,"01.7.15.03-0042",1,2,0,1,1,1,1,1,1,"",103,60,"",null,null,0,0,0,0,0,0,0,0,0,"",0,0,188.92,0,0,0,0,0,0,0,0,0,null,null,"","","","","","","","","","","",0,0,1,1,null,null,null,1009,"кг","кг",1,null,"","","","",null,83666879,2,"Общестроительные работы",27,"Линии электропередачи",1,33001,"Линии электропередачи","ФЕР-33",null,"",null,1024,174.93,174.93,0,0,0,0,0,null,null,null,null,null,null,null,null,null,null,null,null,null,null,null,null,null,null,0,0,0,null,null,null,null,103,60,null,"",null,null,1,null,-1131385474,2,1,2,0,0,0,0,0,0,0,null,0,3,0,"",0,1,0,null,null,0,0,0,null,"","",null,null,null,null,null,null,"","Пр/812-027.0-1","Пр/774-027.0","Линии электропередачи","Линии электропередачи",null,0,null,null,null,null,null,null,null,null,null,null,null,null,null,null,null,null,null,0]
[18,1,215,null,"","05.1.02.07","Стойка железобетонная вибрированная для опор","ШТ",{"$f":"I134*J139","v":0},0,0,0,0,0,0,0,0,0,0,0,0,0,0,0,0,null,-1,0,0,0,0,0,0,0,0,0,0,0,0,0,0,0,0,0,0,103,60,1,1,null,null,1,1,1,1,"","","","",3,1,"",null,null,33001,0,"",0,2,0,1,1,1,1,1,1,"",103,60,"",null,null,0,0,0,0,0,0,0,0,0,"",0,0,0,0,0,0,0,0,0,0,0,0,null,null,"","","","","","","","","","","",0,0,1,1,null,null,null,1013,"ШТ","ШТ",1,null,"","","","",null,83666879,2,"Общестроительные работы",27,"Линии электропередачи",1,33001,"Линии электропередачи","ФЕР-33",null,"",null,1024,0,0,0,0,0,0,0,null,null,null,null,null,null,null,null,null,null,null,null,null,null,null,null,null,null,0,0,0,null,null,null,null,103,60,null,"",null,null,1,null,457934895,2,1,-2,0,0,0,0,0,0,0,null,0,3,0,"",0,1,0,null,null,0,0,0,null,"","",null,null,null,null,null,null,"","Пр/812-027.0-1","Пр/774-027.0","Линии электропередачи","Линии электропередачи",null,0,null,null,null,null,null,null,null,null,null,null,null,null,null,null,null,null,null,0]
[18,1,233,null,"","05.1.02.07","Стойка железобетонная вибрированная для опор","ШТ",{"$f":"I135*J140","v":0},0,0,0,0,0,0,0,0,0,0,0,0,0,0,0,0,null,-1,0,0,0,0,0,0,0,0,0,0,0,0,0,0,0,0,0,0,103,60,1,1,null,null,1,1,1,1,"","","","",3,1,"",null,null,33001,0,"",0,2,0,1,1,1,1,1,1,"",103,60,"",null,null,0,0,0,0,0,0,0,0,0,"",0,0,0,0,0,0,0,0,0,0,0,0,null,null,"","","","","","","","","","","",0,0,1,1,null,null,null,1013,"ШТ","ШТ",1,null,"","","","",null,83666879,2,"Общестроительные работы",27,"Линии электропередачи",1,33001,"Линии электропередачи","ФЕР-33",null,"",null,1024,0,0,0,0,0,0,0,null,null,null,null,null,null,null,null,null,null,null,null,null,null,null,null,null,null,0,0,0,null,null,null,null,103,60,null,"",null,null,1,null,457934895,2,1,-2,0,0,0,0,0,0,0,null,0,3,0,"",0,1,0,null,null,0,0,0,null,"","",null,null,null,null,null,null,"","Пр/812-027.0-1","Пр/774-027.0","Линии электропередачи","Линии электропередачи",null,0,null,null,null,null,null,null,null,null,null,null,null,null,null,null,null,null,null,0]
[18,1,216,null,"","07.2.02.05","Траверсы стальные","т",{"$f":"I134*J141","v":0},0,0,0,0,0,0,0,0,0,0,0,0,0,0,0,0,null,-1,0,0,0,0,0,0,0,0,0,0,0,0,0,0,0,0,0,0,103,60,1,1,null,null,1,1,1,1,"","","","",3,1,"",null,null,33001,0,"",0,2,0,1,1,1,1,1,1,"",103,60,"",null,null,0,0,0,0,0,0,0,0,0,"",0,0,0,0,0,0,0,0,0,0,0,0,null,null,"","","","","","","","","","","",0,0,1,1,null,null,null,1009,"т","т",1000,null,"","","","",null,83666879,2,"Общестроительные работы",27,"Линии электропередачи",1,33001,"Линии электропередачи","ФЕР-33",null,"",null,1024,0,0,0,0,0,0,0,null,null,null,null,null,null,null,null,null,null,null,null,null,null,null,null,null,null,0,0,0,null,null,null,null,103,60,null,"",null,null,1,null,1602794472,2,1,-2,0,0,0,0,0,0,0,null,0,3,0,"",0,1,0,null,null,0,0,0,null,"","",null,null,null,null,null,null,"","Пр/812-027.0-1","Пр/774-027.0","Линии электропередачи","Линии электропередачи",null,0,null,null,null,null,null,null,null,null,null,null,null,null,null,null,null,null,null,0]
[18,1,234,null,"","07.2.02.05","Траверсы стальные","т",{"$f":"I135*J142","v":0},0,0,0,0,0,0,0,0,0,0,0,0,0,0,0,0,null,-1,0,0,0,0,0,0,0,0,0,0,0,0,0,0,0,0,0,0,103,60,1,1,null,null,1,1,1,1,"","","","",3,1,"",null,null,33001,0,"",0,2,0,1,1,1,1,1,1,"",103,60,"",null,null,0,0,0,0,0,0,0,0,0,"",0,0,0,0,0,0,0,0,0,0,0,0,null,null,"","","","","","","","","","","",0,0,1,1,null,null,null,1009,"т","т",1000,null,"","","","",null,83666879,2,"Общестроительные работы",27,"Линии электропередачи",1,33001,"Линии электропередачи","ФЕР-33",null,"",null,1024,0,0,0,0,0,0,0,null,null,null,null,null,null,null,null,null,null,null,null,null,null,null,null,null,null,0,0,0,null,null,null,null,103,60,null,"",null,null,1,null,1602794472,2,1,-2,0,0,0,0,0,0,0,null,0,3,0,"",0,1,0,null,null,0,0,0,null,"","",null,null,null,null,null,null,"","Пр/812-027.0-1","Пр/774-027.0","Линии электропередачи","Линии электропередачи",null,0,null,null,null,null,null,null,null,null,null,null,null,null,null,null,null,null,null,0]
[18,1,217,null,"","07.2.07.13","Хомуты стальные","кг",{"$f":"I134*J143","v":0},0,0,0,0,0,0,0,0,0,0,0,0,0,0,0,0,null,-1,0,0,0,0,0,0,0,0,0,0,0,0,0,0,0,0,0,0,103,60,1,1,null,null,1,1,1,1,"","","","",3,1,"",null,null,33001,0,"",0,2,0,1,1,1,1,1,1,"",103,60,"",null,null,0,0,0,0,0,0,0,0,0,"",0,0,0,0,0,0,0,0,0,0,0,0,null,null,"","","","","","","","","","","",0,0,1,1,null,null,null,1009,"кг","кг",1,null,"","","","",null,83666879,2,"Общестроительные работы",27,"Линии электропередачи",1,33001,"Линии электропередачи","ФЕР-33",null,"",null,1024,0,0,0,0,0,0,0,null,null,null,null,null,null,null,null,null,null,null,null,null,null,null,null,null,null,0,0,0,null,null,null,null,103,60,null,"",null,null,1,null,-1111733769,2,1,-2,0,0,0,0,0,0,0,null,0,3,0,"",0,1,0,null,null,0,0,0,null,"","",null,null,null,null,null,null,"","Пр/812-027.0-1","Пр/774-027.0","Линии электропередачи","Линии электропередачи",null,0,null,null,null,null,null,null,null,null,null,null,null,null,null,null,null,null,null,0]
[18,1,235,null,"","07.2.07.13","Хомуты стальные","кг",{"$f":"I135*J144","v":0},0,0,0,0,0,0,0,0,0,0,0,0,0,0,0,0,null,-1,0,0,0,0,0,0,0,0,0,0,0,0,0,0,0,0,0,0,103,60,1,1,null,null,1,1,1,1,"","","","",3,1,"",null,null,33001,0,"",0,2,0,1,1,1,1,1,1,"",103,60,"",null,null,0,0,0,0,0,0,0,0,0,"",0,0,0,0,0,0,0,0,0,0,0,0,null,null,"","","","","","","","","","","",0,0,1,1,null,null,null,1009,"кг","кг",1,null,"","","","",null,83666879,2,"Общестроительные работы",27,"Линии электропередачи",1,33001,"Линии электропередачи","ФЕР-33",null,"",null,1024,0,0,0,0,0,0,0,null,null,null,null,null,null,null,null,null,null,null,null,null,null,null,null,null,null,0,0,0,null,null,null,null,103,60,null,"",null,null,1,null,-1111733769,2,1,-2,0,0,0,0,0,0,0,null,0,3,0,"",0,1,0,null,null,0,0,0,null,"","",null,null,null,null,null,null,"","Пр/812-027.0-1","Пр/774-027.0","Линии электропередачи","Линии электропередачи",null,0,null,null,null,null,null,null,null,null,null,null,null,null,null,null,null,null,null,0]
[18,1,218,null,"","08.3.04.02","Сталь стержневая диаметром до 10 мм","т",{"$f":"I134*J145","v":0},0,0,0,0,0,0,0,0,0,0,0,0,0,0,0,0,null,-1,0,0,0,0,0,0,0,0,0,0,0,0,0,0,0,0,0,0,103,60,1,1,null,null,1,1,1,1,"","","","",3,1,"",null,null,33001,0,"",0,2,0,1,1,1,1,1,1,"",103,60,"",null,null,0,0,0,0,0,0,0,0,0,"",0,0,0,0,0,0,0,0,0,0,0,0,null,null,"","","","","","","","","","","",0,0,1,1,null,null,null,1009,"т","т",1000,null,"","","","",null,83666879,2,"Общестроительные работы",27,"Линии электропередачи",1,33001,"Линии электропередачи","ФЕР-33",null,"",null,1024,0,0,0,0,0,0,0,null,null,null,null,null,null,null,null,null,null,null,null,null,null,null,null,null,null,0,0,0,null,null,null,null,103,60,null,"",null,null,1,null,1613753229,2,1,-2,0,0,0,0,0,0,0,null,0,3,0,"",0,1,0,null,null,0,0,0,null,"","",null,null,null,null,null,null,"","Пр/812-027.0-1","Пр/774-027.0","Линии электропередачи","Линии электропередачи",null,0,null,null,null,null,null,null,null,null,null,null,null,null,null,null,null,null,null,0]
[18,1,236,null,"","08.3.04.02","Сталь стержневая диаметром до 10 мм","т",{"$f":"I135*J146","v":0},0,0,0,0,0,0,0,0,0,0,0,0,0,0,0,0,null,-1,0,0,0,0,0,0,0,0,0,0,0,0,0,0,0,0,0,0,103,60,1,1,null,null,1,1,1,1,"","","","",3,1,"",null,null,33001,0,"",0,2,0,1,1,1,1,1,1,"",103,60,"",null,null,0,0,0,0,0,0,0,0,0,"",0,0,0,0,0,0,0,0,0,0,0,0,null,null,"","","","","","","","","","","",0,0,1,1,null,null,null,1009,"т","т",1000,null,"","","","",null,83666879,2,"Общестроительные работы",27,"Линии электропередачи",1,33001,"Линии электропередачи","ФЕР-33",null,"",null,1024,0,0,0,0,0,0,0,null,null,null,null,null,null,null,null,null,null,null,null,null,null,null,null,null,null,0,0,0,null,null,null,null,103,60,null,"",null,null,1,null,1613753229,2,1,-2,0,0,0,0,0,0,0,null,0,3,0,"",0,1,0,null,null,0,0,0,null,"","",null,null,null,null,null,null,"","Пр/812-027.0-1","Пр/774-027.0","Линии электропередачи","Линии электропередачи",null,0,null,null,null,null,null,null,null,null,null,null,null,null,null,null,null,null,null,0]
[18,1,222,null,"","22.2.01.04","Изоляторы штыревые","ШТ",{"$f":"I134*J147","v":0},0,0,0,0,0,0,0,0,0,0,0,0,0,0,0,0,null,-1,0,0,0,0,0,0,0,0,0,0,0,0,0,0,0,0,0,0,103,60,1,1,null,null,1,1,1,1,"","","","",3,1,"",null,null,33001,0,"",0,2,0,1,1,1,1,1,1,"",103,60,"",null,null,0,0,0,0,0,0,0,0,0,"",0,0,0,0,0,0,0,0,0,0,0,0,null,null,"","","","","","","","","","","",0,0,1,1,null,null,null,1013,"ШТ","ШТ",1,null,"","","","",null,83666879,2,"Общестроительные работы",27,"Линии электропередачи",1,33001,"Линии электропередачи","ФЕР-33",null,"",null,1024,0,0,0,0,0,0,0,null,null,null,null,null,null,null,null,null,null,null,null,null,null,null,null,null,null,0,0,0,null,null,null,null,103,60,null,"",null,null,1,null,-950997571,2,1,-2,0,0,0,0,0,0,0,null,0,3,0,"",0,1,0,null,null,0,0,0,null,"","",null,null,null,null,null,null,"","Пр/812-027.0-1","Пр/774-027.0","Линии электропередачи","Линии электропередачи",null,0,null,null,null,null,null,null,null,null,null,null,null,null,null,null,null,null,null,0]
[18,1,240,null,"","22.2.01.04","Изоляторы штыревые","ШТ",{"$f":"I135*J148","v":0},0,0,0,0,0,0,0,0,0,0,0,0,0,0,0,0,null,-1,0,0,0,0,0,0,0,0,0,0,0,0,0,0,0,0,0,0,103,60,1,1,null,null,1,1,1,1,"","","","",3,1,"",null,null,33001,0,"",0,2,0,1,1,1,1,1,1,"",103,60,"",null,null,0,0,0,0,0,0,0,0,0,"",0,0,0,0,0,0,0,0,0,0,0,0,null,null,"","","","","","","","","","","",0,0,1,1,null,null,null,1013,"ШТ","ШТ",1,null,"","","","",null,83666879,2,"Общестроительные работы",27,"Линии электропередачи",1,33001,"Линии электропередачи","ФЕР-33",null,"",null,1024,0,0,0,0,0,0,0,null,null,null,null,null,null,null,null,null,null,null,null,null,null,null,null,null,null,0,0,0,null,null,null,null,103,60,null,"",null,null,1,null,-950997571,2,1,-2,0,0,0,0,0,0,0,null,0,3,0,"",0,1,0,null,null,0,0,0,null,"","",null,null,null,null,null,null,"","Пр/812-027.0-1","Пр/774-027.0","Линии электропередачи","Линии электропередачи",null,0,null,null,null,null,null,null,null,null,null,null,null,null,null,null,null,null,null,0]
[18,1,223,null,"","22.2.02.21","Штыри","ШТ",{"$f":"I134*J149","v":0},0,0,0,0,0,0,0,0,0,0,0,0,0,0,0,0,null,-1,0,0,0,0,0,0,0,0,0,0,0,0,0,0,0,0,0,0,103,60,1,1,null,null,1,1,1,1,"","","","",3,1,"",null,null,33001,0,"",0,2,0,1,1,1,1,1,1,"",103,60,"",null,null,0,0,0,0,0,0,0,0,0,"",0,0,0,0,0,0,0,0,0,0,0,0,null,null,"","","","","","","","","","","",0,0,1,1,null,null,null,1013,"ШТ","ШТ",1,null,"","","","",null,83666879,2,"Общестроительные работы",27,"Линии электропередачи",1,33001,"Линии электропередачи","ФЕР-33",null,"",null,1024,0,0,0,0,0,0,0,null,null,null,null,null,null,null,null,null,null,null,null,null,null,null,null,null,null,0,0,0,null,null,null,null,103,60,null,"",null,null,1,null,-320198552,2,1,-2,0,0,0,0,0,0,0,null,0,3,0,"",0,1,0,null,null,0,0,0,null,"","",null,null,null,null,null,null,"","Пр/812-027.0-1","Пр/774-027.0","Линии электропередачи","Линии электропередачи",null,0,null,null,null,null,null,null,null,null,null,null,null,null,null,null,null,null,null,0]
[18,1,241,null,"","22.2.02.21","Штыри","ШТ",{"$f":"I135*J150","v":0},0,0,0,0,0,0,0,0,0,0,0,0,0,0,0,0,null,-1,0,0,0,0,0,0,0,0,0,0,0,0,0,0,0,0,0,0,103,60,1,1,null,null,1,1,1,1,"","","","",3,1,"",null,null,33001,0,"",0,2,0,1,1,1,1,1,1,"",103,60,"",null,null,0,0,0,0,0,0,0,0,0,"",0,0,0,0,0,0,0,0,0,0,0,0,null,null,"","","","","","","","","","","",0,0,1,1,null,null,null,1013,"ШТ","ШТ",1,null,"","","","",null,83666879,2,"Общестроительные работы",27,"Линии электропередачи",1,33001,"Линии электропередачи","ФЕР-33",null,"",null,1024,0,0,0,0,0,0,0,null,null,null,null,null,null,null,null,null,null,null,null,null,null,null,null,null,null,0,0,0,null,null,null,null,103,60,null,"",null,null,1,null,-320198552,2,1,-2,0,0,0,0,0,0,0,null,0,3,0,"",0,1,0,null,null,0,0,0,null,"","",null,null,null,null,null,null,"","Пр/812-027.0-1","Пр/774-027.0","Линии электропередачи","Линии электропередачи",null,0,null,null,null,null,null,null,null,null,null,null,null,null,null,null,null,null,null,0]
[18,1,224,null,"","22.2.02.23","Металлические плакаты","ШТ",{"$f":"I134*J151","v":0},0,0,0,0,0,0,0,0,0,0,0,0,0,0,0,0,null,-1,0,0,0,0,0,0,0,0,0,0,0,0,0,0,0,0,0,0,103,60,1,1,null,null,1,1,1,1,"","","","",3,1,"",null,null,33001,0,"",0,2,0,1,1,1,1,1,1,"",103,60,"",null,null,0,0,0,0,0,0,0,0,0,"",0,0,0,0,0,0,0,0,0,0,0,0,null,null,"","","","","","","","","","","",0,0,1,1,null,null,null,1013,"ШТ","ШТ",1,null,"","","","",null,83666879,2,"Общестроительные работы",27,"Линии электропередачи",1,33001,"Линии электропередачи","ФЕР-33",null,"",null,1024,0,0,0,0,0,0,0,null,null,null,null,null,null,null,null,null,null,null,null,null,null,null,null,null,null,0,0,0,null,null,null,null,103,60,null,"",null,null,1,null,326010188,2,1,-2,0,0,0,0,0,0,0,null,0,3,0,"",0,1,0,null,null,0,0,0,null,"","",null,null,null,null,null,null,"","Пр/812-027.0-1","Пр/774-027.0","Линии электропередачи","Линии электропередачи",null,0,null,null,null,null,null,null,null,null,null,null,null,null,null,null,null,null,null,0]
[18,1,242,null,"","22.2.02.23","Металлические плакаты","ШТ",{"$f":"I135*J152","v":0},0,0,0,0,0,0,0,0,0,0,0,0,0,0,0,0,null,-1,0,0,0,0,0,0,0,0,0,0,0,0,0,0,0,0,0,0,103,60,1,1,null,null,1,1,1,1,"","","","",3,1,"",null,null,33001,0,"",0,2,0,1,1,1,1,1,1,"",103,60,"",null,null,0,0,0,0,0,0,0,0,0,"",0,0,0,0,0,0,0,0,0,0,0,0,null,null,"","","","","","","","","","","",0,0,1,1,null,null,null,1013,"ШТ","ШТ",1,null,"","","","",null,83666879,2,"Общестроительные работы",27,"Линии электропередачи",1,33001,"Линии электропередачи","ФЕР-33",null,"",null,1024,0,0,0,0,0,0,0,null,null,null,null,null,null,null,null,null,null,null,null,null,null,null,null,null,null,0,0,0,null,null,null,null,103,60,null,"",null,null,1,null,326010188,2,1,-2,0,0,0,0,0,0,0,null,0,3,0,"",0,1,0,null,null,0,0,0,null,"","",null,null,null,null,null,null,"","Пр/812-027.0-1","Пр/774-027.0","Линии электропередачи","Линии электропередачи",null,0,null,null,null,null,null,null,null,null,null,null,null,null,null,null,null,null,null,0]
[17,1,{"$f":"ROW(SmtRes!A246)","v":246},{"$f":"ROW(EtalonRes!A246)","v":246},"","м08-02-231-02","Прокладка труб гофрированных ПВХ в земле для защиты одного кабеля диаметром: 63 мм","100 м",0,0,0,0.04,0.04,0,0,{"$f":"SUMIF(SmtRes!AQ243:'SmtRes'!AQ246,\"=1\",SmtRes!DF243:'SmtRes'!DF246)","v":0},{"$f":"SUMIF(SmtRes!AQ243:'SmtRes'!AQ246,\"=1\",SmtRes!DG243:'SmtRes'!DG246)","v":0},{"$f":"SUMIF(SmtRes!AQ243:'SmtRes'!AQ246,\"=1\",SmtRes!DH243:'SmtRes'!DH246)","v":0},{"$f":"SUMIF(SmtRes!AQ243:'SmtRes'!AQ246,\"=1\",SmtRes!DI243:'SmtRes'!DI246)","v":0},0,{"$f":"SUMIF(SmtRes!AQ243:'SmtRes'!AQ246,\"=1\",SmtRes!CV243:'SmtRes'!CV246)","v":0},{"$f":"SUMIF(SmtRes!AQ243:'SmtRes'!AQ246,\"=1\",SmtRes!CW243:'SmtRes'!CW246)","v":0},0,0,0,null,-1,3162.49,{"$f":"ROUND((0),2)","v":0},{"$f":"ROUND((((SUM(SmtRes!BR243:'SmtRes'!BR246))-(SUM(SmtRes!BS243:'SmtRes'!BS246)))+AE153),2)","v":19.25},{"$f":"ROUND((SUM(SmtRes!BS243:'SmtRes'!BS246)),2)","v":24.35},{"$f":"ROUND((SUM(SmtRes!BT243:'SmtRes'!BT246)),2)","v":3143.24},0,{"$f":"(SUM(SmtRes!BU243:'SmtRes'!BU246))","v":4.84},{"$f":"(SUM(SmtRes!BV243:'SmtRes'!BV246))","v":0.03},0,3186.8458999999998,0,19.251000000000001,24.353699999999996,3143.2411999999995,0,4.84,0.03,0,97,51,1,1,null,null,1,1,1,1,"","","","",0,2,"ГЭСНм-2022, м08-02-231-02, приказ Минстроя России от 18.05.2022 г. № 378/пр",null,null,108001,0,"",0,3,0,1,1,1,1,1,1,"",97,51,"",null,null,0,0,0,0,0,0,0,0,0,"",0,0,{"$f":"SUMIF(SmtRes!AQ243:'SmtRes'!AQ246,\"=1\",SmtRes!AA243:'SmtRes'!AA246)","v":0},{"$f":"SUMIF(SmtRes!AQ243:'SmtRes'!AQ246,\"=1\",SmtRes!AB243:'SmtRes'!AB246)","v":641.70000000000005},{"$f":"SUMIF(SmtRes!AQ243:'SmtRes'!AQ246,\"=1\",SmtRes!AC243:'SmtRes'!AC246)","v":811.79},{"$f":"SUMIF(SmtRes!AQ243:'SmtRes'!AQ246,\"=1\",SmtRes!AD243:'SmtRes'!AD246)","v":649.42999999999995},{"$f":"AG153","v":0},{"$f":"SUMIF(SmtRes!AQ243:'SmtRes'!AQ246,\"=1\",SmtRes!BU243:'SmtRes'!BU246)","v":4.84},{"$f":"SUMIF(SmtRes!AQ243:'SmtRes'!AQ246,\"=1\",SmtRes!BV243:'SmtRes'!BV246)","v":0.03},{"$f":"AJ153","v":0},0,0,null,null,"","","","","","","","","","","",0,0,1,1,null,null,null,1003,"100 м","100 м",100,null,"","","","",null,83666702,3,"Монтажные работы",0,"",2,108001,"Электротехнические установки: на других объектах","мФЕР-08",null,"",null,132096,0,0,0,0,0,4.84,0.03,0,null,null,null,null,null,null,null,null,null,null,null,null,null,null,null,null,null,0,0,0,null,null,null,null,97,51,null,"",null,null,1,null,985020414,2,1,-2,0,0,0,0,0,0,0,null,0,0,0,"",0,1,0,null,null,0,0,0,null,"","",null,null,null,null,null,null,"","Пр/812-049.3-1","Пр/774-049.3","Электротехнические установки: на других объектах","Электротехнические установки: на других объектах",null,0,null,null,null,null,null,null,null,null,null,null,null,null,null,null,null,null,null,0]
[17,1,{"$f":"ROW(SmtRes!A250)","v":250},{"$f":"ROW(EtalonRes!A250)","v":250},"","м08-02-231-02","Прокладка труб гофрированных ПВХ в земле для защиты одного кабеля диаметром: 63 мм","100 м",0,0,0,0.04,0.04,0,0,{"$f":"SUMIF(SmtRes!AQ247:'SmtRes'!AQ250,\"=1\",SmtRes!DF247:'SmtRes'!DF250)","v":0},{"$f":"SUMIF(SmtRes!AQ247:'SmtRes'!AQ250,\"=1\",SmtRes!DG247:'SmtRes'!DG250)","v":0},{"$f":"SUMIF(SmtRes!AQ247:'SmtRes'!AQ250,\"=1\",SmtRes!DH247:'SmtRes'!DH250)","v":0},{"$f":"SUMIF(SmtRes!AQ247:'SmtRes'!AQ250,\"=1\",SmtRes!DI247:'SmtRes'!DI250)","v":0},0,{"$f":"SUMIF(SmtRes!AQ247:'SmtRes'!AQ250,\"=1\",SmtRes!CV247:'SmtRes'!CV250)","v":0},{"$f":"SUMIF(SmtRes!AQ247:'SmtRes'!AQ250,\"=1\",SmtRes!CW247:'SmtRes'!CW250)","v":0},0,0,0,null,-1,3162.49,{"$f":"ROUND((0),2)","v":0},{"$f":"ROUND((((SUM(SmtRes!BR247:'SmtRes'!BR250))-(SUM(SmtRes!BS247:'SmtRes'!BS250)))+AE154),2)","v":19.25},{"$f":"ROUND((SUM(SmtRes!BS247:'SmtRes'!BS250)),2)","v":24.35},{"$f":"ROUND((SUM(SmtRes!BT247:'SmtRes'!BT250)),2)","v":3143.24},0,{"$f":"(SUM(SmtRes!BU247:'SmtRes'!BU250))","v":4.84},{"$f":"(SUM(SmtRes!BV247:'SmtRes'!BV250))","v":0.03},0,3186.8458999999998,0,19.251000000000001,24.353699999999996,3143.2411999999995,0,4.84,0.03,0,97,51,1,1,null,null,1,1,1,1,"","","","",0,2,"ГЭСНм-2022, м08-02-231-02, приказ Минстроя России от 18.05.2022 г. № 378/пр",null,null,108001,0,"",0,3,0,1,1,1,1,1,1,"",97,51,"",null,null,0,0,0,0,0,0,0,0,0,"",0,0,{"$f":"SUMIF(SmtRes!AQ247:'SmtRes'!AQ250,\"=1\",SmtRes!AA247:'SmtRes'!AA250)","v":0},{"$f":"SUMIF(SmtRes!AQ247:'SmtRes'!AQ250,\"=1\",SmtRes!AB247:'SmtRes'!AB250)","v":641.70000000000005},{"$f":"SUMIF(SmtRes!AQ247:'SmtRes'!AQ250,\"=1\",SmtRes!AC247:'SmtRes'!AC250)","v":811.79},{"$f":"SUMIF(SmtRes!AQ247:'SmtRes'!AQ250,\"=1\",SmtRes!AD247:'SmtRes'!AD250)","v":649.42999999999995},{"$f":"AG154","v":0},{"$f":"SUMIF(SmtRes!AQ247:'SmtRes'!AQ250,\"=1\",SmtRes!BU247:'SmtRes'!BU250)","v":4.84},{"$f":"SUMIF(SmtRes!AQ247:'SmtRes'!AQ250,\"=1\",SmtRes!BV247:'SmtRes'!BV250)","v":0.03},{"$f":"AJ154","v":0},0,0,null,null,"","","","","","","","","","","",0,0,1,1,null,null,null,1003,"100 м","100 м",100,null,"","","","",null,83666702,3,"Монтажные работы",0,"",2,108001,"Электротехнические установки: на других объектах","мФЕР-08",null,"",null,132096,0,0,0,0,0,4.84,0.03,0,null,null,null,null,null,null,null,null,null,null,null,null,null,null,null,null,null,0,0,0,null,null,null,null,97,51,null,"",null,null,1,null,985020414,2,1,-2,0,0,0,0,0,0,0,null,0,0,0,"",0,1,0,null,null,0,0,0,null,"","",null,null,null,null,null,null,"","Пр/812-049.3-1","Пр/774-049.3","Электротехнические установки: на других объектах","Электротехнические установки: на других объектах",null,0,null,null,null,null,null,null,null,null,null,null,null,null,null,null,null,null,null,0]
[19,1,null,null,null,"","По ВОР \"Монтаж трубы ПВХ d63 на МТП\". Делается, когда с опоры ведем провод по ней для укладки кабеля (все 3 расценки ниже относятся к этим работам\"","",null,null,null,null,null,null,null,null,null,null,null,null,null,null,null,null,null,null,1,null,null,null,null,null,null,null,null,null,null,null,null,null,null,null,null,null,null,null,null,null,null,null,null,null,null,null,null,null,null,null,null,null,null,null,null,null,null,null,null,null,null,null,null,null,null,null,null,null,null,null,null,null,null,null,null,null,null,null,null,null,null,null,null,null,null,null,null,null,null,null,null,null,null,null,null,null,null,null,null,null,null,null,null,null,null,null,null,null,null,null,null,null,null,null,null,null,null,null,null,null,null,null,null,null,null,null,null,null,null,null,null,null,null,null,null,null,null,null,null,null,null,null,null,null,null,null,null,null,null,null,null,null,null,null,null,null,null,null,null,null,null,null,null,null,null,null,null,null,null,null,null,null,null,null,null,null,null,null,null,null,null,null,null,null,null,null,null,null,null,null,null,null,null,null,null,null,null,null,null,null,null,null,null,null,null,null,null,null,null,null,null,null,null,null,null,null,null,null,null,null,null,null,null,null,null,null,null,null,null,null,null,null,null,null,null,null,0]
[18,1,246,null,"","421/пр_2020_п.75_пп.а","Сметная стоимость вспомогательных ненормируемых материальных ресурсов, не учтенная в сметной норме, 2%","%",{"$f":"J156","v":2},2,2,0.08,0.08,{"$f":"ROUND(L156-M156,4)","v":0},{"$f":"ROUND(P156,2)","v":0},{"$f":"ROUND(ROUND(ROUND(SUMIF(SmtRes!AQ247:'SmtRes'!AQ250,\"=1\",SmtRes!CU247:'SmtRes'!CU250),2),2)*I156/100,2)","v":0},{"$f":"ROUND(CR156*I156,2)","v":0},{"$f":"ROUND(CS156*I156,2)","v":0},{"$f":"ROUND(CT156*I156,2)","v":0},{"$f":"ROUND(CU156*I156,2)","v":0},{"$f":"ROUND(CV156*I156,7)","v":0},{"$f":"ROUND(CW156*I156,7)","v":0},{"$f":"ROUND(CX156*I156,2)","v":0},{"$f":"ROUND(CY156,2)","v":0},0,null,-1,{"$f":"ROUND((AC156+AD156+AF156),2)","v":0},{"$f":"ROUND((ES156),2)","v":0},{"$f":"ROUND((((ET156)-(EU156))+AE156),2)","v":0},{"$f":"ROUND((EU156),2)","v":0},{"$f":"ROUND((EV156),2)","v":0},{"$f":"ROUND((AP156),2)","v":0},{"$f":"(EW156)","v":0},{"$f":"(EX156)","v":0},{"$f":"(AS156)","v":0},0,0,0,0,0,0,0,0,0,97,51,1,1,null,null,1,1,1,1,"","","","",3,2,"",null,null,108001,0,"",0,3,0,1,1,1,1,1,1,"",97,51,"",null,null,0,0,0,0,0,0,0,0,0,"",0,{"$f":"0","v":0},{"$f":"0","v":0},{"$f":"0","v":0},{"$f":"0","v":0},{"$f":"0","v":0},{"$f":"0","v":0},{"$f":"0","v":0},{"$f":"0","v":0},{"$f":"0","v":0},{"$f":"0","v":0},{"$f":"0","v":0},null,null,"","","","","","","","","","","",0,0,1,1,null,null,null,1013,"%","%",1,null,"","","","",null,83666702,3,"Монтажные работы",0,"",2,108001,"Электротехнические установки: на других объектах","мФЕР-08",null,"",null,1024,0,0,0,0,0,0,0,null,null,null,null,null,null,null,null,null,null,null,null,null,null,null,null,null,null,0,0,0,null,null,null,null,97,51,null,"",null,null,1,null,274903907,2,1,-2,0,0,{"$f":"ROUND(IF(AND(BH156=3,BI156=3,FS156<>0),P156,0),2)","v":0},{"$f":"ROUND(O156+X156+Y156,2)+GX156","v":0},{"$f":"IF(OR(BI156=0,BI156=1),GM156-GX156,0)","v":0},{"$f":"IF(BI156=2,GM156-GX156,0)","v":0},{"$f":"IF(BI156=4,GM156-GX156,0)","v":0},null,0,0,0,"",{"$f":"ROUND((GT156),2)","v":0},1,{"$f":"ROUND(HC156*I156,2)","v":0},null,null,0,0,{"$f":"0","v":0},null,"","",null,null,null,null,null,null,"","Пр/812-049.3-1","Пр/774-049.3","Электротехнические установки: на других объектах","Электротехнические установки: на других объектах",null,0,null,null,null,null,null,null,null,null,null,null,null,null,null,null,null,null,null,0]
[18,1,250,null,"","421/пр_2020_п.75_пп.а","Сметная стоимость вспомогательных ненормируемых материальных ресурсов, не учтенная в сметной норме, 2%","%",{"$f":"J157","v":2},2,2,0.08,0.08,{"$f":"ROUND(L157-M157,4)","v":0},{"$f":"ROUND(P157,2)","v":0},{"$f":"ROUND(ROUND(ROUND(SUMIF(SmtRes!AQ247:'SmtRes'!AQ250,\"=1\",SmtRes!CU247:'SmtRes'!CU250),2),2)*I157/100,2)","v":0},{"$f":"ROUND(CR157*I157,2)","v":0},{"$f":"ROUND(CS157*I157,2)","v":0},{"$f":"ROUND(CT157*I157,2)","v":0},{"$f":"ROUND(CU157*I157,2)","v":0},{"$f":"ROUND(CV157*I157,7)","v":0},{"$f":"ROUND(CW157*I157,7)","v":0},{"$f":"ROUND(CX157*I157,2)","v":0},0,0,null,-1,{"$f":"ROUND((AC157+AD157+AF157),2)","v":0},{"$f":"ROUND((ES157),2)","v":0},{"$f":"ROUND((((ET157)-(EU157))+AE157),2)","v":0},{"$f":"ROUND((EU157),2)","v":0},{"$f":"ROUND((EV157),2)","v":0},{"$f":"ROUND((AP157),2)","v":0},{"$f":"(EW157)","v":0},{"$f":"(EX157)","v":0},{"$f":"(AS157)","v":0},0,0,0,0,0,0,0,0,0,97,51,1,1,null,null,1,1,1,1,"","","","",3,2,"",null,null,108001,0,"",0,3,0,1,1,1,1,1,1,"",97,51,"",null,null,0,0,0,0,0,0,0,0,0,"",0,{"$f":"0","v":0},{"$f":"0","v":0},{"$f":"0","v":0},{"$f":"0","v":0},{"$f":"0","v":0},{"$f":"0","v":0},{"$f":"0","v":0},{"$f":"0","v":0},{"$f":"0","v":0},{"$f":"0","v":0},{"$f":"0","v":0},null,null,"","","","","","","","","","","",0,0,1,1,null,null,null,1013,"%","%",1,null,"","","","",null,83666702,3,"Монтажные работы",0,"",2,108001,"Электротехнические установки: на других объектах","мФЕР-08",null,"",null,1024,0,0,0,0,0,0,0,null,null,null,null,null,null,null,null,null,null,null,null,null,null,null,null,null,null,0,0,0,null,null,null,null,97,51,null,"",null,null,1,null,274903907,2,1,-2,0,0,{"$f":"ROUND(IF(AND(BH157=3,BI157=3,FS157<>0),P157,0),2)","v":0},{"$f":"ROUND(O157+X157+Y157,2)+GX157","v":0},{"$f":"IF(OR(BI157=0,BI157=1),GM157-GX157,0)","v":0},{"$f":"IF(BI157=2,GM157-GX157,0)","v":0},{"$f":"IF(BI157=4,GM157-GX157,0)","v":0},null,0,0,0,"",{"$f":"ROUND((GT157),2)","v":0},1,{"$f":"ROUND(HC157*I157,2)","v":0},null,null,0,0,{"$f":"0","v":0},null,"","",null,null,null,null,null,null,"","Пр/812-049.3-1","Пр/774-049.3","Электротехнические установки: на других объектах","Электротехнические установки: на других объектах",null,0,null,null,null,null,null,null,null,null,null,null,null,null,null,null,null,null,null,0]
[17,1,{"$f":"ROW(SmtRes!A259)","v":259},{"$f":"ROW(EtalonRes!A259)","v":259},"","м08-02-409-03","Труба винипластовая по установленным конструкциям, по стенам и колоннам с креплением скобами, диаметр: до 63 мм (Применяется труба d75 мм)","100 м",0,0,0,0.04,0.04,{"$f":"ROUND(L158-M158,4)","v":0},{"$f":"ROUND(CP158,2)","v":0},{"$f":"SUMIF(SmtRes!AQ251:'SmtRes'!AQ259,\"=1\",SmtRes!DF251:'SmtRes'!DF259)","v":0},{"$f":"SUMIF(SmtRes!AQ251:'SmtRes'!AQ259,\"=1\",SmtRes!DG251:'SmtRes'!DG259)","v":0},{"$f":"SUMIF(SmtRes!AQ251:'SmtRes'!AQ259,\"=1\",SmtRes!DH251:'SmtRes'!DH259)","v":0},{"$f":"SUMIF(SmtRes!AQ251:'SmtRes'!AQ259,\"=1\",SmtRes!DI251:'SmtRes'!DI259)","v":0},{"$f":"ROUND(CU158*I158,2)","v":0},{"$f":"SUMIF(SmtRes!AQ251:'SmtRes'!AQ259,\"=1\",SmtRes!CV251:'SmtRes'!CV259)","v":0},{"$f":"SUMIF(SmtRes!AQ251:'SmtRes'!AQ259,\"=1\",SmtRes!CW251:'SmtRes'!CW259)","v":0},{"$f":"ROUND(CX158*I158,2)","v":0},0,0,null,-1,{"$f":"ROUND((AC158+AD158+AF158),2)","v":25938.53},{"$f":"ROUND((SUM(SmtRes!BQ251:'SmtRes'!BQ259)),2)","v":245.85},{"$f":"ROUND((((SUM(SmtRes!BR251:'SmtRes'!BR259))-(SUM(SmtRes!BS251:'SmtRes'!BS259)))+AE158),2)","v":868.56},{"$f":"ROUND((SUM(SmtRes!BS251:'SmtRes'!BS259)),2)","v":665.79},{"$f":"ROUND((SUM(SmtRes!BT251:'SmtRes'!BT259)),2)","v":24824.12},{"$f":"ROUND((AP158),2)","v":0},{"$f":"(SUM(SmtRes!BU251:'SmtRes'!BU259))","v":31.28},{"$f":"(SUM(SmtRes!BV251:'SmtRes'!BV259))","v":0.7},{"$f":"(AS158)","v":0},26604.314915999999,245.85251599999998,868.55409999999995,665.78749999999991,24824.120800000001,0,31.28,0.7,0,97,51,1,1,null,null,1,1,1,1,"","","","",0,2,"ГЭСНм-2022 доп.16, м08-02-409-03, приказ Минстроя России от 12.11.2025 г. № 696/пр",null,null,108001,0,"",0,3,0,1,1,1,1,1,1,"",97,51,"",null,null,0,0,0,0,0,0,0,0,0,"",0,{"$f":"(P158+Q158+S158+R158)","v":0},{"$f":"SUMIF(SmtRes!AQ251:'SmtRes'!AQ259,\"=1\",SmtRes!AA251:'SmtRes'!AA259)","v":372.02},{"$f":"SUMIF(SmtRes!AQ251:'SmtRes'!AQ259,\"=1\",SmtRes!AB251:'SmtRes'!AB259)","v":2302.6},{"$f":"SUMIF(SmtRes!AQ251:'SmtRes'!AQ259,\"=1\",SmtRes!AC251:'SmtRes'!AC259)","v":1902.25},{"$f":"SUMIF(SmtRes!AQ251:'SmtRes'!AQ259,\"=1\",SmtRes!AD251:'SmtRes'!AD259)","v":793.61},{"$f":"AG158","v":0},{"$f":"SUMIF(SmtRes!AQ251:'SmtRes'!AQ259,\"=1\",SmtRes!BU251:'SmtRes'!BU259)","v":31.28},{"$f":"SUMIF(SmtRes!AQ251:'SmtRes'!AQ259,\"=1\",SmtRes!BV251:'SmtRes'!BV259)","v":0.7},{"$f":"AJ158","v":0},{"$f":"(((S158+R158)*AT158)/100)","v":0},{"$f":"(((S158+R158)*AU158)/100)","v":0},null,null,"","","","","","","","","","","",0,0,1,1,null,null,null,1003,"100 м","100 м",100,null,"","","","",null,83666702,3,"Монтажные работы",0,"",2,108001,"Электротехнические установки: на других объектах","мФЕР-08",null,"",null,132096,0,0,0,0,0,31.28,0.7,0,null,null,null,null,null,null,null,null,null,null,null,null,null,null,null,null,null,0,0,0,null,null,null,null,97,51,null,"",null,null,1,null,-77384940,2,1,-2,0,0,{"$f":"ROUND(IF(AND(BH158=3,BI158=3,FS158<>0),P158,0),2)","v":0},{"$f":"ROUND(O158+X158+Y158,2)+GX158","v":0},{"$f":"IF(OR(BI158=0,BI158=1),GM158-GX158,0)","v":0},{"$f":"IF(BI158=2,GM158-GX158,0)","v":0},{"$f":"IF(BI158=4,GM158-GX158,0)","v":0},null,0,3,0,"",{"$f":"ROUND((GT158),2)","v":0},1,{"$f":"ROUND(HC158*I158,2)","v":0},null,null,0,0,{"$f":"GV158*GW158","v":0},null,"","",null,null,null,null,null,null,"","Пр/812-049.3-1","Пр/774-049.3","Электротехнические установки: на других объектах","Электротехнические установки: на других объектах",null,0,null,null,null,null,null,null,null,null,null,null,null,null,null,null,null,null,null,0]
[17,1,{"$f":"ROW(SmtRes!A268)","v":268},{"$f":"ROW(EtalonRes!A268)","v":268},"","м08-02-409-03","Труба винипластовая по установленным конструкциям, по стенам и колоннам с креплением скобами, диаметр: до 63 мм (Применяется труба d75 мм)","100 м",0,0,0,0.04,0.04,{"$f":"ROUND(L159-M159,4)","v":0},{"$f":"ROUND(CP159,2)","v":0},{"$f":"SUMIF(SmtRes!AQ260:'SmtRes'!AQ268,\"=1\",SmtRes!DF260:'SmtRes'!DF268)","v":0},{"$f":"SUMIF(SmtRes!AQ260:'SmtRes'!AQ268,\"=1\",SmtRes!DG260:'SmtRes'!DG268)","v":0},{"$f":"SUMIF(SmtRes!AQ260:'SmtRes'!AQ268,\"=1\",SmtRes!DH260:'SmtRes'!DH268)","v":0},{"$f":"SUMIF(SmtRes!AQ260:'SmtRes'!AQ268,\"=1\",SmtRes!DI260:'SmtRes'!DI268)","v":0},{"$f":"ROUND(CU159*I159,2)","v":0},{"$f":"SUMIF(SmtRes!AQ260:'SmtRes'!AQ268,\"=1\",SmtRes!CV260:'SmtRes'!CV268)","v":0},{"$f":"SUMIF(SmtRes!AQ260:'SmtRes'!AQ268,\"=1\",SmtRes!CW260:'SmtRes'!CW268)","v":0},{"$f":"ROUND(CX159*I159,2)","v":0},0,0,null,-1,{"$f":"ROUND((AC159+AD159+AF159),2)","v":25938.53},{"$f":"ROUND((SUM(SmtRes!BQ260:'SmtRes'!BQ268)),2)","v":245.85},{"$f":"ROUND((((SUM(SmtRes!BR260:'SmtRes'!BR268))-(SUM(SmtRes!BS260:'SmtRes'!BS268)))+AE159),2)","v":868.56},{"$f":"ROUND((SUM(SmtRes!BS260:'SmtRes'!BS268)),2)","v":665.79},{"$f":"ROUND((SUM(SmtRes!BT260:'SmtRes'!BT268)),2)","v":24824.12},{"$f":"ROUND((AP159),2)","v":0},{"$f":"(SUM(SmtRes!BU260:'SmtRes'!BU268))","v":31.28},{"$f":"(SUM(SmtRes!BV260:'SmtRes'!BV268))","v":0.7},{"$f":"(AS159)","v":0},26604.314915999999,245.85251599999998,868.55409999999995,665.78749999999991,24824.120800000001,0,31.28,0.7,0,97,51,1,1,null,null,1,1,1,1,"","","","",0,2,"ГЭСНм-2022 доп.16, м08-02-409-03, приказ Минстроя России от 12.11.2025 г. № 696/пр",null,null,108001,0,"",0,3,0,1,1,1,1,1,1,"",97,51,"",null,null,0,0,0,0,0,0,0,0,0,"",0,{"$f":"(P159+Q159+S159+R159)","v":0},{"$f":"SUMIF(SmtRes!AQ260:'SmtRes'!AQ268,\"=1\",SmtRes!AA260:'SmtRes'!AA268)","v":372.02},{"$f":"SUMIF(SmtRes!AQ260:'SmtRes'!AQ268,\"=1\",SmtRes!AB260:'SmtRes'!AB268)","v":2302.6},{"$f":"SUMIF(SmtRes!AQ260:'SmtRes'!AQ268,\"=1\",SmtRes!AC260:'SmtRes'!AC268)","v":1902.25},{"$f":"SUMIF(SmtRes!AQ260:'SmtRes'!AQ268,\"=1\",SmtRes!AD260:'SmtRes'!AD268)","v":793.61},{"$f":"AG159","v":0},{"$f":"SUMIF(SmtRes!AQ260:'SmtRes'!AQ268,\"=1\",SmtRes!BU260:'SmtRes'!BU268)","v":31.28},{"$f":"SUMIF(SmtRes!AQ260:'SmtRes'!AQ268,\"=1\",SmtRes!BV260:'SmtRes'!BV268)","v":0.7},{"$f":"AJ159","v":0},{"$f":"(((S159+R159)*AT159)/100)","v":0},{"$f":"(((S159+R159)*AU159)/100)","v":0},null,null,"","","","","","","","","","","",0,0,1,1,null,null,null,1003,"100 м","100 м",100,null,"","","","",null,83666702,3,"Монтажные работы",0,"",2,108001,"Электротехнические установки: на других объектах","мФЕР-08",null,"",null,132096,0,0,0,0,0,31.28,0.7,0,null,null,null,null,null,null,null,null,null,null,null,null,null,null,null,null,null,0,0,0,null,null,null,null,97,51,null,"",null,null,1,null,-77384940,2,1,-2,0,0,{"$f":"ROUND(IF(AND(BH159=3,BI159=3,FS159<>0),P159,0),2)","v":0},{"$f":"ROUND(O159+X159+Y159,2)+GX159","v":0},{"$f":"IF(OR(BI159=0,BI159=1),GM159-GX159,0)","v":0},{"$f":"IF(BI159=2,GM159-GX159,0)","v":0},{"$f":"IF(BI159=4,GM159-GX159,0)","v":0},null,0,3,0,"",{"$f":"ROUND((GT159),2)","v":0},1,{"$f":"ROUND(HC159*I159,2)","v":0},null,null,0,0,{"$f":"GV159*GW159","v":0},null,"","",null,null,null,null,null,null,"","Пр/812-049.3-1","Пр/774-049.3","Электротехнические установки: на других объектах","Электротехнические установки: на других объектах",null,0,null,null,null,null,null,null,null,null,null,null,null,null,null,null,null,null,null,0]
[19,1,null,null,null,"","Если в СПЕЦИФИКАЦИИ есть материал: \"Труба гофрированная ПВХ d63, то мы можем применить эту расценку и ту что ниже. Эти трубы идут от РУ по конструкции опоры поднимаются и далее от них уже ведется ВЛ","",null,null,null,null,null,null,null,null,null,null,null,null,null,null,null,null,null,null,1,null,null,null,null,null,null,null,null,null,null,null,null,null,null,null,null,null,null,null,null,null,null,null,null,null,null,null,null,null,null,null,null,null,null,null,null,null,null,null,null,null,null,null,null,null,null,null,null,null,null,null,null,null,null,null,null,null,null,null,null,null,null,null,null,null,null,null,null,null,null,null,null,null,null,null,null,null,null,null,null,null,null,null,null,null,null,null,null,null,null,null,null,null,null,null,null,null,null,null,null,null,null,null,null,null,null,null,null,null,null,null,null,null,null,null,null,null,null,null,null,null,null,null,null,null,null,null,null,null,null,null,null,null,null,null,null,null,null,null,null,null,null,null,null,null,null,null,null,null,null,null,null,null,null,null,null,null,null,null,null,null,null,null,null,null,null,null,null,null,null,null,null,null,null,null,null,null,null,null,null,null,null,null,null,null,null,null,null,null,null,null,null,null,null,null,null,null,null,null,null,null,null,null,null,null,null,null,null,null,null,null,null,null,null,null,null,null,0]
[18,1,259,null,"","421/пр_2020_п.75_пп.а","Сметная стоимость вспомогательных ненормируемых материальных ресурсов, не учтенная в сметной норме, 2%","%",{"$f":"J161","v":2},2,2,0.08,0.08,{"$f":"ROUND(L161-M161,4)","v":0},{"$f":"ROUND(P161,2)","v":0},{"$f":"ROUND(ROUND(ROUND(SUMIF(SmtRes!AQ260:'SmtRes'!AQ268,\"=1\",SmtRes!CU260:'SmtRes'!CU268),2),2)*I161/100,2)","v":0},{"$f":"ROUND(CR161*I161,2)","v":0},{"$f":"ROUND(CS161*I161,2)","v":0},{"$f":"ROUND(CT161*I161,2)","v":0},{"$f":"ROUND(CU161*I161,2)","v":0},{"$f":"ROUND(CV161*I161,7)","v":0},{"$f":"ROUND(CW161*I161,7)","v":0},{"$f":"ROUND(CX161*I161,2)","v":0},{"$f":"ROUND(CY161,2)","v":0},0,null,-1,{"$f":"ROUND((AC161+AD161+AF161),2)","v":0},{"$f":"ROUND((ES161),2)","v":0},{"$f":"ROUND((((ET161)-(EU161))+AE161),2)","v":0},{"$f":"ROUND((EU161),2)","v":0},{"$f":"ROUND((EV161),2)","v":0},{"$f":"ROUND((AP161),2)","v":0},{"$f":"(EW161)","v":0},{"$f":"(EX161)","v":0},{"$f":"(AS161)","v":0},0,0,0,0,0,0,0,0,0,97,51,1,1,null,null,1,1,1,1,"","","","",3,2,"",null,null,108001,0,"",0,3,0,1,1,1,1,1,1,"",97,51,"",null,null,0,0,0,0,0,0,0,0,0,"",0,{"$f":"0","v":0},{"$f":"0","v":0},{"$f":"0","v":0},{"$f":"0","v":0},{"$f":"0","v":0},{"$f":"0","v":0},{"$f":"0","v":0},{"$f":"0","v":0},{"$f":"0","v":0},{"$f":"0","v":0},{"$f":"0","v":0},null,null,"","","","","","","","","","","",0,0,1,1,null,null,null,1013,"%","%",1,null,"","","","",null,83666702,3,"Монтажные работы",0,"",2,108001,"Электротехнические установки: на других объектах","мФЕР-08",null,"",null,1024,0,0,0,0,0,0,0,null,null,null,null,null,null,null,null,null,null,null,null,null,null,null,null,null,null,0,0,0,null,null,null,null,97,51,null,"",null,null,1,null,274903907,2,1,-2,0,0,{"$f":"ROUND(IF(AND(BH161=3,BI161=3,FS161<>0),P161,0),2)","v":0},{"$f":"ROUND(O161+X161+Y161,2)+GX161","v":0},{"$f":"IF(OR(BI161=0,BI161=1),GM161-GX161,0)","v":0},{"$f":"IF(BI161=2,GM161-GX161,0)","v":0},{"$f":"IF(BI161=4,GM161-GX161,0)","v":0},null,0,3,0,"",{"$f":"ROUND((GT161),2)","v":0},1,{"$f":"ROUND(HC161*I161,2)","v":0},null,null,0,0,{"$f":"0","v":0},null,"","",null,null,null,null,null,null,"","Пр/812-049.3-1","Пр/774-049.3","Электротехнические установки: на других объектах","Электротехнические установки: на других объектах",null,0,null,null,null,null,null,null,null,null,null,null,null,null,null,null,null,null,null,0]
[18,1,268,null,"","421/пр_2020_п.75_пп.а","Сметная стоимость вспомогательных ненормируемых материальных ресурсов, не учтенная в сметной норме, 2%","%",{"$f":"J162","v":2},2,2,0.08,0.08,{"$f":"ROUND(L162-M162,4)","v":0},{"$f":"ROUND(P162,2)","v":0},{"$f":"ROUND(ROUND(ROUND(SUMIF(SmtRes!AQ260:'SmtRes'!AQ268,\"=1\",SmtRes!CU260:'SmtRes'!CU268),2),2)*I162/100,2)","v":0},{"$f":"ROUND(CR162*I162,2)","v":0},{"$f":"ROUND(CS162*I162,2)","v":0},{"$f":"ROUND(CT162*I162,2)","v":0},{"$f":"ROUND(CU162*I162,2)","v":0},{"$f":"ROUND(CV162*I162,7)","v":0},{"$f":"ROUND(CW162*I162,7)","v":0},{"$f":"ROUND(CX162*I162,2)","v":0},0,0,null,-1,{"$f":"ROUND((AC162+AD162+AF162),2)","v":0},{"$f":"ROUND((ES162),2)","v":0},{"$f":"ROUND((((ET162)-(EU162))+AE162),2)","v":0},{"$f":"ROUND((EU162),2)","v":0},{"$f":"ROUND((EV162),2)","v":0},{"$f":"ROUND((AP162),2)","v":0},{"$f":"(EW162)","v":0},{"$f":"(EX162)","v":0},{"$f":"(AS162)","v":0},0,0,0,0,0,0,0,0,0,97,51,1,1,null,null,1,1,1,1,"","","","",3,2,"",null,null,108001,0,"",0,3,0,1,1,1,1,1,1,"",97,51,"",null,null,0,0,0,0,0,0,0,0,0,"",0,{"$f":"0","v":0},{"$f":"0","v":0},{"$f":"0","v":0},{"$f":"0","v":0},{"$f":"0","v":0},{"$f":"0","v":0},{"$f":"0","v":0},{"$f":"0","v":0},{"$f":"0","v":0},{"$f":"0","v":0},{"$f":"0","v":0},null,null,"","","","","","","","","","","",0,0,1,1,null,null,null,1013,"%","%",1,null,"","","","",null,83666702,3,"Монтажные работы",0,"",2,108001,"Электротехнические установки: на других объектах","мФЕР-08",null,"",null,1024,0,0,0,0,0,0,0,null,null,null,null,null,null,null,null,null,null,null,null,null,null,null,null,null,null,0,0,0,null,null,null,null,97,51,null,"",null,null,1,null,274903907,2,1,-2,0,0,{"$f":"ROUND(IF(AND(BH162=3,BI162=3,FS162<>0),P162,0),2)","v":0},{"$f":"ROUND(O162+X162+Y162,2)+GX162","v":0},{"$f":"IF(OR(BI162=0,BI162=1),GM162-GX162,0)","v":0},{"$f":"IF(BI162=2,GM162-GX162,0)","v":0},{"$f":"IF(BI162=4,GM162-GX162,0)","v":0},null,0,3,0,"",{"$f":"ROUND((GT162),2)","v":0},1,{"$f":"ROUND(HC162*I162,2)","v":0},null,null,0,0,{"$f":"0","v":0},null,"","",null,null,null,null,null,null,"","Пр/812-049.3-1","Пр/774-049.3","Электротехнические установки: на других объектах","Электротехнические установки: на других объектах",null,0,null,null,null,null,null,null,null,null,null,null,null,null,null,null,null,null,null,0]
[17,1,{"$f":"ROW(SmtRes!A278)","v":278},{"$f":"ROW(EtalonRes!A278)","v":278},"","м08-02-412-06","Затягивание провода в проложенные трубы и металлические рукава первого одножильного или многожильного в общей оплетке, суммарное сечение: до 120 мм2","100 м",0,0,0,0.04,0.04,{"$f":"ROUND(L163-M163,4)","v":0},{"$f":"ROUND(CP163,2)","v":0},{"$f":"SUMIF(SmtRes!AQ269:'SmtRes'!AQ278,\"=1\",SmtRes!DF269:'SmtRes'!DF278)","v":0},{"$f":"SUMIF(SmtRes!AQ269:'SmtRes'!AQ278,\"=1\",SmtRes!DG269:'SmtRes'!DG278)","v":0},{"$f":"SUMIF(SmtRes!AQ269:'SmtRes'!AQ278,\"=1\",SmtRes!DH269:'SmtRes'!DH278)","v":0},{"$f":"SUMIF(SmtRes!AQ269:'SmtRes'!AQ278,\"=1\",SmtRes!DI269:'SmtRes'!DI278)","v":0},{"$f":"ROUND(CU163*I163,2)","v":0},{"$f":"SUMIF(SmtRes!AQ269:'SmtRes'!AQ278,\"=1\",SmtRes!CV269:'SmtRes'!CV278)","v":0},{"$f":"SUMIF(SmtRes!AQ269:'SmtRes'!AQ278,\"=1\",SmtRes!CW269:'SmtRes'!CW278)","v":0},{"$f":"ROUND(CX163*I163,2)","v":0},0,0,null,-1,{"$f":"ROUND((AC163+AD163+AF163),2)","v":12801.85},{"$f":"ROUND((SUM(SmtRes!BQ269:'SmtRes'!BQ278)),2)","v":920.27},{"$f":"ROUND((((SUM(SmtRes!BR269:'SmtRes'!BR278))-(SUM(SmtRes!BS269:'SmtRes'!BS278)))+AE163),2)","v":453.6},{"$f":"ROUND((SUM(SmtRes!BS269:'SmtRes'!BS278)),2)","v":380.45},{"$f":"ROUND((SUM(SmtRes!BT269:'SmtRes'!BT278)),2)","v":11427.98},{"$f":"ROUND((AP163),2)","v":0},{"$f":"(SUM(SmtRes!BU269:'SmtRes'!BU278))","v":14.4},{"$f":"(SUM(SmtRes!BV269:'SmtRes'!BV278))","v":0.4},{"$f":"(AS163)","v":0},13182.297768100001,920.26576810000006,453.59800000000007,380.45000000000005,11427.984,0,14.4,0.4,0,97,51,1,1,null,null,1,1,1,1,"","","","",0,2,"ГЭСНм-2022 доп.9, м08-02-412-06, приказ Минстроя России от 16.02.2024 г. № 102/пр",null,null,108001,0,"",0,3,0,1,1,1,1,1,1,"",97,51,"",null,null,0,0,0,0,0,0,0,0,0,"",0,{"$f":"(P163+Q163+S163+R163)","v":0},{"$f":"SUMIF(SmtRes!AQ269:'SmtRes'!AQ278,\"=1\",SmtRes!AA269:'SmtRes'!AA278)","v":80763.709999999992},{"$f":"SUMIF(SmtRes!AQ269:'SmtRes'!AQ278,\"=1\",SmtRes!AB269:'SmtRes'!AB278)","v":2267.9899999999998},{"$f":"SUMIF(SmtRes!AQ269:'SmtRes'!AQ278,\"=1\",SmtRes!AC269:'SmtRes'!AC278)","v":1902.25},{"$f":"SUMIF(SmtRes!AQ269:'SmtRes'!AQ278,\"=1\",SmtRes!AD269:'SmtRes'!AD278)","v":793.61},{"$f":"AG163","v":0},{"$f":"SUMIF(SmtRes!AQ269:'SmtRes'!AQ278,\"=1\",SmtRes!BU269:'SmtRes'!BU278)","v":14.4},{"$f":"SUMIF(SmtRes!AQ269:'SmtRes'!AQ278,\"=1\",SmtRes!BV269:'SmtRes'!BV278)","v":0.4},{"$f":"AJ163","v":0},{"$f":"(((S163+R163)*AT163)/100)","v":0},{"$f":"(((S163+R163)*AU163)/100)","v":0},null,null,"","","","","","","","","","","",0,0,1,1,null,null,null,1003,"100 м","100 м",100,null,"","","","",null,83666702,3,"Монтажные работы",0,"",2,108001,"Электротехнические установки: на других объектах","мФЕР-08",null,"",null,132096,0,0,0,0,0,14.4,0.4,0,null,null,null,null,null,null,null,null,null,null,null,null,null,null,null,null,null,0,0,0,null,null,null,null,97,51,null,"",null,null,1,null,-1401801598,2,1,-2,0,0,{"$f":"ROUND(IF(AND(BH163=3,BI163=3,FS163<>0),P163,0),2)","v":0},{"$f":"ROUND(O163+X163+Y163,2)+GX163","v":0},{"$f":"IF(OR(BI163=0,BI163=1),GM163-GX163,0)","v":0},{"$f":"IF(BI163=2,GM163-GX163,0)","v":0},{"$f":"IF(BI163=4,GM163-GX163,0)","v":0},null,0,3,0,"",{"$f":"ROUND((GT163),2)","v":0},1,{"$f":"ROUND(HC163*I163,2)","v":0},null,null,0,0,{"$f":"GV163*GW163","v":0},null,"","",null,null,null,null,null,null,"","Пр/812-049.3-1","Пр/774-049.3","Электротехнические установки: на других объектах","Электротехнические установки: на других объектах",null,0,null,null,null,null,null,null,null,null,null,null,null,null,null,null,null,null,null,0]
[17,1,{"$f":"ROW(SmtRes!A288)","v":288},{"$f":"ROW(EtalonRes!A288)","v":288},"","м08-02-412-06","Затягивание провода в проложенные трубы и металлические рукава первого одножильного или многожильного в общей оплетке, суммарное сечение: до 120 мм2","100 м",0,0,0,0.04,0.04,{"$f":"ROUND(L164-M164,4)","v":0},{"$f":"ROUND(CP164,2)","v":0},{"$f":"SUMIF(SmtRes!AQ279:'SmtRes'!AQ288,\"=1\",SmtRes!DF279:'SmtRes'!DF288)","v":0},{"$f":"SUMIF(SmtRes!AQ279:'SmtRes'!AQ288,\"=1\",SmtRes!DG279:'SmtRes'!DG288)","v":0},{"$f":"SUMIF(SmtRes!AQ279:'SmtRes'!AQ288,\"=1\",SmtRes!DH279:'SmtRes'!DH288)","v":0},{"$f":"SUMIF(SmtRes!AQ279:'SmtRes'!AQ288,\"=1\",SmtRes!DI279:'SmtRes'!DI288)","v":0},{"$f":"ROUND(CU164*I164,2)","v":0},{"$f":"SUMIF(SmtRes!AQ279:'SmtRes'!AQ288,\"=1\",SmtRes!CV279:'SmtRes'!CV288)","v":0},{"$f":"SUMIF(SmtRes!AQ279:'SmtRes'!AQ288,\"=1\",SmtRes!CW279:'SmtRes'!CW288)","v":0},{"$f":"ROUND(CX164*I164,2)","v":0},0,0,null,-1,{"$f":"ROUND((AC164+AD164+AF164),2)","v":12801.85},{"$f":"ROUND((SUM(SmtRes!BQ279:'SmtRes'!BQ288)),2)","v":920.27},{"$f":"ROUND((((SUM(SmtRes!BR279:'SmtRes'!BR288))-(SUM(SmtRes!BS279:'SmtRes'!BS288)))+AE164),2)","v":453.6},{"$f":"ROUND((SUM(SmtRes!BS279:'SmtRes'!BS288)),2)","v":380.45},{"$f":"ROUND((SUM(SmtRes!BT279:'SmtRes'!BT288)),2)","v":11427.98},{"$f":"ROUND((AP164),2)","v":0},{"$f":"(SUM(SmtRes!BU279:'SmtRes'!BU288))","v":14.4},{"$f":"(SUM(SmtRes!BV279:'SmtRes'!BV288))","v":0.4},{"$f":"(AS164)","v":0},13182.297768100001,920.26576810000006,453.59800000000007,380.45000000000005,11427.984,0,14.4,0.4,0,97,51,1,1,null,null,1,1,1,1,"","","","",0,2,"ГЭСНм-2022 доп.9, м08-02-412-06, приказ Минстроя России от 16.02.2024 г. № 102/пр",null,null,108001,0,"",0,3,0,1,1,1,1,1,1,"",97,51,"",null,null,0,0,0,0,0,0,0,0,0,"",0,{"$f":"(P164+Q164+S164+R164)","v":0},{"$f":"SUMIF(SmtRes!AQ279:'SmtRes'!AQ288,\"=1\",SmtRes!AA279:'SmtRes'!AA288)","v":80763.709999999992},{"$f":"SUMIF(SmtRes!AQ279:'SmtRes'!AQ288,\"=1\",SmtRes!AB279:'SmtRes'!AB288)","v":2267.9899999999998},{"$f":"SUMIF(SmtRes!AQ279:'SmtRes'!AQ288,\"=1\",SmtRes!AC279:'SmtRes'!AC288)","v":1902.25},{"$f":"SUMIF(SmtRes!AQ279:'SmtRes'!AQ288,\"=1\",SmtRes!AD279:'SmtRes'!AD288)","v":793.61},{"$f":"AG164","v":0},{"$f":"SUMIF(SmtRes!AQ279:'SmtRes'!AQ288,\"=1\",SmtRes!BU279:'SmtRes'!BU288)","v":14.4},{"$f":"SUMIF(SmtRes!AQ279:'SmtRes'!AQ288,\"=1\",SmtRes!BV279:'SmtRes'!BV288)","v":0.4},{"$f":"AJ164","v":0},{"$f":"(((S164+R164)*AT164)/100)","v":0},{"$f":"(((S164+R164)*AU164)/100)","v":0},null,null,"","","","","","","","","","","",0,0,1,1,null,null,null,1003,"100 м","100 м",100,null,"","","","",null,83666702,3,"Монтажные работы",0,"",2,108001,"Электротехнические установки: на других объектах","мФЕР-08",null,"",null,132096,0,0,0,0,0,14.4,0.4,0,null,null,null,null,null,null,null,null,null,null,null,null,null,null,null,null,null,0,0,0,null,null,null,null,97,51,null,"",null,null,1,null,-1401801598,2,1,-2,0,0,{"$f":"ROUND(IF(AND(BH164=3,BI164=3,FS164<>0),P164,0),2)","v":0},{"$f":"ROUND(O164+X164+Y164,2)+GX164","v":0},{"$f":"IF(OR(BI164=0,BI164=1),GM164-GX164,0)","v":0},{"$f":"IF(BI164=2,GM164-GX164,0)","v":0},{"$f":"IF(BI164=4,GM164-GX164,0)","v":0},null,0,3,0,"",{"$f":"ROUND((GT164),2)","v":0},1,{"$f":"ROUND(HC164*I164,2)","v":0},null,null,0,0,{"$f":"GV164*GW164","v":0},null,"","",null,null,null,null,null,null,"","Пр/812-049.3-1","Пр/774-049.3","Электротехнические установки: на других объектах","Электротехнические установки: на других объектах",null,0,null,null,null,null,null,null,null,null,null,null,null,null,null,null,null,null,null,0]
[19,1,null,null,null,"","По ВОР \"Протяжка кабеля СИП-2 по конструкциям в трубе ПВХ\"","",null,null,null,null,null,null,null,null,null,null,null,null,null,null,null,null,null,null,1,null,null,null,null,null,null,null,null,null,null,null,null,null,null,null,null,null,null,null,null,null,null,null,null,null,null,null,null,null,null,null,null,null,null,null,null,null,null,null,null,null,null,null,null,null,null,null,null,null,null,null,null,null,null,null,null,null,null,null,null,null,null,null,null,null,null,null,null,null,null,null,null,null,null,null,null,null,null,null,null,null,null,null,null,null,null,null,null,null,null,null,null,null,null,null,null,null,null,null,null,null,null,null,null,null,null,null,null,null,null,null,null,null,null,null,null,null,null,null,null,null,null,null,null,null,null,null,null,null,null,null,null,null,null,null,null,null,null,null,null,null,null,null,null,null,null,null,null,null,null,null,null,null,null,null,null,null,null,null,null,null,null,null,null,null,null,null,null,null,null,null,null,null,null,null,null,null,null,null,null,null,null,null,null,null,null,null,null,null,null,null,null,null,null,null,null,null,null,null,null,null,null,null,null,null,null,null,null,null,null,null,null,null,null,null,null,null,0]
[18,1,278,null,"","421/пр_2020_п.75_пп.а","Сметная стоимость вспомогательных ненормируемых материальных ресурсов, не учтенная в сметной норме, 2%","%",{"$f":"J166","v":2},2,2,0.08,0.08,{"$f":"ROUND(L166-M166,4)","v":0},{"$f":"ROUND(P166,2)","v":0},{"$f":"ROUND(ROUND(ROUND(SUMIF(SmtRes!AQ279:'SmtRes'!AQ288,\"=1\",SmtRes!CU279:'SmtRes'!CU288),2),2)*I166/100,2)","v":0},{"$f":"ROUND(CR166*I166,2)","v":0},{"$f":"ROUND(CS166*I166,2)","v":0},{"$f":"ROUND(CT166*I166,2)","v":0},{"$f":"ROUND(CU166*I166,2)","v":0},{"$f":"ROUND(CV166*I166,7)","v":0},{"$f":"ROUND(CW166*I166,7)","v":0},{"$f":"ROUND(CX166*I166,2)","v":0},{"$f":"ROUND(CY166,2)","v":0},0,null,-1,{"$f":"ROUND((AC166+AD166+AF166),2)","v":0},{"$f":"ROUND((ES166),2)","v":0},{"$f":"ROUND((((ET166)-(EU166))+AE166),2)","v":0},{"$f":"ROUND((EU166),2)","v":0},{"$f":"ROUND((EV166),2)","v":0},{"$f":"ROUND((AP166),2)","v":0},{"$f":"(EW166)","v":0},{"$f":"(EX166)","v":0},{"$f":"(AS166)","v":0},0,0,0,0,0,0,0,0,0,97,51,1,1,null,null,1,1,1,1,"","","","",3,2,"",null,null,108001,0,"",0,3,0,1,1,1,1,1,1,"",97,51,"",null,null,0,0,0,0,0,0,0,0,0,"",0,{"$f":"0","v":0},{"$f":"0","v":0},{"$f":"0","v":0},{"$f":"0","v":0},{"$f":"0","v":0},{"$f":"0","v":0},{"$f":"0","v":0},{"$f":"0","v":0},{"$f":"0","v":0},{"$f":"0","v":0},{"$f":"0","v":0},null,null,"","","","","","","","","","","",0,0,1,1,null,null,null,1013,"%","%",1,null,"","","","",null,83666702,3,"Монтажные работы",0,"",2,108001,"Электротехнические установки: на других объектах","мФЕР-08",null,"",null,1024,0,0,0,0,0,0,0,null,null,null,null,null,null,null,null,null,null,null,null,null,null,null,null,null,null,0,0,0,null,null,null,null,97,51,null,"",null,null,1,null,274903907,2,1,-2,0,0,{"$f":"ROUND(IF(AND(BH166=3,BI166=3,FS166<>0),P166,0),2)","v":0},{"$f":"ROUND(O166+X166+Y166,2)+GX166","v":0},{"$f":"IF(OR(BI166=0,BI166=1),GM166-GX166,0)","v":0},{"$f":"IF(BI166=2,GM166-GX166,0)","v":0},{"$f":"IF(BI166=4,GM166-GX166,0)","v":0},null,0,3,0,"",{"$f":"ROUND((GT166),2)","v":0},1,{"$f":"ROUND(HC166*I166,2)","v":0},null,null,0,0,{"$f":"0","v":0},null,"","",null,null,null,null,null,null,"","Пр/812-049.3-1","Пр/774-049.3","Электротехнические установки: на других объектах","Электротехнические установки: на других объектах",null,0,null,null,null,null,null,null,null,null,null,null,null,null,null,null,null,null,null,0]
[18,1,288,null,"","421/пр_2020_п.75_пп.а","Сметная стоимость вспомогательных ненормируемых материальных ресурсов, не учтенная в сметной норме, 2%","%",{"$f":"J167","v":2},2,2,0.08,0.08,{"$f":"ROUND(L167-M167,4)","v":0},{"$f":"ROUND(P167,2)","v":0},{"$f":"ROUND(ROUND(ROUND(SUMIF(SmtRes!AQ279:'SmtRes'!AQ288,\"=1\",SmtRes!CU279:'SmtRes'!CU288),2),2)*I167/100,2)","v":0},{"$f":"ROUND(CR167*I167,2)","v":0},{"$f":"ROUND(CS167*I167,2)","v":0},{"$f":"ROUND(CT167*I167,2)","v":0},{"$f":"ROUND(CU167*I167,2)","v":0},{"$f":"ROUND(CV167*I167,7)","v":0},{"$f":"ROUND(CW167*I167,7)","v":0},{"$f":"ROUND(CX167*I167,2)","v":0},0,0,null,-1,{"$f":"ROUND((AC167+AD167+AF167),2)","v":0},{"$f":"ROUND((ES167),2)","v":0},{"$f":"ROUND((((ET167)-(EU167))+AE167),2)","v":0},{"$f":"ROUND((EU167),2)","v":0},{"$f":"ROUND((EV167),2)","v":0},{"$f":"ROUND((AP167),2)","v":0},{"$f":"(EW167)","v":0},{"$f":"(EX167)","v":0},{"$f":"(AS167)","v":0},0,0,0,0,0,0,0,0,0,97,51,1,1,null,null,1,1,1,1,"","","","",3,2,"",null,null,108001,0,"",0,3,0,1,1,1,1,1,1,"",97,51,"",null,null,0,0,0,0,0,0,0,0,0,"",0,{"$f":"0","v":0},{"$f":"0","v":0},{"$f":"0","v":0},{"$f":"0","v":0},{"$f":"0","v":0},{"$f":"0","v":0},{"$f":"0","v":0},{"$f":"0","v":0},{"$f":"0","v":0},{"$f":"0","v":0},{"$f":"0","v":0},null,null,"","","","","","","","","","","",0,0,1,1,null,null,null,1013,"%","%",1,null,"","","","",null,83666702,3,"Монтажные работы",0,"",2,108001,"Электротехнические установки: на других объектах","мФЕР-08",null,"",null,1024,0,0,0,0,0,0,0,null,null,null,null,null,null,null,null,null,null,null,null,null,null,null,null,null,null,0,0,0,null,null,null,null,97,51,null,"",null,null,1,null,274903907,2,1,-2,0,0,{"$f":"ROUND(IF(AND(BH167=3,BI167=3,FS167<>0),P167,0),2)","v":0},{"$f":"ROUND(O167+X167+Y167,2)+GX167","v":0},{"$f":"IF(OR(BI167=0,BI167=1),GM167-GX167,0)","v":0},{"$f":"IF(BI167=2,GM167-GX167,0)","v":0},{"$f":"IF(BI167=4,GM167-GX167,0)","v":0},null,0,3,0,"",{"$f":"ROUND((GT167),2)","v":0},1,{"$f":"ROUND(HC167*I167,2)","v":0},null,null,0,0,{"$f":"0","v":0},null,"","",null,null,null,null,null,null,"","Пр/812-049.3-1","Пр/774-049.3","Электротехнические установки: на других объектах","Электротехнические установки: на других объектах",null,0,null,null,null,null,null,null,null,null,null,null,null,null,null,null,null,null,null,0]
[17,1,{"$f":"ROW(SmtRes!A299)","v":299},{"$f":"ROW(EtalonRes!A299)","v":299},"","м08-02-405-04","Провод по установленным стальным конструкциям и панелям, сечение: до 120 мм2","100 м",0,0,0,0.03,0.03,{"$f":"ROUND(L168-M168,4)","v":0},{"$f":"ROUND(CP168,2)","v":0},{"$f":"SUMIF(SmtRes!AQ289:'SmtRes'!AQ299,\"=1\",SmtRes!DF289:'SmtRes'!DF299)","v":0},{"$f":"SUMIF(SmtRes!AQ289:'SmtRes'!AQ299,\"=1\",SmtRes!DG289:'SmtRes'!DG299)","v":0},{"$f":"SUMIF(SmtRes!AQ289:'SmtRes'!AQ299,\"=1\",SmtRes!DH289:'SmtRes'!DH299)","v":0},{"$f":"SUMIF(SmtRes!AQ289:'SmtRes'!AQ299,\"=1\",SmtRes!DI289:'SmtRes'!DI299)","v":0},{"$f":"ROUND(CU168*I168,2)","v":0},{"$f":"SUMIF(SmtRes!AQ289:'SmtRes'!AQ299,\"=1\",SmtRes!CV289:'SmtRes'!CV299)","v":0},{"$f":"SUMIF(SmtRes!AQ289:'SmtRes'!AQ299,\"=1\",SmtRes!CW289:'SmtRes'!CW299)","v":0},{"$f":"ROUND(CX168*I168,2)","v":0},0,0,null,-1,{"$f":"ROUND((AC168+AD168+AF168),2)","v":35445.9},{"$f":"ROUND((SUM(SmtRes!BQ289:'SmtRes'!BQ299)),2)","v":895.34},{"$f":"ROUND((((SUM(SmtRes!BR289:'SmtRes'!BR299))-(SUM(SmtRes!BS289:'SmtRes'!BS299)))+AE168),2)","v":1917.32},{"$f":"ROUND((SUM(SmtRes!BS289:'SmtRes'!BS299)),2)","v":1464.73},{"$f":"ROUND((SUM(SmtRes!BT289:'SmtRes'!BT299)),2)","v":32633.24},{"$f":"ROUND((AP168),2)","v":0},{"$f":"(SUM(SmtRes!BU289:'SmtRes'!BU299))","v":41.12},{"$f":"(SUM(SmtRes!BV289:'SmtRes'!BV299))","v":1.54},{"$f":"(AS168)","v":0},36910.637695999998,895.33629599999995,1917.3257000000001,1464.7325000000001,32633.243199999997,0,41.12,1.54,0,97,51,1,1,null,null,1,1,1,1,"","","","",0,2,"ГЭСНм-2022, м08-02-405-04, приказ Минстроя России от 18.05.2022 г. № 378/пр",null,null,108001,0,"",0,3,0,1,1,1,1,1,1,"",97,51,"",null,null,0,0,0,0,0,0,0,0,0,"",0,{"$f":"(P168+Q168+S168+R168)","v":0},{"$f":"SUMIF(SmtRes!AQ289:'SmtRes'!AQ299,\"=1\",SmtRes!AA289:'SmtRes'!AA299)","v":164880.28999999998},{"$f":"SUMIF(SmtRes!AQ289:'SmtRes'!AQ299,\"=1\",SmtRes!AB289:'SmtRes'!AB299)","v":2302.6},{"$f":"SUMIF(SmtRes!AQ289:'SmtRes'!AQ299,\"=1\",SmtRes!AC289:'SmtRes'!AC299)","v":1902.25},{"$f":"SUMIF(SmtRes!AQ289:'SmtRes'!AQ299,\"=1\",SmtRes!AD289:'SmtRes'!AD299)","v":793.61},{"$f":"AG168","v":0},{"$f":"SUMIF(SmtRes!AQ289:'SmtRes'!AQ299,\"=1\",SmtRes!BU289:'SmtRes'!BU299)","v":41.12},{"$f":"SUMIF(SmtRes!AQ289:'SmtRes'!AQ299,\"=1\",SmtRes!BV289:'SmtRes'!BV299)","v":1.54},{"$f":"AJ168","v":0},{"$f":"(((S168+R168)*AT168)/100)","v":0},{"$f":"(((S168+R168)*AU168)/100)","v":0},null,null,"","","","","","","","","","","",0,0,1,1,null,null,null,1003,"100 м","100 м",100,null,"","","","",null,83666702,3,"Монтажные работы",0,"",2,108001,"Электротехнические установки: на других объектах","мФЕР-08",null,"",null,132096,0,0,0,0,0,41.12,1.54,0,null,null,null,null,null,null,null,null,null,null,null,null,null,null,null,null,null,0,0,0,null,null,null,null,97,51,null,"",null,null,1,null,-151980109,2,1,-2,0,0,{"$f":"ROUND(IF(AND(BH168=3,BI168=3,FS168<>0),P168,0),2)","v":0},{"$f":"ROUND(O168+X168+Y168,2)+GX168","v":0},{"$f":"IF(OR(BI168=0,BI168=1),GM168-GX168,0)","v":0},{"$f":"IF(BI168=2,GM168-GX168,0)","v":0},{"$f":"IF(BI168=4,GM168-GX168,0)","v":0},null,0,3,0,"",{"$f":"ROUND((GT168),2)","v":0},1,{"$f":"ROUND(HC168*I168,2)","v":0},null,null,0,0,{"$f":"GV168*GW168","v":0},null,"","",null,null,null,null,null,null,"","Пр/812-049.3-1","Пр/774-049.3","Электротехнические установки: на других объектах","Электротехнические установки: на других объектах",null,0,null,null,null,null,null,null,null,null,null,null,null,null,null,null,null,null,null,0]
[17,1,{"$f":"ROW(SmtRes!A310)","v":310},{"$f":"ROW(EtalonRes!A310)","v":310},"","м08-02-405-04","Провод по установленным стальным конструкциям и панелям, сечение: до 120 мм2","100 м",0,0,0,0.03,0.03,{"$f":"ROUND(L169-M169,4)","v":0},{"$f":"ROUND(CP169,2)","v":0},{"$f":"SUMIF(SmtRes!AQ300:'SmtRes'!AQ310,\"=1\",SmtRes!DF300:'SmtRes'!DF310)","v":0},{"$f":"SUMIF(SmtRes!AQ300:'SmtRes'!AQ310,\"=1\",SmtRes!DG300:'SmtRes'!DG310)","v":0},{"$f":"SUMIF(SmtRes!AQ300:'SmtRes'!AQ310,\"=1\",SmtRes!DH300:'SmtRes'!DH310)","v":0},{"$f":"SUMIF(SmtRes!AQ300:'SmtRes'!AQ310,\"=1\",SmtRes!DI300:'SmtRes'!DI310)","v":0},{"$f":"ROUND(CU169*I169,2)","v":0},{"$f":"SUMIF(SmtRes!AQ300:'SmtRes'!AQ310,\"=1\",SmtRes!CV300:'SmtRes'!CV310)","v":0},{"$f":"SUMIF(SmtRes!AQ300:'SmtRes'!AQ310,\"=1\",SmtRes!CW300:'SmtRes'!CW310)","v":0},{"$f":"ROUND(CX169*I169,2)","v":0},0,0,null,-1,{"$f":"ROUND((AC169+AD169+AF169),2)","v":35445.9},{"$f":"ROUND((SUM(SmtRes!BQ300:'SmtRes'!BQ310)),2)","v":895.34},{"$f":"ROUND((((SUM(SmtRes!BR300:'SmtRes'!BR310))-(SUM(SmtRes!BS300:'SmtRes'!BS310)))+AE169),2)","v":1917.32},{"$f":"ROUND((SUM(SmtRes!BS300:'SmtRes'!BS310)),2)","v":1464.73},{"$f":"ROUND((SUM(SmtRes!BT300:'SmtRes'!BT310)),2)","v":32633.24},{"$f":"ROUND((AP169),2)","v":0},{"$f":"(SUM(SmtRes!BU300:'SmtRes'!BU310))","v":41.12},{"$f":"(SUM(SmtRes!BV300:'SmtRes'!BV310))","v":1.54},{"$f":"(AS169)","v":0},36910.637695999998,895.33629599999995,1917.3257000000001,1464.7325000000001,32633.243199999997,0,41.12,1.54,0,97,51,1,1,null,null,1,1,1,1,"","","","",0,2,"ГЭСНм-2022, м08-02-405-04, приказ Минстроя России от 18.05.2022 г. № 378/пр",null,null,108001,0,"",0,3,0,1,1,1,1,1,1,"",97,51,"",null,null,0,0,0,0,0,0,0,0,0,"",0,{"$f":"(P169+Q169+S169+R169)","v":0},{"$f":"SUMIF(SmtRes!AQ300:'SmtRes'!AQ310,\"=1\",SmtRes!AA300:'SmtRes'!AA310)","v":164880.28999999998},{"$f":"SUMIF(SmtRes!AQ300:'SmtRes'!AQ310,\"=1\",SmtRes!AB300:'SmtRes'!AB310)","v":2302.6},{"$f":"SUMIF(SmtRes!AQ300:'SmtRes'!AQ310,\"=1\",SmtRes!AC300:'SmtRes'!AC310)","v":1902.25},{"$f":"SUMIF(SmtRes!AQ300:'SmtRes'!AQ310,\"=1\",SmtRes!AD300:'SmtRes'!AD310)","v":793.61},{"$f":"AG169","v":0},{"$f":"SUMIF(SmtRes!AQ300:'SmtRes'!AQ310,\"=1\",SmtRes!BU300:'SmtRes'!BU310)","v":41.12},{"$f":"SUMIF(SmtRes!AQ300:'SmtRes'!AQ310,\"=1\",SmtRes!BV300:'SmtRes'!BV310)","v":1.54},{"$f":"AJ169","v":0},{"$f":"(((S169+R169)*AT169)/100)","v":0},{"$f":"(((S169+R169)*AU169)/100)","v":0},null,null,"","","","","","","","","","","",0,0,1,1,null,null,null,1003,"100 м","100 м",100,null,"","","","",null,83666702,3,"Монтажные работы",0,"",2,108001,"Электротехнические установки: на других объектах","мФЕР-08",null,"",null,132096,0,0,0,0,0,41.12,1.54,0,null,null,null,null,null,null,null,null,null,null,null,null,null,null,null,null,null,0,0,0,null,null,null,null,97,51,null,"",null,null,1,null,-151980109,2,1,-2,0,0,{"$f":"ROUND(IF(AND(BH169=3,BI169=3,FS169<>0),P169,0),2)","v":0},{"$f":"ROUND(O169+X169+Y169,2)+GX169","v":0},{"$f":"IF(OR(BI169=0,BI169=1),GM169-GX169,0)","v":0},{"$f":"IF(BI169=2,GM169-GX169,0)","v":0},{"$f":"IF(BI169=4,GM169-GX169,0)","v":0},null,0,3,0,"",{"$f":"ROUND((GT169),2)","v":0},1,{"$f":"ROUND(HC169*I169,2)","v":0},null,null,0,0,{"$f":"GV169*GW169","v":0},null,"","",null,null,null,null,null,null,"","Пр/812-049.3-1","Пр/774-049.3","Электротехнические установки: на других объектах","Электротехнические установки: на других объектах",null,0,null,null,null,null,null,null,null,null,null,null,null,null,null,null,null,null,null,0]
[19,1,null,null,null,"","По ВОР \"Протяжка кабеля СИП-2 по конструкциям МТП\"","",null,null,null,null,null,null,null,null,null,null,null,null,null,null,null,null,null,null,1,null,null,null,null,null,null,null,null,null,null,null,null,null,null,null,null,null,null,null,null,null,null,null,null,null,null,null,null,null,null,null,null,null,null,null,null,null,null,null,null,null,null,null,null,null,null,null,null,null,null,null,null,null,null,null,null,null,null,null,null,null,null,null,null,null,null,null,null,null,null,null,null,null,null,null,null,null,null,null,null,null,null,null,null,null,null,null,null,null,null,null,null,null,null,null,null,null,null,null,null,null,null,null,null,null,null,null,null,null,null,null,null,null,null,null,null,null,null,null,null,null,null,null,null,null,null,null,null,null,null,null,null,null,null,null,null,null,null,null,null,null,null,null,null,null,null,null,null,null,null,null,null,null,null,null,null,null,null,null,null,null,null,null,null,null,null,null,null,null,null,null,null,null,null,null,null,null,null,null,null,null,null,null,null,null,null,null,null,null,null,null,null,null,null,null,null,null,null,null,null,null,null,null,null,null,null,null,null,null,null,null,null,null,null,null,null,null,0]
[18,1,299,null,"","421/пр_2020_п.75_пп.а","Сметная стоимость вспомогательных ненормируемых материальных ресурсов, не учтенная в сметной норме, 2%","%",{"$f":"J171","v":2},2,2,0.06,0.06,{"$f":"ROUND(L171-M171,4)","v":0},{"$f":"ROUND(P171,2)","v":0},{"$f":"ROUND(ROUND(ROUND(SUMIF(SmtRes!AQ300:'SmtRes'!AQ310,\"=1\",SmtRes!CU300:'SmtRes'!CU310),2),2)*I171/100,2)","v":0},{"$f":"ROUND(CR171*I171,2)","v":0},{"$f":"ROUND(CS171*I171,2)","v":0},{"$f":"ROUND(CT171*I171,2)","v":0},{"$f":"ROUND(CU171*I171,2)","v":0},{"$f":"ROUND(CV171*I171,7)","v":0},{"$f":"ROUND(CW171*I171,7)","v":0},{"$f":"ROUND(CX171*I171,2)","v":0},{"$f":"ROUND(CY171,2)","v":0},0,null,-1,{"$f":"ROUND((AC171+AD171+AF171),2)","v":0},{"$f":"ROUND((ES171),2)","v":0},{"$f":"ROUND((((ET171)-(EU171))+AE171),2)","v":0},{"$f":"ROUND((EU171),2)","v":0},{"$f":"ROUND((EV171),2)","v":0},{"$f":"ROUND((AP171),2)","v":0},{"$f":"(EW171)","v":0},{"$f":"(EX171)","v":0},{"$f":"(AS171)","v":0},0,0,0,0,0,0,0,0,0,97,51,1,1,null,null,1,1,1,1,"","","","",3,2,"",null,null,108001,0,"",0,3,0,1,1,1,1,1,1,"",97,51,"",null,null,0,0,0,0,0,0,0,0,0,"",0,{"$f":"0","v":0},{"$f":"0","v":0},{"$f":"0","v":0},{"$f":"0","v":0},{"$f":"0","v":0},{"$f":"0","v":0},{"$f":"0","v":0},{"$f":"0","v":0},{"$f":"0","v":0},{"$f":"0","v":0},{"$f":"0","v":0},null,null,"","","","","","","","","","","",0,0,1,1,null,null,null,1013,"%","%",1,null,"","","","",null,83666702,3,"Монтажные работы",0,"",2,108001,"Электротехнические установки: на других объектах","мФЕР-08",null,"",null,1024,0,0,0,0,0,0,0,null,null,null,null,null,null,null,null,null,null,null,null,null,null,null,null,null,null,0,0,0,null,null,null,null,97,51,null,"",null,null,1,null,274903907,2,1,-2,0,0,{"$f":"ROUND(IF(AND(BH171=3,BI171=3,FS171<>0),P171,0),2)","v":0},{"$f":"ROUND(O171+X171+Y171,2)+GX171","v":0},{"$f":"IF(OR(BI171=0,BI171=1),GM171-GX171,0)","v":0},{"$f":"IF(BI171=2,GM171-GX171,0)","v":0},{"$f":"IF(BI171=4,GM171-GX171,0)","v":0},null,0,3,0,"",{"$f":"ROUND((GT171),2)","v":0},1,{"$f":"ROUND(HC171*I171,2)","v":0},null,null,0,0,{"$f":"0","v":0},null,"","",null,null,null,null,null,null,"","Пр/812-049.3-1","Пр/774-049.3","Электротехнические установки: на других объектах","Электротехнические установки: на других объектах",null,0,null,null,null,null,null,null,null,null,null,null,null,null,null,null,null,null,null,0]
[18,1,310,null,"","421/пр_2020_п.75_пп.а","Сметная стоимость вспомогательных ненормируемых материальных ресурсов, не учтенная в сметной норме, 2%","%",{"$f":"J172","v":2},2,2,0.06,0.06,{"$f":"ROUND(L172-M172,4)","v":0},{"$f":"ROUND(P172,2)","v":0},{"$f":"ROUND(ROUND(ROUND(SUMIF(SmtRes!AQ300:'SmtRes'!AQ310,\"=1\",SmtRes!CU300:'SmtRes'!CU310),2),2)*I172/100,2)","v":0},{"$f":"ROUND(CR172*I172,2)","v":0},{"$f":"ROUND(CS172*I172,2)","v":0},{"$f":"ROUND(CT172*I172,2)","v":0},{"$f":"ROUND(CU172*I172,2)","v":0},{"$f":"ROUND(CV172*I172,7)","v":0},{"$f":"ROUND(CW172*I172,7)","v":0},{"$f":"ROUND(CX172*I172,2)","v":0},0,0,null,-1,{"$f":"ROUND((AC172+AD172+AF172),2)","v":0},{"$f":"ROUND((ES172),2)","v":0},{"$f":"ROUND((((ET172)-(EU172))+AE172),2)","v":0},{"$f":"ROUND((EU172),2)","v":0},{"$f":"ROUND((EV172),2)","v":0},{"$f":"ROUND((AP172),2)","v":0},{"$f":"(EW172)","v":0},{"$f":"(EX172)","v":0},{"$f":"(AS172)","v":0},0,0,0,0,0,0,0,0,0,97,51,1,1,null,null,1,1,1,1,"","","","",3,2,"",null,null,108001,0,"",0,3,0,1,1,1,1,1,1,"",97,51,"",null,null,0,0,0,0,0,0,0,0,0,"",0,{"$f":"0","v":0},{"$f":"0","v":0},{"$f":"0","v":0},{"$f":"0","v":0},{"$f":"0","v":0},{"$f":"0","v":0},{"$f":"0","v":0},{"$f":"0","v":0},{"$f":"0","v":0},{"$f":"0","v":0},{"$f":"0","v":0},null,null,"","","","","","","","","","","",0,0,1,1,null,null,null,1013,"%","%",1,null,"","","","",null,83666702,3,"Монтажные работы",0,"",2,108001,"Электротехнические установки: на других объектах","мФЕР-08",null,"",null,1024,0,0,0,0,0,0,0,null,null,null,null,null,null,null,null,null,null,null,null,null,null,null,null,null,null,0,0,0,null,null,null,null,97,51,null,"",null,null,1,null,274903907,2,1,-2,0,0,{"$f":"ROUND(IF(AND(BH172=3,BI172=3,FS172<>0),P172,0),2)","v":0},{"$f":"ROUND(O172+X172+Y172,2)+GX172","v":0},{"$f":"IF(OR(BI172=0,BI172=1),GM172-GX172,0)","v":0},{"$f":"IF(BI172=2,GM172-GX172,0)","v":0},{"$f":"IF(BI172=4,GM172-GX172,0)","v":0},null,0,3,0,"",{"$f":"ROUND((GT172),2)","v":0},1,{"$f":"ROUND(HC172*I172,2)","v":0},null,null,0,0,{"$f":"0","v":0},null,"","",null,null,null,null,null,null,"","Пр/812-049.3-1","Пр/774-049.3","Электротехнические установки: на других объектах","Электротехнические установки: на других объектах",null,0,null,null,null,null,null,null,null,null,null,null,null,null,null,null,null,null,null,0]
[17,1,{"$f":"ROW(SmtRes!A323)","v":323},{"$f":"ROW(EtalonRes!A323)","v":323},"7","33-04-017-01","Подвеска провода СИП-2 напряжением от 0,4 кВ до 1 кВ на опорах, при 32 опорах на км линии: с использованием автогидроподъемника","1000 м",0,0,0,0.13300000000000001,0.13300000000000001,{"$f":"ROUND(L173-M173,4)","v":0},{"$f":"ROUND(CP173,2)","v":0},{"$f":"SUMIF(SmtRes!AQ311:'SmtRes'!AQ323,\"=1\",SmtRes!DF311:'SmtRes'!DF323)","v":0},{"$f":"SUMIF(SmtRes!AQ311:'SmtRes'!AQ323,\"=1\",SmtRes!DG311:'SmtRes'!DG323)","v":0},{"$f":"SUMIF(SmtRes!AQ311:'SmtRes'!AQ323,\"=1\",SmtRes!DH311:'SmtRes'!DH323)","v":0},{"$f":"SUMIF(SmtRes!AQ311:'SmtRes'!AQ323,\"=1\",SmtRes!DI311:'SmtRes'!DI323)","v":0},{"$f":"ROUND(CU173*I173,2)","v":0},{"$f":"SUMIF(SmtRes!AQ311:'SmtRes'!AQ323,\"=1\",SmtRes!CV311:'SmtRes'!CV323)","v":0},{"$f":"SUMIF(SmtRes!AQ311:'SmtRes'!AQ323,\"=1\",SmtRes!CW311:'SmtRes'!CW323)","v":0},{"$f":"ROUND(CX173*I173,2)","v":0},0,0,null,85316715,{"$f":"ROUND((AC173+AD173+AF173),2)","v":85255.83},{"$f":"ROUND((0),2)","v":0},{"$f":"ROUND((((SUM(SmtRes!BR311:'SmtRes'!BR323))-(SUM(SmtRes!BS311:'SmtRes'!BS323)))+AE173),2)","v":9648.4599999999991},{"$f":"ROUND((SUM(SmtRes!BS311:'SmtRes'!BS323)),2)","v":20414.46},{"$f":"ROUND((SUM(SmtRes!BT311:'SmtRes'!BT323)),2)","v":75607.37},{"$f":"ROUND((AP173),2)","v":0},{"$f":"(SUM(SmtRes!BU311:'SmtRes'!BU323))","v":95.12},{"$f":"(SUM(SmtRes!BV311:'SmtRes'!BV323))","v":24.889999999999997},{"$f":"(AS173)","v":0},105670.2788,0,9648.4517999999989,20414.455600000001,75607.371400000004,0,95.12,24.889999999999997,0,103,60,1,1,null,null,1,1,1,1,"","","","",0,1,"ГЭСН-2022 доп.9, 33-04-017-01, приказ Минстроя России от 16.02.2024 г. № 102/пр",null,null,33001,0,"",0,2,0,1,1,1,1,1,1,"",103,60,"",null,null,0,0,0,7,0,0,0,0,0,"",0,{"$f":"(P173+Q173+S173+R173)","v":0},{"$f":"SUMIF(SmtRes!AQ311:'SmtRes'!AQ323,\"=1\",SmtRes!AA311:'SmtRes'!AA323)","v":0},{"$f":"SUMIF(SmtRes!AQ311:'SmtRes'!AQ323,\"=1\",SmtRes!AB311:'SmtRes'!AB323)","v":2984.03},{"$f":"SUMIF(SmtRes!AQ311:'SmtRes'!AQ323,\"=1\",SmtRes!AC311:'SmtRes'!AC323)","v":3525.83},{"$f":"SUMIF(SmtRes!AQ311:'SmtRes'!AQ323,\"=1\",SmtRes!AD311:'SmtRes'!AD323)","v":3125.9799999999996},{"$f":"AG173","v":0},{"$f":"SUMIF(SmtRes!AQ311:'SmtRes'!AQ323,\"=1\",SmtRes!BU311:'SmtRes'!BU323)","v":95.12},{"$f":"SUMIF(SmtRes!AQ311:'SmtRes'!AQ323,\"=1\",SmtRes!BV311:'SmtRes'!BV323)","v":24.889999999999997},{"$f":"AJ173","v":0},{"$f":"(((S173+R173)*AT173)/100)","v":0},{"$f":"(((S173+R173)*AU173)/100)","v":0},null,null,"","","","","","","","","","","",0,0,1,1,null,null,null,1013,"1000 м","1000 М",1,null,"","","","",null,83666879,2,"Общестроительные работы",27,"Линии электропередачи",1,33001,"Линии электропередачи","ФЕР-33",null,"",null,131072,0,0,0,0,0,95.12,24.89,0,null,null,null,null,null,null,null,null,null,null,null,null,null,null,null,null,null,0,0,0,null,null,null,null,103,60,null,"",null,null,1,null,1117055163,2,1,-2,0,0,{"$f":"ROUND(IF(AND(BH173=3,BI173=3,FS173<>0),P173,0),2)","v":0},{"$f":"ROUND(O173+X173+Y173,2)+GX173","v":0},{"$f":"IF(OR(BI173=0,BI173=1),GM173-GX173,0)","v":0},{"$f":"IF(BI173=2,GM173-GX173,0)","v":0},{"$f":"IF(BI173=4,GM173-GX173,0)","v":0},null,0,3,0,"",{"$f":"ROUND((GT173),2)","v":0},1,{"$f":"ROUND(HC173*I173,2)","v":0},null,null,0,0,{"$f":"GV173*GW173","v":0},null,"","",null,null,null,null,null,null,"","Пр/812-027.0-1","Пр/774-027.0","Линии электропередачи","Линии электропередачи",null,0,null,null,null,null,null,null,null,null,null,null,null,null,null,null,null,null,null,0]
[17,1,{"$f":"ROW(SmtRes!A336)","v":336},{"$f":"ROW(EtalonRes!A336)","v":336},"7","33-04-017-01","Подвеска провода СИП-2 напряжением от 0,4 кВ до 1 кВ на опорах, при 32 опорах на км линии: с использованием автогидроподъемника","1000 м",0,0,0,0.13300000000000001,0.13300000000000001,{"$f":"ROUND(L174-M174,4)","v":0},{"$f":"ROUND(CP174,2)","v":0},{"$f":"SUMIF(SmtRes!AQ324:'SmtRes'!AQ336,\"=1\",SmtRes!DF324:'SmtRes'!DF336)","v":0},{"$f":"SUMIF(SmtRes!AQ324:'SmtRes'!AQ336,\"=1\",SmtRes!DG324:'SmtRes'!DG336)","v":0},{"$f":"SUMIF(SmtRes!AQ324:'SmtRes'!AQ336,\"=1\",SmtRes!DH324:'SmtRes'!DH336)","v":0},{"$f":"SUMIF(SmtRes!AQ324:'SmtRes'!AQ336,\"=1\",SmtRes!DI324:'SmtRes'!DI336)","v":0},{"$f":"ROUND(CU174*I174,2)","v":0},{"$f":"SUMIF(SmtRes!AQ324:'SmtRes'!AQ336,\"=1\",SmtRes!CV324:'SmtRes'!CV336)","v":0},{"$f":"SUMIF(SmtRes!AQ324:'SmtRes'!AQ336,\"=1\",SmtRes!CW324:'SmtRes'!CW336)","v":0},{"$f":"ROUND(CX174*I174,2)","v":0},0,0,null,85316656,{"$f":"ROUND((AC174+AD174+AF174),2)","v":85255.83},{"$f":"ROUND((0),2)","v":0},{"$f":"ROUND((((SUM(SmtRes!BR324:'SmtRes'!BR336))-(SUM(SmtRes!BS324:'SmtRes'!BS336)))+AE174),2)","v":9648.4599999999991},{"$f":"ROUND((SUM(SmtRes!BS324:'SmtRes'!BS336)),2)","v":20414.46},{"$f":"ROUND((SUM(SmtRes!BT324:'SmtRes'!BT336)),2)","v":75607.37},{"$f":"ROUND((AP174),2)","v":0},{"$f":"(SUM(SmtRes!BU324:'SmtRes'!BU336))","v":95.12},{"$f":"(SUM(SmtRes!BV324:'SmtRes'!BV336))","v":24.889999999999997},{"$f":"(AS174)","v":0},105670.2788,0,9648.4517999999989,20414.455600000001,75607.371400000004,0,95.12,24.889999999999997,0,103,60,1,1,null,null,1,1,1,1,"","","","",0,1,"ГЭСН-2022 доп.9, 33-04-017-01, приказ Минстроя России от 16.02.2024 г. № 102/пр",null,null,33001,0,"",0,2,0,1,1,1,1,1,1,"",103,60,"",null,null,0,0,0,7,0,0,0,0,0,"",0,{"$f":"(P174+Q174+S174+R174)","v":0},{"$f":"SUMIF(SmtRes!AQ324:'SmtRes'!AQ336,\"=1\",SmtRes!AA324:'SmtRes'!AA336)","v":0},{"$f":"SUMIF(SmtRes!AQ324:'SmtRes'!AQ336,\"=1\",SmtRes!AB324:'SmtRes'!AB336)","v":2984.03},{"$f":"SUMIF(SmtRes!AQ324:'SmtRes'!AQ336,\"=1\",SmtRes!AC324:'SmtRes'!AC336)","v":3525.83},{"$f":"SUMIF(SmtRes!AQ324:'SmtRes'!AQ336,\"=1\",SmtRes!AD324:'SmtRes'!AD336)","v":3125.9799999999996},{"$f":"AG174","v":0},{"$f":"SUMIF(SmtRes!AQ324:'SmtRes'!AQ336,\"=1\",SmtRes!BU324:'SmtRes'!BU336)","v":95.12},{"$f":"SUMIF(SmtRes!AQ324:'SmtRes'!AQ336,\"=1\",SmtRes!BV324:'SmtRes'!BV336)","v":24.889999999999997},{"$f":"AJ174","v":0},{"$f":"(((S174+R174)*AT174)/100)","v":0},{"$f":"(((S174+R174)*AU174)/100)","v":0},null,null,"","","","","","","","","","","",0,0,1,1,null,null,null,1013,"1000 м","1000 М",1,null,"","","","",null,83666879,2,"Общестроительные работы",27,"Линии электропередачи",1,33001,"Линии электропередачи","ФЕР-33",null,"",null,131072,0,0,0,0,0,95.12,24.89,0,null,null,null,null,null,null,null,null,null,null,null,null,null,null,null,null,null,0,0,0,null,null,null,null,103,60,null,"",null,null,1,null,1117055163,2,1,-2,0,0,{"$f":"ROUND(IF(AND(BH174=3,BI174=3,FS174<>0),P174,0),2)","v":0},{"$f":"ROUND(O174+X174+Y174,2)+GX174","v":0},{"$f":"IF(OR(BI174=0,BI174=1),GM174-GX174,0)","v":0},{"$f":"IF(BI174=2,GM174-GX174,0)","v":0},{"$f":"IF(BI174=4,GM174-GX174,0)","v":0},null,0,3,0,"",{"$f":"ROUND((GT174),2)","v":0},1,{"$f":"ROUND(HC174*I174,2)","v":0},null,null,0,0,{"$f":"GV174*GW174","v":0},null,"","",null,null,null,null,null,null,"","Пр/812-027.0-1","Пр/774-027.0","Линии электропередачи","Линии электропередачи",null,0,null,null,null,null,null,null,null,null,null,null,null,null,null,null,null,null,null,0]
[19,1,null,null,null,"","По ВОР \"Подвеска самонесущих изолированных проводов СИП-2\"","",null,null,null,null,null,null,null,null,null,null,null,null,null,null,null,null,null,null,1,null,null,null,null,null,null,null,null,null,null,null,null,null,null,null,null,null,null,null,null,null,null,null,null,null,null,null,null,null,null,null,null,null,null,null,null,null,null,null,null,null,null,null,null,null,null,null,null,null,null,null,null,null,null,null,null,null,null,null,null,null,null,null,null,null,null,null,null,null,null,null,null,null,null,null,null,null,null,null,null,null,null,null,null,null,null,null,null,null,null,null,null,null,null,null,null,null,null,null,null,null,null,null,null,null,null,null,null,null,null,null,null,null,null,null,null,null,null,null,null,null,null,null,null,null,null,null,null,null,null,null,null,null,null,null,null,null,null,null,null,null,null,null,null,null,null,null,null,null,null,null,null,null,null,null,null,null,null,null,null,null,null,null,null,null,null,null,null,null,null,null,null,null,null,null,null,null,null,null,null,null,null,null,null,null,null,null,null,null,null,null,null,null,null,null,null,null,null,null,null,null,null,null,null,null,null,null,null,null,null,null,null,null,null,null,null,null,0]
[18,1,321,null,"7,1","20.1.01.01","Комплект линейной арматуры для крепления СИП-2 на опоре ВЛИ","ШТ",{"$f":"I173*J176","v":0},0,0,0,0,{"$f":"ROUND(L176-M176,4)","v":0},{"$f":"ROUND(CP176,2)","v":0},{"$f":"ROUND(CQ176*I176,2)","v":0},{"$f":"ROUND(CR176*I176,2)","v":0},{"$f":"ROUND(CS176*I176,2)","v":0},{"$f":"ROUND(CT176*I176,2)","v":0},{"$f":"ROUND(CU176*I176,2)","v":0},{"$f":"ROUND(CV176*I176,7)","v":0},{"$f":"ROUND(CW176*I176,7)","v":0},{"$f":"ROUND(CX176*I176,2)","v":0},{"$f":"ROUND(CY176,2)","v":0},0,null,85316715,{"$f":"ROUND((AC176+AD176+AF176),2)","v":0},{"$f":"ROUND((ES176),2)","v":0},{"$f":"ROUND((((ET176)-(EU176))+AE176),2)","v":0},{"$f":"ROUND((EU176),2)","v":0},0,{"$f":"ROUND((AP176),2)","v":0},{"$f":"(EW176)","v":0},0,{"$f":"(AS176)","v":0},0,0,0,0,0,0,0,0,0,103,60,1,1,null,null,1,1,1,1,"","","","",3,1,"",null,null,33001,0,"",0,2,0,1,1,1,1,1,1,"",103,60,"",null,null,0,0,0,7,1,0,0,0,0,"",0,{"$f":"(P176+Q176+S176+R176)","v":0},{"$f":"ROUND(AL176*BC176,2)","v":0},{"$f":"ROUND(AM176*BB176,2)","v":0},{"$f":"ROUND(AN176*BS176,2)","v":0},{"$f":"ROUND(AO176*BA176,2)","v":0},{"$f":"AG176","v":0},0,0,0,{"$f":"(((S176+R176)*AT176)/100)","v":0},{"$f":"(((S176+R176)*AU176)/100)","v":0},null,null,"","","","","","","","","","","",0,0,1,1,null,null,null,1013,"ШТ","ШТ",1,null,"","","","",null,83666879,2,"Общестроительные работы",27,"Линии электропередачи",1,33001,"Линии электропередачи","ФЕР-33",null,"",null,0,0,0,0,0,0,0,0,null,null,null,null,null,null,null,null,null,null,null,null,null,null,null,null,null,null,0,0,0,null,null,null,null,103,60,null,"",null,null,1,null,864875641,2,1,-2,0,0,{"$f":"ROUND(IF(AND(BH176=3,BI176=3,FS176<>0),P176,0),2)","v":0},{"$f":"ROUND(O176+X176+Y176,2)+GX176","v":0},{"$f":"IF(OR(BI176=0,BI176=1),GM176-GX176,0)","v":0},{"$f":"IF(BI176=2,GM176-GX176,0)","v":0},{"$f":"IF(BI176=4,GM176-GX176,0)","v":0},null,0,3,0,"",{"$f":"ROUND((GT176),2)","v":0},1,{"$f":"ROUND(HC176*I176,2)","v":0},null,null,0,0,{"$f":"GV176*GW176","v":0},null,"","",null,null,null,null,null,null,"","Пр/812-027.0-1","Пр/774-027.0","Линии электропередачи","Линии электропередачи",null,0,null,null,null,null,null,null,null,null,null,null,null,null,null,null,null,null,null,0]
[18,1,334,null,"7,1","20.1.01.01","Комплект линейной арматуры для крепления СИП-2 на опоре ВЛИ","ШТ",{"$f":"I174*J177","v":0},0,0,0,0,0,0,0,0,0,0,0,0,0,0,0,0,null,85316656,0,0,0,0,0,0,0,0,0,0,0,0,0,0,0,0,0,0,103,60,1,1,null,null,1,1,1,1,"","","","",3,1,"",null,null,33001,0,"",0,2,0,1,1,1,1,1,1,"",103,60,"",null,null,0,0,0,7,1,0,0,0,0,"",0,0,0,0,0,0,0,0,0,0,0,0,null,null,"","","","","","","","","","","",0,0,1,1,null,null,null,1013,"ШТ","ШТ",1,null,"","","","",null,83666879,2,"Общестроительные работы",27,"Линии электропередачи",1,33001,"Линии электропередачи","ФЕР-33",null,"",null,0,0,0,0,0,0,0,0,null,null,null,null,null,null,null,null,null,null,null,null,null,null,null,null,null,null,0,0,0,null,null,null,null,103,60,null,"",null,null,1,null,864875641,2,1,-2,0,0,0,0,0,0,0,null,0,3,0,"",0,1,0,null,null,0,0,0,null,"","",null,null,null,null,null,null,"","Пр/812-027.0-1","Пр/774-027.0","Линии электропередачи","Линии электропередачи",null,0,null,null,null,null,null,null,null,null,null,null,null,null,null,null,null,null,null,0]
[18,1,322,null,"7,2","20.1.01.11","Комплект линейной арматуры для устройства заземлений на опорах ВЛИ","ШТ",{"$f":"I173*J178","v":0},0,0,0,0,0,0,0,0,0,0,0,0,0,0,0,0,null,85316715,0,0,0,0,0,0,0,0,0,0,0,0,0,0,0,0,0,0,103,60,1,1,null,null,1,1,1,1,"","","","",3,1,"",null,null,33001,0,"",0,2,0,1,1,1,1,1,1,"",103,60,"",null,null,0,0,0,7,2,0,0,0,0,"",0,0,0,0,0,0,0,0,0,0,0,0,null,null,"","","","","","","","","","","",0,0,1,1,null,null,null,1013,"ШТ","ШТ",1,null,"","","","",null,83666879,2,"Общестроительные работы",27,"Линии электропередачи",1,33001,"Линии электропередачи","ФЕР-33",null,"",null,0,0,0,0,0,0,0,0,null,null,null,null,null,null,null,null,null,null,null,null,null,null,null,null,null,null,0,0,0,null,null,null,null,103,60,null,"",null,null,1,null,-1890832814,2,1,-2,0,0,0,0,0,0,0,null,0,3,0,"",0,1,0,null,null,0,0,0,null,"","",null,null,null,null,null,null,"","Пр/812-027.0-1","Пр/774-027.0","Линии электропередачи","Линии электропередачи",null,0,null,null,null,null,null,null,null,null,null,null,null,null,null,null,null,null,null,0]
[18,1,335,null,"7,2","20.1.01.11","Комплект линейной арматуры для устройства заземлений на опорах ВЛИ","ШТ",{"$f":"I174*J179","v":0},0,0,0,0,0,0,0,0,0,0,0,0,0,0,0,0,null,85316656,0,0,0,0,0,0,0,0,0,0,0,0,0,0,0,0,0,0,103,60,1,1,null,null,1,1,1,1,"","","","",3,1,"",null,null,33001,0,"",0,2,0,1,1,1,1,1,1,"",103,60,"",null,null,0,0,0,7,2,0,0,0,0,"",0,0,0,0,0,0,0,0,0,0,0,0,null,null,"","","","","","","","","","","",0,0,1,1,null,null,null,1013,"ШТ","ШТ",1,null,"","","","",null,83666879,2,"Общестроительные работы",27,"Линии электропередачи",1,33001,"Линии электропередачи","ФЕР-33",null,"",null,0,0,0,0,0,0,0,0,null,null,null,null,null,null,null,null,null,null,null,null,null,null,null,null,null,null,0,0,0,null,null,null,null,103,60,null,"",null,null,1,null,-1890832814,2,1,-2,0,0,0,0,0,0,0,null,0,3,0,"",0,1,0,null,null,0,0,0,null,"","",null,null,null,null,null,null,"","Пр/812-027.0-1","Пр/774-027.0","Линии электропередачи","Линии электропередачи",null,0,null,null,null,null,null,null,null,null,null,null,null,null,null,null,null,null,null,0]
[18,1,323,null,"7,3","21.2.01.01","Провода самонесущие изолированные для ВЛИ","1000 м",{"$f":"I173*J180","v":0},0,0,0,0,0,0,0,0,0,0,0,0,0,0,0,0,null,85316715,0,0,0,0,0,0,0,0,0,0,0,0,0,0,0,0,0,0,103,60,1,1,null,null,1,1,1,1,"","","","",3,1,"",null,null,33001,0,"",0,2,0,1,1,1,1,1,1,"",103,60,"",null,null,0,0,0,7,3,0,0,0,0,"",0,0,0,0,0,0,0,0,0,0,0,0,null,null,"","","","","","","","","","","",0,0,1,1,null,null,null,1013,"1000 м","1000 М",1,null,"","","","",null,83666879,2,"Общестроительные работы",27,"Линии электропередачи",1,33001,"Линии электропередачи","ФЕР-33",null,"",null,0,0,0,0,0,0,0,0,null,null,null,null,null,null,null,null,null,null,null,null,null,null,null,null,null,null,0,0,0,null,null,null,null,103,60,null,"",null,null,1,null,164804165,2,1,-2,0,0,0,0,0,0,0,null,0,3,0,"",0,1,0,null,null,0,0,0,null,"","",null,null,null,null,null,null,"","Пр/812-027.0-1","Пр/774-027.0","Линии электропередачи","Линии электропередачи",null,0,null,null,null,null,null,null,null,null,null,null,null,null,null,null,null,null,null,0]
[18,1,336,null,"7,3","21.2.01.01","Провода самонесущие изолированные для ВЛИ","1000 м",{"$f":"I174*J181","v":0},0,0,0,0,0,0,0,0,0,0,0,0,0,0,0,0,null,85316656,0,0,0,0,0,0,0,0,0,0,0,0,0,0,0,0,0,0,103,60,1,1,null,null,1,1,1,1,"","","","",3,1,"",null,null,33001,0,"",0,2,0,1,1,1,1,1,1,"",103,60,"",null,null,0,0,0,7,3,0,0,0,0,"",0,0,0,0,0,0,0,0,0,0,0,0,null,null,"","","","","","","","","","","",0,0,1,1,null,null,null,1013,"1000 м","1000 М",1,null,"","","","",null,83666879,2,"Общестроительные работы",27,"Линии электропередачи",1,33001,"Линии электропередачи","ФЕР-33",null,"",null,0,0,0,0,0,0,0,0,null,null,null,null,null,null,null,null,null,null,null,null,null,null,null,null,null,null,0,0,0,null,null,null,null,103,60,null,"",null,null,1,null,164804165,2,1,-2,0,0,0,0,0,0,0,null,0,3,0,"",0,1,0,null,null,0,0,0,null,"","",null,null,null,null,null,null,"","Пр/812-027.0-1","Пр/774-027.0","Линии электропередачи","Линии электропередачи",null,0,null,null,null,null,null,null,null,null,null,null,null,null,null,null,null,null,null,0]
[17,1,{"$f":"ROW(SmtRes!A343)","v":343},{"$f":"ROW(EtalonRes!A343)","v":343},"8","33-04-017-03","При изменении количества опор на 1 км ВЛИ добавлять или исключать: к норме 33-04-017-01","ШТ",0,0,0,2,2,0,0,{"$f":"SUMIF(SmtRes!AQ337:'SmtRes'!AQ343,\"=1\",SmtRes!DF337:'SmtRes'!DF343)","v":0},{"$f":"SUMIF(SmtRes!AQ337:'SmtRes'!AQ343,\"=1\",SmtRes!DG337:'SmtRes'!DG343)","v":0},{"$f":"SUMIF(SmtRes!AQ337:'SmtRes'!AQ343,\"=1\",SmtRes!DH337:'SmtRes'!DH343)","v":0},{"$f":"SUMIF(SmtRes!AQ337:'SmtRes'!AQ343,\"=1\",SmtRes!DI337:'SmtRes'!DI343)","v":0},0,{"$f":"SUMIF(SmtRes!AQ337:'SmtRes'!AQ343,\"=1\",SmtRes!CV337:'SmtRes'!CV343)","v":0},{"$f":"SUMIF(SmtRes!AQ337:'SmtRes'!AQ343,\"=1\",SmtRes!CW337:'SmtRes'!CW343)","v":0},0,0,0,null,85316715,1593.72,{"$f":"ROUND((0),2)","v":0},{"$f":"ROUND((((SUM(SmtRes!BR337:'SmtRes'!BR343))-(SUM(SmtRes!BS337:'SmtRes'!BS343)))+AE182),2)","v":152.56},{"$f":"ROUND((SUM(SmtRes!BS337:'SmtRes'!BS343)),2)","v":357.19},{"$f":"ROUND((SUM(SmtRes!BT337:'SmtRes'!BT343)),2)","v":1441.16},0,{"$f":"(SUM(SmtRes!BU337:'SmtRes'!BU343))","v":1.81},{"$f":"(SUM(SmtRes!BV337:'SmtRes'!BV343))","v":0.44},0,1950.9099000000001,0,152.56120000000001,357.18759999999997,1441.1611,0,1.81,0.44,0,103,60,1,1,null,null,1,1,1,1,"","","","",0,1,"ГЭСН-2022 доп.9, 33-04-017-03, приказ Минстроя России от 16.02.2024 г. № 102/пр",null,null,33001,0,"",0,2,0,1,1,1,1,1,1,"",103,60,"",null,null,0,0,0,8,0,0,0,0,0,"",0,0,{"$f":"SUMIF(SmtRes!AQ337:'SmtRes'!AQ343,\"=1\",SmtRes!AA337:'SmtRes'!AA343)","v":0},{"$f":"SUMIF(SmtRes!AQ337:'SmtRes'!AQ343,\"=1\",SmtRes!AB337:'SmtRes'!AB343)","v":506.23},{"$f":"SUMIF(SmtRes!AQ337:'SmtRes'!AQ343,\"=1\",SmtRes!AC337:'SmtRes'!AC343)","v":811.79},{"$f":"SUMIF(SmtRes!AQ337:'SmtRes'!AQ343,\"=1\",SmtRes!AD337:'SmtRes'!AD343)","v":2465.6499999999996},{"$f":"AG182","v":0},{"$f":"SUMIF(SmtRes!AQ337:'SmtRes'!AQ343,\"=1\",SmtRes!BU337:'SmtRes'!BU343)","v":1.81},{"$f":"SUMIF(SmtRes!AQ337:'SmtRes'!AQ343,\"=1\",SmtRes!BV337:'SmtRes'!BV343)","v":0.44},{"$f":"AJ182","v":0},0,0,null,null,"","","","","","","","","","","",0,0,1,1,null,null,null,1013,"ШТ","ШТ",1,null,"","","","",null,83666879,2,"Общестроительные работы",27,"Линии электропередачи",1,33001,"Линии электропередачи","ФЕР-33",null,"",null,131072,0,0,0,0,0,1.81,0.44,0,null,null,null,null,null,null,null,null,null,null,null,null,null,null,null,null,null,0,0,0,null,null,null,null,103,60,null,"",null,null,1,null,-1728862771,2,1,-2,0,0,0,0,0,0,0,null,0,3,0,"",0,1,0,null,null,0,0,0,null,"","",null,null,null,null,null,null,"","Пр/812-027.0-1","Пр/774-027.0","Линии электропередачи","Линии электропередачи",null,0,null,null,null,null,null,null,null,null,null,null,null,null,null,null,null,null,null,0]
[17,1,{"$f":"ROW(SmtRes!A350)","v":350},{"$f":"ROW(EtalonRes!A350)","v":350},"8","33-04-017-03","При изменении количества опор на 1 км ВЛИ добавлять или исключать: к норме 33-04-017-01","ШТ",0,0,0,2,2,0,0,{"$f":"SUMIF(SmtRes!AQ344:'SmtRes'!AQ350,\"=1\",SmtRes!DF344:'SmtRes'!DF350)","v":0},{"$f":"SUMIF(SmtRes!AQ344:'SmtRes'!AQ350,\"=1\",SmtRes!DG344:'SmtRes'!DG350)","v":0},{"$f":"SUMIF(SmtRes!AQ344:'SmtRes'!AQ350,\"=1\",SmtRes!DH344:'SmtRes'!DH350)","v":0},{"$f":"SUMIF(SmtRes!AQ344:'SmtRes'!AQ350,\"=1\",SmtRes!DI344:'SmtRes'!DI350)","v":0},0,{"$f":"SUMIF(SmtRes!AQ344:'SmtRes'!AQ350,\"=1\",SmtRes!CV344:'SmtRes'!CV350)","v":0},{"$f":"SUMIF(SmtRes!AQ344:'SmtRes'!AQ350,\"=1\",SmtRes!CW344:'SmtRes'!CW350)","v":0},0,0,0,null,85316656,1593.72,{"$f":"ROUND((0),2)","v":0},{"$f":"ROUND((((SUM(SmtRes!BR344:'SmtRes'!BR350))-(SUM(SmtRes!BS344:'SmtRes'!BS350)))+AE183),2)","v":152.56},{"$f":"ROUND((SUM(SmtRes!BS344:'SmtRes'!BS350)),2)","v":357.19},{"$f":"ROUND((SUM(SmtRes!BT344:'SmtRes'!BT350)),2)","v":1441.16},0,{"$f":"(SUM(SmtRes!BU344:'SmtRes'!BU350))","v":1.81},{"$f":"(SUM(SmtRes!BV344:'SmtRes'!BV350))","v":0.44},0,1950.9099000000001,0,152.56120000000001,357.18759999999997,1441.1611,0,1.81,0.44,0,103,60,1,1,null,null,1,1,1,1,"","","","",0,1,"ГЭСН-2022 доп.9, 33-04-017-03, приказ Минстроя России от 16.02.2024 г. № 102/пр",null,null,33001,0,"",0,2,0,1,1,1,1,1,1,"",103,60,"",null,null,0,0,0,8,0,0,0,0,0,"",0,0,{"$f":"SUMIF(SmtRes!AQ344:'SmtRes'!AQ350,\"=1\",SmtRes!AA344:'SmtRes'!AA350)","v":0},{"$f":"SUMIF(SmtRes!AQ344:'SmtRes'!AQ350,\"=1\",SmtRes!AB344:'SmtRes'!AB350)","v":506.23},{"$f":"SUMIF(SmtRes!AQ344:'SmtRes'!AQ350,\"=1\",SmtRes!AC344:'SmtRes'!AC350)","v":811.79},{"$f":"SUMIF(SmtRes!AQ344:'SmtRes'!AQ350,\"=1\",SmtRes!AD344:'SmtRes'!AD350)","v":2465.6499999999996},{"$f":"AG183","v":0},{"$f":"SUMIF(SmtRes!AQ344:'SmtRes'!AQ350,\"=1\",SmtRes!BU344:'SmtRes'!BU350)","v":1.81},{"$f":"SUMIF(SmtRes!AQ344:'SmtRes'!AQ350,\"=1\",SmtRes!BV344:'SmtRes'!BV350)","v":0.44},{"$f":"AJ183","v":0},0,0,null,null,"","","","","","","","","","","",0,0,1,1,null,null,null,1013,"ШТ","ШТ",1,null,"","","","",null,83666879,2,"Общестроительные работы",27,"Линии электропередачи",1,33001,"Линии электропередачи","ФЕР-33",null,"",null,131072,0,0,0,0,0,1.81,0.44,0,null,null,null,null,null,null,null,null,null,null,null,null,null,null,null,null,null,0,0,0,null,null,null,null,103,60,null,"",null,null,1,null,-1728862771,2,1,-2,0,0,0,0,0,0,0,null,0,3,0,"",0,1,0,null,null,0,0,0,null,"","",null,null,null,null,null,null,"","Пр/812-027.0-1","Пр/774-027.0","Линии электропередачи","Линии электропередачи",null,0,null,null,null,null,null,null,null,null,null,null,null,null,null,null,null,null,null,0]
[19,1,null,null,null,"","Относится к расценке выше и зависит от подвески провода","",null,null,null,null,null,null,null,null,null,null,null,null,null,null,null,null,null,null,1,null,null,null,null,null,null,null,null,null,null,null,null,null,null,null,null,null,null,null,null,null,null,null,null,null,null,null,null,null,null,null,null,null,null,null,null,null,null,null,null,null,null,null,null,null,null,null,null,null,null,null,null,null,null,null,null,null,null,null,null,null,null,null,null,null,null,null,null,null,null,null,null,null,null,null,null,null,null,null,null,null,null,null,null,null,null,null,null,null,null,null,null,null,null,null,null,null,null,null,null,null,null,null,null,null,null,null,null,null,null,null,null,null,null,null,null,null,null,null,null,null,null,null,null,null,null,null,null,null,null,null,null,null,null,null,null,null,null,null,null,null,null,null,null,null,null,null,null,null,null,null,null,null,null,null,null,null,null,null,null,null,null,null,null,null,null,null,null,null,null,null,null,null,null,null,null,null,null,null,null,null,null,null,null,null,null,null,null,null,null,null,null,null,null,null,null,null,null,null,null,null,null,null,null,null,null,null,null,null,null,null,null,null,null,null,null,null,0]
[18,1,342,null,"8,1","20.1.01.01","Комплект линейной арматуры для крепления СИП-2 на опоре ВЛИ","ШТ",{"$f":"I182*J185","v":0},0,0,0,0,{"$f":"ROUND(L185-M185,4)","v":0},{"$f":"ROUND(CP185,2)","v":0},{"$f":"ROUND(CQ185*I185,2)","v":0},{"$f":"ROUND(CR185*I185,2)","v":0},{"$f":"ROUND(CS185*I185,2)","v":0},{"$f":"ROUND(CT185*I185,2)","v":0},{"$f":"ROUND(CU185*I185,2)","v":0},{"$f":"ROUND(CV185*I185,7)","v":0},{"$f":"ROUND(CW185*I185,7)","v":0},{"$f":"ROUND(CX185*I185,2)","v":0},{"$f":"ROUND(CY185,2)","v":0},0,null,85316715,{"$f":"ROUND((AC185+AD185+AF185),2)","v":0},{"$f":"ROUND((ES185),2)","v":0},{"$f":"ROUND((((ET185)-(EU185))+AE185),2)","v":0},{"$f":"ROUND((EU185),2)","v":0},0,{"$f":"ROUND((AP185),2)","v":0},{"$f":"(EW185)","v":0},0,{"$f":"(AS185)","v":0},0,0,0,0,0,0,0,0,0,103,60,1,1,null,null,1,1,1,1,"","","","",3,1,"",null,null,33001,0,"",0,2,0,1,1,1,1,1,1,"",103,60,"",null,null,0,0,0,8,1,0,0,0,0,"",0,{"$f":"(P185+Q185+S185+R185)","v":0},{"$f":"ROUND(AL185*BC185,2)","v":0},{"$f":"ROUND(AM185*BB185,2)","v":0},{"$f":"ROUND(AN185*BS185,2)","v":0},{"$f":"ROUND(AO185*BA185,2)","v":0},{"$f":"AG185","v":0},0,0,0,{"$f":"(((S185+R185)*AT185)/100)","v":0},{"$f":"(((S185+R185)*AU185)/100)","v":0},null,null,"","","","","","","","","","","",0,0,1,1,null,null,null,1013,"ШТ","ШТ",1,null,"","","","",null,83666879,2,"Общестроительные работы",27,"Линии электропередачи",1,33001,"Линии электропередачи","ФЕР-33",null,"",null,0,0,0,0,0,0,0,0,null,null,null,null,null,null,null,null,null,null,null,null,null,null,null,null,null,null,0,0,0,null,null,null,null,103,60,null,"",null,null,1,null,864875641,2,1,-2,0,0,{"$f":"ROUND(IF(AND(BH185=3,BI185=3,FS185<>0),P185,0),2)","v":0},{"$f":"ROUND(O185+X185+Y185,2)+GX185","v":0},{"$f":"IF(OR(BI185=0,BI185=1),GM185-GX185,0)","v":0},{"$f":"IF(BI185=2,GM185-GX185,0)","v":0},{"$f":"IF(BI185=4,GM185-GX185,0)","v":0},null,0,3,0,"",{"$f":"ROUND((GT185),2)","v":0},1,{"$f":"ROUND(HC185*I185,2)","v":0},null,null,0,0,{"$f":"GV185*GW185","v":0},null,"","",null,null,null,null,null,null,"","Пр/812-027.0-1","Пр/774-027.0","Линии электропередачи","Линии электропередачи",null,0,null,null,null,null,null,null,null,null,null,null,null,null,null,null,null,null,null,0]
[18,1,349,null,"8,1","20.1.01.01","Комплект линейной арматуры для крепления СИП-2 на опоре ВЛИ","ШТ",{"$f":"I183*J186","v":0},0,0,0,0,0,0,{"$f":"ROUND(CQ186*I186,2)","v":0},{"$f":"ROUND(CR186*I186,2)","v":0},{"$f":"ROUND(CS186*I186,2)","v":0},{"$f":"ROUND(CT186*I186,2)","v":0},0,{"$f":"ROUND(CV186*I186,7)","v":0},{"$f":"ROUND(CW186*I186,7)","v":0},0,0,0,null,85316656,0,{"$f":"ROUND((ES186),2)","v":0},{"$f":"ROUND((((ET186)-(EU186))+AE186),2)","v":0},0,0,0,0,0,0,0,0,0,0,0,0,0,0,0,103,60,1,1,null,null,1,1,1,1,"","","","",3,1,"",null,null,33001,0,"",0,2,0,1,1,1,1,1,1,"",103,60,"",null,null,0,0,0,8,1,0,0,0,0,"",0,0,{"$f":"ROUND(AL186*BC186,2)","v":0},{"$f":"ROUND(AM186*BB186,2)","v":0},{"$f":"ROUND(AN186*BS186,2)","v":0},{"$f":"ROUND(AO186*BA186,2)","v":0},0,0,0,0,0,0,null,null,"","","","","","","","","","","",0,0,1,1,null,null,null,1013,"ШТ","ШТ",1,null,"","","","",null,83666879,2,"Общестроительные работы",27,"Линии электропередачи",1,33001,"Линии электропередачи","ФЕР-33",null,"",null,0,0,0,0,0,0,0,0,null,null,null,null,null,null,null,null,null,null,null,null,null,null,null,null,null,null,0,0,0,null,null,null,null,103,60,null,"",null,null,1,null,864875641,2,1,-2,0,0,0,0,0,0,0,null,0,3,0,"",0,1,0,null,null,0,0,0,null,"","",null,null,null,null,null,null,"","Пр/812-027.0-1","Пр/774-027.0","Линии электропередачи","Линии электропередачи",null,0,null,null,null,null,null,null,null,null,null,null,null,null,null,null,null,null,null,0]
[18,1,343,null,"8,2","20.1.01.11","Комплект линейной арматуры для устройства заземлений на опорах ВЛИ","ШТ",{"$f":"I182*J187","v":0},0,0,0,0,0,0,{"$f":"ROUND(CQ187*I187,2)","v":0},{"$f":"ROUND(CR187*I187,2)","v":0},{"$f":"ROUND(CS187*I187,2)","v":0},{"$f":"ROUND(CT187*I187,2)","v":0},0,{"$f":"ROUND(CV187*I187,7)","v":0},{"$f":"ROUND(CW187*I187,7)","v":0},0,0,0,null,85316715,0,{"$f":"ROUND((ES187),2)","v":0},{"$f":"ROUND((((ET187)-(EU187))+AE187),2)","v":0},0,0,0,0,0,0,0,0,0,0,0,0,0,0,0,103,60,1,1,null,null,1,1,1,1,"","","","",3,1,"",null,null,33001,0,"",0,2,0,1,1,1,1,1,1,"",103,60,"",null,null,0,0,0,8,2,0,0,0,0,"",0,0,{"$f":"ROUND(AL187*BC187,2)","v":0},{"$f":"ROUND(AM187*BB187,2)","v":0},{"$f":"ROUND(AN187*BS187,2)","v":0},{"$f":"ROUND(AO187*BA187,2)","v":0},0,0,0,0,0,0,null,null,"","","","","","","","","","","",0,0,1,1,null,null,null,1013,"ШТ","ШТ",1,null,"","","","",null,83666879,2,"Общестроительные работы",27,"Линии электропередачи",1,33001,"Линии электропередачи","ФЕР-33",null,"",null,0,0,0,0,0,0,0,0,null,null,null,null,null,null,null,null,null,null,null,null,null,null,null,null,null,null,0,0,0,null,null,null,null,103,60,null,"",null,null,1,null,-1890832814,2,1,-2,0,0,0,0,0,0,0,null,0,3,0,"",0,1,0,null,null,0,0,0,null,"","",null,null,null,null,null,null,"","Пр/812-027.0-1","Пр/774-027.0","Линии электропередачи","Линии электропередачи",null,0,null,null,null,null,null,null,null,null,null,null,null,null,null,null,null,null,null,0]
[18,1,350,null,"8,2","20.1.01.11","Комплект линейной арматуры для устройства заземлений на опорах ВЛИ","ШТ",{"$f":"I183*J188","v":0},0,0,0,0,0,0,{"$f":"ROUND(CQ188*I188,2)","v":0},{"$f":"ROUND(CR188*I188,2)","v":0},{"$f":"ROUND(CS188*I188,2)","v":0},{"$f":"ROUND(CT188*I188,2)","v":0},0,{"$f":"ROUND(CV188*I188,7)","v":0},{"$f":"ROUND(CW188*I188,7)","v":0},0,0,0,null,85316656,0,{"$f":"ROUND((ES188),2)","v":0},{"$f":"ROUND((((ET188)-(EU188))+AE188),2)","v":0},0,0,0,0,0,0,0,0,0,0,0,0,0,0,0,103,60,1,1,null,null,1,1,1,1,"","","","",3,1,"",null,null,33001,0,"",0,2,0,1,1,1,1,1,1,"",103,60,"",null,null,0,0,0,8,2,0,0,0,0,"",0,0,{"$f":"ROUND(AL188*BC188,2)","v":0},{"$f":"ROUND(AM188*BB188,2)","v":0},{"$f":"ROUND(AN188*BS188,2)","v":0},{"$f":"ROUND(AO188*BA188,2)","v":0},0,0,0,0,0,0,null,null,"","","","","","","","","","","",0,0,1,1,null,null,null,1013,"ШТ","ШТ",1,null,"","","","",null,83666879,2,"Общестроительные работы",27,"Линии электропередачи",1,33001,"Линии электропередачи","ФЕР-33",null,"",null,0,0,0,0,0,0,0,0,null,null,null,null,null,null,null,null,null,null,null,null,null,null,null,null,null,null,0,0,0,null,null,null,null,103,60,null,"",null,null,1,null,-1890832814,2,1,-2,0,0,0,0,0,0,0,null,0,3,0,"",0,1,0,null,null,0,0,0,null,"","",null,null,null,null,null,null,"","Пр/812-027.0-1","Пр/774-027.0","Линии электропередачи","Линии электропередачи",null,0,null,null,null,null,null,null,null,null,null,null,null,null,null,null,null,null,null,0]
[17,1,{"$f":"ROW(SmtRes!A359)","v":359},{"$f":"ROW(EtalonRes!A359)","v":359},"9","м08-01-082-01","Зажим наборный без кожуха","100 ШТ",0,0,0,0.26,0.26,0,0,{"$f":"SUMIF(SmtRes!AQ351:'SmtRes'!AQ359,\"=1\",SmtRes!DF351:'SmtRes'!DF359)","v":0},{"$f":"SUMIF(SmtRes!AQ351:'SmtRes'!AQ359,\"=1\",SmtRes!DG351:'SmtRes'!DG359)","v":0},{"$f":"SUMIF(SmtRes!AQ351:'SmtRes'!AQ359,\"=1\",SmtRes!DH351:'SmtRes'!DH359)","v":0},{"$f":"SUMIF(SmtRes!AQ351:'SmtRes'!AQ359,\"=1\",SmtRes!DI351:'SmtRes'!DI359)","v":0},0,{"$f":"SUMIF(SmtRes!AQ351:'SmtRes'!AQ359,\"=1\",SmtRes!CV351:'SmtRes'!CV359)","v":0},{"$f":"SUMIF(SmtRes!AQ351:'SmtRes'!AQ359,\"=1\",SmtRes!CW351:'SmtRes'!CW359)","v":0},0,0,0,null,85316715,33952.93,{"$f":"ROUND((SUM(SmtRes!BQ351:'SmtRes'!BQ359)),2)","v":274.83999999999997},{"$f":"ROUND((((SUM(SmtRes!BR351:'SmtRes'!BR359))-(SUM(SmtRes!BS351:'SmtRes'!BS359)))+AE189),2)","v":232.34},{"$f":"ROUND((SUM(SmtRes!BS351:'SmtRes'!BS359)),2)","v":190.23},{"$f":"ROUND((SUM(SmtRes!BT351:'SmtRes'!BT359)),2)","v":33445.75},0,{"$f":"(SUM(SmtRes!BU351:'SmtRes'!BU359))","v":41.2},{"$f":"(SUM(SmtRes!BV351:'SmtRes'!BV359))","v":0.2},0,34143.144950000002,274.83535000000001,232.33660000000003,190.22500000000002,33445.748,0,41.2,0.2,0,97,51,1,1,null,null,1,1,1,1,"","","","",0,2,"ГЭСНм-2022, м08-01-082-01, приказ Минстроя России от 18.05.2022 г. № 378/пр",null,null,108001,0,"",0,3,0,1,1,1,1,1,1,"",97,51,"",null,null,0,0,0,9,0,0,0,0,0,"",0,0,{"$f":"SUMIF(SmtRes!AQ351:'SmtRes'!AQ359,\"=1\",SmtRes!AA351:'SmtRes'!AA359)","v":52144.76},{"$f":"SUMIF(SmtRes!AQ351:'SmtRes'!AQ359,\"=1\",SmtRes!AB351:'SmtRes'!AB359)","v":2302.6},{"$f":"SUMIF(SmtRes!AQ351:'SmtRes'!AQ359,\"=1\",SmtRes!AC351:'SmtRes'!AC359)","v":1902.25},{"$f":"SUMIF(SmtRes!AQ351:'SmtRes'!AQ359,\"=1\",SmtRes!AD351:'SmtRes'!AD359)","v":811.79},{"$f":"AG189","v":0},{"$f":"SUMIF(SmtRes!AQ351:'SmtRes'!AQ359,\"=1\",SmtRes!BU351:'SmtRes'!BU359)","v":41.2},{"$f":"SUMIF(SmtRes!AQ351:'SmtRes'!AQ359,\"=1\",SmtRes!BV351:'SmtRes'!BV359)","v":0.2},{"$f":"AJ189","v":0},0,0,null,null,"","","","","","","","","","","",0,0,1,1,null,null,null,1013,"100 ШТ","100 ШТ",1,null,"","","","",null,83666702,3,"Монтажные работы",0,"",2,108001,"Электротехнические установки: на других объектах","мФЕР-08",null,"",null,131072,0,0,0,0,0,41.2,0.2,0,null,null,null,null,null,null,null,null,null,null,null,null,null,null,null,null,null,0,0,0,null,null,null,null,97,51,null,"",null,null,1,null,1145402398,2,1,-2,0,0,0,0,0,0,0,null,0,3,0,"",0,1,0,null,null,0,0,0,null,"","",null,null,null,null,null,null,"","Пр/812-049.3-1","Пр/774-049.3","Электротехнические установки: на других объектах","Электротехнические установки: на других объектах",null,0,null,null,null,null,null,null,null,null,null,null,null,null,null,null,null,null,null,0]
[17,1,{"$f":"ROW(SmtRes!A368)","v":368},{"$f":"ROW(EtalonRes!A368)","v":368},"9","м08-01-082-01","Зажим наборный без кожуха","100 ШТ",0,0,0,0.26,0.26,0,0,{"$f":"SUMIF(SmtRes!AQ360:'SmtRes'!AQ368,\"=1\",SmtRes!DF360:'SmtRes'!DF368)","v":0},{"$f":"SUMIF(SmtRes!AQ360:'SmtRes'!AQ368,\"=1\",SmtRes!DG360:'SmtRes'!DG368)","v":0},{"$f":"SUMIF(SmtRes!AQ360:'SmtRes'!AQ368,\"=1\",SmtRes!DH360:'SmtRes'!DH368)","v":0},{"$f":"SUMIF(SmtRes!AQ360:'SmtRes'!AQ368,\"=1\",SmtRes!DI360:'SmtRes'!DI368)","v":0},0,{"$f":"SUMIF(SmtRes!AQ360:'SmtRes'!AQ368,\"=1\",SmtRes!CV360:'SmtRes'!CV368)","v":0},{"$f":"SUMIF(SmtRes!AQ360:'SmtRes'!AQ368,\"=1\",SmtRes!CW360:'SmtRes'!CW368)","v":0},0,0,0,null,85316656,33952.93,{"$f":"ROUND((SUM(SmtRes!BQ360:'SmtRes'!BQ368)),2)","v":274.83999999999997},{"$f":"ROUND((((SUM(SmtRes!BR360:'SmtRes'!BR368))-(SUM(SmtRes!BS360:'SmtRes'!BS368)))+AE190),2)","v":232.34},{"$f":"ROUND((SUM(SmtRes!BS360:'SmtRes'!BS368)),2)","v":190.23},{"$f":"ROUND((SUM(SmtRes!BT360:'SmtRes'!BT368)),2)","v":33445.75},0,{"$f":"(SUM(SmtRes!BU360:'SmtRes'!BU368))","v":41.2},{"$f":"(SUM(SmtRes!BV360:'SmtRes'!BV368))","v":0.2},0,34143.144950000002,274.83535000000001,232.33660000000003,190.22500000000002,33445.748,0,41.2,0.2,0,97,51,1,1,null,null,1,1,1,1,"","","","",0,2,"ГЭСНм-2022, м08-01-082-01, приказ Минстроя России от 18.05.2022 г. № 378/пр",null,null,108001,0,"",0,3,0,1,1,1,1,1,1,"",97,51,"",null,null,0,0,0,9,0,0,0,0,0,"",0,0,{"$f":"SUMIF(SmtRes!AQ360:'SmtRes'!AQ368,\"=1\",SmtRes!AA360:'SmtRes'!AA368)","v":52144.76},{"$f":"SUMIF(SmtRes!AQ360:'SmtRes'!AQ368,\"=1\",SmtRes!AB360:'SmtRes'!AB368)","v":2302.6},{"$f":"SUMIF(SmtRes!AQ360:'SmtRes'!AQ368,\"=1\",SmtRes!AC360:'SmtRes'!AC368)","v":1902.25},{"$f":"SUMIF(SmtRes!AQ360:'SmtRes'!AQ368,\"=1\",SmtRes!AD360:'SmtRes'!AD368)","v":811.79},{"$f":"AG190","v":0},{"$f":"SUMIF(SmtRes!AQ360:'SmtRes'!AQ368,\"=1\",SmtRes!BU360:'SmtRes'!BU368)","v":41.2},{"$f":"SUMIF(SmtRes!AQ360:'SmtRes'!AQ368,\"=1\",SmtRes!BV360:'SmtRes'!BV368)","v":0.2},{"$f":"AJ190","v":0},0,0,null,null,"","","","","","","","","","","",0,0,1,1,null,null,null,1013,"100 ШТ","100 ШТ",1,null,"","","","",null,83666702,3,"Монтажные работы",0,"",2,108001,"Электротехнические установки: на других объектах","мФЕР-08",null,"",null,131072,0,0,0,0,0,41.2,0.2,0,null,null,null,null,null,null,null,null,null,null,null,null,null,null,null,null,null,0,0,0,null,null,null,null,97,51,null,"",null,null,1,null,1145402398,2,1,-2,0,0,0,0,0,0,0,null,0,3,0,"",0,1,0,null,null,0,0,0,null,"","",null,null,null,null,null,null,"","Пр/812-049.3-1","Пр/774-049.3","Электротехнические установки: на других объектах","Электротехнические установки: на других объектах",null,0,null,null,null,null,null,null,null,null,null,null,null,null,null,null,null,null,null,0]
[19,1,null,null,null,"","По ВОР \"Установка плашечных зажимов ПС-1-1\" и складываем если есть \"Установка зажимов ответвительных\"","",null,null,null,null,null,null,null,null,null,null,null,null,null,null,null,null,null,null,1,null,null,null,null,null,null,null,null,null,null,null,null,null,null,null,null,null,null,null,null,null,null,null,null,null,null,null,null,null,null,null,null,null,null,null,null,null,null,null,null,null,null,null,null,null,null,null,null,null,null,null,null,null,null,null,null,null,null,null,null,null,null,null,null,null,null,null,null,null,null,null,null,null,null,null,null,null,null,null,null,null,null,null,null,null,null,null,null,null,null,null,null,null,null,null,null,null,null,null,null,null,null,null,null,null,null,null,null,null,null,null,null,null,null,null,null,null,null,null,null,null,null,null,null,null,null,null,null,null,null,null,null,null,null,null,null,null,null,null,null,null,null,null,null,null,null,null,null,null,null,null,null,null,null,null,null,null,null,null,null,null,null,null,null,null,null,null,null,null,null,null,null,null,null,null,null,null,null,null,null,null,null,null,null,null,null,null,null,null,null,null,null,null,null,null,null,null,null,null,null,null,null,null,null,null,null,null,null,null,null,null,null,null,null,null,null,null,0]
[18,1,359,null,"9,1","421/пр_2020_п.75_пп.а","Сметная стоимость вспомогательных ненормируемых материальных ресурсов, не учтенная в сметной норме, 2%","%",{"$f":"J192","v":2},2,2,0.52,0.52,{"$f":"ROUND(L192-M192,4)","v":0},{"$f":"ROUND(P192,2)","v":0},{"$f":"ROUND(ROUND(ROUND(SUMIF(SmtRes!AQ360:'SmtRes'!AQ368,\"=1\",SmtRes!CU360:'SmtRes'!CU368),2),2)*I192/100,2)","v":0},{"$f":"ROUND(CR192*I192,2)","v":0},{"$f":"ROUND(CS192*I192,2)","v":0},{"$f":"ROUND(CT192*I192,2)","v":0},{"$f":"ROUND(CU192*I192,2)","v":0},{"$f":"ROUND(CV192*I192,7)","v":0},{"$f":"ROUND(CW192*I192,7)","v":0},{"$f":"ROUND(CX192*I192,2)","v":0},{"$f":"ROUND(CY192,2)","v":0},0,null,85316715,{"$f":"ROUND((AC192+AD192+AF192),2)","v":0},{"$f":"ROUND((ES192),2)","v":0},{"$f":"ROUND((((ET192)-(EU192))+AE192),2)","v":0},{"$f":"ROUND((EU192),2)","v":0},0,{"$f":"ROUND((AP192),2)","v":0},{"$f":"(EW192)","v":0},0,{"$f":"(AS192)","v":0},0,0,0,0,0,0,0,0,0,97,51,1,1,null,null,1,1,1,1,"","","","",3,2,"",null,null,108001,0,"",0,3,0,1,1,1,1,1,1,"",97,51,"",null,null,0,0,0,9,1,0,0,0,0,"",0,{"$f":"0","v":0},{"$f":"0","v":0},{"$f":"0","v":0},{"$f":"0","v":0},{"$f":"0","v":0},{"$f":"0","v":0},{"$f":"0","v":0},{"$f":"0","v":0},{"$f":"0","v":0},{"$f":"0","v":0},{"$f":"0","v":0},null,null,"","","","","","","","","","","",0,0,1,1,null,null,null,1013,"%","%",1,null,"","","","",null,83666702,3,"Монтажные работы",0,"",2,108001,"Электротехнические установки: на других объектах","мФЕР-08",null,"",null,0,0,0,0,0,0,0,0,null,null,null,null,null,null,null,null,null,null,null,null,null,null,null,null,null,null,0,0,0,null,null,null,null,97,51,null,"",null,null,1,null,274903907,2,1,-2,0,0,{"$f":"ROUND(IF(AND(BH192=3,BI192=3,FS192<>0),P192,0),2)","v":0},{"$f":"ROUND(O192+X192+Y192,2)+GX192","v":0},{"$f":"IF(OR(BI192=0,BI192=1),GM192-GX192,0)","v":0},{"$f":"IF(BI192=2,GM192-GX192,0)","v":0},{"$f":"IF(BI192=4,GM192-GX192,0)","v":0},null,0,3,0,"",{"$f":"ROUND((GT192),2)","v":0},1,{"$f":"ROUND(HC192*I192,2)","v":0},null,null,0,0,{"$f":"0","v":0},null,"","",null,null,null,null,null,null,"","Пр/812-049.3-1","Пр/774-049.3","Электротехнические установки: на других объектах","Электротехнические установки: на других объектах",null,0,null,null,null,null,null,null,null,null,null,null,null,null,null,null,null,null,null,0]
[18,1,368,null,"9,1","421/пр_2020_п.75_пп.а","Сметная стоимость вспомогательных ненормируемых материальных ресурсов, не учтенная в сметной норме, 2%","%",{"$f":"J193","v":2},2,2,0.52,0.52,0,{"$f":"ROUND(P193,2)","v":0},{"$f":"ROUND(ROUND(ROUND(SUMIF(SmtRes!AQ360:'SmtRes'!AQ368,\"=1\",SmtRes!CU360:'SmtRes'!CU368),2),2)*I193/100,2)","v":0},{"$f":"ROUND(CR193*I193,2)","v":0},{"$f":"ROUND(CS193*I193,2)","v":0},{"$f":"ROUND(CT193*I193,2)","v":0},0,{"$f":"ROUND(CV193*I193,7)","v":0},{"$f":"ROUND(CW193*I193,7)","v":0},0,0,0,null,85316656,0,{"$f":"ROUND((ES193),2)","v":0},{"$f":"ROUND((((ET193)-(EU193))+AE193),2)","v":0},0,0,0,0,0,0,0,0,0,0,0,0,0,0,0,97,51,1,1,null,null,1,1,1,1,"","","","",3,2,"",null,null,108001,0,"",0,3,0,1,1,1,1,1,1,"",97,51,"",null,null,0,0,0,9,1,0,0,0,0,"",0,{"$f":"0","v":0},{"$f":"0","v":0},{"$f":"0","v":0},{"$f":"0","v":0},{"$f":"0","v":0},{"$f":"0","v":0},{"$f":"0","v":0},{"$f":"0","v":0},{"$f":"0","v":0},{"$f":"0","v":0},{"$f":"0","v":0},null,null,"","","","","","","","","","","",0,0,1,1,null,null,null,1013,"%","%",1,null,"","","","",null,83666702,3,"Монтажные работы",0,"",2,108001,"Электротехнические установки: на других объектах","мФЕР-08",null,"",null,0,0,0,0,0,0,0,0,null,null,null,null,null,null,null,null,null,null,null,null,null,null,null,null,null,null,0,0,0,null,null,null,null,97,51,null,"",null,null,1,null,274903907,2,1,-2,0,0,0,0,0,0,0,null,0,3,0,"",0,1,0,null,null,0,0,{"$f":"0","v":0},null,"","",null,null,null,null,null,null,"","Пр/812-049.3-1","Пр/774-049.3","Электротехнические установки: на других объектах","Электротехнические установки: на других объектах",null,0,null,null,null,null,null,null,null,null,null,null,null,null,null,null,null,null,null,0]
[18,1,358,null,"9,2","20.5.04.03-0002","Зажимы наборные проходные ЗН24-4П25","100 ШТ",{"$f":"I189*J194","v":0},-1.02,-1.02,-0.26519999999999999,-0.26519999999999999,0,{"$f":"ROUND(CP194,2)","v":0},{"$f":"ROUND(CQ194*I194,2)","v":0},{"$f":"ROUND(CR194*I194,2)","v":0},{"$f":"ROUND(CS194*I194,2)","v":0},{"$f":"ROUND(CT194*I194,2)","v":0},0,{"$f":"ROUND(CV194*I194,7)","v":0},{"$f":"ROUND(CW194*I194,7)","v":0},0,0,0,null,85316715,896.51,{"$f":"ROUND((ES194),2)","v":896.51},{"$f":"ROUND((((ET194)-(EU194))+AE194),2)","v":0},0,0,0,0,0,0,896.51,896.51,0,0,0,0,0,0,0,97,51,1,1,null,null,1,1,1,1.1399999999999999,"","","","",3,2,"ФСБЦ-2022, 20.5.04.03-0002, приказ Минстроя России от 18.05.2022 г. № 378/пр",null,null,108001,0,"20.5.04.03-0002",1,3,0,1,1,1,1,1,1,"",97,51,"",null,null,0,0,0,9,2,0,0,0,0,"",0,{"$f":"(P194+Q194+S194+R194)","v":0},{"$f":"ROUND(AL194*BC194,2)","v":1022.02},{"$f":"ROUND(AM194*BB194,2)","v":0},{"$f":"ROUND(AN194*BS194,2)","v":0},{"$f":"ROUND(AO194*BA194,2)","v":0},{"$f":"AG194","v":0},0,0,0,{"$f":"(((S194+R194)*AT194)/100)","v":0},{"$f":"(((S194+R194)*AU194)/100)","v":0},null,null,"","","","","","","","","","","",0,0,1,1,null,null,null,1013,"100 ШТ","100 ШТ",1,null,"","","","",null,83666702,3,"Монтажные работы",0,"",2,108001,"Электротехнические установки: на других объектах","мФЕР-08",null,"",null,0,896.51,896.51,0,0,0,0,0,null,null,null,null,null,null,null,null,null,null,null,null,null,null,null,null,null,null,0,0,0,null,null,null,null,97,51,null,"",null,null,1,null,-568563229,2,1,2,0,0,0,0,0,0,0,null,0,3,0,"",0,1,0,null,null,0,0,{"$f":"GV194*GW194","v":0},null,"","",null,null,null,null,null,null,"","Пр/812-049.3-1","Пр/774-049.3","Электротехнические установки: на других объектах","Электротехнические установки: на других объектах",null,0,null,null,null,null,null,null,null,null,null,null,null,null,null,null,null,null,null,0]
[18,1,367,null,"9,2","20.5.04.03-0002","Зажимы наборные проходные ЗН24-4П25","100 ШТ",{"$f":"I190*J195","v":0},-1.02,-1.02,-0.26519999999999999,-0.26519999999999999,0,{"$f":"ROUND(CP195,2)","v":0},{"$f":"ROUND(CQ195*I195,2)","v":0},{"$f":"ROUND(CR195*I195,2)","v":0},{"$f":"ROUND(CS195*I195,2)","v":0},{"$f":"ROUND(CT195*I195,2)","v":0},0,{"$f":"ROUND(CV195*I195,7)","v":0},{"$f":"ROUND(CW195*I195,7)","v":0},0,0,0,null,85316656,896.51,{"$f":"ROUND((ES195),2)","v":896.51},{"$f":"ROUND((((ET195)-(EU195))+AE195),2)","v":0},0,0,0,0,0,0,896.51,896.51,0,0,0,0,0,0,0,97,51,1,1,null,null,1,1,1,1.1399999999999999,"","","","",3,2,"ФСБЦ-2022, 20.5.04.03-0002, приказ Минстроя России от 18.05.2022 г. № 378/пр",null,null,108001,0,"20.5.04.03-0002",1,3,0,1,1,1,1,1,1,"",97,51,"",null,null,0,0,0,9,2,0,0,0,0,"",0,{"$f":"(P195+Q195+S195+R195)","v":0},{"$f":"ROUND(AL195*BC195,2)","v":1022.02},{"$f":"ROUND(AM195*BB195,2)","v":0},{"$f":"ROUND(AN195*BS195,2)","v":0},{"$f":"ROUND(AO195*BA195,2)","v":0},0,0,0,0,{"$f":"(((S195+R195)*AT195)/100)","v":0},{"$f":"(((S195+R195)*AU195)/100)","v":0},null,null,"","","","","","","","","","","",0,0,1,1,null,null,null,1013,"100 ШТ","100 ШТ",1,null,"","","","",null,83666702,3,"Монтажные работы",0,"",2,108001,"Электротехнические установки: на других объектах","мФЕР-08",null,"",null,0,896.51,896.51,0,0,0,0,0,null,null,null,null,null,null,null,null,null,null,null,null,null,null,null,null,null,null,0,0,0,null,null,null,null,97,51,null,"",null,null,1,null,-568563229,2,1,2,0,0,0,0,0,0,0,null,0,3,0,"",0,1,0,null,null,0,0,{"$f":"GV195*GW195","v":0},null,"","",null,null,null,null,null,null,"","Пр/812-049.3-1","Пр/774-049.3","Электротехнические установки: на других объектах","Электротехнические установки: на других объектах",null,0,null,null,null,null,null,null,null,null,null,null,null,null,null,null,null,null,null,0]
[17,1,{"$f":"ROW(SmtRes!A382)","v":382},{"$f":"ROW(EtalonRes!A382)","v":382},"","33-04-030-01","Установка разрядников: с помощью механизмов","КОМПЛ",0,0,0,1,1,0,{"$f":"ROUND(CP196,2)","v":0},{"$f":"SUMIF(SmtRes!AQ369:'SmtRes'!AQ382,\"=1\",SmtRes!DF369:'SmtRes'!DF382)","v":0},{"$f":"SUMIF(SmtRes!AQ369:'SmtRes'!AQ382,\"=1\",SmtRes!DG369:'SmtRes'!DG382)","v":0},{"$f":"SUMIF(SmtRes!AQ369:'SmtRes'!AQ382,\"=1\",SmtRes!DH369:'SmtRes'!DH382)","v":0},{"$f":"SUMIF(SmtRes!AQ369:'SmtRes'!AQ382,\"=1\",SmtRes!DI369:'SmtRes'!DI382)","v":0},0,{"$f":"SUMIF(SmtRes!AQ369:'SmtRes'!AQ382,\"=1\",SmtRes!CV369:'SmtRes'!CV382)","v":0},{"$f":"SUMIF(SmtRes!AQ369:'SmtRes'!AQ382,\"=1\",SmtRes!CW369:'SmtRes'!CW382)","v":0},0,0,0,null,-1,3285.59,{"$f":"ROUND((SUM(SmtRes!BQ369:'SmtRes'!BQ382)),2)","v":36.53},{"$f":"ROUND((((SUM(SmtRes!BR369:'SmtRes'!BR382))-(SUM(SmtRes!BS369:'SmtRes'!BS382)))+AE196),2)","v":435.9},{"$f":"ROUND((SUM(SmtRes!BS369:'SmtRes'!BS382)),2)","v":868.62},{"$f":"ROUND((SUM(SmtRes!BT369:'SmtRes'!BT382)),2)","v":2813.16},0,{"$f":"(SUM(SmtRes!BU369:'SmtRes'!BU382))","v":3.76},{"$f":"(SUM(SmtRes!BV369:'SmtRes'!BV382))","v":1.07},0,4154.1937980000002,36.527197999999999,435.89449999999999,868.61529999999993,2813.1567999999997,0,3.76,1.07,0,103,60,1,1,null,null,1,1,1,1,"","","","",0,1,"ГЭСН-2022, 33-04-030-01, приказ Минстроя России от 18.05.2022 г. № 378/пр",null,null,33001,0,"",0,2,0,1,1,1,1,1,1,"",103,60,"",null,null,0,0,0,0,0,0,0,0,0,"",0,{"$f":"(P196+Q196+S196+R196)","v":0},{"$f":"SUMIF(SmtRes!AQ369:'SmtRes'!AQ382,\"=1\",SmtRes!AA369:'SmtRes'!AA382)","v":103875.04000000001},{"$f":"SUMIF(SmtRes!AQ369:'SmtRes'!AQ382,\"=1\",SmtRes!AB369:'SmtRes'!AB382)","v":1147.93},{"$f":"SUMIF(SmtRes!AQ369:'SmtRes'!AQ382,\"=1\",SmtRes!AC369:'SmtRes'!AC382)","v":1623.58},{"$f":"SUMIF(SmtRes!AQ369:'SmtRes'!AQ382,\"=1\",SmtRes!AD369:'SmtRes'!AD382)","v":748.18},{"$f":"AG196","v":0},{"$f":"SUMIF(SmtRes!AQ369:'SmtRes'!AQ382,\"=1\",SmtRes!BU369:'SmtRes'!BU382)","v":3.76},{"$f":"SUMIF(SmtRes!AQ369:'SmtRes'!AQ382,\"=1\",SmtRes!BV369:'SmtRes'!BV382)","v":1.07},{"$f":"AJ196","v":0},{"$f":"(((S196+R196)*AT196)/100)","v":0},{"$f":"(((S196+R196)*AU196)/100)","v":0},null,null,"","","","","","","","","","","",0,0,1,1,null,null,null,1013,"КОМПЛ","КОМПЛ",1,null,"","","","",null,83666879,2,"Общестроительные работы",27,"Линии электропередачи",1,33001,"Линии электропередачи","ФЕР-33",null,"",null,132096,0,0,0,0,0,3.76,1.07,0,null,null,null,null,null,null,null,null,null,null,null,null,null,null,null,null,null,0,0,0,null,null,null,null,103,60,null,"",null,null,1,null,-935967265,2,1,-2,0,0,0,0,0,0,0,null,0,0,0,"",0,1,0,null,null,0,0,{"$f":"GV196*GW196","v":0},null,"","",null,null,null,null,null,null,"","Пр/812-027.0-1","Пр/774-027.0","Линии электропередачи","Линии электропередачи",null,0,null,null,null,null,null,null,null,null,null,null,null,null,null,null,null,null,null,0]
[17,1,{"$f":"ROW(SmtRes!A396)","v":396},{"$f":"ROW(EtalonRes!A396)","v":396},"","33-04-030-01","Установка разрядников: с помощью механизмов","КОМПЛ",0,0,0,1,1,0,{"$f":"ROUND(CP197,2)","v":0},{"$f":"SUMIF(SmtRes!AQ383:'SmtRes'!AQ396,\"=1\",SmtRes!DF383:'SmtRes'!DF396)","v":0},{"$f":"SUMIF(SmtRes!AQ383:'SmtRes'!AQ396,\"=1\",SmtRes!DG383:'SmtRes'!DG396)","v":0},{"$f":"SUMIF(SmtRes!AQ383:'SmtRes'!AQ396,\"=1\",SmtRes!DH383:'SmtRes'!DH396)","v":0},{"$f":"SUMIF(SmtRes!AQ383:'SmtRes'!AQ396,\"=1\",SmtRes!DI383:'SmtRes'!DI396)","v":0},0,{"$f":"SUMIF(SmtRes!AQ383:'SmtRes'!AQ396,\"=1\",SmtRes!CV383:'SmtRes'!CV396)","v":0},{"$f":"SUMIF(SmtRes!AQ383:'SmtRes'!AQ396,\"=1\",SmtRes!CW383:'SmtRes'!CW396)","v":0},0,0,0,null,-1,3285.59,{"$f":"ROUND((SUM(SmtRes!BQ383:'SmtRes'!BQ396)),2)","v":36.53},{"$f":"ROUND((((SUM(SmtRes!BR383:'SmtRes'!BR396))-(SUM(SmtRes!BS383:'SmtRes'!BS396)))+AE197),2)","v":435.9},{"$f":"ROUND((SUM(SmtRes!BS383:'SmtRes'!BS396)),2)","v":868.62},{"$f":"ROUND((SUM(SmtRes!BT383:'SmtRes'!BT396)),2)","v":2813.16},0,{"$f":"(SUM(SmtRes!BU383:'SmtRes'!BU396))","v":3.76},{"$f":"(SUM(SmtRes!BV383:'SmtRes'!BV396))","v":1.07},0,4154.1937980000002,36.527197999999999,435.89449999999999,868.61529999999993,2813.1567999999997,0,3.76,1.07,0,103,60,1,1,null,null,1,1,1,1,"","","","",0,1,"ГЭСН-2022, 33-04-030-01, приказ Минстроя России от 18.05.2022 г. № 378/пр",null,null,33001,0,"",0,2,0,1,1,1,1,1,1,"",103,60,"",null,null,0,0,0,0,0,0,0,0,0,"",0,{"$f":"(P197+Q197+S197+R197)","v":0},{"$f":"SUMIF(SmtRes!AQ383:'SmtRes'!AQ396,\"=1\",SmtRes!AA383:'SmtRes'!AA396)","v":103875.04000000001},{"$f":"SUMIF(SmtRes!AQ383:'SmtRes'!AQ396,\"=1\",SmtRes!AB383:'SmtRes'!AB396)","v":1147.93},{"$f":"SUMIF(SmtRes!AQ383:'SmtRes'!AQ396,\"=1\",SmtRes!AC383:'SmtRes'!AC396)","v":1623.58},{"$f":"SUMIF(SmtRes!AQ383:'SmtRes'!AQ396,\"=1\",SmtRes!AD383:'SmtRes'!AD396)","v":748.18},{"$f":"AG197","v":0},{"$f":"SUMIF(SmtRes!AQ383:'SmtRes'!AQ396,\"=1\",SmtRes!BU383:'SmtRes'!BU396)","v":3.76},{"$f":"SUMIF(SmtRes!AQ383:'SmtRes'!AQ396,\"=1\",SmtRes!BV383:'SmtRes'!BV396)","v":1.07},{"$f":"AJ197","v":0},{"$f":"(((S197+R197)*AT197)/100)","v":0},{"$f":"(((S197+R197)*AU197)/100)","v":0},null,null,"","","","","","","","","","","",0,0,1,1,null,null,null,1013,"КОМПЛ","КОМПЛ",1,null,"","","","",null,83666879,2,"Общестроительные работы",27,"Линии электропередачи",1,33001,"Линии электропередачи","ФЕР-33",null,"",null,132096,0,0,0,0,0,3.76,1.07,0,null,null,null,null,null,null,null,null,null,null,null,null,null,null,null,null,null,0,0,0,null,null,null,null,103,60,null,"",null,null,1,null,-935967265,2,1,-2,0,0,0,0,0,0,0,null,0,0,0,"",0,1,0,null,null,0,0,{"$f":"GV197*GW197","v":0},null,"","",null,null,null,null,null,null,"","Пр/812-027.0-1","Пр/774-027.0","Линии электропередачи","Линии электропередачи",null,0,null,null,null,null,null,null,null,null,null,null,null,null,null,null,null,null,null,0]
[19,1,null,null,null,"","По ВОР \"Установка РМК-20\". Объем делим на 3, т.к. 3 провода (3 фазы)","",null,null,null,null,null,null,null,null,null,null,null,null,null,null,null,null,null,null,1,null,null,null,null,null,null,null,null,null,null,null,null,null,null,null,null,null,null,null,null,null,null,null,null,null,null,null,null,null,null,null,null,null,null,null,null,null,null,null,null,null,null,null,null,null,null,null,null,null,null,null,null,null,null,null,null,null,null,null,null,null,null,null,null,null,null,null,null,null,null,null,null,null,null,null,null,null,null,null,null,null,null,null,null,null,null,null,null,null,null,null,null,null,null,null,null,null,null,null,null,null,null,null,null,null,null,null,null,null,null,null,null,null,null,null,null,null,null,null,null,null,null,null,null,null,null,null,null,null,null,null,null,null,null,null,null,null,null,null,null,null,null,null,null,null,null,null,null,null,null,null,null,null,null,null,null,null,null,null,null,null,null,null,null,null,null,null,null,null,null,null,null,null,null,null,null,null,null,null,null,null,null,null,null,null,null,null,null,null,null,null,null,null,null,null,null,null,null,null,null,null,null,null,null,null,null,null,null,null,null,null,null,null,null,null,null,null,0]
[18,1,375,null,"","01.7.15.03-0042","Болты с гайками и шайбами строительные","кг",{"$f":"I196*J199","v":0},0,0,0,0,{"$f":"ROUND(L199-M199,4)","v":0},{"$f":"ROUND(CP199,2)","v":0},{"$f":"ROUND(CQ199*I199,2)","v":0},{"$f":"ROUND(CR199*I199,2)","v":0},{"$f":"ROUND(CS199*I199,2)","v":0},{"$f":"ROUND(CT199*I199,2)","v":0},{"$f":"ROUND(CU199*I199,2)","v":0},{"$f":"ROUND(CV199*I199,7)","v":0},{"$f":"ROUND(CW199*I199,7)","v":0},{"$f":"ROUND(CX199*I199,2)","v":0},{"$f":"ROUND(CY199,2)","v":0},{"$f":"ROUND(CZ199,2)","v":0},null,-1,{"$f":"ROUND((AC199+AD199+AF199),2)","v":174.93},{"$f":"ROUND((ES199),2)","v":174.93},{"$f":"ROUND((((ET199)-(EU199))+AE199),2)","v":0},{"$f":"ROUND((EU199),2)","v":0},{"$f":"ROUND((EV199),2)","v":0},{"$f":"ROUND((AP199),2)","v":0},{"$f":"(EW199)","v":0},{"$f":"(EX199)","v":0},{"$f":"(AS199)","v":0},174.93,174.93,0,0,0,0,0,0,0,103,60,1,1,null,null,1,1,1,1.08,"","","","",3,1,"ФСБЦ-2022, 01.7.15.03-0042, приказ Минстроя России от 18.05.2022 г. № 378/пр",null,null,33001,0,"01.7.15.03-0042",1,2,0,1,1,1,1,1,1,"",103,60,"",null,null,0,0,0,0,0,0,0,0,0,"",0,{"$f":"(P199+Q199+S199+R199)","v":0},{"$f":"ROUND(AL199*BC199,2)","v":188.92},{"$f":"ROUND(AM199*BB199,2)","v":0},{"$f":"ROUND(AN199*BS199,2)","v":0},{"$f":"ROUND(AO199*BA199,2)","v":0},{"$f":"AG199","v":0},{"$f":"AH199","v":0},{"$f":"AI199","v":0},{"$f":"AJ199","v":0},{"$f":"(((S199+R199)*AT199)/100)","v":0},{"$f":"(((S199+R199)*AU199)/100)","v":0},null,null,"","","","","","","","","","","",0,0,1,1,null,null,null,1009,"кг","кг",1,null,"","","","",null,83666879,2,"Общестроительные работы",27,"Линии электропередачи",1,33001,"Линии электропередачи","ФЕР-33",null,"",null,1024,174.93,174.93,0,0,0,0,0,null,null,null,null,null,null,null,null,null,null,null,null,null,null,null,null,null,null,0,0,0,null,null,null,null,103,60,null,"",null,null,1,null,1181962216,2,1,2,0,0,{"$f":"ROUND(IF(AND(BH199=3,BI199=3,FS199<>0),P199,0),2)","v":0},{"$f":"ROUND(O199+X199+Y199,2)+GX199","v":0},{"$f":"IF(OR(BI199=0,BI199=1),GM199-GX199,0)","v":0},{"$f":"IF(BI199=2,GM199-GX199,0)","v":0},{"$f":"IF(BI199=4,GM199-GX199,0)","v":0},null,0,0,0,"",{"$f":"ROUND((GT199),2)","v":0},1,{"$f":"ROUND(HC199*I199,2)","v":0},null,null,0,0,{"$f":"GV199*GW199","v":0},null,"","",null,null,null,null,null,null,"","Пр/812-027.0-1","Пр/774-027.0","Линии электропередачи","Линии электропередачи",null,0,null,null,null,null,null,null,null,null,null,null,null,null,null,null,null,null,null,0]
[18,1,389,null,"","01.7.15.03-0042","Болты с гайками и шайбами строительные","кг",{"$f":"I197*J200","v":0},0,0,0,0,0,0,0,0,0,0,0,0,0,0,0,0,null,-1,174.93,174.93,0,0,0,0,0,0,0,174.93,174.93,0,0,0,0,0,0,0,103,60,1,1,null,null,1,1,1,1.08,"","","","",3,1,"ФСБЦ-2022, 01.7.15.03-0042, приказ Минстроя России от 18.05.2022 г. № 378/пр",null,null,33001,0,"01.7.15.03-0042",1,2,0,1,1,1,1,1,1,"",103,60,"",null,null,0,0,0,0,0,0,0,0,0,"",0,0,188.92,0,0,0,0,0,0,0,0,0,null,null,"","","","","","","","","","","",0,0,1,1,null,null,null,1009,"кг","кг",1,null,"","","","",null,83666879,2,"Общестроительные работы",27,"Линии электропередачи",1,33001,"Линии электропередачи","ФЕР-33",null,"",null,1024,174.93,174.93,0,0,0,0,0,null,null,null,null,null,null,null,null,null,null,null,null,null,null,null,null,null,null,0,0,0,null,null,null,null,103,60,null,"",null,null,1,null,1181962216,2,1,2,0,0,0,0,0,0,0,null,0,0,0,"",0,1,0,null,null,0,0,0,null,"","",null,null,null,null,null,null,"","Пр/812-027.0-1","Пр/774-027.0","Линии электропередачи","Линии электропередачи",null,0,null,null,null,null,null,null,null,null,null,null,null,null,null,null,null,null,null,0]
[18,1,377,null,"","07.2.07.13","Хомуты стальные","кг",{"$f":"I196*J201","v":0},0,0,0,0,0,0,0,0,0,0,0,0,0,0,0,0,null,-1,0,0,0,0,0,0,0,0,0,0,0,0,0,0,0,0,0,0,103,60,1,1,null,null,1,1,1,1,"","","","",3,1,"",null,null,33001,0,"",0,2,0,1,1,1,1,1,1,"",103,60,"",null,null,0,0,0,0,0,0,0,0,0,"",0,0,0,0,0,0,0,0,0,0,0,0,null,null,"","","","","","","","","","","",0,0,1,1,null,null,null,1009,"кг","кг",1,null,"","","","",null,83666879,2,"Общестроительные работы",27,"Линии электропередачи",1,33001,"Линии электропередачи","ФЕР-33",null,"",null,1024,0,0,0,0,0,0,0,null,null,null,null,null,null,null,null,null,null,null,null,null,null,null,null,null,null,0,0,0,null,null,null,null,103,60,null,"",null,null,1,null,-1111733769,2,1,-2,0,0,0,0,0,0,0,null,0,0,0,"",0,1,0,null,null,0,0,0,null,"","",null,null,null,null,null,null,"","Пр/812-027.0-1","Пр/774-027.0","Линии электропередачи","Линии электропередачи",null,0,null,null,null,null,null,null,null,null,null,null,null,null,null,null,null,null,null,0]
[18,1,391,null,"","07.2.07.13","Хомуты стальные","кг",{"$f":"I197*J202","v":0},0,0,0,0,0,0,0,0,0,0,0,0,0,0,0,0,null,-1,0,0,0,0,0,0,0,0,0,0,0,0,0,0,0,0,0,0,103,60,1,1,null,null,1,1,1,1,"","","","",3,1,"",null,null,33001,0,"",0,2,0,1,1,1,1,1,1,"",103,60,"",null,null,0,0,0,0,0,0,0,0,0,"",0,0,0,0,0,0,0,0,0,0,0,0,null,null,"","","","","","","","","","","",0,0,1,1,null,null,null,1009,"кг","кг",1,null,"","","","",null,83666879,2,"Общестроительные работы",27,"Линии электропередачи",1,33001,"Линии электропередачи","ФЕР-33",null,"",null,1024,0,0,0,0,0,0,0,null,null,null,null,null,null,null,null,null,null,null,null,null,null,null,null,null,null,0,0,0,null,null,null,null,103,60,null,"",null,null,1,null,-1111733769,2,1,-2,0,0,0,0,0,0,0,null,0,0,0,"",0,1,0,null,null,0,0,0,null,"","",null,null,null,null,null,null,"","Пр/812-027.0-1","Пр/774-027.0","Линии электропередачи","Линии электропередачи",null,0,null,null,null,null,null,null,null,null,null,null,null,null,null,null,null,null,null,0]
[18,1,378,null,"","08.3.04.02","Сталь стержневая диаметром до 10 мм","т",{"$f":"I196*J203","v":0},0,0,0,0,0,0,0,0,0,0,0,0,0,0,0,0,null,-1,0,0,0,0,0,0,0,0,0,0,0,0,0,0,0,0,0,0,103,60,1,1,null,null,1,1,1,1,"","","","",3,1,"",null,null,33001,0,"",0,2,0,1,1,1,1,1,1,"",103,60,"",null,null,0,0,0,0,0,0,0,0,0,"",0,0,0,0,0,0,0,0,0,0,0,0,null,null,"","","","","","","","","","","",0,0,1,1,null,null,null,1009,"т","т",1000,null,"","","","",null,83666879,2,"Общестроительные работы",27,"Линии электропередачи",1,33001,"Линии электропередачи","ФЕР-33",null,"",null,1024,0,0,0,0,0,0,0,null,null,null,null,null,null,null,null,null,null,null,null,null,null,null,null,null,null,0,0,0,null,null,null,null,103,60,null,"",null,null,1,null,1613753229,2,1,-2,0,0,0,0,0,0,0,null,0,0,0,"",0,1,0,null,null,0,0,0,null,"","",null,null,null,null,null,null,"","Пр/812-027.0-1","Пр/774-027.0","Линии электропередачи","Линии электропередачи",null,0,null,null,null,null,null,null,null,null,null,null,null,null,null,null,null,null,null,0]
[18,1,392,null,"","08.3.04.02","Сталь стержневая диаметром до 10 мм","т",{"$f":"I197*J204","v":0},0,0,0,0,0,0,0,0,0,0,0,0,0,0,0,0,null,-1,0,0,0,0,0,0,0,0,0,0,0,0,0,0,0,0,0,0,103,60,1,1,null,null,1,1,1,1,"","","","",3,1,"",null,null,33001,0,"",0,2,0,1,1,1,1,1,1,"",103,60,"",null,null,0,0,0,0,0,0,0,0,0,"",0,0,0,0,0,0,0,0,0,0,0,0,null,null,"","","","","","","","","","","",0,0,1,1,null,null,null,1009,"т","т",1000,null,"","","","",null,83666879,2,"Общестроительные работы",27,"Линии электропередачи",1,33001,"Линии электропередачи","ФЕР-33",null,"",null,1024,0,0,0,0,0,0,0,null,null,null,null,null,null,null,null,null,null,null,null,null,null,null,null,null,null,0,0,0,null,null,null,null,103,60,null,"",null,null,1,null,1613753229,2,1,-2,0,0,0,0,0,0,0,null,0,0,0,"",0,1,0,null,null,0,0,0,null,"","",null,null,null,null,null,null,"","Пр/812-027.0-1","Пр/774-027.0","Линии электропередачи","Линии электропередачи",null,0,null,null,null,null,null,null,null,null,null,null,null,null,null,null,null,null,null,0]
[18,1,381,null,"","22.2.01.04","Изоляторы линейные штыревые фарфоровые","ШТ",{"$f":"I196*J205","v":0},0,0,0,0,0,0,0,0,0,0,0,0,0,0,0,0,null,-1,0,0,0,0,0,0,0,0,0,0,0,0,0,0,0,0,0,0,103,60,1,1,null,null,1,1,1,1,"","","","",3,1,"",null,null,33001,0,"",0,2,0,1,1,1,1,1,1,"",103,60,"",null,null,0,0,0,0,0,0,0,0,0,"",0,0,0,0,0,0,0,0,0,0,0,0,null,null,"","","","","","","","","","","",0,0,1,1,null,null,null,1013,"ШТ","ШТ",1,null,"","","","",null,83666879,2,"Общестроительные работы",27,"Линии электропередачи",1,33001,"Линии электропередачи","ФЕР-33",null,"",null,1024,0,0,0,0,0,0,0,null,null,null,null,null,null,null,null,null,null,null,null,null,null,null,null,null,null,0,0,0,null,null,null,null,103,60,null,"",null,null,1,null,1740798612,2,1,-2,0,0,0,0,0,0,0,null,0,0,0,"",0,1,0,null,null,0,0,0,null,"","",null,null,null,null,null,null,"","Пр/812-027.0-1","Пр/774-027.0","Линии электропередачи","Линии электропередачи",null,0,null,null,null,null,null,null,null,null,null,null,null,null,null,null,null,null,null,0]
[18,1,395,null,"","22.2.01.04","Изоляторы линейные штыревые фарфоровые","ШТ",{"$f":"I197*J206","v":0},0,0,0,0,0,0,0,0,0,0,0,0,0,0,0,0,null,-1,0,0,0,0,0,0,0,0,0,0,0,0,0,0,0,0,0,0,103,60,1,1,null,null,1,1,1,1,"","","","",3,1,"",null,null,33001,0,"",0,2,0,1,1,1,1,1,1,"",103,60,"",null,null,0,0,0,0,0,0,0,0,0,"",0,0,0,0,0,0,0,0,0,0,0,0,null,null,"","","","","","","","","","","",0,0,1,1,null,null,null,1013,"ШТ","ШТ",1,null,"","","","",null,83666879,2,"Общестроительные работы",27,"Линии электропередачи",1,33001,"Линии электропередачи","ФЕР-33",null,"",null,1024,0,0,0,0,0,0,0,null,null,null,null,null,null,null,null,null,null,null,null,null,null,null,null,null,null,0,0,0,null,null,null,null,103,60,null,"",null,null,1,null,1740798612,2,1,-2,0,0,0,0,0,0,0,null,0,0,0,"",0,1,0,null,null,0,0,0,null,"","",null,null,null,null,null,null,"","Пр/812-027.0-1","Пр/774-027.0","Линии электропередачи","Линии электропередачи",null,0,null,null,null,null,null,null,null,null,null,null,null,null,null,null,null,null,null,0]
[18,1,382,null,"","22.2.02.03","Детали крепления стальные","кг",{"$f":"I196*J207","v":0},0,0,0,0,0,0,0,0,0,0,0,0,0,0,0,0,null,-1,0,0,0,0,0,0,0,0,0,0,0,0,0,0,0,0,0,0,103,60,1,1,null,null,1,1,1,1,"","","","",3,1,"",null,null,33001,0,"",0,2,0,1,1,1,1,1,1,"",103,60,"",null,null,0,0,0,0,0,0,0,0,0,"",0,0,0,0,0,0,0,0,0,0,0,0,null,null,"","","","","","","","","","","",0,0,1,1,null,null,null,1009,"кг","кг",1,null,"","","","",null,83666879,2,"Общестроительные работы",27,"Линии электропередачи",1,33001,"Линии электропередачи","ФЕР-33",null,"",null,1024,0,0,0,0,0,0,0,null,null,null,null,null,null,null,null,null,null,null,null,null,null,null,null,null,null,0,0,0,null,null,null,null,103,60,null,"",null,null,1,null,1533393836,2,1,-2,0,0,0,0,0,0,0,null,0,0,0,"",0,1,0,null,null,0,0,0,null,"","",null,null,null,null,null,null,"","Пр/812-027.0-1","Пр/774-027.0","Линии электропередачи","Линии электропередачи",null,0,null,null,null,null,null,null,null,null,null,null,null,null,null,null,null,null,null,0]
[18,1,396,null,"","22.2.02.03","Детали крепления стальные","кг",{"$f":"I197*J208","v":0},0,0,0,0,0,0,0,0,0,0,0,0,0,0,0,0,null,-1,0,0,0,0,0,0,0,0,0,0,0,0,0,0,0,0,0,0,103,60,1,1,null,null,1,1,1,1,"","","","",3,1,"",null,null,33001,0,"",0,2,0,1,1,1,1,1,1,"",103,60,"",null,null,0,0,0,0,0,0,0,0,0,"",0,0,0,0,0,0,0,0,0,0,0,0,null,null,"","","","","","","","","","","",0,0,1,1,null,null,null,1009,"кг","кг",1,null,"","","","",null,83666879,2,"Общестроительные работы",27,"Линии электропередачи",1,33001,"Линии электропередачи","ФЕР-33",null,"",null,1024,0,0,0,0,0,0,0,null,null,null,null,null,null,null,null,null,null,null,null,null,null,null,null,null,null,0,0,0,null,null,null,null,103,60,null,"",null,null,1,null,1533393836,2,1,-2,0,0,0,0,0,0,0,null,0,0,0,"",0,1,0,null,null,0,0,0,null,"","",null,null,null,null,null,null,"","Пр/812-027.0-1","Пр/774-027.0","Линии электропередачи","Линии электропередачи",null,0,null,null,null,null,null,null,null,null,null,null,null,null,null,null,null,null,null,0]
[17,1,{"$f":"ROW(SmtRes!A410)","v":410},{"$f":"ROW(EtalonRes!A410)","v":410},"","м08-03-574-05","Разводка по устройствам и подключение жил кабелей или проводов сечением: до 95 мм2","100 ШТ",0,0,0,0.04,0.04,0,0,{"$f":"SUMIF(SmtRes!AQ397:'SmtRes'!AQ410,\"=1\",SmtRes!DF397:'SmtRes'!DF410)","v":0},{"$f":"SUMIF(SmtRes!AQ397:'SmtRes'!AQ410,\"=1\",SmtRes!DG397:'SmtRes'!DG410)","v":0},{"$f":"SUMIF(SmtRes!AQ397:'SmtRes'!AQ410,\"=1\",SmtRes!DH397:'SmtRes'!DH410)","v":0},{"$f":"SUMIF(SmtRes!AQ397:'SmtRes'!AQ410,\"=1\",SmtRes!DI397:'SmtRes'!DI410)","v":0},0,{"$f":"SUMIF(SmtRes!AQ397:'SmtRes'!AQ410,\"=1\",SmtRes!CV397:'SmtRes'!CV410)","v":0},{"$f":"SUMIF(SmtRes!AQ397:'SmtRes'!AQ410,\"=1\",SmtRes!CW397:'SmtRes'!CW410)","v":0},0,0,0,null,-1,47076.07,{"$f":"ROUND((SUM(SmtRes!BQ397:'SmtRes'!BQ410)),2)","v":2814.7},{"$f":"ROUND((((SUM(SmtRes!BR397:'SmtRes'!BR410))-(SUM(SmtRes!BS397:'SmtRes'!BS410)))+AE209),2)","v":345.24},{"$f":"ROUND((SUM(SmtRes!BS397:'SmtRes'!BS410)),2)","v":57.07},{"$f":"ROUND((SUM(SmtRes!BT397:'SmtRes'!BT410)),2)","v":43916.13},0,{"$f":"(SUM(SmtRes!BU397:'SmtRes'!BU410))","v":52.53},{"$f":"(SUM(SmtRes!BV397:'SmtRes'!BV410))","v":0.06},0,47133.140979999996,2814.70318,345.23969999999997,57.067499999999995,43916.130599999997,0,52.53,0.06,0,97,51,1,1,null,null,1,1,1,1,"","","","",0,2,"ГЭСНм-2022, м08-03-574-05, приказ Минстроя России от 18.05.2022 г. № 378/пр",null,null,108001,0,"",0,3,0,1,1,1,1,1,1,"",97,51,"",null,null,0,0,0,0,0,0,0,0,0,"",0,0,{"$f":"SUMIF(SmtRes!AQ397:'SmtRes'!AQ410,\"=1\",SmtRes!AA397:'SmtRes'!AA410)","v":372508.79},{"$f":"SUMIF(SmtRes!AQ397:'SmtRes'!AQ410,\"=1\",SmtRes!AB397:'SmtRes'!AB410)","v":2283.83},{"$f":"SUMIF(SmtRes!AQ397:'SmtRes'!AQ410,\"=1\",SmtRes!AC397:'SmtRes'!AC410)","v":1902.25},{"$f":"SUMIF(SmtRes!AQ397:'SmtRes'!AQ410,\"=1\",SmtRes!AD397:'SmtRes'!AD410)","v":836.02},{"$f":"AG209","v":0},{"$f":"SUMIF(SmtRes!AQ397:'SmtRes'!AQ410,\"=1\",SmtRes!BU397:'SmtRes'!BU410)","v":52.53},{"$f":"SUMIF(SmtRes!AQ397:'SmtRes'!AQ410,\"=1\",SmtRes!BV397:'SmtRes'!BV410)","v":0.06},{"$f":"AJ209","v":0},0,0,null,null,"","","","","","","","","","","",0,0,1,1,null,null,null,1013,"100 ШТ","100 ШТ",1,null,"","","","",null,83666702,3,"Монтажные работы",0,"",2,108001,"Электротехнические установки: на других объектах","мФЕР-08",null,"",null,132096,0,0,0,0,0,52.53,0.06,0,null,null,null,null,null,null,null,null,null,null,null,null,null,null,null,null,null,0,0,0,null,null,null,null,97,51,null,"",null,null,1,null,627319889,2,1,-2,0,0,0,0,0,0,0,null,0,3,0,"",0,1,0,null,null,0,0,0,null,"","",null,null,null,null,null,null,"","Пр/812-049.3-1","Пр/774-049.3","Электротехнические установки: на других объектах","Электротехнические установки: на других объектах",null,0,null,null,null,null,null,null,null,null,null,null,null,null,null,null,null,null,null,0]
[17,1,{"$f":"ROW(SmtRes!A424)","v":424},{"$f":"ROW(EtalonRes!A424)","v":424},"","м08-03-574-05","Разводка по устройствам и подключение жил кабелей или проводов сечением: до 95 мм2","100 ШТ",0,0,0,0.04,0.04,0,0,{"$f":"SUMIF(SmtRes!AQ411:'SmtRes'!AQ424,\"=1\",SmtRes!DF411:'SmtRes'!DF424)","v":0},{"$f":"SUMIF(SmtRes!AQ411:'SmtRes'!AQ424,\"=1\",SmtRes!DG411:'SmtRes'!DG424)","v":0},{"$f":"SUMIF(SmtRes!AQ411:'SmtRes'!AQ424,\"=1\",SmtRes!DH411:'SmtRes'!DH424)","v":0},{"$f":"SUMIF(SmtRes!AQ411:'SmtRes'!AQ424,\"=1\",SmtRes!DI411:'SmtRes'!DI424)","v":0},0,{"$f":"SUMIF(SmtRes!AQ411:'SmtRes'!AQ424,\"=1\",SmtRes!CV411:'SmtRes'!CV424)","v":0},{"$f":"SUMIF(SmtRes!AQ411:'SmtRes'!AQ424,\"=1\",SmtRes!CW411:'SmtRes'!CW424)","v":0},0,0,0,null,-1,47076.07,{"$f":"ROUND((SUM(SmtRes!BQ411:'SmtRes'!BQ424)),2)","v":2814.7},{"$f":"ROUND((((SUM(SmtRes!BR411:'SmtRes'!BR424))-(SUM(SmtRes!BS411:'SmtRes'!BS424)))+AE210),2)","v":345.24},{"$f":"ROUND((SUM(SmtRes!BS411:'SmtRes'!BS424)),2)","v":57.07},{"$f":"ROUND((SUM(SmtRes!BT411:'SmtRes'!BT424)),2)","v":43916.13},0,{"$f":"(SUM(SmtRes!BU411:'SmtRes'!BU424))","v":52.53},{"$f":"(SUM(SmtRes!BV411:'SmtRes'!BV424))","v":0.06},0,47133.140979999996,2814.70318,345.23969999999997,57.067499999999995,43916.130599999997,0,52.53,0.06,0,97,51,1,1,null,null,1,1,1,1,"","","","",0,2,"ГЭСНм-2022, м08-03-574-05, приказ Минстроя России от 18.05.2022 г. № 378/пр",null,null,108001,0,"",0,3,0,1,1,1,1,1,1,"",97,51,"",null,null,0,0,0,0,0,0,0,0,0,"",0,0,{"$f":"SUMIF(SmtRes!AQ411:'SmtRes'!AQ424,\"=1\",SmtRes!AA411:'SmtRes'!AA424)","v":372508.79},{"$f":"SUMIF(SmtRes!AQ411:'SmtRes'!AQ424,\"=1\",SmtRes!AB411:'SmtRes'!AB424)","v":2283.83},{"$f":"SUMIF(SmtRes!AQ411:'SmtRes'!AQ424,\"=1\",SmtRes!AC411:'SmtRes'!AC424)","v":1902.25},{"$f":"SUMIF(SmtRes!AQ411:'SmtRes'!AQ424,\"=1\",SmtRes!AD411:'SmtRes'!AD424)","v":836.02},{"$f":"AG210","v":0},{"$f":"SUMIF(SmtRes!AQ411:'SmtRes'!AQ424,\"=1\",SmtRes!BU411:'SmtRes'!BU424)","v":52.53},{"$f":"SUMIF(SmtRes!AQ411:'SmtRes'!AQ424,\"=1\",SmtRes!BV411:'SmtRes'!BV424)","v":0.06},{"$f":"AJ210","v":0},0,0,null,null,"","","","","","","","","","","",0,0,1,1,null,null,null,1013,"100 ШТ","100 ШТ",1,null,"","","","",null,83666702,3,"Монтажные работы",0,"",2,108001,"Электротехнические установки: на других объектах","мФЕР-08",null,"",null,132096,0,0,0,0,0,52.53,0.06,0,null,null,null,null,null,null,null,null,null,null,null,null,null,null,null,null,null,0,0,0,null,null,null,null,97,51,null,"",null,null,1,null,627319889,2,1,-2,0,0,0,0,0,0,0,null,0,3,0,"",0,1,0,null,null,0,0,0,null,"","",null,null,null,null,null,null,"","Пр/812-049.3-1","Пр/774-049.3","Электротехнические установки: на других объектах","Электротехнические установки: на других объектах",null,0,null,null,null,null,null,null,null,null,null,null,null,null,null,null,null,null,null,0]
[19,1,null,null,null,"","По ВОР \"Устройство наконечников CPTAU95\"","",null,null,null,null,null,null,null,null,null,null,null,null,null,null,null,null,null,null,1,null,null,null,null,null,null,null,null,null,null,null,null,null,null,null,null,null,null,null,null,null,null,null,null,null,null,null,null,null,null,null,null,null,null,null,null,null,null,null,null,null,null,null,null,null,null,null,null,null,null,null,null,null,null,null,null,null,null,null,null,null,null,null,null,null,null,null,null,null,null,null,null,null,null,null,null,null,null,null,null,null,null,null,null,null,null,null,null,null,null,null,null,null,null,null,null,null,null,null,null,null,null,null,null,null,null,null,null,null,null,null,null,null,null,null,null,null,null,null,null,null,null,null,null,null,null,null,null,null,null,null,null,null,null,null,null,null,null,null,null,null,null,null,null,null,null,null,null,null,null,null,null,null,null,null,null,null,null,null,null,null,null,null,null,null,null,null,null,null,null,null,null,null,null,null,null,null,null,null,null,null,null,null,null,null,null,null,null,null,null,null,null,null,null,null,null,null,null,null,null,null,null,null,null,null,null,null,null,null,null,null,null,null,null,null,null,null,0]
[18,1,410,null,"","421/пр_2020_п.75_пп.а","Сметная стоимость вспомогательных ненормируемых материальных ресурсов, не учтенная в сметной норме, 2%","%",{"$f":"J212","v":2},2,2,0.08,0.08,{"$f":"ROUND(L212-M212,4)","v":0},{"$f":"ROUND(P212,2)","v":0},{"$f":"ROUND(ROUND(ROUND(SUMIF(SmtRes!AQ411:'SmtRes'!AQ424,\"=1\",SmtRes!CU411:'SmtRes'!CU424),2),2)*I212/100,2)","v":0},{"$f":"ROUND(CR212*I212,2)","v":0},{"$f":"ROUND(CS212*I212,2)","v":0},{"$f":"ROUND(CT212*I212,2)","v":0},{"$f":"ROUND(CU212*I212,2)","v":0},{"$f":"ROUND(CV212*I212,7)","v":0},{"$f":"ROUND(CW212*I212,7)","v":0},{"$f":"ROUND(CX212*I212,2)","v":0},{"$f":"ROUND(CY212,2)","v":0},0,null,-1,{"$f":"ROUND((AC212+AD212+AF212),2)","v":0},{"$f":"ROUND((ES212),2)","v":0},{"$f":"ROUND((((ET212)-(EU212))+AE212),2)","v":0},{"$f":"ROUND((EU212),2)","v":0},{"$f":"ROUND((EV212),2)","v":0},{"$f":"ROUND((AP212),2)","v":0},{"$f":"(EW212)","v":0},{"$f":"(EX212)","v":0},{"$f":"(AS212)","v":0},0,0,0,0,0,0,0,0,0,97,51,1,1,null,null,1,1,1,1,"","","","",3,2,"",null,null,108001,0,"",0,3,0,1,1,1,1,1,1,"",97,51,"",null,null,0,0,0,0,0,0,0,0,0,"",0,{"$f":"0","v":0},{"$f":"0","v":0},{"$f":"0","v":0},{"$f":"0","v":0},{"$f":"0","v":0},{"$f":"0","v":0},{"$f":"0","v":0},{"$f":"0","v":0},{"$f":"0","v":0},{"$f":"0","v":0},{"$f":"0","v":0},null,null,"","","","","","","","","","","",0,0,1,1,null,null,null,1013,"%","%",1,null,"","","","",null,83666702,3,"Монтажные работы",0,"",2,108001,"Электротехнические установки: на других объектах","мФЕР-08",null,"",null,1024,0,0,0,0,0,0,0,null,null,null,null,null,null,null,null,null,null,null,null,null,null,null,null,null,null,0,0,0,null,null,null,null,97,51,null,"",null,null,1,null,274903907,2,1,-2,0,0,{"$f":"ROUND(IF(AND(BH212=3,BI212=3,FS212<>0),P212,0),2)","v":0},{"$f":"ROUND(O212+X212+Y212,2)+GX212","v":0},{"$f":"IF(OR(BI212=0,BI212=1),GM212-GX212,0)","v":0},{"$f":"IF(BI212=2,GM212-GX212,0)","v":0},{"$f":"IF(BI212=4,GM212-GX212,0)","v":0},null,0,3,0,"",{"$f":"ROUND((GT212),2)","v":0},1,{"$f":"ROUND(HC212*I212,2)","v":0},null,null,0,0,{"$f":"0","v":0},null,"","",null,null,null,null,null,null,"","Пр/812-049.3-1","Пр/774-049.3","Электротехнические установки: на других объектах","Электротехнические установки: на других объектах",null,0,null,null,null,null,null,null,null,null,null,null,null,null,null,null,null,null,null,0]
[18,1,424,null,"","421/пр_2020_п.75_пп.а","Сметная стоимость вспомогательных ненормируемых материальных ресурсов, не учтенная в сметной норме, 2%","%",{"$f":"J213","v":2},2,2,0.08,0.08,{"$f":"ROUND(L213-M213,4)","v":0},{"$f":"ROUND(P213,2)","v":0},{"$f":"ROUND(ROUND(ROUND(SUMIF(SmtRes!AQ411:'SmtRes'!AQ424,\"=1\",SmtRes!CU411:'SmtRes'!CU424),2),2)*I213/100,2)","v":0},{"$f":"ROUND(CR213*I213,2)","v":0},{"$f":"ROUND(CS213*I213,2)","v":0},{"$f":"ROUND(CT213*I213,2)","v":0},{"$f":"ROUND(CU213*I213,2)","v":0},{"$f":"ROUND(CV213*I213,7)","v":0},{"$f":"ROUND(CW213*I213,7)","v":0},{"$f":"ROUND(CX213*I213,2)","v":0},0,0,null,-1,{"$f":"ROUND((AC213+AD213+AF213),2)","v":0},{"$f":"ROUND((ES213),2)","v":0},{"$f":"ROUND((((ET213)-(EU213))+AE213),2)","v":0},{"$f":"ROUND((EU213),2)","v":0},{"$f":"ROUND((EV213),2)","v":0},{"$f":"ROUND((AP213),2)","v":0},{"$f":"(EW213)","v":0},{"$f":"(EX213)","v":0},{"$f":"(AS213)","v":0},0,0,0,0,0,0,0,0,0,97,51,1,1,null,null,1,1,1,1,"","","","",3,2,"",null,null,108001,0,"",0,3,0,1,1,1,1,1,1,"",97,51,"",null,null,0,0,0,0,0,0,0,0,0,"",0,{"$f":"0","v":0},{"$f":"0","v":0},{"$f":"0","v":0},{"$f":"0","v":0},{"$f":"0","v":0},{"$f":"0","v":0},{"$f":"0","v":0},{"$f":"0","v":0},{"$f":"0","v":0},{"$f":"0","v":0},{"$f":"0","v":0},null,null,"","","","","","","","","","","",0,0,1,1,null,null,null,1013,"%","%",1,null,"","","","",null,83666702,3,"Монтажные работы",0,"",2,108001,"Электротехнические установки: на других объектах","мФЕР-08",null,"",null,1024,0,0,0,0,0,0,0,null,null,null,null,null,null,null,null,null,null,null,null,null,null,null,null,null,null,0,0,0,null,null,null,null,97,51,null,"",null,null,1,null,274903907,2,1,-2,0,0,{"$f":"ROUND(IF(AND(BH213=3,BI213=3,FS213<>0),P213,0),2)","v":0},{"$f":"ROUND(O213+X213+Y213,2)+GX213","v":0},{"$f":"IF(OR(BI213=0,BI213=1),GM213-GX213,0)","v":0},{"$f":"IF(BI213=2,GM213-GX213,0)","v":0},{"$f":"IF(BI213=4,GM213-GX213,0)","v":0},null,0,3,0,"",{"$f":"ROUND((GT213),2)","v":0},1,{"$f":"ROUND(HC213*I213,2)","v":0},null,null,0,0,{"$f":"0","v":0},null,"","",null,null,null,null,null,null,"","Пр/812-049.3-1","Пр/774-049.3","Электротехнические установки: на других объектах","Электротехнические установки: на других объектах",null,0,null,null,null,null,null,null,null,null,null,null,null,null,null,null,null,null,null,0]
[17,1,{"$f":"ROW(SmtRes!A443)","v":443},{"$f":"ROW(EtalonRes!A443)","v":443},"","м08-03-526-03","Автомат одно-, двух-, трехполюсный, устанавливаемый на конструкции: на стене или колонне, на ток до 250 А","ШТ",0,0,0,1,1,{"$f":"ROUND(L214-M214,4)","v":0},{"$f":"ROUND(CP214,2)","v":0},{"$f":"SUMIF(SmtRes!AQ425:'SmtRes'!AQ443,\"=1\",SmtRes!DF425:'SmtRes'!DF443)","v":0},{"$f":"SUMIF(SmtRes!AQ425:'SmtRes'!AQ443,\"=1\",SmtRes!DG425:'SmtRes'!DG443)","v":0},{"$f":"SUMIF(SmtRes!AQ425:'SmtRes'!AQ443,\"=1\",SmtRes!DH425:'SmtRes'!DH443)","v":0},{"$f":"SUMIF(SmtRes!AQ425:'SmtRes'!AQ443,\"=1\",SmtRes!DI425:'SmtRes'!DI443)","v":0},{"$f":"ROUND(CU214*I214,2)","v":0},{"$f":"SUMIF(SmtRes!AQ425:'SmtRes'!AQ443,\"=1\",SmtRes!CV425:'SmtRes'!CV443)","v":0},{"$f":"SUMIF(SmtRes!AQ425:'SmtRes'!AQ443,\"=1\",SmtRes!CW425:'SmtRes'!CW443)","v":0},{"$f":"ROUND(CX214*I214,2)","v":0},0,0,null,-1,{"$f":"ROUND((AC214+AD214+AF214),2)","v":2232.4299999999998},{"$f":"ROUND((SUM(SmtRes!BQ425:'SmtRes'!BQ443)),2)","v":126.64},{"$f":"ROUND((((SUM(SmtRes!BR425:'SmtRes'!BR443))-(SUM(SmtRes!BS425:'SmtRes'!BS443)))+AE214),2)","v":29.55},{"$f":"ROUND((SUM(SmtRes!BS425:'SmtRes'!BS443)),2)","v":19.02},{"$f":"ROUND((SUM(SmtRes!BT425:'SmtRes'!BT443)),2)","v":2076.2399999999998},{"$f":"ROUND((AP214),2)","v":0},{"$f":"(SUM(SmtRes!BU425:'SmtRes'!BU443))","v":2.38},{"$f":"(SUM(SmtRes!BV425:'SmtRes'!BV443))","v":0.02},{"$f":"(AS214)","v":0},2251.4614959999999,126.64429600000001,29.554100000000002,19.022500000000001,2076.2406000000001,0,2.38,0.02,0,97,51,1,1,null,null,1,1,1,1,"","","","",0,2,"ГЭСНм-2022, м08-03-526-03, приказ Минстроя России от 18.05.2022 г. № 378/пр",null,null,108001,0,"",0,3,0,1,1,1,1,1,1,"",97,51,"",null,null,0,0,0,0,0,0,0,0,0,"",0,{"$f":"(P214+Q214+S214+R214)","v":0},{"$f":"SUMIF(SmtRes!AQ425:'SmtRes'!AQ443,\"=1\",SmtRes!AA425:'SmtRes'!AA443)","v":138808.15},{"$f":"SUMIF(SmtRes!AQ425:'SmtRes'!AQ443,\"=1\",SmtRes!AB425:'SmtRes'!AB443)","v":2318.44},{"$f":"SUMIF(SmtRes!AQ425:'SmtRes'!AQ443,\"=1\",SmtRes!AC425:'SmtRes'!AC443)","v":1902.25},{"$f":"SUMIF(SmtRes!AQ425:'SmtRes'!AQ443,\"=1\",SmtRes!AD425:'SmtRes'!AD443)","v":872.37},{"$f":"AG214","v":0},{"$f":"SUMIF(SmtRes!AQ425:'SmtRes'!AQ443,\"=1\",SmtRes!BU425:'SmtRes'!BU443)","v":2.38},{"$f":"SUMIF(SmtRes!AQ425:'SmtRes'!AQ443,\"=1\",SmtRes!BV425:'SmtRes'!BV443)","v":0.02},{"$f":"AJ214","v":0},{"$f":"(((S214+R214)*AT214)/100)","v":0},{"$f":"(((S214+R214)*AU214)/100)","v":0},null,null,"","","","","","","","","","","",0,0,1,1,null,null,null,1013,"ШТ","ШТ",1,null,"","","","",null,83666702,3,"Монтажные работы",0,"",2,108001,"Электротехнические установки: на других объектах","мФЕР-08",null,"",null,132096,0,0,0,0,0,2.38,0.02,0,null,null,null,null,null,null,null,null,null,null,null,null,null,null,null,null,null,0,0,0,null,null,null,null,97,51,null,"",null,null,1,null,-1224506015,2,1,-2,0,0,{"$f":"ROUND(IF(AND(BH214=3,BI214=3,FS214<>0),P214,0),2)","v":0},{"$f":"ROUND(O214+X214+Y214,2)+GX214","v":0},{"$f":"IF(OR(BI214=0,BI214=1),GM214-GX214,0)","v":0},{"$f":"IF(BI214=2,GM214-GX214,0)","v":0},{"$f":"IF(BI214=4,GM214-GX214,0)","v":0},null,0,0,0,"",{"$f":"ROUND((GT214),2)","v":0},1,{"$f":"ROUND(HC214*I214,2)","v":0},null,null,0,0,{"$f":"GV214*GW214","v":0},null,"","",null,null,null,null,null,null,"","Пр/812-049.3-1","Пр/774-049.3","Электротехнические установки: на других объектах","Электротехнические установки: на других объектах",null,0,null,null,null,null,null,null,null,null,null,null,null,null,null,null,null,null,null,0]
[17,1,{"$f":"ROW(SmtRes!A462)","v":462},{"$f":"ROW(EtalonRes!A462)","v":462},"","м08-03-526-03","Автомат одно-, двух-, трехполюсный, устанавливаемый на конструкции: на стене или колонне, на ток до 250 А","ШТ",0,0,0,1,1,{"$f":"ROUND(L215-M215,4)","v":0},{"$f":"ROUND(CP215,2)","v":0},{"$f":"SUMIF(SmtRes!AQ444:'SmtRes'!AQ462,\"=1\",SmtRes!DF444:'SmtRes'!DF462)","v":0},{"$f":"SUMIF(SmtRes!AQ444:'SmtRes'!AQ462,\"=1\",SmtRes!DG444:'SmtRes'!DG462)","v":0},{"$f":"SUMIF(SmtRes!AQ444:'SmtRes'!AQ462,\"=1\",SmtRes!DH444:'SmtRes'!DH462)","v":0},{"$f":"SUMIF(SmtRes!AQ444:'SmtRes'!AQ462,\"=1\",SmtRes!DI444:'SmtRes'!DI462)","v":0},{"$f":"ROUND(CU215*I215,2)","v":0},{"$f":"SUMIF(SmtRes!AQ444:'SmtRes'!AQ462,\"=1\",SmtRes!CV444:'SmtRes'!CV462)","v":0},{"$f":"SUMIF(SmtRes!AQ444:'SmtRes'!AQ462,\"=1\",SmtRes!CW444:'SmtRes'!CW462)","v":0},{"$f":"ROUND(CX215*I215,2)","v":0},0,0,null,-1,{"$f":"ROUND((AC215+AD215+AF215),2)","v":2232.4299999999998},{"$f":"ROUND((SUM(SmtRes!BQ444:'SmtRes'!BQ462)),2)","v":126.64},{"$f":"ROUND((((SUM(SmtRes!BR444:'SmtRes'!BR462))-(SUM(SmtRes!BS444:'SmtRes'!BS462)))+AE215),2)","v":29.55},{"$f":"ROUND((SUM(SmtRes!BS444:'SmtRes'!BS462)),2)","v":19.02},{"$f":"ROUND((SUM(SmtRes!BT444:'SmtRes'!BT462)),2)","v":2076.2399999999998},{"$f":"ROUND((AP215),2)","v":0},{"$f":"(SUM(SmtRes!BU444:'SmtRes'!BU462))","v":2.38},{"$f":"(SUM(SmtRes!BV444:'SmtRes'!BV462))","v":0.02},{"$f":"(AS215)","v":0},2251.4614959999999,126.64429600000001,29.554100000000002,19.022500000000001,2076.2406000000001,0,2.38,0.02,0,97,51,1,1,null,null,1,1,1,1,"","","","",0,2,"ГЭСНм-2022, м08-03-526-03, приказ Минстроя России от 18.05.2022 г. № 378/пр",null,null,108001,0,"",0,3,0,1,1,1,1,1,1,"",97,51,"",null,null,0,0,0,0,0,0,0,0,0,"",0,{"$f":"(P215+Q215+S215+R215)","v":0},{"$f":"SUMIF(SmtRes!AQ444:'SmtRes'!AQ462,\"=1\",SmtRes!AA444:'SmtRes'!AA462)","v":138808.15},{"$f":"SUMIF(SmtRes!AQ444:'SmtRes'!AQ462,\"=1\",SmtRes!AB444:'SmtRes'!AB462)","v":2318.44},{"$f":"SUMIF(SmtRes!AQ444:'SmtRes'!AQ462,\"=1\",SmtRes!AC444:'SmtRes'!AC462)","v":1902.25},{"$f":"SUMIF(SmtRes!AQ444:'SmtRes'!AQ462,\"=1\",SmtRes!AD444:'SmtRes'!AD462)","v":872.37},{"$f":"AG215","v":0},{"$f":"SUMIF(SmtRes!AQ444:'SmtRes'!AQ462,\"=1\",SmtRes!BU444:'SmtRes'!BU462)","v":2.38},{"$f":"SUMIF(SmtRes!AQ444:'SmtRes'!AQ462,\"=1\",SmtRes!BV444:'SmtRes'!BV462)","v":0.02},{"$f":"AJ215","v":0},{"$f":"(((S215+R215)*AT215)/100)","v":0},{"$f":"(((S215+R215)*AU215)/100)","v":0},null,null,"","","","","","","","","","","",0,0,1,1,null,null,null,1013,"ШТ","ШТ",1,null,"","","","",null,83666702,3,"Монтажные работы",0,"",2,108001,"Электротехнические установки: на других объектах","мФЕР-08",null,"",null,132096,0,0,0,0,0,2.38,0.02,0,null,null,null,null,null,null,null,null,null,null,null,null,null,null,null,null,null,0,0,0,null,null,null,null,97,51,null,"",null,null,1,null,-1224506015,2,1,-2,0,0,{"$f":"ROUND(IF(AND(BH215=3,BI215=3,FS215<>0),P215,0),2)","v":0},{"$f":"ROUND(O215+X215+Y215,2)+GX215","v":0},{"$f":"IF(OR(BI215=0,BI215=1),GM215-GX215,0)","v":0},{"$f":"IF(BI215=2,GM215-GX215,0)","v":0},{"$f":"IF(BI215=4,GM215-GX215,0)","v":0},null,0,0,0,"",{"$f":"ROUND((GT215),2)","v":0},1,{"$f":"ROUND(HC215*I215,2)","v":0},null,null,0,0,{"$f":"GV215*GW215","v":0},null,"","",null,null,null,null,null,null,"","Пр/812-049.3-1","Пр/774-049.3","Электротехнические установки: на других объектах","Электротехнические установки: на других объектах",null,0,null,null,null,null,null,null,null,null,null,null,null,null,null,null,null,null,null,0]
[19,1,null,null,null,"","По ВОР \"Установка выключателя автоматического BA-35 160A в РУ-0,4 кВ КТП\"","",null,null,null,null,null,null,null,null,null,null,null,null,null,null,null,null,null,null,1,null,null,null,null,null,null,null,null,null,null,null,null,null,null,null,null,null,null,null,null,null,null,null,null,null,null,null,null,null,null,null,null,null,null,null,null,null,null,null,null,null,null,null,null,null,null,null,null,null,null,null,null,null,null,null,null,null,null,null,null,null,null,null,null,null,null,null,null,null,null,null,null,null,null,null,null,null,null,null,null,null,null,null,null,null,null,null,null,null,null,null,null,null,null,null,null,null,null,null,null,null,null,null,null,null,null,null,null,null,null,null,null,null,null,null,null,null,null,null,null,null,null,null,null,null,null,null,null,null,null,null,null,null,null,null,null,null,null,null,null,null,null,null,null,null,null,null,null,null,null,null,null,null,null,null,null,null,null,null,null,null,null,null,null,null,null,null,null,null,null,null,null,null,null,null,null,null,null,null,null,null,null,null,null,null,null,null,null,null,null,null,null,null,null,null,null,null,null,null,null,null,null,null,null,null,null,null,null,null,null,null,null,null,null,null,null,null,0]
[18,1,443,null,"","421/пр_2020_п.75_пп.а","Сметная стоимость вспомогательных ненормируемых материальных ресурсов, не учтенная в сметной норме, 2%","%",{"$f":"J217","v":2},2,2,2,2,{"$f":"ROUND(L217-M217,4)","v":0},{"$f":"ROUND(P217,2)","v":0},{"$f":"ROUND(ROUND(ROUND(SUMIF(SmtRes!AQ444:'SmtRes'!AQ462,\"=1\",SmtRes!CU444:'SmtRes'!CU462),2),2)*I217/100,2)","v":0},{"$f":"ROUND(CR217*I217,2)","v":0},{"$f":"ROUND(CS217*I217,2)","v":0},{"$f":"ROUND(CT217*I217,2)","v":0},{"$f":"ROUND(CU217*I217,2)","v":0},{"$f":"ROUND(CV217*I217,7)","v":0},{"$f":"ROUND(CW217*I217,7)","v":0},{"$f":"ROUND(CX217*I217,2)","v":0},{"$f":"ROUND(CY217,2)","v":0},0,null,-1,{"$f":"ROUND((AC217+AD217+AF217),2)","v":0},{"$f":"ROUND((ES217),2)","v":0},{"$f":"ROUND((((ET217)-(EU217))+AE217),2)","v":0},{"$f":"ROUND((EU217),2)","v":0},{"$f":"ROUND((EV217),2)","v":0},{"$f":"ROUND((AP217),2)","v":0},{"$f":"(EW217)","v":0},{"$f":"(EX217)","v":0},{"$f":"(AS217)","v":0},0,0,0,0,0,0,0,0,0,97,51,1,1,null,null,1,1,1,1,"","","","",3,2,"",null,null,108001,0,"",0,3,0,1,1,1,1,1,1,"",97,51,"",null,null,0,0,0,0,0,0,0,0,0,"",0,{"$f":"0","v":0},{"$f":"0","v":0},{"$f":"0","v":0},{"$f":"0","v":0},{"$f":"0","v":0},{"$f":"0","v":0},{"$f":"0","v":0},{"$f":"0","v":0},{"$f":"0","v":0},{"$f":"0","v":0},{"$f":"0","v":0},null,null,"","","","","","","","","","","",0,0,1,1,null,null,null,1013,"%","%",1,null,"","","","",null,83666702,3,"Монтажные работы",0,"",2,108001,"Электротехнические установки: на других объектах","мФЕР-08",null,"",null,1024,0,0,0,0,0,0,0,null,null,null,null,null,null,null,null,null,null,null,null,null,null,null,null,null,null,0,0,0,null,null,null,null,97,51,null,"",null,null,1,null,274903907,2,1,-2,0,0,{"$f":"ROUND(IF(AND(BH217=3,BI217=3,FS217<>0),P217,0),2)","v":0},{"$f":"ROUND(O217+X217+Y217,2)+GX217","v":0},{"$f":"IF(OR(BI217=0,BI217=1),GM217-GX217,0)","v":0},{"$f":"IF(BI217=2,GM217-GX217,0)","v":0},{"$f":"IF(BI217=4,GM217-GX217,0)","v":0},null,0,0,0,"",{"$f":"ROUND((GT217),2)","v":0},1,{"$f":"ROUND(HC217*I217,2)","v":0},null,null,0,0,{"$f":"0","v":0},null,"","",null,null,null,null,null,null,"","Пр/812-049.3-1","Пр/774-049.3","Электротехнические установки: на других объектах","Электротехнические установки: на других объектах",null,0,null,null,null,null,null,null,null,null,null,null,null,null,null,null,null,null,null,0]
[18,1,462,null,"","421/пр_2020_п.75_пп.а","Сметная стоимость вспомогательных ненормируемых материальных ресурсов, не учтенная в сметной норме, 2%","%",{"$f":"J218","v":2},2,2,2,2,0,{"$f":"ROUND(P218,2)","v":0},{"$f":"ROUND(ROUND(ROUND(SUMIF(SmtRes!AQ444:'SmtRes'!AQ462,\"=1\",SmtRes!CU444:'SmtRes'!CU462),2),2)*I218/100,2)","v":0},{"$f":"ROUND(CR218*I218,2)","v":0},{"$f":"ROUND(CS218*I218,2)","v":0},{"$f":"ROUND(CT218*I218,2)","v":0},0,{"$f":"ROUND(CV218*I218,7)","v":0},{"$f":"ROUND(CW218*I218,7)","v":0},0,0,0,null,-1,0,{"$f":"ROUND((ES218),2)","v":0},{"$f":"ROUND((((ET218)-(EU218))+AE218),2)","v":0},{"$f":"ROUND((EU218),2)","v":0},{"$f":"ROUND((EV218),2)","v":0},0,{"$f":"(EW218)","v":0},{"$f":"(EX218)","v":0},0,0,0,0,0,0,0,0,0,0,97,51,1,1,null,null,1,1,1,1,"","","","",3,2,"",null,null,108001,0,"",0,3,0,1,1,1,1,1,1,"",97,51,"",null,null,0,0,0,0,0,0,0,0,0,"",0,{"$f":"0","v":0},{"$f":"0","v":0},{"$f":"0","v":0},{"$f":"0","v":0},{"$f":"0","v":0},{"$f":"0","v":0},{"$f":"0","v":0},{"$f":"0","v":0},{"$f":"0","v":0},{"$f":"0","v":0},{"$f":"0","v":0},null,null,"","","","","","","","","","","",0,0,1,1,null,null,null,1013,"%","%",1,null,"","","","",null,83666702,3,"Монтажные работы",0,"",2,108001,"Электротехнические установки: на других объектах","мФЕР-08",null,"",null,1024,0,0,0,0,0,0,0,null,null,null,null,null,null,null,null,null,null,null,null,null,null,null,null,null,null,0,0,0,null,null,null,null,97,51,null,"",null,null,1,null,274903907,2,1,-2,0,0,0,0,0,0,0,null,0,0,0,"",0,1,0,null,null,0,0,{"$f":"0","v":0},null,"","",null,null,null,null,null,null,"","Пр/812-049.3-1","Пр/774-049.3","Электротехнические установки: на других объектах","Электротехнические установки: на других объектах",null,0,null,null,null,null,null,null,null,null,null,null,null,null,null,null,null,null,null,0]
[17,1,{"$f":"ROW(SmtRes!A476)","v":476},{"$f":"ROW(EtalonRes!A476)","v":476},"","м08-01-068-01","Шина сборная - одна полоса в фазе, медная или алюминиевая сечением: до 250 мм2","100 м",0,0,0,1.4999999999999999E-2,1.4999999999999999E-2,0,{"$f":"ROUND(CP219,2)","v":0},{"$f":"SUMIF(SmtRes!AQ463:'SmtRes'!AQ476,\"=1\",SmtRes!DF463:'SmtRes'!DF476)","v":0},{"$f":"SUMIF(SmtRes!AQ463:'SmtRes'!AQ476,\"=1\",SmtRes!DG463:'SmtRes'!DG476)","v":0},{"$f":"SUMIF(SmtRes!AQ463:'SmtRes'!AQ476,\"=1\",SmtRes!DH463:'SmtRes'!DH476)","v":0},{"$f":"SUMIF(SmtRes!AQ463:'SmtRes'!AQ476,\"=1\",SmtRes!DI463:'SmtRes'!DI476)","v":0},0,{"$f":"SUMIF(SmtRes!AQ463:'SmtRes'!AQ476,\"=1\",SmtRes!CV463:'SmtRes'!CV476)","v":0},{"$f":"SUMIF(SmtRes!AQ463:'SmtRes'!AQ476,\"=1\",SmtRes!CW463:'SmtRes'!CW476)","v":0},0,0,0,null,-1,38243,{"$f":"ROUND((SUM(SmtRes!BQ463:'SmtRes'!BQ476)),2)","v":805.15},{"$f":"ROUND((((SUM(SmtRes!BR463:'SmtRes'!BR476))-(SUM(SmtRes!BS463:'SmtRes'!BS476)))+AE219),2)","v":663.76},{"$f":"ROUND((SUM(SmtRes!BS463:'SmtRes'!BS476)),2)","v":4358.22},{"$f":"ROUND((SUM(SmtRes!BT463:'SmtRes'!BT476)),2)","v":36774.089999999997},0,{"$f":"(SUM(SmtRes!BU463:'SmtRes'!BU476))","v":45.3},{"$f":"(SUM(SmtRes!BV463:'SmtRes'!BV476))","v":5.3000000000000007},0,42601.217961399998,805.15166139999997,663.75830000000008,4358.2210000000005,36774.087,0,45.3,5.3000000000000007,0,97,51,1,1,null,null,1,1,1,1,"","","","",0,2,"ГЭСНм-2022 доп.6, м08-01-068-01, приказ Минстроя России от 11.05.2023 г. № 335/пр",null,null,108001,0,"",0,3,0,1,1,1,1,1,1,"",97,51,"",null,null,0,0,0,0,0,0,0,0,0,"",0,{"$f":"(P219+Q219+S219+R219)","v":0},{"$f":"SUMIF(SmtRes!AQ463:'SmtRes'!AQ476,\"=1\",SmtRes!AA463:'SmtRes'!AA476)","v":1211904.3600000001},{"$f":"SUMIF(SmtRes!AQ463:'SmtRes'!AQ476,\"=1\",SmtRes!AB463:'SmtRes'!AB476)","v":2364.7800000000002},{"$f":"SUMIF(SmtRes!AQ463:'SmtRes'!AQ476,\"=1\",SmtRes!AC463:'SmtRes'!AC476)","v":2714.04},{"$f":"SUMIF(SmtRes!AQ463:'SmtRes'!AQ476,\"=1\",SmtRes!AD463:'SmtRes'!AD476)","v":811.79},{"$f":"AG219","v":0},{"$f":"SUMIF(SmtRes!AQ463:'SmtRes'!AQ476,\"=1\",SmtRes!BU463:'SmtRes'!BU476)","v":45.3},{"$f":"SUMIF(SmtRes!AQ463:'SmtRes'!AQ476,\"=1\",SmtRes!BV463:'SmtRes'!BV476)","v":5.3000000000000007},{"$f":"AJ219","v":0},{"$f":"(((S219+R219)*AT219)/100)","v":0},{"$f":"(((S219+R219)*AU219)/100)","v":0},null,null,"","","","","","","","","","","",0,0,1,1,null,null,null,1003,"100 м","100 м",100,null,"","","","",null,83666702,3,"Монтажные работы",0,"",2,108001,"Электротехнические установки: на других объектах","мФЕР-08",null,"",null,132096,0,0,0,0,0,45.3,5.3,0,null,null,null,null,null,null,null,null,null,null,null,null,null,null,null,null,null,0,0,0,null,null,null,null,97,51,null,"",null,null,1,null,1730572663,2,1,-2,0,0,0,0,0,0,0,null,0,0,0,"",0,1,0,null,null,0,0,{"$f":"GV219*GW219","v":0},null,"","",null,null,null,null,null,null,"","Пр/812-049.3-1","Пр/774-049.3","Электротехнические установки: на других объектах","Электротехнические установки: на других объектах",null,0,null,null,null,null,null,null,null,null,null,null,null,null,null,null,null,null,null,0]
[17,1,{"$f":"ROW(SmtRes!A490)","v":490},{"$f":"ROW(EtalonRes!A490)","v":490},"","м08-01-068-01","Шина сборная - одна полоса в фазе, медная или алюминиевая сечением: до 250 мм2","100 м",0,0,0,1.4999999999999999E-2,1.4999999999999999E-2,0,{"$f":"ROUND(CP220,2)","v":0},{"$f":"SUMIF(SmtRes!AQ477:'SmtRes'!AQ490,\"=1\",SmtRes!DF477:'SmtRes'!DF490)","v":0},{"$f":"SUMIF(SmtRes!AQ477:'SmtRes'!AQ490,\"=1\",SmtRes!DG477:'SmtRes'!DG490)","v":0},{"$f":"SUMIF(SmtRes!AQ477:'SmtRes'!AQ490,\"=1\",SmtRes!DH477:'SmtRes'!DH490)","v":0},{"$f":"SUMIF(SmtRes!AQ477:'SmtRes'!AQ490,\"=1\",SmtRes!DI477:'SmtRes'!DI490)","v":0},0,{"$f":"SUMIF(SmtRes!AQ477:'SmtRes'!AQ490,\"=1\",SmtRes!CV477:'SmtRes'!CV490)","v":0},{"$f":"SUMIF(SmtRes!AQ477:'SmtRes'!AQ490,\"=1\",SmtRes!CW477:'SmtRes'!CW490)","v":0},0,0,0,null,-1,38243,{"$f":"ROUND((SUM(SmtRes!BQ477:'SmtRes'!BQ490)),2)","v":805.15},{"$f":"ROUND((((SUM(SmtRes!BR477:'SmtRes'!BR490))-(SUM(SmtRes!BS477:'SmtRes'!BS490)))+AE220),2)","v":663.76},{"$f":"ROUND((SUM(SmtRes!BS477:'SmtRes'!BS490)),2)","v":4358.22},{"$f":"ROUND((SUM(SmtRes!BT477:'SmtRes'!BT490)),2)","v":36774.089999999997},0,{"$f":"(SUM(SmtRes!BU477:'SmtRes'!BU490))","v":45.3},{"$f":"(SUM(SmtRes!BV477:'SmtRes'!BV490))","v":5.3000000000000007},0,42601.217961399998,805.15166139999997,663.75830000000008,4358.2210000000005,36774.087,0,45.3,5.3000000000000007,0,97,51,1,1,null,null,1,1,1,1,"","","","",0,2,"ГЭСНм-2022 доп.6, м08-01-068-01, приказ Минстроя России от 11.05.2023 г. № 335/пр",null,null,108001,0,"",0,3,0,1,1,1,1,1,1,"",97,51,"",null,null,0,0,0,0,0,0,0,0,0,"",0,{"$f":"(P220+Q220+S220+R220)","v":0},{"$f":"SUMIF(SmtRes!AQ477:'SmtRes'!AQ490,\"=1\",SmtRes!AA477:'SmtRes'!AA490)","v":1211904.3600000001},{"$f":"SUMIF(SmtRes!AQ477:'SmtRes'!AQ490,\"=1\",SmtRes!AB477:'SmtRes'!AB490)","v":2364.7800000000002},{"$f":"SUMIF(SmtRes!AQ477:'SmtRes'!AQ490,\"=1\",SmtRes!AC477:'SmtRes'!AC490)","v":2714.04},{"$f":"SUMIF(SmtRes!AQ477:'SmtRes'!AQ490,\"=1\",SmtRes!AD477:'SmtRes'!AD490)","v":811.79},{"$f":"AG220","v":0},{"$f":"SUMIF(SmtRes!AQ477:'SmtRes'!AQ490,\"=1\",SmtRes!BU477:'SmtRes'!BU490)","v":45.3},{"$f":"SUMIF(SmtRes!AQ477:'SmtRes'!AQ490,\"=1\",SmtRes!BV477:'SmtRes'!BV490)","v":5.3000000000000007},{"$f":"AJ220","v":0},{"$f":"(((S220+R220)*AT220)/100)","v":0},{"$f":"(((S220+R220)*AU220)/100)","v":0},null,null,"","","","","","","","","","","",0,0,1,1,null,null,null,1003,"100 м","100 м",100,null,"","","","",null,83666702,3,"Монтажные работы",0,"",2,108001,"Электротехнические установки: на других объектах","мФЕР-08",null,"",null,132096,0,0,0,0,0,45.3,5.3,0,null,null,null,null,null,null,null,null,null,null,null,null,null,null,null,null,null,0,0,0,null,null,null,null,97,51,null,"",null,null,1,null,1730572663,2,1,-2,0,0,0,0,0,0,0,null,0,0,0,"",0,1,0,null,null,0,0,{"$f":"GV220*GW220","v":0},null,"","",null,null,null,null,null,null,"","Пр/812-049.3-1","Пр/774-049.3","Электротехнические установки: на других объектах","Электротехнические установки: на других объектах",null,0,null,null,null,null,null,null,null,null,null,null,null,null,null,null,null,null,null,0]
[18,1,476,null,"","421/пр_2020_п.75_пп.а","Сметная стоимость вспомогательных ненормируемых материальных ресурсов, не учтенная в сметной норме, 2%","%",{"$f":"J221","v":2},2,2,0.03,0.03,0,{"$f":"ROUND(P221,2)","v":0},{"$f":"ROUND(ROUND(ROUND(SUMIF(SmtRes!AQ477:'SmtRes'!AQ490,\"=1\",SmtRes!CU477:'SmtRes'!CU490),2),2)*I221/100,2)","v":0},{"$f":"ROUND(CR221*I221,2)","v":0},{"$f":"ROUND(CS221*I221,2)","v":0},{"$f":"ROUND(CT221*I221,2)","v":0},0,{"$f":"ROUND(CV221*I221,7)","v":0},{"$f":"ROUND(CW221*I221,7)","v":0},0,0,0,null,-1,0,{"$f":"ROUND((ES221),2)","v":0},{"$f":"ROUND((((ET221)-(EU221))+AE221),2)","v":0},{"$f":"ROUND((EU221),2)","v":0},{"$f":"ROUND((EV221),2)","v":0},0,{"$f":"(EW221)","v":0},{"$f":"(EX221)","v":0},0,0,0,0,0,0,0,0,0,0,97,51,1,1,null,null,1,1,1,1,"","","","",3,2,"",null,null,108001,0,"",0,3,0,1,1,1,1,1,1,"",97,51,"",null,null,0,0,0,0,0,0,0,0,0,"",0,{"$f":"0","v":0},{"$f":"0","v":0},{"$f":"0","v":0},{"$f":"0","v":0},{"$f":"0","v":0},{"$f":"0","v":0},{"$f":"0","v":0},{"$f":"0","v":0},{"$f":"0","v":0},{"$f":"0","v":0},{"$f":"0","v":0},null,null,"","","","","","","","","","","",0,0,1,1,null,null,null,1013,"%","%",1,null,"","","","",null,83666702,3,"Монтажные работы",0,"",2,108001,"Электротехнические установки: на других объектах","мФЕР-08",null,"",null,1024,0,0,0,0,0,0,0,null,null,null,null,null,null,null,null,null,null,null,null,null,null,null,null,null,null,0,0,0,null,null,null,null,97,51,null,"",null,null,1,null,274903907,2,1,-2,0,0,0,0,0,0,0,null,0,0,0,"",0,1,0,null,null,0,0,{"$f":"0","v":0},null,"","",null,null,null,null,null,null,"","Пр/812-049.3-1","Пр/774-049.3","Электротехнические установки: на других объектах","Электротехнические установки: на других объектах",null,0,null,null,null,null,null,null,null,null,null,null,null,null,null,null,null,null,null,0]
[18,1,490,null,"","421/пр_2020_п.75_пп.а","Сметная стоимость вспомогательных ненормируемых материальных ресурсов, не учтенная в сметной норме, 2%","%",{"$f":"J222","v":2},2,2,0.03,0.03,0,{"$f":"ROUND(P222,2)","v":0},{"$f":"ROUND(ROUND(ROUND(SUMIF(SmtRes!AQ477:'SmtRes'!AQ490,\"=1\",SmtRes!CU477:'SmtRes'!CU490),2),2)*I222/100,2)","v":0},{"$f":"ROUND(CR222*I222,2)","v":0},{"$f":"ROUND(CS222*I222,2)","v":0},{"$f":"ROUND(CT222*I222,2)","v":0},0,{"$f":"ROUND(CV222*I222,7)","v":0},{"$f":"ROUND(CW222*I222,7)","v":0},0,0,0,null,-1,0,{"$f":"ROUND((ES222),2)","v":0},{"$f":"ROUND((((ET222)-(EU222))+AE222),2)","v":0},{"$f":"ROUND((EU222),2)","v":0},{"$f":"ROUND((EV222),2)","v":0},0,{"$f":"(EW222)","v":0},{"$f":"(EX222)","v":0},0,0,0,0,0,0,0,0,0,0,97,51,1,1,null,null,1,1,1,1,"","","","",3,2,"",null,null,108001,0,"",0,3,0,1,1,1,1,1,1,"",97,51,"",null,null,0,0,0,0,0,0,0,0,0,"",0,{"$f":"0","v":0},{"$f":"0","v":0},{"$f":"0","v":0},{"$f":"0","v":0},{"$f":"0","v":0},{"$f":"0","v":0},{"$f":"0","v":0},{"$f":"0","v":0},{"$f":"0","v":0},{"$f":"0","v":0},{"$f":"0","v":0},null,null,"","","","","","","","","","","",0,0,1,1,null,null,null,1013,"%","%",1,null,"","","","",null,83666702,3,"Монтажные работы",0,"",2,108001,"Электротехнические установки: на других объектах","мФЕР-08",null,"",null,1024,0,0,0,0,0,0,0,null,null,null,null,null,null,null,null,null,null,null,null,null,null,null,null,null,null,0,0,0,null,null,null,null,97,51,null,"",null,null,1,null,274903907,2,1,-2,0,0,0,0,0,0,0,null,0,0,0,"",0,1,0,null,null,0,0,{"$f":"0","v":0},null,"","",null,null,null,null,null,null,"","Пр/812-049.3-1","Пр/774-049.3","Электротехнические установки: на других объектах","Электротехнические установки: на других объектах",null,0,null,null,null,null,null,null,null,null,null,null,null,null,null,null,null,null,null,0]
[19,1,null,null,null,"","Если в спецификации есть \"Шина электротехническая алюминиевая\", то можем применить эту расценку. Но ее не пропустит Самозвон и Ефимова. ЭТУ РАСЦЕНКУ ПРИМЕНЯТЬ МОЖНО!!!","",null,null,null,null,null,null,null,null,null,null,null,null,null,null,null,null,null,null,1,null,null,null,null,null,null,null,null,null,null,null,null,null,null,null,null,null,null,null,null,null,null,null,null,null,null,null,null,null,null,null,null,null,null,null,null,null,null,null,null,null,null,null,null,null,null,null,null,null,null,null,null,null,null,null,null,null,null,null,null,null,null,null,null,null,null,null,null,null,null,null,null,null,null,null,null,null,null,null,null,null,null,null,null,null,null,null,null,null,null,null,null,null,null,null,null,null,null,null,null,null,null,null,null,null,null,null,null,null,null,null,null,null,null,null,null,null,null,null,null,null,null,null,null,null,null,null,null,null,null,null,null,null,null,null,null,null,null,null,null,null,null,null,null,null,null,null,null,null,null,null,null,null,null,null,null,null,null,null,null,null,null,null,null,null,null,null,null,null,null,null,null,null,null,null,null,null,null,null,null,null,null,null,null,null,null,null,null,null,null,null,null,null,null,null,null,null,null,null,null,null,null,null,null,null,null,null,null,null,null,null,null,null,null,null,null,null,0]
[17,1,{"$f":"ROW(SmtRes!A503)","v":503},{"$f":"ROW(EtalonRes!A503)","v":503},"","м08-03-505-01","Прокладка шин алюминиевых трехфазных сечением: до 360 мм2","100 м",0,0,0,1.4999999999999999E-2,1.4999999999999999E-2,{"$f":"ROUND(L224-M224,4)","v":0},{"$f":"ROUND(CP224,2)","v":0},{"$f":"SUMIF(SmtRes!AQ491:'SmtRes'!AQ503,\"=1\",SmtRes!DF491:'SmtRes'!DF503)","v":0},{"$f":"SUMIF(SmtRes!AQ491:'SmtRes'!AQ503,\"=1\",SmtRes!DG491:'SmtRes'!DG503)","v":0},{"$f":"SUMIF(SmtRes!AQ491:'SmtRes'!AQ503,\"=1\",SmtRes!DH491:'SmtRes'!DH503)","v":0},{"$f":"SUMIF(SmtRes!AQ491:'SmtRes'!AQ503,\"=1\",SmtRes!DI491:'SmtRes'!DI503)","v":0},{"$f":"ROUND(CU224*I224,2)","v":0},{"$f":"SUMIF(SmtRes!AQ491:'SmtRes'!AQ503,\"=1\",SmtRes!CV491:'SmtRes'!CV503)","v":0},{"$f":"SUMIF(SmtRes!AQ491:'SmtRes'!AQ503,\"=1\",SmtRes!CW491:'SmtRes'!CW503)","v":0},{"$f":"ROUND(CX224*I224,2)","v":0},{"$f":"ROUND(CY224,2)","v":0},0,null,-1,{"$f":"ROUND((AC224+AD224+AF224),2)","v":112582.91},{"$f":"ROUND((SUM(SmtRes!BQ491:'SmtRes'!BQ503)),2)","v":3688.82},{"$f":"ROUND((((SUM(SmtRes!BR491:'SmtRes'!BR503))-(SUM(SmtRes!BS491:'SmtRes'!BS503)))+AE224),2)","v":22784.03},{"$f":"ROUND((SUM(SmtRes!BS491:'SmtRes'!BS503)),2)","v":17879.349999999999},{"$f":"ROUND((SUM(SmtRes!BT491:'SmtRes'!BT503)),2)","v":86110.06},{"$f":"ROUND((AP224),2)","v":0},{"$f":"(SUM(SmtRes!BU491:'SmtRes'!BU503))","v":103},{"$f":"(SUM(SmtRes!BV491:'SmtRes'!BV503))","v":20.65},{"$f":"(AS224)","v":0},130462.2589929,3688.8233929000003,22784.027299999998,17879.348300000001,86110.06,0,103,20.65,0,97,51,1,1,null,null,1,1,1,1,"","","","",0,2,"ГЭСНм-2022 доп.6, м08-03-505-01, приказ Минстроя России от 11.05.2023 г. № 335/пр",null,null,108001,0,"",0,3,0,1,1,1,1,1,1,"",97,51,"",null,null,0,0,0,0,0,0,0,0,0,"",0,{"$f":"(P224+Q224+S224+R224)","v":0},{"$f":"SUMIF(SmtRes!AQ491:'SmtRes'!AQ503,\"=1\",SmtRes!AA491:'SmtRes'!AA503)","v":384709.07},{"$f":"SUMIF(SmtRes!AQ491:'SmtRes'!AQ503,\"=1\",SmtRes!AB491:'SmtRes'!AB503)","v":4845.71},{"$f":"SUMIF(SmtRes!AQ491:'SmtRes'!AQ503,\"=1\",SmtRes!AC491:'SmtRes'!AC503)","v":4458.78},{"$f":"SUMIF(SmtRes!AQ491:'SmtRes'!AQ503,\"=1\",SmtRes!AD491:'SmtRes'!AD503)","v":836.02},{"$f":"AG224","v":0},{"$f":"SUMIF(SmtRes!AQ491:'SmtRes'!AQ503,\"=1\",SmtRes!BU491:'SmtRes'!BU503)","v":103},{"$f":"SUMIF(SmtRes!AQ491:'SmtRes'!AQ503,\"=1\",SmtRes!BV491:'SmtRes'!BV503)","v":20.65},{"$f":"AJ224","v":0},{"$f":"(((S224+R224)*AT224)/100)","v":0},{"$f":"(((S224+R224)*AU224)/100)","v":0},null,null,"","","","","","","","","","","",0,0,1,1,null,null,null,1003,"100 м","100 м",100,null,"","","","",null,83666702,3,"Монтажные работы",0,"",2,108001,"Электротехнические установки: на других объектах","мФЕР-08",null,"",null,132096,0,0,0,0,0,103,20.65,0,null,null,null,null,null,null,null,null,null,null,null,null,null,null,null,null,null,0,0,0,null,null,null,null,97,51,null,"",null,null,1,null,1258992133,2,1,-2,0,0,{"$f":"ROUND(IF(AND(BH224=3,BI224=3,FS224<>0),P224,0),2)","v":0},{"$f":"ROUND(O224+X224+Y224,2)+GX224","v":0},{"$f":"IF(OR(BI224=0,BI224=1),GM224-GX224,0)","v":0},{"$f":"IF(BI224=2,GM224-GX224,0)","v":0},{"$f":"IF(BI224=4,GM224-GX224,0)","v":0},null,0,0,0,"",{"$f":"ROUND((GT224),2)","v":0},1,{"$f":"ROUND(HC224*I224,2)","v":0},null,null,0,0,{"$f":"GV224*GW224","v":0},null,"","",null,null,null,null,null,null,"","Пр/812-049.3-1","Пр/774-049.3","Электротехнические установки: на других объектах","Электротехнические установки: на других объектах",null,0,null,null,null,null,null,null,null,null,null,null,null,null,null,null,null,null,null,0]
[17,1,{"$f":"ROW(SmtRes!A516)","v":516},{"$f":"ROW(EtalonRes!A516)","v":516},"","м08-03-505-01","Прокладка шин алюминиевых трехфазных сечением: до 360 мм2","100 м",0,0,0,1.4999999999999999E-2,1.4999999999999999E-2,{"$f":"ROUND(L225-M225,4)","v":0},{"$f":"ROUND(CP225,2)","v":0},{"$f":"SUMIF(SmtRes!AQ504:'SmtRes'!AQ516,\"=1\",SmtRes!DF504:'SmtRes'!DF516)","v":0},{"$f":"SUMIF(SmtRes!AQ504:'SmtRes'!AQ516,\"=1\",SmtRes!DG504:'SmtRes'!DG516)","v":0},{"$f":"SUMIF(SmtRes!AQ504:'SmtRes'!AQ516,\"=1\",SmtRes!DH504:'SmtRes'!DH516)","v":0},{"$f":"SUMIF(SmtRes!AQ504:'SmtRes'!AQ516,\"=1\",SmtRes!DI504:'SmtRes'!DI516)","v":0},{"$f":"ROUND(CU225*I225,2)","v":0},{"$f":"SUMIF(SmtRes!AQ504:'SmtRes'!AQ516,\"=1\",SmtRes!CV504:'SmtRes'!CV516)","v":0},{"$f":"SUMIF(SmtRes!AQ504:'SmtRes'!AQ516,\"=1\",SmtRes!CW504:'SmtRes'!CW516)","v":0},{"$f":"ROUND(CX225*I225,2)","v":0},0,0,null,-1,{"$f":"ROUND((AC225+AD225+AF225),2)","v":112582.91},{"$f":"ROUND((SUM(SmtRes!BQ504:'SmtRes'!BQ516)),2)","v":3688.82},{"$f":"ROUND((((SUM(SmtRes!BR504:'SmtRes'!BR516))-(SUM(SmtRes!BS504:'SmtRes'!BS516)))+AE225),2)","v":22784.03},{"$f":"ROUND((SUM(SmtRes!BS504:'SmtRes'!BS516)),2)","v":17879.349999999999},{"$f":"ROUND((SUM(SmtRes!BT504:'SmtRes'!BT516)),2)","v":86110.06},{"$f":"ROUND((AP225),2)","v":0},{"$f":"(SUM(SmtRes!BU504:'SmtRes'!BU516))","v":103},{"$f":"(SUM(SmtRes!BV504:'SmtRes'!BV516))","v":20.65},{"$f":"(AS225)","v":0},130462.2589929,3688.8233929000003,22784.027299999998,17879.348300000001,86110.06,0,103,20.65,0,97,51,1,1,null,null,1,1,1,1,"","","","",0,2,"ГЭСНм-2022 доп.6, м08-03-505-01, приказ Минстроя России от 11.05.2023 г. № 335/пр",null,null,108001,0,"",0,3,0,1,1,1,1,1,1,"",97,51,"",null,null,0,0,0,0,0,0,0,0,0,"",0,{"$f":"(P225+Q225+S225+R225)","v":0},{"$f":"SUMIF(SmtRes!AQ504:'SmtRes'!AQ516,\"=1\",SmtRes!AA504:'SmtRes'!AA516)","v":384709.07},{"$f":"SUMIF(SmtRes!AQ504:'SmtRes'!AQ516,\"=1\",SmtRes!AB504:'SmtRes'!AB516)","v":4845.71},{"$f":"SUMIF(SmtRes!AQ504:'SmtRes'!AQ516,\"=1\",SmtRes!AC504:'SmtRes'!AC516)","v":4458.78},{"$f":"SUMIF(SmtRes!AQ504:'SmtRes'!AQ516,\"=1\",SmtRes!AD504:'SmtRes'!AD516)","v":836.02},{"$f":"AG225","v":0},{"$f":"SUMIF(SmtRes!AQ504:'SmtRes'!AQ516,\"=1\",SmtRes!BU504:'SmtRes'!BU516)","v":103},{"$f":"SUMIF(SmtRes!AQ504:'SmtRes'!AQ516,\"=1\",SmtRes!BV504:'SmtRes'!BV516)","v":20.65},{"$f":"AJ225","v":0},{"$f":"(((S225+R225)*AT225)/100)","v":0},{"$f":"(((S225+R225)*AU225)/100)","v":0},null,null,"","","","","","","","","","","",0,0,1,1,null,null,null,1003,"100 м","100 м",100,null,"","","","",null,83666702,3,"Монтажные работы",0,"",2,108001,"Электротехнические установки: на других объектах","мФЕР-08",null,"",null,132096,0,0,0,0,0,103,20.65,0,null,null,null,null,null,null,null,null,null,null,null,null,null,null,null,null,null,0,0,0,null,null,null,null,97,51,null,"",null,null,1,null,1258992133,2,1,-2,0,0,{"$f":"ROUND(IF(AND(BH225=3,BI225=3,FS225<>0),P225,0),2)","v":0},{"$f":"ROUND(O225+X225+Y225,2)+GX225","v":0},{"$f":"IF(OR(BI225=0,BI225=1),GM225-GX225,0)","v":0},{"$f":"IF(BI225=2,GM225-GX225,0)","v":0},{"$f":"IF(BI225=4,GM225-GX225,0)","v":0},null,0,0,0,"",{"$f":"ROUND((GT225),2)","v":0},1,{"$f":"ROUND(HC225*I225,2)","v":0},null,null,0,0,{"$f":"GV225*GW225","v":0},null,"","",null,null,null,null,null,null,"","Пр/812-049.3-1","Пр/774-049.3","Электротехнические установки: на других объектах","Электротехнические установки: на других объектах",null,0,null,null,null,null,null,null,null,null,null,null,null,null,null,null,null,null,null,0]
[18,1,503,null,"","421/пр_2020_п.75_пп.а","Сметная стоимость вспомогательных ненормируемых материальных ресурсов, не учтенная в сметной норме, 2%","%",{"$f":"J226","v":2},2,2,0.03,0.03,{"$f":"ROUND(L226-M226,4)","v":0},{"$f":"ROUND(P226,2)","v":0},{"$f":"ROUND(ROUND(ROUND(SUMIF(SmtRes!AQ504:'SmtRes'!AQ516,\"=1\",SmtRes!CU504:'SmtRes'!CU516),2),2)*I226/100,2)","v":0},{"$f":"ROUND(CR226*I226,2)","v":0},{"$f":"ROUND(CS226*I226,2)","v":0},{"$f":"ROUND(CT226*I226,2)","v":0},{"$f":"ROUND(CU226*I226,2)","v":0},{"$f":"ROUND(CV226*I226,7)","v":0},{"$f":"ROUND(CW226*I226,7)","v":0},{"$f":"ROUND(CX226*I226,2)","v":0},0,0,null,-1,{"$f":"ROUND((AC226+AD226+AF226),2)","v":0},{"$f":"ROUND((ES226),2)","v":0},{"$f":"ROUND((((ET226)-(EU226))+AE226),2)","v":0},{"$f":"ROUND((EU226),2)","v":0},{"$f":"ROUND((EV226),2)","v":0},{"$f":"ROUND((AP226),2)","v":0},{"$f":"(EW226)","v":0},{"$f":"(EX226)","v":0},{"$f":"(AS226)","v":0},0,0,0,0,0,0,0,0,0,97,51,1,1,null,null,1,1,1,1,"","","","",3,2,"",null,null,108001,0,"",0,3,0,1,1,1,1,1,1,"",97,51,"",null,null,0,0,0,0,0,0,0,0,0,"",0,{"$f":"0","v":0},{"$f":"0","v":0},{"$f":"0","v":0},{"$f":"0","v":0},{"$f":"0","v":0},{"$f":"0","v":0},{"$f":"0","v":0},{"$f":"0","v":0},{"$f":"0","v":0},{"$f":"0","v":0},{"$f":"0","v":0},null,null,"","","","","","","","","","","",0,0,1,1,null,null,null,1013,"%","%",1,null,"","","","",null,83666702,3,"Монтажные работы",0,"",2,108001,"Электротехнические установки: на других объектах","мФЕР-08",null,"",null,1024,0,0,0,0,0,0,0,null,null,null,null,null,null,null,null,null,null,null,null,null,null,null,null,null,null,0,0,0,null,null,null,null,97,51,null,"",null,null,1,null,274903907,2,1,-2,0,0,{"$f":"ROUND(IF(AND(BH226=3,BI226=3,FS226<>0),P226,0),2)","v":0},{"$f":"ROUND(O226+X226+Y226,2)+GX226","v":0},{"$f":"IF(OR(BI226=0,BI226=1),GM226-GX226,0)","v":0},{"$f":"IF(BI226=2,GM226-GX226,0)","v":0},{"$f":"IF(BI226=4,GM226-GX226,0)","v":0},null,0,0,0,"",{"$f":"ROUND((GT226),2)","v":0},1,{"$f":"ROUND(HC226*I226,2)","v":0},null,null,0,0,{"$f":"0","v":0},null,"","",null,null,null,null,null,null,"","Пр/812-049.3-1","Пр/774-049.3","Электротехнические установки: на других объектах","Электротехнические установки: на других объектах",null,0,null,null,null,null,null,null,null,null,null,null,null,null,null,null,null,null,null,0]
[18,1,516,null,"","421/пр_2020_п.75_пп.а","Сметная стоимость вспомогательных ненормируемых материальных ресурсов, не учтенная в сметной норме, 2%","%",{"$f":"J227","v":2},2,2,0.03,0.03,{"$f":"ROUND(L227-M227,4)","v":0},{"$f":"ROUND(P227,2)","v":0},{"$f":"ROUND(ROUND(ROUND(SUMIF(SmtRes!AQ504:'SmtRes'!AQ516,\"=1\",SmtRes!CU504:'SmtRes'!CU516),2),2)*I227/100,2)","v":0},{"$f":"ROUND(CR227*I227,2)","v":0},{"$f":"ROUND(CS227*I227,2)","v":0},{"$f":"ROUND(CT227*I227,2)","v":0},{"$f":"ROUND(CU227*I227,2)","v":0},{"$f":"ROUND(CV227*I227,7)","v":0},{"$f":"ROUND(CW227*I227,7)","v":0},{"$f":"ROUND(CX227*I227,2)","v":0},0,0,null,-1,{"$f":"ROUND((AC227+AD227+AF227),2)","v":0},{"$f":"ROUND((ES227),2)","v":0},{"$f":"ROUND((((ET227)-(EU227))+AE227),2)","v":0},{"$f":"ROUND((EU227),2)","v":0},{"$f":"ROUND((EV227),2)","v":0},{"$f":"ROUND((AP227),2)","v":0},{"$f":"(EW227)","v":0},{"$f":"(EX227)","v":0},{"$f":"(AS227)","v":0},0,0,0,0,0,0,0,0,0,97,51,1,1,null,null,1,1,1,1,"","","","",3,2,"",null,null,108001,0,"",0,3,0,1,1,1,1,1,1,"",97,51,"",null,null,0,0,0,0,0,0,0,0,0,"",0,{"$f":"0","v":0},{"$f":"0","v":0},{"$f":"0","v":0},{"$f":"0","v":0},{"$f":"0","v":0},{"$f":"0","v":0},{"$f":"0","v":0},{"$f":"0","v":0},{"$f":"0","v":0},{"$f":"0","v":0},{"$f":"0","v":0},null,null,"","","","","","","","","","","",0,0,1,1,null,null,null,1013,"%","%",1,null,"","","","",null,83666702,3,"Монтажные работы",0,"",2,108001,"Электротехнические установки: на других объектах","мФЕР-08",null,"",null,1024,0,0,0,0,0,0,0,null,null,null,null,null,null,null,null,null,null,null,null,null,null,null,null,null,null,0,0,0,null,null,null,null,97,51,null,"",null,null,1,null,274903907,2,1,-2,0,0,{"$f":"ROUND(IF(AND(BH227=3,BI227=3,FS227<>0),P227,0),2)","v":0},{"$f":"ROUND(O227+X227+Y227,2)+GX227","v":0},{"$f":"IF(OR(BI227=0,BI227=1),GM227-GX227,0)","v":0},{"$f":"IF(BI227=2,GM227-GX227,0)","v":0},{"$f":"IF(BI227=4,GM227-GX227,0)","v":0},null,0,0,0,"",{"$f":"ROUND((GT227),2)","v":0},1,{"$f":"ROUND(HC227*I227,2)","v":0},null,null,0,0,{"$f":"0","v":0},null,"","",null,null,null,null,null,null,"","Пр/812-049.3-1","Пр/774-049.3","Электротехнические установки: на других объектах","Электротехнические установки: на других объектах",null,0,null,null,null,null,null,null,null,null,null,null,null,null,null,null,null,null,null,0]
[19,1,null,null,null,"","Если в спецификации есть \"Шина электротехническая алюминиевая\", то можем применить эту расценку. Но ее не пропустит Самозвон и Ефимова. И эту расценку НЕ ПРИМЕНЯЕМ, т.к. она относится к транспорту!!!","",null,null,null,null,null,null,null,null,null,null,null,null,null,null,null,null,null,null,1,null,null,null,null,null,null,null,null,null,null,null,null,null,null,null,null,null,null,null,null,null,null,null,null,null,null,null,null,null,null,null,null,null,null,null,null,null,null,null,null,null,null,null,null,null,null,null,null,null,null,null,null,null,null,null,null,null,null,null,null,null,null,null,null,null,null,null,null,null,null,null,null,null,null,null,null,null,null,null,null,null,null,null,null,null,null,null,null,null,null,null,null,null,null,null,null,null,null,null,null,null,null,null,null,null,null,null,null,null,null,null,null,null,null,null,null,null,null,null,null,null,null,null,null,null,null,null,null,null,null,null,null,null,null,null,null,null,null,null,null,null,null,null,null,null,null,null,null,null,null,null,null,null,null,null,null,null,null,null,null,null,null,null,null,null,null,null,null,null,null,null,null,null,null,null,null,null,null,null,null,null,null,null,null,null,null,null,null,null,null,null,null,null,null,null,null,null,null,null,null,null,null,null,null,null,null,null,null,null,null,null,null,null,null,null,null,null,0]
[17,1,{"$f":"ROW(SmtRes!A531)","v":531},{"$f":"ROW(EtalonRes!A531)","v":531},"","33-04-030-03","Установка разъединителей: с помощью механизмов","КОМПЛ",0,0,0,1,1,{"$f":"ROUND(L229-M229,4)","v":0},{"$f":"ROUND(CP229,2)","v":0},{"$f":"SUMIF(SmtRes!AQ517:'SmtRes'!AQ531,\"=1\",SmtRes!DF517:'SmtRes'!DF531)","v":0},{"$f":"SUMIF(SmtRes!AQ517:'SmtRes'!AQ531,\"=1\",SmtRes!DG517:'SmtRes'!DG531)","v":0},{"$f":"SUMIF(SmtRes!AQ517:'SmtRes'!AQ531,\"=1\",SmtRes!DH517:'SmtRes'!DH531)","v":0},{"$f":"SUMIF(SmtRes!AQ517:'SmtRes'!AQ531,\"=1\",SmtRes!DI517:'SmtRes'!DI531)","v":0},{"$f":"ROUND(CU229*I229,2)","v":0},{"$f":"SUMIF(SmtRes!AQ517:'SmtRes'!AQ531,\"=1\",SmtRes!CV517:'SmtRes'!CV531)","v":0},{"$f":"SUMIF(SmtRes!AQ517:'SmtRes'!AQ531,\"=1\",SmtRes!CW517:'SmtRes'!CW531)","v":0},{"$f":"ROUND(CX229*I229,2)","v":0},{"$f":"ROUND(CY229,2)","v":0},{"$f":"ROUND(CZ229,2)","v":0},null,-1,{"$f":"ROUND((AC229+AD229+AF229),2)","v":7568.79},{"$f":"ROUND((SUM(SmtRes!BQ517:'SmtRes'!BQ531)),2)","v":20.54},{"$f":"ROUND((((SUM(SmtRes!BR517:'SmtRes'!BR531))-(SUM(SmtRes!BS517:'SmtRes'!BS531)))+AE229),2)","v":1255.1300000000001},{"$f":"ROUND((SUM(SmtRes!BS517:'SmtRes'!BS531)),2)","v":998.01},{"$f":"ROUND((SUM(SmtRes!BT517:'SmtRes'!BT531)),2)","v":6293.12},{"$f":"ROUND((AP229),2)","v":0},{"$f":"(SUM(SmtRes!BU517:'SmtRes'!BU531))","v":7.42},{"$f":"(SUM(SmtRes!BV517:'SmtRes'!BV531))","v":1.02},{"$f":"(AS229)","v":0},8566.8080979999995,20.535097999999998,1255.1338999999998,998.0145,6293.1246000000001,0,7.42,1.02,0,103,60,1,1,null,null,1,1,1,1,"","","","",0,1,"ГЭСН-2022, 33-04-030-03, приказ Минстроя России от 18.05.2022 г. № 378/пр",null,null,33001,0,"",0,2,0,1,1,1,1,1,1,"",103,60,"",null,null,0,0,0,0,0,0,0,0,0,"",0,{"$f":"(P229+Q229+S229+R229)","v":0},{"$f":"SUMIF(SmtRes!AQ517:'SmtRes'!AQ531,\"=1\",SmtRes!AA517:'SmtRes'!AA531)","v":103875.04000000001},{"$f":"SUMIF(SmtRes!AQ517:'SmtRes'!AQ531,\"=1\",SmtRes!AB517:'SmtRes'!AB531)","v":2267.9899999999998},{"$f":"SUMIF(SmtRes!AQ517:'SmtRes'!AQ531,\"=1\",SmtRes!AC517:'SmtRes'!AC531)","v":1902.25},{"$f":"SUMIF(SmtRes!AQ517:'SmtRes'!AQ531,\"=1\",SmtRes!AD517:'SmtRes'!AD531)","v":848.13},{"$f":"AG229","v":0},{"$f":"SUMIF(SmtRes!AQ517:'SmtRes'!AQ531,\"=1\",SmtRes!BU517:'SmtRes'!BU531)","v":7.42},{"$f":"SUMIF(SmtRes!AQ517:'SmtRes'!AQ531,\"=1\",SmtRes!BV517:'SmtRes'!BV531)","v":1.02},{"$f":"AJ229","v":0},{"$f":"(((S229+R229)*AT229)/100)","v":0},{"$f":"(((S229+R229)*AU229)/100)","v":0},null,null,"","","","","","","","","","","",0,0,1,1,null,null,null,1013,"КОМПЛ","КОМПЛ",1,null,"","","","",null,83666879,2,"Общестроительные работы",27,"Линии электропередачи",1,33001,"Линии электропередачи","ФЕР-33",null,"",null,132096,0,0,0,0,0,7.42,1.02,0,null,null,null,null,null,null,null,null,null,null,null,null,null,null,null,null,null,0,0,0,null,null,null,null,103,60,null,"",null,null,1,null,-1310870747,2,1,-2,0,0,{"$f":"ROUND(IF(AND(BH229=3,BI229=3,FS229<>0),P229,0),2)","v":0},{"$f":"ROUND(O229+X229+Y229,2)+GX229","v":0},{"$f":"IF(OR(BI229=0,BI229=1),GM229-GX229,0)","v":0},{"$f":"IF(BI229=2,GM229-GX229,0)","v":0},{"$f":"IF(BI229=4,GM229-GX229,0)","v":0},null,0,0,0,"",{"$f":"ROUND((GT229),2)","v":0},1,{"$f":"ROUND(HC229*I229,2)","v":0},null,null,0,0,{"$f":"GV229*GW229","v":0},null,"","",null,null,null,null,null,null,"","Пр/812-027.0-1","Пр/774-027.0","Линии электропередачи","Линии электропередачи",null,0,null,null,null,null,null,null,null,null,null,null,null,null,null,null,null,null,null,0]
[17,1,{"$f":"ROW(SmtRes!A546)","v":546},{"$f":"ROW(EtalonRes!A546)","v":546},"","33-04-030-03","Установка разъединителей: с помощью механизмов","КОМПЛ",0,0,0,1,1,{"$f":"ROUND(L230-M230,4)","v":0},{"$f":"ROUND(CP230,2)","v":0},{"$f":"SUMIF(SmtRes!AQ532:'SmtRes'!AQ546,\"=1\",SmtRes!DF532:'SmtRes'!DF546)","v":0},{"$f":"SUMIF(SmtRes!AQ532:'SmtRes'!AQ546,\"=1\",SmtRes!DG532:'SmtRes'!DG546)","v":0},{"$f":"SUMIF(SmtRes!AQ532:'SmtRes'!AQ546,\"=1\",SmtRes!DH532:'SmtRes'!DH546)","v":0},{"$f":"SUMIF(SmtRes!AQ532:'SmtRes'!AQ546,\"=1\",SmtRes!DI532:'SmtRes'!DI546)","v":0},{"$f":"ROUND(CU230*I230,2)","v":0},{"$f":"SUMIF(SmtRes!AQ532:'SmtRes'!AQ546,\"=1\",SmtRes!CV532:'SmtRes'!CV546)","v":0},{"$f":"SUMIF(SmtRes!AQ532:'SmtRes'!AQ546,\"=1\",SmtRes!CW532:'SmtRes'!CW546)","v":0},{"$f":"ROUND(CX230*I230,2)","v":0},{"$f":"ROUND(CY230,2)","v":0},{"$f":"ROUND(CZ230,2)","v":0},null,-1,{"$f":"ROUND((AC230+AD230+AF230),2)","v":7568.79},{"$f":"ROUND((SUM(SmtRes!BQ532:'SmtRes'!BQ546)),2)","v":20.54},{"$f":"ROUND((((SUM(SmtRes!BR532:'SmtRes'!BR546))-(SUM(SmtRes!BS532:'SmtRes'!BS546)))+AE230),2)","v":1255.1300000000001},{"$f":"ROUND((SUM(SmtRes!BS532:'SmtRes'!BS546)),2)","v":998.01},{"$f":"ROUND((SUM(SmtRes!BT532:'SmtRes'!BT546)),2)","v":6293.12},{"$f":"ROUND((AP230),2)","v":0},{"$f":"(SUM(SmtRes!BU532:'SmtRes'!BU546))","v":7.42},{"$f":"(SUM(SmtRes!BV532:'SmtRes'!BV546))","v":1.02},{"$f":"(AS230)","v":0},8566.8080979999995,20.535097999999998,1255.1338999999998,998.0145,6293.1246000000001,0,7.42,1.02,0,103,60,1,1,null,null,1,1,1,1,"","","","",0,1,"ГЭСН-2022, 33-04-030-03, приказ Минстроя России от 18.05.2022 г. № 378/пр",null,null,33001,0,"",0,2,0,1,1,1,1,1,1,"",103,60,"",null,null,0,0,0,0,0,0,0,0,0,"",0,{"$f":"(P230+Q230+S230+R230)","v":0},{"$f":"SUMIF(SmtRes!AQ532:'SmtRes'!AQ546,\"=1\",SmtRes!AA532:'SmtRes'!AA546)","v":103875.04000000001},{"$f":"SUMIF(SmtRes!AQ532:'SmtRes'!AQ546,\"=1\",SmtRes!AB532:'SmtRes'!AB546)","v":2267.9899999999998},{"$f":"SUMIF(SmtRes!AQ532:'SmtRes'!AQ546,\"=1\",SmtRes!AC532:'SmtRes'!AC546)","v":1902.25},{"$f":"SUMIF(SmtRes!AQ532:'SmtRes'!AQ546,\"=1\",SmtRes!AD532:'SmtRes'!AD546)","v":848.13},{"$f":"AG230","v":0},{"$f":"SUMIF(SmtRes!AQ532:'SmtRes'!AQ546,\"=1\",SmtRes!BU532:'SmtRes'!BU546)","v":7.42},{"$f":"SUMIF(SmtRes!AQ532:'SmtRes'!AQ546,\"=1\",SmtRes!BV532:'SmtRes'!BV546)","v":1.02},{"$f":"AJ230","v":0},{"$f":"(((S230+R230)*AT230)/100)","v":0},{"$f":"(((S230+R230)*AU230)/100)","v":0},null,null,"","","","","","","","","","","",0,0,1,1,null,null,null,1013,"КОМПЛ","КОМПЛ",1,null,"","","","",null,83666879,2,"Общестроительные работы",27,"Линии электропередачи",1,33001,"Линии электропередачи","ФЕР-33",null,"",null,132096,0,0,0,0,0,7.42,1.02,0,null,null,null,null,null,null,null,null,null,null,null,null,null,null,null,null,null,0,0,0,null,null,null,null,103,60,null,"",null,null,1,null,-1310870747,2,1,-2,0,0,{"$f":"ROUND(IF(AND(BH230=3,BI230=3,FS230<>0),P230,0),2)","v":0},{"$f":"ROUND(O230+X230+Y230,2)+GX230","v":0},{"$f":"IF(OR(BI230=0,BI230=1),GM230-GX230,0)","v":0},{"$f":"IF(BI230=2,GM230-GX230,0)","v":0},{"$f":"IF(BI230=4,GM230-GX230,0)","v":0},null,0,0,0,"",{"$f":"ROUND((GT230),2)","v":0},1,{"$f":"ROUND(HC230*I230,2)","v":0},null,null,0,0,{"$f":"GV230*GW230","v":0},null,"","",null,null,null,null,null,null,"","Пр/812-027.0-1","Пр/774-027.0","Линии электропередачи","Линии электропередачи",null,0,null,null,null,null,null,null,null,null,null,null,null,null,null,null,null,null,null,0]
[19,1,null,null,null,"","По ВОР \"Установка РЛР\"","",null,null,null,null,null,null,null,null,null,null,null,null,null,null,null,null,null,null,1,null,null,null,null,null,null,null,null,null,null,null,null,null,null,null,null,null,null,null,null,null,null,null,null,null,null,null,null,null,null,null,null,null,null,null,null,null,null,null,null,null,null,null,null,null,null,null,null,null,null,null,null,null,null,null,null,null,null,null,null,null,null,null,null,null,null,null,null,null,null,null,null,null,null,null,null,null,null,null,null,null,null,null,null,null,null,null,null,null,null,null,null,null,null,null,null,null,null,null,null,null,null,null,null,null,null,null,null,null,null,null,null,null,null,null,null,null,null,null,null,null,null,null,null,null,null,null,null,null,null,null,null,null,null,null,null,null,null,null,null,null,null,null,null,null,null,null,null,null,null,null,null,null,null,null,null,null,null,null,null,null,null,null,null,null,null,null,null,null,null,null,null,null,null,null,null,null,null,null,null,null,null,null,null,null,null,null,null,null,null,null,null,null,null,null,null,null,null,null,null,null,null,null,null,null,null,null,null,null,null,null,null,null,null,null,null,null,0]
[18,1,523,null,"","01.7.15.03-0042","Болты с гайками и шайбами строительные","кг",{"$f":"I229*J232","v":0},0,0,0,0,{"$f":"ROUND(L232-M232,4)","v":0},{"$f":"ROUND(CP232,2)","v":0},{"$f":"ROUND(CQ232*I232,2)","v":0},{"$f":"ROUND(CR232*I232,2)","v":0},{"$f":"ROUND(CS232*I232,2)","v":0},{"$f":"ROUND(CT232*I232,2)","v":0},{"$f":"ROUND(CU232*I232,2)","v":0},{"$f":"ROUND(CV232*I232,7)","v":0},{"$f":"ROUND(CW232*I232,7)","v":0},{"$f":"ROUND(CX232*I232,2)","v":0},{"$f":"ROUND(CY232,2)","v":0},{"$f":"ROUND(CZ232,2)","v":0},null,-1,{"$f":"ROUND((AC232+AD232+AF232),2)","v":174.93},{"$f":"ROUND((ES232),2)","v":174.93},{"$f":"ROUND((((ET232)-(EU232))+AE232),2)","v":0},{"$f":"ROUND((EU232),2)","v":0},{"$f":"ROUND((EV232),2)","v":0},{"$f":"ROUND((AP232),2)","v":0},{"$f":"(EW232)","v":0},{"$f":"(EX232)","v":0},{"$f":"(AS232)","v":0},174.93,174.93,0,0,0,0,0,0,0,103,60,1,1,null,null,1,1,1,1.08,"","","","",3,1,"ФСБЦ-2022, 01.7.15.03-0042, приказ Минстроя России от 18.05.2022 г. № 378/пр",null,null,33001,0,"01.7.15.03-0042",1,2,0,1,1,1,1,1,1,"",103,60,"",null,null,0,0,0,0,0,0,0,0,0,"",0,{"$f":"(P232+Q232+S232+R232)","v":0},{"$f":"ROUND(AL232*BC232,2)","v":188.92},{"$f":"ROUND(AM232*BB232,2)","v":0},{"$f":"ROUND(AN232*BS232,2)","v":0},{"$f":"ROUND(AO232*BA232,2)","v":0},{"$f":"AG232","v":0},{"$f":"AH232","v":0},{"$f":"AI232","v":0},{"$f":"AJ232","v":0},{"$f":"(((S232+R232)*AT232)/100)","v":0},{"$f":"(((S232+R232)*AU232)/100)","v":0},null,null,"","","","","","","","","","","",0,0,1,1,null,null,null,1009,"кг","кг",1,null,"","","","",null,83666879,2,"Общестроительные работы",27,"Линии электропередачи",1,33001,"Линии электропередачи","ФЕР-33",null,"",null,1024,174.93,174.93,0,0,0,0,0,null,null,null,null,null,null,null,null,null,null,null,null,null,null,null,null,null,null,0,0,0,null,null,null,null,103,60,null,"",null,null,1,null,1181962216,2,1,2,0,0,{"$f":"ROUND(IF(AND(BH232=3,BI232=3,FS232<>0),P232,0),2)","v":0},{"$f":"ROUND(O232+X232+Y232,2)+GX232","v":0},{"$f":"IF(OR(BI232=0,BI232=1),GM232-GX232,0)","v":0},{"$f":"IF(BI232=2,GM232-GX232,0)","v":0},{"$f":"IF(BI232=4,GM232-GX232,0)","v":0},null,0,0,0,"",{"$f":"ROUND((GT232),2)","v":0},1,{"$f":"ROUND(HC232*I232,2)","v":0},null,null,0,0,{"$f":"GV232*GW232","v":0},null,"","",null,null,null,null,null,null,"","Пр/812-027.0-1","Пр/774-027.0","Линии электропередачи","Линии электропередачи",null,0,null,null,null,null,null,null,null,null,null,null,null,null,null,null,null,null,null,0]
[18,1,538,null,"","01.7.15.03-0042","Болты с гайками и шайбами строительные","кг",{"$f":"I230*J233","v":0},0,0,0,0,0,0,0,0,0,0,0,0,0,0,0,0,null,-1,174.93,174.93,0,0,0,0,0,0,0,174.93,174.93,0,0,0,0,0,0,0,103,60,1,1,null,null,1,1,1,1.08,"","","","",3,1,"ФСБЦ-2022, 01.7.15.03-0042, приказ Минстроя России от 18.05.2022 г. № 378/пр",null,null,33001,0,"01.7.15.03-0042",1,2,0,1,1,1,1,1,1,"",103,60,"",null,null,0,0,0,0,0,0,0,0,0,"",0,0,188.92,0,0,0,0,0,0,0,0,0,null,null,"","","","","","","","","","","",0,0,1,1,null,null,null,1009,"кг","кг",1,null,"","","","",null,83666879,2,"Общестроительные работы",27,"Линии электропередачи",1,33001,"Линии электропередачи","ФЕР-33",null,"",null,1024,174.93,174.93,0,0,0,0,0,null,null,null,null,null,null,null,null,null,null,null,null,null,null,null,null,null,null,0,0,0,null,null,null,null,103,60,null,"",null,null,1,null,1181962216,2,1,2,0,0,0,0,0,0,0,null,0,0,0,"",0,1,0,null,null,0,0,0,null,"","",null,null,null,null,null,null,"","Пр/812-027.0-1","Пр/774-027.0","Линии электропередачи","Линии электропередачи",null,0,null,null,null,null,null,null,null,null,null,null,null,null,null,null,null,null,null,0]
[18,1,525,null,"","07.2.07.13","Хомуты стальные","кг",{"$f":"I229*J234","v":0},0,0,0,0,0,0,0,0,0,0,0,0,0,0,0,0,null,-1,0,0,0,0,0,0,0,0,0,0,0,0,0,0,0,0,0,0,103,60,1,1,null,null,1,1,1,1,"","","","",3,1,"",null,null,33001,0,"",0,2,0,1,1,1,1,1,1,"",103,60,"",null,null,0,0,0,0,0,0,0,0,0,"",0,0,0,0,0,0,0,0,0,0,0,0,null,null,"","","","","","","","","","","",0,0,1,1,null,null,null,1009,"кг","кг",1,null,"","","","",null,83666879,2,"Общестроительные работы",27,"Линии электропередачи",1,33001,"Линии электропередачи","ФЕР-33",null,"",null,1024,0,0,0,0,0,0,0,null,null,null,null,null,null,null,null,null,null,null,null,null,null,null,null,null,null,0,0,0,null,null,null,null,103,60,null,"",null,null,1,null,-1111733769,2,1,-2,0,0,0,0,0,0,0,null,0,0,0,"",0,1,0,null,null,0,0,0,null,"","",null,null,null,null,null,null,"","Пр/812-027.0-1","Пр/774-027.0","Линии электропередачи","Линии электропередачи",null,0,null,null,null,null,null,null,null,null,null,null,null,null,null,null,null,null,null,0]
[18,1,540,null,"","07.2.07.13","Хомуты стальные","кг",{"$f":"I230*J235","v":0},0,0,0,0,0,0,0,0,0,0,0,0,0,0,0,0,null,-1,0,0,0,0,0,0,0,0,0,0,0,0,0,0,0,0,0,0,103,60,1,1,null,null,1,1,1,1,"","","","",3,1,"",null,null,33001,0,"",0,2,0,1,1,1,1,1,1,"",103,60,"",null,null,0,0,0,0,0,0,0,0,0,"",0,0,0,0,0,0,0,0,0,0,0,0,null,null,"","","","","","","","","","","",0,0,1,1,null,null,null,1009,"кг","кг",1,null,"","","","",null,83666879,2,"Общестроительные работы",27,"Линии электропередачи",1,33001,"Линии электропередачи","ФЕР-33",null,"",null,1024,0,0,0,0,0,0,0,null,null,null,null,null,null,null,null,null,null,null,null,null,null,null,null,null,null,0,0,0,null,null,null,null,103,60,null,"",null,null,1,null,-1111733769,2,1,-2,0,0,0,0,0,0,0,null,0,0,0,"",0,1,0,null,null,0,0,0,null,"","",null,null,null,null,null,null,"","Пр/812-027.0-1","Пр/774-027.0","Линии электропередачи","Линии электропередачи",null,0,null,null,null,null,null,null,null,null,null,null,null,null,null,null,null,null,null,0]
[18,1,526,null,"","08.3.04.02","Сталь стержневая диаметром до 10 мм","т",{"$f":"I229*J236","v":0},0,0,0,0,0,0,0,0,0,0,0,0,0,0,0,0,null,-1,0,0,0,0,0,0,0,0,0,0,0,0,0,0,0,0,0,0,103,60,1,1,null,null,1,1,1,1,"","","","",3,1,"",null,null,33001,0,"",0,2,0,1,1,1,1,1,1,"",103,60,"",null,null,0,0,0,0,0,0,0,0,0,"",0,0,0,0,0,0,0,0,0,0,0,0,null,null,"","","","","","","","","","","",0,0,1,1,null,null,null,1009,"т","т",1000,null,"","","","",null,83666879,2,"Общестроительные работы",27,"Линии электропередачи",1,33001,"Линии электропередачи","ФЕР-33",null,"",null,1024,0,0,0,0,0,0,0,null,null,null,null,null,null,null,null,null,null,null,null,null,null,null,null,null,null,0,0,0,null,null,null,null,103,60,null,"",null,null,1,null,1613753229,2,1,-2,0,0,0,0,0,0,0,null,0,0,0,"",0,1,0,null,null,0,0,0,null,"","",null,null,null,null,null,null,"","Пр/812-027.0-1","Пр/774-027.0","Линии электропередачи","Линии электропередачи",null,0,null,null,null,null,null,null,null,null,null,null,null,null,null,null,null,null,null,0]
[18,1,541,null,"","08.3.04.02","Сталь стержневая диаметром до 10 мм","т",{"$f":"I230*J237","v":0},0,0,0,0,0,0,0,0,0,0,0,0,0,0,0,0,null,-1,0,0,0,0,0,0,0,0,0,0,0,0,0,0,0,0,0,0,103,60,1,1,null,null,1,1,1,1,"","","","",3,1,"",null,null,33001,0,"",0,2,0,1,1,1,1,1,1,"",103,60,"",null,null,0,0,0,0,0,0,0,0,0,"",0,0,0,0,0,0,0,0,0,0,0,0,null,null,"","","","","","","","","","","",0,0,1,1,null,null,null,1009,"т","т",1000,null,"","","","",null,83666879,2,"Общестроительные работы",27,"Линии электропередачи",1,33001,"Линии электропередачи","ФЕР-33",null,"",null,1024,0,0,0,0,0,0,0,null,null,null,null,null,null,null,null,null,null,null,null,null,null,null,null,null,null,0,0,0,null,null,null,null,103,60,null,"",null,null,1,null,1613753229,2,1,-2,0,0,0,0,0,0,0,null,0,0,0,"",0,1,0,null,null,0,0,0,null,"","",null,null,null,null,null,null,"","Пр/812-027.0-1","Пр/774-027.0","Линии электропередачи","Линии электропередачи",null,0,null,null,null,null,null,null,null,null,null,null,null,null,null,null,null,null,null,0]
[18,1,529,null,"","21.2.01.02","Провода неизолированные для воздушных линий электропередач","т",{"$f":"I229*J238","v":0},0,0,0,0,0,0,0,0,0,0,0,0,0,0,0,0,null,-1,0,0,0,0,0,0,0,0,0,0,0,0,0,0,0,0,0,0,103,60,1,1,null,null,1,1,1,1,"","","","",3,1,"",null,null,33001,0,"",0,2,0,1,1,1,1,1,1,"",103,60,"",null,null,0,0,0,0,0,0,0,0,0,"",0,0,0,0,0,0,0,0,0,0,0,0,null,null,"","","","","","","","","","","",0,0,1,1,null,null,null,1009,"т","т",1000,null,"","","","",null,83666879,2,"Общестроительные работы",27,"Линии электропередачи",1,33001,"Линии электропередачи","ФЕР-33",null,"",null,1024,0,0,0,0,0,0,0,null,null,null,null,null,null,null,null,null,null,null,null,null,null,null,null,null,null,0,0,0,null,null,null,null,103,60,null,"",null,null,1,null,-2074906300,2,1,-2,0,0,0,0,0,0,0,null,0,0,0,"",0,1,0,null,null,0,0,0,null,"","",null,null,null,null,null,null,"","Пр/812-027.0-1","Пр/774-027.0","Линии электропередачи","Линии электропередачи",null,0,null,null,null,null,null,null,null,null,null,null,null,null,null,null,null,null,null,0]
[18,1,544,null,"","21.2.01.02","Провода неизолированные для воздушных линий электропередач","т",{"$f":"I230*J239","v":0},0,0,0,0,0,0,0,0,0,0,0,0,0,0,0,0,null,-1,0,0,0,0,0,0,0,0,0,0,0,0,0,0,0,0,0,0,103,60,1,1,null,null,1,1,1,1,"","","","",3,1,"",null,null,33001,0,"",0,2,0,1,1,1,1,1,1,"",103,60,"",null,null,0,0,0,0,0,0,0,0,0,"",0,0,0,0,0,0,0,0,0,0,0,0,null,null,"","","","","","","","","","","",0,0,1,1,null,null,null,1009,"т","т",1000,null,"","","","",null,83666879,2,"Общестроительные работы",27,"Линии электропередачи",1,33001,"Линии электропередачи","ФЕР-33",null,"",null,1024,0,0,0,0,0,0,0,null,null,null,null,null,null,null,null,null,null,null,null,null,null,null,null,null,null,0,0,0,null,null,null,null,103,60,null,"",null,null,1,null,-2074906300,2,1,-2,0,0,0,0,0,0,0,null,0,0,0,"",0,1,0,null,null,0,0,0,null,"","",null,null,null,null,null,null,"","Пр/812-027.0-1","Пр/774-027.0","Линии электропередачи","Линии электропередачи",null,0,null,null,null,null,null,null,null,null,null,null,null,null,null,null,null,null,null,0]
[18,1,530,null,"","22.2.01.04","Изоляторы линейные штыревые фарфоровые","ШТ",{"$f":"I229*J240","v":0},0,0,0,0,0,0,0,0,0,0,0,0,0,0,0,0,null,-1,0,0,0,0,0,0,0,0,0,0,0,0,0,0,0,0,0,0,103,60,1,1,null,null,1,1,1,1,"","","","",3,1,"",null,null,33001,0,"",0,2,0,1,1,1,1,1,1,"",103,60,"",null,null,0,0,0,0,0,0,0,0,0,"",0,0,0,0,0,0,0,0,0,0,0,0,null,null,"","","","","","","","","","","",0,0,1,1,null,null,null,1013,"ШТ","ШТ",1,null,"","","","",null,83666879,2,"Общестроительные работы",27,"Линии электропередачи",1,33001,"Линии электропередачи","ФЕР-33",null,"",null,1024,0,0,0,0,0,0,0,null,null,null,null,null,null,null,null,null,null,null,null,null,null,null,null,null,null,0,0,0,null,null,null,null,103,60,null,"",null,null,1,null,1740798612,2,1,-2,0,0,0,0,0,0,0,null,0,0,0,"",0,1,0,null,null,0,0,0,null,"","",null,null,null,null,null,null,"","Пр/812-027.0-1","Пр/774-027.0","Линии электропередачи","Линии электропередачи",null,0,null,null,null,null,null,null,null,null,null,null,null,null,null,null,null,null,null,0]
[18,1,545,null,"","22.2.01.04","Изоляторы линейные штыревые фарфоровые","ШТ",{"$f":"I230*J241","v":0},0,0,0,0,0,0,0,0,0,0,0,0,0,0,0,0,null,-1,0,0,0,0,0,0,0,0,0,0,0,0,0,0,0,0,0,0,103,60,1,1,null,null,1,1,1,1,"","","","",3,1,"",null,null,33001,0,"",0,2,0,1,1,1,1,1,1,"",103,60,"",null,null,0,0,0,0,0,0,0,0,0,"",0,0,0,0,0,0,0,0,0,0,0,0,null,null,"","","","","","","","","","","",0,0,1,1,null,null,null,1013,"ШТ","ШТ",1,null,"","","","",null,83666879,2,"Общестроительные работы",27,"Линии электропередачи",1,33001,"Линии электропередачи","ФЕР-33",null,"",null,1024,0,0,0,0,0,0,0,null,null,null,null,null,null,null,null,null,null,null,null,null,null,null,null,null,null,0,0,0,null,null,null,null,103,60,null,"",null,null,1,null,1740798612,2,1,-2,0,0,0,0,0,0,0,null,0,0,0,"",0,1,0,null,null,0,0,0,null,"","",null,null,null,null,null,null,"","Пр/812-027.0-1","Пр/774-027.0","Линии электропередачи","Линии электропередачи",null,0,null,null,null,null,null,null,null,null,null,null,null,null,null,null,null,null,null,0]
[18,1,531,null,"","22.2.02.03","Детали крепления стальные","кг",{"$f":"I229*J242","v":0},0,0,0,0,0,0,0,0,0,0,0,0,0,0,0,0,null,-1,0,0,0,0,0,0,0,0,0,0,0,0,0,0,0,0,0,0,103,60,1,1,null,null,1,1,1,1,"","","","",3,1,"",null,null,33001,0,"",0,2,0,1,1,1,1,1,1,"",103,60,"",null,null,0,0,0,0,0,0,0,0,0,"",0,0,0,0,0,0,0,0,0,0,0,0,null,null,"","","","","","","","","","","",0,0,1,1,null,null,null,1009,"кг","кг",1,null,"","","","",null,83666879,2,"Общестроительные работы",27,"Линии электропередачи",1,33001,"Линии электропередачи","ФЕР-33",null,"",null,1024,0,0,0,0,0,0,0,null,null,null,null,null,null,null,null,null,null,null,null,null,null,null,null,null,null,0,0,0,null,null,null,null,103,60,null,"",null,null,1,null,1533393836,2,1,-2,0,0,0,0,0,0,0,null,0,0,0,"",0,1,0,null,null,0,0,0,null,"","",null,null,null,null,null,null,"","Пр/812-027.0-1","Пр/774-027.0","Линии электропередачи","Линии электропередачи",null,0,null,null,null,null,null,null,null,null,null,null,null,null,null,null,null,null,null,0]
[18,1,546,null,"","22.2.02.03","Детали крепления стальные","кг",{"$f":"I230*J243","v":0},0,0,0,0,0,0,0,0,0,0,0,0,0,0,0,0,null,-1,0,0,0,0,0,0,0,0,0,0,0,0,0,0,0,0,0,0,103,60,1,1,null,null,1,1,1,1,"","","","",3,1,"",null,null,33001,0,"",0,2,0,1,1,1,1,1,1,"",103,60,"",null,null,0,0,0,0,0,0,0,0,0,"",0,0,0,0,0,0,0,0,0,0,0,0,null,null,"","","","","","","","","","","",0,0,1,1,null,null,null,1009,"кг","кг",1,null,"","","","",null,83666879,2,"Общестроительные работы",27,"Линии электропередачи",1,33001,"Линии электропередачи","ФЕР-33",null,"",null,1024,0,0,0,0,0,0,0,null,null,null,null,null,null,null,null,null,null,null,null,null,null,null,null,null,null,0,0,0,null,null,null,null,103,60,null,"",null,null,1,null,1533393836,2,1,-2,0,0,0,0,0,0,0,null,0,0,0,"",0,1,0,null,null,0,0,0,null,"","",null,null,null,null,null,null,"","Пр/812-027.0-1","Пр/774-027.0","Линии электропередачи","Линии электропередачи",null,0,null,null,null,null,null,null,null,null,null,null,null,null,null,null,null,null,null,0]
[17,1,{"$f":"ROW(SmtRes!A556)","v":556},{"$f":"ROW(EtalonRes!A556)","v":556},"10","15-04-024-08","Простая окраска масляными составами по штукатурке и сборным конструкциям: стен, подготовленных под окраску","100 м2",8.48E-2,0,8.48E-2,8.48E-2,0,8.48E-2,1342.15,{"$f":"SUMIF(SmtRes!AQ547:'SmtRes'!AQ556,\"=1\",SmtRes!DF547:'SmtRes'!DF556)","v":131.97000000000003},{"$f":"SUMIF(SmtRes!AQ547:'SmtRes'!AQ556,\"=1\",SmtRes!DG547:'SmtRes'!DG556)","v":2.77},{"$f":"SUMIF(SmtRes!AQ547:'SmtRes'!AQ556,\"=1\",SmtRes!DH547:'SmtRes'!DH556)","v":4.05},{"$f":"SUMIF(SmtRes!AQ547:'SmtRes'!AQ556,\"=1\",SmtRes!DI547:'SmtRes'!DI556)","v":1203.3599999999999},0,{"$f":"SUMIF(SmtRes!AQ547:'SmtRes'!AQ556,\"=1\",SmtRes!CV547:'SmtRes'!CV556)","v":1.6281600000000001},{"$f":"SUMIF(SmtRes!AQ547:'SmtRes'!AQ556,\"=1\",SmtRes!CW547:'SmtRes'!CW556)","v":5.0879999999999996E-3},0,1207.4100000000001,591.63,null,85316715,15386.73,{"$f":"ROUND((SUM(SmtRes!BQ547:'SmtRes'!BQ556)),2)","v":1163.74},{"$f":"ROUND((((SUM(SmtRes!BR547:'SmtRes'!BR556))-(SUM(SmtRes!BS547:'SmtRes'!BS556)))+AE244),2)","v":32.46},{"$f":"ROUND((SUM(SmtRes!BS547:'SmtRes'!BS556)),2)","v":47.8},{"$f":"ROUND((SUM(SmtRes!BT547:'SmtRes'!BT556)),2)","v":14190.53},0,{"$f":"(SUM(SmtRes!BU547:'SmtRes'!BU556))","v":19.2},{"$f":"(SUM(SmtRes!BV547:'SmtRes'!BV556))","v":6.0000000000000005E-2},0,15434.52535,1163.7405500000002,32.458199999999998,47.7986,14190.528,0,19.2,6.0000000000000005E-2,0,100,49,1,1,null,null,1,1,1,1,"","","","",0,1,"ГЭСН-2022 доп.17, 15-04-024-08, приказ Минстроя России от 17.02.2026 г. № 91/пр",null,null,15001,0,"",0,2,0,1,1,1,1,1,1,"",100,49,"",null,null,0,0,0,10,0,0,0,0,0,"",0,1342.1499999999999,{"$f":"SUMIF(SmtRes!AQ547:'SmtRes'!AQ556,\"=1\",SmtRes!AA547:'SmtRes'!AA556)","v":40591.15},{"$f":"SUMIF(SmtRes!AQ547:'SmtRes'!AQ556,\"=1\",SmtRes!AB547:'SmtRes'!AB556)","v":699.55000000000007},{"$f":"SUMIF(SmtRes!AQ547:'SmtRes'!AQ556,\"=1\",SmtRes!AC547:'SmtRes'!AC556)","v":1532.6999999999998},{"$f":"SUMIF(SmtRes!AQ547:'SmtRes'!AQ556,\"=1\",SmtRes!AD547:'SmtRes'!AD556)","v":739.09},{"$f":"AG244","v":0},{"$f":"SUMIF(SmtRes!AQ547:'SmtRes'!AQ556,\"=1\",SmtRes!BU547:'SmtRes'!BU556)","v":19.2},{"$f":"SUMIF(SmtRes!AQ547:'SmtRes'!AQ556,\"=1\",SmtRes!BV547:'SmtRes'!BV556)","v":6.0000000000000005E-2},{"$f":"AJ244","v":0},1207.4099999999999,591.6309,null,null,"","","","","","","","","","","",0,0,1,1,null,null,null,1005,"100 м2","100 м2",100,null,"","","","",null,83666851,2,"Общестроительные работы",15,"Отделочные работы",1,15001,"Отделочные работы","ФЕР-15",null,"",null,131072,0,0,0,0,0,19.2,0.06,0,null,null,null,null,null,null,null,null,null,null,null,null,null,null,null,null,null,0,0,0,null,null,null,null,100,49,null,"",null,null,1,null,301005375,2,1,-2,0,0,0,3141.19,3141.19,0,0,null,0,3,0,"",0,1,0,null,null,0,0,0,null,"","",null,null,null,null,null,null,"","Пр/812-015.0-1","Пр/774-015.0","Отделочные работы","Отделочные работы",null,0,null,null,null,null,null,null,null,null,null,null,null,null,null,null,null,null,null,0]
[17,1,{"$f":"ROW(SmtRes!A566)","v":566},{"$f":"ROW(EtalonRes!A566)","v":566},"10","15-04-024-08","Простая окраска масляными составами по штукатурке и сборным конструкциям: стен, подготовленных под окраску","100 м2",8.48E-2,0,8.48E-2,8.48E-2,0,8.48E-2,1342.15,{"$f":"SUMIF(SmtRes!AQ557:'SmtRes'!AQ566,\"=1\",SmtRes!DF557:'SmtRes'!DF566)","v":131.97000000000003},{"$f":"SUMIF(SmtRes!AQ557:'SmtRes'!AQ566,\"=1\",SmtRes!DG557:'SmtRes'!DG566)","v":2.77},{"$f":"SUMIF(SmtRes!AQ557:'SmtRes'!AQ566,\"=1\",SmtRes!DH557:'SmtRes'!DH566)","v":4.05},{"$f":"SUMIF(SmtRes!AQ557:'SmtRes'!AQ566,\"=1\",SmtRes!DI557:'SmtRes'!DI566)","v":1203.3599999999999},0,{"$f":"SUMIF(SmtRes!AQ557:'SmtRes'!AQ566,\"=1\",SmtRes!CV557:'SmtRes'!CV566)","v":1.6281600000000001},{"$f":"SUMIF(SmtRes!AQ557:'SmtRes'!AQ566,\"=1\",SmtRes!CW557:'SmtRes'!CW566)","v":5.0879999999999996E-3},0,1207.4100000000001,591.63,null,85316656,15386.73,{"$f":"ROUND((SUM(SmtRes!BQ557:'SmtRes'!BQ566)),2)","v":1163.74},{"$f":"ROUND((((SUM(SmtRes!BR557:'SmtRes'!BR566))-(SUM(SmtRes!BS557:'SmtRes'!BS566)))+AE245),2)","v":32.46},{"$f":"ROUND((SUM(SmtRes!BS557:'SmtRes'!BS566)),2)","v":47.8},{"$f":"ROUND((SUM(SmtRes!BT557:'SmtRes'!BT566)),2)","v":14190.53},0,{"$f":"(SUM(SmtRes!BU557:'SmtRes'!BU566))","v":19.2},{"$f":"(SUM(SmtRes!BV557:'SmtRes'!BV566))","v":6.0000000000000005E-2},0,15434.52535,1163.7405500000002,32.458199999999998,47.7986,14190.528,0,19.2,6.0000000000000005E-2,0,100,49,1,1,null,null,1,1,1,1,"","","","",0,1,"ГЭСН-2022 доп.17, 15-04-024-08, приказ Минстроя России от 17.02.2026 г. № 91/пр",null,null,15001,0,"",0,2,0,1,1,1,1,1,1,"",100,49,"",null,null,0,0,0,10,0,0,0,0,0,"",0,1342.1499999999999,{"$f":"SUMIF(SmtRes!AQ557:'SmtRes'!AQ566,\"=1\",SmtRes!AA557:'SmtRes'!AA566)","v":40591.15},{"$f":"SUMIF(SmtRes!AQ557:'SmtRes'!AQ566,\"=1\",SmtRes!AB557:'SmtRes'!AB566)","v":699.55000000000007},{"$f":"SUMIF(SmtRes!AQ557:'SmtRes'!AQ566,\"=1\",SmtRes!AC557:'SmtRes'!AC566)","v":1532.6999999999998},{"$f":"SUMIF(SmtRes!AQ557:'SmtRes'!AQ566,\"=1\",SmtRes!AD557:'SmtRes'!AD566)","v":739.09},{"$f":"AG245","v":0},{"$f":"SUMIF(SmtRes!AQ557:'SmtRes'!AQ566,\"=1\",SmtRes!BU557:'SmtRes'!BU566)","v":19.2},{"$f":"SUMIF(SmtRes!AQ557:'SmtRes'!AQ566,\"=1\",SmtRes!BV557:'SmtRes'!BV566)","v":6.0000000000000005E-2},{"$f":"AJ245","v":0},1207.4099999999999,591.6309,null,null,"","","","","","","","","","","",0,0,1,1,null,null,null,1005,"100 м2","100 м2",100,null,"","","","",null,83666851,2,"Общестроительные работы",15,"Отделочные работы",1,15001,"Отделочные работы","ФЕР-15",null,"",null,131072,0,0,0,0,0,19.2,0.06,0,null,null,null,null,null,null,null,null,null,null,null,null,null,null,null,null,null,0,0,0,null,null,null,null,100,49,null,"",null,null,1,null,301005375,2,1,-2,0,0,0,3141.19,3141.19,0,0,null,0,3,0,"",0,1,0,null,null,0,0,0,null,"","",null,null,null,null,null,null,"","Пр/812-015.0-1","Пр/774-015.0","Отделочные работы","Отделочные работы",null,0,null,null,null,null,null,null,null,null,null,null,null,null,null,null,null,null,null,0]
[19,1,null,null,null,"","По ВОР \"Окраска стоек\". Считается по последней странице проекта, там где \"Схема окраски опор ВЛИ\". В зависимости от того какая опора, такая и площадь окраски. Окрашивается только белый и синий цвета. Формула выше уже не актуальная","",null,null,null,null,null,null,null,null,null,null,null,null,null,null,null,null,null,null,1,null,null,null,null,null,null,null,null,null,null,null,null,null,null,null,null,null,null,null,null,null,null,null,null,null,null,null,null,null,null,null,null,null,null,null,null,null,null,null,null,null,null,null,null,null,null,null,null,null,null,null,null,null,null,null,null,null,null,null,null,null,null,null,null,null,null,null,null,null,null,null,null,null,null,null,null,null,null,null,null,null,null,null,null,null,null,null,null,null,null,null,null,null,null,null,null,null,null,null,null,null,null,null,null,null,null,null,null,null,null,null,null,null,null,null,null,null,null,null,null,null,null,null,null,null,null,null,null,null,null,null,null,null,null,null,null,null,null,null,null,null,null,null,null,null,null,null,null,null,null,null,null,null,null,null,null,null,null,null,null,null,null,null,null,null,null,null,null,null,null,null,null,null,null,null,null,null,null,null,null,null,null,null,null,null,null,null,null,null,null,null,null,null,null,null,null,null,null,null,null,null,null,null,null,null,null,null,null,null,null,null,null,null,null,null,null,null,0]
[18,1,554,null,"10,1","14.4.02.04","Краски для внутренних работ масляные готовые к применению","кг",{"$f":"I244*J247","v":2.26416},26.7,26.7,2.26416,0,{"$f":"ROUND(L247-M247,4)","v":2.2642000000000002},{"$f":"ROUND(CP247,2)","v":0},{"$f":"ROUND(CQ247*I247,2)","v":0},{"$f":"ROUND(CR247*I247,2)","v":0},{"$f":"ROUND(CS247*I247,2)","v":0},{"$f":"ROUND(CT247*I247,2)","v":0},{"$f":"ROUND(CU247*I247,2)","v":0},{"$f":"ROUND(CV247*I247,7)","v":0},{"$f":"ROUND(CW247*I247,7)","v":0},{"$f":"ROUND(CX247*I247,2)","v":0},{"$f":"ROUND(CY247,2)","v":0},0,null,85316715,{"$f":"ROUND((AC247+AD247+AF247),2)","v":0},{"$f":"ROUND((ES247),2)","v":0},{"$f":"ROUND((((ET247)-(EU247))+AE247),2)","v":0},{"$f":"ROUND((EU247),2)","v":0},0,{"$f":"ROUND((AP247),2)","v":0},{"$f":"(EW247)","v":0},0,{"$f":"(AS247)","v":0},0,0,0,0,0,0,0,0,0,100,49,1,1,null,null,1,1,1,1,"","","","",3,1,"",null,null,15001,0,"",0,2,0,1,1,1,1,1,1,"",100,49,"",null,null,0,0,0,10,1,0,0,0,0,"",0,{"$f":"(P247+Q247+S247+R247)","v":0},{"$f":"ROUND(AL247*BC247,2)","v":0},{"$f":"ROUND(AM247*BB247,2)","v":0},{"$f":"ROUND(AN247*BS247,2)","v":0},{"$f":"ROUND(AO247*BA247,2)","v":0},{"$f":"AG247","v":0},0,0,0,{"$f":"(((S247+R247)*AT247)/100)","v":0},{"$f":"(((S247+R247)*AU247)/100)","v":0},null,null,"","","","","","","","","","","",0,0,1,1,null,null,null,1009,"кг","кг",1,null,"","","","",null,83666851,2,"Общестроительные работы",15,"Отделочные работы",1,15001,"Отделочные работы","ФЕР-15",null,"",null,0,0,0,0,0,0,0,0,null,null,null,null,null,null,null,null,null,null,null,null,null,null,null,null,null,null,0,0,0,null,null,null,null,100,49,null,"",null,null,1,null,-438754628,2,1,-2,0,0,{"$f":"ROUND(IF(AND(BH247=3,BI247=3,FS247<>0),P247,0),2)","v":0},{"$f":"ROUND(O247+X247+Y247,2)+GX247","v":0},{"$f":"IF(OR(BI247=0,BI247=1),GM247-GX247,0)","v":0},{"$f":"IF(BI247=2,GM247-GX247,0)","v":0},{"$f":"IF(BI247=4,GM247-GX247,0)","v":0},null,0,3,0,"",{"$f":"ROUND((GT247),2)","v":0},1,{"$f":"ROUND(HC247*I247,2)","v":0},null,null,0,0,{"$f":"GV247*GW247","v":0},null,"","",null,null,null,null,null,null,"","Пр/812-015.0-1","Пр/774-015.0","Отделочные работы","Отделочные работы",null,0,null,null,null,null,null,null,null,null,null,null,null,null,null,null,null,null,null,0]
[18,1,564,null,"10,1","14.4.02.04","Краски для внутренних работ масляные готовые к применению","кг",{"$f":"I245*J248","v":2.26416},26.7,26.7,2.26416,0,{"$f":"ROUND(L248-M248,4)","v":2.2642000000000002},{"$f":"ROUND(CP248,2)","v":0},{"$f":"ROUND(CQ248*I248,2)","v":0},{"$f":"ROUND(CR248*I248,2)","v":0},{"$f":"ROUND(CS248*I248,2)","v":0},{"$f":"ROUND(CT248*I248,2)","v":0},{"$f":"ROUND(CU248*I248,2)","v":0},{"$f":"ROUND(CV248*I248,7)","v":0},{"$f":"ROUND(CW248*I248,7)","v":0},{"$f":"ROUND(CX248*I248,2)","v":0},0,0,null,85316656,{"$f":"ROUND((AC248+AD248+AF248),2)","v":0},{"$f":"ROUND((ES248),2)","v":0},{"$f":"ROUND((((ET248)-(EU248))+AE248),2)","v":0},0,0,{"$f":"ROUND((AP248),2)","v":0},0,0,{"$f":"(AS248)","v":0},0,0,0,0,0,0,0,0,0,100,49,1,1,null,null,1,1,1,1,"","","","",3,1,"",null,null,15001,0,"",0,2,0,1,1,1,1,1,1,"",100,49,"",null,null,0,0,0,10,1,0,0,0,0,"",0,{"$f":"(P248+Q248+S248+R248)","v":0},{"$f":"ROUND(AL248*BC248,2)","v":0},{"$f":"ROUND(AM248*BB248,2)","v":0},{"$f":"ROUND(AN248*BS248,2)","v":0},{"$f":"ROUND(AO248*BA248,2)","v":0},0,0,0,0,{"$f":"(((S248+R248)*AT248)/100)","v":0},{"$f":"(((S248+R248)*AU248)/100)","v":0},null,null,"","","","","","","","","","","",0,0,1,1,null,null,null,1009,"кг","кг",1,null,"","","","",null,83666851,2,"Общестроительные работы",15,"Отделочные работы",1,15001,"Отделочные работы","ФЕР-15",null,"",null,0,0,0,0,0,0,0,0,null,null,null,null,null,null,null,null,null,null,null,null,null,null,null,null,null,null,0,0,0,null,null,null,null,100,49,null,"",null,null,1,null,-438754628,2,1,-2,0,0,{"$f":"ROUND(IF(AND(BH248=3,BI248=3,FS248<>0),P248,0),2)","v":0},{"$f":"ROUND(O248+X248+Y248,2)+GX248","v":0},{"$f":"IF(OR(BI248=0,BI248=1),GM248-GX248,0)","v":0},{"$f":"IF(BI248=2,GM248-GX248,0)","v":0},{"$f":"IF(BI248=4,GM248-GX248,0)","v":0},null,0,3,0,"",{"$f":"ROUND((GT248),2)","v":0},1,{"$f":"ROUND(HC248*I248,2)","v":0},null,null,0,0,{"$f":"GV248*GW248","v":0},null,"","",null,null,null,null,null,null,"","Пр/812-015.0-1","Пр/774-015.0","Отделочные работы","Отделочные работы",null,0,null,null,null,null,null,null,null,null,null,null,null,null,null,null,null,null,null,0]
[18,1,555,null,"10,2","14.5.05.01","Олифы комбинированные","т",{"$f":"I244*J249","v":8.7339999999999998E-4},1.0299528301886792E-2,1.03E-2,8.7344000000000007E-4,0,{"$f":"ROUND(L249-M249,4)","v":8.9999999999999998E-4},{"$f":"ROUND(CP249,2)","v":0},{"$f":"ROUND(CQ249*I249,2)","v":0},{"$f":"ROUND(CR249*I249,2)","v":0},{"$f":"ROUND(CS249*I249,2)","v":0},{"$f":"ROUND(CT249*I249,2)","v":0},{"$f":"ROUND(CU249*I249,2)","v":0},{"$f":"ROUND(CV249*I249,7)","v":0},{"$f":"ROUND(CW249*I249,7)","v":0},{"$f":"ROUND(CX249*I249,2)","v":0},0,0,null,85316715,{"$f":"ROUND((AC249+AD249+AF249),2)","v":0},{"$f":"ROUND((ES249),2)","v":0},{"$f":"ROUND((((ET249)-(EU249))+AE249),2)","v":0},0,0,{"$f":"ROUND((AP249),2)","v":0},0,0,{"$f":"(AS249)","v":0},0,0,0,0,0,0,0,0,0,100,49,1,1,null,null,1,1,1,1,"","","","",3,1,"",null,null,15001,0,"",0,2,0,1,1,1,1,1,1,"",100,49,"",null,null,0,0,0,10,2,0,0,0,0,"",0,{"$f":"(P249+Q249+S249+R249)","v":0},{"$f":"ROUND(AL249*BC249,2)","v":0},{"$f":"ROUND(AM249*BB249,2)","v":0},{"$f":"ROUND(AN249*BS249,2)","v":0},{"$f":"ROUND(AO249*BA249,2)","v":0},0,0,0,0,{"$f":"(((S249+R249)*AT249)/100)","v":0},{"$f":"(((S249+R249)*AU249)/100)","v":0},null,null,"","","","","","","","","","","",0,0,1,1,null,null,null,1009,"т","т",1000,null,"","","","",null,83666851,2,"Общестроительные работы",15,"Отделочные работы",1,15001,"Отделочные работы","ФЕР-15",null,"",null,0,0,0,0,0,0,0,0,null,null,null,null,null,null,null,null,null,null,null,null,null,null,null,null,null,null,0,0,0,null,null,null,null,100,49,null,"",null,null,1,null,-827349247,2,1,-2,0,0,{"$f":"ROUND(IF(AND(BH249=3,BI249=3,FS249<>0),P249,0),2)","v":0},{"$f":"ROUND(O249+X249+Y249,2)+GX249","v":0},{"$f":"IF(OR(BI249=0,BI249=1),GM249-GX249,0)","v":0},{"$f":"IF(BI249=2,GM249-GX249,0)","v":0},{"$f":"IF(BI249=4,GM249-GX249,0)","v":0},null,0,3,0,"",{"$f":"ROUND((GT249),2)","v":0},1,{"$f":"ROUND(HC249*I249,2)","v":0},null,null,0,0,{"$f":"GV249*GW249","v":0},null,"","",null,null,null,null,null,null,"","Пр/812-015.0-1","Пр/774-015.0","Отделочные работы","Отделочные работы",null,0,null,null,null,null,null,null,null,null,null,null,null,null,null,null,null,null,null,0]
[18,1,565,null,"10,2","14.5.05.01","Олифы комбинированные","т",{"$f":"I245*J250","v":8.7339999999999998E-4},1.0299528301886792E-2,1.03E-2,8.7344000000000007E-4,0,{"$f":"ROUND(L250-M250,4)","v":8.9999999999999998E-4},{"$f":"ROUND(CP250,2)","v":0},{"$f":"ROUND(CQ250*I250,2)","v":0},{"$f":"ROUND(CR250*I250,2)","v":0},{"$f":"ROUND(CS250*I250,2)","v":0},{"$f":"ROUND(CT250*I250,2)","v":0},{"$f":"ROUND(CU250*I250,2)","v":0},{"$f":"ROUND(CV250*I250,7)","v":0},{"$f":"ROUND(CW250*I250,7)","v":0},{"$f":"ROUND(CX250*I250,2)","v":0},0,0,null,85316656,{"$f":"ROUND((AC250+AD250+AF250),2)","v":0},{"$f":"ROUND((ES250),2)","v":0},{"$f":"ROUND((((ET250)-(EU250))+AE250),2)","v":0},0,0,{"$f":"ROUND((AP250),2)","v":0},0,0,{"$f":"(AS250)","v":0},0,0,0,0,0,0,0,0,0,100,49,1,1,null,null,1,1,1,1,"","","","",3,1,"",null,null,15001,0,"",0,2,0,1,1,1,1,1,1,"",100,49,"",null,null,0,0,0,10,2,0,0,0,0,"",0,{"$f":"(P250+Q250+S250+R250)","v":0},{"$f":"ROUND(AL250*BC250,2)","v":0},{"$f":"ROUND(AM250*BB250,2)","v":0},{"$f":"ROUND(AN250*BS250,2)","v":0},{"$f":"ROUND(AO250*BA250,2)","v":0},0,0,0,0,{"$f":"(((S250+R250)*AT250)/100)","v":0},{"$f":"(((S250+R250)*AU250)/100)","v":0},null,null,"","","","","","","","","","","",0,0,1,1,null,null,null,1009,"т","т",1000,null,"","","","",null,83666851,2,"Общестроительные работы",15,"Отделочные работы",1,15001,"Отделочные работы","ФЕР-15",null,"",null,0,0,0,0,0,0,0,0,null,null,null,null,null,null,null,null,null,null,null,null,null,null,null,null,null,null,0,0,0,null,null,null,null,100,49,null,"",null,null,1,null,-827349247,2,1,-2,0,0,{"$f":"ROUND(IF(AND(BH250=3,BI250=3,FS250<>0),P250,0),2)","v":0},{"$f":"ROUND(O250+X250+Y250,2)+GX250","v":0},{"$f":"IF(OR(BI250=0,BI250=1),GM250-GX250,0)","v":0},{"$f":"IF(BI250=2,GM250-GX250,0)","v":0},{"$f":"IF(BI250=4,GM250-GX250,0)","v":0},null,0,3,0,"",{"$f":"ROUND((GT250),2)","v":0},1,{"$f":"ROUND(HC250*I250,2)","v":0},null,null,0,0,{"$f":"GV250*GW250","v":0},null,"","",null,null,null,null,null,null,"","Пр/812-015.0-1","Пр/774-015.0","Отделочные работы","Отделочные работы",null,0,null,null,null,null,null,null,null,null,null,null,null,null,null,null,null,null,null,0]
[]
[51,{"$f":"B24","v":1},{"$f":"A24","v":4},{"$f":"ROW(A24)","v":24},null,{"$f":"IF(F24<>\"\",F24,\"\")","v":"Новый раздел"},{"$f":"IF(G24<>\"\",G24,\"\")","v":"СМР"},0,null,null,null,null,null,null,{"$f":"ROUND(AB252,2)","v":1342.15},131.97,2.77,4.05,1203.3599999999999,0,{"$f":"AH252","v":1.6281600000000001},{"$f":"AI252","v":5.0879999999999996E-3},{"$f":"ROUND(AJ252,2)","v":0},{"$f":"ROUND(AK252,2)","v":1207.4100000000001},{"$f":"ROUND(AL252,2)","v":591.63},null,null,{"$f":"ROUND(SUMIF(AA28:AA250,\"=85316715\",O28:O250),2)","v":1342.15},{"$f":"ROUND(SUMIF(AA28:AA250,\"=85316715\",P28:P250),2)","v":131.97},{"$f":"ROUND(SUMIF(AA28:AA250,\"=85316715\",Q28:Q250),2)","v":2.77},{"$f":"ROUND(SUMIF(AA28:AA250,\"=85316715\",R28:R250),2)","v":4.05},{"$f":"ROUND(SUMIF(AA28:AA250,\"=85316715\",S28:S250),2)","v":1203.3599999999999},{"$f":"ROUND(SUMIF(AA28:AA250,\"=85316715\",T28:T250),2)","v":0},{"$f":"SUMIF(AA28:AA250,\"=85316715\",U28:U250)","v":1.6281600000000001},{"$f":"SUMIF(AA28:AA250,\"=85316715\",V28:V250)","v":5.0879999999999996E-3},{"$f":"ROUND(SUMIF(AA28:AA250,\"=85316715\",W28:W250),2)","v":0},{"$f":"ROUND(SUMIF(AA28:AA250,\"=85316715\",X28:X250),2)","v":1207.4100000000001},{"$f":"ROUND(SUMIF(AA28:AA250,\"=85316715\",Y28:Y250),2)","v":591.63},null,null,{"$f":"ROUND(BX252,2)","v":0},0,0,3141.19,3141.19,0,0,131.97,131.97,0,131.97,0,0,0,0,0,null,null,null,null,null,null,null,null,null,null,null,null,null,null,null,null,null,null,null,{"$f":"ROUND(SUMIF(AA28:AA250,\"=85316715\",FQ28:FQ250),2)","v":0},{"$f":"ROUND(SUMIF(AA28:AA250,\"=85316715\",FR28:FR250),2)","v":0},{"$f":"ROUND(SUMIF(AA28:AA250,\"=85316715\",GL28:GL250),2)","v":0},{"$f":"ROUND(SUMIF(AA28:AA250,\"=85316715\",GM28:GM250),2)","v":3141.19},{"$f":"ROUND(SUMIF(AA28:AA250,\"=85316715\",GN28:GN250),2)","v":3141.19},{"$f":"ROUND(SUMIF(AA28:AA250,\"=85316715\",GO28:GO250),2)","v":0},{"$f":"ROUND(SUMIF(AA28:AA250,\"=85316715\",GP28:GP250),2)","v":0},{"$f":"AC252-BX252","v":131.97},{"$f":"AC252-BY252","v":131.97},{"$f":"BX252-BZ252","v":0},{"$f":"AC252-BX252-BY252+BZ252","v":131.97},{"$f":"BY252-BZ252","v":0},{"$f":"ROUND(SUMIF(AA28:AA250,\"=85316715\",GX28:GX250),2)","v":0},{"$f":"ROUND(SUMIF(AA28:AA250,\"=85316715\",GY28:GY250),2)","v":0},{"$f":"ROUND(SUMIF(AA28:AA250,\"=85316715\",GZ28:GZ250),2)","v":0},{"$f":"ROUND(SUMIF(AA28:AA250,\"=85316715\",HD28:HD250),2)","v":0},null,null,null,null,null,null,null,null,null,null,null,null,null,null,null,null,null,null,null,{"$f":"ROUND(DT252,2)","v":1342.15},131.97,2.77,4.05,1203.3599999999999,0,{"$f":"DZ252","v":1.6281600000000001},{"$f":"EA252","v":5.0879999999999996E-3},{"$f":"ROUND(EB252,2)","v":0},{"$f":"ROUND(EC252,2)","v":1207.4100000000001},{"$f":"ROUND(ED252,2)","v":591.63},null,null,{"$f":"ROUND(SUMIF(AA28:AA250,\"=85316656\",O28:O250),2)","v":1342.15},{"$f":"ROUND(SUMIF(AA28:AA250,\"=85316656\",P28:P250),2)","v":131.97},{"$f":"ROUND(SUMIF(AA28:AA250,\"=85316656\",Q28:Q250),2)","v":2.77},{"$f":"ROUND(SUMIF(AA28:AA250,\"=85316656\",R28:R250),2)","v":4.05},{"$f":"ROUND(SUMIF(AA28:AA250,\"=85316656\",S28:S250),2)","v":1203.3599999999999},{"$f":"ROUND(SUMIF(AA28:AA250,\"=85316656\",T28:T250),2)","v":0},{"$f":"SUMIF(AA28:AA250,\"=85316656\",U28:U250)","v":1.6281600000000001},{"$f":"SUMIF(AA28:AA250,\"=85316656\",V28:V250)","v":5.0879999999999996E-3},{"$f":"ROUND(SUMIF(AA28:AA250,\"=85316656\",W28:W250),2)","v":0},{"$f":"ROUND(SUMIF(AA28:AA250,\"=85316656\",X28:X250),2)","v":1207.4100000000001},{"$f":"ROUND(SUMIF(AA28:AA250,\"=85316656\",Y28:Y250),2)","v":591.63},null,null,{"$f":"ROUND(FP252,2)","v":0},0,0,3141.19,3141.19,0,0,131.97,131.97,0,131.97,0,0,0,0,0,null,null,null,null,null,null,null,null,null,null,null,null,null,null,null,null,null,null,null,{"$f":"ROUND(SUMIF(AA28:AA250,\"=85316656\",FQ28:FQ250),2)","v":0},{"$f":"ROUND(SUMIF(AA28:AA250,\"=85316656\",FR28:FR250),2)","v":0},{"$f":"ROUND(SUMIF(AA28:AA250,\"=85316656\",GL28:GL250),2)","v":0},{"$f":"ROUND(SUMIF(AA28:AA250,\"=85316656\",GM28:GM250),2)","v":3141.19},{"$f":"ROUND(SUMIF(AA28:AA250,\"=85316656\",GN28:GN250),2)","v":3141.19},{"$f":"ROUND(SUMIF(AA28:AA250,\"=85316656\",GO28:GO250),2)","v":0},{"$f":"ROUND(SUMIF(AA28:AA250,\"=85316656\",GP28:GP250),2)","v":0},{"$f":"DU252-FP252","v":131.97},{"$f":"DU252-FQ252","v":131.97},{"$f":"FP252-FR252","v":0},{"$f":"DU252-FP252-FQ252+FR252","v":131.97},{"$f":"FQ252-FR252","v":0},{"$f":"ROUND(SUMIF(AA28:AA250,\"=85316656\",GX28:GX250),2)","v":0},{"$f":"ROUND(SUMIF(AA28:AA250,\"=85316656\",GY28:GY250),2)","v":0},{"$f":"ROUND(SUMIF(AA28:AA250,\"=85316656\",GZ28:GZ250),2)","v":0},{"$f":"ROUND(SUMIF(AA28:AA250,\"=85316656\",HD28:HD250),2)","v":0},null,null,null,null,null,null,null,null,null,null,null,null,null,null,null,null,null,null,0]
[]
[50,0,0,1,201,{"$f":"ROUND(Source!O252,O254)","v":1342.15},"ПЗ","Прямые затраты",null,null,201,1,3,"",2,{"$f":"ROUND(Source!DG252,O254)","v":1342.15},null,null,null,null,null,null,1342.1499999999999,1,1342.1499999999999,1342.1499999999999,1,1342.1499999999999]
[50,0,0,1,202,{"$f":"ROUND(Source!P252,O255)","v":131.97},"СтМатОб","Стоимость материальных ресурсов (всего)",null,null,202,2,3,"",2,{"$f":"ROUND(Source!DH252,O255)","v":131.97},null,null,null,null,null,null,131.97,1,131.97,131.97,1,131.97]
[50,0,0,1,222,{"$f":"ROUND(Source!AO252,O256)","v":0},"СтМатОбЗак","Стоимость материалов и оборудования заказчика",null,null,222,3,3,"",2,{"$f":"ROUND(Source!EG252,O256)","v":0},null,null,null,null,null,null,0,1,0,0,1,0]
[50,0,0,1,225,{"$f":"ROUND(Source!AV252,O257)","v":131.97},"СтМатОбПод","Стоимость материалов и оборудования подрядчика",null,null,225,4,3,"",2,{"$f":"ROUND(Source!EN252,O257)","v":131.97},null,null,null,null,null,null,131.97,1,131.97,131.97,1,131.97]
[50,0,0,1,226,{"$f":"ROUND(Source!AW252,O258)","v":131.97},"СтМат","Стоимость материалов (всего)",null,null,226,5,3,"",2,{"$f":"ROUND(Source!EO252,O258)","v":131.97},null,null,null,null,null,null,131.97,1,131.97,131.97,1,131.97]
[50,0,0,1,227,{"$f":"ROUND(Source!AX252,O259)","v":0},"СтМатЗак","Стоимость материалов заказчика",null,null,227,6,3,"",2,{"$f":"ROUND(Source!EP252,O259)","v":0},null,null,null,null,null,null,0,1,0,0,1,0]
[50,0,0,1,228,{"$f":"ROUND(Source!AY252,O260)","v":131.97},"СтМатПод","Стоимость материалов подрядчика",null,null,228,7,3,"",2,{"$f":"ROUND(Source!EQ252,O260)","v":131.97},null,null,null,null,null,null,131.97,1,131.97,131.97,1,131.97]
[50,0,0,1,216,{"$f":"ROUND(Source!AP252,O261)","v":0},"Оборуд","Стоимость оборудования (всего)",null,null,216,8,3,"",2,{"$f":"ROUND(Source!EH252,O261)","v":0},null,null,null,null,null,null,0,1,0,0,1,0]
[50,0,0,1,223,{"$f":"ROUND(Source!AQ252,O262)","v":0},"ОборудЗак","Стоимость оборудования заказчика",null,null,223,9,3,"",2,{"$f":"ROUND(Source!EI252,O262)","v":0},null,null,null,null,null,null,0,1,0,0,1,0]
[50,0,0,1,229,{"$f":"ROUND(Source!AZ252,O263)","v":0},"ОборудПод","Стоимость оборудования подрядчика",null,null,229,10,3,"",2,{"$f":"ROUND(Source!ER252,O263)","v":0},null,null,null,null,null,null,0,1,0,0,1,0]
[50,0,0,1,203,{"$f":"ROUND(Source!Q252,O264)","v":2.77},"ЭММ","Эксплуатация машин",null,null,203,11,3,"",2,{"$f":"ROUND(Source!DI252,O264)","v":2.77},null,null,null,null,null,null,2.77,1,2.77,2.77,1,2.77]
[50,0,0,1,231,{"$f":"ROUND(Source!BB252,O265)","v":0},"ЭММсНРиСП","Эксплуатация машин по ТСН-2001.16",null,null,231,12,3,"",2,{"$f":"ROUND(Source!ET252,O265)","v":0},null,null,null,null,null,null,0,1,0,0,1,0]
[50,0,0,1,204,{"$f":"ROUND(Source!R252,O266)","v":4.05},"ЗПМ","ЗП машинистов",null,null,204,13,3,"",2,{"$f":"ROUND(Source!DJ252,O266)","v":4.05},null,null,null,null,null,null,4.05,1,4.05,4.05,1,4.05]
[50,0,0,1,205,{"$f":"ROUND(Source!S252,O267)","v":1203.3599999999999},"ОЗП","Основная ЗП рабочих",null,null,205,14,3,"",2,{"$f":"ROUND(Source!DK252,O267)","v":1203.3599999999999},null,null,null,null,null,null,1203.3599999999999,1,1203.3599999999999,1203.3599999999999,1,1203.3599999999999]
[50,0,0,1,232,{"$f":"ROUND(Source!BC252,O268)","v":0},"ОЗПсНРиСП","Основная ЗП рабочих по ТСН-2001.16",null,null,232,15,3,"",2,{"$f":"ROUND(Source!EU252,O268)","v":0},null,null,null,null,null,null,0,1,0,0,1,0]
[50,0,0,1,214,{"$f":"ROUND(Source!AS252,O269)","v":3141.19},"Строит","Строительные работы с НР и СП",null,null,214,16,3,"",2,{"$f":"ROUND(Source!EK252,O269)","v":3141.19},null,null,null,null,null,null,3141.19,1,3141.19,3141.19,1,3141.19]
[50,0,0,1,215,{"$f":"ROUND(Source!AT252,O270)","v":0},"Монтаж","Монтажные работы с НР и СП",null,null,215,17,3,"",2,{"$f":"ROUND(Source!EL252,O270)","v":0},null,null,null,null,null,null,0,1,0,0,1,0]
[50,0,0,1,217,{"$f":"ROUND(Source!AU252,O271)","v":0},"Прочие","Прочие работы с НР и СП",null,null,217,18,3,"",2,{"$f":"ROUND(Source!EM252,O271)","v":0},null,null,null,null,null,null,0,1,0,0,1,0]
[50,0,0,1,230,{"$f":"ROUND(Source!BA252,O272)","v":0},"ПрочиеЗатр","Прочие затраты по ТСН-2001.16",null,null,230,19,3,"",2,{"$f":"ROUND(Source!ES252,O272)","v":0},null,null,null,null,null,null,0,1,0,0,1,0]
[50,0,0,1,206,{"$f":"ROUND(Source!T252,O273)","v":0},"ВозврМат","Возврат материалов",null,null,206,20,3,"",2,{"$f":"ROUND(Source!DL252,O273)","v":0},null,null,null,null,null,null,0,1,0,0,1,0]
[50,0,0,1,207,{"$f":"ROUND(Source!U252,O274)","v":1.6281600000000001},"ТрудСтр","Трудозатраты строителей",null,null,207,21,3,"",7,{"$f":"ROUND(Source!DM252,O274)","v":1.6281600000000001},null,null,null,null,null,null,1.6281600000000001,1,1.6281600000000001,1.6281600000000001,1,1.6281600000000001]
[50,0,0,1,208,{"$f":"ROUND(Source!V252,O275)","v":5.0879999999999996E-3},"ТрудМаш","Трудозатраты машинистов",null,null,208,22,3,"",7,{"$f":"ROUND(Source!DN252,O275)","v":5.0879999999999996E-3},null,null,null,null,null,null,5.0879999999999996E-3,1,5.0879999999999996E-3,5.0879999999999996E-3,1,5.0879999999999996E-3]
[50,0,0,1,209,{"$f":"ROUND(Source!W252,O276)","v":0},"ТранспМат","Транспорт материалов",null,null,209,23,3,"",2,{"$f":"ROUND(Source!DO252,O276)","v":0},null,null,null,null,null,null,0,1,0,0,1,0]
[50,0,0,1,233,{"$f":"ROUND(Source!BD252,O277)","v":0},"Перевозка","Перевозка грузов",null,null,233,24,3,"",2,{"$f":"ROUND(Source!EV252,O277)","v":0},null,null,null,null,null,null,0,1,0,0,1,0]
[50,0,0,1,210,{"$f":"ROUND(Source!X252,O278)","v":1207.4100000000001},"НР","Накладные расходы",null,null,210,25,3,"",2,{"$f":"ROUND(Source!DP252,O278)","v":1207.4100000000001},null,null,null,null,null,null,1207.4100000000001,1,1207.4100000000001,1207.4100000000001,1,1207.4100000000001]
[50,0,0,1,211,{"$f":"ROUND(Source!Y252,O279)","v":591.63},"СмПриб","Сметная прибыль",null,null,211,26,3,"",2,{"$f":"ROUND(Source!DQ252,O279)","v":591.63},null,null,null,null,null,null,591.63,1,591.63,591.63,1,591.63]
[50,0,0,1,224,{"$f":"ROUND(Source!AR252,O280)","v":3141.19},"Всего","Всего с НР и СП",null,null,224,27,3,"",2,{"$f":"ROUND(Source!EJ252,O280)","v":3141.19},null,null,null,null,null,null,3141.19,1,3141.19,3141.19,1,3141.19]
[]
[4,0,null,{"$f":"ROW(A317)","v":317},null,"Новый раздел","Заземление","",0,null,0,null,"",null,null,null,null,null,0,0,"",0,null,null,null,null,null,"","","","","","",null,null,null,null,null,null,null,null,"","","",null,null,null,null,null,null,null,"",null,"","","","","","","","","","","","","","","",null,null,null,null,null,null,null,0,null,null,null,null,null,null,null,null,null,null,null,0]
[]
[52,{"$f":"B317","v":0},4,282,0,"Новый раздел","Заземление",null,null,null,null,null,null,null,{"$f":"O317","v":0},0,0,0,0,0,0,0,0,0,0,0,0,0,0,0,0,0,0,0,0,0,0,0,0,0,0,0,0,0,0,0,{"$f":"AU317","v":0},0,0,0,0,0,0,0,0,0,0,0,0,0,0,0,0,0,0,0,0,0,0,0,0,0,0,0,0,0,0,0,{"$f":"CA317","v":0},0,0,0,0,0,0,0,0,0,0,0,0,0,0,0,0,0,0,0,0,0,0,0,0,0,0,0,0,0,0,0,{"$f":"DG317","v":0},0,0,0,0,0,0,0,0,0,0,0,0,0,0,0,0,0,0,0,0,0,0,0,0,0,0,0,0,0,0,0,{"$f":"EM317","v":0},0,0,0,0,0,0,0,0,0,0,0,0,0,0,0,0,0,0,0,0,0,0,0,0,0,0,0,0,0,0,0,{"$f":"FS317","v":0},0,0,0,0,0,0,0,0,0,0,0,0,0,0,0,0,0,0,0,0,0,0,0,0,0,0,0,0,0,0,0]
[]
[17,0,{"$f":"ROW(SmtRes!A567)","v":567},{"$f":"ROW(EtalonRes!A567)","v":567},"11","01-02-057-02","Разработка грунта вручную в траншеях глубиной до 2 м без креплений с откосами, группа грунтов: 2","100 м3",0,0,0,1.1520000000000001E-2,1.1520000000000001E-2,{"$f":"ROUND(L286-M286,4)","v":0},{"$f":"ROUND(CP286,2)","v":0},{"$f":"SUMIF(SmtRes!AQ567:'SmtRes'!AQ567,\"=1\",SmtRes!DF567:'SmtRes'!DF567)","v":0},{"$f":"SUMIF(SmtRes!AQ567:'SmtRes'!AQ567,\"=1\",SmtRes!DG567:'SmtRes'!DG567)","v":0},{"$f":"SUMIF(SmtRes!AQ567:'SmtRes'!AQ567,\"=1\",SmtRes!DH567:'SmtRes'!DH567)","v":0},{"$f":"SUMIF(SmtRes!AQ567:'SmtRes'!AQ567,\"=1\",SmtRes!DI567:'SmtRes'!DI567)","v":0},{"$f":"ROUND(CU286*I286,2)","v":0},{"$f":"SUMIF(SmtRes!AQ567:'SmtRes'!AQ567,\"=1\",SmtRes!CV567:'SmtRes'!CV567)","v":0},{"$f":"SUMIF(SmtRes!AQ567:'SmtRes'!AQ567,\"=1\",SmtRes!CW567:'SmtRes'!CW567)","v":0},{"$f":"ROUND(CX286*I286,2)","v":0},{"$f":"ROUND(CY286,2)","v":0},0,null,85316715,{"$f":"ROUND((AC286+AD286+AF286),2)","v":101690.82},{"$f":"ROUND((0),2)","v":0},{"$f":"ROUND((((0)-(0))+AE286),2)","v":0},{"$f":"ROUND((0),2)","v":0},{"$f":"ROUND((SUM(SmtRes!BT567:'SmtRes'!BT567)),2)","v":101690.82},{"$f":"ROUND((AP286),2)","v":0},{"$f":"(SUM(SmtRes!BU567:'SmtRes'!BU567))","v":154},{"$f":"(0)","v":0},{"$f":"(AS286)","v":0},101690.82,0,0,0,101690.82,0,154,0,0,89,40,1,1,null,null,1,1,1,1,"","","","",0,1,"ГЭСН-2022, 01-02-057-02, приказ Минстроя России от 18.05.2022 г. № 378/пр",null,null,1003,0,"",0,2,0,1,1,1,1,1,1,"",89,40,"",null,null,0,0,0,11,0,0,0,0,0,"",0,{"$f":"(P286+Q286+S286+R286)","v":0},{"$f":"SUMIF(SmtRes!AQ567:'SmtRes'!AQ567,\"=1\",SmtRes!AA567:'SmtRes'!AA567)","v":0},{"$f":"SUMIF(SmtRes!AQ567:'SmtRes'!AQ567,\"=1\",SmtRes!AB567:'SmtRes'!AB567)","v":0},{"$f":"SUMIF(SmtRes!AQ567:'SmtRes'!AQ567,\"=1\",SmtRes!AC567:'SmtRes'!AC567)","v":0},{"$f":"SUMIF(SmtRes!AQ567:'SmtRes'!AQ567,\"=1\",SmtRes!AD567:'SmtRes'!AD567)","v":660.33},{"$f":"AG286","v":0},{"$f":"SUMIF(SmtRes!AQ567:'SmtRes'!AQ567,\"=1\",SmtRes!BU567:'SmtRes'!BU567)","v":154},{"$f":"SUMIF(SmtRes!AQ567:'SmtRes'!AQ567,\"=1\",SmtRes!BV567:'SmtRes'!BV567)","v":0},{"$f":"AJ286","v":0},{"$f":"(((S286+R286)*AT286)/100)","v":0},{"$f":"(((S286+R286)*AU286)/100)","v":0},null,null,"","","","","","","","","","","",0,0,1,1,null,null,null,1007,"100 м3","100 м3",100,null,"","","","",null,83666801,2,"Общестроительные работы",1,"Земляные работы",1,1003,"Земляные работы, выполняемые: ручным способом","ФЕР-01",null,"",null,131072,0,0,0,0,0,154,0,0,null,null,null,null,null,null,null,null,null,null,null,null,null,null,null,null,null,0,0,0,null,null,null,null,89,40,null,"",null,null,1,null,-179514182,2,1,-2,0,0,{"$f":"ROUND(IF(AND(BH286=3,BI286=3,FS286<>0),P286,0),2)","v":0},{"$f":"ROUND(O286+X286+Y286,2)+GX286","v":0},{"$f":"IF(OR(BI286=0,BI286=1),GM286-GX286,0)","v":0},{"$f":"IF(BI286=2,GM286-GX286,0)","v":0},{"$f":"IF(BI286=4,GM286-GX286,0)","v":0},null,0,3,0,"",{"$f":"ROUND((GT286),2)","v":0},1,{"$f":"ROUND(HC286*I286,2)","v":0},null,null,0,0,{"$f":"GV286*GW286","v":0},null,"","",null,null,null,null,null,null,"","Пр/812-001.2-1","Пр/774-001.2","Земляные работы, выполняемые: ручным способом","Земляные работы, выполняемые: ручным способом",null,0,null,null,null,null,null,null,null,null,null,null,null,null,null,null,null,null,null,0]
[17,0,{"$f":"ROW(SmtRes!A568)","v":568},{"$f":"ROW(EtalonRes!A568)","v":568},"11","01-02-057-02","Разработка грунта вручную в траншеях глубиной до 2 м без креплений с откосами, группа грунтов: 2","100 м3",0,0,0,1.1520000000000001E-2,1.1520000000000001E-2,0,0,{"$f":"SUMIF(SmtRes!AQ568:'SmtRes'!AQ568,\"=1\",SmtRes!DF568:'SmtRes'!DF568)","v":0},{"$f":"SUMIF(SmtRes!AQ568:'SmtRes'!AQ568,\"=1\",SmtRes!DG568:'SmtRes'!DG568)","v":0},{"$f":"SUMIF(SmtRes!AQ568:'SmtRes'!AQ568,\"=1\",SmtRes!DH568:'SmtRes'!DH568)","v":0},{"$f":"SUMIF(SmtRes!AQ568:'SmtRes'!AQ568,\"=1\",SmtRes!DI568:'SmtRes'!DI568)","v":0},0,{"$f":"SUMIF(SmtRes!AQ568:'SmtRes'!AQ568,\"=1\",SmtRes!CV568:'SmtRes'!CV568)","v":0},{"$f":"SUMIF(SmtRes!AQ568:'SmtRes'!AQ568,\"=1\",SmtRes!CW568:'SmtRes'!CW568)","v":0},0,0,0,null,85316656,101690.82,{"$f":"ROUND((0),2)","v":0},{"$f":"ROUND((((0)-(0))+AE287),2)","v":0},{"$f":"ROUND((0),2)","v":0},{"$f":"ROUND((SUM(SmtRes!BT568:'SmtRes'!BT568)),2)","v":101690.82},0,{"$f":"(SUM(SmtRes!BU568:'SmtRes'!BU568))","v":154},{"$f":"(0)","v":0},0,101690.82,0,0,0,101690.82,0,154,0,0,89,40,1,1,null,null,1,1,1,1,"","","","",0,1,"ГЭСН-2022, 01-02-057-02, приказ Минстроя России от 18.05.2022 г. № 378/пр",null,null,1003,0,"",0,2,0,1,1,1,1,1,1,"",89,40,"",null,null,0,0,0,11,0,0,0,0,0,"",0,0,{"$f":"SUMIF(SmtRes!AQ568:'SmtRes'!AQ568,\"=1\",SmtRes!AA568:'SmtRes'!AA568)","v":0},{"$f":"SUMIF(SmtRes!AQ568:'SmtRes'!AQ568,\"=1\",SmtRes!AB568:'SmtRes'!AB568)","v":0},{"$f":"SUMIF(SmtRes!AQ568:'SmtRes'!AQ568,\"=1\",SmtRes!AC568:'SmtRes'!AC568)","v":0},{"$f":"SUMIF(SmtRes!AQ568:'SmtRes'!AQ568,\"=1\",SmtRes!AD568:'SmtRes'!AD568)","v":660.33},0,{"$f":"SUMIF(SmtRes!AQ568:'SmtRes'!AQ568,\"=1\",SmtRes!BU568:'SmtRes'!BU568)","v":154},{"$f":"SUMIF(SmtRes!AQ568:'SmtRes'!AQ568,\"=1\",SmtRes!BV568:'SmtRes'!BV568)","v":0},0,0,0,null,null,"","","","","","","","","","","",0,0,1,1,null,null,null,1007,"100 м3","100 м3",100,null,"","","","",null,83666801,2,"Общестроительные работы",1,"Земляные работы",1,1003,"Земляные работы, выполняемые: ручным способом","ФЕР-01",null,"",null,131072,0,0,0,0,0,154,0,0,null,null,null,null,null,null,null,null,null,null,null,null,null,null,null,null,null,0,0,0,null,null,null,null,89,40,null,"",null,null,1,null,-179514182,2,1,-2,0,0,0,0,0,0,0,null,0,3,0,"",0,1,0,null,null,0,0,0,null,"","",null,null,null,null,null,null,"","Пр/812-001.2-1","Пр/774-001.2","Земляные работы, выполняемые: ручным способом","Земляные работы, выполняемые: ручным способом",null,0,null,null,null,null,null,null,null,null,null,null,null,null,null,null,null,null,null,0]
[17,0,{"$f":"ROW(SmtRes!A569)","v":569},{"$f":"ROW(EtalonRes!A569)","v":569},"12","01-02-061-01","Засыпка вручную траншей, пазух котлованов и ям, группа грунтов: 1","100 м3",0,0,0,1.1520000000000001E-2,1.1520000000000001E-2,0,0,{"$f":"SUMIF(SmtRes!AQ569:'SmtRes'!AQ569,\"=1\",SmtRes!DF569:'SmtRes'!DF569)","v":0},{"$f":"SUMIF(SmtRes!AQ569:'SmtRes'!AQ569,\"=1\",SmtRes!DG569:'SmtRes'!DG569)","v":0},{"$f":"SUMIF(SmtRes!AQ569:'SmtRes'!AQ569,\"=1\",SmtRes!DH569:'SmtRes'!DH569)","v":0},{"$f":"SUMIF(SmtRes!AQ569:'SmtRes'!AQ569,\"=1\",SmtRes!DI569:'SmtRes'!DI569)","v":0},0,{"$f":"SUMIF(SmtRes!AQ569:'SmtRes'!AQ569,\"=1\",SmtRes!CV569:'SmtRes'!CV569)","v":0},{"$f":"SUMIF(SmtRes!AQ569:'SmtRes'!AQ569,\"=1\",SmtRes!CW569:'SmtRes'!CW569)","v":0},0,0,0,null,85316715,56026.7,{"$f":"ROUND((0),2)","v":0},{"$f":"ROUND((((0)-(0))+AE288),2)","v":0},{"$f":"ROUND((0),2)","v":0},{"$f":"ROUND((SUM(SmtRes!BT569:'SmtRes'!BT569)),2)","v":56026.7},0,{"$f":"(SUM(SmtRes!BU569:'SmtRes'!BU569))","v":88.5},{"$f":"(0)","v":0},0,56026.695000000007,0,0,0,56026.695000000007,0,88.5,0,0,89,40,1,1,null,null,1,1,1,1,"","","","",0,1,"ГЭСН-2022, 01-02-061-01, приказ Минстроя России от 18.05.2022 г. № 378/пр",null,null,1003,0,"",0,2,0,1,1,1,1,1,1,"",89,40,"",null,null,0,0,0,12,0,0,0,0,0,"",0,0,{"$f":"SUMIF(SmtRes!AQ569:'SmtRes'!AQ569,\"=1\",SmtRes!AA569:'SmtRes'!AA569)","v":0},{"$f":"SUMIF(SmtRes!AQ569:'SmtRes'!AQ569,\"=1\",SmtRes!AB569:'SmtRes'!AB569)","v":0},{"$f":"SUMIF(SmtRes!AQ569:'SmtRes'!AQ569,\"=1\",SmtRes!AC569:'SmtRes'!AC569)","v":0},{"$f":"SUMIF(SmtRes!AQ569:'SmtRes'!AQ569,\"=1\",SmtRes!AD569:'SmtRes'!AD569)","v":633.07000000000005},0,{"$f":"SUMIF(SmtRes!AQ569:'SmtRes'!AQ569,\"=1\",SmtRes!BU569:'SmtRes'!BU569)","v":88.5},{"$f":"SUMIF(SmtRes!AQ569:'SmtRes'!AQ569,\"=1\",SmtRes!BV569:'SmtRes'!BV569)","v":0},0,0,0,null,null,"","","","","","","","","","","",0,0,1,1,null,null,null,1007,"100 м3","100 м3",100,null,"","","","",null,83666801,2,"Общестроительные работы",1,"Земляные работы",1,1003,"Земляные работы, выполняемые: ручным способом","ФЕР-01",null,"",null,131072,0,0,0,0,0,88.5,0,0,null,null,null,null,null,null,null,null,null,null,null,null,null,null,null,null,null,0,0,0,null,null,null,null,89,40,null,"",null,null,1,null,-554441893,2,1,-2,0,0,0,0,0,0,0,null,0,3,0,"",0,1,0,null,null,0,0,0,null,"","",null,null,null,null,null,null,"","Пр/812-001.2-1","Пр/774-001.2","Земляные работы, выполняемые: ручным способом","Земляные работы, выполняемые: ручным способом",null,0,null,null,null,null,null,null,null,null,null,null,null,null,null,null,null,null,null,0]
[17,0,{"$f":"ROW(SmtRes!A570)","v":570},{"$f":"ROW(EtalonRes!A570)","v":570},"12","01-02-061-01","Засыпка вручную траншей, пазух котлованов и ям, группа грунтов: 1","100 м3",0,0,0,1.1520000000000001E-2,1.1520000000000001E-2,0,0,{"$f":"SUMIF(SmtRes!AQ570:'SmtRes'!AQ570,\"=1\",SmtRes!DF570:'SmtRes'!DF570)","v":0},{"$f":"SUMIF(SmtRes!AQ570:'SmtRes'!AQ570,\"=1\",SmtRes!DG570:'SmtRes'!DG570)","v":0},{"$f":"SUMIF(SmtRes!AQ570:'SmtRes'!AQ570,\"=1\",SmtRes!DH570:'SmtRes'!DH570)","v":0},{"$f":"SUMIF(SmtRes!AQ570:'SmtRes'!AQ570,\"=1\",SmtRes!DI570:'SmtRes'!DI570)","v":0},0,{"$f":"SUMIF(SmtRes!AQ570:'SmtRes'!AQ570,\"=1\",SmtRes!CV570:'SmtRes'!CV570)","v":0},{"$f":"SUMIF(SmtRes!AQ570:'SmtRes'!AQ570,\"=1\",SmtRes!CW570:'SmtRes'!CW570)","v":0},0,0,0,null,85316656,56026.7,{"$f":"ROUND((0),2)","v":0},{"$f":"ROUND((((0)-(0))+AE289),2)","v":0},{"$f":"ROUND((0),2)","v":0},{"$f":"ROUND((SUM(SmtRes!BT570:'SmtRes'!BT570)),2)","v":56026.7},0,{"$f":"(SUM(SmtRes!BU570:'SmtRes'!BU570))","v":88.5},{"$f":"(0)","v":0},0,56026.695000000007,0,0,0,56026.695000000007,0,88.5,0,0,89,40,1,1,null,null,1,1,1,1,"","","","",0,1,"ГЭСН-2022, 01-02-061-01, приказ Минстроя России от 18.05.2022 г. № 378/пр",null,null,1003,0,"",0,2,0,1,1,1,1,1,1,"",89,40,"",null,null,0,0,0,12,0,0,0,0,0,"",0,0,{"$f":"SUMIF(SmtRes!AQ570:'SmtRes'!AQ570,\"=1\",SmtRes!AA570:'SmtRes'!AA570)","v":0},{"$f":"SUMIF(SmtRes!AQ570:'SmtRes'!AQ570,\"=1\",SmtRes!AB570:'SmtRes'!AB570)","v":0},{"$f":"SUMIF(SmtRes!AQ570:'SmtRes'!AQ570,\"=1\",SmtRes!AC570:'SmtRes'!AC570)","v":0},{"$f":"SUMIF(SmtRes!AQ570:'SmtRes'!AQ570,\"=1\",SmtRes!AD570:'SmtRes'!AD570)","v":633.07000000000005},0,{"$f":"SUMIF(SmtRes!AQ570:'SmtRes'!AQ570,\"=1\",SmtRes!BU570:'SmtRes'!BU570)","v":88.5},{"$f":"SUMIF(SmtRes!AQ570:'SmtRes'!AQ570,\"=1\",SmtRes!BV570:'SmtRes'!BV570)","v":0},0,0,0,null,null,"","","","","","","","","","","",0,0,1,1,null,null,null,1007,"100 м3","100 м3",100,null,"","","","",null,83666801,2,"Общестроительные работы",1,"Земляные работы",1,1003,"Земляные работы, выполняемые: ручным способом","ФЕР-01",null,"",null,131072,0,0,0,0,0,88.5,0,0,null,null,null,null,null,null,null,null,null,null,null,null,null,null,null,null,null,0,0,0,null,null,null,null,89,40,null,"",null,null,1,null,-554441893,2,1,-2,0,0,0,0,0,0,0,null,0,3,0,"",0,1,0,null,null,0,0,0,null,"","",null,null,null,null,null,null,"","Пр/812-001.2-1","Пр/774-001.2","Земляные работы, выполняемые: ручным способом","Земляные работы, выполняемые: ручным способом",null,0,null,null,null,null,null,null,null,null,null,null,null,null,null,null,null,null,null,0]
[17,0,{"$f":"ROW(SmtRes!A578)","v":578},{"$f":"ROW(EtalonRes!A578)","v":578},"13","м08-02-471-01","Заземлитель вертикальный из угловой стали размером: 50х50х5 мм","10 ШТ",0,0,0,0.3,0.3,0,0,{"$f":"SUMIF(SmtRes!AQ571:'SmtRes'!AQ578,\"=1\",SmtRes!DF571:'SmtRes'!DF578)","v":0},{"$f":"SUMIF(SmtRes!AQ571:'SmtRes'!AQ578,\"=1\",SmtRes!DG571:'SmtRes'!DG578)","v":0},{"$f":"SUMIF(SmtRes!AQ571:'SmtRes'!AQ578,\"=1\",SmtRes!DH571:'SmtRes'!DH578)","v":0},{"$f":"SUMIF(SmtRes!AQ571:'SmtRes'!AQ578,\"=1\",SmtRes!DI571:'SmtRes'!DI578)","v":0},0,{"$f":"SUMIF(SmtRes!AQ571:'SmtRes'!AQ578,\"=1\",SmtRes!CV571:'SmtRes'!CV578)","v":0},{"$f":"SUMIF(SmtRes!AQ571:'SmtRes'!AQ578,\"=1\",SmtRes!CW571:'SmtRes'!CW578)","v":0},0,0,0,null,85316715,9718.86,{"$f":"ROUND((SUM(SmtRes!BQ571:'SmtRes'!BQ578)),2)","v":1924.28},{"$f":"ROUND((((SUM(SmtRes!BR571:'SmtRes'!BR578))-(SUM(SmtRes!BS571:'SmtRes'!BS578)))+AE290),2)","v":437.82},{"$f":"ROUND((SUM(SmtRes!BS571:'SmtRes'!BS578)),2)","v":323.38},{"$f":"ROUND((SUM(SmtRes!BT571:'SmtRes'!BT578)),2)","v":7356.76},0,{"$f":"(SUM(SmtRes!BU571:'SmtRes'!BU578))","v":9.27},{"$f":"(SUM(SmtRes!BV571:'SmtRes'!BV578))","v":0.34},0,10042.2461,1924.2794999999999,437.81940000000003,323.38250000000005,7356.7646999999997,0,9.27,0.34,0,97,51,1,1,null,null,1,1,1,1,"","","","",0,2,"ГЭСНм-2022 доп.8, м08-02-471-01, приказ Минстроя России от 14.11.2023 г. № 817/пр",null,null,108001,0,"",0,3,0,1,1,1,1,1,1,"",97,51,"",null,null,0,0,0,13,0,0,0,0,0,"",0,0,{"$f":"SUMIF(SmtRes!AQ571:'SmtRes'!AQ578,\"=1\",SmtRes!AA571:'SmtRes'!AA578)","v":1260.8400000000001},{"$f":"SUMIF(SmtRes!AQ571:'SmtRes'!AQ578,\"=1\",SmtRes!AB571:'SmtRes'!AB578)","v":2302.6},{"$f":"SUMIF(SmtRes!AQ571:'SmtRes'!AQ578,\"=1\",SmtRes!AC571:'SmtRes'!AC578)","v":1902.25},{"$f":"SUMIF(SmtRes!AQ571:'SmtRes'!AQ578,\"=1\",SmtRes!AD571:'SmtRes'!AD578)","v":793.61},0,{"$f":"SUMIF(SmtRes!AQ571:'SmtRes'!AQ578,\"=1\",SmtRes!BU571:'SmtRes'!BU578)","v":9.27},{"$f":"SUMIF(SmtRes!AQ571:'SmtRes'!AQ578,\"=1\",SmtRes!BV571:'SmtRes'!BV578)","v":0.34},0,0,0,null,null,"","","","","","","","","","","",0,0,1,1,null,null,null,1013,"10 ШТ","10 ШТ",1,null,"","","","",null,83666702,3,"Монтажные работы",0,"",2,108001,"Электротехнические установки: на других объектах","мФЕР-08",null,"",null,131072,0,0,0,0,0,9.27,0.34,0,null,null,null,null,null,null,null,null,null,null,null,null,null,null,null,null,null,0,0,0,null,null,null,null,97,51,null,"",null,null,1,null,-489921820,2,1,-2,0,0,0,0,0,0,0,null,0,3,0,"",0,1,0,null,null,0,0,0,null,"","",null,null,null,null,null,null,"","Пр/812-049.3-1","Пр/774-049.3","Электротехнические установки: на других объектах","Электротехнические установки: на других объектах",null,0,null,null,null,null,null,null,null,null,null,null,null,null,null,null,null,null,null,0]
[17,0,{"$f":"ROW(SmtRes!A586)","v":586},{"$f":"ROW(EtalonRes!A586)","v":586},"13","м08-02-471-01","Заземлитель вертикальный из угловой стали размером: 50х50х5 мм","10 ШТ",0,0,0,0.3,0.3,0,0,{"$f":"SUMIF(SmtRes!AQ579:'SmtRes'!AQ586,\"=1\",SmtRes!DF579:'SmtRes'!DF586)","v":0},{"$f":"SUMIF(SmtRes!AQ579:'SmtRes'!AQ586,\"=1\",SmtRes!DG579:'SmtRes'!DG586)","v":0},{"$f":"SUMIF(SmtRes!AQ579:'SmtRes'!AQ586,\"=1\",SmtRes!DH579:'SmtRes'!DH586)","v":0},{"$f":"SUMIF(SmtRes!AQ579:'SmtRes'!AQ586,\"=1\",SmtRes!DI579:'SmtRes'!DI586)","v":0},0,{"$f":"SUMIF(SmtRes!AQ579:'SmtRes'!AQ586,\"=1\",SmtRes!CV579:'SmtRes'!CV586)","v":0},{"$f":"SUMIF(SmtRes!AQ579:'SmtRes'!AQ586,\"=1\",SmtRes!CW579:'SmtRes'!CW586)","v":0},0,0,0,null,85316656,9718.86,{"$f":"ROUND((SUM(SmtRes!BQ579:'SmtRes'!BQ586)),2)","v":1924.28},{"$f":"ROUND((((SUM(SmtRes!BR579:'SmtRes'!BR586))-(SUM(SmtRes!BS579:'SmtRes'!BS586)))+AE291),2)","v":437.82},{"$f":"ROUND((SUM(SmtRes!BS579:'SmtRes'!BS586)),2)","v":323.38},{"$f":"ROUND((SUM(SmtRes!BT579:'SmtRes'!BT586)),2)","v":7356.76},0,{"$f":"(SUM(SmtRes!BU579:'SmtRes'!BU586))","v":9.27},{"$f":"(SUM(SmtRes!BV579:'SmtRes'!BV586))","v":0.34},0,10042.2461,1924.2794999999999,437.81940000000003,323.38250000000005,7356.7646999999997,0,9.27,0.34,0,97,51,1,1,null,null,1,1,1,1,"","","","",0,2,"ГЭСНм-2022 доп.8, м08-02-471-01, приказ Минстроя России от 14.11.2023 г. № 817/пр",null,null,108001,0,"",0,3,0,1,1,1,1,1,1,"",97,51,"",null,null,0,0,0,13,0,0,0,0,0,"",0,0,{"$f":"SUMIF(SmtRes!AQ579:'SmtRes'!AQ586,\"=1\",SmtRes!AA579:'SmtRes'!AA586)","v":1260.8400000000001},{"$f":"SUMIF(SmtRes!AQ579:'SmtRes'!AQ586,\"=1\",SmtRes!AB579:'SmtRes'!AB586)","v":2302.6},{"$f":"SUMIF(SmtRes!AQ579:'SmtRes'!AQ586,\"=1\",SmtRes!AC579:'SmtRes'!AC586)","v":1902.25},{"$f":"SUMIF(SmtRes!AQ579:'SmtRes'!AQ586,\"=1\",SmtRes!AD579:'SmtRes'!AD586)","v":793.61},0,{"$f":"SUMIF(SmtRes!AQ579:'SmtRes'!AQ586,\"=1\",SmtRes!BU579:'SmtRes'!BU586)","v":9.27},{"$f":"SUMIF(SmtRes!AQ579:'SmtRes'!AQ586,\"=1\",SmtRes!BV579:'SmtRes'!BV586)","v":0.34},0,0,0,null,null,"","","","","","","","","","","",0,0,1,1,null,null,null,1013,"10 ШТ","10 ШТ",1,null,"","","","",null,83666702,3,"Монтажные работы",0,"",2,108001,"Электротехнические установки: на других объектах","мФЕР-08",null,"",null,131072,0,0,0,0,0,9.27,0.34,0,null,null,null,null,null,null,null,null,null,null,null,null,null,null,null,null,null,0,0,0,null,null,null,null,97,51,null,"",null,null,1,null,-489921820,2,1,-2,0,0,0,0,0,0,0,null,0,3,0,"",0,1,0,null,null,0,0,0,null,"","",null,null,null,null,null,null,"","Пр/812-049.3-1","Пр/774-049.3","Электротехнические установки: на других объектах","Электротехнические установки: на других объектах",null,0,null,null,null,null,null,null,null,null,null,null,null,null,null,null,null,null,null,0]
[19,0,null,null,null,"","Монтаж уголка длинной 2,5м в грунт","",null,null,null,null,null,null,null,null,null,null,null,null,null,null,null,null,null,null,1,null,null,null,null,null,null,null,null,null,null,null,null,null,null,null,null,null,null,null,null,null,null,null,null,null,null,null,null,null,null,null,null,null,null,null,null,null,null,null,null,null,null,null,null,null,null,null,null,null,null,null,null,null,null,null,null,null,null,null,null,null,null,null,null,null,null,null,null,null,null,null,null,null,null,null,null,null,null,null,null,null,null,null,null,null,null,null,null,null,null,null,null,null,null,null,null,null,null,null,null,null,null,null,null,null,null,null,null,null,null,null,null,null,null,null,null,null,null,null,null,null,null,null,null,null,null,null,null,null,null,null,null,null,null,null,null,null,null,null,null,null,null,null,null,null,null,null,null,null,null,null,null,null,null,null,null,null,null,null,null,null,null,null,null,null,null,null,null,null,null,null,null,null,null,null,null,null,null,null,null,null,null,null,null,null,null,null,null,null,null,null,null,null,null,null,null,null,null,null,null,null,null,null,null,null,null,null,null,null,null,null,null,null,null,null,null,null,0]
[18,0,578,null,"13,1","421/пр_2020_п.75_пп.а","Сметная стоимость вспомогательных ненормируемых материальных ресурсов, не учтенная в сметной норме, 2%","%",{"$f":"J293","v":2},2,2,0.6,0.6,{"$f":"ROUND(L293-M293,4)","v":0},{"$f":"ROUND(P293,2)","v":0},{"$f":"ROUND(ROUND(ROUND(SUMIF(SmtRes!AQ579:'SmtRes'!AQ586,\"=1\",SmtRes!CU579:'SmtRes'!CU586),2),2)*I293/100,2)","v":0},{"$f":"ROUND(CR293*I293,2)","v":0},{"$f":"ROUND(CS293*I293,2)","v":0},{"$f":"ROUND(CT293*I293,2)","v":0},{"$f":"ROUND(CU293*I293,2)","v":0},{"$f":"ROUND(CV293*I293,7)","v":0},{"$f":"ROUND(CW293*I293,7)","v":0},{"$f":"ROUND(CX293*I293,2)","v":0},{"$f":"ROUND(CY293,2)","v":0},0,null,85316715,{"$f":"ROUND((AC293+AD293+AF293),2)","v":0},{"$f":"ROUND((ES293),2)","v":0},{"$f":"ROUND((((ET293)-(EU293))+AE293),2)","v":0},{"$f":"ROUND((EU293),2)","v":0},0,{"$f":"ROUND((AP293),2)","v":0},{"$f":"(EW293)","v":0},0,{"$f":"(AS293)","v":0},0,0,0,0,0,0,0,0,0,97,51,1,1,null,null,1,1,1,1,"","","","",3,2,"",null,null,108001,0,"",0,3,0,1,1,1,1,1,1,"",97,51,"",null,null,0,0,0,13,1,0,0,0,0,"",0,{"$f":"0","v":0},{"$f":"0","v":0},{"$f":"0","v":0},{"$f":"0","v":0},{"$f":"0","v":0},{"$f":"0","v":0},{"$f":"0","v":0},{"$f":"0","v":0},{"$f":"0","v":0},{"$f":"0","v":0},{"$f":"0","v":0},null,null,"","","","","","","","","","","",0,0,1,1,null,null,null,1013,"%","%",1,null,"","","","",null,83666702,3,"Монтажные работы",0,"",2,108001,"Электротехнические установки: на других объектах","мФЕР-08",null,"",null,0,0,0,0,0,0,0,0,null,null,null,null,null,null,null,null,null,null,null,null,null,null,null,null,null,null,0,0,0,null,null,null,null,97,51,null,"",null,null,1,null,274903907,2,1,-2,0,0,{"$f":"ROUND(IF(AND(BH293=3,BI293=3,FS293<>0),P293,0),2)","v":0},{"$f":"ROUND(O293+X293+Y293,2)+GX293","v":0},{"$f":"IF(OR(BI293=0,BI293=1),GM293-GX293,0)","v":0},{"$f":"IF(BI293=2,GM293-GX293,0)","v":0},{"$f":"IF(BI293=4,GM293-GX293,0)","v":0},null,0,3,0,"",{"$f":"ROUND((GT293),2)","v":0},1,{"$f":"ROUND(HC293*I293,2)","v":0},null,null,0,0,{"$f":"0","v":0},null,"","",null,null,null,null,null,null,"","Пр/812-049.3-1","Пр/774-049.3","Электротехнические установки: на других объектах","Электротехнические установки: на других объектах",null,0,null,null,null,null,null,null,null,null,null,null,null,null,null,null,null,null,null,0]
[18,0,586,null,"13,1","421/пр_2020_п.75_пп.а","Сметная стоимость вспомогательных ненормируемых материальных ресурсов, не учтенная в сметной норме, 2%","%",{"$f":"J294","v":2},2,2,0.6,0.6,0,{"$f":"ROUND(P294,2)","v":0},{"$f":"ROUND(ROUND(ROUND(SUMIF(SmtRes!AQ579:'SmtRes'!AQ586,\"=1\",SmtRes!CU579:'SmtRes'!CU586),2),2)*I294/100,2)","v":0},{"$f":"ROUND(CR294*I294,2)","v":0},{"$f":"ROUND(CS294*I294,2)","v":0},{"$f":"ROUND(CT294*I294,2)","v":0},0,{"$f":"ROUND(CV294*I294,7)","v":0},{"$f":"ROUND(CW294*I294,7)","v":0},0,0,0,null,85316656,0,{"$f":"ROUND((ES294),2)","v":0},{"$f":"ROUND((((ET294)-(EU294))+AE294),2)","v":0},0,0,0,0,0,0,0,0,0,0,0,0,0,0,0,97,51,1,1,null,null,1,1,1,1,"","","","",3,2,"",null,null,108001,0,"",0,3,0,1,1,1,1,1,1,"",97,51,"",null,null,0,0,0,13,1,0,0,0,0,"",0,{"$f":"0","v":0},{"$f":"0","v":0},{"$f":"0","v":0},{"$f":"0","v":0},{"$f":"0","v":0},{"$f":"0","v":0},{"$f":"0","v":0},{"$f":"0","v":0},{"$f":"0","v":0},{"$f":"0","v":0},{"$f":"0","v":0},null,null,"","","","","","","","","","","",0,0,1,1,null,null,null,1013,"%","%",1,null,"","","","",null,83666702,3,"Монтажные работы",0,"",2,108001,"Электротехнические установки: на других объектах","мФЕР-08",null,"",null,0,0,0,0,0,0,0,0,null,null,null,null,null,null,null,null,null,null,null,null,null,null,null,null,null,null,0,0,0,null,null,null,null,97,51,null,"",null,null,1,null,274903907,2,1,-2,0,0,0,0,0,0,0,null,0,3,0,"",0,1,0,null,null,0,0,{"$f":"0","v":0},null,"","",null,null,null,null,null,null,"","Пр/812-049.3-1","Пр/774-049.3","Электротехнические установки: на других объектах","Электротехнические установки: на других объектах",null,0,null,null,null,null,null,null,null,null,null,null,null,null,null,null,null,null,null,0]
[17,0,null,null,"14","ТЦ_01.7.11.00_77_7736281025_12.01.2026_02_41.1","Уголок 50х50х5","м",0,0,0,7.5,7.5,0,{"$f":"ROUND(CP295,2)","v":0},{"$f":"ROUND(CQ295*I295,2)","v":0},{"$f":"ROUND(CR295*I295,2)","v":0},{"$f":"ROUND(CS295*I295,2)","v":0},{"$f":"ROUND(CT295*I295,2)","v":0},0,{"$f":"ROUND(CV295*I295,7)","v":0},{"$f":"ROUND(CW295*I295,7)","v":0},0,0,0,null,85316715,518.26,{"$f":"ROUND((ES295),2)","v":518.26},{"$f":"ROUND((ET295),2)","v":0},0,0,0,0,0,0,518.26,518.26,0,0,0,0,0,0,0,0,0,1,1,null,null,1,1,1,1,"","","","",3,1,"ТЦ_01.7.11.00_77_7736281025_12.01.2026_02_41.1",null,null,900,0,"",0,90,0,1,1,1,1,1,1,"",0,0,"",null,null,0,0,0,14,0,0,0,0,0,"",0,{"$f":"(P295+Q295+S295+R295)","v":0},{"$f":"ROUND(AL295,2)","v":518.26},{"$f":"ROUND(AM295,2)","v":0},{"$f":"ROUND(AN295*BS295,2)","v":0},{"$f":"ROUND(AO295*BA295,2)","v":0},{"$f":"AG295","v":0},0,0,0,{"$f":"0","v":0},{"$f":"0","v":0},null,null,"","","","","","","","","","","",0,0,1,1,null,null,null,1003,"м","м",1,null,"","","","",null,83667261,90,"Материалы, отсутствующие в СНБ (Строительные)",0,"",1,900,"Материалы, отсутствующие в СНБ (Строительные)","МР КА Строительные",null,"",null,131088,0,518.26,0,0,0,0,0,0,5,null,null,0,18,null,518.26,null,null,null,null,null,null,null,null,null,null,0,0,0,null,null,null,null,0,0,null,"",null,null,1,null,-1981188980,2,3,-2,0,0,0,0,0,0,0,null,1,1,0,"",0,1,0,null,null,0,0,{"$f":"GV295*GW295","v":0},null,"","",{"$f":"ROUND(ROUND(AL295,2)*I295,2)","v":0},null,null,null,null,null,"","","","","",null,0,null,null,null,null,null,null,null,null,null,null,null,null,null,null,null,null,null,0]
[17,0,null,null,"14","ТЦ_01.7.11.00_77_7736281025_12.01.2026_02_41.1","Уголок 50х50х5","м",0,0,0,7.5,7.5,0,{"$f":"ROUND(CP296,2)","v":0},{"$f":"ROUND(CQ296*I296,2)","v":0},{"$f":"ROUND(CR296*I296,2)","v":0},{"$f":"ROUND(CS296*I296,2)","v":0},{"$f":"ROUND(CT296*I296,2)","v":0},0,{"$f":"ROUND(CV296*I296,7)","v":0},{"$f":"ROUND(CW296*I296,7)","v":0},0,0,0,null,85316656,518.26,{"$f":"ROUND((ES296),2)","v":518.26},{"$f":"ROUND((ET296),2)","v":0},0,0,0,0,0,0,518.26,518.26,0,0,0,0,0,0,0,0,0,1,1,null,null,1,1,1,1,"","","","",3,1,"ТЦ_01.7.11.00_77_7736281025_12.01.2026_02_41.1",null,null,900,0,"",0,90,0,1,1,1,1,1,1,"",0,0,"",null,null,0,0,0,14,0,0,0,0,0,"",0,{"$f":"(P296+Q296+S296+R296)","v":0},{"$f":"ROUND(AL296,2)","v":518.26},{"$f":"ROUND(AM296,2)","v":0},{"$f":"ROUND(AN296*BS296,2)","v":0},{"$f":"ROUND(AO296*BA296,2)","v":0},0,0,0,0,{"$f":"0","v":0},{"$f":"0","v":0},null,null,"","","","","","","","","","","",0,0,1,1,null,null,null,1003,"м","м",1,null,"","","","",null,83667261,90,"Материалы, отсутствующие в СНБ (Строительные)",0,"",1,900,"Материалы, отсутствующие в СНБ (Строительные)","МР КА Строительные",null,"",null,131088,0,518.26,0,0,0,0,0,0,5,null,null,0,18,null,518.26,null,null,null,null,null,null,null,null,null,null,0,0,0,null,null,null,null,0,0,null,"",null,null,1,null,-1981188980,2,3,-2,0,0,0,0,0,0,0,null,1,1,0,"",0,1,0,null,null,0,0,{"$f":"GV296*GW296","v":0},null,"","",{"$f":"ROUND(ROUND(AL296,2)*I296,2)","v":0},null,null,null,null,null,"","","","","",null,0,null,null,null,null,null,null,null,null,null,null,null,null,null,null,null,null,null,0]
[17,0,{"$f":"ROW(SmtRes!A594)","v":594},{"$f":"ROW(EtalonRes!A594)","v":594},"15","м08-02-472-01","Заземлитель горизонтальный из стали: круглой диаметром 12 мм","100 м",0,0,0,3.5999999999999997E-2,3.5999999999999997E-2,0,{"$f":"ROUND(CP297,2)","v":0},{"$f":"SUMIF(SmtRes!AQ587:'SmtRes'!AQ594,\"=1\",SmtRes!DF587:'SmtRes'!DF594)","v":0},{"$f":"SUMIF(SmtRes!AQ587:'SmtRes'!AQ594,\"=1\",SmtRes!DG587:'SmtRes'!DG594)","v":0},{"$f":"SUMIF(SmtRes!AQ587:'SmtRes'!AQ594,\"=1\",SmtRes!DH587:'SmtRes'!DH594)","v":0},{"$f":"SUMIF(SmtRes!AQ587:'SmtRes'!AQ594,\"=1\",SmtRes!DI587:'SmtRes'!DI594)","v":0},0,{"$f":"SUMIF(SmtRes!AQ587:'SmtRes'!AQ594,\"=1\",SmtRes!CV587:'SmtRes'!CV594)","v":0},{"$f":"SUMIF(SmtRes!AQ587:'SmtRes'!AQ594,\"=1\",SmtRes!CW587:'SmtRes'!CW594)","v":0},0,0,0,null,85316715,15399.35,{"$f":"ROUND((SUM(SmtRes!BQ587:'SmtRes'!BQ594)),2)","v":1916.5},{"$f":"ROUND((((SUM(SmtRes!BR587:'SmtRes'!BR594))-(SUM(SmtRes!BS587:'SmtRes'!BS594)))+AE297),2)","v":388.28},{"$f":"ROUND((SUM(SmtRes!BS587:'SmtRes'!BS594)),2)","v":247.29},{"$f":"ROUND((SUM(SmtRes!BT587:'SmtRes'!BT594)),2)","v":13094.57},0,{"$f":"(SUM(SmtRes!BU587:'SmtRes'!BU594))","v":16.5},{"$f":"(SUM(SmtRes!BV587:'SmtRes'!BV594))","v":0.26},0,15646.6412,1916.4979999999998,388.28570000000002,247.29250000000002,13094.565000000001,0,16.5,0.26,0,97,51,1,1,null,null,1,1,1,1,"","","","",0,2,"ГЭСНм-2022 доп.8, м08-02-472-01, приказ Минстроя России от 14.11.2023 г. № 817/пр",null,null,108001,0,"",0,3,0,1,1,1,1,1,1,"",97,51,"",null,null,0,0,0,15,0,0,0,0,0,"",0,{"$f":"(P297+Q297+S297+R297)","v":0},{"$f":"SUMIF(SmtRes!AQ587:'SmtRes'!AQ594,\"=1\",SmtRes!AA587:'SmtRes'!AA594)","v":1260.8400000000001},{"$f":"SUMIF(SmtRes!AQ587:'SmtRes'!AQ594,\"=1\",SmtRes!AB587:'SmtRes'!AB594)","v":2302.6},{"$f":"SUMIF(SmtRes!AQ587:'SmtRes'!AQ594,\"=1\",SmtRes!AC587:'SmtRes'!AC594)","v":1902.25},{"$f":"SUMIF(SmtRes!AQ587:'SmtRes'!AQ594,\"=1\",SmtRes!AD587:'SmtRes'!AD594)","v":793.61},{"$f":"AG297","v":0},{"$f":"SUMIF(SmtRes!AQ587:'SmtRes'!AQ594,\"=1\",SmtRes!BU587:'SmtRes'!BU594)","v":16.5},{"$f":"SUMIF(SmtRes!AQ587:'SmtRes'!AQ594,\"=1\",SmtRes!BV587:'SmtRes'!BV594)","v":0.26},{"$f":"AJ297","v":0},{"$f":"(((S297+R297)*AT297)/100)","v":0},{"$f":"(((S297+R297)*AU297)/100)","v":0},null,null,"","","","","","","","","","","",0,0,1,1,null,null,null,1003,"100 м","100 м",100,null,"","","","",null,83666702,3,"Монтажные работы",0,"",2,108001,"Электротехнические установки: на других объектах","мФЕР-08",null,"",null,131072,0,0,0,0,0,16.5,0.26,0,null,null,null,null,null,null,null,null,null,null,null,null,null,null,null,null,null,0,0,0,null,null,null,null,97,51,null,"",null,null,1,null,-1815355656,2,1,-2,0,0,0,0,0,0,0,null,0,3,0,"",0,1,0,null,null,0,0,{"$f":"GV297*GW297","v":0},null,"","",null,null,null,null,null,null,"","Пр/812-049.3-1","Пр/774-049.3","Электротехнические установки: на других объектах","Электротехнические установки: на других объектах",null,0,null,null,null,null,null,null,null,null,null,null,null,null,null,null,null,null,null,0]
[17,0,{"$f":"ROW(SmtRes!A602)","v":602},{"$f":"ROW(EtalonRes!A602)","v":602},"15","м08-02-472-01","Заземлитель горизонтальный из стали: круглой диаметром 12 мм","100 м",0,0,0,3.5999999999999997E-2,3.5999999999999997E-2,0,{"$f":"ROUND(CP298,2)","v":0},{"$f":"SUMIF(SmtRes!AQ595:'SmtRes'!AQ602,\"=1\",SmtRes!DF595:'SmtRes'!DF602)","v":0},{"$f":"SUMIF(SmtRes!AQ595:'SmtRes'!AQ602,\"=1\",SmtRes!DG595:'SmtRes'!DG602)","v":0},{"$f":"SUMIF(SmtRes!AQ595:'SmtRes'!AQ602,\"=1\",SmtRes!DH595:'SmtRes'!DH602)","v":0},{"$f":"SUMIF(SmtRes!AQ595:'SmtRes'!AQ602,\"=1\",SmtRes!DI595:'SmtRes'!DI602)","v":0},0,{"$f":"SUMIF(SmtRes!AQ595:'SmtRes'!AQ602,\"=1\",SmtRes!CV595:'SmtRes'!CV602)","v":0},{"$f":"SUMIF(SmtRes!AQ595:'SmtRes'!AQ602,\"=1\",SmtRes!CW595:'SmtRes'!CW602)","v":0},0,0,0,null,85316656,15399.35,{"$f":"ROUND((SUM(SmtRes!BQ595:'SmtRes'!BQ602)),2)","v":1916.5},{"$f":"ROUND((((SUM(SmtRes!BR595:'SmtRes'!BR602))-(SUM(SmtRes!BS595:'SmtRes'!BS602)))+AE298),2)","v":388.28},{"$f":"ROUND((SUM(SmtRes!BS595:'SmtRes'!BS602)),2)","v":247.29},{"$f":"ROUND((SUM(SmtRes!BT595:'SmtRes'!BT602)),2)","v":13094.57},0,{"$f":"(SUM(SmtRes!BU595:'SmtRes'!BU602))","v":16.5},{"$f":"(SUM(SmtRes!BV595:'SmtRes'!BV602))","v":0.26},0,15646.6412,1916.4979999999998,388.28570000000002,247.29250000000002,13094.565000000001,0,16.5,0.26,0,97,51,1,1,null,null,1,1,1,1,"","","","",0,2,"ГЭСНм-2022 доп.8, м08-02-472-01, приказ Минстроя России от 14.11.2023 г. № 817/пр",null,null,108001,0,"",0,3,0,1,1,1,1,1,1,"",97,51,"",null,null,0,0,0,15,0,0,0,0,0,"",0,{"$f":"(P298+Q298+S298+R298)","v":0},{"$f":"SUMIF(SmtRes!AQ595:'SmtRes'!AQ602,\"=1\",SmtRes!AA595:'SmtRes'!AA602)","v":1260.8400000000001},{"$f":"SUMIF(SmtRes!AQ595:'SmtRes'!AQ602,\"=1\",SmtRes!AB595:'SmtRes'!AB602)","v":2302.6},{"$f":"SUMIF(SmtRes!AQ595:'SmtRes'!AQ602,\"=1\",SmtRes!AC595:'SmtRes'!AC602)","v":1902.25},{"$f":"SUMIF(SmtRes!AQ595:'SmtRes'!AQ602,\"=1\",SmtRes!AD595:'SmtRes'!AD602)","v":793.61},{"$f":"AG298","v":0},{"$f":"SUMIF(SmtRes!AQ595:'SmtRes'!AQ602,\"=1\",SmtRes!BU595:'SmtRes'!BU602)","v":16.5},{"$f":"SUMIF(SmtRes!AQ595:'SmtRes'!AQ602,\"=1\",SmtRes!BV595:'SmtRes'!BV602)","v":0.26},{"$f":"AJ298","v":0},{"$f":"(((S298+R298)*AT298)/100)","v":0},{"$f":"(((S298+R298)*AU298)/100)","v":0},null,null,"","","","","","","","","","","",0,0,1,1,null,null,null,1003,"100 м","100 м",100,null,"","","","",null,83666702,3,"Монтажные работы",0,"",2,108001,"Электротехнические установки: на других объектах","мФЕР-08",null,"",null,131072,0,0,0,0,0,16.5,0.26,0,null,null,null,null,null,null,null,null,null,null,null,null,null,null,null,null,null,0,0,0,null,null,null,null,97,51,null,"",null,null,1,null,-1815355656,2,1,-2,0,0,0,0,0,0,0,null,0,3,0,"",0,1,0,null,null,0,0,{"$f":"GV298*GW298","v":0},null,"","",null,null,null,null,null,null,"","Пр/812-049.3-1","Пр/774-049.3","Электротехнические установки: на других объектах","Электротехнические установки: на других объектах",null,0,null,null,null,null,null,null,null,null,null,null,null,null,null,null,null,null,null,0]
[19,0,null,null,null,"","Монтаж горизонтальной части круглой стали по опоре длинной круга 1,2м (можно посмотреть в разделе \"заземление опор\")","",null,null,null,null,null,null,null,null,null,null,null,null,null,null,null,null,null,null,1,null,null,null,null,null,null,null,null,null,null,null,null,null,null,null,null,null,null,null,null,null,null,null,null,null,null,null,null,null,null,null,null,null,null,null,null,null,null,null,null,null,null,null,null,null,null,null,null,null,null,null,null,null,null,null,null,null,null,null,null,null,null,null,null,null,null,null,null,null,null,null,null,null,null,null,null,null,null,null,null,null,null,null,null,null,null,null,null,null,null,null,null,null,null,null,null,null,null,null,null,null,null,null,null,null,null,null,null,null,null,null,null,null,null,null,null,null,null,null,null,null,null,null,null,null,null,null,null,null,null,null,null,null,null,null,null,null,null,null,null,null,null,null,null,null,null,null,null,null,null,null,null,null,null,null,null,null,null,null,null,null,null,null,null,null,null,null,null,null,null,null,null,null,null,null,null,null,null,null,null,null,null,null,null,null,null,null,null,null,null,null,null,null,null,null,null,null,null,null,null,null,null,null,null,null,null,null,null,null,null,null,null,null,null,null,null,null,0]
[18,0,594,null,"15,1","421/пр_2020_п.75_пп.а","Сметная стоимость вспомогательных ненормируемых материальных ресурсов, не учтенная в сметной норме, 2%","%",{"$f":"J300","v":2},2,2,7.1999999999999995E-2,7.1999999999999995E-2,{"$f":"ROUND(L300-M300,4)","v":0},{"$f":"ROUND(P300,2)","v":0},{"$f":"ROUND(ROUND(ROUND(SUMIF(SmtRes!AQ595:'SmtRes'!AQ602,\"=1\",SmtRes!CU595:'SmtRes'!CU602),2),2)*I300/100,2)","v":0},{"$f":"ROUND(CR300*I300,2)","v":0},{"$f":"ROUND(CS300*I300,2)","v":0},{"$f":"ROUND(CT300*I300,2)","v":0},{"$f":"ROUND(CU300*I300,2)","v":0},{"$f":"ROUND(CV300*I300,7)","v":0},{"$f":"ROUND(CW300*I300,7)","v":0},{"$f":"ROUND(CX300*I300,2)","v":0},{"$f":"ROUND(CY300,2)","v":0},0,null,85316715,{"$f":"ROUND((AC300+AD300+AF300),2)","v":0},{"$f":"ROUND((ES300),2)","v":0},{"$f":"ROUND((((ET300)-(EU300))+AE300),2)","v":0},{"$f":"ROUND((EU300),2)","v":0},{"$f":"ROUND((EV300),2)","v":0},{"$f":"ROUND((AP300),2)","v":0},{"$f":"(EW300)","v":0},{"$f":"(EX300)","v":0},{"$f":"(AS300)","v":0},0,0,0,0,0,0,0,0,0,97,51,1,1,null,null,1,1,1,1,"","","","",3,2,"",null,null,108001,0,"",0,3,0,1,1,1,1,1,1,"",97,51,"",null,null,0,0,0,15,1,0,0,0,0,"",0,{"$f":"0","v":0},{"$f":"0","v":0},{"$f":"0","v":0},{"$f":"0","v":0},{"$f":"0","v":0},{"$f":"0","v":0},{"$f":"0","v":0},{"$f":"0","v":0},{"$f":"0","v":0},{"$f":"0","v":0},{"$f":"0","v":0},null,null,"","","","","","","","","","","",0,0,1,1,null,null,null,1013,"%","%",1,null,"","","","",null,83666702,3,"Монтажные работы",0,"",2,108001,"Электротехнические установки: на других объектах","мФЕР-08",null,"",null,0,0,0,0,0,0,0,0,null,null,null,null,null,null,null,null,null,null,null,null,null,null,null,null,null,null,0,0,0,null,null,null,null,97,51,null,"",null,null,1,null,274903907,2,1,-2,0,0,{"$f":"ROUND(IF(AND(BH300=3,BI300=3,FS300<>0),P300,0),2)","v":0},{"$f":"ROUND(O300+X300+Y300,2)+GX300","v":0},{"$f":"IF(OR(BI300=0,BI300=1),GM300-GX300,0)","v":0},{"$f":"IF(BI300=2,GM300-GX300,0)","v":0},{"$f":"IF(BI300=4,GM300-GX300,0)","v":0},null,0,3,0,"",{"$f":"ROUND((GT300),2)","v":0},1,{"$f":"ROUND(HC300*I300,2)","v":0},null,null,0,0,{"$f":"0","v":0},null,"","",null,null,null,null,null,null,"","Пр/812-049.3-1","Пр/774-049.3","Электротехнические установки: на других объектах","Электротехнические установки: на других объектах",null,0,null,null,null,null,null,null,null,null,null,null,null,null,null,null,null,null,null,0]
[18,0,602,null,"15,1","421/пр_2020_п.75_пп.а","Сметная стоимость вспомогательных ненормируемых материальных ресурсов, не учтенная в сметной норме, 2%","%",{"$f":"J301","v":2},2,2,7.1999999999999995E-2,7.1999999999999995E-2,{"$f":"ROUND(L301-M301,4)","v":0},{"$f":"ROUND(P301,2)","v":0},{"$f":"ROUND(ROUND(ROUND(SUMIF(SmtRes!AQ595:'SmtRes'!AQ602,\"=1\",SmtRes!CU595:'SmtRes'!CU602),2),2)*I301/100,2)","v":0},{"$f":"ROUND(CR301*I301,2)","v":0},{"$f":"ROUND(CS301*I301,2)","v":0},{"$f":"ROUND(CT301*I301,2)","v":0},{"$f":"ROUND(CU301*I301,2)","v":0},{"$f":"ROUND(CV301*I301,7)","v":0},{"$f":"ROUND(CW301*I301,7)","v":0},{"$f":"ROUND(CX301*I301,2)","v":0},0,0,null,85316656,{"$f":"ROUND((AC301+AD301+AF301),2)","v":0},{"$f":"ROUND((ES301),2)","v":0},{"$f":"ROUND((((ET301)-(EU301))+AE301),2)","v":0},{"$f":"ROUND((EU301),2)","v":0},{"$f":"ROUND((EV301),2)","v":0},{"$f":"ROUND((AP301),2)","v":0},{"$f":"(EW301)","v":0},{"$f":"(EX301)","v":0},{"$f":"(AS301)","v":0},0,0,0,0,0,0,0,0,0,97,51,1,1,null,null,1,1,1,1,"","","","",3,2,"",null,null,108001,0,"",0,3,0,1,1,1,1,1,1,"",97,51,"",null,null,0,0,0,15,1,0,0,0,0,"",0,{"$f":"0","v":0},{"$f":"0","v":0},{"$f":"0","v":0},{"$f":"0","v":0},{"$f":"0","v":0},{"$f":"0","v":0},{"$f":"0","v":0},{"$f":"0","v":0},{"$f":"0","v":0},{"$f":"0","v":0},{"$f":"0","v":0},null,null,"","","","","","","","","","","",0,0,1,1,null,null,null,1013,"%","%",1,null,"","","","",null,83666702,3,"Монтажные работы",0,"",2,108001,"Электротехнические установки: на других объектах","мФЕР-08",null,"",null,0,0,0,0,0,0,0,0,null,null,null,null,null,null,null,null,null,null,null,null,null,null,null,null,null,null,0,0,0,null,null,null,null,97,51,null,"",null,null,1,null,274903907,2,1,-2,0,0,{"$f":"ROUND(IF(AND(BH301=3,BI301=3,FS301<>0),P301,0),2)","v":0},{"$f":"ROUND(O301+X301+Y301,2)+GX301","v":0},{"$f":"IF(OR(BI301=0,BI301=1),GM301-GX301,0)","v":0},{"$f":"IF(BI301=2,GM301-GX301,0)","v":0},{"$f":"IF(BI301=4,GM301-GX301,0)","v":0},null,0,3,0,"",{"$f":"ROUND((GT301),2)","v":0},1,{"$f":"ROUND(HC301*I301,2)","v":0},null,null,0,0,{"$f":"0","v":0},null,"","",null,null,null,null,null,null,"","Пр/812-049.3-1","Пр/774-049.3","Электротехнические установки: на других объектах","Электротехнические установки: на других объектах",null,0,null,null,null,null,null,null,null,null,null,null,null,null,null,null,null,null,null,0]
[17,0,{"$f":"ROW(SmtRes!A611)","v":611},{"$f":"ROW(EtalonRes!A611)","v":611},"16","м08-02-472-09","Проводник заземляющий открыто по строительным основаниям: из круглой стали диаметром 12 мм","100 м",0,0,0,0.21,0.21,{"$f":"ROUND(L302-M302,4)","v":0},{"$f":"ROUND(CP302,2)","v":0},{"$f":"SUMIF(SmtRes!AQ603:'SmtRes'!AQ611,\"=1\",SmtRes!DF603:'SmtRes'!DF611)","v":0},{"$f":"SUMIF(SmtRes!AQ603:'SmtRes'!AQ611,\"=1\",SmtRes!DG603:'SmtRes'!DG611)","v":0},{"$f":"SUMIF(SmtRes!AQ603:'SmtRes'!AQ611,\"=1\",SmtRes!DH603:'SmtRes'!DH611)","v":0},{"$f":"SUMIF(SmtRes!AQ603:'SmtRes'!AQ611,\"=1\",SmtRes!DI603:'SmtRes'!DI611)","v":0},{"$f":"ROUND(CU302*I302,2)","v":0},{"$f":"SUMIF(SmtRes!AQ603:'SmtRes'!AQ611,\"=1\",SmtRes!CV603:'SmtRes'!CV611)","v":0},{"$f":"SUMIF(SmtRes!AQ603:'SmtRes'!AQ611,\"=1\",SmtRes!CW603:'SmtRes'!CW611)","v":0},{"$f":"ROUND(CX302*I302,2)","v":0},0,0,null,85316715,{"$f":"ROUND((AC302+AD302+AF302),2)","v":17695.5},{"$f":"ROUND((SUM(SmtRes!BQ603:'SmtRes'!BQ611)),2)","v":2527.79},{"$f":"ROUND((((SUM(SmtRes!BR603:'SmtRes'!BR611))-(SUM(SmtRes!BS603:'SmtRes'!BS611)))+AE302),2)","v":485.92},{"$f":"ROUND((SUM(SmtRes!BS603:'SmtRes'!BS611)),2)","v":323.38},{"$f":"ROUND((SUM(SmtRes!BT603:'SmtRes'!BT611)),2)","v":14681.79},{"$f":"ROUND((AP302),2)","v":0},{"$f":"(SUM(SmtRes!BU603:'SmtRes'!BU611))","v":18.5},{"$f":"(SUM(SmtRes!BV603:'SmtRes'!BV611))","v":0.34},{"$f":"(AS302)","v":0},18018.888879999999,2527.7940799999997,485.92730000000006,323.38250000000005,14681.785,0,18.5,0.34,0,97,51,1,1,null,null,1,1,1,1,"","","","",0,2,"ГЭСНм-2022 доп.8, м08-02-472-09, приказ Минстроя России от 14.11.2023 г. № 817/пр",null,null,108001,0,"",0,3,0,1,1,1,1,1,1,"",97,51,"",null,null,0,0,0,16,0,0,0,0,0,"",0,{"$f":"(P302+Q302+S302+R302)","v":0},{"$f":"SUMIF(SmtRes!AQ603:'SmtRes'!AQ611,\"=1\",SmtRes!AA603:'SmtRes'!AA611)","v":51256.609999999993},{"$f":"SUMIF(SmtRes!AQ603:'SmtRes'!AQ611,\"=1\",SmtRes!AB603:'SmtRes'!AB611)","v":2302.6},{"$f":"SUMIF(SmtRes!AQ603:'SmtRes'!AQ611,\"=1\",SmtRes!AC603:'SmtRes'!AC611)","v":1902.25},{"$f":"SUMIF(SmtRes!AQ603:'SmtRes'!AQ611,\"=1\",SmtRes!AD603:'SmtRes'!AD611)","v":793.61},{"$f":"AG302","v":0},{"$f":"SUMIF(SmtRes!AQ603:'SmtRes'!AQ611,\"=1\",SmtRes!BU603:'SmtRes'!BU611)","v":18.5},{"$f":"SUMIF(SmtRes!AQ603:'SmtRes'!AQ611,\"=1\",SmtRes!BV603:'SmtRes'!BV611)","v":0.34},{"$f":"AJ302","v":0},{"$f":"(((S302+R302)*AT302)/100)","v":0},{"$f":"(((S302+R302)*AU302)/100)","v":0},null,null,"","","","","","","","","","","",0,0,1,1,null,null,null,1003,"100 м","100 м",100,null,"","","","",null,83666702,3,"Монтажные работы",0,"",2,108001,"Электротехнические установки: на других объектах","мФЕР-08",null,"",null,131072,0,0,0,0,0,18.5,0.34,0,null,null,null,null,null,null,null,null,null,null,null,null,null,null,null,null,null,0,0,0,null,null,null,null,97,51,null,"",null,null,1,null,1494873545,2,1,-2,0,0,{"$f":"ROUND(IF(AND(BH302=3,BI302=3,FS302<>0),P302,0),2)","v":0},{"$f":"ROUND(O302+X302+Y302,2)+GX302","v":0},{"$f":"IF(OR(BI302=0,BI302=1),GM302-GX302,0)","v":0},{"$f":"IF(BI302=2,GM302-GX302,0)","v":0},{"$f":"IF(BI302=4,GM302-GX302,0)","v":0},null,0,3,0,"",{"$f":"ROUND((GT302),2)","v":0},1,{"$f":"ROUND(HC302*I302,2)","v":0},null,null,0,0,{"$f":"GV302*GW302","v":0},null,"","",null,null,null,null,null,null,"","Пр/812-049.3-1","Пр/774-049.3","Электротехнические установки: на других объектах","Электротехнические установки: на других объектах",null,0,null,null,null,null,null,null,null,null,null,null,null,null,null,null,null,null,null,0]
[17,0,{"$f":"ROW(SmtRes!A620)","v":620},{"$f":"ROW(EtalonRes!A620)","v":620},"16","м08-02-472-09","Проводник заземляющий открыто по строительным основаниям: из круглой стали диаметром 12 мм","100 м",0,0,0,0.21,0.21,{"$f":"ROUND(L303-M303,4)","v":0},{"$f":"ROUND(CP303,2)","v":0},{"$f":"SUMIF(SmtRes!AQ612:'SmtRes'!AQ620,\"=1\",SmtRes!DF612:'SmtRes'!DF620)","v":0},{"$f":"SUMIF(SmtRes!AQ612:'SmtRes'!AQ620,\"=1\",SmtRes!DG612:'SmtRes'!DG620)","v":0},{"$f":"SUMIF(SmtRes!AQ612:'SmtRes'!AQ620,\"=1\",SmtRes!DH612:'SmtRes'!DH620)","v":0},{"$f":"SUMIF(SmtRes!AQ612:'SmtRes'!AQ620,\"=1\",SmtRes!DI612:'SmtRes'!DI620)","v":0},{"$f":"ROUND(CU303*I303,2)","v":0},{"$f":"SUMIF(SmtRes!AQ612:'SmtRes'!AQ620,\"=1\",SmtRes!CV612:'SmtRes'!CV620)","v":0},{"$f":"SUMIF(SmtRes!AQ612:'SmtRes'!AQ620,\"=1\",SmtRes!CW612:'SmtRes'!CW620)","v":0},{"$f":"ROUND(CX303*I303,2)","v":0},0,0,null,85316656,{"$f":"ROUND((AC303+AD303+AF303),2)","v":17695.5},{"$f":"ROUND((SUM(SmtRes!BQ612:'SmtRes'!BQ620)),2)","v":2527.79},{"$f":"ROUND((((SUM(SmtRes!BR612:'SmtRes'!BR620))-(SUM(SmtRes!BS612:'SmtRes'!BS620)))+AE303),2)","v":485.92},{"$f":"ROUND((SUM(SmtRes!BS612:'SmtRes'!BS620)),2)","v":323.38},{"$f":"ROUND((SUM(SmtRes!BT612:'SmtRes'!BT620)),2)","v":14681.79},{"$f":"ROUND((AP303),2)","v":0},{"$f":"(SUM(SmtRes!BU612:'SmtRes'!BU620))","v":18.5},{"$f":"(SUM(SmtRes!BV612:'SmtRes'!BV620))","v":0.34},{"$f":"(AS303)","v":0},18018.888879999999,2527.7940799999997,485.92730000000006,323.38250000000005,14681.785,0,18.5,0.34,0,97,51,1,1,null,null,1,1,1,1,"","","","",0,2,"ГЭСНм-2022 доп.8, м08-02-472-09, приказ Минстроя России от 14.11.2023 г. № 817/пр",null,null,108001,0,"",0,3,0,1,1,1,1,1,1,"",97,51,"",null,null,0,0,0,16,0,0,0,0,0,"",0,{"$f":"(P303+Q303+S303+R303)","v":0},{"$f":"SUMIF(SmtRes!AQ612:'SmtRes'!AQ620,\"=1\",SmtRes!AA612:'SmtRes'!AA620)","v":51256.609999999993},{"$f":"SUMIF(SmtRes!AQ612:'SmtRes'!AQ620,\"=1\",SmtRes!AB612:'SmtRes'!AB620)","v":2302.6},{"$f":"SUMIF(SmtRes!AQ612:'SmtRes'!AQ620,\"=1\",SmtRes!AC612:'SmtRes'!AC620)","v":1902.25},{"$f":"SUMIF(SmtRes!AQ612:'SmtRes'!AQ620,\"=1\",SmtRes!AD612:'SmtRes'!AD620)","v":793.61},{"$f":"AG303","v":0},{"$f":"SUMIF(SmtRes!AQ612:'SmtRes'!AQ620,\"=1\",SmtRes!BU612:'SmtRes'!BU620)","v":18.5},{"$f":"SUMIF(SmtRes!AQ612:'SmtRes'!AQ620,\"=1\",SmtRes!BV612:'SmtRes'!BV620)","v":0.34},{"$f":"AJ303","v":0},{"$f":"(((S303+R303)*AT303)/100)","v":0},{"$f":"(((S303+R303)*AU303)/100)","v":0},null,null,"","","","","","","","","","","",0,0,1,1,null,null,null,1003,"100 м","100 м",100,null,"","","","",null,83666702,3,"Монтажные работы",0,"",2,108001,"Электротехнические установки: на других объектах","мФЕР-08",null,"",null,131072,0,0,0,0,0,18.5,0.34,0,null,null,null,null,null,null,null,null,null,null,null,null,null,null,null,null,null,0,0,0,null,null,null,null,97,51,null,"",null,null,1,null,1494873545,2,1,-2,0,0,{"$f":"ROUND(IF(AND(BH303=3,BI303=3,FS303<>0),P303,0),2)","v":0},{"$f":"ROUND(O303+X303+Y303,2)+GX303","v":0},{"$f":"IF(OR(BI303=0,BI303=1),GM303-GX303,0)","v":0},{"$f":"IF(BI303=2,GM303-GX303,0)","v":0},{"$f":"IF(BI303=4,GM303-GX303,0)","v":0},null,0,3,0,"",{"$f":"ROUND((GT303),2)","v":0},1,{"$f":"ROUND(HC303*I303,2)","v":0},null,null,0,0,{"$f":"GV303*GW303","v":0},null,"","",null,null,null,null,null,null,"","Пр/812-049.3-1","Пр/774-049.3","Электротехнические установки: на других объектах","Электротехнические установки: на других объектах",null,0,null,null,null,null,null,null,null,null,null,null,null,null,null,null,null,null,null,0]
[19,0,null,null,null,"","Монтаж вертикальной части круглой стали по опоре длинной, которая зависит от опоры.  Если СВ95=7м, если СВ110=8,5м. Чертеж можно посмотреть в разделе \"заземление опор\")","",null,null,null,null,null,null,null,null,null,null,null,null,null,null,null,null,null,null,1,null,null,null,null,null,null,null,null,null,null,null,null,null,null,null,null,null,null,null,null,null,null,null,null,null,null,null,null,null,null,null,null,null,null,null,null,null,null,null,null,null,null,null,null,null,null,null,null,null,null,null,null,null,null,null,null,null,null,null,null,null,null,null,null,null,null,null,null,null,null,null,null,null,null,null,null,null,null,null,null,null,null,null,null,null,null,null,null,null,null,null,null,null,null,null,null,null,null,null,null,null,null,null,null,null,null,null,null,null,null,null,null,null,null,null,null,null,null,null,null,null,null,null,null,null,null,null,null,null,null,null,null,null,null,null,null,null,null,null,null,null,null,null,null,null,null,null,null,null,null,null,null,null,null,null,null,null,null,null,null,null,null,null,null,null,null,null,null,null,null,null,null,null,null,null,null,null,null,null,null,null,null,null,null,null,null,null,null,null,null,null,null,null,null,null,null,null,null,null,null,null,null,null,null,null,null,null,null,null,null,null,null,null,null,null,null,null,0]
[18,0,611,null,"16,1","421/пр_2020_п.75_пп.а","Сметная стоимость вспомогательных ненормируемых материальных ресурсов, не учтенная в сметной норме, 2%","%",{"$f":"J305","v":2},2,2,0.42,0.42,{"$f":"ROUND(L305-M305,4)","v":0},{"$f":"ROUND(P305,2)","v":0},{"$f":"ROUND(ROUND(ROUND(SUMIF(SmtRes!AQ612:'SmtRes'!AQ620,\"=1\",SmtRes!CU612:'SmtRes'!CU620),2),2)*I305/100,2)","v":0},{"$f":"ROUND(CR305*I305,2)","v":0},{"$f":"ROUND(CS305*I305,2)","v":0},{"$f":"ROUND(CT305*I305,2)","v":0},{"$f":"ROUND(CU305*I305,2)","v":0},{"$f":"ROUND(CV305*I305,7)","v":0},{"$f":"ROUND(CW305*I305,7)","v":0},{"$f":"ROUND(CX305*I305,2)","v":0},{"$f":"ROUND(CY305,2)","v":0},0,null,85316715,{"$f":"ROUND((AC305+AD305+AF305),2)","v":0},{"$f":"ROUND((ES305),2)","v":0},{"$f":"ROUND((((ET305)-(EU305))+AE305),2)","v":0},{"$f":"ROUND((EU305),2)","v":0},0,{"$f":"ROUND((AP305),2)","v":0},{"$f":"(EW305)","v":0},0,{"$f":"(AS305)","v":0},0,0,0,0,0,0,0,0,0,97,51,1,1,null,null,1,1,1,1,"","","","",3,2,"",null,null,108001,0,"",0,3,0,1,1,1,1,1,1,"",97,51,"",null,null,0,0,0,16,1,0,0,0,0,"",0,{"$f":"0","v":0},{"$f":"0","v":0},{"$f":"0","v":0},{"$f":"0","v":0},{"$f":"0","v":0},{"$f":"0","v":0},{"$f":"0","v":0},{"$f":"0","v":0},{"$f":"0","v":0},{"$f":"0","v":0},{"$f":"0","v":0},null,null,"","","","","","","","","","","",0,0,1,1,null,null,null,1013,"%","%",1,null,"","","","",null,83666702,3,"Монтажные работы",0,"",2,108001,"Электротехнические установки: на других объектах","мФЕР-08",null,"",null,0,0,0,0,0,0,0,0,null,null,null,null,null,null,null,null,null,null,null,null,null,null,null,null,null,null,0,0,0,null,null,null,null,97,51,null,"",null,null,1,null,274903907,2,1,-2,0,0,{"$f":"ROUND(IF(AND(BH305=3,BI305=3,FS305<>0),P305,0),2)","v":0},{"$f":"ROUND(O305+X305+Y305,2)+GX305","v":0},{"$f":"IF(OR(BI305=0,BI305=1),GM305-GX305,0)","v":0},{"$f":"IF(BI305=2,GM305-GX305,0)","v":0},{"$f":"IF(BI305=4,GM305-GX305,0)","v":0},null,0,3,0,"",{"$f":"ROUND((GT305),2)","v":0},1,{"$f":"ROUND(HC305*I305,2)","v":0},null,null,0,0,{"$f":"0","v":0},null,"","",null,null,null,null,null,null,"","Пр/812-049.3-1","Пр/774-049.3","Электротехнические установки: на других объектах","Электротехнические установки: на других объектах",null,0,null,null,null,null,null,null,null,null,null,null,null,null,null,null,null,null,null,0]
[18,0,620,null,"16,1","421/пр_2020_п.75_пп.а","Сметная стоимость вспомогательных ненормируемых материальных ресурсов, не учтенная в сметной норме, 2%","%",{"$f":"J306","v":2},2,2,0.42,0.42,0,{"$f":"ROUND(P306,2)","v":0},{"$f":"ROUND(ROUND(ROUND(SUMIF(SmtRes!AQ612:'SmtRes'!AQ620,\"=1\",SmtRes!CU612:'SmtRes'!CU620),2),2)*I306/100,2)","v":0},{"$f":"ROUND(CR306*I306,2)","v":0},{"$f":"ROUND(CS306*I306,2)","v":0},{"$f":"ROUND(CT306*I306,2)","v":0},0,{"$f":"ROUND(CV306*I306,7)","v":0},{"$f":"ROUND(CW306*I306,7)","v":0},0,0,0,null,85316656,0,{"$f":"ROUND((ES306),2)","v":0},{"$f":"ROUND((((ET306)-(EU306))+AE306),2)","v":0},0,0,0,0,0,0,0,0,0,0,0,0,0,0,0,97,51,1,1,null,null,1,1,1,1,"","","","",3,2,"",null,null,108001,0,"",0,3,0,1,1,1,1,1,1,"",97,51,"",null,null,0,0,0,16,1,0,0,0,0,"",0,{"$f":"0","v":0},{"$f":"0","v":0},{"$f":"0","v":0},{"$f":"0","v":0},{"$f":"0","v":0},{"$f":"0","v":0},{"$f":"0","v":0},{"$f":"0","v":0},{"$f":"0","v":0},{"$f":"0","v":0},{"$f":"0","v":0},null,null,"","","","","","","","","","","",0,0,1,1,null,null,null,1013,"%","%",1,null,"","","","",null,83666702,3,"Монтажные работы",0,"",2,108001,"Электротехнические установки: на других объектах","мФЕР-08",null,"",null,0,0,0,0,0,0,0,0,null,null,null,null,null,null,null,null,null,null,null,null,null,null,null,null,null,null,0,0,0,null,null,null,null,97,51,null,"",null,null,1,null,274903907,2,1,-2,0,0,0,0,0,0,0,null,0,3,0,"",0,1,0,null,null,0,0,{"$f":"0","v":0},null,"","",null,null,null,null,null,null,"","Пр/812-049.3-1","Пр/774-049.3","Электротехнические установки: на других объектах","Электротехнические установки: на других объектах",null,0,null,null,null,null,null,null,null,null,null,null,null,null,null,null,null,null,null,0]
[17,0,null,null,"17","ТЦ_08.3.05.00_77_7736281025_12.01.2026_02_42.1","Сталь круглая D=10 мм","м",0,0,0,24.6,24.6,0,{"$f":"ROUND(CP307,2)","v":0},{"$f":"ROUND(CQ307*I307,2)","v":0},{"$f":"ROUND(CR307*I307,2)","v":0},{"$f":"ROUND(CS307*I307,2)","v":0},{"$f":"ROUND(CT307*I307,2)","v":0},0,{"$f":"ROUND(CV307*I307,7)","v":0},{"$f":"ROUND(CW307*I307,7)","v":0},0,0,0,null,85316715,90.8,{"$f":"ROUND((ES307),2)","v":90.8},{"$f":"ROUND((ET307),2)","v":0},0,0,0,0,0,0,90.8,90.8,0,0,0,0,0,0,0,0,0,1,1,null,null,1,1,1,1,"","","","",3,1,"ТЦ_08.3.05.00_77_7736281025_12.01.2026_02_42.1",null,null,900,0,"",0,90,0,1,1,1,1,1,1,"",0,0,"",null,null,0,0,0,17,0,0,0,0,0,"",0,{"$f":"(P307+Q307+S307+R307)","v":0},{"$f":"ROUND(AL307,2)","v":90.8},{"$f":"ROUND(AM307,2)","v":0},{"$f":"ROUND(AN307*BS307,2)","v":0},{"$f":"ROUND(AO307*BA307,2)","v":0},{"$f":"AG307","v":0},0,0,0,{"$f":"0","v":0},{"$f":"0","v":0},null,null,"","","","","","","","","","","",0,0,1,1,null,null,null,1003,"м","м",1,null,"","","","",null,83667261,90,"Материалы, отсутствующие в СНБ (Строительные)",0,"",1,900,"Материалы, отсутствующие в СНБ (Строительные)","МР КА Строительные",null,"",null,131088,0,90.8,0,0,0,0,0,0,5,null,null,0,18,null,90.8,null,null,null,null,null,null,null,null,null,null,0,0,0,null,null,null,null,0,0,null,"",null,null,1,null,1749194627,2,3,-2,0,0,0,0,0,0,0,null,1,1,0,"",0,1,0,null,null,0,0,{"$f":"GV307*GW307","v":0},null,"","",{"$f":"ROUND(ROUND(AL307,2)*I307,2)","v":0},null,null,null,null,null,"","","","","",null,0,null,null,null,null,null,null,null,null,null,null,null,null,null,null,null,null,null,0]
[17,0,null,null,"17","ТЦ_08.3.05.00_77_7736281025_12.01.2026_02_42.1","Сталь круглая D=10 мм","м",0,0,0,24.6,24.6,0,{"$f":"ROUND(CP308,2)","v":0},{"$f":"ROUND(CQ308*I308,2)","v":0},{"$f":"ROUND(CR308*I308,2)","v":0},{"$f":"ROUND(CS308*I308,2)","v":0},{"$f":"ROUND(CT308*I308,2)","v":0},0,{"$f":"ROUND(CV308*I308,7)","v":0},{"$f":"ROUND(CW308*I308,7)","v":0},0,0,0,null,85316656,90.8,{"$f":"ROUND((ES308),2)","v":90.8},{"$f":"ROUND((ET308),2)","v":0},0,0,0,0,0,0,90.8,90.8,0,0,0,0,0,0,0,0,0,1,1,null,null,1,1,1,1,"","","","",3,1,"ТЦ_08.3.05.00_77_7736281025_12.01.2026_02_42.1",null,null,900,0,"",0,90,0,1,1,1,1,1,1,"",0,0,"",null,null,0,0,0,17,0,0,0,0,0,"",0,{"$f":"(P308+Q308+S308+R308)","v":0},{"$f":"ROUND(AL308,2)","v":90.8},{"$f":"ROUND(AM308,2)","v":0},{"$f":"ROUND(AN308*BS308,2)","v":0},{"$f":"ROUND(AO308*BA308,2)","v":0},0,0,0,0,{"$f":"0","v":0},{"$f":"0","v":0},null,null,"","","","","","","","","","","",0,0,1,1,null,null,null,1003,"м","м",1,null,"","","","",null,83667261,90,"Материалы, отсутствующие в СНБ (Строительные)",0,"",1,900,"Материалы, отсутствующие в СНБ (Строительные)","МР КА Строительные",null,"",null,131088,0,90.8,0,0,0,0,0,0,5,null,null,0,18,null,90.8,null,null,null,null,null,null,null,null,null,null,0,0,0,null,null,null,null,0,0,null,"",null,null,1,null,1749194627,2,3,-2,0,0,0,0,0,0,0,null,1,1,0,"",0,1,0,null,null,0,0,{"$f":"GV308*GW308","v":0},null,"","",{"$f":"ROUND(ROUND(AL308,2)*I308,2)","v":0},null,null,null,null,null,"","","","","",null,0,null,null,null,null,null,null,null,null,null,null,null,null,null,null,null,null,null,0]
[17,0,{"$f":"ROW(SmtRes!A629)","v":629},{"$f":"ROW(EtalonRes!A629)","v":629},"","м08-01-082-01","Зажим наборный без кожуха","100 ШТ",0,0,0,0.17,0.17,0,{"$f":"ROUND(CP309,2)","v":0},{"$f":"SUMIF(SmtRes!AQ621:'SmtRes'!AQ629,\"=1\",SmtRes!DF621:'SmtRes'!DF629)","v":0},{"$f":"SUMIF(SmtRes!AQ621:'SmtRes'!AQ629,\"=1\",SmtRes!DG621:'SmtRes'!DG629)","v":0},{"$f":"SUMIF(SmtRes!AQ621:'SmtRes'!AQ629,\"=1\",SmtRes!DH621:'SmtRes'!DH629)","v":0},{"$f":"SUMIF(SmtRes!AQ621:'SmtRes'!AQ629,\"=1\",SmtRes!DI621:'SmtRes'!DI629)","v":0},0,{"$f":"SUMIF(SmtRes!AQ621:'SmtRes'!AQ629,\"=1\",SmtRes!CV621:'SmtRes'!CV629)","v":0},{"$f":"SUMIF(SmtRes!AQ621:'SmtRes'!AQ629,\"=1\",SmtRes!CW621:'SmtRes'!CW629)","v":0},0,0,0,null,-1,33672.550000000003,{"$f":"ROUND((0),2)","v":0},{"$f":"ROUND((((SUM(SmtRes!BR621:'SmtRes'!BR629))-(SUM(SmtRes!BS621:'SmtRes'!BS629)))+AE309),2)","v":226.8},{"$f":"ROUND((SUM(SmtRes!BS621:'SmtRes'!BS629)),2)","v":190.23},{"$f":"ROUND((SUM(SmtRes!BT621:'SmtRes'!BT629)),2)","v":33445.75},0,{"$f":"(SUM(SmtRes!BU621:'SmtRes'!BU629))","v":41.2},{"$f":"(SUM(SmtRes!BV621:'SmtRes'!BV629))","v":0.2},0,33862.771999999997,0,226.79900000000004,190.22500000000002,33445.748,0,41.2,0.2,0,97,51,1,1,null,null,1,1,1,1,"","","","",0,2,"ГЭСНм-2022, м08-01-082-01, приказ Минстроя России от 18.05.2022 г. № 378/пр",null,null,108001,0,"",0,3,0,1,1,1,1,1,1,"",97,51,"",null,null,0,0,0,0,0,0,0,0,0,"",0,{"$f":"(P309+Q309+S309+R309)","v":0},{"$f":"SUMIF(SmtRes!AQ621:'SmtRes'!AQ629,\"=1\",SmtRes!AA621:'SmtRes'!AA629)","v":52144.76},{"$f":"SUMIF(SmtRes!AQ621:'SmtRes'!AQ629,\"=1\",SmtRes!AB621:'SmtRes'!AB629)","v":2302.6},{"$f":"SUMIF(SmtRes!AQ621:'SmtRes'!AQ629,\"=1\",SmtRes!AC621:'SmtRes'!AC629)","v":1902.25},{"$f":"SUMIF(SmtRes!AQ621:'SmtRes'!AQ629,\"=1\",SmtRes!AD621:'SmtRes'!AD629)","v":811.79},{"$f":"AG309","v":0},{"$f":"SUMIF(SmtRes!AQ621:'SmtRes'!AQ629,\"=1\",SmtRes!BU621:'SmtRes'!BU629)","v":41.2},{"$f":"SUMIF(SmtRes!AQ621:'SmtRes'!AQ629,\"=1\",SmtRes!BV621:'SmtRes'!BV629)","v":0.2},{"$f":"AJ309","v":0},{"$f":"(((S309+R309)*AT309)/100)","v":0},{"$f":"(((S309+R309)*AU309)/100)","v":0},null,null,"","","","","","","","","","","",0,0,1,1,null,null,null,1013,"100 ШТ","100 ШТ",1,null,"","","","",null,83666702,3,"Монтажные работы",0,"",2,108001,"Электротехнические установки: на других объектах","мФЕР-08",null,"",null,132096,0,0,0,0,0,41.2,0.2,0,null,null,null,null,null,null,null,null,null,null,null,null,null,null,null,null,null,0,0,0,null,null,null,null,97,51,null,"",null,null,1,null,1145402398,2,1,-2,0,0,0,0,0,0,0,null,0,3,0,"",0,1,0,null,null,0,0,{"$f":"GV309*GW309","v":0},null,"","",null,null,null,null,null,null,"","Пр/812-049.3-1","Пр/774-049.3","Электротехнические установки: на других объектах","Электротехнические установки: на других объектах",null,0,null,null,null,null,null,null,null,null,null,null,null,null,null,null,null,null,null,0]
[17,0,{"$f":"ROW(SmtRes!A638)","v":638},{"$f":"ROW(EtalonRes!A638)","v":638},"","м08-01-082-01","Зажим наборный без кожуха","100 ШТ",0,0,0,0.17,0.17,0,{"$f":"ROUND(CP310,2)","v":0},{"$f":"SUMIF(SmtRes!AQ630:'SmtRes'!AQ638,\"=1\",SmtRes!DF630:'SmtRes'!DF638)","v":0},{"$f":"SUMIF(SmtRes!AQ630:'SmtRes'!AQ638,\"=1\",SmtRes!DG630:'SmtRes'!DG638)","v":0},{"$f":"SUMIF(SmtRes!AQ630:'SmtRes'!AQ638,\"=1\",SmtRes!DH630:'SmtRes'!DH638)","v":0},{"$f":"SUMIF(SmtRes!AQ630:'SmtRes'!AQ638,\"=1\",SmtRes!DI630:'SmtRes'!DI638)","v":0},0,{"$f":"SUMIF(SmtRes!AQ630:'SmtRes'!AQ638,\"=1\",SmtRes!CV630:'SmtRes'!CV638)","v":0},{"$f":"SUMIF(SmtRes!AQ630:'SmtRes'!AQ638,\"=1\",SmtRes!CW630:'SmtRes'!CW638)","v":0},0,0,0,null,-1,33672.550000000003,{"$f":"ROUND((0),2)","v":0},{"$f":"ROUND((((SUM(SmtRes!BR630:'SmtRes'!BR638))-(SUM(SmtRes!BS630:'SmtRes'!BS638)))+AE310),2)","v":226.8},{"$f":"ROUND((SUM(SmtRes!BS630:'SmtRes'!BS638)),2)","v":190.23},{"$f":"ROUND((SUM(SmtRes!BT630:'SmtRes'!BT638)),2)","v":33445.75},0,{"$f":"(SUM(SmtRes!BU630:'SmtRes'!BU638))","v":41.2},{"$f":"(SUM(SmtRes!BV630:'SmtRes'!BV638))","v":0.2},0,33862.771999999997,0,226.79900000000004,190.22500000000002,33445.748,0,41.2,0.2,0,97,51,1,1,null,null,1,1,1,1,"","","","",0,2,"ГЭСНм-2022, м08-01-082-01, приказ Минстроя России от 18.05.2022 г. № 378/пр",null,null,108001,0,"",0,3,0,1,1,1,1,1,1,"",97,51,"",null,null,0,0,0,0,0,0,0,0,0,"",0,{"$f":"(P310+Q310+S310+R310)","v":0},{"$f":"SUMIF(SmtRes!AQ630:'SmtRes'!AQ638,\"=1\",SmtRes!AA630:'SmtRes'!AA638)","v":52144.76},{"$f":"SUMIF(SmtRes!AQ630:'SmtRes'!AQ638,\"=1\",SmtRes!AB630:'SmtRes'!AB638)","v":2302.6},{"$f":"SUMIF(SmtRes!AQ630:'SmtRes'!AQ638,\"=1\",SmtRes!AC630:'SmtRes'!AC638)","v":1902.25},{"$f":"SUMIF(SmtRes!AQ630:'SmtRes'!AQ638,\"=1\",SmtRes!AD630:'SmtRes'!AD638)","v":811.79},{"$f":"AG310","v":0},{"$f":"SUMIF(SmtRes!AQ630:'SmtRes'!AQ638,\"=1\",SmtRes!BU630:'SmtRes'!BU638)","v":41.2},{"$f":"SUMIF(SmtRes!AQ630:'SmtRes'!AQ638,\"=1\",SmtRes!BV630:'SmtRes'!BV638)","v":0.2},{"$f":"AJ310","v":0},{"$f":"(((S310+R310)*AT310)/100)","v":0},{"$f":"(((S310+R310)*AU310)/100)","v":0},null,null,"","","","","","","","","","","",0,0,1,1,null,null,null,1013,"100 ШТ","100 ШТ",1,null,"","","","",null,83666702,3,"Монтажные работы",0,"",2,108001,"Электротехнические установки: на других объектах","мФЕР-08",null,"",null,132096,0,0,0,0,0,41.2,0.2,0,null,null,null,null,null,null,null,null,null,null,null,null,null,null,null,null,null,0,0,0,null,null,null,null,97,51,null,"",null,null,1,null,1145402398,2,1,-2,0,0,0,0,0,0,0,null,0,3,0,"",0,1,0,null,null,0,0,{"$f":"GV310*GW310","v":0},null,"","",null,null,null,null,null,null,"","Пр/812-049.3-1","Пр/774-049.3","Электротехнические установки: на других объектах","Электротехнические установки: на других объектах",null,0,null,null,null,null,null,null,null,null,null,null,null,null,null,null,null,null,null,0]
[19,0,null,null,null,"","По ВОР \"Установка плашечных зажимов ПС-1-1 для устройства заземления\" и складываем если есть \"Установка зажимов для переносного заземления CMCC+CT70P\"","",null,null,null,null,null,null,null,null,null,null,null,null,null,null,null,null,null,null,1,null,null,null,null,null,null,null,null,null,null,null,null,null,null,null,null,null,null,null,null,null,null,null,null,null,null,null,null,null,null,null,null,null,null,null,null,null,null,null,null,null,null,null,null,null,null,null,null,null,null,null,null,null,null,null,null,null,null,null,null,null,null,null,null,null,null,null,null,null,null,null,null,null,null,null,null,null,null,null,null,null,null,null,null,null,null,null,null,null,null,null,null,null,null,null,null,null,null,null,null,null,null,null,null,null,null,null,null,null,null,null,null,null,null,null,null,null,null,null,null,null,null,null,null,null,null,null,null,null,null,null,null,null,null,null,null,null,null,null,null,null,null,null,null,null,null,null,null,null,null,null,null,null,null,null,null,null,null,null,null,null,null,null,null,null,null,null,null,null,null,null,null,null,null,null,null,null,null,null,null,null,null,null,null,null,null,null,null,null,null,null,null,null,null,null,null,null,null,null,null,null,null,null,null,null,null,null,null,null,null,null,null,null,null,null,null,null,0]
[18,0,629,null,"","421/пр_2020_п.75_пп.а","Сметная стоимость вспомогательных ненормируемых материальных ресурсов, не учтенная в сметной норме, 2%","%",{"$f":"J312","v":2},2,2,0.34,0.34,{"$f":"ROUND(L312-M312,4)","v":0},{"$f":"ROUND(P312,2)","v":0},{"$f":"ROUND(ROUND(ROUND(SUMIF(SmtRes!AQ630:'SmtRes'!AQ638,\"=1\",SmtRes!CU630:'SmtRes'!CU638),2),2)*I312/100,2)","v":0},{"$f":"ROUND(CR312*I312,2)","v":0},{"$f":"ROUND(CS312*I312,2)","v":0},{"$f":"ROUND(CT312*I312,2)","v":0},{"$f":"ROUND(CU312*I312,2)","v":0},{"$f":"ROUND(CV312*I312,7)","v":0},{"$f":"ROUND(CW312*I312,7)","v":0},{"$f":"ROUND(CX312*I312,2)","v":0},{"$f":"ROUND(CY312,2)","v":0},0,null,-1,{"$f":"ROUND((AC312+AD312+AF312),2)","v":0},{"$f":"ROUND((ES312),2)","v":0},{"$f":"ROUND((((ET312)-(EU312))+AE312),2)","v":0},{"$f":"ROUND((EU312),2)","v":0},0,{"$f":"ROUND((AP312),2)","v":0},{"$f":"(EW312)","v":0},0,{"$f":"(AS312)","v":0},0,0,0,0,0,0,0,0,0,97,51,1,1,null,null,1,1,1,1,"","","","",3,2,"",null,null,108001,0,"",0,3,0,1,1,1,1,1,1,"",97,51,"",null,null,0,0,0,0,0,0,0,0,0,"",0,{"$f":"0","v":0},{"$f":"0","v":0},{"$f":"0","v":0},{"$f":"0","v":0},{"$f":"0","v":0},{"$f":"0","v":0},{"$f":"0","v":0},{"$f":"0","v":0},{"$f":"0","v":0},{"$f":"0","v":0},{"$f":"0","v":0},null,null,"","","","","","","","","","","",0,0,1,1,null,null,null,1013,"%","%",1,null,"","","","",null,83666702,3,"Монтажные работы",0,"",2,108001,"Электротехнические установки: на других объектах","мФЕР-08",null,"",null,1024,0,0,0,0,0,0,0,null,null,null,null,null,null,null,null,null,null,null,null,null,null,null,null,null,null,0,0,0,null,null,null,null,97,51,null,"",null,null,1,null,274903907,2,1,-2,0,0,{"$f":"ROUND(IF(AND(BH312=3,BI312=3,FS312<>0),P312,0),2)","v":0},{"$f":"ROUND(O312+X312+Y312,2)+GX312","v":0},{"$f":"IF(OR(BI312=0,BI312=1),GM312-GX312,0)","v":0},{"$f":"IF(BI312=2,GM312-GX312,0)","v":0},{"$f":"IF(BI312=4,GM312-GX312,0)","v":0},null,0,3,0,"",{"$f":"ROUND((GT312),2)","v":0},1,{"$f":"ROUND(HC312*I312,2)","v":0},null,null,0,0,{"$f":"0","v":0},null,"","",null,null,null,null,null,null,"","Пр/812-049.3-1","Пр/774-049.3","Электротехнические установки: на других объектах","Электротехнические установки: на других объектах",null,0,null,null,null,null,null,null,null,null,null,null,null,null,null,null,null,null,null,0]
[18,0,638,null,"","421/пр_2020_п.75_пп.а","Сметная стоимость вспомогательных ненормируемых материальных ресурсов, не учтенная в сметной норме, 2%","%",{"$f":"J313","v":2},2,2,0.34,0.34,{"$f":"ROUND(L313-M313,4)","v":0},{"$f":"ROUND(P313,2)","v":0},{"$f":"ROUND(ROUND(ROUND(SUMIF(SmtRes!AQ630:'SmtRes'!AQ638,\"=1\",SmtRes!CU630:'SmtRes'!CU638),2),2)*I313/100,2)","v":0},{"$f":"ROUND(CR313*I313,2)","v":0},{"$f":"ROUND(CS313*I313,2)","v":0},{"$f":"ROUND(CT313*I313,2)","v":0},{"$f":"ROUND(CU313*I313,2)","v":0},{"$f":"ROUND(CV313*I313,7)","v":0},{"$f":"ROUND(CW313*I313,7)","v":0},{"$f":"ROUND(CX313*I313,2)","v":0},0,0,null,-1,{"$f":"ROUND((AC313+AD313+AF313),2)","v":0},{"$f":"ROUND((ES313),2)","v":0},{"$f":"ROUND((((ET313)-(EU313))+AE313),2)","v":0},0,0,{"$f":"ROUND((AP313),2)","v":0},0,0,{"$f":"(AS313)","v":0},0,0,0,0,0,0,0,0,0,97,51,1,1,null,null,1,1,1,1,"","","","",3,2,"",null,null,108001,0,"",0,3,0,1,1,1,1,1,1,"",97,51,"",null,null,0,0,0,0,0,0,0,0,0,"",0,{"$f":"0","v":0},{"$f":"0","v":0},{"$f":"0","v":0},{"$f":"0","v":0},{"$f":"0","v":0},{"$f":"0","v":0},{"$f":"0","v":0},{"$f":"0","v":0},{"$f":"0","v":0},{"$f":"0","v":0},{"$f":"0","v":0},null,null,"","","","","","","","","","","",0,0,1,1,null,null,null,1013,"%","%",1,null,"","","","",null,83666702,3,"Монтажные работы",0,"",2,108001,"Электротехнические установки: на других объектах","мФЕР-08",null,"",null,1024,0,0,0,0,0,0,0,null,null,null,null,null,null,null,null,null,null,null,null,null,null,null,null,null,null,0,0,0,null,null,null,null,97,51,null,"",null,null,1,null,274903907,2,1,-2,0,0,{"$f":"ROUND(IF(AND(BH313=3,BI313=3,FS313<>0),P313,0),2)","v":0},{"$f":"ROUND(O313+X313+Y313,2)+GX313","v":0},{"$f":"IF(OR(BI313=0,BI313=1),GM313-GX313,0)","v":0},{"$f":"IF(BI313=2,GM313-GX313,0)","v":0},{"$f":"IF(BI313=4,GM313-GX313,0)","v":0},null,0,3,0,"",{"$f":"ROUND((GT313),2)","v":0},1,{"$f":"ROUND(HC313*I313,2)","v":0},null,null,0,0,{"$f":"0","v":0},null,"","",null,null,null,null,null,null,"","Пр/812-049.3-1","Пр/774-049.3","Электротехнические установки: на других объектах","Электротехнические установки: на других объектах",null,0,null,null,null,null,null,null,null,null,null,null,null,null,null,null,null,null,null,0]
[18,0,628,null,"","20.5.04.03-0002","Зажимы наборные проходные ЗН24-4П25","100 ШТ",{"$f":"I309*J314","v":0},-1.02,-1.02,-0.1734,-0.1734,{"$f":"ROUND(L314-M314,4)","v":0},{"$f":"ROUND(CP314,2)","v":0},{"$f":"ROUND(CQ314*I314,2)","v":0},{"$f":"ROUND(CR314*I314,2)","v":0},{"$f":"ROUND(CS314*I314,2)","v":0},{"$f":"ROUND(CT314*I314,2)","v":0},{"$f":"ROUND(CU314*I314,2)","v":0},{"$f":"ROUND(CV314*I314,7)","v":0},{"$f":"ROUND(CW314*I314,7)","v":0},{"$f":"ROUND(CX314*I314,2)","v":0},0,0,null,-1,{"$f":"ROUND((AC314+AD314+AF314),2)","v":896.51},{"$f":"ROUND((ES314),2)","v":896.51},{"$f":"ROUND((((ET314)-(EU314))+AE314),2)","v":0},0,0,{"$f":"ROUND((AP314),2)","v":0},0,0,{"$f":"(AS314)","v":0},896.51,896.51,0,0,0,0,0,0,0,97,51,1,1,null,null,1,1,1,1.1399999999999999,"","","","",3,2,"ФСБЦ-2022, 20.5.04.03-0002, приказ Минстроя России от 18.05.2022 г. № 378/пр",null,null,108001,0,"20.5.04.03-0002",1,3,0,1,1,1,1,1,1,"",97,51,"",null,null,0,0,0,0,0,0,0,0,0,"",0,{"$f":"(P314+Q314+S314+R314)","v":0},{"$f":"ROUND(AL314*BC314,2)","v":1022.02},{"$f":"ROUND(AM314*BB314,2)","v":0},{"$f":"ROUND(AN314*BS314,2)","v":0},{"$f":"ROUND(AO314*BA314,2)","v":0},{"$f":"AG314","v":0},0,0,0,{"$f":"(((S314+R314)*AT314)/100)","v":0},{"$f":"(((S314+R314)*AU314)/100)","v":0},null,null,"","","","","","","","","","","",0,0,1,1,null,null,null,1013,"100 ШТ","100 ШТ",1,null,"","","","",null,83666702,3,"Монтажные работы",0,"",2,108001,"Электротехнические установки: на других объектах","мФЕР-08",null,"",null,1024,896.51,896.51,0,0,0,0,0,null,null,null,null,null,null,null,null,null,null,null,null,null,null,null,null,null,null,0,0,0,null,null,null,null,97,51,null,"",null,null,1,null,-568563229,2,1,2,0,0,{"$f":"ROUND(IF(AND(BH314=3,BI314=3,FS314<>0),P314,0),2)","v":0},{"$f":"ROUND(O314+X314+Y314,2)+GX314","v":0},{"$f":"IF(OR(BI314=0,BI314=1),GM314-GX314,0)","v":0},{"$f":"IF(BI314=2,GM314-GX314,0)","v":0},{"$f":"IF(BI314=4,GM314-GX314,0)","v":0},null,0,3,0,"",{"$f":"ROUND((GT314),2)","v":0},1,{"$f":"ROUND(HC314*I314,2)","v":0},null,null,0,0,{"$f":"GV314*GW314","v":0},null,"","",null,null,null,null,null,null,"","Пр/812-049.3-1","Пр/774-049.3","Электротехнические установки: на других объектах","Электротехнические установки: на других объектах",null,0,null,null,null,null,null,null,null,null,null,null,null,null,null,null,null,null,null,0]
[18,0,637,null,"","20.5.04.03-0002","Зажимы наборные проходные ЗН24-4П25","100 ШТ",{"$f":"I310*J315","v":0},-1.02,-1.02,-0.1734,-0.1734,{"$f":"ROUND(L315-M315,4)","v":0},{"$f":"ROUND(CP315,2)","v":0},{"$f":"ROUND(CQ315*I315,2)","v":0},{"$f":"ROUND(CR315*I315,2)","v":0},{"$f":"ROUND(CS315*I315,2)","v":0},{"$f":"ROUND(CT315*I315,2)","v":0},{"$f":"ROUND(CU315*I315,2)","v":0},{"$f":"ROUND(CV315*I315,7)","v":0},{"$f":"ROUND(CW315*I315,7)","v":0},{"$f":"ROUND(CX315*I315,2)","v":0},0,0,null,-1,{"$f":"ROUND((AC315+AD315+AF315),2)","v":896.51},{"$f":"ROUND((ES315),2)","v":896.51},{"$f":"ROUND((((ET315)-(EU315))+AE315),2)","v":0},0,0,{"$f":"ROUND((AP315),2)","v":0},0,0,{"$f":"(AS315)","v":0},896.51,896.51,0,0,0,0,0,0,0,97,51,1,1,null,null,1,1,1,1.1399999999999999,"","","","",3,2,"ФСБЦ-2022, 20.5.04.03-0002, приказ Минстроя России от 18.05.2022 г. № 378/пр",null,null,108001,0,"20.5.04.03-0002",1,3,0,1,1,1,1,1,1,"",97,51,"",null,null,0,0,0,0,0,0,0,0,0,"",0,{"$f":"(P315+Q315+S315+R315)","v":0},{"$f":"ROUND(AL315*BC315,2)","v":1022.02},{"$f":"ROUND(AM315*BB315,2)","v":0},{"$f":"ROUND(AN315*BS315,2)","v":0},{"$f":"ROUND(AO315*BA315,2)","v":0},0,0,0,0,{"$f":"(((S315+R315)*AT315)/100)","v":0},{"$f":"(((S315+R315)*AU315)/100)","v":0},null,null,"","","","","","","","","","","",0,0,1,1,null,null,null,1013,"100 ШТ","100 ШТ",1,null,"","","","",null,83666702,3,"Монтажные работы",0,"",2,108001,"Электротехнические установки: на других объектах","мФЕР-08",null,"",null,1024,896.51,896.51,0,0,0,0,0,null,null,null,null,null,null,null,null,null,null,null,null,null,null,null,null,null,null,0,0,0,null,null,null,null,97,51,null,"",null,null,1,null,-568563229,2,1,2,0,0,{"$f":"ROUND(IF(AND(BH315=3,BI315=3,FS315<>0),P315,0),2)","v":0},{"$f":"ROUND(O315+X315+Y315,2)+GX315","v":0},{"$f":"IF(OR(BI315=0,BI315=1),GM315-GX315,0)","v":0},{"$f":"IF(BI315=2,GM315-GX315,0)","v":0},{"$f":"IF(BI315=4,GM315-GX315,0)","v":0},null,0,3,0,"",{"$f":"ROUND((GT315),2)","v":0},1,{"$f":"ROUND(HC315*I315,2)","v":0},null,null,0,0,{"$f":"GV315*GW315","v":0},null,"","",null,null,null,null,null,null,"","Пр/812-049.3-1","Пр/774-049.3","Электротехнические установки: на других объектах","Электротехнические установки: на других объектах",null,0,null,null,null,null,null,null,null,null,null,null,null,null,null,null,null,null,null,0]
[]
[51,{"$f":"B282","v":0},{"$f":"A282","v":4},{"$f":"ROW(A282)","v":282},null,{"$f":"IF(F282<>\"\",F282,\"\")","v":"Новый раздел"},{"$f":"IF(G282<>\"\",G282,\"\")","v":"Заземление"},0,null,null,null,null,null,null,{"$f":"ROUND(AB317,2)","v":0},0,0,0,0,0,{"$f":"AH317","v":0},{"$f":"AI317","v":0},{"$f":"ROUND(AJ317,2)","v":0},{"$f":"ROUND(AK317,2)","v":0},{"$f":"ROUND(AL317,2)","v":0},null,null,{"$f":"ROUND(SUMIF(AA286:AA315,\"=85316715\",O286:O315),2)","v":0},{"$f":"ROUND(SUMIF(AA286:AA315,\"=85316715\",P286:P315),2)","v":0},{"$f":"ROUND(SUMIF(AA286:AA315,\"=85316715\",Q286:Q315),2)","v":0},{"$f":"ROUND(SUMIF(AA286:AA315,\"=85316715\",R286:R315),2)","v":0},{"$f":"ROUND(SUMIF(AA286:AA315,\"=85316715\",S286:S315),2)","v":0},{"$f":"ROUND(SUMIF(AA286:AA315,\"=85316715\",T286:T315),2)","v":0},{"$f":"SUMIF(AA286:AA315,\"=85316715\",U286:U315)","v":0},{"$f":"SUMIF(AA286:AA315,\"=85316715\",V286:V315)","v":0},{"$f":"ROUND(SUMIF(AA286:AA315,\"=85316715\",W286:W315),2)","v":0},{"$f":"ROUND(SUMIF(AA286:AA315,\"=85316715\",X286:X315),2)","v":0},{"$f":"ROUND(SUMIF(AA286:AA315,\"=85316715\",Y286:Y315),2)","v":0},null,null,{"$f":"ROUND(BX317,2)","v":0},0,0,0,0,0,0,0,0,0,0,0,0,0,0,0,null,null,null,null,null,null,null,null,null,null,null,null,null,null,null,null,null,null,null,{"$f":"ROUND(SUMIF(AA286:AA315,\"=85316715\",FQ286:FQ315),2)","v":0},{"$f":"ROUND(SUMIF(AA286:AA315,\"=85316715\",FR286:FR315),2)","v":0},{"$f":"ROUND(SUMIF(AA286:AA315,\"=85316715\",GL286:GL315),2)","v":0},{"$f":"ROUND(SUMIF(AA286:AA315,\"=85316715\",GM286:GM315),2)","v":0},{"$f":"ROUND(SUMIF(AA286:AA315,\"=85316715\",GN286:GN315),2)","v":0},{"$f":"ROUND(SUMIF(AA286:AA315,\"=85316715\",GO286:GO315),2)","v":0},{"$f":"ROUND(SUMIF(AA286:AA315,\"=85316715\",GP286:GP315),2)","v":0},{"$f":"AC317-BX317","v":0},{"$f":"AC317-BY317","v":0},{"$f":"BX317-BZ317","v":0},{"$f":"AC317-BX317-BY317+BZ317","v":0},{"$f":"BY317-BZ317","v":0},{"$f":"ROUND(SUMIF(AA286:AA315,\"=85316715\",GX286:GX315),2)","v":0},{"$f":"ROUND(SUMIF(AA286:AA315,\"=85316715\",GY286:GY315),2)","v":0},{"$f":"ROUND(SUMIF(AA286:AA315,\"=85316715\",GZ286:GZ315),2)","v":0},{"$f":"ROUND(SUMIF(AA286:AA315,\"=85316715\",HD286:HD315),2)","v":0},null,null,null,null,null,null,null,null,null,null,null,null,null,null,null,null,null,null,null,{"$f":"ROUND(DT317,2)","v":0},0,0,0,0,0,{"$f":"DZ317","v":0},{"$f":"EA317","v":0},{"$f":"ROUND(EB317,2)","v":0},{"$f":"ROUND(EC317,2)","v":0},{"$f":"ROUND(ED317,2)","v":0},null,null,{"$f":"ROUND(SUMIF(AA286:AA315,\"=85316656\",O286:O315),2)","v":0},{"$f":"ROUND(SUMIF(AA286:AA315,\"=85316656\",P286:P315),2)","v":0},{"$f":"ROUND(SUMIF(AA286:AA315,\"=85316656\",Q286:Q315),2)","v":0},{"$f":"ROUND(SUMIF(AA286:AA315,\"=85316656\",R286:R315),2)","v":0},{"$f":"ROUND(SUMIF(AA286:AA315,\"=85316656\",S286:S315),2)","v":0},{"$f":"ROUND(SUMIF(AA286:AA315,\"=85316656\",T286:T315),2)","v":0},{"$f":"SUMIF(AA286:AA315,\"=85316656\",U286:U315)","v":0},{"$f":"SUMIF(AA286:AA315,\"=85316656\",V286:V315)","v":0},{"$f":"ROUND(SUMIF(AA286:AA315,\"=85316656\",W286:W315),2)","v":0},{"$f":"ROUND(SUMIF(AA286:AA315,\"=85316656\",X286:X315),2)","v":0},{"$f":"ROUND(SUMIF(AA286:AA315,\"=85316656\",Y286:Y315),2)","v":0},null,null,{"$f":"ROUND(FP317,2)","v":0},0,0,0,0,0,0,0,0,0,0,0,0,0,0,0,null,null,null,null,null,null,null,null,null,null,null,null,null,null,null,null,null,null,null,{"$f":"ROUND(SUMIF(AA286:AA315,\"=85316656\",FQ286:FQ315),2)","v":0},{"$f":"ROUND(SUMIF(AA286:AA315,\"=85316656\",FR286:FR315),2)","v":0},{"$f":"ROUND(SUMIF(AA286:AA315,\"=85316656\",GL286:GL315),2)","v":0},{"$f":"ROUND(SUMIF(AA286:AA315,\"=85316656\",GM286:GM315),2)","v":0},{"$f":"ROUND(SUMIF(AA286:AA315,\"=85316656\",GN286:GN315),2)","v":0},{"$f":"ROUND(SUMIF(AA286:AA315,\"=85316656\",GO286:GO315),2)","v":0},{"$f":"ROUND(SUMIF(AA286:AA315,\"=85316656\",GP286:GP315),2)","v":0},{"$f":"DU317-FP317","v":0},{"$f":"DU317-FQ317","v":0},{"$f":"FP317-FR317","v":0},{"$f":"DU317-FP317-FQ317+FR317","v":0},{"$f":"FQ317-FR317","v":0},{"$f":"ROUND(SUMIF(AA286:AA315,\"=85316656\",GX286:GX315),2)","v":0},{"$f":"ROUND(SUMIF(AA286:AA315,\"=85316656\",GY286:GY315),2)","v":0},{"$f":"ROUND(SUMIF(AA286:AA315,\"=85316656\",GZ286:GZ315),2)","v":0},{"$f":"ROUND(SUMIF(AA286:AA315,\"=85316656\",HD286:HD315),2)","v":0},null,null,null,null,null,null,null,null,null,null,null,null,null,null,null,null,null,null,0]
[]
[50,0,0,1,201,{"$f":"ROUND(Source!O317,O319)","v":0},"ПЗ","Прямые затраты",null,null,201,1,3,"",2,{"$f":"ROUND(Source!DG317,O319)","v":0},null,null,null,null,null,null,0,1,0,0,1,0]
[50,0,0,1,202,{"$f":"ROUND(Source!P317,O320)","v":0},"СтМатОб","Стоимость материальных ресурсов (всего)",null,null,202,2,3,"",2,{"$f":"ROUND(Source!DH317,O320)","v":0},null,null,null,null,null,null,0,1,0,0,1,0]
[50,0,0,1,222,{"$f":"ROUND(Source!AO317,O321)","v":0},"СтМатОбЗак","Стоимость материалов и оборудования заказчика",null,null,222,3,3,"",2,{"$f":"ROUND(Source!EG317,O321)","v":0},null,null,null,null,null,null,0,1,0,0,1,0]
[50,0,0,1,225,{"$f":"ROUND(Source!AV317,O322)","v":0},"СтМатОбПод","Стоимость материалов и оборудования подрядчика",null,null,225,4,3,"",2,{"$f":"ROUND(Source!EN317,O322)","v":0},null,null,null,null,null,null,0,1,0,0,1,0]
[50,0,0,1,226,{"$f":"ROUND(Source!AW317,O323)","v":0},"СтМат","Стоимость материалов (всего)",null,null,226,5,3,"",2,{"$f":"ROUND(Source!EO317,O323)","v":0},null,null,null,null,null,null,0,1,0,0,1,0]
[50,0,0,1,227,{"$f":"ROUND(Source!AX317,O324)","v":0},"СтМатЗак","Стоимость материалов заказчика",null,null,227,6,3,"",2,{"$f":"ROUND(Source!EP317,O324)","v":0},null,null,null,null,null,null,0,1,0,0,1,0]
[50,0,0,1,228,{"$f":"ROUND(Source!AY317,O325)","v":0},"СтМатПод","Стоимость материалов подрядчика",null,null,228,7,3,"",2,{"$f":"ROUND(Source!EQ317,O325)","v":0},null,null,null,null,null,null,0,1,0,0,1,0]
[50,0,0,1,216,{"$f":"ROUND(Source!AP317,O326)","v":0},"Оборуд","Стоимость оборудования (всего)",null,null,216,8,3,"",2,{"$f":"ROUND(Source!EH317,O326)","v":0},null,null,null,null,null,null,0,1,0,0,1,0]
[50,0,0,1,223,{"$f":"ROUND(Source!AQ317,O327)","v":0},"ОборудЗак","Стоимость оборудования заказчика",null,null,223,9,3,"",2,{"$f":"ROUND(Source!EI317,O327)","v":0},null,null,null,null,null,null,0,1,0,0,1,0]
[50,0,0,1,229,{"$f":"ROUND(Source!AZ317,O328)","v":0},"ОборудПод","Стоимость оборудования подрядчика",null,null,229,10,3,"",2,{"$f":"ROUND(Source!ER317,O328)","v":0},null,null,null,null,null,null,0,1,0,0,1,0]
[50,0,0,1,203,{"$f":"ROUND(Source!Q317,O329)","v":0},"ЭММ","Эксплуатация машин",null,null,203,11,3,"",2,{"$f":"ROUND(Source!DI317,O329)","v":0},null,null,null,null,null,null,0,1,0,0,1,0]
[50,0,0,1,231,{"$f":"ROUND(Source!BB317,O330)","v":0},"ЭММсНРиСП","Эксплуатация машин по ТСН-2001.16",null,null,231,12,3,"",2,{"$f":"ROUND(Source!ET317,O330)","v":0},null,null,null,null,null,null,0,1,0,0,1,0]
[50,0,0,1,204,{"$f":"ROUND(Source!R317,O331)","v":0},"ЗПМ","ЗП машинистов",null,null,204,13,3,"",2,{"$f":"ROUND(Source!DJ317,O331)","v":0},null,null,null,null,null,null,0,1,0,0,1,0]
[50,0,0,1,205,{"$f":"ROUND(Source!S317,O332)","v":0},"ОЗП","Основная ЗП рабочих",null,null,205,14,3,"",2,{"$f":"ROUND(Source!DK317,O332)","v":0},null,null,null,null,null,null,0,1,0,0,1,0]
[50,0,0,1,232,{"$f":"ROUND(Source!BC317,O333)","v":0},"ОЗПсНРиСП","Основная ЗП рабочих по ТСН-2001.16",null,null,232,15,3,"",2,{"$f":"ROUND(Source!EU317,O333)","v":0},null,null,null,null,null,null,0,1,0,0,1,0]
[50,0,0,1,214,{"$f":"ROUND(Source!AS317,O334)","v":0},"Строит","Строительные работы с НР и СП",null,null,214,16,3,"",2,{"$f":"ROUND(Source!EK317,O334)","v":0},null,null,null,null,null,null,0,1,0,0,1,0]
[50,0,0,1,215,{"$f":"ROUND(Source!AT317,O335)","v":0},"Монтаж","Монтажные работы с НР и СП",null,null,215,17,3,"",2,{"$f":"ROUND(Source!EL317,O335)","v":0},null,null,null,null,null,null,0,1,0,0,1,0]
[50,0,0,1,217,{"$f":"ROUND(Source!AU317,O336)","v":0},"Прочие","Прочие работы с НР и СП",null,null,217,18,3,"",2,{"$f":"ROUND(Source!EM317,O336)","v":0},null,null,null,null,null,null,0,1,0,0,1,0]
[50,0,0,1,230,{"$f":"ROUND(Source!BA317,O337)","v":0},"ПрочиеЗатр","Прочие затраты по ТСН-2001.16",null,null,230,19,3,"",2,{"$f":"ROUND(Source!ES317,O337)","v":0},null,null,null,null,null,null,0,1,0,0,1,0]
[50,0,0,1,206,{"$f":"ROUND(Source!T317,O338)","v":0},"ВозврМат","Возврат материалов",null,null,206,20,3,"",2,{"$f":"ROUND(Source!DL317,O338)","v":0},null,null,null,null,null,null,0,1,0,0,1,0]
[50,0,0,1,207,{"$f":"ROUND(Source!U317,O339)","v":0},"ТрудСтр","Трудозатраты строителей",null,null,207,21,3,"",7,{"$f":"ROUND(Source!DM317,O339)","v":0},null,null,null,null,null,null,0,1,0,0,1,0]
[50,0,0,1,208,{"$f":"ROUND(Source!V317,O340)","v":0},"ТрудМаш","Трудозатраты машинистов",null,null,208,22,3,"",7,{"$f":"ROUND(Source!DN317,O340)","v":0},null,null,null,null,null,null,0,1,0,0,1,0]
[50,0,0,1,209,{"$f":"ROUND(Source!W317,O341)","v":0},"ТранспМат","Транспорт материалов",null,null,209,23,3,"",2,{"$f":"ROUND(Source!DO317,O341)","v":0},null,null,null,null,null,null,0,1,0,0,1,0]
[50,0,0,1,233,{"$f":"ROUND(Source!BD317,O342)","v":0},"Перевозка","Перевозка грузов",null,null,233,24,3,"",2,{"$f":"ROUND(Source!EV317,O342)","v":0},null,null,null,null,null,null,0,1,0,0,1,0]
[50,0,0,1,210,{"$f":"ROUND(Source!X317,O343)","v":0},"НР","Накладные расходы",null,null,210,25,3,"",2,{"$f":"ROUND(Source!DP317,O343)","v":0},null,null,null,null,null,null,0,1,0,0,1,0]
[50,0,0,1,211,{"$f":"ROUND(Source!Y317,O344)","v":0},"СмПриб","Сметная прибыль",null,null,211,26,3,"",2,{"$f":"ROUND(Source!DQ317,O344)","v":0},null,null,null,null,null,null,0,1,0,0,1,0]
[50,0,0,1,224,{"$f":"ROUND(Source!AR317,O345)","v":0},"Всего","Всего с НР и СП",null,null,224,27,3,"",2,{"$f":"ROUND(Source!EJ317,O345)","v":0},null,null,null,null,null,null,0,1,0,0,1,0]
[]
[4,1,null,{"$f":"ROW(A432)","v":432},null,"Новый раздел","Материалы","",0,null,0,null,"",null,null,null,null,null,0,0,"",0,null,null,null,null,null,"","","","","","",null,null,null,null,null,null,null,null,"","","",null,null,null,null,null,null,null,"",null,"","","","","","","","","","","","","","","",null,null,null,null,null,null,null,0,null,null,null,null,null,null,null,null,null,null,null,0]
[]
[52,{"$f":"B432","v":1},4,347,0,"Новый раздел","Материалы",null,null,null,null,null,null,null,{"$f":"O432","v":2057.25},2057.25,0,0,0,0,0,0,0,0,0,0,0,2057.25,2057.25,0,0,0,0,0,0,0,0,0,0,0,0,0,0,2057.25,2057.25,0,{"$f":"AU432","v":0},2057.25,2057.25,0,2057.25,0,0,0,0,0,0,0,0,0,0,0,0,0,0,0,0,0,0,0,0,0,0,0,0,0,0,0,{"$f":"CA432","v":2057.25},2057.25,0,0,2057.25,2057.25,0,2057.25,0,0,0,0,0,0,0,0,0,0,0,0,0,0,0,0,0,0,0,0,0,0,0,0,{"$f":"DG432","v":2057.25},2057.25,0,0,0,0,0,0,0,0,0,0,0,2057.25,2057.25,0,0,0,0,0,0,0,0,0,0,0,0,0,0,2057.25,2057.25,0,{"$f":"EM432","v":0},2057.25,2057.25,0,2057.25,0,0,0,0,0,0,0,0,0,0,0,0,0,0,0,0,0,0,0,0,0,0,0,0,0,0,0,{"$f":"FS432","v":2057.25},2057.25,0,0,2057.25,2057.25,0,2057.25,0,0,0,0,0,0,0,0,0,0,0,0,0,0,0,0,0,0,0,0,0,0,0,0]
[]
[17,1,null,null,"18","Предельная стоимость ПАО \"Россети Московский регион\"","Провод магистральный СИП-2 3х95+1х95","м",0,0,0,141,141,{"$f":"ROUND(L351-M351,4)","v":0},{"$f":"ROUND(CP351,2)","v":0},{"$f":"ROUND(CQ351*I351,2)","v":0},{"$f":"ROUND(CR351*I351,2)","v":0},{"$f":"ROUND(CS351*I351,2)","v":0},{"$f":"ROUND(CT351*I351,2)","v":0},{"$f":"ROUND(CU351*I351,2)","v":0},{"$f":"ROUND(CV351*I351,7)","v":0},{"$f":"ROUND(CW351*I351,7)","v":0},{"$f":"ROUND(CX351*I351,2)","v":0},{"$f":"ROUND(CY351,2)","v":0},{"$f":"ROUND(CZ351,2)","v":0},null,85316715,{"$f":"ROUND((AC351+AD351+AF351),2)","v":512.69000000000005},{"$f":"ROUND((ES351),2)","v":512.69000000000005},{"$f":"ROUND((((ET351)-(EU351))+AE351),2)","v":0},{"$f":"ROUND((EU351),2)","v":0},{"$f":"ROUND((EV351),2)","v":0},{"$f":"ROUND((AP351),2)","v":0},{"$f":"(EW351)","v":0},{"$f":"(EX351)","v":0},{"$f":"(AS351)","v":0},512.68999999999994,512.68999999999994,0,0,0,0,0,0,0,0,0,1,1,null,null,1,1,1,1,"","","","",3,1,"",null,null,1100,0,"",0,8,0,1,1,1,1,1,1,"",0,0,"",null,null,0,0,0,18,0,0,0,0,0,"",0,{"$f":"(P351+Q351+S351+R351)","v":0},{"$f":"ROUND(AL351,2)","v":512.69000000000005},{"$f":"ROUND(AM351,2)","v":0},{"$f":"ROUND(AN351*BS351,2)","v":0},{"$f":"ROUND(AO351*BA351,2)","v":0},{"$f":"AG351","v":0},{"$f":"AH351","v":0},{"$f":"AI351","v":0},{"$f":"AJ351","v":0},{"$f":"(((S351+R351)*AT351)/100)","v":0},{"$f":"(((S351+R351)*AU351)/100)","v":0},null,null,"","","","","","","","","","","",0,0,1,1,null,null,null,1003,"м","м",1,null,"","","","",null,83667004,8,"Материалы строительные",0,"",1,1100,"Материалы, изделия и конструкции","материалы (03)",null,"",null,131072,512.68999999999994,512.68999999999994,0,0,0,0,0,0,5,null,null,0,18,null,488,null,null,null,null,null,null,null,null,null,null,0,0,0,null,null,null,null,0,0,null,"488 +  3% Трансп +  2% Заг.скл",null,null,1,null,1872951079,2,3,-2,0,0,{"$f":"ROUND(IF(AND(BH351=3,BI351=3,FS351<>0),P351,0),2)","v":0},{"$f":"ROUND(O351+X351+Y351,2)+GX351","v":0},{"$f":"IF(OR(BI351=0,BI351=1),GM351-GX351,0)","v":0},{"$f":"IF(BI351=2,GM351-GX351,0)","v":0},{"$f":"IF(BI351=4,GM351-GX351,0)","v":0},null,1,1,0,"",{"$f":"ROUND((GT351),2)","v":0},1,{"$f":"ROUND(HC351*I351,2)","v":0},null,null,0,0,{"$f":"GV351*GW351","v":0},null,"3","2",{"$f":"ROUND(ROUND(AL351,2)*I351,2)","v":0},null,null,null,null,null,"","","","","",null,0,null,null,null,null,null,null,null,null,null,null,null,null,null,null,null,null,null,0]
[17,1,null,null,"18","Предельная стоимость ПАО \"Россети Московский регион\"","Провод магистральный СИП-2 3х95+1х95","м",0,0,0,141,141,0,0,0,0,0,0,0,0,0,0,0,0,null,85316656,512.69000000000005,512.69000000000005,0,0,0,0,0,0,0,512.68999999999994,512.68999999999994,0,0,0,0,0,0,0,0,0,1,1,null,null,1,1,1,1,"","","","",3,1,"",null,null,1100,0,"",0,8,0,1,1,1,1,1,1,"",0,0,"",null,null,0,0,0,18,0,0,0,0,0,"",0,0,{"$f":"ROUND(AL352,2)","v":512.69000000000005},{"$f":"ROUND(AM352,2)","v":0},0,0,0,0,0,0,0,0,null,null,"","","","","","","","","","","",0,0,1,1,null,null,null,1003,"м","м",1,null,"","","","",null,83667004,8,"Материалы строительные",0,"",1,1100,"Материалы, изделия и конструкции","материалы (03)",null,"",null,131072,512.68999999999994,512.68999999999994,0,0,0,0,0,0,5,null,null,0,18,null,488,null,null,null,null,null,null,null,null,null,null,0,0,0,null,null,null,null,0,0,null,"488 +  3% Трансп +  2% Заг.скл",null,null,1,null,1872951079,2,3,-2,0,0,0,0,0,0,0,null,1,1,0,"",0,1,0,null,null,0,0,0,null,"3","2",{"$f":"ROUND(ROUND(AL352,2)*I352,2)","v":0},null,null,null,null,null,"","","","","",null,0,null,null,null,null,null,null,null,null,null,null,null,null,null,null,null,null,null,0]
[17,1,null,null,"","Предельная стоимость ПАО \"Россети Московский регион\"","Провод магистральный СИП-2 3х70+1х70","м",0,0,0,1,1,0,0,0,0,0,0,0,0,0,0,0,0,null,-1,395.03,395.03,0,0,0,0,0,0,0,395.03,395.03,0,0,0,0,0,0,0,0,0,1,1,null,null,1,1,1,1,"","","","",3,1,"",null,null,1100,0,"",0,8,0,1,1,1,1,1,1,"",0,0,"",null,null,0,0,0,0,0,0,0,0,0,"",0,0,{"$f":"ROUND(AL353*BC353,2)","v":395.03},{"$f":"ROUND(AM353*BB353,2)","v":0},0,0,0,0,0,0,0,0,null,null,"","","","","","","","","","","",0,0,1,1,null,null,null,1003,"м","м",1,null,"","","","",null,83667004,8,"Материалы строительные",0,"",1,1100,"Материалы, изделия и конструкции","материалы (03)",null,"",null,132096,395.03,395.03,0,0,0,0,0,0,null,null,null,null,null,null,null,null,null,null,null,null,null,null,null,null,null,0,0,0,null,null,null,null,0,0,null,"",null,null,1,null,281274999,2,0,-2,0,0,0,0,0,0,0,null,0,0,0,"",0,1,0,null,null,0,0,0,null,"","",null,null,null,null,null,null,"","","","","",null,0,null,null,null,null,null,null,null,null,null,null,null,null,null,null,null,null,null,0]
[17,1,null,null,"","Предельная стоимость ПАО \"Россети Московский регион\"","Провод магистральный СИП-2 3х70+1х70","м",0,0,0,1,1,0,0,0,0,0,0,0,0,0,0,0,0,null,-1,395.03,395.03,0,0,0,0,0,0,0,395.03,395.03,0,0,0,0,0,0,0,0,0,1,1,null,null,1,1,1,1,"","","","",3,1,"",null,null,1100,0,"",0,8,0,1,1,1,1,1,1,"",0,0,"",null,null,0,0,0,0,0,0,0,0,0,"",0,0,395.03,0,0,0,0,0,0,0,0,0,null,null,"","","","","","","","","","","",0,0,1,1,null,null,null,1003,"м","м",1,null,"","","","",null,83667004,8,"Материалы строительные",0,"",1,1100,"Материалы, изделия и конструкции","материалы (03)",null,"",null,132096,395.03,395.03,0,0,0,0,0,0,null,null,null,null,null,null,null,null,null,null,null,null,null,null,null,null,null,0,0,0,null,null,null,null,0,0,null,"",null,null,1,null,281274999,2,0,-2,0,0,0,0,0,0,0,null,0,0,0,"",0,1,0,null,null,0,0,0,null,"","",null,null,null,null,null,null,"","","","","",null,0,null,null,null,null,null,null,null,null,null,null,null,null,null,null,null,null,null,0]
[17,1,null,null,"","Предельная стоимость ПАО \"Россети Московский регион\"","Провод магистральный СИП-2 3х95+1х70","м",0,0,0,1,1,0,0,0,0,0,0,0,0,0,0,0,0,null,-1,478.02,478.02,0,0,0,0,0,0,0,478.02,478.02,0,0,0,0,0,0,0,0,0,1,1,null,null,1,1,1,1,"","","","",3,1,"",null,null,1100,0,"",0,8,0,1,1,1,1,1,1,"",0,0,"",null,null,0,0,0,0,0,0,0,0,0,"",0,0,478.02,0,0,0,0,0,0,0,0,0,null,null,"","","","","","","","","","","",0,0,1,1,null,null,null,1003,"м","м",1,null,"","","","",null,83667004,8,"Материалы строительные",0,"",1,1100,"Материалы, изделия и конструкции","материалы (03)",null,"",null,132096,478.02,478.02,0,0,0,0,0,0,null,null,null,null,null,null,null,null,null,null,null,null,null,null,null,null,null,0,0,0,null,null,null,null,0,0,null,"",null,null,1,null,-29041036,2,0,-2,0,0,0,0,0,0,0,null,0,0,0,"",0,1,0,null,null,0,0,0,null,"","",null,null,null,null,null,null,"","","","","",null,0,null,null,null,null,null,null,null,null,null,null,null,null,null,null,null,null,null,0]
[17,1,null,null,"","Предельная стоимость ПАО \"Россети Московский регион\"","Провод магистральный СИП-2 3х95+1х70","м",0,0,0,1,1,0,0,0,0,0,0,0,0,0,0,0,0,null,-1,478.02,478.02,0,0,0,0,0,0,0,478.02,478.02,0,0,0,0,0,0,0,0,0,1,1,null,null,1,1,1,1,"","","","",3,1,"",null,null,1100,0,"",0,8,0,1,1,1,1,1,1,"",0,0,"",null,null,0,0,0,0,0,0,0,0,0,"",0,0,478.02,0,0,0,0,0,0,0,0,0,null,null,"","","","","","","","","","","",0,0,1,1,null,null,null,1003,"м","м",1,null,"","","","",null,83667004,8,"Материалы строительные",0,"",1,1100,"Материалы, изделия и конструкции","материалы (03)",null,"",null,132096,478.02,478.02,0,0,0,0,0,0,null,null,null,null,null,null,null,null,null,null,null,null,null,null,null,null,null,0,0,0,null,null,null,null,0,0,null,"",null,null,1,null,-29041036,2,0,-2,0,0,0,0,0,0,0,null,0,0,0,"",0,1,0,null,null,0,0,0,null,"","",null,null,null,null,null,null,"","","","","",null,0,null,null,null,null,null,null,null,null,null,null,null,null,null,null,null,null,null,0]
[17,1,null,null,"","Предельная стоимость ПАО \"Россети Московский регион\"","Провод СИП-3 1х95","м",0,0,0,1,1,0,0,0,0,0,0,0,0,0,0,0,0,null,-1,144.46,144.46,0,0,0,0,0,0,0,144.46,144.46,0,0,0,0,0,0,0,0,0,1,1,null,null,1,1,1,1,"","","","",3,1,"",null,null,1100,0,"",0,8,0,1,1,1,1,1,1,"",0,0,"",null,null,0,0,0,0,0,0,0,0,0,"",0,0,144.46,0,0,0,0,0,0,0,0,0,null,null,"","","","","","","","","","","",0,0,1,1,null,null,null,1003,"м","м",1,null,"","","","",null,83667004,8,"Материалы строительные",0,"",1,1100,"Материалы, изделия и конструкции","материалы (03)",null,"",null,132096,144.46,144.46,0,0,0,0,0,0,null,null,null,null,null,null,null,null,null,null,null,null,null,null,null,null,null,0,0,0,null,null,null,null,0,0,null,"",null,null,1,null,1830721000,2,0,-2,0,0,0,0,0,0,0,null,0,0,0,"",0,1,0,null,null,0,0,0,null,"","",null,null,null,null,null,null,"","","","","",null,0,null,null,null,null,null,null,null,null,null,null,null,null,null,null,null,null,null,0]
[17,1,null,null,"","Предельная стоимость ПАО \"Россети Московский регион\"","Провод СИП-3 1х95","м",0,0,0,1,1,0,0,0,0,0,0,0,0,0,0,0,0,null,-1,144.46,144.46,0,0,0,0,0,0,0,144.46,144.46,0,0,0,0,0,0,0,0,0,1,1,null,null,1,1,1,1,"","","","",3,1,"",null,null,1100,0,"",0,8,0,1,1,1,1,1,1,"",0,0,"",null,null,0,0,0,0,0,0,0,0,0,"",0,0,144.46,0,0,0,0,0,0,0,0,0,null,null,"","","","","","","","","","","",0,0,1,1,null,null,null,1003,"м","м",1,null,"","","","",null,83667004,8,"Материалы строительные",0,"",1,1100,"Материалы, изделия и конструкции","материалы (03)",null,"",null,132096,144.46,144.46,0,0,0,0,0,0,null,null,null,null,null,null,null,null,null,null,null,null,null,null,null,null,null,0,0,0,null,null,null,null,0,0,null,"",null,null,1,null,1830721000,2,0,-2,0,0,0,0,0,0,0,null,0,0,0,"",0,1,0,null,null,0,0,0,null,"","",null,null,null,null,null,null,"","","","","",null,0,null,null,null,null,null,null,null,null,null,null,null,null,null,null,null,null,null,0]
[17,1,null,null,"","Предельная стоимость ПАО \"Россети Московский регион\"","Провод СИП-3 1х70","м",0,0,0,1,1,0,0,0,0,0,0,0,0,0,0,0,0,null,-1,109.57,109.57,0,0,0,0,0,0,0,109.57000000000001,109.57000000000001,0,0,0,0,0,0,0,0,0,1,1,null,null,1,1,1,1,"","","","",3,1,"",null,null,1100,0,"",0,8,0,1,1,1,1,1,1,"",0,0,"",null,null,0,0,0,0,0,0,0,0,0,"",0,0,109.57,0,0,0,0,0,0,0,0,0,null,null,"","","","","","","","","","","",0,0,1,1,null,null,null,1003,"м","м",1,null,"","","","",null,83667004,8,"Материалы строительные",0,"",1,1100,"Материалы, изделия и конструкции","материалы (03)",null,"",null,132096,109.57000000000001,109.57000000000001,0,0,0,0,0,0,null,null,null,null,null,null,null,null,null,null,null,null,null,null,null,null,null,0,0,0,null,null,null,null,0,0,null,"",null,null,1,null,-1854914928,2,0,-2,0,0,0,0,0,0,0,null,0,0,0,"",0,1,0,null,null,0,0,0,null,"","",null,null,null,null,null,null,"","","","","",null,0,null,null,null,null,null,null,null,null,null,null,null,null,null,null,null,null,null,0]
[17,1,null,null,"","Предельная стоимость ПАО \"Россети Московский регион\"","Провод СИП-3 1х70","м",0,0,0,1,1,0,0,0,0,0,0,0,0,0,0,0,0,null,-1,109.57,109.57,0,0,0,0,0,0,0,109.57000000000001,109.57000000000001,0,0,0,0,0,0,0,0,0,1,1,null,null,1,1,1,1,"","","","",3,1,"",null,null,1100,0,"",0,8,0,1,1,1,1,1,1,"",0,0,"",null,null,0,0,0,0,0,0,0,0,0,"",0,0,109.57,0,0,0,0,0,0,0,0,0,null,null,"","","","","","","","","","","",0,0,1,1,null,null,null,1003,"м","м",1,null,"","","","",null,83667004,8,"Материалы строительные",0,"",1,1100,"Материалы, изделия и конструкции","материалы (03)",null,"",null,132096,109.57000000000001,109.57000000000001,0,0,0,0,0,0,null,null,null,null,null,null,null,null,null,null,null,null,null,null,null,null,null,0,0,0,null,null,null,null,0,0,null,"",null,null,1,null,-1854914928,2,0,-2,0,0,0,0,0,0,0,null,0,0,0,"",0,1,0,null,null,0,0,0,null,"","",null,null,null,null,null,null,"","","","","",null,0,null,null,null,null,null,null,null,null,null,null,null,null,null,null,null,null,null,0]
[17,1,null,null,"19","Предельная стоимость ПАО \"Россети Московский регион\"","Стойка СВ95-3","ШТ",0,0,0,10,10,0,0,0,0,0,0,0,0,0,0,0,0,null,85316715,12593.29,12593.29,0,0,0,0,0,0,0,12593.29,12593.29,0,0,0,0,0,0,0,0,0,1,1,null,null,1,1,1,1,"","","","",3,1,"",null,null,1100,0,"",0,8,0,1,1,1,1,1,1,"",0,0,"",null,null,0,0,0,19,0,0,0,0,0,"",0,0,{"$f":"ROUND(AL361,2)","v":12593.29},{"$f":"ROUND(AM361,2)","v":0},0,0,0,0,0,0,0,0,null,null,"","","","","","","","","","","",0,0,1,1,null,null,null,1013,"ШТ","ШТ",1,null,"","","","",null,83667004,8,"Материалы строительные",0,"",1,1100,"Материалы, изделия и конструкции","материалы (03)",null,"",null,131072,12593.29,12593.29,0,0,0,0,0,0,5,null,null,0,18,null,11986.76,null,null,null,null,null,null,null,null,null,null,0,0,0,null,null,null,null,0,0,null,"11 986,76 +  3% Трансп +  2% Заг.скл",null,null,1,null,354336292,2,3,-2,0,0,0,0,0,0,0,null,1,1,0,"",0,1,0,null,null,0,0,0,null,"3","2",{"$f":"ROUND(ROUND(AL361,2)*I361,2)","v":0},null,null,null,null,null,"","","","","",null,0,null,null,null,null,null,null,null,null,null,null,null,null,null,null,null,null,null,0]
[17,1,null,null,"19","Предельная стоимость ПАО \"Россети Московский регион\"","Стойка СВ95-3","ШТ",0,0,0,10,10,0,0,0,0,0,0,0,0,0,0,0,0,null,85316656,12593.29,12593.29,0,0,0,0,0,0,0,12593.29,12593.29,0,0,0,0,0,0,0,0,0,1,1,null,null,1,1,1,1,"","","","",3,1,"",null,null,1100,0,"",0,8,0,1,1,1,1,1,1,"",0,0,"",null,null,0,0,0,19,0,0,0,0,0,"",0,0,{"$f":"ROUND(AL362,2)","v":12593.29},{"$f":"ROUND(AM362,2)","v":0},0,0,0,0,0,0,0,0,null,null,"","","","","","","","","","","",0,0,1,1,null,null,null,1013,"ШТ","ШТ",1,null,"","","","",null,83667004,8,"Материалы строительные",0,"",1,1100,"Материалы, изделия и конструкции","материалы (03)",null,"",null,131072,12593.29,12593.29,0,0,0,0,0,0,5,null,null,0,18,null,11986.76,null,null,null,null,null,null,null,null,null,null,0,0,0,null,null,null,null,0,0,null,"11 986,76 +  3% Трансп +  2% Заг.скл",null,null,1,null,354336292,2,3,-2,0,0,0,0,0,0,0,null,1,1,0,"",0,1,0,null,null,0,0,0,null,"3","2",{"$f":"ROUND(ROUND(AL362,2)*I362,2)","v":0},null,null,null,null,null,"","","","","",null,0,null,null,null,null,null,null,null,null,null,null,null,null,null,null,null,null,null,0]
[17,1,null,null,"","Предельная стоимость ПАО \"Россети Московский регион\"","Стойка СВ 110-5","ШТ",0,0,0,1,1,0,0,0,0,0,0,0,0,0,0,0,0,null,-1,15911.73,15911.73,0,0,0,0,0,0,0,15911.73,15911.73,0,0,0,0,0,0,0,0,0,1,1,null,null,1,1,1,1,"","","","",3,1,"",null,null,1100,0,"",0,8,0,1,1,1,1,1,1,"",0,0,"",null,null,0,0,0,0,0,0,0,0,0,"",0,0,{"$f":"ROUND(AL363*BC363,2)","v":15911.73},{"$f":"ROUND(AM363*BB363,2)","v":0},0,0,0,0,0,0,0,0,null,null,"","","","","","","","","","","",0,0,1,1,null,null,null,1013,"ШТ","ШТ",1,null,"","","","",null,83667004,8,"Материалы строительные",0,"",1,1100,"Материалы, изделия и конструкции","материалы (03)",null,"",null,132096,15911.73,15911.73,0,0,0,0,0,0,null,null,null,null,null,null,null,null,null,null,null,null,null,null,null,null,null,0,0,0,null,null,null,null,0,0,null,"",null,null,1,null,-1808631667,2,0,-2,0,0,0,0,0,0,0,null,0,0,0,"",0,1,0,null,null,0,0,0,null,"","",null,null,null,null,null,null,"","","","","",null,0,null,null,null,null,null,null,null,null,null,null,null,null,null,null,null,null,null,0]
[17,1,null,null,"","Предельная стоимость ПАО \"Россети Московский регион\"","Стойка СВ 110-5","ШТ",0,0,0,1,1,0,0,0,0,0,0,0,0,0,0,0,0,null,-1,15911.73,15911.73,0,0,0,0,0,0,0,15911.73,15911.73,0,0,0,0,0,0,0,0,0,1,1,null,null,1,1,1,1,"","","","",3,1,"",null,null,1100,0,"",0,8,0,1,1,1,1,1,1,"",0,0,"",null,null,0,0,0,0,0,0,0,0,0,"",0,0,{"$f":"ROUND(AL364*BC364,2)","v":15911.73},{"$f":"ROUND(AM364*BB364,2)","v":0},0,0,0,0,0,0,0,0,null,null,"","","","","","","","","","","",0,0,1,1,null,null,null,1013,"ШТ","ШТ",1,null,"","","","",null,83667004,8,"Материалы строительные",0,"",1,1100,"Материалы, изделия и конструкции","материалы (03)",null,"",null,132096,15911.73,15911.73,0,0,0,0,0,0,null,null,null,null,null,null,null,null,null,null,null,null,null,null,null,null,null,0,0,0,null,null,null,null,0,0,null,"",null,null,1,null,-1808631667,2,0,-2,0,0,0,0,0,0,0,null,0,0,0,"",0,1,0,null,null,0,0,0,null,"","",null,null,null,null,null,null,"","","","","",null,0,null,null,null,null,null,null,null,null,null,null,null,null,null,null,null,null,null,0]
[17,1,null,null,"","ТЦ_20.1.02.18_77_7736281025_12.01.2026_02_66.1","Стяжка Х89 см.21.0112-16","ШТ",0,0,0,1,1,0,0,0,0,0,0,0,0,0,0,0,0,null,-1,4120.9799999999996,4120.9799999999996,{"$f":"ROUND((ET365),2)","v":0},0,0,0,0,0,0,4120.9799999999996,4120.9799999999996,0,0,0,0,0,0,0,0,0,1,1,null,null,1,1,1,1,"","","","",3,1,"ТЦ_20.1.02.18_77_7736281025_12.01.2026_02_66.1",null,null,900,0,"",0,90,0,1,1,1,1,1,1,"",0,0,"",null,null,0,0,0,0,0,0,0,0,0,"",0,0,{"$f":"ROUND(AL365,2)","v":4120.9799999999996},{"$f":"ROUND(AM365,2)","v":0},0,0,0,0,0,0,{"$f":"0","v":0},{"$f":"0","v":0},null,null,"","","","","","","","","","","",0,0,1,1,null,null,null,1013,"ШТ","ШТ",1,null,"","","","",null,83667261,90,"Материалы, отсутствующие в СНБ (Строительные)",0,"",1,900,"Материалы, отсутствующие в СНБ (Строительные)","МР КА Строительные",null,"",null,132112,0,4120.9799999999996,0,0,0,0,0,0,null,null,null,null,null,null,null,null,null,null,null,null,null,null,null,null,null,0,0,0,null,null,null,null,0,0,null,"",null,null,1,null,79949208,2,0,-2,0,0,0,0,0,0,0,null,0,0,0,"",0,1,0,null,null,0,0,0,null,"","",null,null,null,null,null,null,"","","","","",null,0,null,null,null,null,null,null,null,null,null,null,null,null,null,null,null,null,null,0]
[17,1,null,null,"","ТЦ_20.1.02.18_77_7736281025_12.01.2026_02_66.1","Стяжка Х89 см.21.0112-16","ШТ",0,0,0,1,1,0,0,0,0,0,0,0,0,0,0,0,0,null,-1,4120.9799999999996,4120.9799999999996,0,0,0,0,0,0,0,4120.9799999999996,4120.9799999999996,0,0,0,0,0,0,0,0,0,1,1,null,null,1,1,1,1,"","","","",3,1,"ТЦ_20.1.02.18_77_7736281025_12.01.2026_02_66.1",null,null,900,0,"",0,90,0,1,1,1,1,1,1,"",0,0,"",null,null,0,0,0,0,0,0,0,0,0,"",0,0,4120.9799999999996,0,0,0,0,0,0,0,{"$f":"0","v":0},{"$f":"0","v":0},null,null,"","","","","","","","","","","",0,0,1,1,null,null,null,1013,"ШТ","ШТ",1,null,"","","","",null,83667261,90,"Материалы, отсутствующие в СНБ (Строительные)",0,"",1,900,"Материалы, отсутствующие в СНБ (Строительные)","МР КА Строительные",null,"",null,132112,0,4120.9799999999996,0,0,0,0,0,0,null,null,null,null,null,null,null,null,null,null,null,null,null,null,null,null,null,0,0,0,null,null,null,null,0,0,null,"",null,null,1,null,79949208,2,0,-2,0,0,0,0,0,0,0,null,0,0,0,"",0,1,0,null,null,0,0,0,null,"","",null,null,null,null,null,null,"","","","","",null,0,null,null,null,null,null,null,null,null,null,null,null,null,null,null,null,null,null,0]
[17,1,null,null,"20","ТЦ_20.2.06.00_77_7736281025_12.01.2026_02_43.1","Кронштейн У4","ШТ",0,0,0,4,4,0,0,0,0,0,0,0,0,0,0,0,0,null,85316715,3076.65,3076.65,0,0,0,0,0,0,0,3076.65,3076.65,0,0,0,0,0,0,0,0,0,1,1,null,null,1,1,1,1,"","","","",3,1,"ТЦ_20.2.06.00_77_7736281025_12.01.2026_02_43.1",null,null,900,0,"",0,90,0,1,1,1,1,1,1,"",0,0,"",null,null,0,0,0,20,0,0,0,0,0,"",0,0,3076.65,0,0,0,0,0,0,0,{"$f":"0","v":0},{"$f":"0","v":0},null,null,"","","","","","","","","","","",0,0,1,1,null,null,null,1013,"ШТ","ШТ",1,null,"","","","",null,83667261,90,"Материалы, отсутствующие в СНБ (Строительные)",0,"",1,900,"Материалы, отсутствующие в СНБ (Строительные)","МР КА Строительные",null,"",null,131088,0,3076.65,0,0,0,0,0,0,5,null,null,0,18,null,3076.65,null,null,null,null,null,null,null,null,null,null,0,0,0,null,null,null,null,0,0,null,"",null,null,1,null,-1470241868,2,3,-2,0,0,0,0,0,0,0,null,1,1,0,"",0,1,0,null,null,0,0,0,null,"","",{"$f":"ROUND(ROUND(AL367,2)*I367,2)","v":0},null,null,null,null,null,"","","","","",null,0,null,null,null,null,null,null,null,null,null,null,null,null,null,null,null,null,null,0]
[17,1,null,null,"20","ТЦ_20.2.06.00_77_7736281025_12.01.2026_02_43.1","Кронштейн У4","ШТ",0,0,0,4,4,0,0,0,0,0,0,0,0,0,0,0,0,null,85316656,3076.65,3076.65,0,0,0,0,0,0,0,3076.65,3076.65,0,0,0,0,0,0,0,0,0,1,1,null,null,1,1,1,1,"","","","",3,1,"ТЦ_20.2.06.00_77_7736281025_12.01.2026_02_43.1",null,null,900,0,"",0,90,0,1,1,1,1,1,1,"",0,0,"",null,null,0,0,0,20,0,0,0,0,0,"",0,0,3076.65,0,0,0,0,0,0,0,{"$f":"0","v":0},{"$f":"0","v":0},null,null,"","","","","","","","","","","",0,0,1,1,null,null,null,1013,"ШТ","ШТ",1,null,"","","","",null,83667261,90,"Материалы, отсутствующие в СНБ (Строительные)",0,"",1,900,"Материалы, отсутствующие в СНБ (Строительные)","МР КА Строительные",null,"",null,131088,0,3076.65,0,0,0,0,0,0,5,null,null,0,18,null,3076.65,null,null,null,null,null,null,null,null,null,null,0,0,0,null,null,null,null,0,0,null,"",null,null,1,null,-1470241868,2,3,-2,0,0,0,0,0,0,0,null,1,1,0,"",0,1,0,null,null,0,0,0,null,"","",0,null,null,null,null,null,"","","","","",null,0,null,null,null,null,null,null,null,null,null,null,null,null,null,null,null,null,null,0]
[17,1,null,null,"21","ТЦ_22.2.02.19_77_7736281025_12.01.2026_02_44.1","УПЗ 16","ШТ",0,0,0,3,3,0,0,0,0,0,0,0,0,0,0,0,0,null,85316715,2129.38,2129.38,0,0,0,0,0,0,0,2129.38,2129.38,0,0,0,0,0,0,0,0,0,1,1,null,null,1,1,1,1,"","","","",3,1,"ТЦ_22.2.02.19_77_7736281025_12.01.2026_02_44.1",null,null,900,0,"",0,90,0,1,1,1,1,1,1,"",0,0,"",null,null,0,0,0,21,0,0,0,0,0,"",0,0,2129.38,0,0,0,0,0,0,0,{"$f":"0","v":0},{"$f":"0","v":0},null,null,"","","","","","","","","","","",0,0,1,1,null,null,null,1013,"ШТ","ШТ",1,null,"","","","",null,83667261,90,"Материалы, отсутствующие в СНБ (Строительные)",0,"",1,900,"Материалы, отсутствующие в СНБ (Строительные)","МР КА Строительные",null,"",null,131088,0,2129.38,0,0,0,0,0,0,5,null,null,0,18,null,2129.38,null,null,null,null,null,null,null,null,null,null,0,0,0,null,null,null,null,0,0,null,"",null,null,1,null,-1545385410,2,3,-2,0,0,0,0,0,0,0,null,1,1,0,"",0,1,0,null,null,0,0,0,null,"","",0,null,null,null,null,null,"","","","","",null,0,null,null,null,null,null,null,null,null,null,null,null,null,null,null,null,null,null,0]
[17,1,null,null,"21","ТЦ_22.2.02.19_77_7736281025_12.01.2026_02_44.1","УПЗ 16","ШТ",0,0,0,3,3,0,0,0,0,0,0,0,0,0,0,0,0,null,85316656,2129.38,2129.38,0,0,0,0,0,0,0,2129.38,2129.38,0,0,0,0,0,0,0,0,0,1,1,null,null,1,1,1,1,"","","","",3,1,"ТЦ_22.2.02.19_77_7736281025_12.01.2026_02_44.1",null,null,900,0,"",0,90,0,1,1,1,1,1,1,"",0,0,"",null,null,0,0,0,21,0,0,0,0,0,"",0,0,2129.38,0,0,0,0,0,0,0,{"$f":"0","v":0},{"$f":"0","v":0},null,null,"","","","","","","","","","","",0,0,1,1,null,null,null,1013,"ШТ","ШТ",1,null,"","","","",null,83667261,90,"Материалы, отсутствующие в СНБ (Строительные)",0,"",1,900,"Материалы, отсутствующие в СНБ (Строительные)","МР КА Строительные",null,"",null,131088,0,2129.38,0,0,0,0,0,0,5,null,null,0,18,null,2129.38,null,null,null,null,null,null,null,null,null,null,0,0,0,null,null,null,null,0,0,null,"",null,null,1,null,-1545385410,2,3,-2,0,0,0,0,0,0,0,null,1,1,0,"",0,1,0,null,null,0,0,0,null,"","",0,null,null,null,null,null,"","","","","",null,0,null,null,null,null,null,null,null,null,null,null,null,null,null,null,null,null,null,0]
[17,1,null,null,"22","ТЦ_22.2.02.19_77_7736281025_12.01.2026_02_45.1","УПЗ 16А","ШТ",0,0,0,3,3,0,0,0,0,0,0,0,0,0,0,0,0,null,85316715,3937.79,3937.79,0,0,0,0,0,0,0,3937.79,3937.79,0,0,0,0,0,0,0,0,0,1,1,null,null,1,1,1,1,"","","","",3,1,"ТЦ_22.2.02.19_77_7736281025_12.01.2026_02_45.1",null,null,900,0,"",0,90,0,1,1,1,1,1,1,"",0,0,"",null,null,0,0,0,22,0,0,0,0,0,"",0,0,3937.79,0,0,0,0,0,0,0,{"$f":"0","v":0},{"$f":"0","v":0},null,null,"","","","","","","","","","","",0,0,1,1,null,null,null,1013,"ШТ","ШТ",1,null,"","","","",null,83667261,90,"Материалы, отсутствующие в СНБ (Строительные)",0,"",1,900,"Материалы, отсутствующие в СНБ (Строительные)","МР КА Строительные",null,"",null,131088,0,3937.79,0,0,0,0,0,0,5,null,null,0,18,null,3937.79,null,null,null,null,null,null,null,null,null,null,0,0,0,null,null,null,null,0,0,null,"",null,null,1,null,605032630,2,3,-2,0,0,0,0,0,0,0,null,1,1,0,"",0,1,0,null,null,0,0,0,null,"","",0,null,null,null,null,null,"","","","","",null,0,null,null,null,null,null,null,null,null,null,null,null,null,null,null,null,null,null,0]
[17,1,null,null,"22","ТЦ_22.2.02.19_77_7736281025_12.01.2026_02_45.1","УПЗ 16А","ШТ",0,0,0,3,3,0,0,0,0,0,0,0,0,0,0,0,0,null,85316656,3937.79,3937.79,0,0,0,0,0,0,0,3937.79,3937.79,0,0,0,0,0,0,0,0,0,1,1,null,null,1,1,1,1,"","","","",3,1,"ТЦ_22.2.02.19_77_7736281025_12.01.2026_02_45.1",null,null,900,0,"",0,90,0,1,1,1,1,1,1,"",0,0,"",null,null,0,0,0,22,0,0,0,0,0,"",0,0,3937.79,0,0,0,0,0,0,0,{"$f":"0","v":0},{"$f":"0","v":0},null,null,"","","","","","","","","","","",0,0,1,1,null,null,null,1013,"ШТ","ШТ",1,null,"","","","",null,83667261,90,"Материалы, отсутствующие в СНБ (Строительные)",0,"",1,900,"Материалы, отсутствующие в СНБ (Строительные)","МР КА Строительные",null,"",null,131088,0,3937.79,0,0,0,0,0,0,5,null,null,0,18,null,3937.79,null,null,null,null,null,null,null,null,null,null,0,0,0,null,null,null,null,0,0,null,"",null,null,1,null,605032630,2,3,-2,0,0,0,0,0,0,0,null,1,1,0,"",0,1,0,null,null,0,0,0,null,"","",0,null,null,null,null,null,"","","","","",null,0,null,null,null,null,null,null,null,null,null,null,null,null,null,null,null,null,null,0]
[17,1,null,null,"23","ТЦ_20.1.02.00_77_7736281025_12.01.2026_02_46.1","Заземляющий проводник ЗП6","м",0,0,0,2.2999999999999998,2.2999999999999998,0,0,0,0,0,0,0,0,0,0,0,0,null,85316715,219.21,219.21,0,0,0,0,0,0,0,219.21,219.21,0,0,0,0,0,0,0,0,0,1,1,null,null,1,1,1,1,"","","","",3,1,"ТЦ_20.1.02.00_77_7736281025_12.01.2026_02_46.1",null,null,900,0,"",0,90,0,1,1,1,1,1,1,"",0,0,"",null,null,0,0,0,23,0,0,0,0,0,"",0,0,219.21,0,0,0,0,0,0,0,{"$f":"0","v":0},{"$f":"0","v":0},null,null,"","","","","","","","","","","",0,0,1,1,null,null,null,1003,"м","м",1,null,"","","","",null,83667261,90,"Материалы, отсутствующие в СНБ (Строительные)",0,"",1,900,"Материалы, отсутствующие в СНБ (Строительные)","МР КА Строительные",null,"",null,131088,0,219.21,0,0,0,0,0,0,5,null,null,0,18,null,219.21,null,null,null,null,null,null,null,null,null,null,0,0,0,null,null,null,null,0,0,null,"",null,null,1,null,1027157620,2,3,-2,0,0,0,0,0,0,0,null,1,1,0,"",0,1,0,null,null,0,0,0,null,"","",0,null,null,null,null,null,"","","","","",null,0,null,null,null,null,null,null,null,null,null,null,null,null,null,null,null,null,null,0]
[17,1,null,null,"23","ТЦ_20.1.02.00_77_7736281025_12.01.2026_02_46.1","Заземляющий проводник ЗП6","м",0,0,0,2.2999999999999998,2.2999999999999998,0,0,0,0,0,0,0,0,0,0,0,0,null,85316656,219.21,219.21,0,0,0,0,0,0,0,219.21,219.21,0,0,0,0,0,0,0,0,0,1,1,null,null,1,1,1,1,"","","","",3,1,"ТЦ_20.1.02.00_77_7736281025_12.01.2026_02_46.1",null,null,900,0,"",0,90,0,1,1,1,1,1,1,"",0,0,"",null,null,0,0,0,23,0,0,0,0,0,"",0,0,219.21,0,0,0,0,0,0,0,{"$f":"0","v":0},{"$f":"0","v":0},null,null,"","","","","","","","","","","",0,0,1,1,null,null,null,1003,"м","м",1,null,"","","","",null,83667261,90,"Материалы, отсутствующие в СНБ (Строительные)",0,"",1,900,"Материалы, отсутствующие в СНБ (Строительные)","МР КА Строительные",null,"",null,131088,0,219.21,0,0,0,0,0,0,5,null,null,0,18,null,219.21,null,null,null,null,null,null,null,null,null,null,0,0,0,null,null,null,null,0,0,null,"",null,null,1,null,1027157620,2,3,-2,0,0,0,0,0,0,0,null,1,1,0,"",0,1,0,null,null,0,0,0,null,"","",0,null,null,null,null,null,"","","","","",null,0,null,null,null,null,null,null,null,null,null,null,null,null,null,null,null,null,null,0]
[17,1,null,null,"24","ТЦ_08.3.02.00_77_7736281025_12.01.2026_02_47.1","Металлическая лента F20.7","м",0,0,0,28,28,0,0,0,0,0,0,0,0,0,0,0,0,null,85316715,199.63,199.63,0,0,0,0,0,0,0,199.63,199.63,0,0,0,0,0,0,0,0,0,1,1,null,null,1,1,1,1,"","","","",3,1,"ТЦ_08.3.02.00_77_7736281025_12.01.2026_02_47.1",null,null,900,0,"",0,90,0,1,1,1,1,1,1,"",0,0,"",null,null,0,0,0,24,0,0,0,0,0,"",0,0,199.63,0,0,0,0,0,0,0,{"$f":"0","v":0},{"$f":"0","v":0},null,null,"","","","","","","","","","","",0,0,1,1,null,null,null,1003,"м","м",1,null,"","","","",null,83667261,90,"Материалы, отсутствующие в СНБ (Строительные)",0,"",1,900,"Материалы, отсутствующие в СНБ (Строительные)","МР КА Строительные",null,"",null,131088,0,199.63,0,0,0,0,0,0,5,null,null,0,18,null,199.63,null,null,null,null,null,null,null,null,null,null,0,0,0,null,null,null,null,0,0,null,"",null,null,1,null,1914823060,2,3,-2,0,0,0,0,0,0,0,null,1,1,0,"",0,1,0,null,null,0,0,0,null,"","",0,null,null,null,null,null,"","","","","",null,0,null,null,null,null,null,null,null,null,null,null,null,null,null,null,null,null,null,0]
[17,1,null,null,"24","ТЦ_08.3.02.00_77_7736281025_12.01.2026_02_47.1","Металлическая лента F20.7","м",0,0,0,28,28,0,0,0,0,0,0,0,0,0,0,0,0,null,85316656,199.63,199.63,0,0,0,0,0,0,0,199.63,199.63,0,0,0,0,0,0,0,0,0,1,1,null,null,1,1,1,1,"","","","",3,1,"ТЦ_08.3.02.00_77_7736281025_12.01.2026_02_47.1",null,null,900,0,"",0,90,0,1,1,1,1,1,1,"",0,0,"",null,null,0,0,0,24,0,0,0,0,0,"",0,0,199.63,0,0,0,0,0,0,0,{"$f":"0","v":0},{"$f":"0","v":0},null,null,"","","","","","","","","","","",0,0,1,1,null,null,null,1003,"м","м",1,null,"","","","",null,83667261,90,"Материалы, отсутствующие в СНБ (Строительные)",0,"",1,900,"Материалы, отсутствующие в СНБ (Строительные)","МР КА Строительные",null,"",null,131088,0,199.63,0,0,0,0,0,0,5,null,null,0,18,null,199.63,null,null,null,null,null,null,null,null,null,null,0,0,0,null,null,null,null,0,0,null,"",null,null,1,null,1914823060,2,3,-2,0,0,0,0,0,0,0,null,1,1,0,"",0,1,0,null,null,0,0,0,null,"","",0,null,null,null,null,null,"","","","","",null,0,null,null,null,null,null,null,null,null,null,null,null,null,null,null,null,null,null,0]
[17,1,null,null,"25","ТЦ_22.2.02.15_77_7736281025_12.01.2026_02_48.1","Скрепа С 20","ШТ",0,0,0,16,16,0,0,0,0,0,0,0,0,0,0,0,0,null,85316715,43.21,43.21,0,0,0,0,0,0,0,43.21,43.21,0,0,0,0,0,0,0,0,0,1,1,null,null,1,1,1,1,"","","","",3,1,"ТЦ_22.2.02.15_77_7736281025_12.01.2026_02_48.1",null,null,900,0,"",0,90,0,1,1,1,1,1,1,"",0,0,"",null,null,0,0,0,25,0,0,0,0,0,"",0,0,43.21,0,0,0,0,0,0,0,{"$f":"0","v":0},{"$f":"0","v":0},null,null,"","","","","","","","","","","",0,0,1,1,null,null,null,1013,"ШТ","ШТ",1,null,"","","","",null,83667261,90,"Материалы, отсутствующие в СНБ (Строительные)",0,"",1,900,"Материалы, отсутствующие в СНБ (Строительные)","МР КА Строительные",null,"",null,131088,0,43.21,0,0,0,0,0,0,5,null,null,0,18,null,43.21,null,null,null,null,null,null,null,null,null,null,0,0,0,null,null,null,null,0,0,null,"",null,null,1,null,1563139761,2,3,-2,0,0,0,0,0,0,0,null,1,1,0,"",0,1,0,null,null,0,0,0,null,"","",0,null,null,null,null,null,"","","","","",null,0,null,null,null,null,null,null,null,null,null,null,null,null,null,null,null,null,null,0]
[17,1,null,null,"25","ТЦ_22.2.02.15_77_7736281025_12.01.2026_02_48.1","Скрепа С 20","ШТ",0,0,0,16,16,0,0,0,0,0,0,0,0,0,0,0,0,null,85316656,43.21,43.21,0,0,0,0,0,0,0,43.21,43.21,0,0,0,0,0,0,0,0,0,1,1,null,null,1,1,1,1,"","","","",3,1,"ТЦ_22.2.02.15_77_7736281025_12.01.2026_02_48.1",null,null,900,0,"",0,90,0,1,1,1,1,1,1,"",0,0,"",null,null,0,0,0,25,0,0,0,0,0,"",0,0,43.21,0,0,0,0,0,0,0,{"$f":"0","v":0},{"$f":"0","v":0},null,null,"","","","","","","","","","","",0,0,1,1,null,null,null,1013,"ШТ","ШТ",1,null,"","","","",null,83667261,90,"Материалы, отсутствующие в СНБ (Строительные)",0,"",1,900,"Материалы, отсутствующие в СНБ (Строительные)","МР КА Строительные",null,"",null,131088,0,43.21,0,0,0,0,0,0,5,null,null,0,18,null,43.21,null,null,null,null,null,null,null,null,null,null,0,0,0,null,null,null,null,0,0,null,"",null,null,1,null,1563139761,2,3,-2,0,0,0,0,0,0,0,null,1,1,0,"",0,1,0,null,null,0,0,0,null,"","",0,null,null,null,null,null,"","","","","",null,0,null,null,null,null,null,null,null,null,null,null,null,null,null,null,null,null,null,0]
[17,1,null,null,"26","ТЦ_25.2.01.02_77_7736281025_12.01.2026_02_49.1","Бугель B 20","ШТ",0,0,0,12,12,0,0,0,0,0,0,0,0,0,0,0,0,null,85316715,57,57,0,0,0,0,0,0,0,57,57,0,0,0,0,0,0,0,0,0,1,1,null,null,1,1,1,1,"","","","",3,1,"ТЦ_25.2.01.02_77_7736281025_12.01.2026_02_49.1",null,null,900,0,"",0,90,0,1,1,1,1,1,1,"",0,0,"",null,null,0,0,0,26,0,0,0,0,0,"",0,0,57,0,0,0,0,0,0,0,{"$f":"0","v":0},{"$f":"0","v":0},null,null,"","","","","","","","","","","",0,0,1,1,null,null,null,1013,"ШТ","ШТ",1,null,"","","","",null,83667261,90,"Материалы, отсутствующие в СНБ (Строительные)",0,"",1,900,"Материалы, отсутствующие в СНБ (Строительные)","МР КА Строительные",null,"",null,131088,0,57,0,0,0,0,0,0,5,null,null,0,18,null,57,null,null,null,null,null,null,null,null,null,null,0,0,0,null,null,null,null,0,0,null,"",null,null,1,null,276363477,2,3,-2,0,0,0,0,0,0,0,null,1,1,0,"",0,1,0,null,null,0,0,0,null,"","",0,null,null,null,null,null,"","","","","",null,0,null,null,null,null,null,null,null,null,null,null,null,null,null,null,null,null,null,0]
[17,1,null,null,"26","ТЦ_25.2.01.02_77_7736281025_12.01.2026_02_49.1","Бугель B 20","ШТ",0,0,0,12,12,0,0,0,0,0,0,0,0,0,0,0,0,null,85316656,57,57,0,0,0,0,0,0,0,57,57,0,0,0,0,0,0,0,0,0,1,1,null,null,1,1,1,1,"","","","",3,1,"ТЦ_25.2.01.02_77_7736281025_12.01.2026_02_49.1",null,null,900,0,"",0,90,0,1,1,1,1,1,1,"",0,0,"",null,null,0,0,0,26,0,0,0,0,0,"",0,0,57,0,0,0,0,0,0,0,{"$f":"0","v":0},{"$f":"0","v":0},null,null,"","","","","","","","","","","",0,0,1,1,null,null,null,1013,"ШТ","ШТ",1,null,"","","","",null,83667261,90,"Материалы, отсутствующие в СНБ (Строительные)",0,"",1,900,"Материалы, отсутствующие в СНБ (Строительные)","МР КА Строительные",null,"",null,131088,0,57,0,0,0,0,0,0,5,null,null,0,18,null,57,null,null,null,null,null,null,null,null,null,null,0,0,0,null,null,null,null,0,0,null,"",null,null,1,null,276363477,2,3,-2,0,0,0,0,0,0,0,null,1,1,0,"",0,1,0,null,null,0,0,0,null,"","",0,null,null,null,null,null,"","","","","",null,0,null,null,null,null,null,null,null,null,null,null,null,null,null,null,null,null,null,0]
[17,1,null,null,"27","ТЦ_59.1.25.00_77_7736281025_12.01.2026_02_50.1","Кронштейн анкерный СA 2000","ШТ",0,0,0,6,6,0,0,0,0,0,0,0,0,0,0,0,0,null,85316715,374.22,374.22,0,0,0,0,0,0,0,374.22,374.22,0,0,0,0,0,0,0,0,0,1,1,null,null,1,1,1,1,"","","","",3,1,"ТЦ_59.1.25.00_77_7736281025_12.01.2026_02_50.1",null,null,900,0,"",0,90,0,1,1,1,1,1,1,"",0,0,"",null,null,0,0,0,27,0,0,0,0,0,"",0,0,374.22,0,0,0,0,0,0,0,{"$f":"0","v":0},{"$f":"0","v":0},null,null,"","","","","","","","","","","",0,0,1,1,null,null,null,1013,"ШТ","ШТ",1,null,"","","","",null,83667261,90,"Материалы, отсутствующие в СНБ (Строительные)",0,"",1,900,"Материалы, отсутствующие в СНБ (Строительные)","МР КА Строительные",null,"",null,131088,0,374.22,0,0,0,0,0,0,5,null,null,0,18,null,374.22,null,null,null,null,null,null,null,null,null,null,0,0,0,null,null,null,null,0,0,null,"",null,null,1,null,-1001055491,2,3,-2,0,0,0,0,0,0,0,null,1,1,0,"",0,1,0,null,null,0,0,0,null,"","",0,null,null,null,null,null,"","","","","",null,0,null,null,null,null,null,null,null,null,null,null,null,null,null,null,null,null,null,0]
[17,1,null,null,"27","ТЦ_59.1.25.00_77_7736281025_12.01.2026_02_50.1","Кронштейн анкерный СA 2000","ШТ",0,0,0,6,6,0,0,0,0,0,0,0,0,0,0,0,0,null,85316656,374.22,374.22,0,0,0,0,0,0,0,374.22,374.22,0,0,0,0,0,0,0,0,0,1,1,null,null,1,1,1,1,"","","","",3,1,"ТЦ_59.1.25.00_77_7736281025_12.01.2026_02_50.1",null,null,900,0,"",0,90,0,1,1,1,1,1,1,"",0,0,"",null,null,0,0,0,27,0,0,0,0,0,"",0,0,374.22,0,0,0,0,0,0,0,{"$f":"0","v":0},{"$f":"0","v":0},null,null,"","","","","","","","","","","",0,0,1,1,null,null,null,1013,"ШТ","ШТ",1,null,"","","","",null,83667261,90,"Материалы, отсутствующие в СНБ (Строительные)",0,"",1,900,"Материалы, отсутствующие в СНБ (Строительные)","МР КА Строительные",null,"",null,131088,0,374.22,0,0,0,0,0,0,5,null,null,0,18,null,374.22,null,null,null,null,null,null,null,null,null,null,0,0,0,null,null,null,null,0,0,null,"",null,null,1,null,-1001055491,2,3,-2,0,0,0,0,0,0,0,null,1,1,0,"",0,1,0,null,null,0,0,0,null,"","",0,null,null,null,null,null,"","","","","",null,0,null,null,null,null,null,null,null,null,null,null,null,null,null,null,null,null,null,0]
[17,1,null,null,"","ТЦ_59.1.25.00_77_7736281025_12.01.2026_02_28.1","Кронштейн анкерный CA 25","ШТ",0,0,0,2,2,{"$f":"ROUND(L383-M383,4)","v":0},{"$f":"ROUND(CP383,2)","v":0},{"$f":"ROUND(CQ383*I383,2)","v":0},{"$f":"ROUND(CR383*I383,2)","v":0},{"$f":"ROUND(CS383*I383,2)","v":0},{"$f":"ROUND(CT383*I383,2)","v":0},{"$f":"ROUND(CU383*I383,2)","v":0},{"$f":"ROUND(CV383*I383,7)","v":0},{"$f":"ROUND(CW383*I383,7)","v":0},{"$f":"ROUND(CX383*I383,2)","v":0},{"$f":"ROUND(CY383,2)","v":0},{"$f":"ROUND(CZ383,2)","v":0},null,-1,{"$f":"ROUND((AC383+AD383+AF383),2)","v":68.89},{"$f":"ROUND((ES383),2)","v":68.89},0,{"$f":"ROUND((EU383),2)","v":0},{"$f":"ROUND((EV383),2)","v":0},{"$f":"ROUND((AP383),2)","v":0},{"$f":"(EW383)","v":0},{"$f":"(EX383)","v":0},{"$f":"(AS383)","v":0},68.89,68.89,0,0,0,0,0,0,0,0,0,1,1,null,null,1,1,1,1,"","","","",3,1,"ТЦ_59.1.25.00_77_7736281025_12.01.2026_02_28.1",null,null,900,0,"",0,90,0,1,1,1,1,1,1,"",0,0,"",null,null,0,0,0,0,0,0,0,0,0,"",0,{"$f":"(P383+Q383+S383+R383)","v":0},68.89,0,{"$f":"ROUND(AN383*BS383,2)","v":0},{"$f":"ROUND(AO383*BA383,2)","v":0},{"$f":"AG383","v":0},{"$f":"AH383","v":0},{"$f":"AI383","v":0},{"$f":"AJ383","v":0},{"$f":"0","v":0},{"$f":"0","v":0},null,null,"","","","","","","","","","","",0,0,1,1,null,null,null,1013,"ШТ","ШТ",1,null,"","","","",null,83667261,90,"Материалы, отсутствующие в СНБ (Строительные)",0,"",1,900,"Материалы, отсутствующие в СНБ (Строительные)","МР КА Строительные",null,"",null,132112,0,68.89,0,0,0,0,0,0,null,null,null,null,null,null,null,null,null,null,null,null,null,null,null,null,null,0,0,0,null,null,null,null,0,0,null,"",null,null,1,null,-320246776,2,0,-2,0,0,{"$f":"ROUND(IF(AND(BH383=3,BI383=3,FS383<>0),P383,0),2)","v":0},{"$f":"ROUND(O383+X383+Y383,2)+GX383","v":0},{"$f":"IF(OR(BI383=0,BI383=1),GM383-GX383,0)","v":0},{"$f":"IF(BI383=2,GM383-GX383,0)","v":0},{"$f":"IF(BI383=4,GM383-GX383,0)","v":0},null,0,0,0,"",{"$f":"ROUND((GT383),2)","v":0},1,{"$f":"ROUND(HC383*I383,2)","v":0},null,null,0,0,{"$f":"GV383*GW383","v":0},null,"","",null,null,null,null,null,null,"","","","","",null,0,null,null,null,null,null,null,null,null,null,null,null,null,null,null,null,null,null,0]
[17,1,null,null,"","ТЦ_59.1.25.00_77_7736281025_12.01.2026_02_28.1","Кронштейн анкерный CA 25","ШТ",0,0,0,2,2,0,0,0,0,0,0,0,0,0,0,0,0,null,-1,68.89,68.89,0,0,0,0,0,0,0,68.89,68.89,0,0,0,0,0,0,0,0,0,1,1,null,null,1,1,1,1,"","","","",3,1,"ТЦ_59.1.25.00_77_7736281025_12.01.2026_02_28.1",null,null,900,0,"",0,90,0,1,1,1,1,1,1,"",0,0,"",null,null,0,0,0,0,0,0,0,0,0,"",0,0,68.89,0,0,0,0,0,0,0,{"$f":"0","v":0},{"$f":"0","v":0},null,null,"","","","","","","","","","","",0,0,1,1,null,null,null,1013,"ШТ","ШТ",1,null,"","","","",null,83667261,90,"Материалы, отсутствующие в СНБ (Строительные)",0,"",1,900,"Материалы, отсутствующие в СНБ (Строительные)","МР КА Строительные",null,"",null,132112,0,68.89,0,0,0,0,0,0,null,null,null,null,null,null,null,null,null,null,null,null,null,null,null,null,null,0,0,0,null,null,null,null,0,0,null,"",null,null,1,null,-320246776,2,0,-2,0,0,0,0,0,0,0,null,0,0,0,"",0,1,0,null,null,0,0,0,null,"","",null,null,null,null,null,null,"","","","","",null,0,null,null,null,null,null,null,null,null,null,null,null,null,null,null,null,null,null,0]
[17,1,null,null,"","ТЦ_20.5.04.00_77_7736281025_12.01.2026_02_65.1","Натяжной зажим РА1500P","ШТ",0,0,0,0,0,0,0,0,0,0,0,0,0,0,0,0,0,null,-1,757.81,757.81,0,0,0,0,0,0,0,757.81,757.81,0,0,0,0,0,0,0,0,0,1,1,null,null,1,1,1,1,"","","","",3,1,"ТЦ_20.5.04.00_77_7736281025_12.01.2026_02_65.1",null,null,900,0,"",0,90,0,1,1,1,1,1,1,"",0,0,"",null,null,0,0,0,0,0,0,0,0,0,"",0,0,757.81,0,0,0,0,0,0,0,{"$f":"0","v":0},{"$f":"0","v":0},null,null,"","","","","","","","","","","",0,0,1,1,null,null,null,1013,"ШТ","ШТ",1,null,"","","","",null,83667261,90,"Материалы, отсутствующие в СНБ (Строительные)",0,"",1,900,"Материалы, отсутствующие в СНБ (Строительные)","МР КА Строительные",null,"",null,132112,0,757.81,0,0,0,0,0,0,null,null,null,null,null,null,null,null,null,null,null,null,null,null,null,null,null,0,0,0,null,null,null,null,0,0,null,"",null,null,1,null,-287439171,2,0,-2,0,0,0,0,0,0,0,null,0,0,0,"",0,1,0,null,null,0,0,0,null,"","",null,null,null,null,null,null,"","","","","",null,0,null,null,null,null,null,null,null,null,null,null,null,null,null,null,null,null,null,0]
[17,1,null,null,"","ТЦ_20.5.04.00_77_7736281025_12.01.2026_02_65.1","Натяжной зажим РА1500P","ШТ",0,0,0,0,0,0,0,0,0,0,0,0,0,0,0,0,0,null,-1,757.81,757.81,0,0,0,0,0,0,0,757.81,757.81,0,0,0,0,0,0,0,0,0,1,1,null,null,1,1,1,1,"","","","",3,1,"ТЦ_20.5.04.00_77_7736281025_12.01.2026_02_65.1",null,null,900,0,"",0,90,0,1,1,1,1,1,1,"",0,0,"",null,null,0,0,0,0,0,0,0,0,0,"",0,0,757.81,0,0,0,0,0,0,0,{"$f":"0","v":0},{"$f":"0","v":0},null,null,"","","","","","","","","","","",0,0,1,1,null,null,null,1013,"ШТ","ШТ",1,null,"","","","",null,83667261,90,"Материалы, отсутствующие в СНБ (Строительные)",0,"",1,900,"Материалы, отсутствующие в СНБ (Строительные)","МР КА Строительные",null,"",null,132112,0,757.81,0,0,0,0,0,0,null,null,null,null,null,null,null,null,null,null,null,null,null,null,null,null,null,0,0,0,null,null,null,null,0,0,null,"",null,null,1,null,-287439171,2,0,-2,0,0,0,0,0,0,0,null,0,0,0,"",0,1,0,null,null,0,0,0,null,"","",null,null,null,null,null,null,"","","","","",null,0,null,null,null,null,null,null,null,null,null,null,null,null,null,null,null,null,null,0]
[17,1,null,null,"28","ТЦ_20.5.04.00_77_7736281025_12.01.2026_02_51.1","Натяжной зажим РА2000P","ШТ",0,0,0,6,6,0,0,0,0,0,0,0,0,0,0,0,0,null,85316715,1127.31,1127.31,0,0,0,0,0,0,0,1127.31,1127.31,0,0,0,0,0,0,0,0,0,1,1,null,null,1,1,1,1,"","","","",3,1,"ТЦ_20.5.04.00_77_7736281025_12.01.2026_02_51.1",null,null,900,0,"",0,90,0,1,1,1,1,1,1,"",0,0,"",null,null,0,0,0,28,0,0,0,0,0,"",0,0,1127.31,0,0,0,0,0,0,0,{"$f":"0","v":0},{"$f":"0","v":0},null,null,"","","","","","","","","","","",0,0,1,1,null,null,null,1013,"ШТ","ШТ",1,null,"","","","",null,83667261,90,"Материалы, отсутствующие в СНБ (Строительные)",0,"",1,900,"Материалы, отсутствующие в СНБ (Строительные)","МР КА Строительные",null,"",null,131088,0,1127.31,0,0,0,0,0,0,5,null,null,0,18,null,1127.31,null,null,null,null,null,null,null,null,null,null,0,0,0,null,null,null,null,0,0,null,"",null,null,1,null,-1868457209,2,3,-2,0,0,0,0,0,0,0,null,1,1,0,"",0,1,0,null,null,0,0,0,null,"","",{"$f":"ROUND(ROUND(AL387,2)*I387,2)","v":0},null,null,null,null,null,"","","","","",null,0,null,null,null,null,null,null,null,null,null,null,null,null,null,null,null,null,null,0]
[17,1,null,null,"28","ТЦ_20.5.04.00_77_7736281025_12.01.2026_02_51.1","Натяжной зажим РА2000P","ШТ",0,0,0,6,6,0,0,0,0,0,0,0,0,0,0,0,0,null,85316656,1127.31,1127.31,0,0,0,0,0,0,0,1127.31,1127.31,0,0,0,0,0,0,0,0,0,1,1,null,null,1,1,1,1,"","","","",3,1,"ТЦ_20.5.04.00_77_7736281025_12.01.2026_02_51.1",null,null,900,0,"",0,90,0,1,1,1,1,1,1,"",0,0,"",null,null,0,0,0,28,0,0,0,0,0,"",0,0,1127.31,0,0,0,0,0,0,0,{"$f":"0","v":0},{"$f":"0","v":0},null,null,"","","","","","","","","","","",0,0,1,1,null,null,null,1013,"ШТ","ШТ",1,null,"","","","",null,83667261,90,"Материалы, отсутствующие в СНБ (Строительные)",0,"",1,900,"Материалы, отсутствующие в СНБ (Строительные)","МР КА Строительные",null,"",null,131088,0,1127.31,0,0,0,0,0,0,5,null,null,0,18,null,1127.31,null,null,null,null,null,null,null,null,null,null,0,0,0,null,null,null,null,0,0,null,"",null,null,1,null,-1868457209,2,3,-2,0,0,0,0,0,0,0,null,1,1,0,"",0,1,0,null,null,0,0,0,null,"","",{"$f":"ROUND(ROUND(AL388,2)*I388,2)","v":0},null,null,null,null,null,"","","","","",null,0,null,null,null,null,null,null,null,null,null,null,null,null,null,null,null,null,null,0]
[17,1,null,null,"","ТЦ_20.5.04.00_77_7736281025_12.01.2026_02_29.1","Натяжной зажим PA 25S","ШТ",0,0,0,2,2,0,0,0,0,0,0,0,0,0,0,0,0,null,-1,122.13,122.13,0,0,0,0,0,0,0,122.13,122.13,0,0,0,0,0,0,0,0,0,1,1,null,null,1,1,1,1,"","","","",3,1,"ТЦ_20.5.04.00_77_7736281025_12.01.2026_02_29.1",null,null,900,0,"",0,90,0,1,1,1,1,1,1,"",0,0,"",null,null,0,0,0,0,0,0,0,0,0,"",0,0,122.13,0,0,0,0,0,0,0,{"$f":"0","v":0},{"$f":"0","v":0},null,null,"","","","","","","","","","","",0,0,1,1,null,null,null,1013,"ШТ","ШТ",1,null,"","","","",null,83667261,90,"Материалы, отсутствующие в СНБ (Строительные)",0,"",1,900,"Материалы, отсутствующие в СНБ (Строительные)","МР КА Строительные",null,"",null,132112,0,122.13,0,0,0,0,0,0,null,null,null,null,null,null,null,null,null,null,null,null,null,null,null,null,null,0,0,0,null,null,null,null,0,0,null,"",null,null,1,null,-1039263425,2,0,-2,0,0,0,0,0,0,0,null,0,0,0,"",0,1,0,null,null,0,0,0,null,"","",null,null,null,null,null,null,"","","","","",null,0,null,null,null,null,null,null,null,null,null,null,null,null,null,null,null,null,null,0]
[17,1,null,null,"","ТЦ_20.5.04.00_77_7736281025_12.01.2026_02_29.1","Натяжной зажим PA 25S","ШТ",0,0,0,2,2,0,0,0,0,0,0,0,0,0,0,0,0,null,-1,122.13,122.13,0,0,0,0,0,0,0,122.13,122.13,0,0,0,0,0,0,0,0,0,1,1,null,null,1,1,1,1,"","","","",3,1,"ТЦ_20.5.04.00_77_7736281025_12.01.2026_02_29.1",null,null,900,0,"",0,90,0,1,1,1,1,1,1,"",0,0,"",null,null,0,0,0,0,0,0,0,0,0,"",0,0,122.13,0,0,0,0,0,0,0,{"$f":"0","v":0},{"$f":"0","v":0},null,null,"","","","","","","","","","","",0,0,1,1,null,null,null,1013,"ШТ","ШТ",1,null,"","","","",null,83667261,90,"Материалы, отсутствующие в СНБ (Строительные)",0,"",1,900,"Материалы, отсутствующие в СНБ (Строительные)","МР КА Строительные",null,"",null,132112,0,122.13,0,0,0,0,0,0,null,null,null,null,null,null,null,null,null,null,null,null,null,null,null,null,null,0,0,0,null,null,null,null,0,0,null,"",null,null,1,null,-1039263425,2,0,-2,0,0,0,0,0,0,0,null,0,0,0,"",0,1,0,null,null,0,0,0,null,"","",null,null,null,null,null,null,"","","","","",null,0,null,null,null,null,null,null,null,null,null,null,null,null,null,null,null,null,null,0]
[17,1,null,null,"29","ТЦ_25.2.02.00_77_7736281025_12.01.2026_02_14.1","Комплект промежуточной подвески ES 54-14 P","ШТ",0,0,0,3,3,0,0,0,0,0,0,0,0,0,0,0,0,null,85316715,583.23,583.23,0,0,0,0,0,0,0,583.23,583.23,0,0,0,0,0,0,0,0,0,1,1,null,null,1,1,1,1,"","","","",3,1,"ТЦ_25.2.02.00_77_7736281025_12.01.2026_02_14.1",null,null,900,0,"",0,90,0,1,1,1,1,1,1,"",0,0,"",null,null,0,0,0,29,0,0,0,0,0,"",0,0,583.23,0,0,0,0,0,0,0,{"$f":"0","v":0},{"$f":"0","v":0},null,null,"","","","","","","","","","","",0,0,1,1,null,null,null,1013,"ШТ","ШТ",1,null,"","","","",null,83667261,90,"Материалы, отсутствующие в СНБ (Строительные)",0,"",1,900,"Материалы, отсутствующие в СНБ (Строительные)","МР КА Строительные",null,"",null,131088,0,583.23,0,0,0,0,0,0,5,null,null,0,18,null,583.23,null,null,null,null,null,null,null,null,null,null,0,0,0,null,null,null,null,0,0,null,"",null,null,1,null,570334633,2,3,-2,0,0,0,0,0,0,0,null,1,1,0,"",0,1,0,null,null,0,0,0,null,"","",{"$f":"ROUND(ROUND(AL391,2)*I391,2)","v":0},null,null,null,null,null,"","","","","",null,0,null,null,null,null,null,null,null,null,null,null,null,null,null,null,null,null,null,0]
[17,1,null,null,"29","ТЦ_25.2.02.00_77_7736281025_12.01.2026_02_14.1","Комплект промежуточной подвески ES 54-14 P","ШТ",0,0,0,3,3,0,0,0,0,0,0,0,0,0,0,0,0,null,85316656,583.23,583.23,0,0,0,0,0,0,0,583.23,583.23,0,0,0,0,0,0,0,0,0,1,1,null,null,1,1,1,1,"","","","",3,1,"ТЦ_25.2.02.00_77_7736281025_12.01.2026_02_14.1",null,null,900,0,"",0,90,0,1,1,1,1,1,1,"",0,0,"",null,null,0,0,0,29,0,0,0,0,0,"",0,0,583.23,0,0,0,0,0,0,0,{"$f":"0","v":0},{"$f":"0","v":0},null,null,"","","","","","","","","","","",0,0,1,1,null,null,null,1013,"ШТ","ШТ",1,null,"","","","",null,83667261,90,"Материалы, отсутствующие в СНБ (Строительные)",0,"",1,900,"Материалы, отсутствующие в СНБ (Строительные)","МР КА Строительные",null,"",null,131088,0,583.23,0,0,0,0,0,0,5,null,null,0,18,null,583.23,null,null,null,null,null,null,null,null,null,null,0,0,0,null,null,null,null,0,0,null,"",null,null,1,null,570334633,2,3,-2,0,0,0,0,0,0,0,null,1,1,0,"",0,1,0,null,null,0,0,0,null,"","",0,null,null,null,null,null,"","","","","",null,0,null,null,null,null,null,null,null,null,null,null,null,null,null,null,null,null,null,0]
[17,1,null,null,"30","ТЦ_25.2.01.06_77_7736281025_12.01.2026_02_53.1","СВР-1","ШТ",0,0,0,6,6,0,0,0,0,0,0,0,0,0,0,0,0,null,85316715,660.74,660.74,0,0,0,0,0,0,0,660.74,660.74,0,0,0,0,0,0,0,0,0,1,1,null,null,1,1,1,1,"","","","",3,1,"ТЦ_25.2.01.06_77_7736281025_12.01.2026_02_53.1",null,null,900,0,"",0,90,0,1,1,1,1,1,1,"",0,0,"",null,null,0,0,0,30,0,0,0,0,0,"",0,0,660.74,0,0,0,0,0,0,0,{"$f":"0","v":0},{"$f":"0","v":0},null,null,"","","","","","","","","","","",0,0,1,1,null,null,null,1013,"ШТ","ШТ",1,null,"","","","",null,83667261,90,"Материалы, отсутствующие в СНБ (Строительные)",0,"",1,900,"Материалы, отсутствующие в СНБ (Строительные)","МР КА Строительные",null,"",null,131088,0,660.74,0,0,0,0,0,0,5,null,null,0,18,null,660.74,null,null,null,null,null,null,null,null,null,null,0,0,0,null,null,null,null,0,0,null,"",null,null,1,null,1370368709,2,3,-2,0,0,0,0,0,0,0,null,1,1,0,"",0,1,0,null,null,0,0,0,null,"","",0,null,null,null,null,null,"","","","","",null,0,null,null,null,null,null,null,null,null,null,null,null,null,null,null,null,null,null,0]
[17,1,null,null,"30","ТЦ_25.2.01.06_77_7736281025_12.01.2026_02_53.1","СВР-1","ШТ",0,0,0,6,6,0,0,0,0,0,0,0,0,0,0,0,0,null,85316656,660.74,660.74,0,0,0,0,0,0,0,660.74,660.74,0,0,0,0,0,0,0,0,0,1,1,null,null,1,1,1,1,"","","","",3,1,"ТЦ_25.2.01.06_77_7736281025_12.01.2026_02_53.1",null,null,900,0,"",0,90,0,1,1,1,1,1,1,"",0,0,"",null,null,0,0,0,30,0,0,0,0,0,"",0,0,660.74,0,0,0,0,0,0,0,{"$f":"0","v":0},{"$f":"0","v":0},null,null,"","","","","","","","","","","",0,0,1,1,null,null,null,1013,"ШТ","ШТ",1,null,"","","","",null,83667261,90,"Материалы, отсутствующие в СНБ (Строительные)",0,"",1,900,"Материалы, отсутствующие в СНБ (Строительные)","МР КА Строительные",null,"",null,131088,0,660.74,0,0,0,0,0,0,5,null,null,0,18,null,660.74,null,null,null,null,null,null,null,null,null,null,0,0,0,null,null,null,null,0,0,null,"",null,null,1,null,1370368709,2,3,-2,0,0,0,0,0,0,0,null,1,1,0,"",0,1,0,null,null,0,0,0,null,"","",0,null,null,null,null,null,"","","","","",null,0,null,null,null,null,null,null,null,null,null,null,null,null,null,null,null,null,null,0]
[17,1,null,null,"31","ТЦ_25.2.01.06_77_7736281025_12.01.2026_02_54.1","Плашечный зажим ПС-1-1","ШТ",0,0,0,18,18,0,0,0,0,0,0,0,0,0,0,0,0,null,85316715,112.73,112.73,0,0,0,0,0,0,0,112.73,112.73,0,0,0,0,0,0,0,0,0,1,1,null,null,1,1,1,1,"","","","",3,1,"ТЦ_25.2.01.06_77_7736281025_12.01.2026_02_54.1",null,null,900,0,"",0,90,0,1,1,1,1,1,1,"",0,0,"",null,null,0,0,0,31,0,0,0,0,0,"",0,0,112.73,0,0,0,0,0,0,0,{"$f":"0","v":0},{"$f":"0","v":0},null,null,"","","","","","","","","","","",0,0,1,1,null,null,null,1013,"ШТ","ШТ",1,null,"","","","",null,83667261,90,"Материалы, отсутствующие в СНБ (Строительные)",0,"",1,900,"Материалы, отсутствующие в СНБ (Строительные)","МР КА Строительные",null,"",null,131088,0,112.73,0,0,0,0,0,0,5,null,null,0,18,null,112.73,null,null,null,null,null,null,null,null,null,null,0,0,0,null,null,null,null,0,0,null,"",null,null,1,null,268191890,2,3,-2,0,0,0,0,0,0,0,null,1,1,0,"",0,1,0,null,null,0,0,0,null,"","",0,null,null,null,null,null,"","","","","",null,0,null,null,null,null,null,null,null,null,null,null,null,null,null,null,null,null,null,0]
[17,1,null,null,"31","ТЦ_25.2.01.06_77_7736281025_12.01.2026_02_54.1","Плашечный зажим ПС-1-1","ШТ",0,0,0,18,18,0,0,0,0,0,0,0,0,0,0,0,0,null,85316656,112.73,112.73,0,0,0,0,0,0,0,112.73,112.73,0,0,0,0,0,0,0,0,0,1,1,null,null,1,1,1,1,"","","","",3,1,"ТЦ_25.2.01.06_77_7736281025_12.01.2026_02_54.1",null,null,900,0,"",0,90,0,1,1,1,1,1,1,"",0,0,"",null,null,0,0,0,31,0,0,0,0,0,"",0,0,112.73,0,0,0,0,0,0,0,{"$f":"0","v":0},{"$f":"0","v":0},null,null,"","","","","","","","","","","",0,0,1,1,null,null,null,1013,"ШТ","ШТ",1,null,"","","","",null,83667261,90,"Материалы, отсутствующие в СНБ (Строительные)",0,"",1,900,"Материалы, отсутствующие в СНБ (Строительные)","МР КА Строительные",null,"",null,131088,0,112.73,0,0,0,0,0,0,5,null,null,0,18,null,112.73,null,null,null,null,null,null,null,null,null,null,0,0,0,null,null,null,null,0,0,null,"",null,null,1,null,268191890,2,3,-2,0,0,0,0,0,0,0,null,1,1,0,"",0,1,0,null,null,0,0,0,null,"","",0,null,null,null,null,null,"","","","","",null,0,null,null,null,null,null,null,null,null,null,null,null,null,null,null,null,null,null,0]
[17,1,null,null,"32","ТЦ_20.1.02.18_77_7736281025_12.01.2026_02_55.1","Стяжной ремешок CSL 180","ШТ",0,0,0,16,16,0,0,0,0,0,0,0,0,0,0,0,0,null,85316715,14.09,14.09,{"$f":"ROUND((ET397),2)","v":0},0,0,0,0,0,0,14.09,14.09,0,0,0,0,0,0,0,0,0,1,1,null,null,1,1,1,1,"","","","",3,1,"ТЦ_20.1.02.18_77_7736281025_12.01.2026_02_55.1",null,null,900,0,"",0,90,0,1,1,1,1,1,1,"",0,0,"",null,null,0,0,0,32,0,0,0,0,0,"",0,0,{"$f":"ROUND(AL397,2)","v":14.09},{"$f":"ROUND(AM397,2)","v":0},0,0,0,0,0,0,{"$f":"0","v":0},{"$f":"0","v":0},null,null,"","","","","","","","","","","",0,0,1,1,null,null,null,1013,"ШТ","ШТ",1,null,"","","","",null,83667261,90,"Материалы, отсутствующие в СНБ (Строительные)",0,"",1,900,"Материалы, отсутствующие в СНБ (Строительные)","МР КА Строительные",null,"",null,131088,0,14.09,0,0,0,0,0,0,5,null,null,0,18,null,14.09,null,null,null,null,null,null,null,null,null,null,0,0,0,null,null,null,null,0,0,null,"",null,null,1,null,-1799424492,2,3,-2,0,0,0,0,0,0,0,null,1,1,0,"",0,1,0,null,null,0,0,0,null,"","",0,null,null,null,null,null,"","","","","",null,0,null,null,null,null,null,null,null,null,null,null,null,null,null,null,null,null,null,0]
[17,1,null,null,"32","ТЦ_20.1.02.18_77_7736281025_12.01.2026_02_55.1","Стяжной ремешок CSL 180","ШТ",0,0,0,16,16,0,0,0,0,0,0,0,0,0,0,0,0,null,85316656,14.09,14.09,0,0,0,0,0,0,0,14.09,14.09,0,0,0,0,0,0,0,0,0,1,1,null,null,1,1,1,1,"","","","",3,1,"ТЦ_20.1.02.18_77_7736281025_12.01.2026_02_55.1",null,null,900,0,"",0,90,0,1,1,1,1,1,1,"",0,0,"",null,null,0,0,0,32,0,0,0,0,0,"",0,0,14.09,0,0,0,0,0,0,0,{"$f":"0","v":0},{"$f":"0","v":0},null,null,"","","","","","","","","","","",0,0,1,1,null,null,null,1013,"ШТ","ШТ",1,null,"","","","",null,83667261,90,"Материалы, отсутствующие в СНБ (Строительные)",0,"",1,900,"Материалы, отсутствующие в СНБ (Строительные)","МР КА Строительные",null,"",null,131088,0,14.09,0,0,0,0,0,0,5,null,null,0,18,null,14.09,null,null,null,null,null,null,null,null,null,null,0,0,0,null,null,null,null,0,0,null,"",null,null,1,null,-1799424492,2,3,-2,0,0,0,0,0,0,0,null,1,1,0,"",0,1,0,null,null,0,0,0,null,"","",0,null,null,null,null,null,"","","","","",null,0,null,null,null,null,null,null,null,null,null,null,null,null,null,null,null,null,null,0]
[17,1,null,null,"33","ТЦ_59.1.24.00_77_7736281025_12.01.2026_02_18.1","Защитный колпачек CE 25-150","ШТ",0,0,0,4,4,0,0,0,0,0,0,0,0,0,0,0,0,null,85316715,37.58,37.58,0,0,0,0,0,0,0,37.58,37.58,0,0,0,0,0,0,0,0,0,1,1,null,null,1,1,1,1,"","","","",3,1,"ТЦ_59.1.24.00_77_7736281025_12.01.2026_02_18.1",null,null,900,0,"",0,90,0,1,1,1,1,1,1,"",0,0,"",null,null,0,0,0,33,0,0,0,0,0,"",0,0,37.58,0,0,0,0,0,0,0,{"$f":"0","v":0},{"$f":"0","v":0},null,null,"","","","","","","","","","","",0,0,1,1,null,null,null,1013,"ШТ","ШТ",1,null,"","","","",null,83667261,90,"Материалы, отсутствующие в СНБ (Строительные)",0,"",1,900,"Материалы, отсутствующие в СНБ (Строительные)","МР КА Строительные",null,"",null,131088,0,37.58,0,0,0,0,0,0,5,null,null,0,18,null,37.58,null,null,null,null,null,null,null,null,null,null,0,0,0,null,null,null,null,0,0,null,"",null,null,1,null,896860990,2,3,-2,0,0,0,0,0,0,0,null,1,1,0,"",0,1,0,null,null,0,0,0,null,"","",0,null,null,null,null,null,"","","","","",null,0,null,null,null,null,null,null,null,null,null,null,null,null,null,null,null,null,null,0]
[17,1,null,null,"33","ТЦ_59.1.24.00_77_7736281025_12.01.2026_02_18.1","Защитный колпачек CE 25-150","ШТ",0,0,0,4,4,0,0,0,0,0,0,0,0,0,0,0,0,null,85316656,37.58,37.58,0,0,0,0,0,0,0,37.58,37.58,0,0,0,0,0,0,0,0,0,1,1,null,null,1,1,1,1,"","","","",3,1,"ТЦ_59.1.24.00_77_7736281025_12.01.2026_02_18.1",null,null,900,0,"",0,90,0,1,1,1,1,1,1,"",0,0,"",null,null,0,0,0,33,0,0,0,0,0,"",0,0,37.58,0,0,0,0,0,0,0,{"$f":"0","v":0},{"$f":"0","v":0},null,null,"","","","","","","","","","","",0,0,1,1,null,null,null,1013,"ШТ","ШТ",1,null,"","","","",null,83667261,90,"Материалы, отсутствующие в СНБ (Строительные)",0,"",1,900,"Материалы, отсутствующие в СНБ (Строительные)","МР КА Строительные",null,"",null,131088,0,37.58,0,0,0,0,0,0,5,null,null,0,18,null,37.58,null,null,null,null,null,null,null,null,null,null,0,0,0,null,null,null,null,0,0,null,"",null,null,1,null,896860990,2,3,-2,0,0,0,0,0,0,0,null,1,1,0,"",0,1,0,null,null,0,0,0,null,"","",0,null,null,null,null,null,"","","","","",null,0,null,null,null,null,null,null,null,null,null,null,null,null,null,null,null,null,null,0]
[17,1,null,null,"","ТЦ_59.1.24.00_77_7736281025_12.01.2026_02_30.1","Защитный колпачек СЕ 6-35","ШТ",0,0,0,4,4,0,0,0,0,0,0,0,0,0,0,0,0,null,-1,34.450000000000003,34.450000000000003,0,0,0,0,0,0,0,34.450000000000003,34.450000000000003,0,0,0,0,0,0,0,0,0,1,1,null,null,1,1,1,1,"","","","",3,1,"ТЦ_59.1.24.00_77_7736281025_12.01.2026_02_30.1",null,null,900,0,"",0,90,0,1,1,1,1,1,1,"",0,0,"",null,null,0,0,0,0,0,0,0,0,0,"",0,0,34.450000000000003,0,0,0,0,0,0,0,{"$f":"0","v":0},{"$f":"0","v":0},null,null,"","","","","","","","","","","",0,0,1,1,null,null,null,1013,"ШТ","ШТ",1,null,"","","","",null,83667261,90,"Материалы, отсутствующие в СНБ (Строительные)",0,"",1,900,"Материалы, отсутствующие в СНБ (Строительные)","МР КА Строительные",null,"",null,132112,0,34.450000000000003,0,0,0,0,0,0,null,null,null,null,null,null,null,null,null,null,null,null,null,null,null,null,null,0,0,0,null,null,null,null,0,0,null,"",null,null,1,null,2133850270,2,0,-2,0,0,0,0,0,0,0,null,0,0,0,"",0,1,0,null,null,0,0,0,null,"","",null,null,null,null,null,null,"","","","","",null,0,null,null,null,null,null,null,null,null,null,null,null,null,null,null,null,null,null,0]
[17,1,null,null,"","ТЦ_59.1.24.00_77_7736281025_12.01.2026_02_30.1","Защитный колпачек СЕ 6-35","ШТ",0,0,0,4,4,0,0,0,0,0,0,0,0,0,0,0,0,null,-1,34.450000000000003,34.450000000000003,0,0,0,0,0,0,0,34.450000000000003,34.450000000000003,0,0,0,0,0,0,0,0,0,1,1,null,null,1,1,1,1,"","","","",3,1,"ТЦ_59.1.24.00_77_7736281025_12.01.2026_02_30.1",null,null,900,0,"",0,90,0,1,1,1,1,1,1,"",0,0,"",null,null,0,0,0,0,0,0,0,0,0,"",0,0,34.450000000000003,0,0,0,0,0,0,0,{"$f":"0","v":0},{"$f":"0","v":0},null,null,"","","","","","","","","","","",0,0,1,1,null,null,null,1013,"ШТ","ШТ",1,null,"","","","",null,83667261,90,"Материалы, отсутствующие в СНБ (Строительные)",0,"",1,900,"Материалы, отсутствующие в СНБ (Строительные)","МР КА Строительные",null,"",null,132112,0,34.450000000000003,0,0,0,0,0,0,null,null,null,null,null,null,null,null,null,null,null,null,null,null,null,null,null,0,0,0,null,null,null,null,0,0,null,"",null,null,1,null,2133850270,2,0,-2,0,0,0,0,0,0,0,null,0,0,0,"",0,1,0,null,null,0,0,0,null,"","",null,null,null,null,null,null,"","","","","",null,0,null,null,null,null,null,null,null,null,null,null,null,null,null,null,null,null,null,0]
[17,1,null,null,"34","ТЦ_20.2.05.00_77_7736281025_12.01.2026_02_56.1","Бандаж дистанционный BIC-120","ШТ",0,0,0,1,1,0,0,0,0,0,0,0,0,0,0,0,0,null,85316715,111.96,111.96,0,0,0,0,0,0,0,111.96,111.96,0,0,0,0,0,0,0,0,0,1,1,null,null,1,1,1,1,"","","","",3,1,"ТЦ_20.2.05.00_77_7736281025_12.01.2026_02_56.1",null,null,900,0,"",0,90,0,1,1,1,1,1,1,"",0,0,"",null,null,0,0,0,34,0,0,0,0,0,"",0,0,111.96,0,0,0,0,0,0,0,{"$f":"0","v":0},{"$f":"0","v":0},null,null,"","","","","","","","","","","",0,0,1,1,null,null,null,1013,"ШТ","ШТ",1,null,"","","","",null,83667261,90,"Материалы, отсутствующие в СНБ (Строительные)",0,"",1,900,"Материалы, отсутствующие в СНБ (Строительные)","МР КА Строительные",null,"",null,131088,0,111.96,0,0,0,0,0,0,5,null,null,0,18,null,111.96,null,null,null,null,null,null,null,null,null,null,0,0,0,null,null,null,null,0,0,null,"",null,null,1,null,215578040,2,3,-2,0,0,0,0,0,0,0,null,1,1,0,"",0,1,0,null,null,0,0,0,null,"","",{"$f":"ROUND(ROUND(AL403,2)*I403,2)","v":0},null,null,null,null,null,"","","","","",null,0,null,null,null,null,null,null,null,null,null,null,null,null,null,null,null,null,null,0]
[17,1,null,null,"34","ТЦ_20.2.05.00_77_7736281025_12.01.2026_02_56.1","Бандаж дистанционный BIC-120","ШТ",0,0,0,1,1,0,0,0,0,0,0,0,0,0,0,0,0,null,85316656,111.96,111.96,0,0,0,0,0,0,0,111.96,111.96,0,0,0,0,0,0,0,0,0,1,1,null,null,1,1,1,1,"","","","",3,1,"ТЦ_20.2.05.00_77_7736281025_12.01.2026_02_56.1",null,null,900,0,"",0,90,0,1,1,1,1,1,1,"",0,0,"",null,null,0,0,0,34,0,0,0,0,0,"",0,0,111.96,0,0,0,0,0,0,0,{"$f":"0","v":0},{"$f":"0","v":0},null,null,"","","","","","","","","","","",0,0,1,1,null,null,null,1013,"ШТ","ШТ",1,null,"","","","",null,83667261,90,"Материалы, отсутствующие в СНБ (Строительные)",0,"",1,900,"Материалы, отсутствующие в СНБ (Строительные)","МР КА Строительные",null,"",null,131088,0,111.96,0,0,0,0,0,0,5,null,null,0,18,null,111.96,null,null,null,null,null,null,null,null,null,null,0,0,0,null,null,null,null,0,0,null,"",null,null,1,null,215578040,2,3,-2,0,0,0,0,0,0,0,null,1,1,0,"",0,1,0,null,null,0,0,0,null,"","",0,null,null,null,null,null,"","","","","",null,0,null,null,null,null,null,null,null,null,null,null,null,null,null,null,null,null,null,0]
[17,1,null,null,"35","ТЦ_22.2.02.19_77_7736281025_12.01.2026_02_57.1","Оборудование для закороток и заземления CMCC","ШТ",0,0,0,4,4,0,0,0,0,0,0,0,0,0,0,0,0,null,85316715,430.58,430.58,0,0,0,0,0,0,0,430.58,430.58,0,0,0,0,0,0,0,0,0,1,1,null,null,1,1,1,1,"","","","",3,1,"ТЦ_22.2.02.19_77_7736281025_12.01.2026_02_57.1",null,null,900,0,"",0,90,0,1,1,1,1,1,1,"",0,0,"",null,null,0,0,0,35,0,0,0,0,0,"",0,0,430.58,0,0,0,0,0,0,0,{"$f":"0","v":0},{"$f":"0","v":0},null,null,"","","","","","","","","","","",0,0,1,1,null,null,null,1013,"ШТ","ШТ",1,null,"","","","",null,83667261,90,"Материалы, отсутствующие в СНБ (Строительные)",0,"",1,900,"Материалы, отсутствующие в СНБ (Строительные)","МР КА Строительные",null,"",null,131088,0,430.58,0,0,0,0,0,0,5,null,null,0,18,null,430.58,null,null,null,null,null,null,null,null,null,null,0,0,0,null,null,null,null,0,0,null,"",null,null,1,null,-467269285,2,3,-2,0,0,0,0,0,0,0,null,1,1,0,"",0,1,0,null,null,0,0,0,null,"","",0,null,null,null,null,null,"","","","","",null,0,null,null,null,null,null,null,null,null,null,null,null,null,null,null,null,null,null,0]
[17,1,null,null,"35","ТЦ_22.2.02.19_77_7736281025_12.01.2026_02_57.1","Оборудование для закороток и заземления CMCC","ШТ",0,0,0,4,4,0,0,0,0,0,0,0,0,0,0,0,0,null,85316656,430.58,430.58,0,0,0,0,0,0,0,430.58,430.58,0,0,0,0,0,0,0,0,0,1,1,null,null,1,1,1,1,"","","","",3,1,"ТЦ_22.2.02.19_77_7736281025_12.01.2026_02_57.1",null,null,900,0,"",0,90,0,1,1,1,1,1,1,"",0,0,"",null,null,0,0,0,35,0,0,0,0,0,"",0,0,430.58,0,0,0,0,0,0,0,{"$f":"0","v":0},{"$f":"0","v":0},null,null,"","","","","","","","","","","",0,0,1,1,null,null,null,1013,"ШТ","ШТ",1,null,"","","","",null,83667261,90,"Материалы, отсутствующие в СНБ (Строительные)",0,"",1,900,"Материалы, отсутствующие в СНБ (Строительные)","МР КА Строительные",null,"",null,131088,0,430.58,0,0,0,0,0,0,5,null,null,0,18,null,430.58,null,null,null,null,null,null,null,null,null,null,0,0,0,null,null,null,null,0,0,null,"",null,null,1,null,-467269285,2,3,-2,0,0,0,0,0,0,0,null,1,1,0,"",0,1,0,null,null,0,0,0,null,"","",0,null,null,null,null,null,"","","","","",null,0,null,null,null,null,null,null,null,null,null,null,null,null,null,null,null,null,null,0]
[17,1,null,null,"36","ТЦ_20.1.01.08_77_7736281025_12.01.2026_02_58.1","Зажим ответвительный CT 70 P","ШТ",0,0,0,4,4,0,0,0,0,0,0,0,0,0,0,0,0,null,85316715,217.64,217.64,0,0,0,0,0,0,0,217.64,217.64,0,0,0,0,0,0,0,0,0,1,1,null,null,1,1,1,1,"","","","",3,1,"ТЦ_20.1.01.08_77_7736281025_12.01.2026_02_58.1",null,null,900,0,"",0,90,0,1,1,1,1,1,1,"",0,0,"",null,null,0,0,0,36,0,0,0,0,0,"",0,0,217.64,0,0,0,0,0,0,0,{"$f":"0","v":0},{"$f":"0","v":0},null,null,"","","","","","","","","","","",0,0,1,1,null,null,null,1013,"ШТ","ШТ",1,null,"","","","",null,83667261,90,"Материалы, отсутствующие в СНБ (Строительные)",0,"",1,900,"Материалы, отсутствующие в СНБ (Строительные)","МР КА Строительные",null,"",null,131088,0,217.64,0,0,0,0,0,0,5,null,null,0,18,null,217.64,null,null,null,null,null,null,null,null,null,null,0,0,0,null,null,null,null,0,0,null,"",null,null,1,null,1819170388,2,3,-2,0,0,0,0,0,0,0,null,1,1,0,"",0,1,0,null,null,0,0,0,null,"","",0,null,null,null,null,null,"","","","","",null,0,null,null,null,null,null,null,null,null,null,null,null,null,null,null,null,null,null,0]
[17,1,null,null,"36","ТЦ_20.1.01.08_77_7736281025_12.01.2026_02_58.1","Зажим ответвительный CT 70 P","ШТ",0,0,0,4,4,0,0,0,0,0,0,0,0,0,0,0,0,null,85316656,217.64,217.64,0,0,0,0,0,0,0,217.64,217.64,0,0,0,0,0,0,0,0,0,1,1,null,null,1,1,1,1,"","","","",3,1,"ТЦ_20.1.01.08_77_7736281025_12.01.2026_02_58.1",null,null,900,0,"",0,90,0,1,1,1,1,1,1,"",0,0,"",null,null,0,0,0,36,0,0,0,0,0,"",0,0,217.64,0,0,0,0,0,0,0,{"$f":"0","v":0},{"$f":"0","v":0},null,null,"","","","","","","","","","","",0,0,1,1,null,null,null,1013,"ШТ","ШТ",1,null,"","","","",null,83667261,90,"Материалы, отсутствующие в СНБ (Строительные)",0,"",1,900,"Материалы, отсутствующие в СНБ (Строительные)","МР КА Строительные",null,"",null,131088,0,217.64,0,0,0,0,0,0,5,null,null,0,18,null,217.64,null,null,null,null,null,null,null,null,null,null,0,0,0,null,null,null,null,0,0,null,"",null,null,1,null,1819170388,2,3,-2,0,0,0,0,0,0,0,null,1,1,0,"",0,1,0,null,null,0,0,0,null,"","",0,null,null,null,null,null,"","","","","",null,0,null,null,null,null,null,null,null,null,null,null,null,null,null,null,null,null,null,0]
[17,1,null,null,"37","ТЦ_20.1.01.08_77_7736281025_12.01.2026_02_59.1","Зажим ответвительный CT 25-150 P","ШТ",0,0,0,4,4,0,0,0,0,0,0,0,0,0,0,0,0,null,85316715,540.16999999999996,540.16999999999996,0,0,0,0,0,0,0,540.16999999999996,540.16999999999996,0,0,0,0,0,0,0,0,0,1,1,null,null,1,1,1,1,"","","","",3,1,"ТЦ_20.1.01.08_77_7736281025_12.01.2026_02_59.1",null,null,900,0,"",0,90,0,1,1,1,1,1,1,"",0,0,"",null,null,0,0,0,37,0,0,0,0,0,"",0,0,540.16999999999996,0,0,0,0,0,0,0,{"$f":"0","v":0},{"$f":"0","v":0},null,null,"","","","","","","","","","","",0,0,1,1,null,null,null,1013,"ШТ","ШТ",1,null,"","","","",null,83667261,90,"Материалы, отсутствующие в СНБ (Строительные)",0,"",1,900,"Материалы, отсутствующие в СНБ (Строительные)","МР КА Строительные",null,"",null,131088,0,540.16999999999996,0,0,0,0,0,0,5,null,null,0,18,null,540.16999999999996,null,null,null,null,null,null,null,null,null,null,0,0,0,null,null,null,null,0,0,null,"",null,null,1,null,664688943,2,3,-2,0,0,0,0,0,0,0,null,1,1,0,"",0,1,0,null,null,0,0,0,null,"","",0,null,null,null,null,null,"","","","","",null,0,null,null,null,null,null,null,null,null,null,null,null,null,null,null,null,null,null,0]
[17,1,null,null,"37","ТЦ_20.1.01.08_77_7736281025_12.01.2026_02_59.1","Зажим ответвительный CT 25-150 P","ШТ",0,0,0,4,4,0,0,0,0,0,0,0,0,0,0,0,0,null,85316656,540.16999999999996,540.16999999999996,0,0,0,0,0,0,0,540.16999999999996,540.16999999999996,0,0,0,0,0,0,0,0,0,1,1,null,null,1,1,1,1,"","","","",3,1,"ТЦ_20.1.01.08_77_7736281025_12.01.2026_02_59.1",null,null,900,0,"",0,90,0,1,1,1,1,1,1,"",0,0,"",null,null,0,0,0,37,0,0,0,0,0,"",0,0,540.16999999999996,0,0,0,0,0,0,0,{"$f":"0","v":0},{"$f":"0","v":0},null,null,"","","","","","","","","","","",0,0,1,1,null,null,null,1013,"ШТ","ШТ",1,null,"","","","",null,83667261,90,"Материалы, отсутствующие в СНБ (Строительные)",0,"",1,900,"Материалы, отсутствующие в СНБ (Строительные)","МР КА Строительные",null,"",null,131088,0,540.16999999999996,0,0,0,0,0,0,5,null,null,0,18,null,540.16999999999996,null,null,null,null,null,null,null,null,null,null,0,0,0,null,null,null,null,0,0,null,"",null,null,1,null,664688943,2,3,-2,0,0,0,0,0,0,0,null,1,1,0,"",0,1,0,null,null,0,0,0,null,"","",0,null,null,null,null,null,"","","","","",null,0,null,null,null,null,null,null,null,null,null,null,null,null,null,null,null,null,null,0]
[17,1,null,null,"","ТЦ_59.1.25.03_77_7736281025_12.01.2026_02_60.1","Наконечник для СИП CPTAU 95","ШТ",0,0,0,4,4,0,0,0,0,0,0,0,0,0,0,0,0,null,-1,576.17999999999995,576.17999999999995,0,0,0,0,0,0,0,576.17999999999995,576.17999999999995,0,0,0,0,0,0,0,0,0,1,1,null,null,1,1,1,1,"","","","",3,1,"ТЦ_59.1.25.03_77_7736281025_12.01.2026_02_60.1",null,null,900,0,"",0,90,0,1,1,1,1,1,1,"",0,0,"",null,null,0,0,0,0,0,0,0,0,0,"",0,0,576.17999999999995,0,0,0,0,0,0,0,{"$f":"0","v":0},{"$f":"0","v":0},null,null,"","","","","","","","","","","",0,0,1,1,null,null,null,1013,"ШТ","ШТ",1,null,"","","","",null,83667261,90,"Материалы, отсутствующие в СНБ (Строительные)",0,"",1,900,"Материалы, отсутствующие в СНБ (Строительные)","МР КА Строительные",null,"",null,132112,0,576.17999999999995,0,0,0,0,0,0,5,null,null,0,18,null,576.17999999999995,null,null,null,null,null,null,null,null,null,null,0,0,0,null,null,null,null,0,0,null,"",null,null,1,null,-283182982,2,3,-2,0,0,0,0,0,0,0,null,1,1,0,"",0,1,0,null,null,0,0,0,null,"","",0,null,null,null,null,null,"","","","","",null,0,null,null,null,null,null,null,null,null,null,null,null,null,null,null,null,null,null,0]
[17,1,null,null,"","ТЦ_59.1.25.03_77_7736281025_12.01.2026_02_60.1","Наконечник для СИП CPTAU 95","ШТ",0,0,0,4,4,0,0,0,0,0,0,0,0,0,0,0,0,null,-1,576.17999999999995,576.17999999999995,0,0,0,0,0,0,0,576.17999999999995,576.17999999999995,0,0,0,0,0,0,0,0,0,1,1,null,null,1,1,1,1,"","","","",3,1,"ТЦ_59.1.25.03_77_7736281025_12.01.2026_02_60.1",null,null,900,0,"",0,90,0,1,1,1,1,1,1,"",0,0,"",null,null,0,0,0,0,0,0,0,0,0,"",0,0,576.17999999999995,0,0,0,0,0,0,0,{"$f":"0","v":0},{"$f":"0","v":0},null,null,"","","","","","","","","","","",0,0,1,1,null,null,null,1013,"ШТ","ШТ",1,null,"","","","",null,83667261,90,"Материалы, отсутствующие в СНБ (Строительные)",0,"",1,900,"Материалы, отсутствующие в СНБ (Строительные)","МР КА Строительные",null,"",null,132112,0,576.17999999999995,0,0,0,0,0,0,5,null,null,0,18,null,576.17999999999995,null,null,null,null,null,null,null,null,null,null,0,0,0,null,null,null,null,0,0,null,"",null,null,1,null,-283182982,2,3,-2,0,0,0,0,0,0,0,null,1,1,0,"",0,1,0,null,null,0,0,0,null,"","",0,null,null,null,null,null,"","","","","",null,0,null,null,null,null,null,null,null,null,null,null,null,null,null,null,null,null,null,0]
[17,1,null,null,"","ТЦ_20.5.03.00_77_7736281025_12.01.2026_02_33.1","Шина АД 31Т 3х25","м",0,0,0,1.5,1.5,0,0,0,0,0,0,0,0,0,0,0,0,null,-1,485.38,485.38,0,0,0,0,0,0,0,485.38,485.38,0,0,0,0,0,0,0,0,0,1,1,null,null,1,1,1,1,"","","","",3,1,"ТЦ_20.5.03.00_77_7736281025_12.01.2026_02_33.1",null,null,900,0,"",0,90,0,1,1,1,1,1,1,"",0,0,"",null,null,0,0,0,0,0,0,0,0,0,"",0,0,485.38,0,0,0,0,0,0,0,{"$f":"0","v":0},{"$f":"0","v":0},null,null,"","","","","","","","","","","",0,0,1,1,null,null,null,1003,"м","м",1,null,"","","","",null,83667261,90,"Материалы, отсутствующие в СНБ (Строительные)",0,"",1,900,"Материалы, отсутствующие в СНБ (Строительные)","МР КА Строительные",null,"",null,132112,0,485.38,0,0,0,0,0,0,null,null,null,null,null,null,null,null,null,null,null,null,null,null,null,null,null,0,0,0,null,null,null,null,0,0,null,"",null,null,1,null,-1930256212,2,0,-2,0,0,0,0,0,0,0,null,0,0,0,"",0,1,0,null,null,0,0,0,null,"","",null,null,null,null,null,null,"","","","","",null,0,null,null,null,null,null,null,null,null,null,null,null,null,null,null,null,null,null,0]
[17,1,null,null,"","ТЦ_20.5.03.00_77_7736281025_12.01.2026_02_33.1","Шина АД 31Т 3х25","м",0,0,0,1.5,1.5,0,0,0,0,0,0,0,0,0,0,0,0,null,-1,485.38,485.38,0,0,0,0,0,0,0,485.38,485.38,0,0,0,0,0,0,0,0,0,1,1,null,null,1,1,1,1,"","","","",3,1,"ТЦ_20.5.03.00_77_7736281025_12.01.2026_02_33.1",null,null,900,0,"",0,90,0,1,1,1,1,1,1,"",0,0,"",null,null,0,0,0,0,0,0,0,0,0,"",0,0,485.38,0,0,0,0,0,0,0,{"$f":"0","v":0},{"$f":"0","v":0},null,null,"","","","","","","","","","","",0,0,1,1,null,null,null,1003,"м","м",1,null,"","","","",null,83667261,90,"Материалы, отсутствующие в СНБ (Строительные)",0,"",1,900,"Материалы, отсутствующие в СНБ (Строительные)","МР КА Строительные",null,"",null,132112,0,485.38,0,0,0,0,0,0,null,null,null,null,null,null,null,null,null,null,null,null,null,null,null,null,null,0,0,0,null,null,null,null,0,0,null,"",null,null,1,null,-1930256212,2,0,-2,0,0,0,0,0,0,0,null,0,0,0,"",0,1,0,null,null,0,0,0,null,"","",null,null,null,null,null,null,"","","","","",null,0,null,null,null,null,null,null,null,null,null,null,null,null,null,null,null,null,null,0]
[17,1,null,null,"","ТЦ_01.7.15.02_77_7736281025_12.01.2026_02_34.1","Болт М10х40 с шестигранной головой","ШТ",0,0,0,6,6,{"$f":"ROUND(L415-M415,4)","v":0},{"$f":"ROUND(CP415,2)","v":0},{"$f":"ROUND(CQ415*I415,2)","v":0},{"$f":"ROUND(CR415*I415,2)","v":0},{"$f":"ROUND(CS415*I415,2)","v":0},{"$f":"ROUND(CT415*I415,2)","v":0},{"$f":"ROUND(CU415*I415,2)","v":0},{"$f":"ROUND(CV415*I415,7)","v":0},{"$f":"ROUND(CW415*I415,7)","v":0},{"$f":"ROUND(CX415*I415,2)","v":0},{"$f":"ROUND(CY415,2)","v":0},{"$f":"ROUND(CZ415,2)","v":0},null,-1,{"$f":"ROUND((AC415+AD415+AF415),2)","v":27.56},{"$f":"ROUND((ES415),2)","v":27.56},0,{"$f":"ROUND((EU415),2)","v":0},{"$f":"ROUND((EV415),2)","v":0},{"$f":"ROUND((AP415),2)","v":0},{"$f":"(EW415)","v":0},{"$f":"(EX415)","v":0},{"$f":"(AS415)","v":0},27.56,27.56,0,0,0,0,0,0,0,0,0,1,1,null,null,1,1,1,1,"","","","",3,1,"ТЦ_01.7.15.02_77_7736281025_12.01.2026_02_34.1",null,null,900,0,"",0,90,0,1,1,1,1,1,1,"",0,0,"",null,null,0,0,0,0,0,0,0,0,0,"",0,{"$f":"(P415+Q415+S415+R415)","v":0},27.56,0,{"$f":"ROUND(AN415*BS415,2)","v":0},{"$f":"ROUND(AO415*BA415,2)","v":0},{"$f":"AG415","v":0},{"$f":"AH415","v":0},{"$f":"AI415","v":0},{"$f":"AJ415","v":0},{"$f":"0","v":0},{"$f":"0","v":0},null,null,"","","","","","","","","","","",0,0,1,1,null,null,null,1013,"ШТ","ШТ",1,null,"","","","",null,83667261,90,"Материалы, отсутствующие в СНБ (Строительные)",0,"",1,900,"Материалы, отсутствующие в СНБ (Строительные)","МР КА Строительные",null,"",null,132112,0,27.56,0,0,0,0,0,0,null,null,null,null,null,null,null,null,null,null,null,null,null,null,null,null,null,0,0,0,null,null,null,null,0,0,null,"",null,null,1,null,-1810379406,2,0,-2,0,0,{"$f":"ROUND(IF(AND(BH415=3,BI415=3,FS415<>0),P415,0),2)","v":0},{"$f":"ROUND(O415+X415+Y415,2)+GX415","v":0},{"$f":"IF(OR(BI415=0,BI415=1),GM415-GX415,0)","v":0},{"$f":"IF(BI415=2,GM415-GX415,0)","v":0},{"$f":"IF(BI415=4,GM415-GX415,0)","v":0},null,0,0,0,"",{"$f":"ROUND((GT415),2)","v":0},1,{"$f":"ROUND(HC415*I415,2)","v":0},null,null,0,0,{"$f":"GV415*GW415","v":0},null,"","",null,null,null,null,null,null,"","","","","",null,0,null,null,null,null,null,null,null,null,null,null,null,null,null,null,null,null,null,0]
[17,1,null,null,"","ТЦ_01.7.15.02_77_7736281025_12.01.2026_02_34.1","Болт М10х40 с шестигранной головой","ШТ",0,0,0,6,6,0,0,0,0,0,0,0,0,0,0,0,0,null,-1,27.56,27.56,0,0,0,0,0,0,0,27.56,27.56,0,0,0,0,0,0,0,0,0,1,1,null,null,1,1,1,1,"","","","",3,1,"ТЦ_01.7.15.02_77_7736281025_12.01.2026_02_34.1",null,null,900,0,"",0,90,0,1,1,1,1,1,1,"",0,0,"",null,null,0,0,0,0,0,0,0,0,0,"",0,0,27.56,0,0,0,0,0,0,0,{"$f":"0","v":0},{"$f":"0","v":0},null,null,"","","","","","","","","","","",0,0,1,1,null,null,null,1013,"ШТ","ШТ",1,null,"","","","",null,83667261,90,"Материалы, отсутствующие в СНБ (Строительные)",0,"",1,900,"Материалы, отсутствующие в СНБ (Строительные)","МР КА Строительные",null,"",null,132112,0,27.56,0,0,0,0,0,0,null,null,null,null,null,null,null,null,null,null,null,null,null,null,null,null,null,0,0,0,null,null,null,null,0,0,null,"",null,null,1,null,-1810379406,2,0,-2,0,0,0,0,0,0,0,null,0,0,0,"",0,1,0,null,null,0,0,0,null,"","",null,null,null,null,null,null,"","","","","",null,0,null,null,null,null,null,null,null,null,null,null,null,null,null,null,null,null,null,0]
[17,1,null,null,"","ТЦ_01.7.15.05_77_7736281025_12.01.2026_02_35.1","Гайка М10","ШТ",0,0,0,3,3,0,0,0,0,0,0,0,0,0,0,0,0,null,-1,13.77,13.77,0,0,0,0,0,0,0,13.77,13.77,0,0,0,0,0,0,0,0,0,1,1,null,null,1,1,1,1,"","","","",3,1,"ТЦ_01.7.15.05_77_7736281025_12.01.2026_02_35.1",null,null,900,0,"",0,90,0,1,1,1,1,1,1,"",0,0,"",null,null,0,0,0,0,0,0,0,0,0,"",0,0,13.77,0,0,0,0,0,0,0,{"$f":"0","v":0},{"$f":"0","v":0},null,null,"","","","","","","","","","","",0,0,1,1,null,null,null,1013,"ШТ","ШТ",1,null,"","","","",null,83667261,90,"Материалы, отсутствующие в СНБ (Строительные)",0,"",1,900,"Материалы, отсутствующие в СНБ (Строительные)","МР КА Строительные",null,"",null,132112,0,13.77,0,0,0,0,0,0,null,null,null,null,null,null,null,null,null,null,null,null,null,null,null,null,null,0,0,0,null,null,null,null,0,0,null,"",null,null,1,null,1085818571,2,0,-2,0,0,0,0,0,0,0,null,0,0,0,"",0,1,0,null,null,0,0,0,null,"","",null,null,null,null,null,null,"","","","","",null,0,null,null,null,null,null,null,null,null,null,null,null,null,null,null,null,null,null,0]
[17,1,null,null,"","ТЦ_01.7.15.05_77_7736281025_12.01.2026_02_35.1","Гайка М10","ШТ",0,0,0,3,3,0,0,0,0,0,0,0,0,0,0,0,0,null,-1,13.77,13.77,0,0,0,0,0,0,0,13.77,13.77,0,0,0,0,0,0,0,0,0,1,1,null,null,1,1,1,1,"","","","",3,1,"ТЦ_01.7.15.05_77_7736281025_12.01.2026_02_35.1",null,null,900,0,"",0,90,0,1,1,1,1,1,1,"",0,0,"",null,null,0,0,0,0,0,0,0,0,0,"",0,0,13.77,0,0,0,0,0,0,0,{"$f":"0","v":0},{"$f":"0","v":0},null,null,"","","","","","","","","","","",0,0,1,1,null,null,null,1013,"ШТ","ШТ",1,null,"","","","",null,83667261,90,"Материалы, отсутствующие в СНБ (Строительные)",0,"",1,900,"Материалы, отсутствующие в СНБ (Строительные)","МР КА Строительные",null,"",null,132112,0,13.77,0,0,0,0,0,0,null,null,null,null,null,null,null,null,null,null,null,null,null,null,null,null,null,0,0,0,null,null,null,null,0,0,null,"",null,null,1,null,1085818571,2,0,-2,0,0,0,0,0,0,0,null,0,0,0,"",0,1,0,null,null,0,0,0,null,"","",null,null,null,null,null,null,"","","","","",null,0,null,null,null,null,null,null,null,null,null,null,null,null,null,null,null,null,null,0]
[17,1,null,null,"","ТЦ_01.7.15.11_77_7736281025_12.01.2026_02_36.1","Шайба М10","ШТ",0,0,0,3,3,0,0,0,0,0,0,0,0,0,0,0,0,null,-1,5.17,5.17,0,0,0,0,0,0,0,5.17,5.17,0,0,0,0,0,0,0,0,0,1,1,null,null,1,1,1,1,"","","","",3,1,"ТЦ_01.7.15.11_77_7736281025_12.01.2026_02_36.1",null,null,900,0,"",0,90,0,1,1,1,1,1,1,"",0,0,"",null,null,0,0,0,0,0,0,0,0,0,"",0,0,5.17,0,0,0,0,0,0,0,{"$f":"0","v":0},{"$f":"0","v":0},null,null,"","","","","","","","","","","",0,0,1,1,null,null,null,1013,"ШТ","ШТ",1,null,"","","","",null,83667261,90,"Материалы, отсутствующие в СНБ (Строительные)",0,"",1,900,"Материалы, отсутствующие в СНБ (Строительные)","МР КА Строительные",null,"",null,132112,0,5.17,0,0,0,0,0,0,null,null,null,null,null,null,null,null,null,null,null,null,null,null,null,null,null,0,0,0,null,null,null,null,0,0,null,"",null,null,1,null,646224242,2,0,-2,0,0,0,0,0,0,0,null,0,0,0,"",0,1,0,null,null,0,0,0,null,"","",null,null,null,null,null,null,"","","","","",null,0,null,null,null,null,null,null,null,null,null,null,null,null,null,null,null,null,null,0]
[17,1,null,null,"","ТЦ_01.7.15.11_77_7736281025_12.01.2026_02_36.1","Шайба М10","ШТ",0,0,0,3,3,0,0,0,0,0,0,0,0,0,0,0,0,null,-1,5.17,5.17,0,0,0,0,0,0,0,5.17,5.17,0,0,0,0,0,0,0,0,0,1,1,null,null,1,1,1,1,"","","","",3,1,"ТЦ_01.7.15.11_77_7736281025_12.01.2026_02_36.1",null,null,900,0,"",0,90,0,1,1,1,1,1,1,"",0,0,"",null,null,0,0,0,0,0,0,0,0,0,"",0,0,5.17,0,0,0,0,0,0,0,{"$f":"0","v":0},{"$f":"0","v":0},null,null,"","","","","","","","","","","",0,0,1,1,null,null,null,1013,"ШТ","ШТ",1,null,"","","","",null,83667261,90,"Материалы, отсутствующие в СНБ (Строительные)",0,"",1,900,"Материалы, отсутствующие в СНБ (Строительные)","МР КА Строительные",null,"",null,132112,0,5.17,0,0,0,0,0,0,null,null,null,null,null,null,null,null,null,null,null,null,null,null,null,null,null,0,0,0,null,null,null,null,0,0,null,"",null,null,1,null,646224242,2,0,-2,0,0,0,0,0,0,0,null,0,0,0,"",0,1,0,null,null,0,0,0,null,"","",null,null,null,null,null,null,"","","","","",null,0,null,null,null,null,null,null,null,null,null,null,null,null,null,null,null,null,null,0]
[17,1,null,null,"38","ТЦ_14.4.04.03_77_7736281025_12.01.2026_02_61.1","Эмаль алкидная, белая ПФ-115","кг",0.72,0,0.72,0.72,0,0.72,428.39,428.39,0,0,0,0,0,0,0,0,0,null,85316715,594.98,594.98,0,0,0,0,0,0,0,594.98,594.98,0,0,0,0,0,0,0,0,0,1,1,null,null,1,1,1,1,"","","","",3,1,"ТЦ_14.4.04.03_77_7736281025_12.01.2026_02_61.1",null,null,900,0,"",0,90,0,1,1,1,1,1,1,"",0,0,"",null,null,0,0,0,38,0,0,0,0,0,"",0,428.39,594.98,0,0,0,0,0,0,0,{"$f":"0","v":0},{"$f":"0","v":0},null,null,"","","","","","","","","","","",0,0,1,1,null,null,null,1009,"кг","кг",1,null,"","","","",null,83667261,90,"Материалы, отсутствующие в СНБ (Строительные)",0,"",1,900,"Материалы, отсутствующие в СНБ (Строительные)","МР КА Строительные",null,"",null,131088,0,594.98,0,0,0,0,0,0,5,null,null,0,18,null,594.98,null,null,null,null,null,null,null,null,null,null,0,0,0,null,null,null,null,0,0,null,"",null,null,1,null,240564716,2,3,-2,0,0,0,428.39,428.39,0,0,null,1,1,0,"",0,1,0,null,null,0,0,0,null,"","",{"$f":"ROUND(ROUND(AL421,2)*I421,2)","v":428.39},null,null,null,null,null,"","","","","",null,0,null,null,null,null,null,null,null,null,null,null,null,null,null,null,null,null,null,0]
[17,1,null,null,"38","ТЦ_14.4.04.03_77_7736281025_12.01.2026_02_61.1","Эмаль алкидная, белая ПФ-115","кг",0.72,0,0.72,0.72,0,0.72,428.39,428.39,0,0,0,0,0,0,0,0,0,null,85316656,594.98,594.98,0,0,0,0,0,0,0,594.98,594.98,0,0,0,0,0,0,0,0,0,1,1,null,null,1,1,1,1,"","","","",3,1,"ТЦ_14.4.04.03_77_7736281025_12.01.2026_02_61.1",null,null,900,0,"",0,90,0,1,1,1,1,1,1,"",0,0,"",null,null,0,0,0,38,0,0,0,0,0,"",0,428.39,594.98,0,0,0,0,0,0,0,{"$f":"0","v":0},{"$f":"0","v":0},null,null,"","","","","","","","","","","",0,0,1,1,null,null,null,1009,"кг","кг",1,null,"","","","",null,83667261,90,"Материалы, отсутствующие в СНБ (Строительные)",0,"",1,900,"Материалы, отсутствующие в СНБ (Строительные)","МР КА Строительные",null,"",null,131088,0,594.98,0,0,0,0,0,0,5,null,null,0,18,null,594.98,null,null,null,null,null,null,null,null,null,null,0,0,0,null,null,null,null,0,0,null,"",null,null,1,null,240564716,2,3,-2,0,0,0,428.39,428.39,0,0,null,1,1,0,"",0,1,0,null,null,0,0,0,null,"","",428.39,null,null,null,null,null,"","","","","",null,0,null,null,null,null,null,null,null,null,null,null,null,null,null,null,null,null,null,0]
[17,1,null,null,"39","ТЦ_14.4.04.03_77_7736281025_12.01.2026_02_62.1","Эмаль алкидная, синяя ПФ-115","кг",1.4,0,1.4,1.4,0,1.4,780.36,780.36,0,0,0,0,0,0,0,0,0,null,85316715,557.4,557.4,0,0,0,0,0,0,0,557.4,557.4,0,0,0,0,0,0,0,0,0,1,1,null,null,1,1,1,1,"","","","",3,1,"ТЦ_14.4.04.03_77_7736281025_12.01.2026_02_62.1",null,null,900,0,"",0,90,0,1,1,1,1,1,1,"",0,0,"",null,null,0,0,0,39,0,0,0,0,0,"",0,780.36,557.4,0,0,0,0,0,0,0,{"$f":"0","v":0},{"$f":"0","v":0},null,null,"","","","","","","","","","","",0,0,1,1,null,null,null,1009,"кг","кг",1,null,"","","","",null,83667261,90,"Материалы, отсутствующие в СНБ (Строительные)",0,"",1,900,"Материалы, отсутствующие в СНБ (Строительные)","МР КА Строительные",null,"",null,131088,0,557.4,0,0,0,0,0,0,5,null,null,0,18,null,557.4,null,null,null,null,null,null,null,null,null,null,0,0,0,null,null,null,null,0,0,null,"",null,null,1,null,1302363564,2,3,-2,0,0,0,780.36,780.36,0,0,null,1,1,0,"",0,1,0,null,null,0,0,0,null,"","",780.36,null,null,null,null,null,"","","","","",null,0,null,null,null,null,null,null,null,null,null,null,null,null,null,null,null,null,null,0]
[17,1,null,null,"39","ТЦ_14.4.04.03_77_7736281025_12.01.2026_02_62.1","Эмаль алкидная, синяя ПФ-115","кг",1.4,0,1.4,1.4,0,1.4,780.36,780.36,0,0,0,0,0,0,0,0,0,null,85316656,557.4,557.4,0,0,0,0,0,0,0,557.4,557.4,0,0,0,0,0,0,0,0,0,1,1,null,null,1,1,1,1,"","","","",3,1,"ТЦ_14.4.04.03_77_7736281025_12.01.2026_02_62.1",null,null,900,0,"",0,90,0,1,1,1,1,1,1,"",0,0,"",null,null,0,0,0,39,0,0,0,0,0,"",0,780.36,557.4,0,0,0,0,0,0,0,{"$f":"0","v":0},{"$f":"0","v":0},null,null,"","","","","","","","","","","",0,0,1,1,null,null,null,1009,"кг","кг",1,null,"","","","",null,83667261,90,"Материалы, отсутствующие в СНБ (Строительные)",0,"",1,900,"Материалы, отсутствующие в СНБ (Строительные)","МР КА Строительные",null,"",null,131088,0,557.4,0,0,0,0,0,0,5,null,null,0,18,null,557.4,null,null,null,null,null,null,null,null,null,null,0,0,0,null,null,null,null,0,0,null,"",null,null,1,null,1302363564,2,3,-2,0,0,0,780.36,780.36,0,0,null,1,1,0,"",0,1,0,null,null,0,0,0,null,"","",780.36,null,null,null,null,null,"","","","","",null,0,null,null,null,null,null,null,null,null,null,null,null,null,null,null,null,null,null,0]
[17,1,null,null,"40","ТЦ_14.4.02.00_77_7736281025_12.01.2026_02_63.1","Краска аэрозольная, черная","л",0.48,0,0.48,0.48,0,0.48,848.5,848.5,0,0,0,0,0,0,0,0,0,null,85316715,1767.71,1767.71,0,0,0,0,0,0,0,1767.71,1767.71,0,0,0,0,0,0,0,0,0,1,1,null,null,1,1,1,1,"","","","",3,1,"ТЦ_14.4.02.00_77_7736281025_12.01.2026_02_63.1",null,null,900,0,"",0,90,0,1,1,1,1,1,1,"",0,0,"",null,null,0,0,0,40,0,0,0,0,0,"",0,848.5,1767.71,0,0,0,0,0,0,0,{"$f":"0","v":0},{"$f":"0","v":0},null,null,"","","","","","","","","","","",0,0,1,1,null,null,null,1002,"л","л",1,null,"","","","",null,83667261,90,"Материалы, отсутствующие в СНБ (Строительные)",0,"",1,900,"Материалы, отсутствующие в СНБ (Строительные)","МР КА Строительные",null,"",null,131088,0,1767.71,0,0,0,0,0,0,5,null,null,0,18,null,1767.71,null,null,null,null,null,null,null,null,null,null,0,0,0,null,null,null,null,0,0,null,"",null,null,1,null,1816095535,2,3,-2,0,0,0,848.5,848.5,0,0,null,1,1,0,"",0,1,0,null,null,0,0,0,null,"","",848.5,null,null,null,null,null,"","","","","",null,0,null,null,null,null,null,null,null,null,null,null,null,null,null,null,null,null,null,0]
[17,1,null,null,"40","ТЦ_14.4.02.00_77_7736281025_12.01.2026_02_63.1","Краска аэрозольная, черная","л",0.48,0,0.48,0.48,0,0.48,848.5,848.5,0,0,0,0,0,0,0,0,0,null,85316656,1767.71,1767.71,0,0,0,0,0,0,0,1767.71,1767.71,0,0,0,0,0,0,0,0,0,1,1,null,null,1,1,1,1,"","","","",3,1,"ТЦ_14.4.02.00_77_7736281025_12.01.2026_02_63.1",null,null,900,0,"",0,90,0,1,1,1,1,1,1,"",0,0,"",null,null,0,0,0,40,0,0,0,0,0,"",0,848.5,1767.71,0,0,0,0,0,0,0,{"$f":"0","v":0},{"$f":"0","v":0},null,null,"","","","","","","","","","","",0,0,1,1,null,null,null,1002,"л","л",1,null,"","","","",null,83667261,90,"Материалы, отсутствующие в СНБ (Строительные)",0,"",1,900,"Материалы, отсутствующие в СНБ (Строительные)","МР КА Строительные",null,"",null,131088,0,1767.71,0,0,0,0,0,0,5,null,null,0,18,null,1767.71,null,null,null,null,null,null,null,null,null,null,0,0,0,null,null,null,null,0,0,null,"",null,null,1,null,1816095535,2,3,-2,0,0,0,848.5,848.5,0,0,null,1,1,0,"",0,1,0,null,null,0,0,0,null,"","",848.5,null,null,null,null,null,"","","","","",null,0,null,null,null,null,null,null,null,null,null,null,null,null,null,null,null,null,null,0]
[17,1,null,null,"","ТЦ_24.3.01.02_77_7736281025_12.01.2026_02_39.1","Труба гофрированная ПВХ d=63мм","м",0,0,0,4,4,0,0,0,0,0,0,0,0,0,0,0,0,null,-1,353.07,353.07,0,0,0,0,0,0,0,353.07,353.07,0,0,0,0,0,0,0,0,0,1,1,null,null,1,1,1,1,"","","","",3,1,"ТЦ_24.3.01.02_77_7736281025_12.01.2026_02_39.1",null,null,900,0,"",0,90,0,1,1,1,1,1,1,"",0,0,"",null,null,0,0,0,0,0,0,0,0,0,"",0,0,353.07,0,0,0,0,0,0,0,{"$f":"0","v":0},{"$f":"0","v":0},null,null,"","","","","","","","","","","",0,0,1,1,null,null,null,1003,"м","м",1,null,"","","","",null,83667261,90,"Материалы, отсутствующие в СНБ (Строительные)",0,"",1,900,"Материалы, отсутствующие в СНБ (Строительные)","МР КА Строительные",null,"",null,132112,0,353.07,0,0,0,0,0,0,null,null,null,null,null,null,null,null,null,null,null,null,null,null,null,null,null,0,0,0,null,null,null,null,0,0,null,"",null,null,1,null,-1034100534,2,0,-2,0,0,0,0,0,0,0,null,0,0,0,"",0,1,0,null,null,0,0,0,null,"","",null,null,null,null,null,null,"","","","","",null,0,null,null,null,null,null,null,null,null,null,null,null,null,null,null,null,null,null,0]
[17,1,null,null,"","ТЦ_24.3.01.02_77_7736281025_12.01.2026_02_39.1","Труба гофрированная ПВХ d=63мм","м",0,0,0,4,4,0,0,0,0,0,0,0,0,0,0,0,0,null,-1,353.07,353.07,0,0,0,0,0,0,0,353.07,353.07,0,0,0,0,0,0,0,0,0,1,1,null,null,1,1,1,1,"","","","",3,1,"ТЦ_24.3.01.02_77_7736281025_12.01.2026_02_39.1",null,null,900,0,"",0,90,0,1,1,1,1,1,1,"",0,0,"",null,null,0,0,0,0,0,0,0,0,0,"",0,0,353.07,0,0,0,0,0,0,0,{"$f":"0","v":0},{"$f":"0","v":0},null,null,"","","","","","","","","","","",0,0,1,1,null,null,null,1003,"м","м",1,null,"","","","",null,83667261,90,"Материалы, отсутствующие в СНБ (Строительные)",0,"",1,900,"Материалы, отсутствующие в СНБ (Строительные)","МР КА Строительные",null,"",null,132112,0,353.07,0,0,0,0,0,0,null,null,null,null,null,null,null,null,null,null,null,null,null,null,null,null,null,0,0,0,null,null,null,null,0,0,null,"",null,null,1,null,-1034100534,2,0,-2,0,0,0,0,0,0,0,null,0,0,0,"",0,1,0,null,null,0,0,0,null,"","",null,null,null,null,null,null,"","","","","",null,0,null,null,null,null,null,null,null,null,null,null,null,null,null,null,null,null,null,0]
[17,1,null,null,"","ТЦ_24.3.01.02_77_7736281025_12.01.2026_02_40.1","Труба гофрированная ПВХ d=75мм","м",0,0,0,4,4,0,0,0,0,0,0,0,0,0,0,0,0,null,-1,377.33,377.33,0,0,0,0,0,0,0,377.33,377.33,0,0,0,0,0,0,0,0,0,1,1,null,null,1,1,1,1,"","","","",3,1,"ТЦ_24.3.01.02_77_7736281025_12.01.2026_02_40.1",null,null,900,0,"",0,90,0,1,1,1,1,1,1,"",0,0,"",null,null,0,0,0,0,0,0,0,0,0,"",0,0,377.33,0,0,0,0,0,0,0,{"$f":"0","v":0},{"$f":"0","v":0},null,null,"","","","","","","","","","","",0,0,1,1,null,null,null,1003,"м","м",1,null,"","","","",null,83667261,90,"Материалы, отсутствующие в СНБ (Строительные)",0,"",1,900,"Материалы, отсутствующие в СНБ (Строительные)","МР КА Строительные",null,"",null,132112,0,377.33,0,0,0,0,0,0,5,null,null,0,18,null,377.33,null,null,null,null,null,null,null,null,null,null,0,0,0,null,null,null,null,0,0,null,"",null,null,1,null,-794459116,2,3,-2,0,0,0,0,0,0,0,null,1,1,0,"",0,1,0,null,null,0,0,0,null,"","",{"$f":"ROUND(ROUND(AL429,2)*I429,2)","v":0},null,null,null,null,null,"","","","","",null,0,null,null,null,null,null,null,null,null,null,null,null,null,null,null,null,null,null,0]
[17,1,null,null,"","ТЦ_24.3.01.02_77_7736281025_12.01.2026_02_40.1","Труба гофрированная ПВХ d=75мм","м",0,0,0,4,4,0,0,0,0,0,0,0,0,0,0,0,0,null,-1,377.33,377.33,0,0,0,0,0,0,0,377.33,377.33,0,0,0,0,0,0,0,0,0,1,1,null,null,1,1,1,1,"","","","",3,1,"ТЦ_24.3.01.02_77_7736281025_12.01.2026_02_40.1",null,null,900,0,"",0,90,0,1,1,1,1,1,1,"",0,0,"",null,null,0,0,0,0,0,0,0,0,0,"",0,0,377.33,0,0,0,0,0,0,0,{"$f":"0","v":0},{"$f":"0","v":0},null,null,"","","","","","","","","","","",0,0,1,1,null,null,null,1003,"м","м",1,null,"","","","",null,83667261,90,"Материалы, отсутствующие в СНБ (Строительные)",0,"",1,900,"Материалы, отсутствующие в СНБ (Строительные)","МР КА Строительные",null,"",null,132112,0,377.33,0,0,0,0,0,0,5,null,null,0,18,null,377.33,null,null,null,null,null,null,null,null,null,null,0,0,0,null,null,null,null,0,0,null,"",null,null,1,null,-794459116,2,3,-2,0,0,0,0,0,0,0,null,1,1,0,"",0,1,0,null,null,0,0,0,null,"","",{"$f":"ROUND(ROUND(AL430,2)*I430,2)","v":0},null,null,null,null,null,"","","","","",null,0,null,null,null,null,null,null,null,null,null,null,null,null,null,null,null,null,null,0]
[]
[51,{"$f":"B347","v":1},{"$f":"A347","v":4},{"$f":"ROW(A347)","v":347},null,{"$f":"IF(F347<>\"\",F347,\"\")","v":"Новый раздел"},{"$f":"IF(G347<>\"\",G347,\"\")","v":"Материалы"},0,null,null,null,null,null,null,{"$f":"ROUND(AB432,2)","v":2057.25},2057.25,0,0,0,0,{"$f":"AH432","v":0},{"$f":"AI432","v":0},{"$f":"ROUND(AJ432,2)","v":0},{"$f":"ROUND(AK432,2)","v":0},{"$f":"ROUND(AL432,2)","v":0},null,null,{"$f":"ROUND(SUMIF(AA351:AA430,\"=85316715\",O351:O430),2)","v":2057.25},{"$f":"ROUND(SUMIF(AA351:AA430,\"=85316715\",P351:P430),2)","v":2057.25},{"$f":"ROUND(SUMIF(AA351:AA430,\"=85316715\",Q351:Q430),2)","v":0},{"$f":"ROUND(SUMIF(AA351:AA430,\"=85316715\",R351:R430),2)","v":0},{"$f":"ROUND(SUMIF(AA351:AA430,\"=85316715\",S351:S430),2)","v":0},{"$f":"ROUND(SUMIF(AA351:AA430,\"=85316715\",T351:T430),2)","v":0},{"$f":"SUMIF(AA351:AA430,\"=85316715\",U351:U430)","v":0},{"$f":"SUMIF(AA351:AA430,\"=85316715\",V351:V430)","v":0},{"$f":"ROUND(SUMIF(AA351:AA430,\"=85316715\",W351:W430),2)","v":0},{"$f":"ROUND(SUMIF(AA351:AA430,\"=85316715\",X351:X430),2)","v":0},{"$f":"ROUND(SUMIF(AA351:AA430,\"=85316715\",Y351:Y430),2)","v":0},null,null,{"$f":"ROUND(BX432,2)","v":0},0,0,2057.25,2057.25,0,0,2057.25,2057.25,0,2057.25,0,0,0,0,0,null,null,null,null,null,null,null,null,null,null,null,null,null,null,null,null,null,null,null,{"$f":"ROUND(SUMIF(AA351:AA430,\"=85316715\",FQ351:FQ430),2)","v":0},{"$f":"ROUND(SUMIF(AA351:AA430,\"=85316715\",FR351:FR430),2)","v":0},{"$f":"ROUND(SUMIF(AA351:AA430,\"=85316715\",GL351:GL430),2)","v":0},{"$f":"ROUND(SUMIF(AA351:AA430,\"=85316715\",GM351:GM430),2)","v":2057.25},{"$f":"ROUND(SUMIF(AA351:AA430,\"=85316715\",GN351:GN430),2)","v":2057.25},{"$f":"ROUND(SUMIF(AA351:AA430,\"=85316715\",GO351:GO430),2)","v":0},{"$f":"ROUND(SUMIF(AA351:AA430,\"=85316715\",GP351:GP430),2)","v":0},{"$f":"AC432-BX432","v":2057.25},{"$f":"AC432-BY432","v":2057.25},{"$f":"BX432-BZ432","v":0},{"$f":"AC432-BX432-BY432+BZ432","v":2057.25},{"$f":"BY432-BZ432","v":0},{"$f":"ROUND(SUMIF(AA351:AA430,\"=85316715\",GX351:GX430),2)","v":0},{"$f":"ROUND(SUMIF(AA351:AA430,\"=85316715\",GY351:GY430),2)","v":0},{"$f":"ROUND(SUMIF(AA351:AA430,\"=85316715\",GZ351:GZ430),2)","v":0},{"$f":"ROUND(SUMIF(AA351:AA430,\"=85316715\",HD351:HD430),2)","v":0},null,null,null,null,null,null,null,null,null,null,null,null,null,null,null,null,null,null,null,{"$f":"ROUND(DT432,2)","v":2057.25},2057.25,0,0,0,0,{"$f":"DZ432","v":0},{"$f":"EA432","v":0},{"$f":"ROUND(EB432,2)","v":0},{"$f":"ROUND(EC432,2)","v":0},{"$f":"ROUND(ED432,2)","v":0},null,null,{"$f":"ROUND(SUMIF(AA351:AA430,\"=85316656\",O351:O430),2)","v":2057.25},{"$f":"ROUND(SUMIF(AA351:AA430,\"=85316656\",P351:P430),2)","v":2057.25},{"$f":"ROUND(SUMIF(AA351:AA430,\"=85316656\",Q351:Q430),2)","v":0},{"$f":"ROUND(SUMIF(AA351:AA430,\"=85316656\",R351:R430),2)","v":0},{"$f":"ROUND(SUMIF(AA351:AA430,\"=85316656\",S351:S430),2)","v":0},{"$f":"ROUND(SUMIF(AA351:AA430,\"=85316656\",T351:T430),2)","v":0},{"$f":"SUMIF(AA351:AA430,\"=85316656\",U351:U430)","v":0},{"$f":"SUMIF(AA351:AA430,\"=85316656\",V351:V430)","v":0},{"$f":"ROUND(SUMIF(AA351:AA430,\"=85316656\",W351:W430),2)","v":0},{"$f":"ROUND(SUMIF(AA351:AA430,\"=85316656\",X351:X430),2)","v":0},{"$f":"ROUND(SUMIF(AA351:AA430,\"=85316656\",Y351:Y430),2)","v":0},null,null,{"$f":"ROUND(FP432,2)","v":0},0,0,2057.25,2057.25,0,0,2057.25,2057.25,0,2057.25,0,0,0,0,0,null,null,null,null,null,null,null,null,null,null,null,null,null,null,null,null,null,null,null,{"$f":"ROUND(SUMIF(AA351:AA430,\"=85316656\",FQ351:FQ430),2)","v":0},{"$f":"ROUND(SUMIF(AA351:AA430,\"=85316656\",FR351:FR430),2)","v":0},{"$f":"ROUND(SUMIF(AA351:AA430,\"=85316656\",GL351:GL430),2)","v":0},{"$f":"ROUND(SUMIF(AA351:AA430,\"=85316656\",GM351:GM430),2)","v":2057.25},{"$f":"ROUND(SUMIF(AA351:AA430,\"=85316656\",GN351:GN430),2)","v":2057.25},{"$f":"ROUND(SUMIF(AA351:AA430,\"=85316656\",GO351:GO430),2)","v":0},{"$f":"ROUND(SUMIF(AA351:AA430,\"=85316656\",GP351:GP430),2)","v":0},{"$f":"DU432-FP432","v":2057.25},{"$f":"DU432-FQ432","v":2057.25},{"$f":"FP432-FR432","v":0},{"$f":"DU432-FP432-FQ432+FR432","v":2057.25},{"$f":"FQ432-FR432","v":0},{"$f":"ROUND(SUMIF(AA351:AA430,\"=85316656\",GX351:GX430),2)","v":0},{"$f":"ROUND(SUMIF(AA351:AA430,\"=85316656\",GY351:GY430),2)","v":0},{"$f":"ROUND(SUMIF(AA351:AA430,\"=85316656\",GZ351:GZ430),2)","v":0},{"$f":"ROUND(SUMIF(AA351:AA430,\"=85316656\",HD351:HD430),2)","v":0},null,null,null,null,null,null,null,null,null,null,null,null,null,null,null,null,null,null,0]
[]
[50,0,0,1,201,{"$f":"ROUND(Source!O432,O434)","v":2057.25},"ПЗ","Прямые затраты",null,null,201,1,3,"",2,{"$f":"ROUND(Source!DG432,O434)","v":2057.25},null,null,null,null,null,null,2057.25,1,2057.25,2057.25,1,2057.25]
[50,0,0,1,202,{"$f":"ROUND(Source!P432,O435)","v":2057.25},"СтМатОб","Стоимость материальных ресурсов (всего)",null,null,202,2,3,"",2,{"$f":"ROUND(Source!DH432,O435)","v":2057.25},null,null,null,null,null,null,2057.25,1,2057.25,2057.25,1,2057.25]
[50,0,0,1,222,{"$f":"ROUND(Source!AO432,O436)","v":0},"СтМатОбЗак","Стоимость материалов и оборудования заказчика",null,null,222,3,3,"",2,{"$f":"ROUND(Source!EG432,O436)","v":0},null,null,null,null,null,null,0,1,0,0,1,0]
[50,0,0,1,225,{"$f":"ROUND(Source!AV432,O437)","v":2057.25},"СтМатОбПод","Стоимость материалов и оборудования подрядчика",null,null,225,4,3,"",2,{"$f":"ROUND(Source!EN432,O437)","v":2057.25},null,null,null,null,null,null,2057.25,1,2057.25,2057.25,1,2057.25]
[50,0,0,1,226,{"$f":"ROUND(Source!AW432,O438)","v":2057.25},"СтМат","Стоимость материалов (всего)",null,null,226,5,3,"",2,{"$f":"ROUND(Source!EO432,O438)","v":2057.25},null,null,null,null,null,null,2057.25,1,2057.25,2057.25,1,2057.25]
[50,0,0,1,227,{"$f":"ROUND(Source!AX432,O439)","v":0},"СтМатЗак","Стоимость материалов заказчика",null,null,227,6,3,"",2,{"$f":"ROUND(Source!EP432,O439)","v":0},null,null,null,null,null,null,0,1,0,0,1,0]
[50,0,0,1,228,{"$f":"ROUND(Source!AY432,O440)","v":2057.25},"СтМатПод","Стоимость материалов подрядчика",null,null,228,7,3,"",2,{"$f":"ROUND(Source!EQ432,O440)","v":2057.25},null,null,null,null,null,null,2057.25,1,2057.25,2057.25,1,2057.25]
[50,0,0,1,216,{"$f":"ROUND(Source!AP432,O441)","v":0},"Оборуд","Стоимость оборудования (всего)",null,null,216,8,3,"",2,{"$f":"ROUND(Source!EH432,O441)","v":0},null,null,null,null,null,null,0,1,0,0,1,0]
[50,0,0,1,223,{"$f":"ROUND(Source!AQ432,O442)","v":0},"ОборудЗак","Стоимость оборудования заказчика",null,null,223,9,3,"",2,{"$f":"ROUND(Source!EI432,O442)","v":0},null,null,null,null,null,null,0,1,0,0,1,0]
[50,0,0,1,229,{"$f":"ROUND(Source!AZ432,O443)","v":0},"ОборудПод","Стоимость оборудования подрядчика",null,null,229,10,3,"",2,{"$f":"ROUND(Source!ER432,O443)","v":0},null,null,null,null,null,null,0,1,0,0,1,0]
[50,0,0,1,203,{"$f":"ROUND(Source!Q432,O444)","v":0},"ЭММ","Эксплуатация машин",null,null,203,11,3,"",2,{"$f":"ROUND(Source!DI432,O444)","v":0},null,null,null,null,null,null,0,1,0,0,1,0]
[50,0,0,1,231,{"$f":"ROUND(Source!BB432,O445)","v":0},"ЭММсНРиСП","Эксплуатация машин по ТСН-2001.16",null,null,231,12,3,"",2,{"$f":"ROUND(Source!ET432,O445)","v":0},null,null,null,null,null,null,0,1,0,0,1,0]
[50,0,0,1,204,{"$f":"ROUND(Source!R432,O446)","v":0},"ЗПМ","ЗП машинистов",null,null,204,13,3,"",2,{"$f":"ROUND(Source!DJ432,O446)","v":0},null,null,null,null,null,null,0,1,0,0,1,0]
[50,0,0,1,205,{"$f":"ROUND(Source!S432,O447)","v":0},"ОЗП","Основная ЗП рабочих",null,null,205,14,3,"",2,{"$f":"ROUND(Source!DK432,O447)","v":0},null,null,null,null,null,null,0,1,0,0,1,0]
[50,0,0,1,232,{"$f":"ROUND(Source!BC432,O448)","v":0},"ОЗПсНРиСП","Основная ЗП рабочих по ТСН-2001.16",null,null,232,15,3,"",2,{"$f":"ROUND(Source!EU432,O448)","v":0},null,null,null,null,null,null,0,1,0,0,1,0]
[50,0,0,1,214,{"$f":"ROUND(Source!AS432,O449)","v":2057.25},"Строит","Строительные работы с НР и СП",null,null,214,16,3,"",2,{"$f":"ROUND(Source!EK432,O449)","v":2057.25},null,null,null,null,null,null,2057.25,1,2057.25,2057.25,1,2057.25]
[50,0,0,1,215,{"$f":"ROUND(Source!AT432,O450)","v":0},"Монтаж","Монтажные работы с НР и СП",null,null,215,17,3,"",2,{"$f":"ROUND(Source!EL432,O450)","v":0},null,null,null,null,null,null,0,1,0,0,1,0]
[50,0,0,1,217,{"$f":"ROUND(Source!AU432,O451)","v":0},"Прочие","Прочие работы с НР и СП",null,null,217,18,3,"",2,{"$f":"ROUND(Source!EM432,O451)","v":0},null,null,null,null,null,null,0,1,0,0,1,0]
[50,0,0,1,230,{"$f":"ROUND(Source!BA432,O452)","v":0},"ПрочиеЗатр","Прочие затраты по ТСН-2001.16",null,null,230,19,3,"",2,{"$f":"ROUND(Source!ES432,O452)","v":0},null,null,null,null,null,null,0,1,0,0,1,0]
[50,0,0,1,206,{"$f":"ROUND(Source!T432,O453)","v":0},"ВозврМат","Возврат материалов",null,null,206,20,3,"",2,{"$f":"ROUND(Source!DL432,O453)","v":0},null,null,null,null,null,null,0,1,0,0,1,0]
[50,0,0,1,207,{"$f":"ROUND(Source!U432,O454)","v":0},"ТрудСтр","Трудозатраты строителей",null,null,207,21,3,"",7,{"$f":"ROUND(Source!DM432,O454)","v":0},null,null,null,null,null,null,0,1,0,0,1,0]
[50,0,0,1,208,{"$f":"ROUND(Source!V432,O455)","v":0},"ТрудМаш","Трудозатраты машинистов",null,null,208,22,3,"",7,{"$f":"ROUND(Source!DN432,O455)","v":0},null,null,null,null,null,null,0,1,0,0,1,0]
[50,0,0,1,209,{"$f":"ROUND(Source!W432,O456)","v":0},"ТранспМат","Транспорт материалов",null,null,209,23,3,"",2,{"$f":"ROUND(Source!DO432,O456)","v":0},null,null,null,null,null,null,0,1,0,0,1,0]
[50,0,0,1,233,{"$f":"ROUND(Source!BD432,O457)","v":0},"Перевозка","Перевозка грузов",null,null,233,24,3,"",2,{"$f":"ROUND(Source!EV432,O457)","v":0},null,null,null,null,null,null,0,1,0,0,1,0]
[50,0,0,1,210,{"$f":"ROUND(Source!X432,O458)","v":0},"НР","Накладные расходы",null,null,210,25,3,"",2,{"$f":"ROUND(Source!DP432,O458)","v":0},null,null,null,null,null,null,0,1,0,0,1,0]
[50,0,0,1,211,{"$f":"ROUND(Source!Y432,O459)","v":0},"СмПриб","Сметная прибыль",null,null,211,26,3,"",2,{"$f":"ROUND(Source!DQ432,O459)","v":0},null,null,null,null,null,null,0,1,0,0,1,0]
[50,0,0,1,224,{"$f":"ROUND(Source!AR432,O460)","v":2057.25},"Всего","Всего с НР и СП",null,null,224,27,3,"",2,{"$f":"ROUND(Source!EJ432,O460)","v":2057.25},null,null,null,null,null,null,2057.25,1,2057.25,2057.25,1,2057.25]
[]
[4,0,null,{"$f":"ROW(A469)","v":469},null,"Новый раздел","Оборудование","",0,null,0,null,"",null,null,null,null,null,0,0,"",0,null,null,null,null,null,"","","","","","",null,null,null,null,null,null,null,null,"","","",null,null,null,null,null,null,null,"",null,"","","","","","","","","","","","","","","",null,null,null,null,null,null,null,0,null,null,null,null,null,null,null,null,null,null,null,0]
[]
[52,{"$f":"B469","v":0},4,462,0,"Новый раздел","Оборудование",null,null,null,null,null,null,null,{"$f":"O469","v":0},0,0,0,0,0,0,0,0,0,0,0,0,0,0,0,0,0,0,0,0,0,0,0,0,0,0,0,0,0,0,0,{"$f":"AU469","v":0},0,0,0,0,0,0,0,0,0,0,0,0,0,0,0,0,0,0,0,0,0,0,0,0,0,0,0,0,0,0,0,{"$f":"CA469","v":0},0,0,0,0,0,0,0,0,0,0,0,0,0,0,0,0,0,0,0,0,0,0,0,0,0,0,0,0,0,0,0,{"$f":"DG469","v":0},0,0,0,0,0,0,0,0,0,0,0,0,0,0,0,0,0,0,0,0,0,0,0,0,0,0,0,0,0,0,0,{"$f":"EM469","v":0},0,0,0,0,0,0,0,0,0,0,0,0,0,0,0,0,0,0,0,0,0,0,0,0,0,0,0,0,0,0,0,{"$f":"FS469","v":0},0,0,0,0,0,0,0,0,0,0,0,0,0,0,0,0,0,0,0,0,0,0,0,0,0,0,0,0,0,0,0]
[]
[17,0,null,null,"","ТЦ_62.1.01.09_77_7736281025_12.01.2026_02_64.1","Автоматический выключатель ВА 57-35 160А","ШТ",0,0,0,1,1,{"$f":"ROUND(L466-M466,4)","v":0},{"$f":"ROUND(CP466,2)","v":0},{"$f":"ROUND(CQ466*I466,2)","v":0},{"$f":"ROUND(CR466*I466,2)","v":0},{"$f":"ROUND(CS466*I466,2)","v":0},{"$f":"ROUND(CT466*I466,2)","v":0},{"$f":"ROUND(CU466*I466,2)","v":0},{"$f":"ROUND(CV466*I466,7)","v":0},{"$f":"ROUND(CW466*I466,7)","v":0},{"$f":"ROUND(CX466*I466,2)","v":0},{"$f":"ROUND(CY466,2)","v":0},{"$f":"ROUND(CZ466,2)","v":0},null,-1,{"$f":"ROUND((AC466+AD466+AF466),2)","v":12603.08},{"$f":"ROUND((ES466),2)","v":12603.08},0,0,0,{"$f":"ROUND((AP466),2)","v":0},{"$f":"(EW466)","v":0},{"$f":"(EX466)","v":0},{"$f":"(AS466)","v":0},12603.08,12603.08,0,0,0,0,0,0,0,0,0,1,1,null,null,1,1,1,1,"","","","",3,3,"ТЦ_62.1.01.09_77_7736281025_12.01.2026_02_64.1",null,null,902,0,"",0,92,0,1,1,1,1,1,1,"",0,0,"",null,null,0,0,0,0,0,0,0,0,0,"",0,{"$f":"(P466+Q466+S466+R466)","v":0},{"$f":"ROUND(AL466,2)","v":12603.08},{"$f":"ROUND(AM466,2)","v":0},{"$f":"ROUND(AN466*BS466,2)","v":0},{"$f":"ROUND(AO466*BA466,2)","v":0},{"$f":"AG466","v":0},0,0,0,{"$f":"0","v":0},{"$f":"0","v":0},null,null,"","","","","","","","","","","",0,0,1,1,null,null,null,1013,"ШТ","ШТ",1,null,"","","","",null,83667263,92,"Оборудование, отсутствующее в СНБ",0,"",3,902,"Оборудование, отсутствующее в СНБ","Оборуд. КА",null,"",null,132112,0,12603.08,0,0,0,0,0,0,null,null,null,null,null,null,null,null,null,null,null,null,null,null,null,null,null,0,{"$f":"P466","v":0},0,null,null,null,null,0,0,null,"",null,null,1,null,1925777819,2,0,-2,0,0,{"$f":"ROUND(IF(AND(BH466=3,BI466=3,FS466<>0),P466,0),2)","v":0},{"$f":"ROUND(O466+X466+Y466,2)+GX466","v":0},{"$f":"IF(OR(BI466=0,BI466=1),GM466-GX466,0)","v":0},{"$f":"IF(BI466=2,GM466-GX466,0)","v":0},{"$f":"IF(BI466=4,GM466-GX466,0)","v":0},null,0,0,0,"",{"$f":"ROUND((GT466),2)","v":0},1,{"$f":"ROUND(HC466*I466,2)","v":0},null,null,0,0,{"$f":"GV466*GW466","v":0},null,"","",null,null,null,null,null,null,"","","","","",null,0,null,null,null,null,null,null,null,null,null,null,null,null,null,null,null,null,null,0]
[17,0,null,null,"","ТЦ_62.1.01.09_77_7736281025_12.01.2026_02_64.1","Автоматический выключатель ВА 57-35 160А","ШТ",0,0,0,1,1,{"$f":"ROUND(L467-M467,4)","v":0},{"$f":"ROUND(CP467,2)","v":0},{"$f":"ROUND(CQ467*I467,2)","v":0},{"$f":"ROUND(CR467*I467,2)","v":0},{"$f":"ROUND(CS467*I467,2)","v":0},{"$f":"ROUND(CT467*I467,2)","v":0},{"$f":"ROUND(CU467*I467,2)","v":0},{"$f":"ROUND(CV467*I467,7)","v":0},{"$f":"ROUND(CW467*I467,7)","v":0},{"$f":"ROUND(CX467*I467,2)","v":0},{"$f":"ROUND(CY467,2)","v":0},{"$f":"ROUND(CZ467,2)","v":0},null,-1,{"$f":"ROUND((AC467+AD467+AF467),2)","v":12603.08},12603.08,0,0,0,{"$f":"ROUND((AP467),2)","v":0},{"$f":"(EW467)","v":0},{"$f":"(EX467)","v":0},{"$f":"(AS467)","v":0},12603.08,12603.08,0,0,0,0,0,0,0,0,0,1,1,null,null,1,1,1,1,"","","","",3,3,"ТЦ_62.1.01.09_77_7736281025_12.01.2026_02_64.1",null,null,902,0,"",0,92,0,1,1,1,1,1,1,"",0,0,"",null,null,0,0,0,0,0,0,0,0,0,"",0,{"$f":"(P467+Q467+S467+R467)","v":0},{"$f":"ROUND(AL467,2)","v":12603.08},{"$f":"ROUND(AM467,2)","v":0},{"$f":"ROUND(AN467*BS467,2)","v":0},{"$f":"ROUND(AO467*BA467,2)","v":0},0,0,0,0,{"$f":"0","v":0},{"$f":"0","v":0},null,null,"","","","","","","","","","","",0,0,1,1,null,null,null,1013,"ШТ","ШТ",1,null,"","","","",null,83667263,92,"Оборудование, отсутствующее в СНБ",0,"",3,902,"Оборудование, отсутствующее в СНБ","Оборуд. КА",null,"",null,132112,0,12603.08,0,0,0,0,0,0,null,null,null,null,null,null,null,null,null,null,null,null,null,null,null,null,null,0,{"$f":"P467","v":0},0,null,null,null,null,0,0,null,"",null,null,1,null,1925777819,2,0,-2,0,0,{"$f":"ROUND(IF(AND(BH467=3,BI467=3,FS467<>0),P467,0),2)","v":0},{"$f":"ROUND(O467+X467+Y467,2)+GX467","v":0},{"$f":"IF(OR(BI467=0,BI467=1),GM467-GX467,0)","v":0},{"$f":"IF(BI467=2,GM467-GX467,0)","v":0},{"$f":"IF(BI467=4,GM467-GX467,0)","v":0},null,0,0,0,"",{"$f":"ROUND((GT467),2)","v":0},1,{"$f":"ROUND(HC467*I467,2)","v":0},null,null,0,0,{"$f":"GV467*GW467","v":0},null,"","",null,null,null,null,null,null,"","","","","",null,0,null,null,null,null,null,null,null,null,null,null,null,null,null,null,null,null,null,0]
[]
[51,{"$f":"B462","v":0},{"$f":"A462","v":4},{"$f":"ROW(A462)","v":462},null,{"$f":"IF(F462<>\"\",F462,\"\")","v":"Новый раздел"},{"$f":"IF(G462<>\"\",G462,\"\")","v":"Оборудование"},0,null,null,null,null,null,null,{"$f":"ROUND(AB469,2)","v":0},0,0,0,0,0,{"$f":"AH469","v":0},{"$f":"AI469","v":0},{"$f":"ROUND(AJ469,2)","v":0},{"$f":"ROUND(AK469,2)","v":0},{"$f":"ROUND(AL469,2)","v":0},null,null,{"$f":"ROUND(SUMIF(AA466:AA467,\"=85316715\",O466:O467),2)","v":0},{"$f":"ROUND(SUMIF(AA466:AA467,\"=85316715\",P466:P467),2)","v":0},{"$f":"ROUND(SUMIF(AA466:AA467,\"=85316715\",Q466:Q467),2)","v":0},{"$f":"ROUND(SUMIF(AA466:AA467,\"=85316715\",R466:R467),2)","v":0},{"$f":"ROUND(SUMIF(AA466:AA467,\"=85316715\",S466:S467),2)","v":0},{"$f":"ROUND(SUMIF(AA466:AA467,\"=85316715\",T466:T467),2)","v":0},{"$f":"SUMIF(AA466:AA467,\"=85316715\",U466:U467)","v":0},{"$f":"SUMIF(AA466:AA467,\"=85316715\",V466:V467)","v":0},{"$f":"ROUND(SUMIF(AA466:AA467,\"=85316715\",W466:W467),2)","v":0},{"$f":"ROUND(SUMIF(AA466:AA467,\"=85316715\",X466:X467),2)","v":0},{"$f":"ROUND(SUMIF(AA466:AA467,\"=85316715\",Y466:Y467),2)","v":0},null,null,{"$f":"ROUND(BX469,2)","v":0},0,0,0,0,0,0,0,0,0,0,0,0,0,0,0,null,null,null,null,null,null,null,null,null,null,null,null,null,null,null,null,null,null,null,{"$f":"ROUND(SUMIF(AA466:AA467,\"=85316715\",FQ466:FQ467),2)","v":0},{"$f":"ROUND(SUMIF(AA466:AA467,\"=85316715\",FR466:FR467),2)","v":0},{"$f":"ROUND(SUMIF(AA466:AA467,\"=85316715\",GL466:GL467),2)","v":0},{"$f":"ROUND(SUMIF(AA466:AA467,\"=85316715\",GM466:GM467),2)","v":0},{"$f":"ROUND(SUMIF(AA466:AA467,\"=85316715\",GN466:GN467),2)","v":0},{"$f":"ROUND(SUMIF(AA466:AA467,\"=85316715\",GO466:GO467),2)","v":0},{"$f":"ROUND(SUMIF(AA466:AA467,\"=85316715\",GP466:GP467),2)","v":0},{"$f":"AC469-BX469","v":0},{"$f":"AC469-BY469","v":0},{"$f":"BX469-BZ469","v":0},{"$f":"AC469-BX469-BY469+BZ469","v":0},{"$f":"BY469-BZ469","v":0},{"$f":"ROUND(SUMIF(AA466:AA467,\"=85316715\",GX466:GX467),2)","v":0},{"$f":"ROUND(SUMIF(AA466:AA467,\"=85316715\",GY466:GY467),2)","v":0},{"$f":"ROUND(SUMIF(AA466:AA467,\"=85316715\",GZ466:GZ467),2)","v":0},{"$f":"ROUND(SUMIF(AA466:AA467,\"=85316715\",HD466:HD467),2)","v":0},null,null,null,null,null,null,null,null,null,null,null,null,null,null,null,null,null,null,null,{"$f":"ROUND(DT469,2)","v":0},0,0,0,0,0,{"$f":"DZ469","v":0},{"$f":"EA469","v":0},{"$f":"ROUND(EB469,2)","v":0},{"$f":"ROUND(EC469,2)","v":0},{"$f":"ROUND(ED469,2)","v":0},null,null,{"$f":"ROUND(SUMIF(AA466:AA467,\"=85316656\",O466:O467),2)","v":0},{"$f":"ROUND(SUMIF(AA466:AA467,\"=85316656\",P466:P467),2)","v":0},{"$f":"ROUND(SUMIF(AA466:AA467,\"=85316656\",Q466:Q467),2)","v":0},{"$f":"ROUND(SUMIF(AA466:AA467,\"=85316656\",R466:R467),2)","v":0},{"$f":"ROUND(SUMIF(AA466:AA467,\"=85316656\",S466:S467),2)","v":0},{"$f":"ROUND(SUMIF(AA466:AA467,\"=85316656\",T466:T467),2)","v":0},{"$f":"SUMIF(AA466:AA467,\"=85316656\",U466:U467)","v":0},{"$f":"SUMIF(AA466:AA467,\"=85316656\",V466:V467)","v":0},{"$f":"ROUND(SUMIF(AA466:AA467,\"=85316656\",W466:W467),2)","v":0},{"$f":"ROUND(SUMIF(AA466:AA467,\"=85316656\",X466:X467),2)","v":0},{"$f":"ROUND(SUMIF(AA466:AA467,\"=85316656\",Y466:Y467),2)","v":0},null,null,{"$f":"ROUND(FP469,2)","v":0},0,0,0,0,0,0,0,0,0,0,0,0,0,0,0,null,null,null,null,null,null,null,null,null,null,null,null,null,null,null,null,null,null,null,{"$f":"ROUND(SUMIF(AA466:AA467,\"=85316656\",FQ466:FQ467),2)","v":0},{"$f":"ROUND(SUMIF(AA466:AA467,\"=85316656\",FR466:FR467),2)","v":0},{"$f":"ROUND(SUMIF(AA466:AA467,\"=85316656\",GL466:GL467),2)","v":0},{"$f":"ROUND(SUMIF(AA466:AA467,\"=85316656\",GM466:GM467),2)","v":0},{"$f":"ROUND(SUMIF(AA466:AA467,\"=85316656\",GN466:GN467),2)","v":0},{"$f":"ROUND(SUMIF(AA466:AA467,\"=85316656\",GO466:GO467),2)","v":0},{"$f":"ROUND(SUMIF(AA466:AA467,\"=85316656\",GP466:GP467),2)","v":0},{"$f":"DU469-FP469","v":0},{"$f":"DU469-FQ469","v":0},{"$f":"FP469-FR469","v":0},{"$f":"DU469-FP469-FQ469+FR469","v":0},{"$f":"FQ469-FR469","v":0},{"$f":"ROUND(SUMIF(AA466:AA467,\"=85316656\",GX466:GX467),2)","v":0},{"$f":"ROUND(SUMIF(AA466:AA467,\"=85316656\",GY466:GY467),2)","v":0},{"$f":"ROUND(SUMIF(AA466:AA467,\"=85316656\",GZ466:GZ467),2)","v":0},{"$f":"ROUND(SUMIF(AA466:AA467,\"=85316656\",HD466:HD467),2)","v":0},null,null,null,null,null,null,null,null,null,null,null,null,null,null,null,null,null,null,0]
[]
[50,0,0,1,201,{"$f":"ROUND(Source!O469,O471)","v":0},"ПЗ","Прямые затраты",null,null,201,1,3,"",2,{"$f":"ROUND(Source!DG469,O471)","v":0},null,null,null,null,null,null,0,1,0,0,1,0]
[50,0,0,1,202,{"$f":"ROUND(Source!P469,O472)","v":0},"СтМатОб","Стоимость материальных ресурсов (всего)",null,null,202,2,3,"",2,{"$f":"ROUND(Source!DH469,O472)","v":0},null,null,null,null,null,null,0,1,0,0,1,0]
[50,0,0,1,222,{"$f":"ROUND(Source!AO469,O473)","v":0},"СтМатОбЗак","Стоимость материалов и оборудования заказчика",null,null,222,3,3,"",2,{"$f":"ROUND(Source!EG469,O473)","v":0},null,null,null,null,null,null,0,1,0,0,1,0]
[50,0,0,1,225,{"$f":"ROUND(Source!AV469,O474)","v":0},"СтМатОбПод","Стоимость материалов и оборудования подрядчика",null,null,225,4,3,"",2,{"$f":"ROUND(Source!EN469,O474)","v":0},null,null,null,null,null,null,0,1,0,0,1,0]
[50,0,0,1,226,{"$f":"ROUND(Source!AW469,O475)","v":0},"СтМат","Стоимость материалов (всего)",null,null,226,5,3,"",2,{"$f":"ROUND(Source!EO469,O475)","v":0},null,null,null,null,null,null,0,1,0,0,1,0]
[50,0,0,1,227,{"$f":"ROUND(Source!AX469,O476)","v":0},"СтМатЗак","Стоимость материалов заказчика",null,null,227,6,3,"",2,{"$f":"ROUND(Source!EP469,O476)","v":0},null,null,null,null,null,null,0,1,0,0,1,0]
[50,0,0,1,228,{"$f":"ROUND(Source!AY469,O477)","v":0},"СтМатПод","Стоимость материалов подрядчика",null,null,228,7,3,"",2,{"$f":"ROUND(Source!EQ469,O477)","v":0},null,null,null,null,null,null,0,1,0,0,1,0]
[50,0,0,1,216,{"$f":"ROUND(Source!AP469,O478)","v":0},"Оборуд","Стоимость оборудования (всего)",null,null,216,8,3,"",2,{"$f":"ROUND(Source!EH469,O478)","v":0},null,null,null,null,null,null,0,1,0,0,1,0]
[50,0,0,1,223,{"$f":"ROUND(Source!AQ469,O479)","v":0},"ОборудЗак","Стоимость оборудования заказчика",null,null,223,9,3,"",2,{"$f":"ROUND(Source!EI469,O479)","v":0},null,null,null,null,null,null,0,1,0,0,1,0]
[50,0,0,1,229,{"$f":"ROUND(Source!AZ469,O480)","v":0},"ОборудПод","Стоимость оборудования подрядчика",null,null,229,10,3,"",2,{"$f":"ROUND(Source!ER469,O480)","v":0},null,null,null,null,null,null,0,1,0,0,1,0]
[50,0,0,1,203,{"$f":"ROUND(Source!Q469,O481)","v":0},"ЭММ","Эксплуатация машин",null,null,203,11,3,"",2,{"$f":"ROUND(Source!DI469,O481)","v":0},null,null,null,null,null,null,0,1,0,0,1,0]
[50,0,0,1,231,{"$f":"ROUND(Source!BB469,O482)","v":0},"ЭММсНРиСП","Эксплуатация машин по ТСН-2001.16",null,null,231,12,3,"",2,{"$f":"ROUND(Source!ET469,O482)","v":0},null,null,null,null,null,null,0,1,0,0,1,0]
[50,0,0,1,204,{"$f":"ROUND(Source!R469,O483)","v":0},"ЗПМ","ЗП машинистов",null,null,204,13,3,"",2,{"$f":"ROUND(Source!DJ469,O483)","v":0},null,null,null,null,null,null,0,1,0,0,1,0]
[50,0,0,1,205,{"$f":"ROUND(Source!S469,O484)","v":0},"ОЗП","Основная ЗП рабочих",null,null,205,14,3,"",2,{"$f":"ROUND(Source!DK469,O484)","v":0},null,null,null,null,null,null,0,1,0,0,1,0]
[50,0,0,1,232,{"$f":"ROUND(Source!BC469,O485)","v":0},"ОЗПсНРиСП","Основная ЗП рабочих по ТСН-2001.16",null,null,232,15,3,"",2,{"$f":"ROUND(Source!EU469,O485)","v":0},null,null,null,null,null,null,0,1,0,0,1,0]
[50,0,0,1,214,{"$f":"ROUND(Source!AS469,O486)","v":0},"Строит","Строительные работы с НР и СП",null,null,214,16,3,"",2,{"$f":"ROUND(Source!EK469,O486)","v":0},null,null,null,null,null,null,0,1,0,0,1,0]
[50,0,0,1,215,{"$f":"ROUND(Source!AT469,O487)","v":0},"Монтаж","Монтажные работы с НР и СП",null,null,215,17,3,"",2,{"$f":"ROUND(Source!EL469,O487)","v":0},null,null,null,null,null,null,0,1,0,0,1,0]
[50,0,0,1,217,{"$f":"ROUND(Source!AU469,O488)","v":0},"Прочие","Прочие работы с НР и СП",null,null,217,18,3,"",2,{"$f":"ROUND(Source!EM469,O488)","v":0},null,null,null,null,null,null,0,1,0,0,1,0]
[50,0,0,1,230,{"$f":"ROUND(Source!BA469,O489)","v":0},"ПрочиеЗатр","Прочие затраты по ТСН-2001.16",null,null,230,19,3,"",2,{"$f":"ROUND(Source!ES469,O489)","v":0},null,null,null,null,null,null,0,1,0,0,1,0]
[50,0,0,1,206,{"$f":"ROUND(Source!T469,O490)","v":0},"ВозврМат","Возврат материалов",null,null,206,20,3,"",2,{"$f":"ROUND(Source!DL469,O490)","v":0},null,null,null,null,null,null,0,1,0,0,1,0]
[50,0,0,1,207,{"$f":"ROUND(Source!U469,O491)","v":0},"ТрудСтр","Трудозатраты строителей",null,null,207,21,3,"",7,{"$f":"ROUND(Source!DM469,O491)","v":0},null,null,null,null,null,null,0,1,0,0,1,0]
[50,0,0,1,208,{"$f":"ROUND(Source!V469,O492)","v":0},"ТрудМаш","Трудозатраты машинистов",null,null,208,22,3,"",7,{"$f":"ROUND(Source!DN469,O492)","v":0},null,null,null,null,null,null,0,1,0,0,1,0]
[50,0,0,1,209,{"$f":"ROUND(Source!W469,O493)","v":0},"ТранспМат","Транспорт материалов",null,null,209,23,3,"",2,{"$f":"ROUND(Source!DO469,O493)","v":0},null,null,null,null,null,null,0,1,0,0,1,0]
[50,0,0,1,233,{"$f":"ROUND(Source!BD469,O494)","v":0},"Перевозка","Перевозка грузов",null,null,233,24,3,"",2,{"$f":"ROUND(Source!EV469,O494)","v":0},null,null,null,null,null,null,0,1,0,0,1,0]
[50,0,0,1,210,{"$f":"ROUND(Source!X469,O495)","v":0},"НР","Накладные расходы",null,null,210,25,3,"",2,{"$f":"ROUND(Source!DP469,O495)","v":0},null,null,null,null,null,null,0,1,0,0,1,0]
[50,0,0,1,211,{"$f":"ROUND(Source!Y469,O496)","v":0},"СмПриб","Сметная прибыль",null,null,211,26,3,"",2,{"$f":"ROUND(Source!DQ469,O496)","v":0},null,null,null,null,null,null,0,1,0,0,1,0]
[50,0,0,1,224,{"$f":"ROUND(Source!AR469,O497)","v":0},"Всего","Всего с НР и СП",null,null,224,27,3,"",2,{"$f":"ROUND(Source!EJ469,O497)","v":0},null,null,null,null,null,null,0,1,0,0,1,0]
[]
[51,{"$f":"B20","v":1},{"$f":"A20","v":3},{"$f":"ROW(A20)","v":20},null,{"$f":"IF(F20<>\"\",F20,\"\")","v":"02-01-01"},{"$f":"IF(G20<>\"\",G20,\"\")","v":"Строительство ВЛИ-0,4 кВ"},0,null,null,null,null,null,null,{"$f":"ROUND(O252+O317+O432+O469+AB499,2)","v":3399.4},2189.2199999999998,2.77,4.05,1203.3599999999999,0,{"$f":"U252+U317+U432+U469+AH499","v":1.6281600000000001},{"$f":"V252+V317+V432+V469+AI499","v":5.0879999999999996E-3},{"$f":"ROUND(W252+W317+W432+W469+AJ499,2)","v":0},{"$f":"ROUND(X252+X317+X432+X469+AK499,2)","v":1207.4100000000001},{"$f":"ROUND(Y252+Y317+Y432+Y469+AL499,2)","v":591.63},null,null,null,null,null,null,null,null,null,null,null,null,null,null,null,{"$f":"ROUND(AO252+AO317+AO432+AO469+BX499,2)","v":0},0,0,5198.4399999999996,5198.4399999999996,0,0,2189.2199999999998,2189.2199999999998,0,2189.2199999999998,0,0,0,0,0,null,null,null,null,null,null,null,null,null,null,null,null,null,null,null,null,null,null,null,null,null,null,null,null,null,null,null,null,null,null,null,null,null,null,null,null,null,null,null,null,null,null,null,null,null,null,null,null,null,null,null,null,null,null,{"$f":"ROUND(DG252+DG317+DG432+DG469+DT499,2)","v":3399.4},2189.2199999999998,2.77,4.05,1203.3599999999999,0,{"$f":"DM252+DM317+DM432+DM469+DZ499","v":1.6281600000000001},{"$f":"DN252+DN317+DN432+DN469+EA499","v":5.0879999999999996E-3},{"$f":"ROUND(DO252+DO317+DO432+DO469+EB499,2)","v":0},{"$f":"ROUND(DP252+DP317+DP432+DP469+EC499,2)","v":1207.4100000000001},{"$f":"ROUND(DQ252+DQ317+DQ432+DQ469+ED499,2)","v":591.63},null,null,null,null,null,null,null,null,null,null,null,null,null,null,null,{"$f":"ROUND(EG252+EG317+EG432+EG469+FP499,2)","v":0},0,0,5198.4399999999996,5198.4399999999996,0,0,2189.2199999999998,2189.2199999999998,0,2189.2199999999998,0,0,0,0,0,null,null,null,null,null,null,null,null,null,null,null,null,null,null,null,null,null,null,null,null,null,null,null,null,null,null,null,null,null,null,null,null,null,null,null,null,null,null,null,null,null,null,null,null,null,null,null,null,null,null,null,null,null,0]
[]
[50,0,0,1,201,{"$f":"ROUND(Source!O499,O501)","v":3399.4},"ПЗ","Прямые затраты",null,null,201,1,3,"",2,{"$f":"ROUND(Source!DG499,O501)","v":3399.4},null,null,null,null,null,null,3399.4,1,3399.4,3399.4,1,3399.4]
[50,0,0,1,202,{"$f":"ROUND(Source!P499,O502)","v":2189.2199999999998},"СтМатОб","Стоимость материальных ресурсов (всего)",null,null,202,2,3,"",2,{"$f":"ROUND(Source!DH499,O502)","v":2189.2199999999998},null,null,null,null,null,null,2189.2199999999998,1,2189.2199999999998,2189.2199999999998,1,2189.2199999999998]
[50,0,0,1,222,{"$f":"ROUND(Source!AO499,O503)","v":0},"СтМатОбЗак","Стоимость материалов и оборудования заказчика",null,null,222,3,3,"",2,{"$f":"ROUND(Source!EG499,O503)","v":0},null,null,null,null,null,null,0,1,0,0,1,0]
[50,0,0,1,225,{"$f":"ROUND(Source!AV499,O504)","v":2189.2199999999998},"СтМатОбПод","Стоимость материалов и оборудования подрядчика",null,null,225,4,3,"",2,{"$f":"ROUND(Source!EN499,O504)","v":2189.2199999999998},null,null,null,null,null,null,2189.2199999999998,1,2189.2199999999998,2189.2199999999998,1,2189.2199999999998]
[50,0,0,1,226,{"$f":"ROUND(Source!AW499,O505)","v":2189.2199999999998},"СтМат","Стоимость материалов (всего)",null,null,226,5,3,"",2,{"$f":"ROUND(Source!EO499,O505)","v":2189.2199999999998},null,null,null,null,null,null,2189.2199999999998,1,2189.2199999999998,2189.2199999999998,1,2189.2199999999998]
[50,0,0,1,227,{"$f":"ROUND(Source!AX499,O506)","v":0},"СтМатЗак","Стоимость материалов заказчика",null,null,227,6,3,"",2,{"$f":"ROUND(Source!EP499,O506)","v":0},null,null,null,null,null,null,0,1,0,0,1,0]
[50,0,0,1,228,{"$f":"ROUND(Source!AY499,O507)","v":2189.2199999999998},"СтМатПод","Стоимость материалов подрядчика",null,null,228,7,3,"",2,{"$f":"ROUND(Source!EQ499,O507)","v":2189.2199999999998},null,null,null,null,null,null,2189.2199999999998,1,2189.2199999999998,2189.2199999999998,1,2189.2199999999998]
[50,0,0,1,216,{"$f":"ROUND(Source!AP499,O508)","v":0},"Оборуд","Стоимость оборудования (всего)",null,null,216,8,3,"",2,{"$f":"ROUND(Source!EH499,O508)","v":0},null,null,null,null,null,null,0,1,0,0,1,0]
[50,0,0,1,223,{"$f":"ROUND(Source!AQ499,O509)","v":0},"ОборудЗак","Стоимость оборудования заказчика",null,null,223,9,3,"",2,{"$f":"ROUND(Source!EI499,O509)","v":0},null,null,null,null,null,null,0,1,0,0,1,0]
[50,0,0,1,229,{"$f":"ROUND(Source!AZ499,O510)","v":0},"ОборудПод","Стоимость оборудования подрядчика",null,null,229,10,3,"",2,{"$f":"ROUND(Source!ER499,O510)","v":0},null,null,null,null,null,null,0,1,0,0,1,0]
[50,0,0,1,203,{"$f":"ROUND(Source!Q499,O511)","v":2.77},"ЭММ","Эксплуатация машин",null,null,203,11,3,"",2,{"$f":"ROUND(Source!DI499,O511)","v":2.77},null,null,null,null,null,null,2.77,1,2.77,2.77,1,2.77]
[50,0,0,1,231,{"$f":"ROUND(Source!BB499,O512)","v":0},"ЭММсНРиСП","Эксплуатация машин по ТСН-2001.16",null,null,231,12,3,"",2,{"$f":"ROUND(Source!ET499,O512)","v":0},null,null,null,null,null,null,0,1,0,0,1,0]
[50,0,0,1,204,{"$f":"ROUND(Source!R499,O513)","v":4.05},"ЗПМ","ЗП машинистов",null,null,204,13,3,"",2,{"$f":"ROUND(Source!DJ499,O513)","v":4.05},null,null,null,null,null,null,4.05,1,4.05,4.05,1,4.05]
[50,0,0,1,205,{"$f":"ROUND(Source!S499,O514)","v":1203.3599999999999},"ОЗП","Основная ЗП рабочих",null,null,205,14,3,"",2,{"$f":"ROUND(Source!DK499,O514)","v":1203.3599999999999},null,null,null,null,null,null,1203.3599999999999,1,1203.3599999999999,1203.3599999999999,1,1203.3599999999999]
[50,0,0,1,232,{"$f":"ROUND(Source!BC499,O515)","v":0},"ОЗПсНРиСП","Основная ЗП рабочих по ТСН-2001.16",null,null,232,15,3,"",2,{"$f":"ROUND(Source!EU499,O515)","v":0},null,null,null,null,null,null,0,1,0,0,1,0]
[50,0,0,1,214,{"$f":"ROUND(Source!AS499,O516)","v":5198.4399999999996},"Строит","Строительные работы с НР и СП",null,null,214,16,3,"",2,{"$f":"ROUND(Source!EK499,O516)","v":5198.4399999999996},null,null,null,null,null,null,5198.4399999999996,1,5198.4399999999996,5198.4399999999996,1,5198.4399999999996]
[50,0,0,1,215,{"$f":"ROUND(Source!AT499,O517)","v":0},"Монтаж","Монтажные работы с НР и СП",null,null,215,17,3,"",2,{"$f":"ROUND(Source!EL499,O517)","v":0},null,null,null,null,null,null,0,1,0,0,1,0]
[50,0,0,1,217,{"$f":"ROUND(Source!AU499,O518)","v":0},"Прочие","Прочие работы с НР и СП",null,null,217,18,3,"",2,{"$f":"ROUND(Source!EM499,O518)","v":0},null,null,null,null,null,null,0,1,0,0,1,0]
[50,0,0,1,230,{"$f":"ROUND(Source!BA499,O519)","v":0},"ПрочиеЗатр","Прочие затраты по ТСН-2001.16",null,null,230,19,3,"",2,{"$f":"ROUND(Source!ES499,O519)","v":0},null,null,null,null,null,null,0,1,0,0,1,0]
[50,0,0,1,206,{"$f":"ROUND(Source!T499,O520)","v":0},"ВозврМат","Возврат материалов",null,null,206,20,3,"",2,{"$f":"ROUND(Source!DL499,O520)","v":0},null,null,null,null,null,null,0,1,0,0,1,0]
[50,0,0,1,207,{"$f":"ROUND(Source!U499,O521)","v":1.6281600000000001},"ТрудСтр","Трудозатраты строителей",null,null,207,21,3,"",7,{"$f":"ROUND(Source!DM499,O521)","v":1.6281600000000001},null,null,null,null,null,null,1.6281600000000001,1,1.6281600000000001,1.6281600000000001,1,1.6281600000000001]
[50,0,0,1,208,{"$f":"ROUND(Source!V499,O522)","v":5.0879999999999996E-3},"ТрудМаш","Трудозатраты машинистов",null,null,208,22,3,"",7,{"$f":"ROUND(Source!DN499,O522)","v":5.0879999999999996E-3},null,null,null,null,null,null,5.0879999999999996E-3,1,5.0879999999999996E-3,5.0879999999999996E-3,1,5.0879999999999996E-3]
[50,0,0,1,209,{"$f":"ROUND(Source!W499,O523)","v":0},"ТранспМат","Транспорт материалов",null,null,209,23,3,"",2,{"$f":"ROUND(Source!DO499,O523)","v":0},null,null,null,null,null,null,0,1,0,0,1,0]
[50,0,0,1,233,{"$f":"ROUND(Source!BD499,O524)","v":0},"Перевозка","Перевозка грузов",null,null,233,24,3,"",2,{"$f":"ROUND(Source!EV499,O524)","v":0},null,null,null,null,null,null,0,1,0,0,1,0]
[50,0,0,1,210,{"$f":"ROUND(Source!X499,O525)","v":1207.4100000000001},"НР","Накладные расходы",null,null,210,25,3,"",2,{"$f":"ROUND(Source!DP499,O525)","v":1207.4100000000001},null,null,null,null,null,null,1207.4100000000001,1,1207.4100000000001,1207.4100000000001,1,1207.4100000000001]
[50,0,0,1,211,{"$f":"ROUND(Source!Y499,O526)","v":591.63},"СмПриб","Сметная прибыль",null,null,211,26,3,"",2,{"$f":"ROUND(Source!DQ499,O526)","v":591.63},null,null,null,null,null,null,591.63,1,591.63,591.63,1,591.63]
[50,0,0,1,224,{"$f":"ROUND(Source!AR499,O527)","v":5198.4399999999996},"Всего","Всего с НР и СП",null,null,224,27,3,"",2,{"$f":"ROUND(Source!EJ499,O527)","v":5198.4399999999996},null,null,null,null,null,null,5198.4399999999996,1,5198.4399999999996,5198.4399999999996,1,5198.4399999999996]
[50,1,0,2,0,{"$f":"ROUND(F527,O528)","v":5198.4399999999996},"и1","Итого",null,null,212,28,0,"",2,{"$f":"ROUND(P527,O528)","v":5198.4399999999996},null,null,null,null,null,null,5198.4399999999996,1,5198.4399999999996,5198.4399999999996,1,5198.4399999999996]
[50,1,0,2,0,{"$f":"ROUND(F528*0.2,O529)","v":1039.69},"и2","НДС 20%",null,null,212,29,0,"",2,{"$f":"ROUND(P528*0.2,O529)","v":1039.69},null,null,null,null,null,null,1039.69,1,1039.69,1039.69,1,1039.69]
[50,1,0,2,213,{"$f":"ROUND(F528+F529,O530)","v":6238.13},"и3","Всего",null,null,212,30,0,"",2,{"$f":"ROUND(P528+P529,O530)","v":6238.13},null,null,null,null,null,null,6238.13,1,6238.13,6238.13,1,6238.13]
[]
[3,1,null,{"$f":"ROW(A595)","v":595},null,"09-01-01","ПНР ВЛИ-0,4 кВ","",0,"",-1,"09-01-01","",null,null,null,null,null,0,0,"",0,null,null,null,null,null,"","","","","","",null,null,null,null,null,null,null,null,"","","",null,null,null,null,null,null,null,"",null,"","","","","","","","","","","","","","","",null,null,null,null,null,null,null,0,null,null,null,null,null,null,null,0,0,null,"","","","","","","","",""]
[]
[52,{"$f":"B595","v":1},3,532,0,"09-01-01","ПНР ВЛИ-0,4 кВ",null,null,null,null,null,null,null,{"$f":"O595","v":13972.26},0,0,0,13972.26,0,12.95712,0,0,10339.469999999999,5030.01,0,0,0,0,0,0,0,0,0,0,0,0,0,0,0,0,0,0,29341.74,0,0,{"$f":"AU595","v":29341.74},0,0,0,0,0,0,0,0,0,0,0,0,0,0,0,0,0,0,0,0,0,0,0,0,0,0,0,0,0,0,0,{"$f":"CA595","v":0},0,0,0,0,0,0,0,0,0,0,0,0,0,0,0,0,0,0,0,0,0,0,0,0,0,0,0,0,0,0,0,{"$f":"DG595","v":13972.26},0,0,0,13972.26,0,12.95712,0,0,10339.469999999999,5030.01,0,0,0,0,0,0,0,0,0,0,0,0,0,0,0,0,0,0,29341.74,0,0,{"$f":"EM595","v":29341.74},0,0,0,0,0,0,0,0,0,0,0,0,0,0,0,0,0,0,0,0,0,0,0,0,0,0,0,0,0,0,0,{"$f":"FS595","v":0},0,0,0,0,0,0,0,0,0,0,0,0,0,0,0,0,0,0,0,0,0,0,0,0,0,0,0,0,0,0,0]
[]
[4,1,null,{"$f":"ROW(A565)","v":565},null,"Новый раздел","ПНР","",0,null,0,null,"",null,null,null,null,null,0,0,"",0,null,null,null,null,null,"","","","","","",null,null,null,null,null,null,null,null,"","","",null,null,null,null,null,null,null,"",null,"","","","","","","","","","","","","","","",null,null,null,null,null,null,null,0,null,null,null,null,null,null,null,null,null,null,null,0]
[]
[52,{"$f":"B565","v":1},4,536,0,"Новый раздел","ПНР",null,null,null,null,null,null,null,{"$f":"O565","v":13972.26},0,0,0,13972.26,0,12.95712,0,0,10339.469999999999,5030.01,0,0,13972.26,0,0,0,13972.26,0,12.95712,0,0,10339.469999999999,5030.01,0,0,0,0,0,29341.74,0,0,{"$f":"AU565","v":29341.74},0,0,0,0,0,0,0,0,0,0,0,0,0,0,0,0,0,0,0,0,0,0,0,0,0,0,0,0,0,0,0,{"$f":"CA565","v":29341.74},0,0,29341.74,0,0,0,0,0,0,0,0,0,0,0,0,0,0,0,0,0,0,0,0,0,0,0,0,0,0,0,0,{"$f":"DG565","v":13972.26},0,0,0,13972.26,0,12.95712,0,0,10339.469999999999,5030.01,0,0,13972.26,0,0,0,13972.26,0,12.95712,0,0,10339.469999999999,5030.01,0,0,0,0,0,29341.74,0,0,{"$f":"EM565","v":29341.74},0,0,0,0,0,0,0,0,0,0,0,0,0,0,0,0,0,0,0,0,0,0,0,0,0,0,0,0,0,0,0,{"$f":"FS565","v":29341.74},0,0,29341.74,0,0,0,0,0,0,0,0,0,0,0,0,0,0,0,0,0,0,0,0,0,0,0,0,0,0,0,0]
[]
[17,1,{"$f":"ROW(SmtRes!A640)","v":640},{"$f":"ROW(EtalonRes!A640)","v":640},"1","п01-11-010-01","Измерение сопротивления растеканию тока: заземлителя","измерение",3,0,3,3,0,{"$f":"ROUND(L540-M540,4)","v":3},{"$f":"ROUND(CP540,2)","v":3882.04},{"$f":"SUMIF(SmtRes!AQ639:'SmtRes'!AQ640,\"=1\",SmtRes!DF639:'SmtRes'!DF640)","v":0},{"$f":"SUMIF(SmtRes!AQ639:'SmtRes'!AQ640,\"=1\",SmtRes!DG639:'SmtRes'!DG640)","v":0},{"$f":"SUMIF(SmtRes!AQ639:'SmtRes'!AQ640,\"=1\",SmtRes!DH639:'SmtRes'!DH640)","v":0},{"$f":"SUMIF(SmtRes!AQ639:'SmtRes'!AQ640,\"=1\",SmtRes!DI639:'SmtRes'!DI640)","v":3882.04},{"$f":"ROUND(CU540*I540,2)","v":0},{"$f":"SUMIF(SmtRes!AQ639:'SmtRes'!AQ640,\"=1\",SmtRes!CV639:'SmtRes'!CV640)","v":3.6},{"$f":"SUMIF(SmtRes!AQ639:'SmtRes'!AQ640,\"=1\",SmtRes!CW639:'SmtRes'!CW640)","v":0},{"$f":"ROUND(CX540*I540,2)","v":0},{"$f":"ROUND(CY540,2)","v":2872.71},{"$f":"ROUND(CZ540,2)","v":1397.53},null,85316715,{"$f":"ROUND((AC540+AD540+AF540),2)","v":1294.01},{"$f":"ROUND((0),2)","v":0},{"$f":"ROUND((((0)-(0))+AE540),2)","v":0},{"$f":"ROUND((0),2)","v":0},{"$f":"ROUND((SUM(SmtRes!BT639:'SmtRes'!BT640)),2)","v":1294.01},{"$f":"ROUND((AP540),2)","v":0},{"$f":"(SUM(SmtRes!BU639:'SmtRes'!BU640))","v":1.2},{"$f":"(0)","v":0},{"$f":"(AS540)","v":0},1078.345,0,0,0,1078.345,0,1,0,0,74,36,1,1,null,null,1,1,1,1,"","","","",0,4,"ГЭСНп-2022, п01-11-010-01, приказ Минстроя России от 18.05.2022 г. № 378/пр",null,null,200001,0,"",0,4,0,1,1,1,1,1,1,"",74,36,"",null,null,0,0,0,1,0,0,0,0,0,"Поправка: 421/пр_2020_прил.10_т.1_п.4_гр.3 Наименование: Производство работ осуществляется в охранной зоне действующей воздушной линии электропередачи, вблизи объектов, находящихся под напряжением, внутри объектов капитального строительства, внутренняя проводка в которых не обесточена, если это приведет к ограничению действий рабочих в соответствии с требованиями техники безопасности",0,{"$f":"(P540+Q540+S540+R540)","v":3882.04},{"$f":"SUMIF(SmtRes!AQ639:'SmtRes'!AQ640,\"=1\",SmtRes!AA639:'SmtRes'!AA640)","v":0},{"$f":"SUMIF(SmtRes!AQ639:'SmtRes'!AQ640,\"=1\",SmtRes!AB639:'SmtRes'!AB640)","v":0},{"$f":"SUMIF(SmtRes!AQ639:'SmtRes'!AQ640,\"=1\",SmtRes!AC639:'SmtRes'!AC640)","v":0},{"$f":"SUMIF(SmtRes!AQ639:'SmtRes'!AQ640,\"=1\",SmtRes!AD639:'SmtRes'!AD640)","v":2156.69},{"$f":"AG540","v":0},{"$f":"SUMIF(SmtRes!AQ639:'SmtRes'!AQ640,\"=1\",SmtRes!BU639:'SmtRes'!BU640)","v":1.2},{"$f":"SUMIF(SmtRes!AQ639:'SmtRes'!AQ640,\"=1\",SmtRes!BV639:'SmtRes'!BV640)","v":0},{"$f":"AJ540","v":0},{"$f":"(((S540+R540)*AT540)/100)","v":2872.7096000000001},{"$f":"(((S540+R540)*AU540)/100)","v":1397.5344},null,1,"","","*(0,2+1)","*(0,2+1)","*(0,2+1)","","*(0,2+1)","*(0,2+1)","","","",0,0,1,1,null,null,null,1013,"измерение","измерение",1,null,"","","","",null,83666744,4,"Пусконаладочные работы",83,"Пусконаладочные работы",4,200001,"Пусконаладочные работы Электротехнические устройства","ФЕРп",null,"Поправка: 421/пр_2020_прил.10_т.1_п.4_гр.3",null,131072,0,0,0,0,0,1,0,0,null,null,null,null,null,null,null,null,null,null,null,null,null,null,null,null,null,0,0,0,null,null,null,null,74,36,null,"",null,null,1,null,-888698134,2,1,-2,0,0,{"$f":"ROUND(IF(AND(BH540=3,BI540=3,FS540<>0),P540,0),2)","v":0},{"$f":"ROUND(O540+X540+Y540,2)+GX540","v":8152.28},{"$f":"IF(OR(BI540=0,BI540=1),GM540-GX540,0)","v":0},{"$f":"IF(BI540=2,GM540-GX540,0)","v":0},{"$f":"IF(BI540=4,GM540-GX540,0)","v":8152.28},null,0,3,0,"",{"$f":"ROUND((GT540),2)","v":0},1,{"$f":"ROUND(HC540*I540,2)","v":0},null,null,0,0,{"$f":"GV540*GW540","v":0},null,"","",null,null,null,null,null,null,"","Пр/812-083.0-1","Пр/774-083.0","Пусконаладочные работы","Пусконаладочные работы",null,0,null,null,null,null,null,null,null,null,null,null,null,null,null,null,null,null,null,0]
[17,1,{"$f":"ROW(SmtRes!A642)","v":642},{"$f":"ROW(EtalonRes!A642)","v":642},"1","п01-11-010-01","Измерение сопротивления растеканию тока: заземлителя","измерение",3,0,3,3,0,{"$f":"ROUND(L541-M541,4)","v":3},{"$f":"ROUND(CP541,2)","v":3882.04},{"$f":"SUMIF(SmtRes!AQ641:'SmtRes'!AQ642,\"=1\",SmtRes!DF641:'SmtRes'!DF642)","v":0},{"$f":"SUMIF(SmtRes!AQ641:'SmtRes'!AQ642,\"=1\",SmtRes!DG641:'SmtRes'!DG642)","v":0},{"$f":"SUMIF(SmtRes!AQ641:'SmtRes'!AQ642,\"=1\",SmtRes!DH641:'SmtRes'!DH642)","v":0},{"$f":"SUMIF(SmtRes!AQ641:'SmtRes'!AQ642,\"=1\",SmtRes!DI641:'SmtRes'!DI642)","v":3882.04},{"$f":"ROUND(CU541*I541,2)","v":0},{"$f":"SUMIF(SmtRes!AQ641:'SmtRes'!AQ642,\"=1\",SmtRes!CV641:'SmtRes'!CV642)","v":3.6},{"$f":"SUMIF(SmtRes!AQ641:'SmtRes'!AQ642,\"=1\",SmtRes!CW641:'SmtRes'!CW642)","v":0},{"$f":"ROUND(CX541*I541,2)","v":0},{"$f":"ROUND(CY541,2)","v":2872.71},{"$f":"ROUND(CZ541,2)","v":1397.53},null,85316656,{"$f":"ROUND((AC541+AD541+AF541),2)","v":1294.01},{"$f":"ROUND((0),2)","v":0},{"$f":"ROUND((((0)-(0))+AE541),2)","v":0},{"$f":"ROUND((0),2)","v":0},{"$f":"ROUND((SUM(SmtRes!BT641:'SmtRes'!BT642)),2)","v":1294.01},{"$f":"ROUND((AP541),2)","v":0},{"$f":"(SUM(SmtRes!BU641:'SmtRes'!BU642))","v":1.2},{"$f":"(0)","v":0},{"$f":"(AS541)","v":0},1078.345,0,0,0,1078.345,0,1,0,0,74,36,1,1,null,null,1,1,1,1,"","","","",0,4,"ГЭСНп-2022, п01-11-010-01, приказ Минстроя России от 18.05.2022 г. № 378/пр",null,null,200001,0,"",0,4,0,1,1,1,1,1,1,"",74,36,"",null,null,0,0,0,1,0,0,0,0,0,"Поправка: 421/пр_2020_прил.10_т.1_п.4_гр.3 Наименование: Производство работ осуществляется в охранной зоне действующей воздушной линии электропередачи, вблизи объектов, находящихся под напряжением, внутри объектов капитального строительства, внутренняя проводка в которых не обесточена, если это приведет к ограничению действий рабочих в соответствии с требованиями техники безопасности",0,{"$f":"(P541+Q541+S541+R541)","v":3882.04},{"$f":"SUMIF(SmtRes!AQ641:'SmtRes'!AQ642,\"=1\",SmtRes!AA641:'SmtRes'!AA642)","v":0},{"$f":"SUMIF(SmtRes!AQ641:'SmtRes'!AQ642,\"=1\",SmtRes!AB641:'SmtRes'!AB642)","v":0},{"$f":"SUMIF(SmtRes!AQ641:'SmtRes'!AQ642,\"=1\",SmtRes!AC641:'SmtRes'!AC642)","v":0},{"$f":"SUMIF(SmtRes!AQ641:'SmtRes'!AQ642,\"=1\",SmtRes!AD641:'SmtRes'!AD642)","v":2156.69},{"$f":"AG541","v":0},{"$f":"SUMIF(SmtRes!AQ641:'SmtRes'!AQ642,\"=1\",SmtRes!BU641:'SmtRes'!BU642)","v":1.2},{"$f":"SUMIF(SmtRes!AQ641:'SmtRes'!AQ642,\"=1\",SmtRes!BV641:'SmtRes'!BV642)","v":0},{"$f":"AJ541","v":0},{"$f":"(((S541+R541)*AT541)/100)","v":2872.7096000000001},{"$f":"(((S541+R541)*AU541)/100)","v":1397.5344},null,2,"","","*(0,2+1)","*(0,2+1)","*(0,2+1)","","*(0,2+1)","*(0,2+1)","","","",0,0,1,1,null,null,null,1013,"измерение","измерение",1,null,"","","","",null,83666744,4,"Пусконаладочные работы",83,"Пусконаладочные работы",4,200001,"Пусконаладочные работы Электротехнические устройства","ФЕРп",null,"Поправка: 421/пр_2020_прил.10_т.1_п.4_гр.3",null,131072,0,0,0,0,0,1,0,0,null,null,null,null,null,null,null,null,null,null,null,null,null,null,null,null,null,0,0,0,null,null,null,null,74,36,null,"",null,null,1,null,-888698134,2,1,-2,0,0,{"$f":"ROUND(IF(AND(BH541=3,BI541=3,FS541<>0),P541,0),2)","v":0},{"$f":"ROUND(O541+X541+Y541,2)+GX541","v":8152.28},{"$f":"IF(OR(BI541=0,BI541=1),GM541-GX541,0)","v":0},{"$f":"IF(BI541=2,GM541-GX541,0)","v":0},{"$f":"IF(BI541=4,GM541-GX541,0)","v":8152.28},null,0,3,0,"",{"$f":"ROUND((GT541),2)","v":0},1,{"$f":"ROUND(HC541*I541,2)","v":0},null,null,0,0,{"$f":"GV541*GW541","v":0},null,"","",null,null,null,null,null,null,"","Пр/812-083.0-1","Пр/774-083.0","Пусконаладочные работы","Пусконаладочные работы",null,0,null,null,null,null,null,null,null,null,null,null,null,null,null,null,null,null,null,0]
[19,1,null,null,null,"","Объем берется из кол-ва заземляющих стоек. Сколько заземляющих стоек, столько и в кол-ве","",null,null,null,null,null,null,null,null,null,null,null,null,null,null,null,null,null,null,1,null,null,null,null,null,null,null,null,null,null,null,null,null,null,null,null,null,null,null,null,null,null,null,null,null,null,null,null,null,null,null,null,null,null,null,null,null,null,null,null,null,null,null,null,null,null,null,null,null,null,null,null,null,null,null,null,null,null,null,null,null,null,null,null,null,null,null,null,null,null,null,null,null,null,null,null,null,null,null,null,null,null,null,null,null,null,null,null,null,null,null,null,null,null,null,null,null,null,null,null,null,null,null,null,null,null,null,null,null,null,null,null,null,null,null,null,null,null,null,null,null,null,null,null,null,null,null,null,null,null,null,null,null,null,null,null,null,null,null,null,null,null,null,null,null,null,null,null,null,null,null,null,null,null,null,null,null,null,null,null,null,null,null,null,null,null,null,null,null,null,null,null,null,null,null,null,null,null,null,null,null,null,null,null,null,null,null,null,null,null,null,null,null,null,null,null,null,null,null,null,null,null,null,null,null,null,null,null,null,null,null,null,null,null,null,null,null,0]
[17,1,{"$f":"ROW(SmtRes!A644)","v":644},{"$f":"ROW(EtalonRes!A644)","v":644},"2","п01-11-011-01","Проверка наличия цепи между заземлителями и заземленными элементами","100 измерений",0.06,0,0.06,0.06,0,{"$f":"ROUND(L543-M543,4)","v":0.06},{"$f":"ROUND(CP543,2)","v":1006.23},{"$f":"SUMIF(SmtRes!AQ643:'SmtRes'!AQ644,\"=1\",SmtRes!DF643:'SmtRes'!DF644)","v":0},{"$f":"SUMIF(SmtRes!AQ643:'SmtRes'!AQ644,\"=1\",SmtRes!DG643:'SmtRes'!DG644)","v":0},{"$f":"SUMIF(SmtRes!AQ643:'SmtRes'!AQ644,\"=1\",SmtRes!DH643:'SmtRes'!DH644)","v":0},{"$f":"SUMIF(SmtRes!AQ643:'SmtRes'!AQ644,\"=1\",SmtRes!DI643:'SmtRes'!DI644)","v":1006.23},{"$f":"ROUND(CU543*I543,2)","v":0},{"$f":"SUMIF(SmtRes!AQ643:'SmtRes'!AQ644,\"=1\",SmtRes!CV643:'SmtRes'!CV644)","v":0.93311999999999995},{"$f":"SUMIF(SmtRes!AQ643:'SmtRes'!AQ644,\"=1\",SmtRes!CW643:'SmtRes'!CW644)","v":0},{"$f":"ROUND(CX543*I543,2)","v":0},{"$f":"ROUND(CY543,2)","v":744.61},{"$f":"ROUND(CZ543,2)","v":362.24},null,85316715,{"$f":"ROUND((AC543+AD543+AF543),2)","v":16770.419999999998},{"$f":"ROUND((0),2)","v":0},{"$f":"ROUND((((0)-(0))+AE543),2)","v":0},{"$f":"ROUND((0),2)","v":0},{"$f":"ROUND((SUM(SmtRes!BT643:'SmtRes'!BT644)),2)","v":16770.419999999998},{"$f":"ROUND((AP543),2)","v":0},{"$f":"(SUM(SmtRes!BU643:'SmtRes'!BU644))","v":15.552},{"$f":"(0)","v":0},{"$f":"(AS543)","v":0},13975.351200000001,0,0,0,13975.351200000001,0,12.96,0,0,74,36,1,1,null,null,1,1,1,1,"","","","",0,4,"ГЭСНп-2022, п01-11-011-01, приказ Минстроя России от 18.05.2022 г. № 378/пр",null,null,200001,0,"",0,4,0,1,1,1,1,1,1,"",74,36,"",null,null,0,0,0,2,0,0,0,0,0,"Поправка: 421/пр_2020_прил.10_т.1_п.4_гр.3 Наименование: Производство работ осуществляется в охранной зоне действующей воздушной линии электропередачи, вблизи объектов, находящихся под напряжением, внутри объектов капитального строительства, внутренняя проводка в которых не обесточена, если это приведет к ограничению действий рабочих в соответствии с требованиями техники безопасности",0,{"$f":"(P543+Q543+S543+R543)","v":1006.23},{"$f":"SUMIF(SmtRes!AQ643:'SmtRes'!AQ644,\"=1\",SmtRes!AA643:'SmtRes'!AA644)","v":0},{"$f":"SUMIF(SmtRes!AQ643:'SmtRes'!AQ644,\"=1\",SmtRes!AB643:'SmtRes'!AB644)","v":0},{"$f":"SUMIF(SmtRes!AQ643:'SmtRes'!AQ644,\"=1\",SmtRes!AC643:'SmtRes'!AC644)","v":0},{"$f":"SUMIF(SmtRes!AQ643:'SmtRes'!AQ644,\"=1\",SmtRes!AD643:'SmtRes'!AD644)","v":2156.69},{"$f":"AG543","v":0},{"$f":"SUMIF(SmtRes!AQ643:'SmtRes'!AQ644,\"=1\",SmtRes!BU643:'SmtRes'!BU644)","v":15.552},{"$f":"SUMIF(SmtRes!AQ643:'SmtRes'!AQ644,\"=1\",SmtRes!BV643:'SmtRes'!BV644)","v":0},{"$f":"AJ543","v":0},{"$f":"(((S543+R543)*AT543)/100)","v":744.61020000000008},{"$f":"(((S543+R543)*AU543)/100)","v":362.24279999999999},null,3,"","","*(0,2+1)","*(0,2+1)","*(0,2+1)","","*(0,2+1)","*(0,2+1)","","","",0,0,1,1,null,null,null,1013,"100 измерений","100 измерений",1,null,"","","","",null,83666744,4,"Пусконаладочные работы",83,"Пусконаладочные работы",4,200001,"Пусконаладочные работы Электротехнические устройства","ФЕРп",null,"Поправка: 421/пр_2020_прил.10_т.1_п.4_гр.3",null,131072,0,0,0,0,0,12.96,0,0,null,null,null,null,null,null,null,null,null,null,null,null,null,null,null,null,null,0,0,0,null,null,null,null,74,36,null,"",null,null,1,null,953704228,2,1,-2,0,0,{"$f":"ROUND(IF(AND(BH543=3,BI543=3,FS543<>0),P543,0),2)","v":0},{"$f":"ROUND(O543+X543+Y543,2)+GX543","v":2113.08},{"$f":"IF(OR(BI543=0,BI543=1),GM543-GX543,0)","v":0},{"$f":"IF(BI543=2,GM543-GX543,0)","v":0},{"$f":"IF(BI543=4,GM543-GX543,0)","v":2113.08},null,0,3,0,"",{"$f":"ROUND((GT543),2)","v":0},1,{"$f":"ROUND(HC543*I543,2)","v":0},null,null,0,0,{"$f":"GV543*GW543","v":0},null,"","",null,null,null,null,null,null,"","Пр/812-083.0-1","Пр/774-083.0","Пусконаладочные работы","Пусконаладочные работы",null,0,null,null,null,null,null,null,null,null,null,null,null,null,null,null,null,null,null,0]
[17,1,{"$f":"ROW(SmtRes!A646)","v":646},{"$f":"ROW(EtalonRes!A646)","v":646},"2","п01-11-011-01","Проверка наличия цепи между заземлителями и заземленными элементами","100 измерений",0.06,0,0.06,0.06,0,{"$f":"ROUND(L544-M544,4)","v":0.06},{"$f":"ROUND(CP544,2)","v":1006.23},{"$f":"SUMIF(SmtRes!AQ645:'SmtRes'!AQ646,\"=1\",SmtRes!DF645:'SmtRes'!DF646)","v":0},{"$f":"SUMIF(SmtRes!AQ645:'SmtRes'!AQ646,\"=1\",SmtRes!DG645:'SmtRes'!DG646)","v":0},{"$f":"SUMIF(SmtRes!AQ645:'SmtRes'!AQ646,\"=1\",SmtRes!DH645:'SmtRes'!DH646)","v":0},{"$f":"SUMIF(SmtRes!AQ645:'SmtRes'!AQ646,\"=1\",SmtRes!DI645:'SmtRes'!DI646)","v":1006.23},{"$f":"ROUND(CU544*I544,2)","v":0},{"$f":"SUMIF(SmtRes!AQ645:'SmtRes'!AQ646,\"=1\",SmtRes!CV645:'SmtRes'!CV646)","v":0.93311999999999995},{"$f":"SUMIF(SmtRes!AQ645:'SmtRes'!AQ646,\"=1\",SmtRes!CW645:'SmtRes'!CW646)","v":0},{"$f":"ROUND(CX544*I544,2)","v":0},{"$f":"ROUND(CY544,2)","v":744.61},{"$f":"ROUND(CZ544,2)","v":362.24},null,85316656,{"$f":"ROUND((AC544+AD544+AF544),2)","v":16770.419999999998},{"$f":"ROUND((0),2)","v":0},{"$f":"ROUND((((0)-(0))+AE544),2)","v":0},{"$f":"ROUND((0),2)","v":0},{"$f":"ROUND((SUM(SmtRes!BT645:'SmtRes'!BT646)),2)","v":16770.419999999998},{"$f":"ROUND((AP544),2)","v":0},{"$f":"(SUM(SmtRes!BU645:'SmtRes'!BU646))","v":15.552},{"$f":"(0)","v":0},{"$f":"(AS544)","v":0},13975.351200000001,0,0,0,13975.351200000001,0,12.96,0,0,74,36,1,1,null,null,1,1,1,1,"","","","",0,4,"ГЭСНп-2022, п01-11-011-01, приказ Минстроя России от 18.05.2022 г. № 378/пр",null,null,200001,0,"",0,4,0,1,1,1,1,1,1,"",74,36,"",null,null,0,0,0,2,0,0,0,0,0,"Поправка: 421/пр_2020_прил.10_т.1_п.4_гр.3 Наименование: Производство работ осуществляется в охранной зоне действующей воздушной линии электропередачи, вблизи объектов, находящихся под напряжением, внутри объектов капитального строительства, внутренняя проводка в которых не обесточена, если это приведет к ограничению действий рабочих в соответствии с требованиями техники безопасности",0,{"$f":"(P544+Q544+S544+R544)","v":1006.23},{"$f":"SUMIF(SmtRes!AQ645:'SmtRes'!AQ646,\"=1\",SmtRes!AA645:'SmtRes'!AA646)","v":0},{"$f":"SUMIF(SmtRes!AQ645:'SmtRes'!AQ646,\"=1\",SmtRes!AB645:'SmtRes'!AB646)","v":0},{"$f":"SUMIF(SmtRes!AQ645:'SmtRes'!AQ646,\"=1\",SmtRes!AC645:'SmtRes'!AC646)","v":0},{"$f":"SUMIF(SmtRes!AQ645:'SmtRes'!AQ646,\"=1\",SmtRes!AD645:'SmtRes'!AD646)","v":2156.69},{"$f":"AG544","v":0},{"$f":"SUMIF(SmtRes!AQ645:'SmtRes'!AQ646,\"=1\",SmtRes!BU645:'SmtRes'!BU646)","v":15.552},{"$f":"SUMIF(SmtRes!AQ645:'SmtRes'!AQ646,\"=1\",SmtRes!BV645:'SmtRes'!BV646)","v":0},{"$f":"AJ544","v":0},{"$f":"(((S544+R544)*AT544)/100)","v":744.61020000000008},{"$f":"(((S544+R544)*AU544)/100)","v":362.24279999999999},null,4,"","","*(0,2+1)","*(0,2+1)","*(0,2+1)","","*(0,2+1)","*(0,2+1)","","","",0,0,1,1,null,null,null,1013,"100 измерений","100 измерений",1,null,"","","","",null,83666744,4,"Пусконаладочные работы",83,"Пусконаладочные работы",4,200001,"Пусконаладочные работы Электротехнические устройства","ФЕРп",null,"Поправка: 421/пр_2020_прил.10_т.1_п.4_гр.3",null,131072,0,0,0,0,0,12.96,0,0,null,null,null,null,null,null,null,null,null,null,null,null,null,null,null,null,null,0,0,0,null,null,null,null,74,36,null,"",null,null,1,null,953704228,2,1,-2,0,0,{"$f":"ROUND(IF(AND(BH544=3,BI544=3,FS544<>0),P544,0),2)","v":0},{"$f":"ROUND(O544+X544+Y544,2)+GX544","v":2113.08},{"$f":"IF(OR(BI544=0,BI544=1),GM544-GX544,0)","v":0},{"$f":"IF(BI544=2,GM544-GX544,0)","v":0},{"$f":"IF(BI544=4,GM544-GX544,0)","v":2113.08},null,0,3,0,"",{"$f":"ROUND((GT544),2)","v":0},1,{"$f":"ROUND(HC544*I544,2)","v":0},null,null,0,0,{"$f":"GV544*GW544","v":0},null,"","",null,null,null,null,null,null,"","Пр/812-083.0-1","Пр/774-083.0","Пусконаладочные работы","Пусконаладочные работы",null,0,null,null,null,null,null,null,null,null,null,null,null,null,null,null,null,null,null,0]
[19,1,null,null,null,"","Для самозвон = расценке выше (п01-11-010-01); Для всех остальных кол-во выше (п01-11-010-01)*2","",null,null,null,null,null,null,null,null,null,null,null,null,null,null,null,null,null,null,1,null,null,null,null,null,null,null,null,null,null,null,null,null,null,null,null,null,null,null,null,null,null,null,null,null,null,null,null,null,null,null,null,null,null,null,null,null,null,null,null,null,null,null,null,null,null,null,null,null,null,null,null,null,null,null,null,null,null,null,null,null,null,null,null,null,null,null,null,null,null,null,null,null,null,null,null,null,null,null,null,null,null,null,null,null,null,null,null,null,null,null,null,null,null,null,null,null,null,null,null,null,null,null,null,null,null,null,null,null,null,null,null,null,null,null,null,null,null,null,null,null,null,null,null,null,null,null,null,null,null,null,null,null,null,null,null,null,null,null,null,null,null,null,null,null,null,null,null,null,null,null,null,null,null,null,null,null,null,null,null,null,null,null,null,null,null,null,null,null,null,null,null,null,null,null,null,null,null,null,null,null,null,null,null,null,null,null,null,null,null,null,null,null,null,null,null,null,null,null,null,null,null,null,null,null,null,null,null,null,null,null,null,null,null,null,null,null,0]
[17,1,{"$f":"ROW(SmtRes!A648)","v":648},{"$f":"ROW(EtalonRes!A648)","v":648},"3","п01-11-024-01","Фазировка электрической линии или трансформатора с сетью напряжением: до 1 кВ","ШТ",3,0,3,3,0,{"$f":"ROUND(L546-M546,4)","v":3},{"$f":"ROUND(CP546,2)","v":3183.28},{"$f":"SUMIF(SmtRes!AQ647:'SmtRes'!AQ648,\"=1\",SmtRes!DF647:'SmtRes'!DF648)","v":0},{"$f":"SUMIF(SmtRes!AQ647:'SmtRes'!AQ648,\"=1\",SmtRes!DG647:'SmtRes'!DG648)","v":0},{"$f":"SUMIF(SmtRes!AQ647:'SmtRes'!AQ648,\"=1\",SmtRes!DH647:'SmtRes'!DH648)","v":0},{"$f":"SUMIF(SmtRes!AQ647:'SmtRes'!AQ648,\"=1\",SmtRes!DI647:'SmtRes'!DI648)","v":3183.2799999999997},{"$f":"ROUND(CU546*I546,2)","v":0},{"$f":"SUMIF(SmtRes!AQ647:'SmtRes'!AQ648,\"=1\",SmtRes!CV647:'SmtRes'!CV648)","v":2.952},{"$f":"SUMIF(SmtRes!AQ647:'SmtRes'!AQ648,\"=1\",SmtRes!CW647:'SmtRes'!CW648)","v":0},{"$f":"ROUND(CX546*I546,2)","v":0},{"$f":"ROUND(CY546,2)","v":2355.63},{"$f":"ROUND(CZ546,2)","v":1145.98},null,85316715,{"$f":"ROUND((AC546+AD546+AF546),2)","v":1061.0899999999999},{"$f":"ROUND((0),2)","v":0},{"$f":"ROUND((((0)-(0))+AE546),2)","v":0},{"$f":"ROUND((0),2)","v":0},{"$f":"ROUND((SUM(SmtRes!BT647:'SmtRes'!BT648)),2)","v":1061.0899999999999},{"$f":"ROUND((AP546),2)","v":0},{"$f":"(SUM(SmtRes!BU647:'SmtRes'!BU648))","v":0.98399999999999999},{"$f":"(0)","v":0},{"$f":"(AS546)","v":0},884.24289999999996,0,0,0,884.24289999999996,0,0.82,0,0,74,36,1,1,null,null,1,1,1,1,"","","","",0,4,"ГЭСНп-2022, п01-11-024-01, приказ Минстроя России от 18.05.2022 г. № 378/пр",null,null,200001,0,"",0,4,0,1,1,1,1,1,1,"",74,36,"",null,null,0,0,0,3,0,0,0,0,0,"Поправка: 421/пр_2020_прил.10_т.1_п.4_гр.3 Наименование: Производство работ осуществляется в охранной зоне действующей воздушной линии электропередачи, вблизи объектов, находящихся под напряжением, внутри объектов капитального строительства, внутренняя проводка в которых не обесточена, если это приведет к ограничению действий рабочих в соответствии с требованиями техники безопасности",0,{"$f":"(P546+Q546+S546+R546)","v":3183.2799999999997},{"$f":"SUMIF(SmtRes!AQ647:'SmtRes'!AQ648,\"=1\",SmtRes!AA647:'SmtRes'!AA648)","v":0},{"$f":"SUMIF(SmtRes!AQ647:'SmtRes'!AQ648,\"=1\",SmtRes!AB647:'SmtRes'!AB648)","v":0},{"$f":"SUMIF(SmtRes!AQ647:'SmtRes'!AQ648,\"=1\",SmtRes!AC647:'SmtRes'!AC648)","v":0},{"$f":"SUMIF(SmtRes!AQ647:'SmtRes'!AQ648,\"=1\",SmtRes!AD647:'SmtRes'!AD648)","v":2156.69},{"$f":"AG546","v":0},{"$f":"SUMIF(SmtRes!AQ647:'SmtRes'!AQ648,\"=1\",SmtRes!BU647:'SmtRes'!BU648)","v":0.98399999999999999},{"$f":"SUMIF(SmtRes!AQ647:'SmtRes'!AQ648,\"=1\",SmtRes!BV647:'SmtRes'!BV648)","v":0},{"$f":"AJ546","v":0},{"$f":"(((S546+R546)*AT546)/100)","v":2355.6271999999999},{"$f":"(((S546+R546)*AU546)/100)","v":1145.9807999999998},null,5,"","","*(0,2+1)","*(0,2+1)","*(0,2+1)","","*(0,2+1)","*(0,2+1)","","","",0,0,1,1,null,null,null,1013,"ШТ","ШТ",1,null,"","","","",null,83666744,4,"Пусконаладочные работы",83,"Пусконаладочные работы",4,200001,"Пусконаладочные работы Электротехнические устройства","ФЕРп",null,"Поправка: 421/пр_2020_прил.10_т.1_п.4_гр.3",null,131072,0,0,0,0,0,0.82,0,0,null,null,null,null,null,null,null,null,null,null,null,null,null,null,null,null,null,0,0,0,null,null,null,null,74,36,null,"",null,null,1,null,-1304719433,2,1,-2,0,0,{"$f":"ROUND(IF(AND(BH546=3,BI546=3,FS546<>0),P546,0),2)","v":0},{"$f":"ROUND(O546+X546+Y546,2)+GX546","v":6684.89},{"$f":"IF(OR(BI546=0,BI546=1),GM546-GX546,0)","v":0},{"$f":"IF(BI546=2,GM546-GX546,0)","v":0},{"$f":"IF(BI546=4,GM546-GX546,0)","v":6684.89},null,0,0,0,"",{"$f":"ROUND((GT546),2)","v":0},1,{"$f":"ROUND(HC546*I546,2)","v":0},null,null,0,0,{"$f":"GV546*GW546","v":0},null,"","",null,null,null,null,null,null,"","Пр/812-083.0-1","Пр/774-083.0","Пусконаладочные работы","Пусконаладочные работы",null,0,null,null,null,null,null,null,null,null,null,null,null,null,null,null,null,null,null,0]
[17,1,{"$f":"ROW(SmtRes!A650)","v":650},{"$f":"ROW(EtalonRes!A650)","v":650},"3","п01-11-024-01","Фазировка электрической линии или трансформатора с сетью напряжением: до 1 кВ","ШТ",3,0,3,3,0,{"$f":"ROUND(L547-M547,4)","v":3},{"$f":"ROUND(CP547,2)","v":3183.28},{"$f":"SUMIF(SmtRes!AQ649:'SmtRes'!AQ650,\"=1\",SmtRes!DF649:'SmtRes'!DF650)","v":0},{"$f":"SUMIF(SmtRes!AQ649:'SmtRes'!AQ650,\"=1\",SmtRes!DG649:'SmtRes'!DG650)","v":0},{"$f":"SUMIF(SmtRes!AQ649:'SmtRes'!AQ650,\"=1\",SmtRes!DH649:'SmtRes'!DH650)","v":0},{"$f":"SUMIF(SmtRes!AQ649:'SmtRes'!AQ650,\"=1\",SmtRes!DI649:'SmtRes'!DI650)","v":3183.2799999999997},{"$f":"ROUND(CU547*I547,2)","v":0},{"$f":"SUMIF(SmtRes!AQ649:'SmtRes'!AQ650,\"=1\",SmtRes!CV649:'SmtRes'!CV650)","v":2.952},{"$f":"SUMIF(SmtRes!AQ649:'SmtRes'!AQ650,\"=1\",SmtRes!CW649:'SmtRes'!CW650)","v":0},{"$f":"ROUND(CX547*I547,2)","v":0},{"$f":"ROUND(CY547,2)","v":2355.63},{"$f":"ROUND(CZ547,2)","v":1145.98},null,85316656,{"$f":"ROUND((AC547+AD547+AF547),2)","v":1061.0899999999999},{"$f":"ROUND((0),2)","v":0},{"$f":"ROUND((((0)-(0))+AE547),2)","v":0},{"$f":"ROUND((0),2)","v":0},{"$f":"ROUND((SUM(SmtRes!BT649:'SmtRes'!BT650)),2)","v":1061.0899999999999},{"$f":"ROUND((AP547),2)","v":0},{"$f":"(SUM(SmtRes!BU649:'SmtRes'!BU650))","v":0.98399999999999999},{"$f":"(0)","v":0},{"$f":"(AS547)","v":0},884.24289999999996,0,0,0,884.24289999999996,0,0.82,0,0,74,36,1,1,null,null,1,1,1,1,"","","","",0,4,"ГЭСНп-2022, п01-11-024-01, приказ Минстроя России от 18.05.2022 г. № 378/пр",null,null,200001,0,"",0,4,0,1,1,1,1,1,1,"",74,36,"",null,null,0,0,0,3,0,0,0,0,0,"Поправка: 421/пр_2020_прил.10_т.1_п.4_гр.3 Наименование: Производство работ осуществляется в охранной зоне действующей воздушной линии электропередачи, вблизи объектов, находящихся под напряжением, внутри объектов капитального строительства, внутренняя проводка в которых не обесточена, если это приведет к ограничению действий рабочих в соответствии с требованиями техники безопасности",0,{"$f":"(P547+Q547+S547+R547)","v":3183.2799999999997},{"$f":"SUMIF(SmtRes!AQ649:'SmtRes'!AQ650,\"=1\",SmtRes!AA649:'SmtRes'!AA650)","v":0},{"$f":"SUMIF(SmtRes!AQ649:'SmtRes'!AQ650,\"=1\",SmtRes!AB649:'SmtRes'!AB650)","v":0},{"$f":"SUMIF(SmtRes!AQ649:'SmtRes'!AQ650,\"=1\",SmtRes!AC649:'SmtRes'!AC650)","v":0},{"$f":"SUMIF(SmtRes!AQ649:'SmtRes'!AQ650,\"=1\",SmtRes!AD649:'SmtRes'!AD650)","v":2156.69},{"$f":"AG547","v":0},{"$f":"SUMIF(SmtRes!AQ649:'SmtRes'!AQ650,\"=1\",SmtRes!BU649:'SmtRes'!BU650)","v":0.98399999999999999},{"$f":"SUMIF(SmtRes!AQ649:'SmtRes'!AQ650,\"=1\",SmtRes!BV649:'SmtRes'!BV650)","v":0},{"$f":"AJ547","v":0},{"$f":"(((S547+R547)*AT547)/100)","v":2355.6271999999999},{"$f":"(((S547+R547)*AU547)/100)","v":1145.9807999999998},null,6,"","","*(0,2+1)","*(0,2+1)","*(0,2+1)","","*(0,2+1)","*(0,2+1)","","","",0,0,1,1,null,null,null,1013,"ШТ","ШТ",1,null,"","","","",null,83666744,4,"Пусконаладочные работы",83,"Пусконаладочные работы",4,200001,"Пусконаладочные работы Электротехнические устройства","ФЕРп",null,"Поправка: 421/пр_2020_прил.10_т.1_п.4_гр.3",null,131072,0,0,0,0,0,0.82,0,0,null,null,null,null,null,null,null,null,null,null,null,null,null,null,null,null,null,0,0,0,null,null,null,null,74,36,null,"",null,null,1,null,-1304719433,2,1,-2,0,0,{"$f":"ROUND(IF(AND(BH547=3,BI547=3,FS547<>0),P547,0),2)","v":0},{"$f":"ROUND(O547+X547+Y547,2)+GX547","v":6684.89},{"$f":"IF(OR(BI547=0,BI547=1),GM547-GX547,0)","v":0},{"$f":"IF(BI547=2,GM547-GX547,0)","v":0},{"$f":"IF(BI547=4,GM547-GX547,0)","v":6684.89},null,0,0,0,"",{"$f":"ROUND((GT547),2)","v":0},1,{"$f":"ROUND(HC547*I547,2)","v":0},null,null,0,0,{"$f":"GV547*GW547","v":0},null,"","",null,null,null,null,null,null,"","Пр/812-083.0-1","Пр/774-083.0","Пусконаладочные работы","Пусконаладочные работы",null,0,null,null,null,null,null,null,null,null,null,null,null,null,null,null,null,null,null,0]
[19,1,null,null,null,"","Расценка зависит от напряжения. Если у нас ВЛИ 0,4кВ, то объем = 1шт(т.к. один провод на опоре); если у нас ВЛИ от 6кВ, то объем=3шт (т.к. у нас 3 провода на опоре)","",null,null,null,null,null,null,null,null,null,null,null,null,null,null,null,null,null,null,1,null,null,null,null,null,null,null,null,null,null,null,null,null,null,null,null,null,null,null,null,null,null,null,null,null,null,null,null,null,null,null,null,null,null,null,null,null,null,null,null,null,null,null,null,null,null,null,null,null,null,null,null,null,null,null,null,null,null,null,null,null,null,null,null,null,null,null,null,null,null,null,null,null,null,null,null,null,null,null,null,null,null,null,null,null,null,null,null,null,null,null,null,null,null,null,null,null,null,null,null,null,null,null,null,null,null,null,null,null,null,null,null,null,null,null,null,null,null,null,null,null,null,null,null,null,null,null,null,null,null,null,null,null,null,null,null,null,null,null,null,null,null,null,null,null,null,null,null,null,null,null,null,null,null,null,null,null,null,null,null,null,null,null,null,null,null,null,null,null,null,null,null,null,null,null,null,null,null,null,null,null,null,null,null,null,null,null,null,null,null,null,null,null,null,null,null,null,null,null,null,null,null,null,null,null,null,null,null,null,null,null,null,null,null,null,null,null,0]
[17,1,{"$f":"ROW(SmtRes!A652)","v":652},{"$f":"ROW(EtalonRes!A652)","v":652},"4","п01-11-012-01","Определение удельного сопротивления грунта","измерение",1,0,1,1,0,{"$f":"ROUND(L549-M549,4)","v":1},{"$f":"ROUND(CP549,2)","v":4192.6000000000004},{"$f":"SUMIF(SmtRes!AQ651:'SmtRes'!AQ652,\"=1\",SmtRes!DF651:'SmtRes'!DF652)","v":0},{"$f":"SUMIF(SmtRes!AQ651:'SmtRes'!AQ652,\"=1\",SmtRes!DG651:'SmtRes'!DG652)","v":0},{"$f":"SUMIF(SmtRes!AQ651:'SmtRes'!AQ652,\"=1\",SmtRes!DH651:'SmtRes'!DH652)","v":0},{"$f":"SUMIF(SmtRes!AQ651:'SmtRes'!AQ652,\"=1\",SmtRes!DI651:'SmtRes'!DI652)","v":4192.6000000000004},{"$f":"ROUND(CU549*I549,2)","v":0},{"$f":"SUMIF(SmtRes!AQ651:'SmtRes'!AQ652,\"=1\",SmtRes!CV651:'SmtRes'!CV652)","v":3.8879999999999999},{"$f":"SUMIF(SmtRes!AQ651:'SmtRes'!AQ652,\"=1\",SmtRes!CW651:'SmtRes'!CW652)","v":0},{"$f":"ROUND(CX549*I549,2)","v":0},{"$f":"ROUND(CY549,2)","v":3102.52},{"$f":"ROUND(CZ549,2)","v":1509.34},null,85316715,{"$f":"ROUND((AC549+AD549+AF549),2)","v":4192.6099999999997},{"$f":"ROUND((0),2)","v":0},{"$f":"ROUND((((0)-(0))+AE549),2)","v":0},{"$f":"ROUND((0),2)","v":0},{"$f":"ROUND((SUM(SmtRes!BT651:'SmtRes'!BT652)),2)","v":4192.6099999999997},{"$f":"ROUND((AP549),2)","v":0},{"$f":"(SUM(SmtRes!BU651:'SmtRes'!BU652))","v":3.8879999999999999},{"$f":"(0)","v":0},{"$f":"(AS549)","v":0},3493.8378000000002,0,0,0,3493.8378000000002,0,3.24,0,0,74,36,1,1,null,null,1,1,1,1,"","","","",0,4,"ГЭСНп-2022, п01-11-012-01, приказ Минстроя России от 18.05.2022 г. № 378/пр",null,null,200001,0,"",0,4,0,1,1,1,1,1,1,"",74,36,"",null,null,0,0,0,4,0,0,0,0,0,"Поправка: 421/пр_2020_прил.10_т.1_п.4_гр.3 Наименование: Производство работ осуществляется в охранной зоне действующей воздушной линии электропередачи, вблизи объектов, находящихся под напряжением, внутри объектов капитального строительства, внутренняя проводка в которых не обесточена, если это приведет к ограничению действий рабочих в соответствии с требованиями техники безопасности",0,{"$f":"(P549+Q549+S549+R549)","v":4192.6000000000004},{"$f":"SUMIF(SmtRes!AQ651:'SmtRes'!AQ652,\"=1\",SmtRes!AA651:'SmtRes'!AA652)","v":0},{"$f":"SUMIF(SmtRes!AQ651:'SmtRes'!AQ652,\"=1\",SmtRes!AB651:'SmtRes'!AB652)","v":0},{"$f":"SUMIF(SmtRes!AQ651:'SmtRes'!AQ652,\"=1\",SmtRes!AC651:'SmtRes'!AC652)","v":0},{"$f":"SUMIF(SmtRes!AQ651:'SmtRes'!AQ652,\"=1\",SmtRes!AD651:'SmtRes'!AD652)","v":2156.69},{"$f":"AG549","v":0},{"$f":"SUMIF(SmtRes!AQ651:'SmtRes'!AQ652,\"=1\",SmtRes!BU651:'SmtRes'!BU652)","v":3.8879999999999999},{"$f":"SUMIF(SmtRes!AQ651:'SmtRes'!AQ652,\"=1\",SmtRes!BV651:'SmtRes'!BV652)","v":0},{"$f":"AJ549","v":0},{"$f":"(((S549+R549)*AT549)/100)","v":3102.5240000000003},{"$f":"(((S549+R549)*AU549)/100)","v":1509.336},null,7,"","","*(0,2+1)","*(0,2+1)","*(0,2+1)","","*(0,2+1)","*(0,2+1)","","","",0,0,1,1,null,null,null,1013,"измерение","измерение",1,null,"","","","",null,83666744,4,"Пусконаладочные работы",83,"Пусконаладочные работы",4,200001,"Пусконаладочные работы Электротехнические устройства","ФЕРп",null,"Поправка: 421/пр_2020_прил.10_т.1_п.4_гр.3",null,131072,0,0,0,0,0,3.24,0,0,null,null,null,null,null,null,null,null,null,null,null,null,null,null,null,null,null,0,0,0,null,null,null,null,74,36,null,"",null,null,1,null,-651577506,2,1,-2,0,0,{"$f":"ROUND(IF(AND(BH549=3,BI549=3,FS549<>0),P549,0),2)","v":0},{"$f":"ROUND(O549+X549+Y549,2)+GX549","v":8804.4599999999991},{"$f":"IF(OR(BI549=0,BI549=1),GM549-GX549,0)","v":0},{"$f":"IF(BI549=2,GM549-GX549,0)","v":0},{"$f":"IF(BI549=4,GM549-GX549,0)","v":8804.4599999999991},null,0,0,0,"",{"$f":"ROUND((GT549),2)","v":0},1,{"$f":"ROUND(HC549*I549,2)","v":0},null,null,0,0,{"$f":"GV549*GW549","v":0},null,"","",null,null,null,null,null,null,"","Пр/812-083.0-1","Пр/774-083.0","Пусконаладочные работы","Пусконаладочные работы",null,0,null,null,null,null,null,null,null,null,null,null,null,null,null,null,null,null,null,0]
[17,1,{"$f":"ROW(SmtRes!A654)","v":654},{"$f":"ROW(EtalonRes!A654)","v":654},"4","п01-11-012-01","Определение удельного сопротивления грунта","измерение",1,0,1,1,0,{"$f":"ROUND(L550-M550,4)","v":1},{"$f":"ROUND(CP550,2)","v":4192.6000000000004},{"$f":"SUMIF(SmtRes!AQ653:'SmtRes'!AQ654,\"=1\",SmtRes!DF653:'SmtRes'!DF654)","v":0},{"$f":"SUMIF(SmtRes!AQ653:'SmtRes'!AQ654,\"=1\",SmtRes!DG653:'SmtRes'!DG654)","v":0},{"$f":"SUMIF(SmtRes!AQ653:'SmtRes'!AQ654,\"=1\",SmtRes!DH653:'SmtRes'!DH654)","v":0},{"$f":"SUMIF(SmtRes!AQ653:'SmtRes'!AQ654,\"=1\",SmtRes!DI653:'SmtRes'!DI654)","v":4192.6000000000004},{"$f":"ROUND(CU550*I550,2)","v":0},{"$f":"SUMIF(SmtRes!AQ653:'SmtRes'!AQ654,\"=1\",SmtRes!CV653:'SmtRes'!CV654)","v":3.8879999999999999},{"$f":"SUMIF(SmtRes!AQ653:'SmtRes'!AQ654,\"=1\",SmtRes!CW653:'SmtRes'!CW654)","v":0},{"$f":"ROUND(CX550*I550,2)","v":0},{"$f":"ROUND(CY550,2)","v":3102.52},{"$f":"ROUND(CZ550,2)","v":1509.34},null,85316656,{"$f":"ROUND((AC550+AD550+AF550),2)","v":4192.6099999999997},{"$f":"ROUND((0),2)","v":0},{"$f":"ROUND((((0)-(0))+AE550),2)","v":0},{"$f":"ROUND((0),2)","v":0},{"$f":"ROUND((SUM(SmtRes!BT653:'SmtRes'!BT654)),2)","v":4192.6099999999997},{"$f":"ROUND((AP550),2)","v":0},{"$f":"(SUM(SmtRes!BU653:'SmtRes'!BU654))","v":3.8879999999999999},{"$f":"(0)","v":0},{"$f":"(AS550)","v":0},3493.8378000000002,0,0,0,3493.8378000000002,0,3.24,0,0,74,36,1,1,null,null,1,1,1,1,"","","","",0,4,"ГЭСНп-2022, п01-11-012-01, приказ Минстроя России от 18.05.2022 г. № 378/пр",null,null,200001,0,"",0,4,0,1,1,1,1,1,1,"",74,36,"",null,null,0,0,0,4,0,0,0,0,0,"Поправка: 421/пр_2020_прил.10_т.1_п.4_гр.3 Наименование: Производство работ осуществляется в охранной зоне действующей воздушной линии электропередачи, вблизи объектов, находящихся под напряжением, внутри объектов капитального строительства, внутренняя проводка в которых не обесточена, если это приведет к ограничению действий рабочих в соответствии с требованиями техники безопасности",0,{"$f":"(P550+Q550+S550+R550)","v":4192.6000000000004},{"$f":"SUMIF(SmtRes!AQ653:'SmtRes'!AQ654,\"=1\",SmtRes!AA653:'SmtRes'!AA654)","v":0},{"$f":"SUMIF(SmtRes!AQ653:'SmtRes'!AQ654,\"=1\",SmtRes!AB653:'SmtRes'!AB654)","v":0},{"$f":"SUMIF(SmtRes!AQ653:'SmtRes'!AQ654,\"=1\",SmtRes!AC653:'SmtRes'!AC654)","v":0},{"$f":"SUMIF(SmtRes!AQ653:'SmtRes'!AQ654,\"=1\",SmtRes!AD653:'SmtRes'!AD654)","v":2156.69},{"$f":"AG550","v":0},{"$f":"SUMIF(SmtRes!AQ653:'SmtRes'!AQ654,\"=1\",SmtRes!BU653:'SmtRes'!BU654)","v":3.8879999999999999},{"$f":"SUMIF(SmtRes!AQ653:'SmtRes'!AQ654,\"=1\",SmtRes!BV653:'SmtRes'!BV654)","v":0},{"$f":"AJ550","v":0},{"$f":"(((S550+R550)*AT550)/100)","v":3102.5240000000003},{"$f":"(((S550+R550)*AU550)/100)","v":1509.336},null,8,"","","*(0,2+1)","*(0,2+1)","*(0,2+1)","","*(0,2+1)","*(0,2+1)","","","",0,0,1,1,null,null,null,1013,"измерение","измерение",1,null,"","","","",null,83666744,4,"Пусконаладочные работы",83,"Пусконаладочные работы",4,200001,"Пусконаладочные работы Электротехнические устройства","ФЕРп",null,"Поправка: 421/пр_2020_прил.10_т.1_п.4_гр.3",null,131072,0,0,0,0,0,3.24,0,0,null,null,null,null,null,null,null,null,null,null,null,null,null,null,null,null,null,0,0,0,null,null,null,null,74,36,null,"",null,null,1,null,-651577506,2,1,-2,0,0,{"$f":"ROUND(IF(AND(BH550=3,BI550=3,FS550<>0),P550,0),2)","v":0},{"$f":"ROUND(O550+X550+Y550,2)+GX550","v":8804.4599999999991},{"$f":"IF(OR(BI550=0,BI550=1),GM550-GX550,0)","v":0},{"$f":"IF(BI550=2,GM550-GX550,0)","v":0},{"$f":"IF(BI550=4,GM550-GX550,0)","v":8804.4599999999991},null,0,0,0,"",{"$f":"ROUND((GT550),2)","v":0},1,{"$f":"ROUND(HC550*I550,2)","v":0},null,null,0,0,{"$f":"GV550*GW550","v":0},null,"","",null,null,null,null,null,null,"","Пр/812-083.0-1","Пр/774-083.0","Пусконаладочные работы","Пусконаладочные работы",null,0,null,null,null,null,null,null,null,null,null,null,null,null,null,null,null,null,null,0]
[19,1,null,null,null,"","Всегда объем = 1шт, но при РЕКОНСТРУКЦИИ расценка не применяется!","",null,null,null,null,null,null,null,null,null,null,null,null,null,null,null,null,null,null,1,null,null,null,null,null,null,null,null,null,null,null,null,null,null,null,null,null,null,null,null,null,null,null,null,null,null,null,null,null,null,null,null,null,null,null,null,null,null,null,null,null,null,null,null,null,null,null,null,null,null,null,null,null,null,null,null,null,null,null,null,null,null,null,null,null,null,null,null,null,null,null,null,null,null,null,null,null,null,null,null,null,null,null,null,null,null,null,null,null,null,null,null,null,null,null,null,null,null,null,null,null,null,null,null,null,null,null,null,null,null,null,null,null,null,null,null,null,null,null,null,null,null,null,null,null,null,null,null,null,null,null,null,null,null,null,null,null,null,null,null,null,null,null,null,null,null,null,null,null,null,null,null,null,null,null,null,null,null,null,null,null,null,null,null,null,null,null,null,null,null,null,null,null,null,null,null,null,null,null,null,null,null,null,null,null,null,null,null,null,null,null,null,null,null,null,null,null,null,null,null,null,null,null,null,null,null,null,null,null,null,null,null,null,null,null,null,null,0]
[17,1,{"$f":"ROW(SmtRes!A656)","v":656},{"$f":"ROW(EtalonRes!A656)","v":656},"","п01-03-002-05","Выключатель трехполюсный напряжением до 1 кВ с: электромагнитным, тепловым или комбинированным расцепителем, номинальный ток до 200 А","ШТ",1,0,1,1,0,{"$f":"ROUND(L552-M552,4)","v":1},{"$f":"ROUND(CP552,2)","v":2571.31},{"$f":"SUMIF(SmtRes!AQ655:'SmtRes'!AQ656,\"=1\",SmtRes!DF655:'SmtRes'!DF656)","v":0},{"$f":"SUMIF(SmtRes!AQ655:'SmtRes'!AQ656,\"=1\",SmtRes!DG655:'SmtRes'!DG656)","v":0},{"$f":"SUMIF(SmtRes!AQ655:'SmtRes'!AQ656,\"=1\",SmtRes!DH655:'SmtRes'!DH656)","v":0},{"$f":"SUMIF(SmtRes!AQ655:'SmtRes'!AQ656,\"=1\",SmtRes!DI655:'SmtRes'!DI656)","v":2571.31},{"$f":"ROUND(CU552*I552,2)","v":0},{"$f":"SUMIF(SmtRes!AQ655:'SmtRes'!AQ656,\"=1\",SmtRes!CV655:'SmtRes'!CV656)","v":3.24},{"$f":"SUMIF(SmtRes!AQ655:'SmtRes'!AQ656,\"=1\",SmtRes!CW655:'SmtRes'!CW656)","v":0},{"$f":"ROUND(CX552*I552,2)","v":0},{"$f":"ROUND(CY552,2)","v":1902.77},{"$f":"ROUND(CZ552,2)","v":925.67},null,-1,{"$f":"ROUND((AC552+AD552+AF552),2)","v":2571.31},{"$f":"ROUND((0),2)","v":0},{"$f":"ROUND((((0)-(0))+AE552),2)","v":0},{"$f":"ROUND((0),2)","v":0},{"$f":"ROUND((SUM(SmtRes!BT655:'SmtRes'!BT656)),2)","v":2571.31},{"$f":"ROUND((AP552),2)","v":0},{"$f":"(SUM(SmtRes!BU655:'SmtRes'!BU656))","v":3.24},{"$f":"(0)","v":0},{"$f":"(AS552)","v":0},2142.7605000000003,0,0,0,2142.7605000000003,0,2.7,0,0,74,36,1,1,null,null,1,1,1,1,"","","","",0,4,"ГЭСНп-2022, п01-03-002-05, приказ Минстроя России от 18.05.2022 г. № 378/пр",null,null,200001,0,"",0,4,0,1,1,1,1,1,1,"",74,36,"",null,null,0,0,0,0,0,0,0,0,0,"Поправка: 421/пр_2020_прил.10_т.1_п.4_гр.3 Наименование: Производство работ осуществляется в охранной зоне действующей воздушной линии электропередачи, вблизи объектов, находящихся под напряжением, внутри объектов капитального строительства, внутренняя проводка в которых не обесточена, если это приведет к ограничению действий рабочих в соответствии с требованиями техники безопасности",0,{"$f":"(P552+Q552+S552+R552)","v":2571.31},{"$f":"SUMIF(SmtRes!AQ655:'SmtRes'!AQ656,\"=1\",SmtRes!AA655:'SmtRes'!AA656)","v":0},{"$f":"SUMIF(SmtRes!AQ655:'SmtRes'!AQ656,\"=1\",SmtRes!AB655:'SmtRes'!AB656)","v":0},{"$f":"SUMIF(SmtRes!AQ655:'SmtRes'!AQ656,\"=1\",SmtRes!AC655:'SmtRes'!AC656)","v":0},{"$f":"SUMIF(SmtRes!AQ655:'SmtRes'!AQ656,\"=1\",SmtRes!AD655:'SmtRes'!AD656)","v":1587.23},{"$f":"AG552","v":0},{"$f":"SUMIF(SmtRes!AQ655:'SmtRes'!AQ656,\"=1\",SmtRes!BU655:'SmtRes'!BU656)","v":3.24},{"$f":"SUMIF(SmtRes!AQ655:'SmtRes'!AQ656,\"=1\",SmtRes!BV655:'SmtRes'!BV656)","v":0},{"$f":"AJ552","v":0},{"$f":"(((S552+R552)*AT552)/100)","v":1902.7694000000001},{"$f":"(((S552+R552)*AU552)/100)","v":925.67160000000001},null,9,"","","*(0,2+1)","*(0,2+1)","*(0,2+1)","","*(0,2+1)","*(0,2+1)","","","",0,0,1,1,null,null,null,1013,"ШТ","ШТ",1,null,"","","","",null,83666744,4,"Пусконаладочные работы",83,"Пусконаладочные работы",4,200001,"Пусконаладочные работы Электротехнические устройства","ФЕРп",null,"Поправка: 421/пр_2020_прил.10_т.1_п.4_гр.3",null,132096,0,0,0,0,0,2.7,0,0,null,null,null,null,null,null,null,null,null,null,null,null,null,null,null,null,null,0,0,0,null,null,null,null,74,36,null,"",null,null,1,null,-956557318,2,1,-2,0,0,{"$f":"ROUND(IF(AND(BH552=3,BI552=3,FS552<>0),P552,0),2)","v":0},{"$f":"ROUND(O552+X552+Y552,2)+GX552","v":5399.75},{"$f":"IF(OR(BI552=0,BI552=1),GM552-GX552,0)","v":0},{"$f":"IF(BI552=2,GM552-GX552,0)","v":0},{"$f":"IF(BI552=4,GM552-GX552,0)","v":5399.75},null,0,0,0,"",{"$f":"ROUND((GT552),2)","v":0},1,{"$f":"ROUND(HC552*I552,2)","v":0},null,null,0,0,{"$f":"GV552*GW552","v":0},null,"","",null,null,null,null,null,null,"","Пр/812-083.0-1","Пр/774-083.0","Пусконаладочные работы","Пусконаладочные работы",null,0,null,null,null,null,null,null,null,null,null,null,null,null,null,null,null,null,null,0]
[17,1,{"$f":"ROW(SmtRes!A658)","v":658},{"$f":"ROW(EtalonRes!A658)","v":658},"","п01-03-002-05","Выключатель трехполюсный напряжением до 1 кВ с: электромагнитным, тепловым или комбинированным расцепителем, номинальный ток до 200 А","ШТ",1,0,1,1,0,{"$f":"ROUND(L553-M553,4)","v":1},{"$f":"ROUND(CP553,2)","v":2571.31},{"$f":"SUMIF(SmtRes!AQ657:'SmtRes'!AQ658,\"=1\",SmtRes!DF657:'SmtRes'!DF658)","v":0},{"$f":"SUMIF(SmtRes!AQ657:'SmtRes'!AQ658,\"=1\",SmtRes!DG657:'SmtRes'!DG658)","v":0},{"$f":"SUMIF(SmtRes!AQ657:'SmtRes'!AQ658,\"=1\",SmtRes!DH657:'SmtRes'!DH658)","v":0},{"$f":"SUMIF(SmtRes!AQ657:'SmtRes'!AQ658,\"=1\",SmtRes!DI657:'SmtRes'!DI658)","v":2571.31},{"$f":"ROUND(CU553*I553,2)","v":0},{"$f":"SUMIF(SmtRes!AQ657:'SmtRes'!AQ658,\"=1\",SmtRes!CV657:'SmtRes'!CV658)","v":3.24},{"$f":"SUMIF(SmtRes!AQ657:'SmtRes'!AQ658,\"=1\",SmtRes!CW657:'SmtRes'!CW658)","v":0},{"$f":"ROUND(CX553*I553,2)","v":0},{"$f":"ROUND(CY553,2)","v":1902.77},{"$f":"ROUND(CZ553,2)","v":925.67},null,-1,{"$f":"ROUND((AC553+AD553+AF553),2)","v":2571.31},{"$f":"ROUND((0),2)","v":0},{"$f":"ROUND((((0)-(0))+AE553),2)","v":0},{"$f":"ROUND((0),2)","v":0},{"$f":"ROUND((SUM(SmtRes!BT657:'SmtRes'!BT658)),2)","v":2571.31},{"$f":"ROUND((AP553),2)","v":0},{"$f":"(SUM(SmtRes!BU657:'SmtRes'!BU658))","v":3.24},{"$f":"(0)","v":0},{"$f":"(AS553)","v":0},2142.7605000000003,0,0,0,2142.7605000000003,0,2.7,0,0,74,36,1,1,null,null,1,1,1,1,"","","","",0,4,"ГЭСНп-2022, п01-03-002-05, приказ Минстроя России от 18.05.2022 г. № 378/пр",null,null,200001,0,"",0,4,0,1,1,1,1,1,1,"",74,36,"",null,null,0,0,0,0,0,0,0,0,0,"Поправка: 421/пр_2020_прил.10_т.1_п.4_гр.3 Наименование: Производство работ осуществляется в охранной зоне действующей воздушной линии электропередачи, вблизи объектов, находящихся под напряжением, внутри объектов капитального строительства, внутренняя проводка в которых не обесточена, если это приведет к ограничению действий рабочих в соответствии с требованиями техники безопасности",0,{"$f":"(P553+Q553+S553+R553)","v":2571.31},{"$f":"SUMIF(SmtRes!AQ657:'SmtRes'!AQ658,\"=1\",SmtRes!AA657:'SmtRes'!AA658)","v":0},{"$f":"SUMIF(SmtRes!AQ657:'SmtRes'!AQ658,\"=1\",SmtRes!AB657:'SmtRes'!AB658)","v":0},{"$f":"SUMIF(SmtRes!AQ657:'SmtRes'!AQ658,\"=1\",SmtRes!AC657:'SmtRes'!AC658)","v":0},{"$f":"SUMIF(SmtRes!AQ657:'SmtRes'!AQ658,\"=1\",SmtRes!AD657:'SmtRes'!AD658)","v":1587.23},{"$f":"AG553","v":0},{"$f":"SUMIF(SmtRes!AQ657:'SmtRes'!AQ658,\"=1\",SmtRes!BU657:'SmtRes'!BU658)","v":3.24},{"$f":"SUMIF(SmtRes!AQ657:'SmtRes'!AQ658,\"=1\",SmtRes!BV657:'SmtRes'!BV658)","v":0},{"$f":"AJ553","v":0},{"$f":"(((S553+R553)*AT553)/100)","v":1902.7694000000001},{"$f":"(((S553+R553)*AU553)/100)","v":925.67160000000001},null,10,"","","*(0,2+1)","*(0,2+1)","*(0,2+1)","","*(0,2+1)","*(0,2+1)","","","",0,0,1,1,null,null,null,1013,"ШТ","ШТ",1,null,"","","","",null,83666744,4,"Пусконаладочные работы",83,"Пусконаладочные работы",4,200001,"Пусконаладочные работы Электротехнические устройства","ФЕРп",null,"Поправка: 421/пр_2020_прил.10_т.1_п.4_гр.3",null,132096,0,0,0,0,0,2.7,0,0,null,null,null,null,null,null,null,null,null,null,null,null,null,null,null,null,null,0,0,0,null,null,null,null,74,36,null,"",null,null,1,null,-956557318,2,1,-2,0,0,{"$f":"ROUND(IF(AND(BH553=3,BI553=3,FS553<>0),P553,0),2)","v":0},{"$f":"ROUND(O553+X553+Y553,2)+GX553","v":5399.75},{"$f":"IF(OR(BI553=0,BI553=1),GM553-GX553,0)","v":0},{"$f":"IF(BI553=2,GM553-GX553,0)","v":0},{"$f":"IF(BI553=4,GM553-GX553,0)","v":5399.75},null,0,0,0,"",{"$f":"ROUND((GT553),2)","v":0},1,{"$f":"ROUND(HC553*I553,2)","v":0},null,null,0,0,{"$f":"GV553*GW553","v":0},null,"","",null,null,null,null,null,null,"","Пр/812-083.0-1","Пр/774-083.0","Пусконаладочные работы","Пусконаладочные работы",null,0,null,null,null,null,null,null,null,null,null,null,null,null,null,null,null,null,null,0]
[19,1,null,null,null,"","Если есть выключатель автоматический, то эта расценка должна быть! Кол-во по ВОР","",null,null,null,null,null,null,null,null,null,null,null,null,null,null,null,null,null,null,1,null,null,null,null,null,null,null,null,null,null,null,null,null,null,null,null,null,null,null,null,null,null,null,null,null,null,null,null,null,null,null,null,null,null,null,null,null,null,null,null,null,null,null,null,null,null,null,null,null,null,null,null,null,null,null,null,null,null,null,null,null,null,null,null,null,null,null,null,null,null,null,null,null,null,null,null,null,null,null,null,null,null,null,null,null,null,null,null,null,null,null,null,null,null,null,null,null,null,null,null,null,null,null,null,null,null,null,null,null,null,null,null,null,null,null,null,null,null,null,null,null,null,null,null,null,null,null,null,null,null,null,null,null,null,null,null,null,null,null,null,null,null,null,null,null,null,null,null,null,null,null,null,null,null,null,null,null,null,null,null,null,null,null,null,null,null,null,null,null,null,null,null,null,null,null,null,null,null,null,null,null,null,null,null,null,null,null,null,null,null,null,null,null,null,null,null,null,null,null,null,null,null,null,null,null,null,null,null,null,null,null,null,null,null,null,null,null,0]
[17,1,{"$f":"ROW(SmtRes!A660)","v":660},{"$f":"ROW(EtalonRes!A660)","v":660},"5","п01-11-013-01","Замер полного сопротивления цепи \"фаза-нуль\"","ШТ",1,0,1,1,0,{"$f":"ROUND(L555-M555,4)","v":1},{"$f":"ROUND(CP555,2)","v":1294.02},{"$f":"SUMIF(SmtRes!AQ659:'SmtRes'!AQ660,\"=1\",SmtRes!DF659:'SmtRes'!DF660)","v":0},{"$f":"SUMIF(SmtRes!AQ659:'SmtRes'!AQ660,\"=1\",SmtRes!DG659:'SmtRes'!DG660)","v":0},{"$f":"SUMIF(SmtRes!AQ659:'SmtRes'!AQ660,\"=1\",SmtRes!DH659:'SmtRes'!DH660)","v":0},{"$f":"SUMIF(SmtRes!AQ659:'SmtRes'!AQ660,\"=1\",SmtRes!DI659:'SmtRes'!DI660)","v":1294.02},{"$f":"ROUND(CU555*I555,2)","v":0},{"$f":"SUMIF(SmtRes!AQ659:'SmtRes'!AQ660,\"=1\",SmtRes!CV659:'SmtRes'!CV660)","v":1.2},{"$f":"SUMIF(SmtRes!AQ659:'SmtRes'!AQ660,\"=1\",SmtRes!CW659:'SmtRes'!CW660)","v":0},{"$f":"ROUND(CX555*I555,2)","v":0},{"$f":"ROUND(CY555,2)","v":957.57},{"$f":"ROUND(CZ555,2)","v":465.85},null,85316715,{"$f":"ROUND((AC555+AD555+AF555),2)","v":1294.01},{"$f":"ROUND((0),2)","v":0},{"$f":"ROUND((((0)-(0))+AE555),2)","v":0},{"$f":"ROUND((0),2)","v":0},{"$f":"ROUND((SUM(SmtRes!BT659:'SmtRes'!BT660)),2)","v":1294.01},{"$f":"ROUND((AP555),2)","v":0},{"$f":"(SUM(SmtRes!BU659:'SmtRes'!BU660))","v":1.2},{"$f":"(0)","v":0},{"$f":"(AS555)","v":0},1078.345,0,0,0,1078.345,0,1,0,0,74,36,1,1,null,null,1,1,1,1,"","","","",0,4,"ГЭСНп-2022, п01-11-013-01, приказ Минстроя России от 18.05.2022 г. № 378/пр",null,null,200001,0,"",0,4,0,1,1,1,1,1,1,"",74,36,"",null,null,0,0,0,5,0,0,0,0,0,"Поправка: 421/пр_2020_прил.10_т.1_п.4_гр.3 Наименование: Производство работ осуществляется в охранной зоне действующей воздушной линии электропередачи, вблизи объектов, находящихся под напряжением, внутри объектов капитального строительства, внутренняя проводка в которых не обесточена, если это приведет к ограничению действий рабочих в соответствии с требованиями техники безопасности",0,{"$f":"(P555+Q555+S555+R555)","v":1294.02},{"$f":"SUMIF(SmtRes!AQ659:'SmtRes'!AQ660,\"=1\",SmtRes!AA659:'SmtRes'!AA660)","v":0},{"$f":"SUMIF(SmtRes!AQ659:'SmtRes'!AQ660,\"=1\",SmtRes!AB659:'SmtRes'!AB660)","v":0},{"$f":"SUMIF(SmtRes!AQ659:'SmtRes'!AQ660,\"=1\",SmtRes!AC659:'SmtRes'!AC660)","v":0},{"$f":"SUMIF(SmtRes!AQ659:'SmtRes'!AQ660,\"=1\",SmtRes!AD659:'SmtRes'!AD660)","v":2156.69},{"$f":"AG555","v":0},{"$f":"SUMIF(SmtRes!AQ659:'SmtRes'!AQ660,\"=1\",SmtRes!BU659:'SmtRes'!BU660)","v":1.2},{"$f":"SUMIF(SmtRes!AQ659:'SmtRes'!AQ660,\"=1\",SmtRes!BV659:'SmtRes'!BV660)","v":0},{"$f":"AJ555","v":0},{"$f":"(((S555+R555)*AT555)/100)","v":957.57479999999998},{"$f":"(((S555+R555)*AU555)/100)","v":465.84719999999999},null,11,"","","*(0,2+1)","*(0,2+1)","*(0,2+1)","","*(0,2+1)","*(0,2+1)","","","",0,0,1,1,null,null,null,1013,"ШТ","ШТ",1,null,"","","","",null,83666744,4,"Пусконаладочные работы",83,"Пусконаладочные работы",4,200001,"Пусконаладочные работы Электротехнические устройства","ФЕРп",null,"Поправка: 421/пр_2020_прил.10_т.1_п.4_гр.3",null,131072,0,0,0,0,0,1,0,0,null,null,null,null,null,null,null,null,null,null,null,null,null,null,null,null,null,0,0,0,null,null,null,null,74,36,null,"",null,null,1,null,1347420768,2,1,-2,0,0,{"$f":"ROUND(IF(AND(BH555=3,BI555=3,FS555<>0),P555,0),2)","v":0},{"$f":"ROUND(O555+X555+Y555,2)+GX555","v":2717.44},{"$f":"IF(OR(BI555=0,BI555=1),GM555-GX555,0)","v":0},{"$f":"IF(BI555=2,GM555-GX555,0)","v":0},{"$f":"IF(BI555=4,GM555-GX555,0)","v":2717.44},null,0,0,0,"",{"$f":"ROUND((GT555),2)","v":0},1,{"$f":"ROUND(HC555*I555,2)","v":0},null,null,0,0,{"$f":"GV555*GW555","v":0},null,"","",null,null,null,null,null,null,"","Пр/812-083.0-1","Пр/774-083.0","Пусконаладочные работы","Пусконаладочные работы",null,0,null,null,null,null,null,null,null,null,null,null,null,null,null,null,null,null,null,0]
[17,1,{"$f":"ROW(SmtRes!A662)","v":662},{"$f":"ROW(EtalonRes!A662)","v":662},"5","п01-11-013-01","Замер полного сопротивления цепи \"фаза-нуль\"","ШТ",1,0,1,1,0,{"$f":"ROUND(L556-M556,4)","v":1},{"$f":"ROUND(CP556,2)","v":1294.02},{"$f":"SUMIF(SmtRes!AQ661:'SmtRes'!AQ662,\"=1\",SmtRes!DF661:'SmtRes'!DF662)","v":0},{"$f":"SUMIF(SmtRes!AQ661:'SmtRes'!AQ662,\"=1\",SmtRes!DG661:'SmtRes'!DG662)","v":0},{"$f":"SUMIF(SmtRes!AQ661:'SmtRes'!AQ662,\"=1\",SmtRes!DH661:'SmtRes'!DH662)","v":0},{"$f":"SUMIF(SmtRes!AQ661:'SmtRes'!AQ662,\"=1\",SmtRes!DI661:'SmtRes'!DI662)","v":1294.02},{"$f":"ROUND(CU556*I556,2)","v":0},{"$f":"SUMIF(SmtRes!AQ661:'SmtRes'!AQ662,\"=1\",SmtRes!CV661:'SmtRes'!CV662)","v":1.2},{"$f":"SUMIF(SmtRes!AQ661:'SmtRes'!AQ662,\"=1\",SmtRes!CW661:'SmtRes'!CW662)","v":0},{"$f":"ROUND(CX556*I556,2)","v":0},{"$f":"ROUND(CY556,2)","v":957.57},{"$f":"ROUND(CZ556,2)","v":465.85},null,85316656,{"$f":"ROUND((AC556+AD556+AF556),2)","v":1294.01},{"$f":"ROUND((0),2)","v":0},{"$f":"ROUND((((0)-(0))+AE556),2)","v":0},{"$f":"ROUND((0),2)","v":0},{"$f":"ROUND((SUM(SmtRes!BT661:'SmtRes'!BT662)),2)","v":1294.01},{"$f":"ROUND((AP556),2)","v":0},{"$f":"(SUM(SmtRes!BU661:'SmtRes'!BU662))","v":1.2},{"$f":"(0)","v":0},{"$f":"(AS556)","v":0},1078.345,0,0,0,1078.345,0,1,0,0,74,36,1,1,null,null,1,1,1,1,"","","","",0,4,"ГЭСНп-2022, п01-11-013-01, приказ Минстроя России от 18.05.2022 г. № 378/пр",null,null,200001,0,"",0,4,0,1,1,1,1,1,1,"",74,36,"",null,null,0,0,0,5,0,0,0,0,0,"Поправка: 421/пр_2020_прил.10_т.1_п.4_гр.3 Наименование: Производство работ осуществляется в охранной зоне действующей воздушной линии электропередачи, вблизи объектов, находящихся под напряжением, внутри объектов капитального строительства, внутренняя проводка в которых не обесточена, если это приведет к ограничению действий рабочих в соответствии с требованиями техники безопасности",0,{"$f":"(P556+Q556+S556+R556)","v":1294.02},{"$f":"SUMIF(SmtRes!AQ661:'SmtRes'!AQ662,\"=1\",SmtRes!AA661:'SmtRes'!AA662)","v":0},{"$f":"SUMIF(SmtRes!AQ661:'SmtRes'!AQ662,\"=1\",SmtRes!AB661:'SmtRes'!AB662)","v":0},{"$f":"SUMIF(SmtRes!AQ661:'SmtRes'!AQ662,\"=1\",SmtRes!AC661:'SmtRes'!AC662)","v":0},{"$f":"SUMIF(SmtRes!AQ661:'SmtRes'!AQ662,\"=1\",SmtRes!AD661:'SmtRes'!AD662)","v":2156.69},{"$f":"AG556","v":0},{"$f":"SUMIF(SmtRes!AQ661:'SmtRes'!AQ662,\"=1\",SmtRes!BU661:'SmtRes'!BU662)","v":1.2},{"$f":"SUMIF(SmtRes!AQ661:'SmtRes'!AQ662,\"=1\",SmtRes!BV661:'SmtRes'!BV662)","v":0},{"$f":"AJ556","v":0},{"$f":"(((S556+R556)*AT556)/100)","v":957.57479999999998},{"$f":"(((S556+R556)*AU556)/100)","v":465.84719999999999},null,12,"","","*(0,2+1)","*(0,2+1)","*(0,2+1)","","*(0,2+1)","*(0,2+1)","","","",0,0,1,1,null,null,null,1013,"ШТ","ШТ",1,null,"","","","",null,83666744,4,"Пусконаладочные работы",83,"Пусконаладочные работы",4,200001,"Пусконаладочные работы Электротехнические устройства","ФЕРп",null,"Поправка: 421/пр_2020_прил.10_т.1_п.4_гр.3",null,131072,0,0,0,0,0,1,0,0,null,null,null,null,null,null,null,null,null,null,null,null,null,null,null,null,null,0,0,0,null,null,null,null,74,36,null,"",null,null,1,null,1347420768,2,1,-2,0,0,{"$f":"ROUND(IF(AND(BH556=3,BI556=3,FS556<>0),P556,0),2)","v":0},{"$f":"ROUND(O556+X556+Y556,2)+GX556","v":2717.44},{"$f":"IF(OR(BI556=0,BI556=1),GM556-GX556,0)","v":0},{"$f":"IF(BI556=2,GM556-GX556,0)","v":0},{"$f":"IF(BI556=4,GM556-GX556,0)","v":2717.44},null,0,0,0,"",{"$f":"ROUND((GT556),2)","v":0},1,{"$f":"ROUND(HC556*I556,2)","v":0},null,null,0,0,{"$f":"GV556*GW556","v":0},null,"","",null,null,null,null,null,null,"","Пр/812-083.0-1","Пр/774-083.0","Пусконаладочные работы","Пусконаладочные работы",null,0,null,null,null,null,null,null,null,null,null,null,null,null,null,null,null,null,null,0]
[19,1,null,null,null,"","Если есть выключатель автоматический, то эта расценка должна быть! Кол-во по ВОР","",null,null,null,null,null,null,null,null,null,null,null,null,null,null,null,null,null,null,1,null,null,null,null,null,null,null,null,null,null,null,null,null,null,null,null,null,null,null,null,null,null,null,null,null,null,null,null,null,null,null,null,null,null,null,null,null,null,null,null,null,null,null,null,null,null,null,null,null,null,null,null,null,null,null,null,null,null,null,null,null,null,null,null,null,null,null,null,null,null,null,null,null,null,null,null,null,null,null,null,null,null,null,null,null,null,null,null,null,null,null,null,null,null,null,null,null,null,null,null,null,null,null,null,null,null,null,null,null,null,null,null,null,null,null,null,null,null,null,null,null,null,null,null,null,null,null,null,null,null,null,null,null,null,null,null,null,null,null,null,null,null,null,null,null,null,null,null,null,null,null,null,null,null,null,null,null,null,null,null,null,null,null,null,null,null,null,null,null,null,null,null,null,null,null,null,null,null,null,null,null,null,null,null,null,null,null,null,null,null,null,null,null,null,null,null,null,null,null,null,null,null,null,null,null,null,null,null,null,null,null,null,null,null,null,null,null,0]
[17,1,{"$f":"ROW(SmtRes!A664)","v":664},{"$f":"ROW(EtalonRes!A664)","v":664},"6","п01-11-028-01","Измерение сопротивления изоляции (на линию) мегаомметром кабельных и других линий напряжением до 1 кВ, предназначенных для передачи электроэнергии к распределительным устройствам, щитам, шкафам, коммутационным аппаратам и электропотребителям","ШТ",1,0,1,1,0,{"$f":"ROUND(L558-M558,4)","v":1},{"$f":"ROUND(CP558,2)","v":414.09},{"$f":"SUMIF(SmtRes!AQ663:'SmtRes'!AQ664,\"=1\",SmtRes!DF663:'SmtRes'!DF664)","v":0},{"$f":"SUMIF(SmtRes!AQ663:'SmtRes'!AQ664,\"=1\",SmtRes!DG663:'SmtRes'!DG664)","v":0},{"$f":"SUMIF(SmtRes!AQ663:'SmtRes'!AQ664,\"=1\",SmtRes!DH663:'SmtRes'!DH664)","v":0},{"$f":"SUMIF(SmtRes!AQ663:'SmtRes'!AQ664,\"=1\",SmtRes!DI663:'SmtRes'!DI664)","v":414.09000000000003},{"$f":"ROUND(CU558*I558,2)","v":0},{"$f":"SUMIF(SmtRes!AQ663:'SmtRes'!AQ664,\"=1\",SmtRes!CV663:'SmtRes'!CV664)","v":0.38400000000000001},{"$f":"SUMIF(SmtRes!AQ663:'SmtRes'!AQ664,\"=1\",SmtRes!CW663:'SmtRes'!CW664)","v":0},{"$f":"ROUND(CX558*I558,2)","v":0},{"$f":"ROUND(CY558,2)","v":306.43},{"$f":"ROUND(CZ558,2)","v":149.07},null,85316715,{"$f":"ROUND((AC558+AD558+AF558),2)","v":414.08},{"$f":"ROUND((0),2)","v":0},{"$f":"ROUND((((0)-(0))+AE558),2)","v":0},{"$f":"ROUND((0),2)","v":0},{"$f":"ROUND((SUM(SmtRes!BT663:'SmtRes'!BT664)),2)","v":414.08},{"$f":"ROUND((AP558),2)","v":0},{"$f":"(SUM(SmtRes!BU663:'SmtRes'!BU664))","v":0.38400000000000001},{"$f":"(0)","v":0},{"$f":"(AS558)","v":0},345.07040000000001,0,0,0,345.07040000000001,0,0.32,0,0,74,36,1,1,null,null,1,1,1,1,"","","","",0,4,"ГЭСНп-2022, п01-11-028-01, приказ Минстроя России от 18.05.2022 г. № 378/пр",null,null,200001,0,"",0,4,0,1,1,1,1,1,1,"",74,36,"",null,null,0,0,0,6,0,0,0,0,0,"Поправка: 421/пр_2020_прил.10_т.7_п.3_гр.3 Наименование: Производство работ осуществляется в охранной зоне действующей воздушной линии электропередачи, вблизи объектов, находящихся под напряжением, внутри объектов капитального строительства, внутренняя проводка в которых не обесточена, если это приведет к ограничению действий рабочих в соответствии с требованиями техники безопасности",0,{"$f":"(P558+Q558+S558+R558)","v":414.09000000000003},{"$f":"SUMIF(SmtRes!AQ663:'SmtRes'!AQ664,\"=1\",SmtRes!AA663:'SmtRes'!AA664)","v":0},{"$f":"SUMIF(SmtRes!AQ663:'SmtRes'!AQ664,\"=1\",SmtRes!AB663:'SmtRes'!AB664)","v":0},{"$f":"SUMIF(SmtRes!AQ663:'SmtRes'!AQ664,\"=1\",SmtRes!AC663:'SmtRes'!AC664)","v":0},{"$f":"SUMIF(SmtRes!AQ663:'SmtRes'!AQ664,\"=1\",SmtRes!AD663:'SmtRes'!AD664)","v":2156.69},{"$f":"AG558","v":0},{"$f":"SUMIF(SmtRes!AQ663:'SmtRes'!AQ664,\"=1\",SmtRes!BU663:'SmtRes'!BU664)","v":0.38400000000000001},{"$f":"SUMIF(SmtRes!AQ663:'SmtRes'!AQ664,\"=1\",SmtRes!BV663:'SmtRes'!BV664)","v":0},{"$f":"AJ558","v":0},{"$f":"(((S558+R558)*AT558)/100)","v":306.42660000000001},{"$f":"(((S558+R558)*AU558)/100)","v":149.07240000000002},null,13,"","","*(0,2+1)","*(0,2+1)","*(0,2+1)","","*(0,2+1)","*(0,2+1)","","","",0,0,1,1,null,null,null,1013,"ШТ","ШТ",1,null,"","","","",null,83666744,4,"Пусконаладочные работы",83,"Пусконаладочные работы",4,200001,"Пусконаладочные работы Электротехнические устройства","ФЕРп",null,"Поправка: 421/пр_2020_прил.10_т.7_п.3_гр.3",null,131072,0,0,0,0,0,0.32,0,0,null,null,null,null,null,null,null,null,null,null,null,null,null,null,null,null,null,0,0,0,null,null,null,null,74,36,null,"",null,null,1,null,-105858117,2,1,-2,0,0,{"$f":"ROUND(IF(AND(BH558=3,BI558=3,FS558<>0),P558,0),2)","v":0},{"$f":"ROUND(O558+X558+Y558,2)+GX558","v":869.59},{"$f":"IF(OR(BI558=0,BI558=1),GM558-GX558,0)","v":0},{"$f":"IF(BI558=2,GM558-GX558,0)","v":0},{"$f":"IF(BI558=4,GM558-GX558,0)","v":869.59},null,0,0,0,"",{"$f":"ROUND((GT558),2)","v":0},1,{"$f":"ROUND(HC558*I558,2)","v":0},null,null,0,0,{"$f":"GV558*GW558","v":0},null,"","",null,null,null,null,null,null,"","Пр/812-083.0-1","Пр/774-083.0","Пусконаладочные работы","Пусконаладочные работы",null,0,null,null,null,null,null,null,null,null,null,null,null,null,null,null,null,null,null,0]
[17,1,{"$f":"ROW(SmtRes!A666)","v":666},{"$f":"ROW(EtalonRes!A666)","v":666},"6","п01-11-028-01","Измерение сопротивления изоляции (на линию) мегаомметром кабельных и других линий напряжением до 1 кВ, предназначенных для передачи электроэнергии к распределительным устройствам, щитам, шкафам, коммутационным аппаратам и электропотребителям","ШТ",1,0,1,1,0,{"$f":"ROUND(L559-M559,4)","v":1},{"$f":"ROUND(CP559,2)","v":414.09},{"$f":"SUMIF(SmtRes!AQ665:'SmtRes'!AQ666,\"=1\",SmtRes!DF665:'SmtRes'!DF666)","v":0},{"$f":"SUMIF(SmtRes!AQ665:'SmtRes'!AQ666,\"=1\",SmtRes!DG665:'SmtRes'!DG666)","v":0},{"$f":"SUMIF(SmtRes!AQ665:'SmtRes'!AQ666,\"=1\",SmtRes!DH665:'SmtRes'!DH666)","v":0},{"$f":"SUMIF(SmtRes!AQ665:'SmtRes'!AQ666,\"=1\",SmtRes!DI665:'SmtRes'!DI666)","v":414.09000000000003},{"$f":"ROUND(CU559*I559,2)","v":0},{"$f":"SUMIF(SmtRes!AQ665:'SmtRes'!AQ666,\"=1\",SmtRes!CV665:'SmtRes'!CV666)","v":0.38400000000000001},{"$f":"SUMIF(SmtRes!AQ665:'SmtRes'!AQ666,\"=1\",SmtRes!CW665:'SmtRes'!CW666)","v":0},{"$f":"ROUND(CX559*I559,2)","v":0},{"$f":"ROUND(CY559,2)","v":306.43},{"$f":"ROUND(CZ559,2)","v":149.07},null,85316656,{"$f":"ROUND((AC559+AD559+AF559),2)","v":414.08},{"$f":"ROUND((0),2)","v":0},{"$f":"ROUND((((0)-(0))+AE559),2)","v":0},{"$f":"ROUND((0),2)","v":0},{"$f":"ROUND((SUM(SmtRes!BT665:'SmtRes'!BT666)),2)","v":414.08},{"$f":"ROUND((AP559),2)","v":0},{"$f":"(SUM(SmtRes!BU665:'SmtRes'!BU666))","v":0.38400000000000001},{"$f":"(0)","v":0},{"$f":"(AS559)","v":0},345.07040000000001,0,0,0,345.07040000000001,0,0.32,0,0,74,36,1,1,null,null,1,1,1,1,"","","","",0,4,"ГЭСНп-2022, п01-11-028-01, приказ Минстроя России от 18.05.2022 г. № 378/пр",null,null,200001,0,"",0,4,0,1,1,1,1,1,1,"",74,36,"",null,null,0,0,0,6,0,0,0,0,0,"Поправка: 421/пр_2020_прил.10_т.7_п.3_гр.3 Наименование: Производство работ осуществляется в охранной зоне действующей воздушной линии электропередачи, вблизи объектов, находящихся под напряжением, внутри объектов капитального строительства, внутренняя проводка в которых не обесточена, если это приведет к ограничению действий рабочих в соответствии с требованиями техники безопасности",0,{"$f":"(P559+Q559+S559+R559)","v":414.09000000000003},{"$f":"SUMIF(SmtRes!AQ665:'SmtRes'!AQ666,\"=1\",SmtRes!AA665:'SmtRes'!AA666)","v":0},{"$f":"SUMIF(SmtRes!AQ665:'SmtRes'!AQ666,\"=1\",SmtRes!AB665:'SmtRes'!AB666)","v":0},{"$f":"SUMIF(SmtRes!AQ665:'SmtRes'!AQ666,\"=1\",SmtRes!AC665:'SmtRes'!AC666)","v":0},{"$f":"SUMIF(SmtRes!AQ665:'SmtRes'!AQ666,\"=1\",SmtRes!AD665:'SmtRes'!AD666)","v":2156.69},{"$f":"AG559","v":0},{"$f":"SUMIF(SmtRes!AQ665:'SmtRes'!AQ666,\"=1\",SmtRes!BU665:'SmtRes'!BU666)","v":0.38400000000000001},{"$f":"SUMIF(SmtRes!AQ665:'SmtRes'!AQ666,\"=1\",SmtRes!BV665:'SmtRes'!BV666)","v":0},{"$f":"AJ559","v":0},{"$f":"(((S559+R559)*AT559)/100)","v":306.42660000000001},{"$f":"(((S559+R559)*AU559)/100)","v":149.07240000000002},null,14,"","","*(0,2+1)","*(0,2+1)","*(0,2+1)","","*(0,2+1)","*(0,2+1)","","","",0,0,1,1,null,null,null,1013,"ШТ","ШТ",1,null,"","","","",null,83666744,4,"Пусконаладочные работы",83,"Пусконаладочные работы",4,200001,"Пусконаладочные работы Электротехнические устройства","ФЕРп",null,"Поправка: 421/пр_2020_прил.10_т.7_п.3_гр.3",null,131072,0,0,0,0,0,0.32,0,0,null,null,null,null,null,null,null,null,null,null,null,null,null,null,null,null,null,0,0,0,null,null,null,null,74,36,null,"",null,null,1,null,-105858117,2,1,-2,0,0,{"$f":"ROUND(IF(AND(BH559=3,BI559=3,FS559<>0),P559,0),2)","v":0},{"$f":"ROUND(O559+X559+Y559,2)+GX559","v":869.59},{"$f":"IF(OR(BI559=0,BI559=1),GM559-GX559,0)","v":0},{"$f":"IF(BI559=2,GM559-GX559,0)","v":0},{"$f":"IF(BI559=4,GM559-GX559,0)","v":869.59},null,0,0,0,"",{"$f":"ROUND((GT559),2)","v":0},1,{"$f":"ROUND(HC559*I559,2)","v":0},null,null,0,0,{"$f":"GV559*GW559","v":0},null,"","",null,null,null,null,null,null,"","Пр/812-083.0-1","Пр/774-083.0","Пусконаладочные работы","Пусконаладочные работы",null,0,null,null,null,null,null,null,null,null,null,null,null,null,null,null,null,null,null,0]
[19,1,null,null,null,"","Применяется в том случае, если у нас есть подключение к щитам, шкафам, ТП и так далее","",null,null,null,null,null,null,null,null,null,null,null,null,null,null,null,null,null,null,1,null,null,null,null,null,null,null,null,null,null,null,null,null,null,null,null,null,null,null,null,null,null,null,null,null,null,null,null,null,null,null,null,null,null,null,null,null,null,null,null,null,null,null,null,null,null,null,null,null,null,null,null,null,null,null,null,null,null,null,null,null,null,null,null,null,null,null,null,null,null,null,null,null,null,null,null,null,null,null,null,null,null,null,null,null,null,null,null,null,null,null,null,null,null,null,null,null,null,null,null,null,null,null,null,null,null,null,null,null,null,null,null,null,null,null,null,null,null,null,null,null,null,null,null,null,null,null,null,null,null,null,null,null,null,null,null,null,null,null,null,null,null,null,null,null,null,null,null,null,null,null,null,null,null,null,null,null,null,null,null,null,null,null,null,null,null,null,null,null,null,null,null,null,null,null,null,null,null,null,null,null,null,null,null,null,null,null,null,null,null,null,null,null,null,null,null,null,null,null,null,null,null,null,null,null,null,null,null,null,null,null,null,null,null,null,null,null,0]
[17,1,{"$f":"ROW(SmtRes!A668)","v":668},{"$f":"ROW(EtalonRes!A668)","v":668},"","п01-12-020-01","Испытание сборных и соединительных шин напряжением: до 11 кВ","испытание",1,0,1,1,0,{"$f":"ROUND(L561-M561,4)","v":1},{"$f":"ROUND(CP561,2)","v":8435.82},{"$f":"SUMIF(SmtRes!AQ667:'SmtRes'!AQ668,\"=1\",SmtRes!DF667:'SmtRes'!DF668)","v":0},{"$f":"SUMIF(SmtRes!AQ667:'SmtRes'!AQ668,\"=1\",SmtRes!DG667:'SmtRes'!DG668)","v":0},{"$f":"SUMIF(SmtRes!AQ667:'SmtRes'!AQ668,\"=1\",SmtRes!DH667:'SmtRes'!DH668)","v":0},{"$f":"SUMIF(SmtRes!AQ667:'SmtRes'!AQ668,\"=1\",SmtRes!DI667:'SmtRes'!DI668)","v":8435.82},{"$f":"ROUND(CU561*I561,2)","v":0},{"$f":"SUMIF(SmtRes!AQ667:'SmtRes'!AQ668,\"=1\",SmtRes!CV667:'SmtRes'!CV668)","v":8.7479999999999993},{"$f":"SUMIF(SmtRes!AQ667:'SmtRes'!AQ668,\"=1\",SmtRes!CW667:'SmtRes'!CW668)","v":0},{"$f":"ROUND(CX561*I561,2)","v":0},{"$f":"ROUND(CY561,2)","v":6242.51},{"$f":"ROUND(CZ561,2)","v":3036.9},null,-1,{"$f":"ROUND((AC561+AD561+AF561),2)","v":8435.82},{"$f":"ROUND((0),2)","v":0},{"$f":"ROUND((((0)-(0))+AE561),2)","v":0},{"$f":"ROUND((0),2)","v":0},{"$f":"ROUND((SUM(SmtRes!BT667:'SmtRes'!BT668)),2)","v":8435.82},{"$f":"ROUND((AP561),2)","v":0},{"$f":"(SUM(SmtRes!BU667:'SmtRes'!BU668))","v":8.7479999999999993},{"$f":"(0)","v":0},{"$f":"(AS561)","v":0},7029.8518999999997,0,0,0,7029.8518999999997,0,7.29,0,0,74,36,1,1,null,null,1,1,1,1,"","","","",0,4,"ГЭСНп-2022, п01-12-020-01, приказ Минстроя России от 18.05.2022 г. № 378/пр",null,null,200001,0,"",0,4,0,1,1,1,1,1,1,"",74,36,"",null,null,0,0,0,0,0,0,0,0,0,"Поправка: 421/пр_2020_прил.10_т.1_п.4_гр.3 Наименование: Производство работ осуществляется в охранной зоне действующей воздушной линии электропередачи, вблизи объектов, находящихся под напряжением, внутри объектов капитального строительства, внутренняя проводка в которых не обесточена, если это приведет к ограничению действий рабочих в соответствии с требованиями техники безопасности",0,{"$f":"(P561+Q561+S561+R561)","v":8435.82},{"$f":"SUMIF(SmtRes!AQ667:'SmtRes'!AQ668,\"=1\",SmtRes!AA667:'SmtRes'!AA668)","v":0},{"$f":"SUMIF(SmtRes!AQ667:'SmtRes'!AQ668,\"=1\",SmtRes!AB667:'SmtRes'!AB668)","v":0},{"$f":"SUMIF(SmtRes!AQ667:'SmtRes'!AQ668,\"=1\",SmtRes!AC667:'SmtRes'!AC668)","v":0},{"$f":"SUMIF(SmtRes!AQ667:'SmtRes'!AQ668,\"=1\",SmtRes!AD667:'SmtRes'!AD668)","v":1878.02},{"$f":"AG561","v":0},{"$f":"SUMIF(SmtRes!AQ667:'SmtRes'!AQ668,\"=1\",SmtRes!BU667:'SmtRes'!BU668)","v":8.7479999999999993},{"$f":"SUMIF(SmtRes!AQ667:'SmtRes'!AQ668,\"=1\",SmtRes!BV667:'SmtRes'!BV668)","v":0},{"$f":"AJ561","v":0},{"$f":"(((S561+R561)*AT561)/100)","v":6242.5067999999992},{"$f":"(((S561+R561)*AU561)/100)","v":3036.8952000000004},null,15,"","","*(0,2+1)","*(0,2+1)","*(0,2+1)","","*(0,2+1)","*(0,2+1)","","","",0,0,1,1,null,null,null,1013,"испытание","испытание",1,null,"","","","",null,83666744,4,"Пусконаладочные работы",83,"Пусконаладочные работы",4,200001,"Пусконаладочные работы Электротехнические устройства","ФЕРп",null,"Поправка: 421/пр_2020_прил.10_т.1_п.4_гр.3",null,132096,0,0,0,0,0,7.29,0,0,null,null,null,null,null,null,null,null,null,null,null,null,null,null,null,null,null,0,0,0,null,null,null,null,74,36,null,"",null,null,1,null,1597745428,2,1,-2,0,0,{"$f":"ROUND(IF(AND(BH561=3,BI561=3,FS561<>0),P561,0),2)","v":0},{"$f":"ROUND(O561+X561+Y561,2)+GX561","v":17715.23},{"$f":"IF(OR(BI561=0,BI561=1),GM561-GX561,0)","v":0},{"$f":"IF(BI561=2,GM561-GX561,0)","v":0},{"$f":"IF(BI561=4,GM561-GX561,0)","v":17715.23},null,0,0,0,"",{"$f":"ROUND((GT561),2)","v":0},1,{"$f":"ROUND(HC561*I561,2)","v":0},null,null,0,0,{"$f":"GV561*GW561","v":0},null,"","",null,null,null,null,null,null,"","Пр/812-083.0-1","Пр/774-083.0","Пусконаладочные работы","Пусконаладочные работы",null,0,null,null,null,null,null,null,null,null,null,null,null,null,null,null,null,null,null,0]
[17,1,{"$f":"ROW(SmtRes!A670)","v":670},{"$f":"ROW(EtalonRes!A670)","v":670},"","п01-12-020-01","Испытание сборных и соединительных шин напряжением: до 11 кВ","испытание",1,0,1,1,0,{"$f":"ROUND(L562-M562,4)","v":1},{"$f":"ROUND(CP562,2)","v":8435.82},{"$f":"SUMIF(SmtRes!AQ669:'SmtRes'!AQ670,\"=1\",SmtRes!DF669:'SmtRes'!DF670)","v":0},{"$f":"SUMIF(SmtRes!AQ669:'SmtRes'!AQ670,\"=1\",SmtRes!DG669:'SmtRes'!DG670)","v":0},{"$f":"SUMIF(SmtRes!AQ669:'SmtRes'!AQ670,\"=1\",SmtRes!DH669:'SmtRes'!DH670)","v":0},{"$f":"SUMIF(SmtRes!AQ669:'SmtRes'!AQ670,\"=1\",SmtRes!DI669:'SmtRes'!DI670)","v":8435.82},{"$f":"ROUND(CU562*I562,2)","v":0},{"$f":"SUMIF(SmtRes!AQ669:'SmtRes'!AQ670,\"=1\",SmtRes!CV669:'SmtRes'!CV670)","v":8.7479999999999993},{"$f":"SUMIF(SmtRes!AQ669:'SmtRes'!AQ670,\"=1\",SmtRes!CW669:'SmtRes'!CW670)","v":0},{"$f":"ROUND(CX562*I562,2)","v":0},{"$f":"ROUND(CY562,2)","v":6242.51},{"$f":"ROUND(CZ562,2)","v":3036.9},null,-1,{"$f":"ROUND((AC562+AD562+AF562),2)","v":8435.82},{"$f":"ROUND((0),2)","v":0},{"$f":"ROUND((((0)-(0))+AE562),2)","v":0},{"$f":"ROUND((0),2)","v":0},{"$f":"ROUND((SUM(SmtRes!BT669:'SmtRes'!BT670)),2)","v":8435.82},{"$f":"ROUND((AP562),2)","v":0},{"$f":"(SUM(SmtRes!BU669:'SmtRes'!BU670))","v":8.7479999999999993},{"$f":"(0)","v":0},{"$f":"(AS562)","v":0},7029.8518999999997,0,0,0,7029.8518999999997,0,7.29,0,0,74,36,1,1,null,null,1,1,1,1,"","","","",0,4,"ГЭСНп-2022, п01-12-020-01, приказ Минстроя России от 18.05.2022 г. № 378/пр",null,null,200001,0,"",0,4,0,1,1,1,1,1,1,"",74,36,"",null,null,0,0,0,0,0,0,0,0,0,"Поправка: 421/пр_2020_прил.10_т.1_п.4_гр.3 Наименование: Производство работ осуществляется в охранной зоне действующей воздушной линии электропередачи, вблизи объектов, находящихся под напряжением, внутри объектов капитального строительства, внутренняя проводка в которых не обесточена, если это приведет к ограничению действий рабочих в соответствии с требованиями техники безопасности",0,{"$f":"(P562+Q562+S562+R562)","v":8435.82},{"$f":"SUMIF(SmtRes!AQ669:'SmtRes'!AQ670,\"=1\",SmtRes!AA669:'SmtRes'!AA670)","v":0},{"$f":"SUMIF(SmtRes!AQ669:'SmtRes'!AQ670,\"=1\",SmtRes!AB669:'SmtRes'!AB670)","v":0},{"$f":"SUMIF(SmtRes!AQ669:'SmtRes'!AQ670,\"=1\",SmtRes!AC669:'SmtRes'!AC670)","v":0},{"$f":"SUMIF(SmtRes!AQ669:'SmtRes'!AQ670,\"=1\",SmtRes!AD669:'SmtRes'!AD670)","v":1878.02},{"$f":"AG562","v":0},{"$f":"SUMIF(SmtRes!AQ669:'SmtRes'!AQ670,\"=1\",SmtRes!BU669:'SmtRes'!BU670)","v":8.7479999999999993},{"$f":"SUMIF(SmtRes!AQ669:'SmtRes'!AQ670,\"=1\",SmtRes!BV669:'SmtRes'!BV670)","v":0},{"$f":"AJ562","v":0},{"$f":"(((S562+R562)*AT562)/100)","v":6242.5067999999992},{"$f":"(((S562+R562)*AU562)/100)","v":3036.8952000000004},null,16,"","","*(0,2+1)","*(0,2+1)","*(0,2+1)","","*(0,2+1)","*(0,2+1)","","","",0,0,1,1,null,null,null,1013,"испытание","испытание",1,null,"","","","",null,83666744,4,"Пусконаладочные работы",83,"Пусконаладочные работы",4,200001,"Пусконаладочные работы Электротехнические устройства","ФЕРп",null,"Поправка: 421/пр_2020_прил.10_т.1_п.4_гр.3",null,132096,0,0,0,0,0,7.29,0,0,null,null,null,null,null,null,null,null,null,null,null,null,null,null,null,null,null,0,0,0,null,null,null,null,74,36,null,"",null,null,1,null,1597745428,2,1,-2,0,0,{"$f":"ROUND(IF(AND(BH562=3,BI562=3,FS562<>0),P562,0),2)","v":0},{"$f":"ROUND(O562+X562+Y562,2)+GX562","v":17715.23},{"$f":"IF(OR(BI562=0,BI562=1),GM562-GX562,0)","v":0},{"$f":"IF(BI562=2,GM562-GX562,0)","v":0},{"$f":"IF(BI562=4,GM562-GX562,0)","v":17715.23},null,0,0,0,"",{"$f":"ROUND((GT562),2)","v":0},1,{"$f":"ROUND(HC562*I562,2)","v":0},null,null,0,0,{"$f":"GV562*GW562","v":0},null,"","",null,null,null,null,null,null,"","Пр/812-083.0-1","Пр/774-083.0","Пусконаладочные работы","Пусконаладочные работы",null,0,null,null,null,null,null,null,null,null,null,null,null,null,null,null,null,null,null,0]
[19,1,null,null,null,"","В ВОР \"Установка ОПН-6кВ\" или если в спецификации есть \"Ограничитель перенапряжения ОПН-6\" тогда можно применить эту расценку даже для Самозвон. Кол-во берем по кол-ву ОПН в спеецификации или из ВОР (они должны равняться). Из Спецификации в метрах. Обычно 1,5 метра на 1 выключатель, т.е. по 0,5 метра на каждую фазу. Картинку можно посмотреть из ватсап проеектировщика \"Жидовленко Андрей\" по поиску: \"автоматы а сверху эти маленькие шинки\" (см фото)","",null,null,null,null,null,null,null,null,null,null,null,null,null,null,null,null,null,null,1,null,null,null,null,null,null,null,null,null,null,null,null,null,null,null,null,null,null,null,null,null,null,null,null,null,null,null,null,null,null,null,null,null,null,null,null,null,null,null,null,null,null,null,null,null,null,null,null,null,null,null,null,null,null,null,null,null,null,null,null,null,null,null,null,null,null,null,null,null,null,null,null,null,null,null,null,null,null,null,null,null,null,null,null,null,null,null,null,null,null,null,null,null,null,null,null,null,null,null,null,null,null,null,null,null,null,null,null,null,null,null,null,null,null,null,null,null,null,null,null,null,null,null,null,null,null,null,null,null,null,null,null,null,null,null,null,null,null,null,null,null,null,null,null,null,null,null,null,null,null,null,null,null,null,null,null,null,null,null,null,null,null,null,null,null,null,null,null,null,null,null,null,null,null,null,null,null,null,null,null,null,null,null,null,null,null,null,null,null,null,null,null,null,null,null,null,null,null,null,null,null,null,null,null,null,null,null,null,null,null,null,null,null,null,null,null,null,0]
[]
[51,{"$f":"B536","v":1},{"$f":"A536","v":4},{"$f":"ROW(A536)","v":536},null,{"$f":"IF(F536<>\"\",F536,\"\")","v":"Новый раздел"},{"$f":"IF(G536<>\"\",G536,\"\")","v":"ПНР"},0,null,null,null,null,null,null,{"$f":"ROUND(AB565,2)","v":13972.26},0,0,0,13972.26,0,{"$f":"AH565","v":12.95712},{"$f":"AI565","v":0},{"$f":"ROUND(AJ565,2)","v":0},{"$f":"ROUND(AK565,2)","v":10339.469999999999},{"$f":"ROUND(AL565,2)","v":5030.01},null,null,{"$f":"ROUND(SUMIF(AA540:AA562,\"=85316715\",O540:O562),2)","v":13972.26},{"$f":"ROUND(SUMIF(AA540:AA562,\"=85316715\",P540:P562),2)","v":0},{"$f":"ROUND(SUMIF(AA540:AA562,\"=85316715\",Q540:Q562),2)","v":0},{"$f":"ROUND(SUMIF(AA540:AA562,\"=85316715\",R540:R562),2)","v":0},{"$f":"ROUND(SUMIF(AA540:AA562,\"=85316715\",S540:S562),2)","v":13972.26},{"$f":"ROUND(SUMIF(AA540:AA562,\"=85316715\",T540:T562),2)","v":0},{"$f":"SUMIF(AA540:AA562,\"=85316715\",U540:U562)","v":12.95712},{"$f":"SUMIF(AA540:AA562,\"=85316715\",V540:V562)","v":0},{"$f":"ROUND(SUMIF(AA540:AA562,\"=85316715\",W540:W562),2)","v":0},{"$f":"ROUND(SUMIF(AA540:AA562,\"=85316715\",X540:X562),2)","v":10339.469999999999},{"$f":"ROUND(SUMIF(AA540:AA562,\"=85316715\",Y540:Y562),2)","v":5030.01},null,null,{"$f":"ROUND(BX565,2)","v":0},0,0,29341.74,0,0,29341.74,0,0,0,0,0,0,0,0,0,null,null,null,null,null,null,null,null,null,null,null,null,null,null,null,null,null,null,null,{"$f":"ROUND(SUMIF(AA540:AA562,\"=85316715\",FQ540:FQ562),2)","v":0},{"$f":"ROUND(SUMIF(AA540:AA562,\"=85316715\",FR540:FR562),2)","v":0},{"$f":"ROUND(SUMIF(AA540:AA562,\"=85316715\",GL540:GL562),2)","v":0},{"$f":"ROUND(SUMIF(AA540:AA562,\"=85316715\",GM540:GM562),2)","v":29341.74},{"$f":"ROUND(SUMIF(AA540:AA562,\"=85316715\",GN540:GN562),2)","v":0},{"$f":"ROUND(SUMIF(AA540:AA562,\"=85316715\",GO540:GO562),2)","v":0},{"$f":"ROUND(SUMIF(AA540:AA562,\"=85316715\",GP540:GP562),2)","v":29341.74},{"$f":"AC565-BX565","v":0},{"$f":"AC565-BY565","v":0},{"$f":"BX565-BZ565","v":0},{"$f":"AC565-BX565-BY565+BZ565","v":0},{"$f":"BY565-BZ565","v":0},{"$f":"ROUND(SUMIF(AA540:AA562,\"=85316715\",GX540:GX562),2)","v":0},{"$f":"ROUND(SUMIF(AA540:AA562,\"=85316715\",GY540:GY562),2)","v":0},{"$f":"ROUND(SUMIF(AA540:AA562,\"=85316715\",GZ540:GZ562),2)","v":0},{"$f":"ROUND(SUMIF(AA540:AA562,\"=85316715\",HD540:HD562),2)","v":0},null,null,null,null,null,null,null,null,null,null,null,null,null,null,null,null,null,null,null,{"$f":"ROUND(DT565,2)","v":13972.26},0,0,0,13972.26,0,{"$f":"DZ565","v":12.95712},{"$f":"EA565","v":0},{"$f":"ROUND(EB565,2)","v":0},{"$f":"ROUND(EC565,2)","v":10339.469999999999},{"$f":"ROUND(ED565,2)","v":5030.01},null,null,{"$f":"ROUND(SUMIF(AA540:AA562,\"=85316656\",O540:O562),2)","v":13972.26},{"$f":"ROUND(SUMIF(AA540:AA562,\"=85316656\",P540:P562),2)","v":0},{"$f":"ROUND(SUMIF(AA540:AA562,\"=85316656\",Q540:Q562),2)","v":0},{"$f":"ROUND(SUMIF(AA540:AA562,\"=85316656\",R540:R562),2)","v":0},{"$f":"ROUND(SUMIF(AA540:AA562,\"=85316656\",S540:S562),2)","v":13972.26},{"$f":"ROUND(SUMIF(AA540:AA562,\"=85316656\",T540:T562),2)","v":0},{"$f":"SUMIF(AA540:AA562,\"=85316656\",U540:U562)","v":12.95712},{"$f":"SUMIF(AA540:AA562,\"=85316656\",V540:V562)","v":0},{"$f":"ROUND(SUMIF(AA540:AA562,\"=85316656\",W540:W562),2)","v":0},{"$f":"ROUND(SUMIF(AA540:AA562,\"=85316656\",X540:X562),2)","v":10339.469999999999},{"$f":"ROUND(SUMIF(AA540:AA562,\"=85316656\",Y540:Y562),2)","v":5030.01},null,null,{"$f":"ROUND(FP565,2)","v":0},0,0,29341.74,0,0,29341.74,0,0,0,0,0,0,0,0,0,null,null,null,null,null,null,null,null,null,null,null,null,null,null,null,null,null,null,null,{"$f":"ROUND(SUMIF(AA540:AA562,\"=85316656\",FQ540:FQ562),2)","v":0},{"$f":"ROUND(SUMIF(AA540:AA562,\"=85316656\",FR540:FR562),2)","v":0},{"$f":"ROUND(SUMIF(AA540:AA562,\"=85316656\",GL540:GL562),2)","v":0},{"$f":"ROUND(SUMIF(AA540:AA562,\"=85316656\",GM540:GM562),2)","v":29341.74},{"$f":"ROUND(SUMIF(AA540:AA562,\"=85316656\",GN540:GN562),2)","v":0},{"$f":"ROUND(SUMIF(AA540:AA562,\"=85316656\",GO540:GO562),2)","v":0},{"$f":"ROUND(SUMIF(AA540:AA562,\"=85316656\",GP540:GP562),2)","v":29341.74},{"$f":"DU565-FP565","v":0},{"$f":"DU565-FQ565","v":0},{"$f":"FP565-FR565","v":0},{"$f":"DU565-FP565-FQ565+FR565","v":0},{"$f":"FQ565-FR565","v":0},{"$f":"ROUND(SUMIF(AA540:AA562,\"=85316656\",GX540:GX562),2)","v":0},{"$f":"ROUND(SUMIF(AA540:AA562,\"=85316656\",GY540:GY562),2)","v":0},{"$f":"ROUND(SUMIF(AA540:AA562,\"=85316656\",GZ540:GZ562),2)","v":0},{"$f":"ROUND(SUMIF(AA540:AA562,\"=85316656\",HD540:HD562),2)","v":0},null,null,null,null,null,null,null,null,null,null,null,null,null,null,null,null,null,null,0]
[]
[50,0,0,1,201,{"$f":"ROUND(Source!O565,O567)","v":13972.26},"ПЗ","Прямые затраты",null,null,201,1,3,"",2,{"$f":"ROUND(Source!DG565,O567)","v":13972.26},null,null,null,null,null,null,13972.260000000002,1,13972.260000000002,13972.260000000002,1,13972.260000000002]
[50,0,0,1,202,{"$f":"ROUND(Source!P565,O568)","v":0},"СтМатОб","Стоимость материальных ресурсов (всего)",null,null,202,2,3,"",2,{"$f":"ROUND(Source!DH565,O568)","v":0},null,null,null,null,null,null,0,1,0,0,1,0]
[50,0,0,1,222,{"$f":"ROUND(Source!AO565,O569)","v":0},"СтМатОбЗак","Стоимость материалов и оборудования заказчика",null,null,222,3,3,"",2,{"$f":"ROUND(Source!EG565,O569)","v":0},null,null,null,null,null,null,0,1,0,0,1,0]
[50,0,0,1,225,{"$f":"ROUND(Source!AV565,O570)","v":0},"СтМатОбПод","Стоимость материалов и оборудования подрядчика",null,null,225,4,3,"",2,{"$f":"ROUND(Source!EN565,O570)","v":0},null,null,null,null,null,null,0,1,0,0,1,0]
[50,0,0,1,226,{"$f":"ROUND(Source!AW565,O571)","v":0},"СтМат","Стоимость материалов (всего)",null,null,226,5,3,"",2,{"$f":"ROUND(Source!EO565,O571)","v":0},null,null,null,null,null,null,0,1,0,0,1,0]
[50,0,0,1,227,{"$f":"ROUND(Source!AX565,O572)","v":0},"СтМатЗак","Стоимость материалов заказчика",null,null,227,6,3,"",2,{"$f":"ROUND(Source!EP565,O572)","v":0},null,null,null,null,null,null,0,1,0,0,1,0]
[50,0,0,1,228,{"$f":"ROUND(Source!AY565,O573)","v":0},"СтМатПод","Стоимость материалов подрядчика",null,null,228,7,3,"",2,{"$f":"ROUND(Source!EQ565,O573)","v":0},null,null,null,null,null,null,0,1,0,0,1,0]
[50,0,0,1,216,{"$f":"ROUND(Source!AP565,O574)","v":0},"Оборуд","Стоимость оборудования (всего)",null,null,216,8,3,"",2,{"$f":"ROUND(Source!EH565,O574)","v":0},null,null,null,null,null,null,0,1,0,0,1,0]
[50,0,0,1,223,{"$f":"ROUND(Source!AQ565,O575)","v":0},"ОборудЗак","Стоимость оборудования заказчика",null,null,223,9,3,"",2,{"$f":"ROUND(Source!EI565,O575)","v":0},null,null,null,null,null,null,0,1,0,0,1,0]
[50,0,0,1,229,{"$f":"ROUND(Source!AZ565,O576)","v":0},"ОборудПод","Стоимость оборудования подрядчика",null,null,229,10,3,"",2,{"$f":"ROUND(Source!ER565,O576)","v":0},null,null,null,null,null,null,0,1,0,0,1,0]
[50,0,0,1,203,{"$f":"ROUND(Source!Q565,O577)","v":0},"ЭММ","Эксплуатация машин",null,null,203,11,3,"",2,{"$f":"ROUND(Source!DI565,O577)","v":0},null,null,null,null,null,null,0,1,0,0,1,0]
[50,0,0,1,231,{"$f":"ROUND(Source!BB565,O578)","v":0},"ЭММсНРиСП","Эксплуатация машин по ТСН-2001.16",null,null,231,12,3,"",2,{"$f":"ROUND(Source!ET565,O578)","v":0},null,null,null,null,null,null,0,1,0,0,1,0]
[50,0,0,1,204,{"$f":"ROUND(Source!R565,O579)","v":0},"ЗПМ","ЗП машинистов",null,null,204,13,3,"",2,{"$f":"ROUND(Source!DJ565,O579)","v":0},null,null,null,null,null,null,0,1,0,0,1,0]
[50,0,0,1,205,{"$f":"ROUND(Source!S565,O580)","v":13972.26},"ОЗП","Основная ЗП рабочих",null,null,205,14,3,"",2,{"$f":"ROUND(Source!DK565,O580)","v":13972.26},null,null,null,null,null,null,13972.260000000002,1,13972.260000000002,13972.260000000002,1,13972.260000000002]
[50,0,0,1,232,{"$f":"ROUND(Source!BC565,O581)","v":0},"ОЗПсНРиСП","Основная ЗП рабочих по ТСН-2001.16",null,null,232,15,3,"",2,{"$f":"ROUND(Source!EU565,O581)","v":0},null,null,null,null,null,null,0,1,0,0,1,0]
[50,0,0,1,214,{"$f":"ROUND(Source!AS565,O582)","v":0},"Строит","Строительные работы с НР и СП",null,null,214,16,3,"",2,{"$f":"ROUND(Source!EK565,O582)","v":0},null,null,null,null,null,null,0,1,0,0,1,0]
[50,0,0,1,215,{"$f":"ROUND(Source!AT565,O583)","v":0},"Монтаж","Монтажные работы с НР и СП",null,null,215,17,3,"",2,{"$f":"ROUND(Source!EL565,O583)","v":0},null,null,null,null,null,null,0,1,0,0,1,0]
[50,0,0,1,217,{"$f":"ROUND(Source!AU565,O584)","v":29341.74},"Прочие","Прочие работы с НР и СП",null,null,217,18,3,"",2,{"$f":"ROUND(Source!EM565,O584)","v":29341.74},null,null,null,null,null,null,29341.74,1,29341.74,29341.74,1,29341.74]
[50,0,0,1,230,{"$f":"ROUND(Source!BA565,O585)","v":0},"ПрочиеЗатр","Прочие затраты по ТСН-2001.16",null,null,230,19,3,"",2,{"$f":"ROUND(Source!ES565,O585)","v":0},null,null,null,null,null,null,0,1,0,0,1,0]
[50,0,0,1,206,{"$f":"ROUND(Source!T565,O586)","v":0},"ВозврМат","Возврат материалов",null,null,206,20,3,"",2,{"$f":"ROUND(Source!DL565,O586)","v":0},null,null,null,null,null,null,0,1,0,0,1,0]
[50,0,0,1,207,{"$f":"ROUND(Source!U565,O587)","v":12.95712},"ТрудСтр","Трудозатраты строителей",null,null,207,21,3,"",7,{"$f":"ROUND(Source!DM565,O587)","v":12.95712},null,null,null,null,null,null,12.95712,1,12.95712,12.95712,1,12.95712]
[50,0,0,1,208,{"$f":"ROUND(Source!V565,O588)","v":0},"ТрудМаш","Трудозатраты машинистов",null,null,208,22,3,"",7,{"$f":"ROUND(Source!DN565,O588)","v":0},null,null,null,null,null,null,0,1,0,0,1,0]
[50,0,0,1,209,{"$f":"ROUND(Source!W565,O589)","v":0},"ТранспМат","Транспорт материалов",null,null,209,23,3,"",2,{"$f":"ROUND(Source!DO565,O589)","v":0},null,null,null,null,null,null,0,1,0,0,1,0]
[50,0,0,1,233,{"$f":"ROUND(Source!BD565,O590)","v":0},"Перевозка","Перевозка грузов",null,null,233,24,3,"",2,{"$f":"ROUND(Source!EV565,O590)","v":0},null,null,null,null,null,null,0,1,0,0,1,0]
[50,0,0,1,210,{"$f":"ROUND(Source!X565,O591)","v":10339.469999999999},"НР","Накладные расходы",null,null,210,25,3,"",2,{"$f":"ROUND(Source!DP565,O591)","v":10339.469999999999},null,null,null,null,null,null,10339.469999999999,1,10339.469999999999,10339.469999999999,1,10339.469999999999]
[50,0,0,1,211,{"$f":"ROUND(Source!Y565,O592)","v":5030.01},"СмПриб","Сметная прибыль",null,null,211,26,3,"",2,{"$f":"ROUND(Source!DQ565,O592)","v":5030.01},null,null,null,null,null,null,5030.01,1,5030.01,5030.01,1,5030.01]
[50,0,0,1,224,{"$f":"ROUND(Source!AR565,O593)","v":29341.74},"Всего","Всего с НР и СП",null,null,224,27,3,"",2,{"$f":"ROUND(Source!EJ565,O593)","v":29341.74},null,null,null,null,null,null,29341.74,1,29341.74,29341.74,1,29341.74]
[]
[51,{"$f":"B532","v":1},{"$f":"A532","v":3},{"$f":"ROW(A532)","v":532},null,{"$f":"IF(F532<>\"\",F532,\"\")","v":"09-01-01"},{"$f":"IF(G532<>\"\",G532,\"\")","v":"ПНР ВЛИ-0,4 кВ"},0,null,null,null,null,null,null,{"$f":"ROUND(O565+AB595,2)","v":13972.26},0,0,0,13972.26,0,{"$f":"U565+AH595","v":12.95712},{"$f":"V565+AI595","v":0},{"$f":"ROUND(W565+AJ595,2)","v":0},{"$f":"ROUND(X565+AK595,2)","v":10339.469999999999},{"$f":"ROUND(Y565+AL595,2)","v":5030.01},null,null,null,null,null,null,null,null,null,null,null,null,null,null,null,{"$f":"ROUND(AO565+BX595,2)","v":0},0,0,29341.74,0,0,29341.74,0,0,0,0,0,0,0,0,0,null,null,null,null,null,null,null,null,null,null,null,null,null,null,null,null,null,null,null,null,null,null,null,null,null,null,null,null,null,null,null,null,null,null,null,null,null,null,null,null,null,null,null,null,null,null,null,null,null,null,null,null,null,null,{"$f":"ROUND(DG565+DT595,2)","v":13972.26},0,0,0,13972.26,0,{"$f":"DM565+DZ595","v":12.95712},{"$f":"DN565+EA595","v":0},{"$f":"ROUND(DO565+EB595,2)","v":0},{"$f":"ROUND(DP565+EC595,2)","v":10339.469999999999},{"$f":"ROUND(DQ565+ED595,2)","v":5030.01},null,null,null,null,null,null,null,null,null,null,null,null,null,null,null,{"$f":"ROUND(EG565+FP595,2)","v":0},0,0,29341.74,0,0,29341.74,0,0,0,0,0,0,0,0,0,null,null,null,null,null,null,null,null,null,null,null,null,null,null,null,null,null,null,null,null,null,null,null,null,null,null,null,null,null,null,null,null,null,null,null,null,null,null,null,null,null,null,null,null,null,null,null,null,null,null,null,null,null,0]
[]
[50,0,0,1,201,{"$f":"ROUND(Source!O595,O597)","v":13972.26},"ПЗ","Прямые затраты",null,null,201,1,3,"",2,{"$f":"ROUND(Source!DG595,O597)","v":13972.26},null,null,null,null,null,null,13972.260000000002,1,13972.260000000002,13972.260000000002,1,13972.260000000002]
[50,0,0,1,202,{"$f":"ROUND(Source!P595,O598)","v":0},"СтМатОб","Стоимость материальных ресурсов (всего)",null,null,202,2,3,"",2,{"$f":"ROUND(Source!DH595,O598)","v":0},null,null,null,null,null,null,0,1,0,0,1,0]
[50,0,0,1,222,{"$f":"ROUND(Source!AO595,O599)","v":0},"СтМатОбЗак","Стоимость материалов и оборудования заказчика",null,null,222,3,3,"",2,{"$f":"ROUND(Source!EG595,O599)","v":0},null,null,null,null,null,null,0,1,0,0,1,0]
[50,0,0,1,225,{"$f":"ROUND(Source!AV595,O600)","v":0},"СтМатОбПод","Стоимость материалов и оборудования подрядчика",null,null,225,4,3,"",2,{"$f":"ROUND(Source!EN595,O600)","v":0},null,null,null,null,null,null,0,1,0,0,1,0]
[50,0,0,1,226,{"$f":"ROUND(Source!AW595,O601)","v":0},"СтМат","Стоимость материалов (всего)",null,null,226,5,3,"",2,{"$f":"ROUND(Source!EO595,O601)","v":0},null,null,null,null,null,null,0,1,0,0,1,0]
[50,0,0,1,227,{"$f":"ROUND(Source!AX595,O602)","v":0},"СтМатЗак","Стоимость материалов заказчика",null,null,227,6,3,"",2,{"$f":"ROUND(Source!EP595,O602)","v":0},null,null,null,null,null,null,0,1,0,0,1,0]
[50,0,0,1,228,{"$f":"ROUND(Source!AY595,O603)","v":0},"СтМатПод","Стоимость материалов подрядчика",null,null,228,7,3,"",2,{"$f":"ROUND(Source!EQ595,O603)","v":0},null,null,null,null,null,null,0,1,0,0,1,0]
[50,0,0,1,216,{"$f":"ROUND(Source!AP595,O604)","v":0},"Оборуд","Стоимость оборудования (всего)",null,null,216,8,3,"",2,{"$f":"ROUND(Source!EH595,O604)","v":0},null,null,null,null,null,null,0,1,0,0,1,0]
[50,0,0,1,223,{"$f":"ROUND(Source!AQ595,O605)","v":0},"ОборудЗак","Стоимость оборудования заказчика",null,null,223,9,3,"",2,{"$f":"ROUND(Source!EI595,O605)","v":0},null,null,null,null,null,null,0,1,0,0,1,0]
[50,0,0,1,229,{"$f":"ROUND(Source!AZ595,O606)","v":0},"ОборудПод","Стоимость оборудования подрядчика",null,null,229,10,3,"",2,{"$f":"ROUND(Source!ER595,O606)","v":0},null,null,null,null,null,null,0,1,0,0,1,0]
[50,0,0,1,203,{"$f":"ROUND(Source!Q595,O607)","v":0},"ЭММ","Эксплуатация машин",null,null,203,11,3,"",2,{"$f":"ROUND(Source!DI595,O607)","v":0},null,null,null,null,null,null,0,1,0,0,1,0]
[50,0,0,1,231,{"$f":"ROUND(Source!BB595,O608)","v":0},"ЭММсНРиСП","Эксплуатация машин по ТСН-2001.16",null,null,231,12,3,"",2,{"$f":"ROUND(Source!ET595,O608)","v":0},null,null,null,null,null,null,0,1,0,0,1,0]
[50,0,0,1,204,{"$f":"ROUND(Source!R595,O609)","v":0},"ЗПМ","ЗП машинистов",null,null,204,13,3,"",2,{"$f":"ROUND(Source!DJ595,O609)","v":0},null,null,null,null,null,null,0,1,0,0,1,0]
[50,0,0,1,205,{"$f":"ROUND(Source!S595,O610)","v":13972.26},"ОЗП","Основная ЗП рабочих",null,null,205,14,3,"",2,{"$f":"ROUND(Source!DK595,O610)","v":13972.26},null,null,null,null,null,null,13972.260000000002,1,13972.260000000002,13972.260000000002,1,13972.260000000002]
[50,0,0,1,232,{"$f":"ROUND(Source!BC595,O611)","v":0},"ОЗПсНРиСП","Основная ЗП рабочих по ТСН-2001.16",null,null,232,15,3,"",2,{"$f":"ROUND(Source!EU595,O611)","v":0},null,null,null,null,null,null,0,1,0,0,1,0]
[50,0,0,1,214,{"$f":"ROUND(Source!AS595,O612)","v":0},"Строит","Строительные работы с НР и СП",null,null,214,16,3,"",2,{"$f":"ROUND(Source!EK595,O612)","v":0},null,null,null,null,null,null,0,1,0,0,1,0]
[50,0,0,1,215,{"$f":"ROUND(Source!AT595,O613)","v":0},"Монтаж","Монтажные работы с НР и СП",null,null,215,17,3,"",2,{"$f":"ROUND(Source!EL595,O613)","v":0},null,null,null,null,null,null,0,1,0,0,1,0]
[50,0,0,1,217,{"$f":"ROUND(Source!AU595,O614)","v":29341.74},"Прочие","Прочие работы с НР и СП",null,null,217,18,3,"",2,{"$f":"ROUND(Source!EM595,O614)","v":29341.74},null,null,null,null,null,null,29341.74,1,29341.74,29341.74,1,29341.74]
[50,0,0,1,230,{"$f":"ROUND(Source!BA595,O615)","v":0},"ПрочиеЗатр","Прочие затраты по ТСН-2001.16",null,null,230,19,3,"",2,{"$f":"ROUND(Source!ES595,O615)","v":0},null,null,null,null,null,null,0,1,0,0,1,0]
[50,0,0,1,206,{"$f":"ROUND(Source!T595,O616)","v":0},"ВозврМат","Возврат материалов",null,null,206,20,3,"",2,{"$f":"ROUND(Source!DL595,O616)","v":0},null,null,null,null,null,null,0,1,0,0,1,0]
[50,0,0,1,207,{"$f":"ROUND(Source!U595,O617)","v":12.95712},"ТрудСтр","Трудозатраты строителей",null,null,207,21,3,"",7,{"$f":"ROUND(Source!DM595,O617)","v":12.95712},null,null,null,null,null,null,12.95712,1,12.95712,12.95712,1,12.95712]
[50,0,0,1,208,{"$f":"ROUND(Source!V595,O618)","v":0},"ТрудМаш","Трудозатраты машинистов",null,null,208,22,3,"",7,{"$f":"ROUND(Source!DN595,O618)","v":0},null,null,null,null,null,null,0,1,0,0,1,0]
[50,0,0,1,209,{"$f":"ROUND(Source!W595,O619)","v":0},"ТранспМат","Транспорт материалов",null,null,209,23,3,"",2,{"$f":"ROUND(Source!DO595,O619)","v":0},null,null,null,null,null,null,0,1,0,0,1,0]
[50,0,0,1,233,{"$f":"ROUND(Source!BD595,O620)","v":0},"Перевозка","Перевозка грузов",null,null,233,24,3,"",2,{"$f":"ROUND(Source!EV595,O620)","v":0},null,null,null,null,null,null,0,1,0,0,1,0]
[50,0,0,1,210,{"$f":"ROUND(Source!X595,O621)","v":10339.469999999999},"НР","Накладные расходы",null,null,210,25,3,"",2,{"$f":"ROUND(Source!DP595,O621)","v":10339.469999999999},null,null,null,null,null,null,10339.469999999999,1,10339.469999999999,10339.469999999999,1,10339.469999999999]
[50,0,0,1,211,{"$f":"ROUND(Source!Y595,O622)","v":5030.01},"СмПриб","Сметная прибыль",null,null,211,26,3,"",2,{"$f":"ROUND(Source!DQ595,O622)","v":5030.01},null,null,null,null,null,null,5030.01,1,5030.01,5030.01,1,5030.01]
[50,0,0,1,224,{"$f":"ROUND(Source!AR595,O623)","v":29341.74},"Всего","Всего с НР и СП",null,null,224,27,3,"",2,{"$f":"ROUND(Source!EJ595,O623)","v":29341.74},null,null,null,null,null,null,29341.74,1,29341.74,29341.74,1,29341.74]
[]
[51,{"$f":"B12","v":690},{"$f":"A12","v":1},{"$f":"ROW(A12)","v":12},null,{"$f":"IF(F12<>\"\",F12,\"\")","v":"Новый объект"},{"$f":"IF(G12<>\"\",G12,\"\")","v":"355841_Гончарова_ВЛИ_Катасонова_РАЗБИВКА_ПС_С"},0,null,null,null,null,null,null,{"$f":"ROUND(O499+O595,2)","v":17371.66},2189.2199999999998,2.77,4.05,15175.62,0,{"$f":"U499+U595","v":14.585279999999999},{"$f":"V499+V595","v":5.0879999999999996E-3},{"$f":"ROUND(W499+W595,2)","v":0},{"$f":"ROUND(X499+X595,2)","v":11546.88},{"$f":"ROUND(Y499+Y595,2)","v":5621.64},null,null,null,null,null,null,null,null,null,null,null,null,null,null,null,{"$f":"ROUND(AO499+AO595,2)","v":0},0,0,34540.18,5198.4399999999996,0,29341.74,2189.2199999999998,2189.2199999999998,0,2189.2199999999998,0,0,0,0,0,null,null,null,null,null,null,null,null,null,null,null,null,null,null,null,null,null,null,null,null,null,null,null,null,null,null,null,null,null,null,null,null,null,null,null,null,null,null,null,null,null,null,null,null,null,null,null,null,null,null,null,null,null,null,{"$f":"ROUND(DG499+DG595,2)","v":17371.66},2189.2199999999998,2.77,4.05,15175.62,0,{"$f":"DM499+DM595","v":14.585279999999999},{"$f":"DN499+DN595","v":5.0879999999999996E-3},{"$f":"ROUND(DO499+DO595,2)","v":0},{"$f":"ROUND(DP499+DP595,2)","v":11546.88},{"$f":"ROUND(DQ499+DQ595,2)","v":5621.64},null,null,null,null,null,null,null,null,null,null,null,null,null,null,null,{"$f":"ROUND(EG499+EG595,2)","v":0},0,0,34540.18,5198.4399999999996,0,29341.74,2189.2199999999998,2189.2199999999998,0,2189.2199999999998,0,0,0,0,0,null,null,null,null,null,null,null,null,null,null,null,null,null,null,null,null,null,null,null,null,null,null,null,null,null,null,null,null,null,null,null,null,null,null,null,null,null,null,null,null,null,null,null,null,null,null,null,null,null,null,null,null,null,0]
[]
[50,0,0,1,201,{"$f":"ROUND(Source!O625,O627)","v":17371.66},"ПЗ","Прямые затраты",null,null,201,1,3,"",2,{"$f":"ROUND(Source!DG625,O627)","v":17371.66},null,null,null,null,null,null,17371.66,1,17371.66,17371.66,1,17371.66]
[50,0,0,1,202,{"$f":"ROUND(Source!P625,O628)","v":2189.2199999999998},"СтМатОб","Стоимость материальных ресурсов (всего)",null,null,202,2,3,"",2,{"$f":"ROUND(Source!DH625,O628)","v":2189.2199999999998},null,null,null,null,null,null,2189.2199999999998,1,2189.2199999999998,2189.2199999999998,1,2189.2199999999998]
[50,0,0,1,222,{"$f":"ROUND(Source!AO625,O629)","v":0},"СтМатОбЗак","Стоимость материалов и оборудования заказчика",null,null,222,3,3,"",2,{"$f":"ROUND(Source!EG625,O629)","v":0},null,null,null,null,null,null,0,1,0,0,1,0]
[50,0,0,1,225,{"$f":"ROUND(Source!AV625,O630)","v":2189.2199999999998},"СтМатОбПод","Стоимость материалов и оборудования подрядчика",null,null,225,4,3,"",2,{"$f":"ROUND(Source!EN625,O630)","v":2189.2199999999998},null,null,null,null,null,null,2189.2199999999998,1,2189.2199999999998,2189.2199999999998,1,2189.2199999999998]
[50,0,0,1,226,{"$f":"ROUND(Source!AW625,O631)","v":2189.2199999999998},"СтМат","Стоимость материалов (всего)",null,null,226,5,3,"",2,{"$f":"ROUND(Source!EO625,O631)","v":2189.2199999999998},null,null,null,null,null,null,2189.2199999999998,1,2189.2199999999998,2189.2199999999998,1,2189.2199999999998]
[50,0,0,1,227,{"$f":"ROUND(Source!AX625,O632)","v":0},"СтМатЗак","Стоимость материалов заказчика",null,null,227,6,3,"",2,{"$f":"ROUND(Source!EP625,O632)","v":0},null,null,null,null,null,null,0,1,0,0,1,0]
[50,0,0,1,228,{"$f":"ROUND(Source!AY625,O633)","v":2189.2199999999998},"СтМатПод","Стоимость материалов подрядчика",null,null,228,7,3,"",2,{"$f":"ROUND(Source!EQ625,O633)","v":2189.2199999999998},null,null,null,null,null,null,2189.2199999999998,1,2189.2199999999998,2189.2199999999998,1,2189.2199999999998]
[50,0,0,1,216,{"$f":"ROUND(Source!AP625,O634)","v":0},"Оборуд","Стоимость оборудования (всего)",null,null,216,8,3,"",2,{"$f":"ROUND(Source!EH625,O634)","v":0},null,null,null,null,null,null,0,1,0,0,1,0]
[50,0,0,1,223,{"$f":"ROUND(Source!AQ625,O635)","v":0},"ОборудЗак","Стоимость оборудования заказчика",null,null,223,9,3,"",2,{"$f":"ROUND(Source!EI625,O635)","v":0},null,null,null,null,null,null,0,1,0,0,1,0]
[50,0,0,1,229,{"$f":"ROUND(Source!AZ625,O636)","v":0},"ОборудПод","Стоимость оборудования подрядчика",null,null,229,10,3,"",2,{"$f":"ROUND(Source!ER625,O636)","v":0},null,null,null,null,null,null,0,1,0,0,1,0]
[50,0,0,1,203,{"$f":"ROUND(Source!Q625,O637)","v":2.77},"ЭММ","Эксплуатация машин",null,null,203,11,3,"",2,{"$f":"ROUND(Source!DI625,O637)","v":2.77},null,null,null,null,null,null,2.77,1,2.77,2.77,1,2.77]
[50,0,0,1,231,{"$f":"ROUND(Source!BB625,O638)","v":0},"ЭММсНРиСП","Эксплуатация машин по ТСН-2001.16",null,null,231,12,3,"",2,{"$f":"ROUND(Source!ET625,O638)","v":0},null,null,null,null,null,null,0,1,0,0,1,0]
[50,0,0,1,204,{"$f":"ROUND(Source!R625,O639)","v":4.05},"ЗПМ","ЗП машинистов",null,null,204,13,3,"",2,{"$f":"ROUND(Source!DJ625,O639)","v":4.05},null,null,null,null,null,null,4.05,1,4.05,4.05,1,4.05]
[50,0,0,1,205,{"$f":"ROUND(Source!S625,O640)","v":15175.62},"ОЗП","Основная ЗП рабочих",null,null,205,14,3,"",2,{"$f":"ROUND(Source!DK625,O640)","v":15175.62},null,null,null,null,null,null,15175.62,1,15175.62,15175.62,1,15175.62]
[50,0,0,1,232,{"$f":"ROUND(Source!BC625,O641)","v":0},"ОЗПсНРиСП","Основная ЗП рабочих по ТСН-2001.16",null,null,232,15,3,"",2,{"$f":"ROUND(Source!EU625,O641)","v":0},null,null,null,null,null,null,0,1,0,0,1,0]
[50,0,0,1,214,{"$f":"ROUND(Source!AS625,O642)","v":5198.4399999999996},"Строит","Строительные работы с НР и СП",null,null,214,16,3,"",2,{"$f":"ROUND(Source!EK625,O642)","v":5198.4399999999996},null,null,null,null,null,null,5198.4399999999996,1,5198.4399999999996,5198.4399999999996,1,5198.4399999999996]
[50,0,0,1,215,{"$f":"ROUND(Source!AT625,O643)","v":0},"Монтаж","Монтажные работы с НР и СП",null,null,215,17,3,"",2,{"$f":"ROUND(Source!EL625,O643)","v":0},null,null,null,null,null,null,0,1,0,0,1,0]
[50,0,0,1,217,{"$f":"ROUND(Source!AU625,O644)","v":29341.74},"Прочие","Прочие работы с НР и СП",null,null,217,18,3,"",2,{"$f":"ROUND(Source!EM625,O644)","v":29341.74},null,null,null,null,null,null,29341.74,1,29341.74,29341.74,1,29341.74]
[50,0,0,1,230,{"$f":"ROUND(Source!BA625,O645)","v":0},"ПрочиеЗатр","Прочие затраты по ТСН-2001.16",null,null,230,19,3,"",2,{"$f":"ROUND(Source!ES625,O645)","v":0},null,null,null,null,null,null,0,1,0,0,1,0]
[50,0,0,1,206,{"$f":"ROUND(Source!T625,O646)","v":0},"ВозврМат","Возврат материалов",null,null,206,20,3,"",2,{"$f":"ROUND(Source!DL625,O646)","v":0},null,null,null,null,null,null,0,1,0,0,1,0]
[50,0,0,1,207,{"$f":"ROUND(Source!U625,O647)","v":14.585279999999999},"ТрудСтр","Трудозатраты строителей",null,null,207,21,3,"",7,{"$f":"ROUND(Source!DM625,O647)","v":14.585279999999999},null,null,null,null,null,null,14.585279999999999,1,14.585279999999999,14.585279999999999,1,14.585279999999999]
[50,0,0,1,208,{"$f":"ROUND(Source!V625,O648)","v":5.0879999999999996E-3},"ТрудМаш","Трудозатраты машинистов",null,null,208,22,3,"",7,{"$f":"ROUND(Source!DN625,O648)","v":5.0879999999999996E-3},null,null,null,null,null,null,5.0879999999999996E-3,1,5.0879999999999996E-3,5.0879999999999996E-3,1,5.0879999999999996E-3]
[50,0,0,1,209,{"$f":"ROUND(Source!W625,O649)","v":0},"ТранспМат","Транспорт материалов",null,null,209,23,3,"",2,{"$f":"ROUND(Source!DO625,O649)","v":0},null,null,null,null,null,null,0,1,0,0,1,0]
[50,0,0,1,233,{"$f":"ROUND(Source!BD625,O650)","v":0},"Перевозка","Перевозка грузов",null,null,233,24,3,"",2,{"$f":"ROUND(Source!EV625,O650)","v":0},null,null,null,null,null,null,0,1,0,0,1,0]
[50,0,0,1,210,{"$f":"ROUND(Source!X625,O651)","v":11546.88},"НР","Накладные расходы",null,null,210,25,3,"",2,{"$f":"ROUND(Source!DP625,O651)","v":11546.88},null,null,null,null,null,null,11546.88,1,11546.88,11546.88,1,11546.88]
[50,0,0,1,211,{"$f":"ROUND(Source!Y625,O652)","v":5621.64},"СмПриб","Сметная прибыль",null,null,211,26,3,"",2,{"$f":"ROUND(Source!DQ625,O652)","v":5621.64},null,null,null,null,null,null,5621.64,1,5621.64,5621.64,1,5621.64]
[50,0,0,1,224,{"$f":"ROUND(Source!AR625,O653)","v":34540.18},"Всего","Всего с НР и СП",null,null,224,27,3,"",2,{"$f":"ROUND(Source!EJ625,O653)","v":34540.18},null,null,null,null,null,null,34540.18,1,34540.18,34540.18,1,34540.18]
[50,0,0,2,0,{"$f":"ROUND(F642+F643+F634,O654)","v":5198.4399999999996},"ССР01","Строительно-монтажные работы",null,null,212,28,3,"",2,{"$f":"ROUND(P642+P643+P634,O654)","v":5198.4399999999996},null,null,null,null,null,null,5198.4399999999996,1,5198.4399999999996,5198.4399999999996,1,5198.4399999999996]
[50,0,0,2,0,{"$f":"ROUND(F642*0.019,O655)","v":98.77},"ССР02","ЗУ Строительные работы",null,null,212,29,3,"",2,{"$f":"ROUND(P642*0.019,O655)","v":98.77},null,null,null,null,null,null,98.77,1,98.77,98.77,1,98.77]
[50,1,0,2,0,{"$f":"ROUND(F643*0.019,O656)","v":0},"ССР03","ЗУ Монтажные работы",null,null,212,30,0,"",2,{"$f":"ROUND(P643*0.019,O656)","v":0},null,null,null,null,null,null,0,1,0,0,1,0]
[50,1,0,2,0,{"$f":"ROUND(F655+F656,O657)","v":98.77},"ССР04","Итого ЗУ СМР",null,null,212,31,0,"",2,{"$f":"ROUND(P655+P656,O657)","v":98.77},null,null,null,null,null,null,98.77,1,98.77,98.77,1,98.77]
[50,0,0,2,0,{"$f":"ROUND(F644,O658)","v":29341.74},"ССР05","ПНР ИТОГИ",null,null,212,32,3,"",2,{"$f":"ROUND(P644,O658)","v":29341.74},null,null,null,null,null,null,29341.74,1,29341.74,29341.74,1,29341.74]
[50,0,0,2,213,{"$f":"ROUND(F654+F657+F658,O659)","v":34638.949999999997},"ССР_ИТОГ","Итого СМР по ССР БЕЗ НДС",null,null,212,33,3,"",2,{"$f":"ROUND(P654+P657+P658,O659)","v":34638.949999999997},null,null,null,null,null,null,34638.949999999997,1,34638.949999999997,34638.949999999997,1,34638.949999999997]
[]
[71,1,null,200001,65386684,"Электротехнические устройства","Мет. 421/пр. 04.08.20. пр. 8; п.1",80,20]
[]
[]
[70,1,null,1,"СТР_РЕК","СТРОИТЕЛЬСТВО и РЕКОНСТРУКЦИЯ  зданий и сооружений всех назначений",1,0,"",1,0,"","",0,1,"Строительство и реконструкция"]
[70,1,null,2,"РЕМ_ЖИЛ","КАП. РЕМ. ЖИЛЫХ И ОБЩЕСТВЕННЫХ ЗДАНИЙ",0,0,"",1,0,"","",0,0,"Капитальный ремонт жилых и общественных зданий"]
[70,1,null,3,"РЕМ_ПР","КАП. РЕМ. ПРОИЗВОДСТВЕННЫХ ЗД. и СООРУЖЕНИЙ,  НАРУЖНЫХ ИНЖЕНЕРНЫХ СЕТЕЙ, УЛИЦ И ДОРОГ МЕСТНОГО ЗНАЧЕНИЯ, ИНЖ,СООРУЖЕНИЙ ( ГИДРОТЕХ,СООРУЖ, МОСТОВ И ПУТЕПРОВОДОВ И Т.П.)",0,0,"",1,0,"","",0,0,"Капитальный ремонт прозводственных зданий"]
[70,1,null,4,"Территория","для территории Российской Федерации, не относящейся к районам Крайнего Севера и приравненным к ним местностям",1,0,"",2,0,"","",0,1,""]
[70,1,null,5,"МПРКС","для территории Российской Федерации, относящейся к местностям, приравненным к районам Крайнего Севера",0,0,"",2,0,"","",0,0,""]
[70,1,null,6,"РКС","для территории Российской Федерации, относящейся к районам Крайнего Севера",0,0,"",2,0,"","",0,0,""]
[70,1,null,7,"СЛЖ","При определении сметной стоимости строительства объектов капитального строительства, относящихся к особо опасным и технически сложным. За исключением АЭС.",0,0,"Для сборников ФЕР ( при производстве работ на технически сложных объектах ):  ·  { СЛЖ } - (вкл.)    - работа на сложных объектах  (к=1,2 к НР)           ·  { СЛЖ } - (выкл.) - работа на обычных объектах",0,0,"","",0,0,"Сложные объекты"]
[70,1,null,8,"СТНДРТ","При определении сметной стоимости строительства объектов капитального строительства (за исключением АЭС).",1,0,"",5,0,"","",0,1,""]
[70,1,null,9,"АЭС_ПНР","При определении сметной стоимости строительства объектов капитального строительства АЭС. Пусконаладочные работы (за исключением технологического оборудования АЭС).",0,0,"",5,0,"","",0,0,"АЭС"]
[70,1,null,10,"АЭС_ПНР_ТЕХ","При определении сметной стоимости строительства объектов капитального строительства АЭС. Пусконаладочные работы технологического оборудования АЭС.",0,0,"Для сборника ФЕРм -39  и ФЕРМ-08  ( при работах по контролю сварных соединений) :    {мАЭС} - ( вкл.)  -     при выполнении работ по на АЭС  (HР=101%; СП= 68%;             {мАЭС} - (выкл.) -  при выполнении работ  на обычных объектах",5,0,"","",0,0,"АЭС, ПНР технологического оборудования АЭС."]
[70,1,null,11,"ОПТ/В","{вкл}    - Прокладка  МЕЖДУГОРОДНЫХ  ВОЛОКОННО-ОПТИЧЕСКИХ ЛИНИЙ (для ФЕРм10, отд. 6 разд.3)  {выкл} - Прокладка  ГОРОДСКИХ               ВОЛОКОННО-ОПТИЧЕСКИХ ЛИНИЙ  (для ФЕРм10, отд. 6 разд.3)",0,0,"Для сборников ФЕРм-10  ( волоконно-оптические линии связи ): ·  {М_ГОР_опт} -  ( вкл.)  - междугородные сети связи ( НР=120% , СП=70% )           ·  {М_ГОР_опт} - ( выкл.) - городские сети связи  ( НР=100%; СП=65%)",0,0,"","",0,0,"Прокладка междугородных в/опт. кабелей"]
[70,1,null,12,"АВИ","(вкл)   -  При работах по ДИСПЕТЧЕРИЗАЦИИ управления движением АВИАТРАНСПОРТОМ {вкл}  (монтажные работы )",0,0,"Для сборников ФЕРм 08;10;11 :    · {мАВИА} -  (вкл.)     -  производство монтажных  работы по диспетчеризации управления  движением авиатранспортном (НР=95%, СП=55%) ;    ·            {мАВИА} -  (выкл. ) -  при производстве работ на прочих объектах , кром",0,0,"","",0,0,"Диспетчеризация авиатранспорта"]
[70,1,null,13,"ЗАКР","{вкл}   -  Обслуживающие и сопутствующие работы в тоннелях при  производстве работ ЗАКРЫТЫМ СПОСОБОМ   {выкл} - Обслуживающие и сопутствующие работы в тоннелях при  производстве работ  ОТКРЫТЫМ",0,0,"Для сборника ФЕР -29 ( сопутствующие работы в тоннелях и метро. ): ·  {ЗАКР} - (вкл.)     -  при выполнении работ в тоннелях  и метро закрытым способом  (НР=145% , СП=75%); ·                {ЗАКР} - (выкл.) -   при выполнении работ в тоннелях и метро  отк",0,0,"","",0,0,"Производство работ закрытым способом (обслуживающие процессы)"]
[70,1,null,14,"АВТО_ДРГ","{вкл} - НР и СП по п.021.0 \"Автомобильные дороги\" (раздел 2 нормы 27-02-010-01:07)  {выкл} - НР и СП по п.021.1 Устройство покрытий дорожек, тротуаров, мостовых и площадок и прочее (раздел 2 нормы 27-02-010-01:07)",0,0,"",0,0,"","",0,0,""]
[70,1,null,15,"ГОР","(вкл) - ФЕРм-08, выполнение работ на горнорудных объектах  (выкл) - ФЕРм-08, выполнение работ на других объектах",0,0,"",0,0,"","",0,0,"Выполнение работ на горнорудных объектах"]
[70,1,null,16,"ОБ_ПР","Объект производственного назначения",0,0,"",3,0,"","",0,0,""]
[70,1,null,17,"ОБ_НПР","Объект непроизводственного назначения",1,0,"",3,0,"","",0,1,""]
[70,1,null,1,"К_НР_РЕМ","при ремонте жилых и общественных зданий если  ( если {РЕМ_ЖИЛ}= [вкл.]",0.9,1,"Для сборников  ФЕР и  ФЕРмр :  · Значение {_МДСрем_НР}= 0,90 -  при ремонте зданий жилого и гражданского назначений ( 0,90 к НР) ;  · Значение {_МДСрем_НР}= 1,00  - при строительстве  и реконструкции  объектов всех назначений",0,0,"","",0,0.9,"п.25"]
[70,1,null,2,"К_СП_РЕМ","к нормам СП при капитальном ремонте зданий и сооружений всех назначений ( если или {РЕМ_ЖИЛ}=[вкл] , или (РЕМ_ПР}=[вкл] )",0.85,1,"Для сборников  ФЕР и  ФЕРмр :   · Значение {_МДСрем_СП} = 0.85  -  при ремонте зданий всех назначений ( 0,85 к СП);   · Значение {_МДСрем_СП} = 1,00 -  при строительстве  и реконструкции  объектов всех назначений",0,0,"","",0,0.85,"п.16"]
[70,1,null,3,"К_НР_СЛЖ","При определении сметной стоимости строительства объектов капитального строительства, относящихся к особо опасным и технически сложным. За исключением объектов атомных электрических станций.  ( если {СЛЖ} = [вкл] )",1.03,0,"",0,0,"","",0,1.03,"п.27 СЛОЖН"]
[70,1,null,4,"К_НР_АЭС","При определении сметной стоимости строительства объектов капитального строительства, относящихся к особо опасным и технически сложным. Для объектов атомных электрических станций.  ( если {АЭС} = [вкл] )",1.1499999999999999,0,"",0,0,"","",0,1.1499999999999999,"п.27 АЭС"]
[70,1,null,5,"Р_ОКР","Разрядность округления результата расчета НР и СП  (с 05.04.2020 - до семи знаков после запятой)",7,0,"",0,0,"","",0,7,""]
[70,1,null,6,"Лист_НРиСП","",2,0,"",0,0,"","",0,2,""]
[]
[-1]
[]
[75,"Текущий уровень цен",2026,0,5,1,0,1,0,1,0,0,0,85316715,1]
[2,"Вид цен","Московская область, КТЦ к ФСНБ-2022 (ПАО Россети), 1 квартал 2026 г",0,0,0,null,null,null,null,null,null,null,null,null,null,null,null,null,null,null,null,null,null,null,null,null,null,null,null,null,null,null,null,null,null,null,null,null,85319985]
[1,"Сборник индексов","Московская область к ФСНБ-2022 ФГИС ЦС (ПАО  Россети )",2026,3,1,1,0,2,1,1,1,1,1,1,1,1,"","","","","","","","","","",null,null,null,null,null,null,null,null,null,null,null,null,85319986,"Письмо Минстроя России  «О размещении индексов изменения сметной стоимости строительства по группам однородных строительных ресурсов на I квартал 2026 года»","Справочная информация",46078,409,"Письмо Минстроя России от 25.02.2026 № 9859-ИФ/09","Приказ ПАО 'РОССЕТИ'","Справочная информация",45652,612,"Приказ ПАО 'РОССЕТИ' от 26.12.2024 № 612"]
[75,"Текущий уровень цен",2026,0,5,0,0,1,0,1,0,0,1,85316656,2]
[2,"Вид цен","Московская область, КТЦ к ФСНБ-2022 (ПАО Россети), 1 квартал 2026 г",0,0,0,null,null,null,null,null,null,null,null,null,null,null,null,null,null,null,null,null,null,null,null,null,null,null,null,null,null,null,null,null,null,null,null,null,85319993]
[1,"Сборник индексов","Московская область к ФСНБ-2022 ФГИС ЦС (ПАО  Россети )",2026,3,1,1,0,2,1,1,1,1,1,1,1,1,"","","","","","","","","","",null,null,null,null,null,null,null,null,null,null,null,null,85319994,"Письмо Минстроя России  «О размещении индексов изменения сметной стоимости строительства по группам однородных строительных ресурсов на I квартал 2026 года»","Справочная информация",46078,409,"Письмо Минстроя России от 25.02.2026 № 9859-ИФ/09","Приказ ПАО 'РОССЕТИ'","Справочная информация",45652,612,"Приказ ПАО 'РОССЕТИ' от 26.12.2024 № 612"]
[]
[]
[]
[65,null,1,0,245]

{"sheet":"SourceObSm","index":3,"n_rows":30,"n_cols":133,"rows_kept":30,"cut":false,"hidden":false,"merged":[]}
[0,"Smeta.RU Flash  (495) 974-1589",null,"_OBSM_",null,0,0,0,"Smeta.RU Flash","",1,68757,10,12,0,0,3]
[]
[]
[]
[]
[]
[]
[]
[]
[]
[]
[1,25,0,null,0,"Новый объект","355841_Гончарова_ВЛИ_Катасонова_РАЗБИВКА_ПС_С","",0,"",0,0,523,null,0,0,7,0,0,4,"",0,"","","","","","Чайкин А.В.","","","","","","","","",null,"","","",null,"","","",null,null,null,null,null,"","","",null,0,null,null,null,null,null,"Сметные нормы списания","Коды ценников",1,1,0,0,1,0,2,2,1,0,0,0,1,0,0,"ФСНБ-2022_И17","Версия 1.17.0 для ФСНБ-2022 И17","ФСНБ-2022 - Изменения И17","ФСНБ-2022 - Изменения И17","ФСНБ-2022 - Изменения И17","ФСНБ-2022 - Изменения И17","Поправки для ФСНБ-2022 от 25.02.2026 г И17 (55/пр) Строительство",0,0,487096330,"","",17,null,null,null,null,null,"Приказ Минстроя России от 30.12.2021 г. № 1046/пр;  Приказ Минстроя России от 04.08.2020 г. № 421/пр;  Приказ Минстроя России от 21.12.2020 г. № 812/пр;  Приказ Минстроя России от 11.12.2020 г. № 774/пр","ГСН",46073,540,17,"Приказ Минстроя России от 18.05.2022 г. № 378/пр; Приказ Минстроя России от 26.08.2022 г. № 703/пр; Приказ Минстроя России от 26.10.2022 г. № 905/пр;  Приказ Минстроя России от 27.12.2022 г. № 1133/пр; Приказ Минстроя России от 10.02.2023 г. № 84/пр; Приказ Минстроя России от 11.05.2023 г. № 335/пр;  Приказ Минстроя России от 02.08.2023 г. № 551/пр; Приказ Минстроя России от 14.11.2023 г. № 817/пр; Приказ Минстроя России от 16.02.2024 г. № 102/пр;  Приказ Минстроя России от 13.05.2024 г. № 323/пр; Приказ Минстроя России от 09.08.2024 г. № 524/пр; Приказ Минстроя России от 07.11.2024 г. № 747/пр;  Приказ Минстроя России от 07.02.2025 г. № 69/пр; Приказ Минстроя России от 19.05.2025 г. № 299/пр; Приказ Минстроя России от 14.08.2025 г. № 490/пр;  Приказ Минстроя России от 12.11.2025 г. № 696/пр; Приказ Минстроя России от 17.02.2026 г. № 91/пр;  Приказ Минстроя России от 07.07.2022 г. № 557/пр; Приказ Минстроя России от 30.01.2024 г. № 55/пр; Приказ Минстроя России от 23.01.2025 г. № 30/пр;  Приказ Минстроя России от 02.09.2021 г. № 636/пр; Приказ Минстроя России от 26.07.2022 г. № 611/пр; Приказ Минстроя России от 22.04.2022 г. № 317/пр",null,null,0,"","",null,null,null,null,null,null,null,null,null,null,null,null,null,null,null,null,null,null,null,null,null,null,null,null,null,null,null,0]
[]
[22,1,0,85316715,85316656,2,1]
[]
[3,1,"02-01-01","Строительство ВЛИ-0,4 кВ",{"$f":"ROUND((Source!F516)/1000,2)","v":5.2},{"$f":"ROUND((Source!F517)/1000,2)","v":0},{"$f":"ROUND((Source!F508)/1000,2)","v":0},{"$f":"ROUND((Source!F518)/1000+(Source!F519)/1000,2)","v":0},{"$f":"E16+F16+G16+H16","v":5.2},{"$f":"ROUND((Source!F514+Source!F513)/1000,2)","v":1.21},5.59,0,0,{"$f":"I16+L16+M16","v":5.2},null,null,null,null,null,{"$f":"ROUND((Source!P516)/1000,2)","v":5.2},{"$f":"ROUND((Source!P517)/1000,2)","v":0},{"$f":"ROUND((Source!P508)/1000,2)","v":0},{"$f":"ROUND((Source!P518)/1000+(Source!P519)/1000,2)","v":0},{"$f":"T16+U16+V16+W16","v":5.2},{"$f":"ROUND((Source!P514+Source!P513)/1000,2)","v":1.21},5.59,0,0,{"$f":"X16+AA16+AB16","v":5.2},null,null,null,null,null,0,-1,"","","",0,"","",null,null,null,3399.4,2189.2199999999998,0,0,0,2.77,4.05,1203.3599999999999,5198.4399999999996,0,0,0,1.6281600000000001,5.0879999999999996E-3,0,1207.4100000000001,591.63,5198.4399999999996,null,null,null,null,null,null,3399.4,2189.2199999999998,0,0,0,2.77,4.05,1203.3599999999999,5198.4399999999996,0,0,0,1.6281600000000001,5.0879999999999996E-3,0,1207.4100000000001,591.63,5198.4399999999996]
[3,2,"09-01-01","ПНР ВЛИ-0,4 кВ",{"$f":"ROUND((Source!F612)/1000,2)","v":0},{"$f":"ROUND((Source!F613)/1000,2)","v":0},{"$f":"ROUND((Source!F604)/1000,2)","v":0},{"$f":"ROUND((Source!F614)/1000+(Source!F615)/1000,2)","v":29.34},{"$f":"E17+F17+G17+H17","v":29.34},{"$f":"ROUND((Source!F610+Source!F609)/1000,2)","v":13.97},13.97,0,0,{"$f":"I17+L17+M17","v":29.34},null,null,null,null,null,{"$f":"ROUND((Source!P612)/1000,2)","v":0},{"$f":"ROUND((Source!P613)/1000,2)","v":0},{"$f":"ROUND((Source!P604)/1000,2)","v":0},{"$f":"ROUND((Source!P614)/1000+(Source!P615)/1000,2)","v":29.34},{"$f":"T17+U17+V17+W17","v":29.34},{"$f":"ROUND((Source!P610+Source!P609)/1000,2)","v":13.97},13.97,0,0,{"$f":"X17+AA17+AB17","v":29.34},null,null,null,null,null,0,-1,"","","",0,"","",null,null,null,13972.260000000002,0,0,0,0,0,0,13972.260000000002,0,0,29341.74,0,12.95712,0,0,10339.469999999999,5030.01,29341.74,null,null,null,null,null,null,13972.260000000002,0,0,0,0,0,0,13972.260000000002,0,0,29341.74,0,12.95712,0,0,10339.469999999999,5030.01,29341.74]
[]
[51,null,null,null,5.2,0,0,29.34,34.54,15.18,19.559999999999999,0,0,34.54,null,null,null,null,null,5.2,0,0,29.34,34.54,15.18,19.559999999999999,0,0,34.54]
[]
[]
[-1]
[]
[]
[75,"Текущий уровень цен",2026,0,5,1,0,1,0,1,0,0,0,85316715,1]
[2,"Вид цен","Московская область, КТЦ к ФСНБ-2022 (ПАО Россети), 1 квартал 2026 г",0,0,0,null,null,null,null,null,null,null,null,null,null,null,null,null,null,null,null,null,null,null,null,null,null,null,null,null,null,null,null,null,null,null,null,null,85319985]
[1,"Сборник индексов","Московская область к ФСНБ-2022 ФГИС ЦС (ПАО  Россети )",2026,3,1,1,0,2,1,1,1,1,1,1,1,1,"","","","","","","","","","",null,null,null,null,null,null,null,null,null,null,null,null,85319986,"Письмо Минстроя России  «О размещении индексов изменения сметной стоимости строительства по группам однородных строительных ресурсов на I квартал 2026 года»","Справочная информация",46078,409,"Письмо Минстроя России от 25.02.2026 № 9859-ИФ/09","Приказ ПАО 'РОССЕТИ'","Справочная информация",45652,612,"Приказ ПАО 'РОССЕТИ' от 26.12.2024 № 612"]
[75,"Текущий уровень цен",2026,0,5,0,0,1,0,1,0,0,1,85316656,2]
[2,"Вид цен","Московская область, КТЦ к ФСНБ-2022 (ПАО Россети), 1 квартал 2026 г",0,0,0,null,null,null,null,null,null,null,null,null,null,null,null,null,null,null,null,null,null,null,null,null,null,null,null,null,null,null,null,null,null,null,null,null,85319993]
[1,"Сборник индексов","Московская область к ФСНБ-2022 ФГИС ЦС (ПАО  Россети )",2026,3,1,1,0,2,1,1,1,1,1,1,1,1,"","","","","","","","","","",null,null,null,null,null,null,null,null,null,null,null,null,85319994,"Письмо Минстроя России  «О размещении индексов изменения сметной стоимости строительства по группам однородных строительных ресурсов на I квартал 2026 года»","Справочная информация",46078,409,"Письмо Минстроя России от 25.02.2026 № 9859-ИФ/09","Приказ ПАО 'РОССЕТИ'","Справочная информация",45652,612,"Приказ ПАО 'РОССЕТИ' от 26.12.2024 № 612"]

{"sheet":"SmtRes","index":4,"n_rows":670,"n_cols":119,"rows_kept":670,"cut":false,"hidden":false,"merged":[]}
[{"$f":"ROW(Source!A28)","v":28},85316715,85320002,77306356,114,1,1,1,"1-100-33","","Средний разряд работы 3,3",1191,null,1013,"чел.-ч.","чел.-ч.",1,null,null,null,null,null,0,32079103,{"$f":"AT1","v":7.41},null,0,0,0,748.18,0,0,0,748.18,1,1,1,1,-2,0,0,1,1,0,"",7.41,"",1,2,85320006,2,131072,1,1,0,0,0,0,0,0,0,0,0,0,5544.0137999999997,7.41,0,1,0,0,0,5544.0137999999997,7.41,0,1,null,null,null,null,null,null,null,null,null,null,null,null,null,null,null,null,null,null,null,null,null,null,null,{"$f":"ROUND(AT1*Source!I28*AH1*AL1,2)","v":0},{"$f":"ROUND(Y1*Source!I28,7)","v":0},0,{"$f":"ROUND(Y1*Source!I28,7)","v":0},{"$f":"AD1","v":748.18},{"$f":"AH1","v":748.18},{"$f":"AL1","v":1},{"$f":"ROUND(ROUND(AT1*CZ1,2),2)","v":5544.01},{"$f":"ROUND(ROUND(AT1*AG1,2),2)","v":0},"","",{"$f":"ROUND(ROUND(AE1,2)*CX1,2)","v":0},{"$f":"ROUND(ROUND(AF1,2)*CX1,2)","v":0},{"$f":"ROUND(ROUND(AG1,2)*CX1,2)","v":0},{"$f":"ROUND(ROUND(AH1,2)*CX1,2)","v":0},{"$f":"DI1","v":0},1,"",0,"",0]
[{"$f":"ROW(Source!A28)","v":28},85316715,85320002,77380687,1,1,1,3,"01.7.20.07-0002","ФСБЦ-2022, 01.7.20.07-0002, приказ Минстроя России от 18.05.2022 г. № 378/пр","Шпагат из пенькового волокна, диаметр 1,7 мм",1346,null,1009,"кг","кг",1,null,null,null,null,null,0,-1863002514,0.2,null,330.28,0,0,0,214.47,0,0,0,1.54,1,1,1,2,0,0,1,1,0,"",0.2,"",0,2,85320007,1,0,2,1,0,0,0,0,0,0,0,42.894000000000005,0,0,0,0,0,1,42.894000000000005,0,0,0,0,0,1,null,null,null,null,null,null,null,null,null,null,null,null,null,null,null,null,null,null,null,null,null,null,null,null,0,0,{"$f":"ROUND(Y2*Source!I28,7)","v":0},{"$f":"AA2","v":330.28},{"$f":"AE2","v":214.47},{"$f":"AI2","v":1.54},42.89,0,"","",{"$f":"ROUND(ROUND(AE2*AI2,2)*CX2,2)","v":0},0,0,0,{"$f":"DF2","v":0},0,"",0,"",0]
[{"$f":"ROW(Source!A28)","v":28},85316715,85320002,77389427,1,1,1,3,"11.1.03.05-0074","ФСБЦ-2022, 11.1.03.05-0074, приказ Минстроя России от 18.05.2022 г. № 378/пр","Доска необрезная хвойных пород, естественной влажности, длина 4-6,5 м, ширина 100-250, толщина 20 мм, сорт IV",1339,null,1007,"м3","м3",1,null,null,null,null,null,0,999221205,1E-3,null,12012.45,0,0,0,7555,0,0,0,1.59,1,1,1,2,0,0,1,1,0,"",1E-3,"",0,2,85320008,1,0,3,1,0,0,0,0,0,0,0,7.5549999999999997,0,0,0,0,0,1,7.5549999999999997,0,0,0,0,0,1,null,null,null,null,null,null,null,null,null,null,null,null,null,null,null,null,null,null,null,null,null,null,null,null,0,0,{"$f":"ROUND(Y3*Source!I28,7)","v":0},{"$f":"AA3","v":12012.45},{"$f":"AE3","v":7555},{"$f":"AI3","v":1.59},7.56,0,"","",{"$f":"ROUND(ROUND(AE3*AI3,2)*CX3,2)","v":0},0,0,0,{"$f":"DF3","v":0},0,"",0,"",0]
[{"$f":"ROW(Source!A29)","v":29},85316656,85320002,77306356,114,1,1,1,"1-100-33","","Средний разряд работы 3,3",1191,null,1013,"чел.-ч.","чел.-ч.",1,null,null,null,null,null,0,32079103,7.41,null,0,0,0,748.18,0,0,0,748.18,1,1,1,1,-2,0,0,1,1,0,"",7.41,"",1,2,85320006,2,131072,4,1,0,0,0,0,0,0,0,0,0,0,5544.0137999999997,7.41,0,1,0,0,0,5544.0137999999997,7.41,0,1,null,null,null,null,null,null,null,null,null,null,null,null,null,null,null,null,null,null,null,null,null,null,null,{"$f":"ROUND(AT4*Source!I29*AH4*AL4,2)","v":0},{"$f":"ROUND(Y4*Source!I29,7)","v":0},0,{"$f":"ROUND(Y4*Source!I29,7)","v":0},{"$f":"AD4","v":748.18},{"$f":"AH4","v":748.18},{"$f":"AL4","v":1},5544.01,0,"","",{"$f":"ROUND(ROUND(AE4,2)*CX4,2)","v":0},0,0,0,{"$f":"DI4","v":0},1,"",0,"",0]
[{"$f":"ROW(Source!A29)","v":29},85316656,85320002,77380687,1,1,1,3,"01.7.20.07-0002","ФСБЦ-2022, 01.7.20.07-0002, приказ Минстроя России от 18.05.2022 г. № 378/пр","Шпагат из пенькового волокна, диаметр 1,7 мм",1346,null,1009,"кг","кг",1,null,null,null,null,null,0,-1863002514,0.2,null,330.28,0,0,0,214.47,0,0,0,1.54,1,1,1,2,0,0,1,1,0,"",0.2,"",0,2,85320007,1,0,5,1,0,0,0,0,0,0,0,42.894000000000005,0,0,0,0,0,1,42.894000000000005,0,0,0,0,0,1,null,null,null,null,null,null,null,null,null,null,null,null,null,null,null,null,null,null,null,null,null,null,null,null,0,0,{"$f":"ROUND(Y5*Source!I29,7)","v":0},{"$f":"AA5","v":330.28},{"$f":"AE5","v":214.47},{"$f":"AI5","v":1.54},42.89,0,"","",{"$f":"ROUND(ROUND(AE5*AI5,2)*CX5,2)","v":0},0,0,0,{"$f":"DF5","v":0},0,"",0,"",0]
[{"$f":"ROW(Source!A29)","v":29},85316656,85320002,77389427,1,1,1,3,"11.1.03.05-0074","ФСБЦ-2022, 11.1.03.05-0074, приказ Минстроя России от 18.05.2022 г. № 378/пр","Доска необрезная хвойных пород, естественной влажности, длина 4-6,5 м, ширина 100-250, толщина 20 мм, сорт IV",1339,null,1007,"м3","м3",1,null,null,null,null,null,0,999221205,1E-3,null,12012.45,0,0,0,7555,0,0,0,1.59,1,1,1,2,0,0,1,1,0,"",1E-3,"",0,2,85320008,1,0,6,1,0,0,0,0,0,0,0,7.5549999999999997,0,0,0,0,0,1,7.5549999999999997,0,0,0,0,0,1,null,null,null,null,null,null,null,null,null,null,null,null,null,null,null,null,null,null,null,null,null,null,null,null,0,0,{"$f":"ROUND(Y6*Source!I29,7)","v":0},{"$f":"AA6","v":12012.45},{"$f":"AE6","v":7555},{"$f":"AI6","v":1.59},7.56,0,"","",{"$f":"ROUND(ROUND(AE6*AI6,2)*CX6,2)","v":0},0,0,0,{"$f":"DF6","v":0},0,"",0,"",0]
[{"$f":"ROW(Source!A31)","v":31},85316715,85320010,77306545,114,1,1,1,"4-100-00","","Затраты труда машинистов",1191,null,1013,"чел.-ч.","чел.-ч.",1,null,null,null,null,null,0,-1417349443,0.99,null,0,0,0,0,0,0,0,0,1,1,1,1,-2,0,0,1,1,0,"",0.99,"",2,2,85320014,1,0,7,1,0,0,0,0,0,0,0,0,0,0,0,0,0,0,0,0,0,0,0,0,0,null,null,null,null,null,null,null,null,null,null,null,null,null,null,null,null,null,null,null,null,null,null,null,null,0,0,{"$f":"ROUND(Y7*Source!I31,7)","v":0},{"$f":"AD7","v":0},{"$f":"AH7","v":0},{"$f":"AL7","v":1},0,0,"","",{"$f":"ROUND(ROUND(AE7,2)*CX7,2)","v":0},0,0,0,{"$f":"DI7","v":0},0,"",0,"",0]
[{"$f":"ROW(Source!A31)","v":31},85316715,85320010,77430562,1,1,1,2,"91.01.01-035","ФСЭМ-2022, 91.01.01-035, приказ Минстроя России от 18.05.2022 г. № 378/пр","Бульдозеры, мощность 79 кВт (108 л.с.)",1368,null,1011,"маш.-ч","маш.-ч",1,null,null,null,null,null,0,-1290093107,0.61,null,0,1207.05,1090.46,0,0,887.54,1090.46,0,1,1.36,1,1,2,0,0,1,1,0,"",0.61,"",1,2,85320015,2,65536,8,1,0,0,0,0,0,0,0,0,541.39940000000001,665.18060000000003,0,0,0.61,1,0,541.39940000000001,665.18060000000003,0,0,0.61,1,null,null,null,null,null,null,null,null,null,null,null,null,null,null,null,null,null,null,null,null,null,null,null,null,0,{"$f":"ROUND(Y8*Source!I31*DO8,7)","v":0},{"$f":"ROUND(Y8*Source!I31,7)","v":0},{"$f":"AB8","v":1207.05},{"$f":"AF8","v":887.54},{"$f":"AJ8","v":1.36},541.4,665.18,"","",0,{"$f":"ROUND(ROUND(AF8*AJ8,2)*CX8,2)","v":0},0,0,{"$f":"DG8+DH8","v":0},0,"4-100-060",6,"чел.-ч.",1]
[{"$f":"ROW(Source!A31)","v":31},85316715,85320010,77430573,1,1,1,2,"91.01.02-004","ФСЭМ-2022 доп.11, 91.01.02-004, приказ Минстроя России от 09.08.2024 г. № 524/пр","Автогрейдеры среднего типа, мощность 99 кВт (135 л.с.)",1368,null,1011,"маш.-ч","маш.-ч",1,null,null,null,null,null,0,-888233505,0.38,null,0,2628.88,1090.46,0,0,1933,1090.46,0,1,1.36,1,1,2,0,0,1,1,0,"",0.38,"",1,2,85320016,2,65536,9,1,0,0,0,0,0,0,0,0,734.54,414.37479999999999,0,0,0.38,1,0,734.54,414.37479999999999,0,0,0.38,1,null,null,null,null,null,null,null,null,null,null,null,null,null,null,null,null,null,null,null,null,null,null,null,null,0,{"$f":"ROUND(Y9*Source!I31*DO9,7)","v":0},{"$f":"ROUND(Y9*Source!I31,7)","v":0},{"$f":"AB9","v":2628.88},{"$f":"AF9","v":1933},{"$f":"AJ9","v":1.36},734.54,414.37,"","",0,{"$f":"ROUND(ROUND(AF9*AJ9,2)*CX9,2)","v":0},0,0,{"$f":"DG9+DH9","v":0},0,"4-100-060",6,"чел.-ч.",1]
[{"$f":"ROW(Source!A32)","v":32},85316656,85320010,77306545,114,1,1,1,"4-100-00","","Затраты труда машинистов",1191,null,1013,"чел.-ч.","чел.-ч.",1,null,null,null,null,null,0,-1417349443,0.99,null,0,0,0,0,0,0,0,0,1,1,1,1,-2,0,0,1,1,0,"",0.99,"",2,2,85320014,1,0,10,1,0,0,0,0,0,0,0,0,0,0,0,0,0,0,0,0,0,0,0,0,0,null,null,null,null,null,null,null,null,null,null,null,null,null,null,null,null,null,null,null,null,null,null,null,null,0,0,{"$f":"ROUND(Y10*Source!I32,7)","v":0},{"$f":"AD10","v":0},{"$f":"AH10","v":0},{"$f":"AL10","v":1},0,0,"","",0,{"$f":"ROUND(ROUND(AF10,2)*CX10,2)","v":0},0,0,{"$f":"DI10","v":0},0,"",0,"",0]
[{"$f":"ROW(Source!A32)","v":32},85316656,85320010,77430562,1,1,1,2,"91.01.01-035","ФСЭМ-2022, 91.01.01-035, приказ Минстроя России от 18.05.2022 г. № 378/пр","Бульдозеры, мощность 79 кВт (108 л.с.)",1368,null,1011,"маш.-ч","маш.-ч",1,null,null,null,null,null,0,-1290093107,0.61,null,0,1207.05,1090.46,0,0,887.54,1090.46,0,1,1.36,1,1,2,0,0,1,1,0,"",0.61,"",1,2,85320015,2,65536,11,1,0,0,0,0,0,0,0,0,541.39940000000001,665.18060000000003,0,0,0.61,1,0,541.39940000000001,665.18060000000003,0,0,0.61,1,null,null,null,null,null,null,null,null,null,null,null,null,null,null,null,null,null,null,null,null,null,null,null,null,0,{"$f":"ROUND(Y11*Source!I32*DO11,7)","v":0},{"$f":"ROUND(Y11*Source!I32,7)","v":0},{"$f":"AB11","v":1207.05},{"$f":"AF11","v":887.54},{"$f":"AJ11","v":1.36},541.4,665.18,"","",0,{"$f":"ROUND(ROUND(AF11*AJ11,2)*CX11,2)","v":0},0,0,{"$f":"DG11+DH11","v":0},0,"4-100-060",6,"чел.-ч.",1]
[{"$f":"ROW(Source!A32)","v":32},85316656,85320010,77430573,1,1,1,2,"91.01.02-004","ФСЭМ-2022 доп.11, 91.01.02-004, приказ Минстроя России от 09.08.2024 г. № 524/пр","Автогрейдеры среднего типа, мощность 99 кВт (135 л.с.)",1368,null,1011,"маш.-ч","маш.-ч",1,null,null,null,null,null,0,-888233505,0.38,null,0,2628.88,1090.46,0,0,1933,1090.46,0,1,1.36,1,1,2,0,0,1,1,0,"",0.38,"",1,2,85320016,2,65536,12,1,0,0,0,0,0,0,0,0,734.54,414.37479999999999,0,0,0.38,1,0,734.54,414.37479999999999,0,0,0.38,1,null,null,null,null,null,null,null,null,null,null,null,null,null,null,null,null,null,null,null,null,null,null,null,null,0,{"$f":"ROUND(Y12*Source!I32*DO12,7)","v":0},{"$f":"ROUND(Y12*Source!I32,7)","v":0},{"$f":"AB12","v":2628.88},{"$f":"AF12","v":1933},{"$f":"AJ12","v":1.36},734.54,414.37,"","",0,{"$f":"ROUND(ROUND(AF12*AJ12,2)*CX12,2)","v":0},0,0,{"$f":"DG12+DH12","v":0},0,"4-100-060",6,"чел.-ч.",1]
[{"$f":"ROW(Source!A34)","v":34},85316715,85320018,77306386,114,1,1,1,"1-100-45","","Средний разряд работы 4,5",1191,null,1013,"чел.-ч.","чел.-ч.",1,null,null,null,null,null,0,1903532093,0.68,null,0,0,0,872.37,0,0,0,872.37,1,1,1,1,-2,0,0,1,1,0,"",0.68,"",1,2,85320022,2,131072,13,1,0,0,0,0,0,0,0,0,0,0,593.21160000000009,0.68,0,1,0,0,0,593.21160000000009,0.68,0,1,null,null,null,null,null,null,null,null,null,null,null,null,null,null,null,null,null,null,null,null,null,null,null,{"$f":"ROUND(AT13*Source!I34*AH13*AL13,2)","v":0},{"$f":"ROUND(Y13*Source!I34,7)","v":0},0,{"$f":"ROUND(Y13*Source!I34,7)","v":0},{"$f":"AD13","v":872.37},{"$f":"AH13","v":872.37},{"$f":"AL13","v":1},593.21,0,"","",0,{"$f":"ROUND(ROUND(AF13,2)*CX13,2)","v":0},0,0,{"$f":"DI13","v":0},1,"",0,"",0]
[{"$f":"ROW(Source!A34)","v":34},85316715,85320018,77306545,114,1,1,1,"4-100-00","","Затраты труда машинистов",1191,null,1013,"чел.-ч.","чел.-ч.",1,null,null,null,null,null,0,-1417349443,0.33,null,0,0,0,0,0,0,0,0,1,1,1,1,-2,0,0,1,1,0,"",0.33,"",2,2,85320023,1,0,14,1,0,0,0,0,0,0,0,0,0,0,0,0,0,0,0,0,0,0,0,0,0,null,null,null,null,null,null,null,null,null,null,null,null,null,null,null,null,null,null,null,null,null,null,null,null,0,0,{"$f":"ROUND(Y14*Source!I34,7)","v":0},{"$f":"AD14","v":0},{"$f":"AH14","v":0},{"$f":"AL14","v":1},0,0,"","",0,0,0,0,{"$f":"DI14","v":0},0,"",0,"",0]
[{"$f":"ROW(Source!A34)","v":34},85316715,85320018,77431162,1,1,1,2,"91.06.06-012","ФСЭМ-2022, 91.06.06-012, приказ Минстроя России от 18.05.2022 г. № 378/пр","Автогидроподъемники, высота подъема 18 м",1368,null,1011,"маш.-ч","маш.-ч",1,null,null,null,null,null,0,-1681054019,0.33,null,0,930.99,932.95,0,0,930.99,932.95,0,1,1,1,1,-2,0,0,1,1,0,"",0.33,"",1,2,85320024,1,0,15,1,0,0,0,0,0,0,0,0,307.22669999999999,307.87350000000004,0,0,0.33,1,0,307.22669999999999,307.87350000000004,0,0,0.33,1,null,null,null,null,null,null,null,null,null,null,null,null,null,null,null,null,null,null,null,null,null,null,null,null,0,{"$f":"ROUND(Y15*Source!I34*DO15,7)","v":0},{"$f":"ROUND(Y15*Source!I34,7)","v":0},{"$f":"AB15","v":930.99},{"$f":"AF15","v":930.99},{"$f":"AJ15","v":1},307.23,307.87,"","",0,0,0,0,{"$f":"DG15+DH15","v":0},1,"4-100-050",5,"чел.-ч.",1]
[{"$f":"ROW(Source!A35)","v":35},85316656,85320018,77306386,114,1,1,1,"1-100-45","","Средний разряд работы 4,5",1191,null,1013,"чел.-ч.","чел.-ч.",1,null,null,null,null,null,0,1903532093,0.68,null,0,0,0,872.37,0,0,0,872.37,1,1,1,1,-2,0,0,1,1,0,"",0.68,"",1,2,85320022,2,131072,16,1,0,0,0,0,0,0,0,0,0,0,593.21160000000009,0.68,0,1,0,0,0,593.21160000000009,0.68,0,1,null,null,null,null,null,null,null,null,null,null,null,null,null,null,null,null,null,null,null,null,null,null,null,{"$f":"ROUND(AT16*Source!I35*AH16*AL16,2)","v":0},{"$f":"ROUND(Y16*Source!I35,7)","v":0},0,{"$f":"ROUND(Y16*Source!I35,7)","v":0},{"$f":"AD16","v":872.37},{"$f":"AH16","v":872.37},{"$f":"AL16","v":1},593.21,0,"","",0,0,0,0,{"$f":"DI16","v":0},1,"",0,"",0]
[{"$f":"ROW(Source!A35)","v":35},85316656,85320018,77306545,114,1,1,1,"4-100-00","","Затраты труда машинистов",1191,null,1013,"чел.-ч.","чел.-ч.",1,null,null,null,null,null,0,-1417349443,0.33,null,0,0,0,0,0,0,0,0,1,1,1,1,-2,0,0,1,1,0,"",0.33,"",2,2,85320023,1,0,17,1,0,0,0,0,0,0,0,0,0,0,0,0,0,0,0,0,0,0,0,0,0,null,null,null,null,null,null,null,null,null,null,null,null,null,null,null,null,null,null,null,null,null,null,null,null,0,0,{"$f":"ROUND(Y17*Source!I35,7)","v":0},{"$f":"AD17","v":0},{"$f":"AH17","v":0},{"$f":"AL17","v":1},0,0,"","",0,0,0,0,{"$f":"DI17","v":0},0,"",0,"",0]
[{"$f":"ROW(Source!A35)","v":35},85316656,85320018,77431162,1,1,1,2,"91.06.06-012","ФСЭМ-2022, 91.06.06-012, приказ Минстроя России от 18.05.2022 г. № 378/пр","Автогидроподъемники, высота подъема 18 м",1368,null,1011,"маш.-ч","маш.-ч",1,null,null,null,null,null,0,-1681054019,0.33,null,0,930.99,932.95,0,0,930.99,932.95,0,1,1,1,1,-2,0,0,1,1,0,"",0.33,"",1,2,85320024,1,0,18,1,0,0,0,0,0,0,0,0,307.22669999999999,307.87350000000004,0,0,0.33,1,0,307.22669999999999,307.87350000000004,0,0,0.33,1,null,null,null,null,null,null,null,null,null,null,null,null,null,null,null,null,null,null,null,null,null,null,null,null,0,{"$f":"ROUND(Y18*Source!I35*DO18,7)","v":0},{"$f":"ROUND(Y18*Source!I35,7)","v":0},{"$f":"AB18","v":930.99},{"$f":"AF18","v":930.99},{"$f":"AJ18","v":1},307.23,307.87,"","",0,0,0,0,{"$f":"DG18+DH18","v":0},1,"4-100-050",5,"чел.-ч.",1]
[{"$f":"ROW(Source!A37)","v":37},85316715,85320026,77306346,114,1,1,1,"1-100-29","","Средний разряд работы 2,9",1191,null,1013,"чел.-ч.","чел.-ч.",1,null,null,null,null,null,0,1014935341,0.98,null,0,0,0,714.86,0,0,0,714.86,1,1,1,1,-2,0,0,1,1,0,"",0.98,"",1,2,85320028,2,131072,19,1,0,0,0,0,0,0,0,0,0,0,700.56280000000004,0.98,0,1,0,0,0,700.56280000000004,0.98,0,1,null,null,null,null,null,null,null,null,null,null,null,null,null,null,null,null,null,null,null,null,null,null,null,{"$f":"ROUND(AT19*Source!I37*AH19*AL19,2)","v":0},{"$f":"ROUND(Y19*Source!I37,7)","v":0},0,{"$f":"ROUND(Y19*Source!I37,7)","v":0},{"$f":"AD19","v":714.86},{"$f":"AH19","v":714.86},{"$f":"AL19","v":1},700.56,0,"","",0,0,0,0,{"$f":"DI19","v":0},1,"",0,"",0]
[{"$f":"ROW(Source!A38)","v":38},85316656,85320026,77306346,114,1,1,1,"1-100-29","","Средний разряд работы 2,9",1191,null,1013,"чел.-ч.","чел.-ч.",1,null,null,null,null,null,0,1014935341,0.98,null,0,0,0,714.86,0,0,0,714.86,1,1,1,1,-2,0,0,1,1,0,"",0.98,"",1,2,85320028,2,131072,20,1,0,0,0,0,0,0,0,0,0,0,700.56280000000004,0.98,0,1,0,0,0,700.56280000000004,0.98,0,1,null,null,null,null,null,null,null,null,null,null,null,null,null,null,null,null,null,null,null,null,null,null,null,{"$f":"ROUND(AT20*Source!I38*AH20*AL20,2)","v":0},{"$f":"ROUND(Y20*Source!I38,7)","v":0},0,{"$f":"ROUND(Y20*Source!I38,7)","v":0},{"$f":"AD20","v":714.86},{"$f":"AH20","v":714.86},{"$f":"AL20","v":1},700.56,0,"","",0,0,0,0,{"$f":"DI20","v":0},1,"",0,"",0]
[{"$f":"ROW(Source!A40)","v":40},85316715,85320030,83777477,117,1,1,1,"1-100-25","","Средний разряд работы 2,5",1191,null,1013,"чел.-ч.","чел.-ч.",1,null,null,null,null,null,0,-1991603921,0.44,null,0,0,0,690.62,0,0,0,690.62,1,1,1,1,-2,0,0,1,1,0,"",0.44,"",1,2,85320036,1,0,21,1,0,0,0,0,0,0,0,0,0,0,303.87279999999998,0.44,0,1,0,0,0,303.87279999999998,0.44,0,1,null,null,null,null,null,null,null,null,null,null,null,null,null,null,null,null,null,null,null,null,null,null,null,{"$f":"ROUND(AT21*Source!I40*AH21*AL21,2)","v":0},{"$f":"ROUND(Y21*Source!I40,7)","v":0},0,{"$f":"ROUND(Y21*Source!I40,7)","v":0},{"$f":"AD21","v":690.62},{"$f":"AH21","v":690.62},{"$f":"AL21","v":1},303.87,0,"","",0,0,0,0,{"$f":"DI21","v":0},1,"",0,"",0]
[{"$f":"ROW(Source!A40)","v":40},85316715,85320030,83777689,117,1,1,1,"4-100-00","","Затраты труда машинистов",1191,null,1013,"чел.-ч.","чел.-ч.",1,null,null,null,null,null,0,-1417349443,0.48,null,0,0,0,0,0,0,0,0,1,1,1,1,-2,0,0,1,1,0,"",0.48,"",2,2,85320037,1,0,22,1,0,0,0,0,0,0,0,0,0,0,0,0,0,0,0,0,0,0,0,0,0,null,null,null,null,null,null,null,null,null,null,null,null,null,null,null,null,null,null,null,null,null,null,null,null,0,0,{"$f":"ROUND(Y22*Source!I40,7)","v":0},{"$f":"AD22","v":0},{"$f":"AH22","v":0},{"$f":"AL22","v":1},0,0,"","",0,0,0,0,{"$f":"DI22","v":0},0,"",0,"",0]
[{"$f":"ROW(Source!A40)","v":40},85316715,85320030,83784178,1,1,1,2,"91.05.05-015","ФСЭМ-2022, 91.05.05-015, приказ Минстроя России от 18.05.2022 г. № 378/пр","Краны на автомобильном ходу, грузоподъемность 16 т",1368,null,1011,"маш.-ч","маш.-ч",1,null,null,null,null,null,0,639918019,0.24,null,0,1626.29,1090.46,0,0,1626.29,1090.46,0,1,1,1,1,-2,0,0,1,1,0,"",0.24,"",1,2,85320038,1,0,23,1,0,0,0,0,0,0,0,0,390.30959999999999,261.71039999999999,0,0,0.24,1,0,390.30959999999999,261.71039999999999,0,0,0.24,1,null,null,null,null,null,null,null,null,null,null,null,null,null,null,null,null,null,null,null,null,null,null,null,null,0,{"$f":"ROUND(Y23*Source!I40*DO23,7)","v":0},{"$f":"ROUND(Y23*Source!I40,7)","v":0},{"$f":"AB23","v":1626.29},{"$f":"AF23","v":1626.29},{"$f":"AJ23","v":1},390.31,261.70999999999998,"","",0,0,0,0,{"$f":"DG23+DH23","v":0},1,"4-100-060",6,"чел.-ч.",1]
[{"$f":"ROW(Source!A40)","v":40},85316715,85320030,83785137,1,1,1,2,"91.15.01-001","ФСЭМ-2022, 91.15.01-001, приказ Минстроя России от 18.05.2022 г. № 378/пр","Прицепы тракторные, грузоподъемность до 2 т",1368,null,1011,"маш.-ч","маш.-ч",1,null,null,null,null,null,0,1256142057,0.24,null,0,13.86,0,0,0,13.86,0,0,1,1,1,1,-2,0,0,1,1,0,"",0.24,"",1,2,85320039,1,0,24,1,0,0,0,0,0,0,0,0,3.3263999999999996,0,0,0,0,1,0,3.3263999999999996,0,0,0,0,1,null,null,null,null,null,null,null,null,null,null,null,null,null,null,null,null,null,null,null,null,null,null,null,null,0,{"$f":"ROUND(Y24*Source!I40*DO24,7)","v":0},{"$f":"ROUND(Y24*Source!I40,7)","v":0},{"$f":"AB24","v":13.86},{"$f":"AF24","v":13.86},{"$f":"AJ24","v":1},3.33,0,"","",0,0,0,0,{"$f":"DG24+DH24","v":0},1,"",0,"",0]
[{"$f":"ROW(Source!A40)","v":40},85316715,85320030,83785155,1,1,1,2,"91.15.03-014","ФСЭМ-2022 доп.11, 91.15.03-014, приказ Минстроя России от 09.08.2024 г. № 524/пр","Тракторы на пневмоколесном ходу, мощность 59 кВт (80 л.с.)",1368,null,1011,"маш.-ч","маш.-ч",1,null,null,null,null,null,0,1638899965,0.24,null,0,634.32000000000005,811.79,0,0,487.94,811.79,0,1,1.3,1,1,2,0,0,1,1,0,"",0.24,"",1,2,85320040,1,0,25,1,0,0,0,0,0,0,0,0,117.1056,194.82959999999997,0,0,0.24,1,0,117.1056,194.82959999999997,0,0,0.24,1,null,null,null,null,null,null,null,null,null,null,null,null,null,null,null,null,null,null,null,null,null,null,null,null,0,{"$f":"ROUND(Y25*Source!I40*DO25,7)","v":0},{"$f":"ROUND(Y25*Source!I40,7)","v":0},{"$f":"AB25","v":634.32000000000005},{"$f":"AF25","v":487.94},{"$f":"AJ25","v":1.3},117.11,194.83,"","",0,{"$f":"ROUND(ROUND(AF25*AJ25,2)*CX25,2)","v":0},0,0,{"$f":"DG25+DH25","v":0},0,"4-100-040",4,"чел.-ч.",1]
[{"$f":"ROW(Source!A41)","v":41},85316656,85320030,83777477,117,1,1,1,"1-100-25","","Средний разряд работы 2,5",1191,null,1013,"чел.-ч.","чел.-ч.",1,null,null,null,null,null,0,-1991603921,0.44,null,0,0,0,690.62,0,0,0,690.62,1,1,1,1,-2,0,0,1,1,0,"",0.44,"",1,2,85320036,1,0,26,1,0,0,0,0,0,0,0,0,0,0,303.87279999999998,0.44,0,1,0,0,0,303.87279999999998,0.44,0,1,null,null,null,null,null,null,null,null,null,null,null,null,null,null,null,null,null,null,null,null,null,null,null,{"$f":"ROUND(AT26*Source!I41*AH26*AL26,2)","v":0},{"$f":"ROUND(Y26*Source!I41,7)","v":0},0,{"$f":"ROUND(Y26*Source!I41,7)","v":0},{"$f":"AD26","v":690.62},{"$f":"AH26","v":690.62},{"$f":"AL26","v":1},303.87,0,"","",0,{"$f":"ROUND(ROUND(AF26,2)*CX26,2)","v":0},0,0,{"$f":"DI26","v":0},1,"",0,"",0]
[{"$f":"ROW(Source!A41)","v":41},85316656,85320030,83777689,117,1,1,1,"4-100-00","","Затраты труда машинистов",1191,null,1013,"чел.-ч.","чел.-ч.",1,null,null,null,null,null,0,-1417349443,0.48,null,0,0,0,0,0,0,0,0,1,1,1,1,-2,0,0,1,1,0,"",0.48,"",2,2,85320037,1,0,27,1,0,0,0,0,0,0,0,0,0,0,0,0,0,0,0,0,0,0,0,0,0,null,null,null,null,null,null,null,null,null,null,null,null,null,null,null,null,null,null,null,null,null,null,null,null,0,0,{"$f":"ROUND(Y27*Source!I41,7)","v":0},{"$f":"AD27","v":0},{"$f":"AH27","v":0},{"$f":"AL27","v":1},0,0,"","",0,{"$f":"ROUND(ROUND(AF27,2)*CX27,2)","v":0},0,0,{"$f":"DI27","v":0},0,"",0,"",0]
[{"$f":"ROW(Source!A41)","v":41},85316656,85320030,83784178,1,1,1,2,"91.05.05-015","ФСЭМ-2022, 91.05.05-015, приказ Минстроя России от 18.05.2022 г. № 378/пр","Краны на автомобильном ходу, грузоподъемность 16 т",1368,null,1011,"маш.-ч","маш.-ч",1,null,null,null,null,null,0,639918019,0.24,null,0,1626.29,1090.46,0,0,1626.29,1090.46,0,1,1,1,1,-2,0,0,1,1,0,"",0.24,"",1,2,85320038,1,0,28,1,0,0,0,0,0,0,0,0,390.30959999999999,261.71039999999999,0,0,0.24,1,0,390.30959999999999,261.71039999999999,0,0,0.24,1,null,null,null,null,null,null,null,null,null,null,null,null,null,null,null,null,null,null,null,null,null,null,null,null,0,{"$f":"ROUND(Y28*Source!I41*DO28,7)","v":0},{"$f":"ROUND(Y28*Source!I41,7)","v":0},{"$f":"AB28","v":1626.29},{"$f":"AF28","v":1626.29},{"$f":"AJ28","v":1},390.31,261.70999999999998,"","",0,{"$f":"ROUND(ROUND(AF28,2)*CX28,2)","v":0},0,0,{"$f":"DG28+DH28","v":0},1,"4-100-060",6,"чел.-ч.",1]
[{"$f":"ROW(Source!A41)","v":41},85316656,85320030,83785137,1,1,1,2,"91.15.01-001","ФСЭМ-2022, 91.15.01-001, приказ Минстроя России от 18.05.2022 г. № 378/пр","Прицепы тракторные, грузоподъемность до 2 т",1368,null,1011,"маш.-ч","маш.-ч",1,null,null,null,null,null,0,1256142057,0.24,null,0,13.86,0,0,0,13.86,0,0,1,1,1,1,-2,0,0,1,1,0,"",0.24,"",1,2,85320039,1,0,29,1,0,0,0,0,0,0,0,0,3.3263999999999996,0,0,0,0,1,0,3.3263999999999996,0,0,0,0,1,null,null,null,null,null,null,null,null,null,null,null,null,null,null,null,null,null,null,null,null,null,null,null,null,0,{"$f":"ROUND(Y29*Source!I41*DO29,7)","v":0},{"$f":"ROUND(Y29*Source!I41,7)","v":0},{"$f":"AB29","v":13.86},{"$f":"AF29","v":13.86},{"$f":"AJ29","v":1},3.33,0,"","",0,{"$f":"ROUND(ROUND(AF29,2)*CX29,2)","v":0},0,0,{"$f":"DG29+DH29","v":0},1,"",0,"",0]
[{"$f":"ROW(Source!A41)","v":41},85316656,85320030,83785155,1,1,1,2,"91.15.03-014","ФСЭМ-2022 доп.11, 91.15.03-014, приказ Минстроя России от 09.08.2024 г. № 524/пр","Тракторы на пневмоколесном ходу, мощность 59 кВт (80 л.с.)",1368,null,1011,"маш.-ч","маш.-ч",1,null,null,null,null,null,0,1638899965,0.24,null,0,634.32000000000005,811.79,0,0,487.94,811.79,0,1,1.3,1,1,2,0,0,1,1,0,"",0.24,"",1,2,85320040,1,0,30,1,0,0,0,0,0,0,0,0,117.1056,194.82959999999997,0,0,0.24,1,0,117.1056,194.82959999999997,0,0,0.24,1,null,null,null,null,null,null,null,null,null,null,null,null,null,null,null,null,null,null,null,null,null,null,null,null,0,{"$f":"ROUND(Y30*Source!I41*DO30,7)","v":0},{"$f":"ROUND(Y30*Source!I41,7)","v":0},{"$f":"AB30","v":634.32000000000005},{"$f":"AF30","v":487.94},{"$f":"AJ30","v":1.3},117.11,194.83,"","",0,{"$f":"ROUND(ROUND(AF30*AJ30,2)*CX30,2)","v":0},0,0,{"$f":"DG30+DH30","v":0},0,"4-100-040",4,"чел.-ч.",1]
[{"$f":"ROW(Source!A43)","v":43},85316715,85320042,77306332,114,1,1,1,"1-100-25","","Средний разряд работы 2,5",1191,null,1013,"чел.-ч.","чел.-ч.",1,null,null,null,null,null,0,-1991603921,0.41,null,0,0,0,690.62,0,0,0,690.62,1,1,1,1,-2,0,0,1,1,0,"",0.41,"",1,2,85320048,2,131072,31,1,0,0,0,0,0,0,0,0,0,0,283.1542,0.41,0,1,0,0,0,283.1542,0.41,0,1,null,null,null,null,null,null,null,null,null,null,null,null,null,null,null,null,null,null,null,null,null,null,null,{"$f":"ROUND(AT31*Source!I43*AH31*AL31,2)","v":0},{"$f":"ROUND(Y31*Source!I43,7)","v":0},0,{"$f":"ROUND(Y31*Source!I43,7)","v":0},{"$f":"AD31","v":690.62},{"$f":"AH31","v":690.62},{"$f":"AL31","v":1},283.14999999999998,0,"","",0,{"$f":"ROUND(ROUND(AF31,2)*CX31,2)","v":0},0,0,{"$f":"DI31","v":0},1,"",0,"",0]
[{"$f":"ROW(Source!A43)","v":43},85316715,85320042,77306545,114,1,1,1,"4-100-00","","Затраты труда машинистов",1191,null,1013,"чел.-ч.","чел.-ч.",1,null,null,null,null,null,0,-1417349443,0.44,null,0,0,0,0,0,0,0,0,1,1,1,1,-2,0,0,1,1,0,"",0.44,"",2,2,85320049,1,0,32,1,0,0,0,0,0,0,0,0,0,0,0,0,0,0,0,0,0,0,0,0,0,null,null,null,null,null,null,null,null,null,null,null,null,null,null,null,null,null,null,null,null,null,null,null,null,0,0,{"$f":"ROUND(Y32*Source!I43,7)","v":0},{"$f":"AD32","v":0},{"$f":"AH32","v":0},{"$f":"AL32","v":1},0,0,"","",0,{"$f":"ROUND(ROUND(AF32,2)*CX32,2)","v":0},0,0,{"$f":"DI32","v":0},0,"",0,"",0]
[{"$f":"ROW(Source!A43)","v":43},85316715,85320042,77430988,1,1,1,2,"91.05.05-015","ФСЭМ-2022, 91.05.05-015, приказ Минстроя России от 18.05.2022 г. № 378/пр","Краны на автомобильном ходу, грузоподъемность 16 т",1368,null,1011,"маш.-ч","маш.-ч",1,null,null,null,null,null,0,-468861091,0.22,null,0,1626.29,1090.46,0,0,1626.29,1090.46,0,1,1,1,1,-2,0,0,1,1,0,"",0.22,"",1,2,85320050,1,0,33,1,0,0,0,0,0,0,0,0,357.78379999999999,239.90120000000002,0,0,0.22,1,0,357.78379999999999,239.90120000000002,0,0,0.22,1,null,null,null,null,null,null,null,null,null,null,null,null,null,null,null,null,null,null,null,null,null,null,null,null,0,{"$f":"ROUND(Y33*Source!I43*DO33,7)","v":0},{"$f":"ROUND(Y33*Source!I43,7)","v":0},{"$f":"AB33","v":1626.29},{"$f":"AF33","v":1626.29},{"$f":"AJ33","v":1},357.78,239.9,"","",0,{"$f":"ROUND(ROUND(AF33,2)*CX33,2)","v":0},0,0,{"$f":"DG33+DH33","v":0},1,"4-100-060",6,"чел.-ч.",1]
[{"$f":"ROW(Source!A43)","v":43},85316715,85320042,77431943,1,1,1,2,"91.15.01-001","ФСЭМ-2022, 91.15.01-001, приказ Минстроя России от 18.05.2022 г. № 378/пр","Прицепы тракторные, грузоподъемность до 2 т",1368,null,1011,"маш.-ч","маш.-ч",1,null,null,null,null,null,0,1571464010,0.22,null,0,13.86,0,0,0,13.86,0,0,1,1,1,1,-2,0,0,1,1,0,"",0.22,"",1,2,85320051,1,0,34,1,0,0,0,0,0,0,0,0,3.0491999999999999,0,0,0,0,1,0,3.0491999999999999,0,0,0,0,1,null,null,null,null,null,null,null,null,null,null,null,null,null,null,null,null,null,null,null,null,null,null,null,null,0,{"$f":"ROUND(Y34*Source!I43*DO34,7)","v":0},{"$f":"ROUND(Y34*Source!I43,7)","v":0},{"$f":"AB34","v":13.86},{"$f":"AF34","v":13.86},{"$f":"AJ34","v":1},3.05,0,"","",0,{"$f":"ROUND(ROUND(AF34,2)*CX34,2)","v":0},0,0,{"$f":"DG34+DH34","v":0},1,"",0,"",0]
[{"$f":"ROW(Source!A43)","v":43},85316715,85320042,77431961,1,1,1,2,"91.15.03-014","ФСЭМ-2022 доп.11, 91.15.03-014, приказ Минстроя России от 09.08.2024 г. № 524/пр","Тракторы на пневмоколесном ходу, мощность 59 кВт (80 л.с.)",1368,null,1011,"маш.-ч","маш.-ч",1,null,null,null,null,null,0,-662053402,0.22,null,0,634.32000000000005,811.79,0,0,487.94,811.79,0,1,1.3,1,1,2,0,0,1,1,0,"",0.22,"",1,2,85320052,2,65536,35,1,0,0,0,0,0,0,0,0,107.3468,178.59379999999999,0,0,0.22,1,0,107.3468,178.59379999999999,0,0,0.22,1,null,null,null,null,null,null,null,null,null,null,null,null,null,null,null,null,null,null,null,null,null,null,null,null,0,{"$f":"ROUND(Y35*Source!I43*DO35,7)","v":0},{"$f":"ROUND(Y35*Source!I43,7)","v":0},{"$f":"AB35","v":634.32000000000005},{"$f":"AF35","v":487.94},{"$f":"AJ35","v":1.3},107.35,178.59,"","",0,{"$f":"ROUND(ROUND(AF35*AJ35,2)*CX35,2)","v":0},0,0,{"$f":"DG35+DH35","v":0},0,"4-100-040",4,"чел.-ч.",1]
[{"$f":"ROW(Source!A44)","v":44},85316656,85320042,77306332,114,1,1,1,"1-100-25","","Средний разряд работы 2,5",1191,null,1013,"чел.-ч.","чел.-ч.",1,null,null,null,null,null,0,-1991603921,0.41,null,0,0,0,690.62,0,0,0,690.62,1,1,1,1,-2,0,0,1,1,0,"",0.41,"",1,2,85320048,2,131072,36,1,0,0,0,0,0,0,0,0,0,0,283.1542,0.41,0,1,0,0,0,283.1542,0.41,0,1,null,null,null,null,null,null,null,null,null,null,null,null,null,null,null,null,null,null,null,null,null,null,null,{"$f":"ROUND(AT36*Source!I44*AH36*AL36,2)","v":0},{"$f":"ROUND(Y36*Source!I44,7)","v":0},0,{"$f":"ROUND(Y36*Source!I44,7)","v":0},{"$f":"AD36","v":690.62},{"$f":"AH36","v":690.62},{"$f":"AL36","v":1},283.14999999999998,0,"","",0,{"$f":"ROUND(ROUND(AF36,2)*CX36,2)","v":0},0,0,{"$f":"DI36","v":0},1,"",0,"",0]
[{"$f":"ROW(Source!A44)","v":44},85316656,85320042,77306545,114,1,1,1,"4-100-00","","Затраты труда машинистов",1191,null,1013,"чел.-ч.","чел.-ч.",1,null,null,null,null,null,0,-1417349443,0.44,null,0,0,0,0,0,0,0,0,1,1,1,1,-2,0,0,1,1,0,"",0.44,"",2,2,85320049,1,0,37,1,0,0,0,0,0,0,0,0,0,0,0,0,0,0,0,0,0,0,0,0,0,null,null,null,null,null,null,null,null,null,null,null,null,null,null,null,null,null,null,null,null,null,null,null,null,0,0,{"$f":"ROUND(Y37*Source!I44,7)","v":0},{"$f":"AD37","v":0},{"$f":"AH37","v":0},{"$f":"AL37","v":1},0,0,"","",0,{"$f":"ROUND(ROUND(AF37,2)*CX37,2)","v":0},0,0,{"$f":"DI37","v":0},0,"",0,"",0]
[{"$f":"ROW(Source!A44)","v":44},85316656,85320042,77430988,1,1,1,2,"91.05.05-015","ФСЭМ-2022, 91.05.05-015, приказ Минстроя России от 18.05.2022 г. № 378/пр","Краны на автомобильном ходу, грузоподъемность 16 т",1368,null,1011,"маш.-ч","маш.-ч",1,null,null,null,null,null,0,-468861091,0.22,null,0,1626.29,1090.46,0,0,1626.29,1090.46,0,1,1,1,1,-2,0,0,1,1,0,"",0.22,"",1,2,85320050,1,0,38,1,0,0,0,0,0,0,0,0,357.78379999999999,239.90120000000002,0,0,0.22,1,0,357.78379999999999,239.90120000000002,0,0,0.22,1,null,null,null,null,null,null,null,null,null,null,null,null,null,null,null,null,null,null,null,null,null,null,null,null,0,{"$f":"ROUND(Y38*Source!I44*DO38,7)","v":0},{"$f":"ROUND(Y38*Source!I44,7)","v":0},{"$f":"AB38","v":1626.29},{"$f":"AF38","v":1626.29},{"$f":"AJ38","v":1},357.78,239.9,"","",0,{"$f":"ROUND(ROUND(AF38,2)*CX38,2)","v":0},0,0,{"$f":"DG38+DH38","v":0},1,"4-100-060",6,"чел.-ч.",1]
[{"$f":"ROW(Source!A44)","v":44},85316656,85320042,77431943,1,1,1,2,"91.15.01-001","ФСЭМ-2022, 91.15.01-001, приказ Минстроя России от 18.05.2022 г. № 378/пр","Прицепы тракторные, грузоподъемность до 2 т",1368,null,1011,"маш.-ч","маш.-ч",1,null,null,null,null,null,0,1571464010,0.22,null,0,13.86,0,0,0,13.86,0,0,1,1,1,1,-2,0,0,1,1,0,"",0.22,"",1,2,85320051,1,0,39,1,0,0,0,0,0,0,0,0,3.0491999999999999,0,0,0,0,1,0,3.0491999999999999,0,0,0,0,1,null,null,null,null,null,null,null,null,null,null,null,null,null,null,null,null,null,null,null,null,null,null,null,null,0,{"$f":"ROUND(Y39*Source!I44*DO39,7)","v":0},{"$f":"ROUND(Y39*Source!I44,7)","v":0},{"$f":"AB39","v":13.86},{"$f":"AF39","v":13.86},{"$f":"AJ39","v":1},3.05,0,"","",{"$f":"ROUND(ROUND(AE39,2)*CX39,2)","v":0},{"$f":"ROUND(ROUND(AF39,2)*CX39,2)","v":0},0,0,{"$f":"DG39+DH39","v":0},1,"",0,"",0]
[{"$f":"ROW(Source!A44)","v":44},85316656,85320042,77431961,1,1,1,2,"91.15.03-014","ФСЭМ-2022 доп.11, 91.15.03-014, приказ Минстроя России от 09.08.2024 г. № 524/пр","Тракторы на пневмоколесном ходу, мощность 59 кВт (80 л.с.)",1368,null,1011,"маш.-ч","маш.-ч",1,null,null,null,null,null,0,-662053402,0.22,null,0,634.32000000000005,811.79,0,0,487.94,811.79,0,1,1.3,1,1,2,0,0,1,1,0,"",0.22,"",1,2,85320052,2,65536,40,1,0,0,0,0,0,0,0,0,107.3468,178.59379999999999,0,0,0.22,1,0,107.3468,178.59379999999999,0,0,0.22,1,null,null,null,null,null,null,null,null,null,null,null,null,null,null,null,null,null,null,null,null,null,null,null,null,0,{"$f":"ROUND(Y40*Source!I44*DO40,7)","v":0},{"$f":"ROUND(Y40*Source!I44,7)","v":0},{"$f":"AB40","v":634.32000000000005},{"$f":"AF40","v":487.94},{"$f":"AJ40","v":1.3},107.35,178.59,"","",0,{"$f":"ROUND(ROUND(AF40*AJ40,2)*CX40,2)","v":0},0,0,{"$f":"DG40+DH40","v":0},0,"4-100-040",4,"чел.-ч.",1]
[{"$f":"ROW(Source!A46)","v":46},85316715,85320054,83777477,117,1,1,1,"1-100-25","","Средний разряд работы 2,5",1191,null,1013,"чел.-ч.","чел.-ч.",1,null,null,null,null,null,0,-1991603921,0.25,null,0,0,0,690.62,0,0,0,690.62,1,1,1,1,-2,0,0,1,1,0,"",0.25,"",1,2,85320059,1,0,41,1,0,0,0,0,0,0,0,0,0,0,172.655,0.25,0,1,0,0,0,172.655,0.25,0,1,null,null,null,null,null,null,null,null,null,null,null,null,null,null,null,null,null,null,null,null,null,null,null,{"$f":"ROUND(AT41*Source!I46*AH41*AL41,2)","v":0},{"$f":"ROUND(Y41*Source!I46,7)","v":0},0,{"$f":"ROUND(Y41*Source!I46,7)","v":0},{"$f":"AD41","v":690.62},{"$f":"AH41","v":690.62},{"$f":"AL41","v":1},172.66,0,"","",0,{"$f":"ROUND(ROUND(AF41,2)*CX41,2)","v":0},0,0,{"$f":"DI41","v":0},1,"",0,"",0]
[{"$f":"ROW(Source!A46)","v":46},85316715,85320054,83777689,117,1,1,1,"4-100-00","","Затраты труда машинистов",1191,null,1013,"чел.-ч.","чел.-ч.",1,null,null,null,null,null,0,-1417349443,0.14000000000000001,null,0,0,0,0,0,0,0,0,1,1,1,1,-2,0,0,1,1,0,"",0.14000000000000001,"",2,2,85320060,1,0,42,1,0,0,0,0,0,0,0,0,0,0,0,0,0,0,0,0,0,0,0,0,0,null,null,null,null,null,null,null,null,null,null,null,null,null,null,null,null,null,null,null,null,null,null,null,null,0,0,{"$f":"ROUND(Y42*Source!I46,7)","v":0},{"$f":"AD42","v":0},{"$f":"AH42","v":0},{"$f":"AL42","v":1},0,0,"","",0,{"$f":"ROUND(ROUND(AF42,2)*CX42,2)","v":0},0,0,{"$f":"DI42","v":0},0,"",0,"",0]
[{"$f":"ROW(Source!A46)","v":46},85316715,85320054,83785137,1,1,1,2,"91.15.01-001","ФСЭМ-2022, 91.15.01-001, приказ Минстроя России от 18.05.2022 г. № 378/пр","Прицепы тракторные, грузоподъемность до 2 т",1368,null,1011,"маш.-ч","маш.-ч",1,null,null,null,null,null,0,1256142057,0.14000000000000001,null,0,13.86,0,0,0,13.86,0,0,1,1,1,1,-2,0,0,1,1,0,"",0.14000000000000001,"",1,2,85320061,1,0,43,1,0,0,0,0,0,0,0,0,1.9404000000000001,0,0,0,0,1,0,1.9404000000000001,0,0,0,0,1,null,null,null,null,null,null,null,null,null,null,null,null,null,null,null,null,null,null,null,null,null,null,null,null,0,{"$f":"ROUND(Y43*Source!I46*DO43,7)","v":0},{"$f":"ROUND(Y43*Source!I46,7)","v":0},{"$f":"AB43","v":13.86},{"$f":"AF43","v":13.86},{"$f":"AJ43","v":1},1.94,0,"","",0,{"$f":"ROUND(ROUND(AF43,2)*CX43,2)","v":0},0,0,{"$f":"DG43+DH43","v":0},1,"",0,"",0]
[{"$f":"ROW(Source!A46)","v":46},85316715,85320054,83785155,1,1,1,2,"91.15.03-014","ФСЭМ-2022 доп.11, 91.15.03-014, приказ Минстроя России от 09.08.2024 г. № 524/пр","Тракторы на пневмоколесном ходу, мощность 59 кВт (80 л.с.)",1368,null,1011,"маш.-ч","маш.-ч",1,null,null,null,null,null,0,1638899965,0.14000000000000001,null,0,634.32000000000005,811.79,0,0,487.94,811.79,0,1,1.3,1,1,2,0,0,1,1,0,"",0.14000000000000001,"",1,2,85320062,1,0,44,1,0,0,0,0,0,0,0,0,68.311600000000013,113.65060000000001,0,0,0.14000000000000001,1,0,68.311600000000013,113.65060000000001,0,0,0.14000000000000001,1,null,null,null,null,null,null,null,null,null,null,null,null,null,null,null,null,null,null,null,null,null,null,null,null,0,{"$f":"ROUND(Y44*Source!I46*DO44,7)","v":0},{"$f":"ROUND(Y44*Source!I46,7)","v":0},{"$f":"AB44","v":634.32000000000005},{"$f":"AF44","v":487.94},{"$f":"AJ44","v":1.3},68.31,113.65,"","",0,{"$f":"ROUND(ROUND(AF44*AJ44,2)*CX44,2)","v":0},0,0,{"$f":"DG44+DH44","v":0},0,"4-100-040",4,"чел.-ч.",1]
[{"$f":"ROW(Source!A47)","v":47},85316656,85320054,83777477,117,1,1,1,"1-100-25","","Средний разряд работы 2,5",1191,null,1013,"чел.-ч.","чел.-ч.",1,null,null,null,null,null,0,-1991603921,0.25,null,0,0,0,690.62,0,0,0,690.62,1,1,1,1,-2,0,0,1,1,0,"",0.25,"",1,2,85320059,1,0,45,1,0,0,0,0,0,0,0,0,0,0,172.655,0.25,0,1,0,0,0,172.655,0.25,0,1,null,null,null,null,null,null,null,null,null,null,null,null,null,null,null,null,null,null,null,null,null,null,null,{"$f":"ROUND(AT45*Source!I47*AH45*AL45,2)","v":0},{"$f":"ROUND(Y45*Source!I47,7)","v":0},0,{"$f":"ROUND(Y45*Source!I47,7)","v":0},{"$f":"AD45","v":690.62},{"$f":"AH45","v":690.62},{"$f":"AL45","v":1},172.66,0,"","",0,{"$f":"ROUND(ROUND(AF45,2)*CX45,2)","v":0},0,0,{"$f":"DI45","v":0},1,"",0,"",0]
[{"$f":"ROW(Source!A47)","v":47},85316656,85320054,83777689,117,1,1,1,"4-100-00","","Затраты труда машинистов",1191,null,1013,"чел.-ч.","чел.-ч.",1,null,null,null,null,null,0,-1417349443,0.14000000000000001,null,0,0,0,0,0,0,0,0,1,1,1,1,-2,0,0,1,1,0,"",0.14000000000000001,"",2,2,85320060,1,0,46,1,0,0,0,0,0,0,0,0,0,0,0,0,0,0,0,0,0,0,0,0,0,null,null,null,null,null,null,null,null,null,null,null,null,null,null,null,null,null,null,null,null,null,null,null,null,0,0,{"$f":"ROUND(Y46*Source!I47,7)","v":0},{"$f":"AD46","v":0},{"$f":"AH46","v":0},{"$f":"AL46","v":1},0,0,"","",0,{"$f":"ROUND(ROUND(AF46,2)*CX46,2)","v":0},0,0,{"$f":"DI46","v":0},0,"",0,"",0]
[{"$f":"ROW(Source!A47)","v":47},85316656,85320054,83785137,1,1,1,2,"91.15.01-001","ФСЭМ-2022, 91.15.01-001, приказ Минстроя России от 18.05.2022 г. № 378/пр","Прицепы тракторные, грузоподъемность до 2 т",1368,null,1011,"маш.-ч","маш.-ч",1,null,null,null,null,null,0,1256142057,0.14000000000000001,null,0,13.86,0,0,0,13.86,0,0,1,1,1,1,-2,0,0,1,1,0,"",0.14000000000000001,"",1,2,85320061,1,0,47,1,0,0,0,0,0,0,0,0,1.9404000000000001,0,0,0,0,1,0,1.9404000000000001,0,0,0,0,1,null,null,null,null,null,null,null,null,null,null,null,null,null,null,null,null,null,null,null,null,null,null,null,null,0,{"$f":"ROUND(Y47*Source!I47*DO47,7)","v":0},{"$f":"ROUND(Y47*Source!I47,7)","v":0},{"$f":"AB47","v":13.86},{"$f":"AF47","v":13.86},{"$f":"AJ47","v":1},1.94,0,"","",0,{"$f":"ROUND(ROUND(AF47,2)*CX47,2)","v":0},0,0,{"$f":"DG47+DH47","v":0},1,"",0,"",0]
[{"$f":"ROW(Source!A47)","v":47},85316656,85320054,83785155,1,1,1,2,"91.15.03-014","ФСЭМ-2022 доп.11, 91.15.03-014, приказ Минстроя России от 09.08.2024 г. № 524/пр","Тракторы на пневмоколесном ходу, мощность 59 кВт (80 л.с.)",1368,null,1011,"маш.-ч","маш.-ч",1,null,null,null,null,null,0,1638899965,0.14000000000000001,null,0,634.32000000000005,811.79,0,0,487.94,811.79,0,1,1.3,1,1,2,0,0,1,1,0,"",0.14000000000000001,"",1,2,85320062,1,0,48,1,0,0,0,0,0,0,0,0,68.311600000000013,113.65060000000001,0,0,0.14000000000000001,1,0,68.311600000000013,113.65060000000001,0,0,0.14000000000000001,1,null,null,null,null,null,null,null,null,null,null,null,null,null,null,null,null,null,null,null,null,null,null,null,null,0,{"$f":"ROUND(Y48*Source!I47*DO48,7)","v":0},{"$f":"ROUND(Y48*Source!I47,7)","v":0},{"$f":"AB48","v":634.32000000000005},{"$f":"AF48","v":487.94},{"$f":"AJ48","v":1.3},68.31,113.65,"","",0,{"$f":"ROUND(ROUND(AF48*AJ48,2)*CX48,2)","v":0},0,0,{"$f":"DG48+DH48","v":0},0,"4-100-040",4,"чел.-ч.",1]
[{"$f":"ROW(Source!A49)","v":49},85316715,85320064,83777477,117,1,1,1,"1-100-25","","Средний разряд работы 2,5",1191,null,1013,"чел.-ч.","чел.-ч.",1,null,null,null,null,null,0,-1991603921,0.3,null,0,0,0,690.62,0,0,0,690.62,1,1,1,1,-2,0,0,1,1,0,"",0.3,"",1,2,85320069,1,0,49,1,0,0,0,0,0,0,0,0,0,0,207.18600000000001,0.3,0,1,0,0,0,207.18600000000001,0.3,0,1,null,null,null,null,null,null,null,null,null,null,null,null,null,null,null,null,null,null,null,null,null,null,null,{"$f":"ROUND(AT49*Source!I49*AH49*AL49,2)","v":0},{"$f":"ROUND(Y49*Source!I49,7)","v":0},0,{"$f":"ROUND(Y49*Source!I49,7)","v":0},{"$f":"AD49","v":690.62},{"$f":"AH49","v":690.62},{"$f":"AL49","v":1},207.19,0,"","",0,{"$f":"ROUND(ROUND(AF49,2)*CX49,2)","v":0},0,0,{"$f":"DI49","v":0},1,"",0,"",0]
[{"$f":"ROW(Source!A49)","v":49},85316715,85320064,83777689,117,1,1,1,"4-100-00","","Затраты труда машинистов",1191,null,1013,"чел.-ч.","чел.-ч.",1,null,null,null,null,null,0,-1417349443,0.16,null,0,0,0,0,0,0,0,0,1,1,1,1,-2,0,0,1,1,0,"",0.16,"",2,2,85320070,1,0,50,1,0,0,0,0,0,0,0,0,0,0,0,0,0,0,0,0,0,0,0,0,0,null,null,null,null,null,null,null,null,null,null,null,null,null,null,null,null,null,null,null,null,null,null,null,null,0,0,{"$f":"ROUND(Y50*Source!I49,7)","v":0},{"$f":"AD50","v":0},{"$f":"AH50","v":0},{"$f":"AL50","v":1},0,0,"","",0,{"$f":"ROUND(ROUND(AF50,2)*CX50,2)","v":0},0,0,{"$f":"DI50","v":0},0,"",0,"",0]
[{"$f":"ROW(Source!A49)","v":49},85316715,85320064,83785137,1,1,1,2,"91.15.01-001","ФСЭМ-2022, 91.15.01-001, приказ Минстроя России от 18.05.2022 г. № 378/пр","Прицепы тракторные, грузоподъемность до 2 т",1368,null,1011,"маш.-ч","маш.-ч",1,null,null,null,null,null,0,1256142057,0.16,null,0,13.86,0,0,0,13.86,0,0,1,1,1,1,-2,0,0,1,1,0,"",0.16,"",1,2,85320071,1,0,51,1,0,0,0,0,0,0,0,0,2.2176,0,0,0,0,1,0,2.2176,0,0,0,0,1,null,null,null,null,null,null,null,null,null,null,null,null,null,null,null,null,null,null,null,null,null,null,null,null,0,{"$f":"ROUND(Y51*Source!I49*DO51,7)","v":0},{"$f":"ROUND(Y51*Source!I49,7)","v":0},{"$f":"AB51","v":13.86},{"$f":"AF51","v":13.86},{"$f":"AJ51","v":1},2.2200000000000002,0,"","",0,{"$f":"ROUND(ROUND(AF51,2)*CX51,2)","v":0},0,0,{"$f":"DG51+DH51","v":0},1,"",0,"",0]
[{"$f":"ROW(Source!A49)","v":49},85316715,85320064,83785155,1,1,1,2,"91.15.03-014","ФСЭМ-2022 доп.11, 91.15.03-014, приказ Минстроя России от 09.08.2024 г. № 524/пр","Тракторы на пневмоколесном ходу, мощность 59 кВт (80 л.с.)",1368,null,1011,"маш.-ч","маш.-ч",1,null,null,null,null,null,0,1638899965,0.16,null,0,634.32000000000005,811.79,0,0,487.94,811.79,0,1,1.3,1,1,2,0,0,1,1,0,"",0.16,"",1,2,85320072,1,0,52,1,0,0,0,0,0,0,0,0,78.070400000000006,129.88640000000001,0,0,0.16,1,0,78.070400000000006,129.88640000000001,0,0,0.16,1,null,null,null,null,null,null,null,null,null,null,null,null,null,null,null,null,null,null,null,null,null,null,null,null,0,{"$f":"ROUND(Y52*Source!I49*DO52,7)","v":0},{"$f":"ROUND(Y52*Source!I49,7)","v":0},{"$f":"AB52","v":634.32000000000005},{"$f":"AF52","v":487.94},{"$f":"AJ52","v":1.3},78.069999999999993,129.88999999999999,"","",0,{"$f":"ROUND(ROUND(AF52*AJ52,2)*CX52,2)","v":0},0,0,{"$f":"DG52+DH52","v":0},0,"4-100-040",4,"чел.-ч.",1]
[{"$f":"ROW(Source!A50)","v":50},85316656,85320064,83777477,117,1,1,1,"1-100-25","","Средний разряд работы 2,5",1191,null,1013,"чел.-ч.","чел.-ч.",1,null,null,null,null,null,0,-1991603921,0.3,null,0,0,0,690.62,0,0,0,690.62,1,1,1,1,-2,0,0,1,1,0,"",0.3,"",1,2,85320069,1,0,53,1,0,0,0,0,0,0,0,0,0,0,207.18600000000001,0.3,0,1,0,0,0,207.18600000000001,0.3,0,1,null,null,null,null,null,null,null,null,null,null,null,null,null,null,null,null,null,null,null,null,null,null,null,{"$f":"ROUND(AT53*Source!I50*AH53*AL53,2)","v":0},{"$f":"ROUND(Y53*Source!I50,7)","v":0},0,{"$f":"ROUND(Y53*Source!I50,7)","v":0},{"$f":"AD53","v":690.62},{"$f":"AH53","v":690.62},{"$f":"AL53","v":1},207.19,0,"","",0,{"$f":"ROUND(ROUND(AF53,2)*CX53,2)","v":0},0,0,{"$f":"DI53","v":0},1,"",0,"",0]
[{"$f":"ROW(Source!A50)","v":50},85316656,85320064,83777689,117,1,1,1,"4-100-00","","Затраты труда машинистов",1191,null,1013,"чел.-ч.","чел.-ч.",1,null,null,null,null,null,0,-1417349443,0.16,null,0,0,0,0,0,0,0,0,1,1,1,1,-2,0,0,1,1,0,"",0.16,"",2,2,85320070,1,0,54,1,0,0,0,0,0,0,0,0,0,0,0,0,0,0,0,0,0,0,0,0,0,null,null,null,null,null,null,null,null,null,null,null,null,null,null,null,null,null,null,null,null,null,null,null,null,0,0,{"$f":"ROUND(Y54*Source!I50,7)","v":0},{"$f":"AD54","v":0},{"$f":"AH54","v":0},{"$f":"AL54","v":1},0,0,"","",0,{"$f":"ROUND(ROUND(AF54,2)*CX54,2)","v":0},0,0,{"$f":"DI54","v":0},0,"",0,"",0]
[{"$f":"ROW(Source!A50)","v":50},85316656,85320064,83785137,1,1,1,2,"91.15.01-001","ФСЭМ-2022, 91.15.01-001, приказ Минстроя России от 18.05.2022 г. № 378/пр","Прицепы тракторные, грузоподъемность до 2 т",1368,null,1011,"маш.-ч","маш.-ч",1,null,null,null,null,null,0,1256142057,0.16,null,0,13.86,0,0,0,13.86,0,0,1,1,1,1,-2,0,0,1,1,0,"",0.16,"",1,2,85320071,1,0,55,1,0,0,0,0,0,0,0,0,2.2176,0,0,0,0,1,0,2.2176,0,0,0,0,1,null,null,null,null,null,null,null,null,null,null,null,null,null,null,null,null,null,null,null,null,null,null,null,null,0,{"$f":"ROUND(Y55*Source!I50*DO55,7)","v":0},{"$f":"ROUND(Y55*Source!I50,7)","v":0},{"$f":"AB55","v":13.86},{"$f":"AF55","v":13.86},{"$f":"AJ55","v":1},2.2200000000000002,0,"","",0,{"$f":"ROUND(ROUND(AF55,2)*CX55,2)","v":0},0,0,{"$f":"DG55+DH55","v":0},1,"",0,"",0]
[{"$f":"ROW(Source!A50)","v":50},85316656,85320064,83785155,1,1,1,2,"91.15.03-014","ФСЭМ-2022 доп.11, 91.15.03-014, приказ Минстроя России от 09.08.2024 г. № 524/пр","Тракторы на пневмоколесном ходу, мощность 59 кВт (80 л.с.)",1368,null,1011,"маш.-ч","маш.-ч",1,null,null,null,null,null,0,1638899965,0.16,null,0,634.32000000000005,811.79,0,0,487.94,811.79,0,1,1.3,1,1,2,0,0,1,1,0,"",0.16,"",1,2,85320072,1,0,56,1,0,0,0,0,0,0,0,0,78.070400000000006,129.88640000000001,0,0,0.16,1,0,78.070400000000006,129.88640000000001,0,0,0.16,1,null,null,null,null,null,null,null,null,null,null,null,null,null,null,null,null,null,null,null,null,null,null,null,null,0,{"$f":"ROUND(Y56*Source!I50*DO56,7)","v":0},{"$f":"ROUND(Y56*Source!I50,7)","v":0},{"$f":"AB56","v":634.32000000000005},{"$f":"AF56","v":487.94},{"$f":"AJ56","v":1.3},78.069999999999993,129.88999999999999,"","",0,{"$f":"ROUND(ROUND(AF56*AJ56,2)*CX56,2)","v":0},0,0,{"$f":"DG56+DH56","v":0},0,"4-100-040",4,"чел.-ч.",1]
[{"$f":"ROW(Source!A52)","v":52},85316715,85320074,83777501,117,1,1,1,"1-100-33","","Средний разряд работы 3,3",1191,null,1013,"чел.-ч.","чел.-ч.",1,null,null,null,null,null,0,32079103,3.06,null,0,0,0,748.18,0,0,0,748.18,1,1,1,1,-2,0,0,1,1,0,"",3.06,"",1,2,85320093,1,0,57,1,0,0,0,0,0,0,0,0,0,0,2289.4308000000001,3.06,0,1,0,0,0,2289.4308000000001,3.06,0,1,null,null,null,null,null,null,null,null,null,null,null,null,null,null,null,null,null,null,null,null,null,null,null,{"$f":"ROUND(AT57*Source!I52*AH57*AL57,2)","v":0},{"$f":"ROUND(Y57*Source!I52,7)","v":0},0,{"$f":"ROUND(Y57*Source!I52,7)","v":0},{"$f":"AD57","v":748.18},{"$f":"AH57","v":748.18},{"$f":"AL57","v":1},2289.4299999999998,0,"","",0,{"$f":"ROUND(ROUND(AF57,2)*CX57,2)","v":0},0,0,{"$f":"DI57","v":0},1,"",0,"",0]
[{"$f":"ROW(Source!A52)","v":52},85316715,85320074,83777689,117,1,1,1,"4-100-00","","Затраты труда машинистов",1191,null,1013,"чел.-ч.","чел.-ч.",1,null,null,null,null,null,0,-1417349443,0.87,null,0,0,0,0,0,0,0,0,1,1,1,1,-2,0,0,1,1,0,"",0.87,"",2,2,85320094,1,0,58,1,0,0,0,0,0,0,0,0,0,0,0,0,0,0,0,0,0,0,0,0,0,null,null,null,null,null,null,null,null,null,null,null,null,null,null,null,null,null,null,null,null,null,null,null,null,0,0,{"$f":"ROUND(Y58*Source!I52,7)","v":0},{"$f":"AD58","v":0},{"$f":"AH58","v":0},{"$f":"AL58","v":1},0,0,"","",0,{"$f":"ROUND(ROUND(AF58,2)*CX58,2)","v":0},0,0,{"$f":"DI58","v":0},0,"",0,"",0]
[{"$f":"ROW(Source!A52)","v":52},85316715,85320074,83784065,1,1,1,2,"91.04.01-031","ФСЭМ-2022 доп.11, 91.04.01-031, приказ Минстроя России от 07.11.2024 г. № 747/пр","Машины бурильно-крановые на автомобильном ходу, диаметр бурения до 800 мм, глубина бурения до 5 м",1368,null,1011,"маш.-ч","маш.-ч",1,null,null,null,null,null,0,843131152,0.68,null,0,2736.29,932.95,0,0,2088.77,932.95,0,1,1.31,1,1,2,0,0,1,1,0,"",0.68,"",1,2,85320095,1,0,59,1,0,0,0,0,0,0,0,0,1420.3636000000001,634.40600000000006,0,0,0.68,1,0,1420.3636000000001,634.40600000000006,0,0,0.68,1,null,null,null,null,null,null,null,null,null,null,null,null,null,null,null,null,null,null,null,null,null,null,null,null,0,{"$f":"ROUND(Y59*Source!I52*DO59,7)","v":0},{"$f":"ROUND(Y59*Source!I52,7)","v":0},{"$f":"AB59","v":2736.29},{"$f":"AF59","v":2088.77},{"$f":"AJ59","v":1.31},1420.36,634.41,"","",0,{"$f":"ROUND(ROUND(AF59*AJ59,2)*CX59,2)","v":0},0,0,{"$f":"DG59+DH59","v":0},0,"4-100-050",5,"чел.-ч.",1]
[{"$f":"ROW(Source!A52)","v":52},85316715,85320074,83785072,1,1,1,2,"91.14.02-001","ФСЭМ-2022 доп.7, 91.14.02-001, приказ Минстроя России от 02.08.2023 г. № 551/пр","Автомобили бортовые, грузоподъемность до 5 т",1368,null,1011,"маш.-ч","маш.-ч",1,null,null,null,null,null,0,-849950259,0.19,null,0,641.70000000000005,811.79,0,0,641.70000000000005,811.79,0,1,1,1,1,-2,0,0,1,1,0,"",0.19,"",1,2,85320096,1,0,60,1,0,0,0,0,0,0,0,0,121.92300000000002,154.24009999999998,0,0,0.19,1,0,121.92300000000002,154.24009999999998,0,0,0.19,1,null,null,null,null,null,null,null,null,null,null,null,null,null,null,null,null,null,null,null,null,null,null,null,null,0,{"$f":"ROUND(Y60*Source!I52*DO60,7)","v":0},{"$f":"ROUND(Y60*Source!I52,7)","v":0},{"$f":"AB60","v":641.70000000000005},{"$f":"AF60","v":641.70000000000005},{"$f":"AJ60","v":1},121.92,154.24,"","",0,{"$f":"ROUND(ROUND(AF60,2)*CX60,2)","v":0},0,0,{"$f":"DG60+DH60","v":0},1,"4-100-040",4,"чел.-ч.",1]
[{"$f":"ROW(Source!A52)","v":52},85316715,85320074,83849794,1,1,1,3,"01.3.01.06-0038","ФСБЦ-2022 доп.17, 01.3.01.06-0038, приказ Минстроя России от 17.02.2026 г. № 91/пр","Смазка защитная электросетевая",1346,null,1009,"кг","кг",1,null,null,null,null,null,0,-897919439,0.1,null,296.69,0,0,0,185.43,0,0,0,1.6,1,1,1,2,0,0,1,1,0,"",0.1,"",0,2,85320097,1,0,61,1,0,0,0,0,0,0,0,18.543000000000003,0,0,0,0,0,1,18.543000000000003,0,0,0,0,0,1,null,null,null,null,null,null,null,null,null,null,null,null,null,null,null,null,null,null,null,null,null,null,null,null,0,0,{"$f":"ROUND(Y61*Source!I52,7)","v":0},{"$f":"AA61","v":296.69},{"$f":"AE61","v":185.43},{"$f":"AI61","v":1.6},18.54,0,"","",{"$f":"ROUND(ROUND(AE61*AI61,2)*CX61,2)","v":0},0,0,0,{"$f":"DF61","v":0},0,"",0,"",0]
[{"$f":"ROW(Source!A52)","v":52},85316715,85320074,83849801,1,1,1,3,"01.3.01.06-0051","ФСБЦ-2022 доп.12, 01.3.01.06-0051, приказ Минстроя России от 07.11.2024 г. № 747/пр","Смазка солидол жировой Ж",1346,null,1009,"кг","кг",1,null,null,null,null,null,0,-1547825166,0.03,null,93.65,0,0,0,58.53,0,0,0,1.6,1,1,1,2,0,0,1,1,0,"",0.03,"",0,2,85320098,1,0,62,1,0,0,0,0,0,0,0,1.7559,0,0,0,0,0,1,1.7559,0,0,0,0,0,1,null,null,null,null,null,null,null,null,null,null,null,null,null,null,null,null,null,null,null,null,null,null,null,null,0,0,{"$f":"ROUND(Y62*Source!I52,7)","v":0},93.65,58.53,1.6,1.76,0,"","",{"$f":"ROUND(ROUND(AE62*AI62,2)*CX62,2)","v":0},0,0,0,0,0,"",0,"",0]
[{"$f":"ROW(Source!A52)","v":52},85316715,85320074,83853338,1,1,1,3,"01.7.15.03-0042","ФСБЦ-2022, 01.7.15.03-0042, приказ Минстроя России от 18.05.2022 г. № 378/пр","Болты с гайками и шайбами строительные",1346,null,1009,"кг","кг",1,null,null,null,null,null,0,-1131385474,0,null,188.92,0,0,0,174.93,0,0,0,1.08,1,1,1,0,1,0,1,0,0,"",0,"",0,2,85320099,1,0,63,0,0,0,0,0,0,0,0,0,0,0,0,0,0,0,0,0,0,0,0,0,0,null,null,null,null,null,null,null,null,null,null,null,null,null,null,null,null,null,null,null,null,null,null,null,null,0,0,{"$f":"ROUND(Y63*Source!I52,7)","v":0},188.92,174.93,1.08,0,0,"","",{"$f":"ROUND(ROUND(AE63*AI63,2)*CX63,2)","v":0},0,0,0,0,0,"",0,"",0]
[{"$f":"ROW(Source!A52)","v":52},85316715,85320074,83854484,1,1,1,3,"01.7.20.08-0051","ФСБЦ-2022 доп.8, 01.7.20.08-0051, приказ Минстроя России от 14.11.2023 г. № 817/пр","Ветошь хлопчатобумажная цветная",1346,null,1009,"кг","кг",1,null,null,null,null,null,0,-373327139,0.02,null,86.41,0,0,0,56.11,0,0,0,1.54,1,1,1,2,0,0,1,1,0,"",0.02,"",0,2,85320100,1,0,64,1,0,0,0,0,0,0,0,1.1222000000000001,0,0,0,0,0,1,1.1222000000000001,0,0,0,0,0,1,null,null,null,null,null,null,null,null,null,null,null,null,null,null,null,null,null,null,null,null,null,null,null,null,0,0,{"$f":"ROUND(Y64*Source!I52,7)","v":0},86.41,56.11,1.54,1.1200000000000001,0,"","",{"$f":"ROUND(ROUND(AE64*AI64,2)*CX64,2)","v":0},0,0,0,0,0,"",0,"",0]
[{"$f":"ROW(Source!A52)","v":52},85316715,85320074,83779061,117,1,1,3,"05.1.02.07","","Стойка железобетонная вибрированная для опор",1371,null,1013,"ШТ","ШТ",1,null,null,null,null,null,0,457934895,{"$f":"AT65","v":0},null,0,0,0,0,0,0,0,0,1,1,1,1,0,1,0,1,0,0,"",0,"",0,2,85320101,1,0,65,0,0,0,0,0,0,0,0,0,0,0,0,0,0,0,0,0,0,0,0,0,0,null,null,null,null,null,null,null,null,null,null,null,null,null,null,null,null,null,null,null,null,null,null,null,null,0,0,{"$f":"ROUND(Y65*Source!I52,7)","v":0},0,0,1,{"$f":"ROUND(ROUND(AT65*CZ65,2),2)","v":0},{"$f":"ROUND(ROUND(AT65*AG65,2),2)","v":0},"","",{"$f":"ROUND(ROUND(AE65,2)*CX65,2)","v":0},0,{"$f":"ROUND(ROUND(AG65,2)*CX65,2)","v":0},{"$f":"ROUND(ROUND(AH65,2)*CX65,2)","v":0},0,0,"",0,"",0]
[{"$f":"ROW(Source!A52)","v":52},85316715,85320074,83779738,117,1,1,3,"07.2.02.05","","Траверсы стальные",1348,null,1009,"т","т",1000,null,null,null,null,null,0,1602794472,0,null,0,0,0,0,0,0,0,0,1,1,1,1,0,1,0,1,0,0,"",0,"",0,2,85320102,1,0,66,0,0,0,0,0,0,0,0,0,0,0,0,0,0,0,0,0,0,0,0,0,0,null,null,null,null,null,null,null,null,null,null,null,null,null,null,null,null,null,null,null,null,null,null,null,null,0,0,{"$f":"ROUND(Y66*Source!I52,7)","v":0},0,0,1,0,0,"","",{"$f":"ROUND(ROUND(AE66,2)*CX66,2)","v":0},0,0,0,0,0,"",0,"",0]
[{"$f":"ROW(Source!A52)","v":52},85316715,85320074,83779884,117,1,1,3,"07.2.07.13","","Хомуты стальные",1346,null,1009,"кг","кг",1,null,null,null,null,null,0,-1111733769,0,null,0,0,0,0,0,0,0,0,1,1,1,1,0,1,0,1,0,0,"",0,"",0,2,85320103,1,0,67,0,0,0,0,0,0,0,0,0,0,0,0,0,0,0,0,0,0,0,0,0,0,null,null,null,null,null,null,null,null,null,null,null,null,null,null,null,null,null,null,null,null,null,null,null,null,0,0,{"$f":"ROUND(Y67*Source!I52,7)","v":0},0,0,1,0,0,"","",{"$f":"ROUND(ROUND(AE67,2)*CX67,2)","v":0},0,0,0,0,0,"",0,"",0]
[{"$f":"ROW(Source!A52)","v":52},85316715,85320074,83780219,117,1,1,3,"08.3.04.02","","Сталь стержневая диаметром до 10 мм",1348,null,1009,"т","т",1000,null,null,null,null,null,0,1613753229,0,null,0,0,0,0,0,0,0,0,1,1,1,1,0,1,0,1,0,0,"",0,"",0,2,85320104,1,0,68,0,0,0,0,0,0,0,0,0,0,0,0,0,0,0,0,0,0,0,0,0,0,null,null,null,null,null,null,null,null,null,null,null,null,null,null,null,null,null,null,null,null,null,null,null,null,0,0,{"$f":"ROUND(Y68*Source!I52,7)","v":0},0,0,1,0,0,"","",{"$f":"ROUND(ROUND(AE68,2)*CX68,2)","v":0},0,0,0,0,0,"",0,"",0]
[{"$f":"ROW(Source!A52)","v":52},85316715,85320074,83870522,1,1,1,3,"14.4.02.04-0182","ФСБЦ-2022 доп.17, 14.4.02.04-0182, приказ Минстроя России от 17.02.2026 г. № 91/пр","Краска масляная МА-15, цветная",1346,null,1009,"кг","кг",1,null,null,null,null,null,0,1157836156,0.4,null,88.24,0,0,0,61.28,0,0,0,1.44,1,1,1,2,0,0,1,1,0,"",0.4,"",0,2,85320105,1,0,69,1,0,0,0,0,0,0,0,24.512,0,0,0,0,0,1,24.512,0,0,0,0,0,1,null,null,null,null,null,null,null,null,null,null,null,null,null,null,null,null,null,null,null,null,null,null,null,null,0,0,{"$f":"ROUND(Y69*Source!I52,7)","v":0},88.24,61.28,1.44,24.51,0,"","",{"$f":"ROUND(ROUND(AE69*AI69,2)*CX69,2)","v":0},0,0,0,0,0,"",0,"",0]
[{"$f":"ROW(Source!A52)","v":52},85316715,85320074,83870548,1,1,1,3,"14.4.03.03-0102","ФСБЦ-2022 доп.4, 14.4.03.03-0102, приказ Минстроя России от 27.12.2022 г. № 1133/пр","Лак битумный БТ-577",1348,null,1009,"т","т",1000,null,null,null,null,null,0,-615866360,1E-4,null,103227.06,0,0,0,80020.98,0,0,0,1.29,1,1,1,2,0,0,1,1,0,"",1E-4,"",0,2,85320106,1,0,70,1,0,0,0,0,0,0,0,8.0020980000000002,0,0,0,0,0,1,8.0020980000000002,0,0,0,0,0,1,null,null,null,null,null,null,null,null,null,null,null,null,null,null,null,null,null,null,null,null,null,null,null,null,0,0,{"$f":"ROUND(Y70*Source!I52,7)","v":0},103227.06,80020.98,1.29,8,0,"","",{"$f":"ROUND(ROUND(AE70*AI70,2)*CX70,2)","v":0},0,0,0,0,0,"",0,"",0]
[{"$f":"ROW(Source!A52)","v":52},85316715,85320074,83878170,1,1,1,3,"20.2.02.04-0006","ФСБЦ-2022, 20.2.02.04-0006, приказ Минстроя России от 18.05.2022 г. № 378/пр","Колпачки полиэтиленовые К-6",1425,null,1013,"100 ШТ","100 ШТ",1,null,null,null,null,null,0,-734153582,0.06,null,1351.57,0,0,0,1031.73,0,0,0,1.31,1,1,1,2,0,0,1,1,0,"",0.06,"",0,2,85320107,1,0,71,1,0,0,0,0,0,0,0,61.903799999999997,0,0,0,0,0,1,61.903799999999997,0,0,0,0,0,1,null,null,null,null,null,null,null,null,null,null,null,null,null,null,null,null,null,null,null,null,null,null,null,null,0,0,{"$f":"ROUND(Y71*Source!I52,7)","v":0},1351.57,1031.73,1.31,61.9,0,"","",{"$f":"ROUND(ROUND(AE71*AI71,2)*CX71,2)","v":0},0,0,0,0,0,"",0,"",0]
[{"$f":"ROW(Source!A52)","v":52},85316715,85320074,83782579,117,1,1,3,"22.2.01.04","","Изоляторы штыревые",1371,null,1013,"ШТ","ШТ",1,null,null,null,null,null,0,-950997571,0,null,0,0,0,0,0,0,0,0,1,1,1,1,0,1,0,1,0,0,"",0,"",0,2,85320108,1,0,72,0,0,0,0,0,0,0,0,0,0,0,0,0,0,0,0,0,0,0,0,0,0,null,null,null,null,null,null,null,null,null,null,null,null,null,null,null,null,null,null,null,null,null,null,null,null,0,0,{"$f":"ROUND(Y72*Source!I52,7)","v":0},0,0,1,0,0,"","",{"$f":"ROUND(ROUND(AE72,2)*CX72,2)","v":0},0,0,0,0,0,"",0,"",0]
[{"$f":"ROW(Source!A52)","v":52},85316715,85320074,83782625,117,1,1,3,"22.2.02.21","","Штыри",1371,null,1013,"ШТ","ШТ",1,null,null,null,null,null,0,-320198552,0,null,0,0,0,0,0,0,0,0,1,1,1,1,0,1,0,1,0,0,"",0,"",0,2,85320109,1,0,73,0,0,0,0,0,0,0,0,0,0,0,0,0,0,0,0,0,0,0,0,0,0,null,null,null,null,null,null,null,null,null,null,null,null,null,null,null,null,null,null,null,null,null,null,null,null,0,0,{"$f":"ROUND(Y73*Source!I52,7)","v":0},0,0,1,0,0,"","",0,0,0,0,0,0,"",0,"",0]
[{"$f":"ROW(Source!A52)","v":52},85316715,85320074,83782629,117,1,1,3,"22.2.02.23","","Металлические плакаты",1371,null,1013,"ШТ","ШТ",1,null,null,null,null,null,0,326010188,0,null,0,0,0,0,0,0,0,0,1,1,1,1,0,1,0,1,0,0,"",0,"",0,2,85320110,1,0,74,0,0,0,0,0,0,0,0,0,0,0,0,0,0,0,0,0,0,0,0,0,0,null,null,null,null,null,null,null,null,null,null,null,null,null,null,null,null,null,null,null,null,null,null,null,null,0,0,{"$f":"ROUND(Y74*Source!I52,7)","v":0},0,0,1,0,0,"","",0,0,0,0,0,0,"",0,"",0]
[{"$f":"ROW(Source!A53)","v":53},85316656,85320074,83777501,117,1,1,1,"1-100-33","","Средний разряд работы 3,3",1191,null,1013,"чел.-ч.","чел.-ч.",1,null,null,null,null,null,0,32079103,3.06,null,0,0,0,748.18,0,0,0,748.18,1,1,1,1,-2,0,0,1,1,0,"",3.06,"",1,2,85320093,1,0,75,1,0,0,0,0,0,0,0,0,0,0,2289.4308000000001,3.06,0,1,0,0,0,2289.4308000000001,3.06,0,1,null,null,null,null,null,null,null,null,null,null,null,null,null,null,null,null,null,null,null,null,null,null,null,{"$f":"ROUND(AT75*Source!I53*AH75*AL75,2)","v":0},{"$f":"ROUND(Y75*Source!I53,7)","v":0},0,{"$f":"ROUND(Y75*Source!I53,7)","v":0},{"$f":"AD75","v":748.18},{"$f":"AH75","v":748.18},{"$f":"AL75","v":1},2289.4299999999998,0,"","",0,0,0,0,{"$f":"DI75","v":0},1,"",0,"",0]
[{"$f":"ROW(Source!A53)","v":53},85316656,85320074,83777689,117,1,1,1,"4-100-00","","Затраты труда машинистов",1191,null,1013,"чел.-ч.","чел.-ч.",1,null,null,null,null,null,0,-1417349443,0.87,null,0,0,0,0,0,0,0,0,1,1,1,1,-2,0,0,1,1,0,"",0.87,"",2,2,85320094,1,0,76,1,0,0,0,0,0,0,0,0,0,0,0,0,0,0,0,0,0,0,0,0,0,null,null,null,null,null,null,null,null,null,null,null,null,null,null,null,null,null,null,null,null,null,null,null,null,0,0,{"$f":"ROUND(Y76*Source!I53,7)","v":0},{"$f":"AD76","v":0},{"$f":"AH76","v":0},{"$f":"AL76","v":1},0,0,"","",0,0,0,0,{"$f":"DI76","v":0},0,"",0,"",0]
[{"$f":"ROW(Source!A53)","v":53},85316656,85320074,83784065,1,1,1,2,"91.04.01-031","ФСЭМ-2022 доп.11, 91.04.01-031, приказ Минстроя России от 07.11.2024 г. № 747/пр","Машины бурильно-крановые на автомобильном ходу, диаметр бурения до 800 мм, глубина бурения до 5 м",1368,null,1011,"маш.-ч","маш.-ч",1,null,null,null,null,null,0,843131152,0.68,null,0,2736.29,932.95,0,0,2088.77,932.95,0,1,1.31,1,1,2,0,0,1,1,0,"",0.68,"",1,2,85320095,1,0,77,1,0,0,0,0,0,0,0,0,1420.3636000000001,634.40600000000006,0,0,0.68,1,0,1420.3636000000001,634.40600000000006,0,0,0.68,1,null,null,null,null,null,null,null,null,null,null,null,null,null,null,null,null,null,null,null,null,null,null,null,null,0,{"$f":"ROUND(Y77*Source!I53*DO77,7)","v":0},{"$f":"ROUND(Y77*Source!I53,7)","v":0},{"$f":"AB77","v":2736.29},{"$f":"AF77","v":2088.77},{"$f":"AJ77","v":1.31},1420.36,634.41,"","",0,{"$f":"ROUND(ROUND(AF77*AJ77,2)*CX77,2)","v":0},0,0,{"$f":"DG77+DH77","v":0},0,"4-100-050",5,"чел.-ч.",1]
[{"$f":"ROW(Source!A53)","v":53},85316656,85320074,83785072,1,1,1,2,"91.14.02-001","ФСЭМ-2022 доп.7, 91.14.02-001, приказ Минстроя России от 02.08.2023 г. № 551/пр","Автомобили бортовые, грузоподъемность до 5 т",1368,null,1011,"маш.-ч","маш.-ч",1,null,null,null,null,null,0,-849950259,0.19,null,0,641.70000000000005,811.79,0,0,641.70000000000005,811.79,0,1,1,1,1,-2,0,0,1,1,0,"",0.19,"",1,2,85320096,1,0,78,1,0,0,0,0,0,0,0,0,121.92300000000002,154.24009999999998,0,0,0.19,1,0,121.92300000000002,154.24009999999998,0,0,0.19,1,null,null,null,null,null,null,null,null,null,null,null,null,null,null,null,null,null,null,null,null,null,null,null,null,0,{"$f":"ROUND(Y78*Source!I53*DO78,7)","v":0},{"$f":"ROUND(Y78*Source!I53,7)","v":0},{"$f":"AB78","v":641.70000000000005},{"$f":"AF78","v":641.70000000000005},{"$f":"AJ78","v":1},121.92,154.24,"","",0,{"$f":"ROUND(ROUND(AF78,2)*CX78,2)","v":0},0,0,{"$f":"DG78+DH78","v":0},1,"4-100-040",4,"чел.-ч.",1]
[{"$f":"ROW(Source!A53)","v":53},85316656,85320074,83849794,1,1,1,3,"01.3.01.06-0038","ФСБЦ-2022 доп.17, 01.3.01.06-0038, приказ Минстроя России от 17.02.2026 г. № 91/пр","Смазка защитная электросетевая",1346,null,1009,"кг","кг",1,null,null,null,null,null,0,-897919439,0.1,null,296.69,0,0,0,185.43,0,0,0,1.6,1,1,1,2,0,0,1,1,0,"",0.1,"",0,2,85320097,1,0,79,1,0,0,0,0,0,0,0,18.543000000000003,0,0,0,0,0,1,18.543000000000003,0,0,0,0,0,1,null,null,null,null,null,null,null,null,null,null,null,null,null,null,null,null,null,null,null,null,null,null,null,null,0,0,{"$f":"ROUND(Y79*Source!I53,7)","v":0},{"$f":"AA79","v":296.69},{"$f":"AE79","v":185.43},{"$f":"AI79","v":1.6},18.54,0,"","",{"$f":"ROUND(ROUND(AE79*AI79,2)*CX79,2)","v":0},0,0,0,{"$f":"DF79","v":0},0,"",0,"",0]
[{"$f":"ROW(Source!A53)","v":53},85316656,85320074,83849801,1,1,1,3,"01.3.01.06-0051","ФСБЦ-2022 доп.12, 01.3.01.06-0051, приказ Минстроя России от 07.11.2024 г. № 747/пр","Смазка солидол жировой Ж",1346,null,1009,"кг","кг",1,null,null,null,null,null,0,-1547825166,0.03,null,93.65,0,0,0,58.53,0,0,0,1.6,1,1,1,2,0,0,1,1,0,"",0.03,"",0,2,85320098,1,0,80,1,0,0,0,0,0,0,0,1.7559,0,0,0,0,0,1,1.7559,0,0,0,0,0,1,null,null,null,null,null,null,null,null,null,null,null,null,null,null,null,null,null,null,null,null,null,null,null,null,0,0,{"$f":"ROUND(Y80*Source!I53,7)","v":0},93.65,58.53,1.6,1.76,0,"","",{"$f":"ROUND(ROUND(AE80*AI80,2)*CX80,2)","v":0},0,0,0,0,0,"",0,"",0]
[{"$f":"ROW(Source!A53)","v":53},85316656,85320074,83853338,1,1,1,3,"01.7.15.03-0042","ФСБЦ-2022, 01.7.15.03-0042, приказ Минстроя России от 18.05.2022 г. № 378/пр","Болты с гайками и шайбами строительные",1346,null,1009,"кг","кг",1,null,null,null,null,null,0,-1131385474,0,null,188.92,0,0,0,174.93,0,0,0,1.08,1,1,1,0,1,0,1,0,0,"",0,"",0,2,85320099,1,0,81,0,0,0,0,0,0,0,0,0,0,0,0,0,0,0,0,0,0,0,0,0,0,null,null,null,null,null,null,null,null,null,null,null,null,null,null,null,null,null,null,null,null,null,null,null,null,0,0,{"$f":"ROUND(Y81*Source!I53,7)","v":0},188.92,174.93,1.08,0,0,"","",{"$f":"ROUND(ROUND(AE81*AI81,2)*CX81,2)","v":0},0,0,0,0,0,"",0,"",0]
[{"$f":"ROW(Source!A53)","v":53},85316656,85320074,83854484,1,1,1,3,"01.7.20.08-0051","ФСБЦ-2022 доп.8, 01.7.20.08-0051, приказ Минстроя России от 14.11.2023 г. № 817/пр","Ветошь хлопчатобумажная цветная",1346,null,1009,"кг","кг",1,null,null,null,null,null,0,-373327139,0.02,null,86.41,0,0,0,56.11,0,0,0,1.54,1,1,1,2,0,0,1,1,0,"",0.02,"",0,2,85320100,1,0,82,1,0,0,0,0,0,0,0,1.1222000000000001,0,0,0,0,0,1,1.1222000000000001,0,0,0,0,0,1,null,null,null,null,null,null,null,null,null,null,null,null,null,null,null,null,null,null,null,null,null,null,null,null,0,0,{"$f":"ROUND(Y82*Source!I53,7)","v":0},86.41,56.11,1.54,1.1200000000000001,0,"","",{"$f":"ROUND(ROUND(AE82*AI82,2)*CX82,2)","v":0},0,0,0,0,0,"",0,"",0]
[{"$f":"ROW(Source!A53)","v":53},85316656,85320074,83779061,117,1,1,3,"05.1.02.07","","Стойка железобетонная вибрированная для опор",1371,null,1013,"ШТ","ШТ",1,null,null,null,null,null,0,457934895,0,null,0,0,0,0,0,0,0,0,1,1,1,1,0,1,0,1,0,0,"",0,"",0,2,85320101,1,0,83,0,0,0,0,0,0,0,0,0,0,0,0,0,0,0,0,0,0,0,0,0,0,null,null,null,null,null,null,null,null,null,null,null,null,null,null,null,null,null,null,null,null,null,null,null,null,0,0,{"$f":"ROUND(Y83*Source!I53,7)","v":0},0,0,1,0,0,"","",{"$f":"ROUND(ROUND(AE83,2)*CX83,2)","v":0},0,0,0,0,0,"",0,"",0]
[{"$f":"ROW(Source!A53)","v":53},85316656,85320074,83779738,117,1,1,3,"07.2.02.05","","Траверсы стальные",1348,null,1009,"т","т",1000,null,null,null,null,null,0,1602794472,0,null,0,0,0,0,0,0,0,0,1,1,1,1,0,1,0,1,0,0,"",0,"",0,2,85320102,1,0,84,0,0,0,0,0,0,0,0,0,0,0,0,0,0,0,0,0,0,0,0,0,0,null,null,null,null,null,null,null,null,null,null,null,null,null,null,null,null,null,null,null,null,null,null,null,null,0,0,{"$f":"ROUND(Y84*Source!I53,7)","v":0},0,0,1,0,0,"","",{"$f":"ROUND(ROUND(AE84,2)*CX84,2)","v":0},0,0,0,0,0,"",0,"",0]
[{"$f":"ROW(Source!A53)","v":53},85316656,85320074,83779884,117,1,1,3,"07.2.07.13","","Хомуты стальные",1346,null,1009,"кг","кг",1,null,null,null,null,null,0,-1111733769,0,null,0,0,0,0,0,0,0,0,1,1,1,1,0,1,0,1,0,0,"",0,"",0,2,85320103,1,0,85,0,0,0,0,0,0,0,0,0,0,0,0,0,0,0,0,0,0,0,0,0,0,null,null,null,null,null,null,null,null,null,null,null,null,null,null,null,null,null,null,null,null,null,null,null,null,0,0,{"$f":"ROUND(Y85*Source!I53,7)","v":0},0,0,1,0,0,"","",{"$f":"ROUND(ROUND(AE85,2)*CX85,2)","v":0},0,0,0,0,0,"",0,"",0]
[{"$f":"ROW(Source!A53)","v":53},85316656,85320074,83780219,117,1,1,3,"08.3.04.02","","Сталь стержневая диаметром до 10 мм",1348,null,1009,"т","т",1000,null,null,null,null,null,0,1613753229,0,null,0,0,0,0,0,0,0,0,1,1,1,1,0,1,0,1,0,0,"",0,"",0,2,85320104,1,0,86,0,0,0,0,0,0,0,0,0,0,0,0,0,0,0,0,0,0,0,0,0,0,null,null,null,null,null,null,null,null,null,null,null,null,null,null,null,null,null,null,null,null,null,null,null,null,0,0,{"$f":"ROUND(Y86*Source!I53,7)","v":0},0,0,1,0,0,"","",{"$f":"ROUND(ROUND(AE86,2)*CX86,2)","v":0},0,0,0,0,0,"",0,"",0]
[{"$f":"ROW(Source!A53)","v":53},85316656,85320074,83870522,1,1,1,3,"14.4.02.04-0182","ФСБЦ-2022 доп.17, 14.4.02.04-0182, приказ Минстроя России от 17.02.2026 г. № 91/пр","Краска масляная МА-15, цветная",1346,null,1009,"кг","кг",1,null,null,null,null,null,0,1157836156,0.4,null,88.24,0,0,0,61.28,0,0,0,1.44,1,1,1,2,0,0,1,1,0,"",0.4,"",0,2,85320105,1,0,87,1,0,0,0,0,0,0,0,24.512,0,0,0,0,0,1,24.512,0,0,0,0,0,1,null,null,null,null,null,null,null,null,null,null,null,null,null,null,null,null,null,null,null,null,null,null,null,null,0,0,{"$f":"ROUND(Y87*Source!I53,7)","v":0},88.24,61.28,1.44,24.51,0,"","",{"$f":"ROUND(ROUND(AE87*AI87,2)*CX87,2)","v":0},0,0,0,0,0,"",0,"",0]
[{"$f":"ROW(Source!A53)","v":53},85316656,85320074,83870548,1,1,1,3,"14.4.03.03-0102","ФСБЦ-2022 доп.4, 14.4.03.03-0102, приказ Минстроя России от 27.12.2022 г. № 1133/пр","Лак битумный БТ-577",1348,null,1009,"т","т",1000,null,null,null,null,null,0,-615866360,1E-4,null,103227.06,0,0,0,80020.98,0,0,0,1.29,1,1,1,2,0,0,1,1,0,"",1E-4,"",0,2,85320106,1,0,88,1,0,0,0,0,0,0,0,8.0020980000000002,0,0,0,0,0,1,8.0020980000000002,0,0,0,0,0,1,null,null,null,null,null,null,null,null,null,null,null,null,null,null,null,null,null,null,null,null,null,null,null,null,0,0,{"$f":"ROUND(Y88*Source!I53,7)","v":0},103227.06,80020.98,1.29,8,0,"","",{"$f":"ROUND(ROUND(AE88*AI88,2)*CX88,2)","v":0},0,0,0,0,0,"",0,"",0]
[{"$f":"ROW(Source!A53)","v":53},85316656,85320074,83878170,1,1,1,3,"20.2.02.04-0006","ФСБЦ-2022, 20.2.02.04-0006, приказ Минстроя России от 18.05.2022 г. № 378/пр","Колпачки полиэтиленовые К-6",1425,null,1013,"100 ШТ","100 ШТ",1,null,null,null,null,null,0,-734153582,0.06,null,1351.57,0,0,0,1031.73,0,0,0,1.31,1,1,1,2,0,0,1,1,0,"",0.06,"",0,2,85320107,1,0,89,1,0,0,0,0,0,0,0,61.903799999999997,0,0,0,0,0,1,61.903799999999997,0,0,0,0,0,1,null,null,null,null,null,null,null,null,null,null,null,null,null,null,null,null,null,null,null,null,null,null,null,null,0,0,{"$f":"ROUND(Y89*Source!I53,7)","v":0},1351.57,1031.73,1.31,61.9,0,"","",{"$f":"ROUND(ROUND(AE89*AI89,2)*CX89,2)","v":0},0,0,0,0,0,"",0,"",0]
[{"$f":"ROW(Source!A53)","v":53},85316656,85320074,83782579,117,1,1,3,"22.2.01.04","","Изоляторы штыревые",1371,null,1013,"ШТ","ШТ",1,null,null,null,null,null,0,-950997571,0,null,0,0,0,0,0,0,0,0,1,1,1,1,0,1,0,1,0,0,"",0,"",0,2,85320108,1,0,90,0,0,0,0,0,0,0,0,0,0,0,0,0,0,0,0,0,0,0,0,0,0,null,null,null,null,null,null,null,null,null,null,null,null,null,null,null,null,null,null,null,null,null,null,null,null,0,0,{"$f":"ROUND(Y90*Source!I53,7)","v":0},0,0,1,0,0,"","",{"$f":"ROUND(ROUND(AE90,2)*CX90,2)","v":0},0,0,0,0,0,"",0,"",0]
[{"$f":"ROW(Source!A53)","v":53},85316656,85320074,83782625,117,1,1,3,"22.2.02.21","","Штыри",1371,null,1013,"ШТ","ШТ",1,null,null,null,null,null,0,-320198552,0,null,0,0,0,0,0,0,0,0,1,1,1,1,0,1,0,1,0,0,"",0,"",0,2,85320109,1,0,91,0,0,0,0,0,0,0,0,0,0,0,0,0,0,0,0,0,0,0,0,0,0,null,null,null,null,null,null,null,null,null,null,null,null,null,null,null,null,null,null,null,null,null,null,null,null,0,0,{"$f":"ROUND(Y91*Source!I53,7)","v":0},0,0,1,0,0,"","",0,0,0,0,0,0,"",0,"",0]
[{"$f":"ROW(Source!A53)","v":53},85316656,85320074,83782629,117,1,1,3,"22.2.02.23","","Металлические плакаты",1371,null,1013,"ШТ","ШТ",1,null,null,null,null,null,0,326010188,0,null,0,0,0,0,0,0,0,0,1,1,1,1,0,1,0,1,0,0,"",0,"",0,2,85320110,1,0,92,0,0,0,0,0,0,0,0,0,0,0,0,0,0,0,0,0,0,0,0,0,0,null,null,null,null,null,null,null,null,null,null,null,null,null,null,null,null,null,null,null,null,null,null,null,null,0,0,{"$f":"ROUND(Y92*Source!I53,7)","v":0},0,0,1,0,0,"","",0,0,0,0,0,0,"",0,"",0]
[{"$f":"ROW(Source!A71)","v":71},85316715,85320120,77306354,114,1,1,1,"1-100-32","","Средний разряд работы 3,2",1191,null,1013,"чел.-ч.","чел.-ч.",1,null,null,null,null,null,0,1958912953,5.81,null,0,0,0,739.09,0,0,0,739.09,1,1,1,1,-2,0,0,1,1,0,"",5.81,"",1,2,85320140,2,131072,93,1,0,0,0,0,0,0,0,0,0,0,4294.1129000000001,5.81,0,1,0,0,0,4294.1129000000001,5.81,0,1,null,null,null,null,null,null,null,null,null,null,null,null,null,null,null,null,null,null,null,null,null,null,null,{"$f":"ROUND(AT93*Source!I71*AH93*AL93,2)","v":0},{"$f":"ROUND(Y93*Source!I71,7)","v":0},0,{"$f":"ROUND(Y93*Source!I71,7)","v":0},{"$f":"AD93","v":739.09},{"$f":"AH93","v":739.09},{"$f":"AL93","v":1},4294.1099999999997,0,"","",0,0,0,0,{"$f":"DI93","v":0},1,"",0,"",0]
[{"$f":"ROW(Source!A71)","v":71},85316715,85320120,77306545,114,1,1,1,"4-100-00","","Затраты труда машинистов",1191,null,1013,"чел.-ч.","чел.-ч.",1,null,null,null,null,null,0,-1417349443,1.07,null,0,0,0,0,0,0,0,0,1,1,1,1,-2,0,0,1,1,0,"",1.07,"",2,2,85320141,1,0,94,1,0,0,0,0,0,0,0,0,0,0,0,0,0,0,0,0,0,0,0,0,0,null,null,null,null,null,null,null,null,null,null,null,null,null,null,null,null,null,null,null,null,null,null,null,null,0,0,{"$f":"ROUND(Y94*Source!I71,7)","v":0},{"$f":"AD94","v":0},{"$f":"AH94","v":0},{"$f":"AL94","v":1},0,0,"","",0,0,0,0,{"$f":"DI94","v":0},0,"",0,"",0]
[{"$f":"ROW(Source!A71)","v":71},85316715,85320120,77430875,1,1,1,2,"91.04.01-031","ФСЭМ-2022 доп.11, 91.04.01-031, приказ Минстроя России от 07.11.2024 г. № 747/пр","Машины бурильно-крановые на автомобильном ходу, диаметр бурения до 800 мм, глубина бурения до 5 м",1368,null,1011,"маш.-ч","маш.-ч",1,null,null,null,null,null,0,1146632698,0.78,null,0,2736.29,932.95,0,0,2088.77,932.95,0,1,1.31,1,1,2,0,0,1,1,0,"",0.78,"",1,2,85320142,2,65536,95,1,0,0,0,0,0,0,0,0,1629.2406000000001,727.70100000000002,0,0,0.78,1,0,1629.2406000000001,727.70100000000002,0,0,0.78,1,null,null,null,null,null,null,null,null,null,null,null,null,null,null,null,null,null,null,null,null,null,null,null,null,0,{"$f":"ROUND(Y95*Source!I71*DO95,7)","v":0},{"$f":"ROUND(Y95*Source!I71,7)","v":0},{"$f":"AB95","v":2736.29},{"$f":"AF95","v":2088.77},{"$f":"AJ95","v":1.31},1629.24,727.7,"","",0,{"$f":"ROUND(ROUND(AF95*AJ95,2)*CX95,2)","v":0},0,0,{"$f":"DG95+DH95","v":0},0,"4-100-050",5,"чел.-ч.",1]
[{"$f":"ROW(Source!A71)","v":71},85316715,85320120,77431879,1,1,1,2,"91.14.02-001","ФСЭМ-2022 доп.7, 91.14.02-001, приказ Минстроя России от 02.08.2023 г. № 551/пр","Автомобили бортовые, грузоподъемность до 5 т",1368,null,1011,"маш.-ч","маш.-ч",1,null,null,null,null,null,0,-1152394969,0.28999999999999998,null,0,641.70000000000005,811.79,0,0,641.70000000000005,811.79,0,1,1,1,1,-2,0,0,1,1,0,"",0.28999999999999998,"",1,2,85320143,1,0,96,1,0,0,0,0,0,0,0,0,186.09299999999999,235.41909999999999,0,0,0.28999999999999998,1,0,186.09299999999999,235.41909999999999,0,0,0.28999999999999998,1,null,null,null,null,null,null,null,null,null,null,null,null,null,null,null,null,null,null,null,null,null,null,null,null,0,{"$f":"ROUND(Y96*Source!I71*DO96,7)","v":0},{"$f":"ROUND(Y96*Source!I71,7)","v":0},{"$f":"AB96","v":641.70000000000005},{"$f":"AF96","v":641.70000000000005},{"$f":"AJ96","v":1},186.09,235.42,"","",0,{"$f":"ROUND(ROUND(AF96,2)*CX96,2)","v":0},0,0,{"$f":"DG96+DH96","v":0},1,"4-100-040",4,"чел.-ч.",1]
[{"$f":"ROW(Source!A71)","v":71},85316715,85320120,77375900,1,1,1,3,"01.3.01.06-0038","ФСБЦ-2022, 01.3.01.06-0038, приказ Минстроя России от 18.05.2022 г. № 378/пр","Смазка защитная электросетевая",1346,null,1009,"кг","кг",1,null,null,null,null,null,0,-1628490559,0.1,null,381.26,0,0,0,238.29,0,0,0,1.6,1,1,1,2,0,0,1,1,0,"",0.1,"",0,2,85320144,1,0,97,1,0,0,0,0,0,0,0,23.829000000000001,0,0,0,0,0,1,23.829000000000001,0,0,0,0,0,1,null,null,null,null,null,null,null,null,null,null,null,null,null,null,null,null,null,null,null,null,null,null,null,null,0,0,{"$f":"ROUND(Y97*Source!I71,7)","v":0},{"$f":"AA97","v":381.26},{"$f":"AE97","v":238.29},{"$f":"AI97","v":1.6},23.83,0,"","",{"$f":"ROUND(ROUND(AE97*AI97,2)*CX97,2)","v":0},0,0,0,{"$f":"DF97","v":0},0,"",0,"",0]
[{"$f":"ROW(Source!A71)","v":71},85316715,85320120,77375907,1,1,1,3,"01.3.01.06-0051","ФСБЦ-2022 доп.12, 01.3.01.06-0051, приказ Минстроя России от 07.11.2024 г. № 747/пр","Смазка солидол жировой Ж",1346,null,1009,"кг","кг",1,null,null,null,null,null,0,-479354107,0.03,null,93.65,0,0,0,58.53,0,0,0,1.6,1,1,1,2,0,0,1,1,0,"",0.03,"",0,2,85320145,1,0,98,1,0,0,0,0,0,0,0,1.7559,0,0,0,0,0,1,1.7559,0,0,0,0,0,1,null,null,null,null,null,null,null,null,null,null,null,null,null,null,null,null,null,null,null,null,null,null,null,null,0,0,{"$f":"ROUND(Y98*Source!I71,7)","v":0},93.65,58.53,1.6,1.76,0,"","",{"$f":"ROUND(ROUND(AE98*AI98,2)*CX98,2)","v":0},0,0,0,0,0,"",0,"",0]
[{"$f":"ROW(Source!A71)","v":71},85316715,85320120,77379558,1,1,1,3,"01.7.15.03-0042","ФСБЦ-2022, 01.7.15.03-0042, приказ Минстроя России от 18.05.2022 г. № 378/пр","Болты с гайками и шайбами строительные",1346,null,1009,"кг","кг",1,null,null,null,null,null,0,1181962216,0,null,188.92,0,0,0,174.93,0,0,0,1.08,1,1,1,2,1,0,1,0,0,"",0,"",0,2,85320146,1,0,99,0,0,0,0,0,0,0,0,0,0,0,0,0,0,0,0,0,0,0,0,0,0,null,null,null,null,null,null,null,null,null,null,null,null,null,null,null,null,null,null,null,null,null,null,null,null,0,0,{"$f":"ROUND(Y99*Source!I71,7)","v":0},188.92,174.93,1.08,0,0,"","",{"$f":"ROUND(ROUND(AE99*AI99,2)*CX99,2)","v":0},0,0,0,0,0,"",0,"",0]
[{"$f":"ROW(Source!A71)","v":71},85316715,85320120,77380691,1,1,1,3,"01.7.20.08-0051","ФСБЦ-2022 доп.8, 01.7.20.08-0051, приказ Минстроя России от 14.11.2023 г. № 817/пр","Ветошь хлопчатобумажная цветная",1346,null,1009,"кг","кг",1,null,null,null,null,null,0,-130701290,0.02,null,86.41,0,0,0,56.11,0,0,0,1.54,1,1,1,2,0,0,1,1,0,"",0.02,"",0,2,85320147,1,0,100,1,0,0,0,0,0,0,0,1.1222000000000001,0,0,0,0,0,1,1.1222000000000001,0,0,0,0,0,1,null,null,null,null,null,null,null,null,null,null,null,null,null,null,null,null,null,null,null,null,null,null,null,null,0,0,{"$f":"ROUND(Y100*Source!I71,7)","v":0},86.41,56.11,1.54,1.1200000000000001,0,"","",{"$f":"ROUND(ROUND(AE100*AI100,2)*CX100,2)","v":0},0,0,0,0,0,"",0,"",0]
[{"$f":"ROW(Source!A71)","v":71},85316715,85320120,77307872,114,1,1,3,"05.1.02.06","","Приставки железобетонные",1371,null,1013,"ШТ","ШТ",1,null,null,null,null,null,0,-1729700736,0,null,0,0,0,0,0,0,0,0,1,1,1,1,-2,1,0,1,0,0,"",0,"",0,2,85320148,1,0,101,0,0,0,0,0,0,0,0,0,0,0,0,0,0,0,0,0,0,0,0,0,0,null,null,null,null,null,null,null,null,null,null,null,null,null,null,null,null,null,null,null,null,null,null,null,null,0,0,{"$f":"ROUND(Y101*Source!I71,7)","v":0},0,0,1,0,0,"","",{"$f":"ROUND(ROUND(AE101,2)*CX101,2)","v":0},0,0,0,0,0,"",0,"",0]
[{"$f":"ROW(Source!A71)","v":71},85316715,85320120,77307877,114,1,1,3,"05.1.02.07","","Стойка железобетонная вибрированная для опор",1371,null,1013,"ШТ","ШТ",1,null,null,null,null,null,0,457934895,0,null,0,0,0,0,0,0,0,0,1,1,1,1,-2,1,0,1,0,0,"",0,"",0,2,85320149,1,0,102,0,0,0,0,0,0,0,0,0,0,0,0,0,0,0,0,0,0,0,0,0,0,null,null,null,null,null,null,null,null,null,null,null,null,null,null,null,null,null,null,null,null,null,null,null,null,0,0,{"$f":"ROUND(Y102*Source!I71,7)","v":0},0,0,1,0,0,"","",{"$f":"ROUND(ROUND(AE102,2)*CX102,2)","v":0},0,0,0,0,0,"",0,"",0]
[{"$f":"ROW(Source!A71)","v":71},85316715,85320120,77308556,114,1,1,3,"07.2.02.05","","Траверсы стальные",1348,null,1009,"т","т",1000,null,null,null,null,null,0,1602794472,0,null,0,0,0,0,0,0,0,0,1,1,1,1,-2,1,0,1,0,0,"",0,"",0,2,85320150,1,0,103,0,0,0,0,0,0,0,0,0,0,0,0,0,0,0,0,0,0,0,0,0,0,null,null,null,null,null,null,null,null,null,null,null,null,null,null,null,null,null,null,null,null,null,null,null,null,0,0,{"$f":"ROUND(Y103*Source!I71,7)","v":0},0,0,1,0,0,"","",{"$f":"ROUND(ROUND(AE103,2)*CX103,2)","v":0},0,0,0,0,0,"",0,"",0]
[{"$f":"ROW(Source!A71)","v":71},85316715,85320120,77308705,114,1,1,3,"07.2.07.13","","Хомуты стальные",1346,null,1009,"кг","кг",1,null,null,null,null,null,0,-1111733769,0,null,0,0,0,0,0,0,0,0,1,1,1,1,-2,1,0,1,0,0,"",0,"",0,2,85320151,1,0,104,0,0,0,0,0,0,0,0,0,0,0,0,0,0,0,0,0,0,0,0,0,0,null,null,null,null,null,null,null,null,null,null,null,null,null,null,null,null,null,null,null,null,null,null,null,null,0,0,{"$f":"ROUND(Y104*Source!I71,7)","v":0},0,0,1,0,0,"","",{"$f":"ROUND(ROUND(AE104,2)*CX104,2)","v":0},0,0,0,0,0,"",0,"",0]
[{"$f":"ROW(Source!A71)","v":71},85316715,85320120,77309038,114,1,1,3,"08.3.04.02","","Сталь стержневая диаметром до 10 мм",1348,null,1009,"т","т",1000,null,null,null,null,null,0,1613753229,0,null,0,0,0,0,0,0,0,0,1,1,1,1,-2,1,0,1,0,0,"",0,"",0,2,85320152,1,0,105,0,0,0,0,0,0,0,0,0,0,0,0,0,0,0,0,0,0,0,0,0,0,null,null,null,null,null,null,null,null,null,null,null,null,null,null,null,null,null,null,null,null,null,null,null,null,0,0,{"$f":"ROUND(Y105*Source!I71,7)","v":0},0,0,1,0,0,"","",{"$f":"ROUND(ROUND(AE105,2)*CX105,2)","v":0},0,0,0,0,0,"",0,"",0]
[{"$f":"ROW(Source!A71)","v":71},85316715,85320120,77397232,1,1,1,3,"14.4.02.04-0182","ФСБЦ-2022, 14.4.02.04-0182, приказ Минстроя России от 18.05.2022 г. № 378/пр","Краска масляная МА-15, цветная",1348,null,1009,"т","т",1000,null,null,null,null,null,0,-460826109,0,null,88222.16,0,0,0,61265.39,0,0,0,1.44,1,1,1,2,0,0,1,1,0,"",0,"",0,2,85320153,1,6144,106,1,0,0,0,0,0,0,0,0,0,0,0,0,0,0,0,0,0,0,0,0,0,null,null,null,null,null,null,null,null,null,null,null,null,null,null,null,null,null,null,null,null,null,null,null,null,0,0,{"$f":"ROUND(Y106*Source!I71,7)","v":0},88222.16,61265.39,1.44,0,0,"","",{"$f":"ROUND(ROUND(AE106*AI106,2)*CX106,2)","v":0},0,0,0,0,0,"",0,"",0]
[{"$f":"ROW(Source!A71)","v":71},85316715,85320120,77397258,1,1,1,3,"14.4.03.03-0102","ФСБЦ-2022 доп.4, 14.4.03.03-0102, приказ Минстроя России от 27.12.2022 г. № 1133/пр","Лак битумный БТ-577",1348,null,1009,"т","т",1000,null,null,null,null,null,0,1215516986,1E-4,null,103227.06,0,0,0,80020.98,0,0,0,1.29,1,1,1,2,0,0,1,1,0,"",1E-4,"",0,2,85320154,1,0,107,1,0,0,0,0,0,0,0,8.0020980000000002,0,0,0,0,0,1,8.0020980000000002,0,0,0,0,0,1,null,null,null,null,null,null,null,null,null,null,null,null,null,null,null,null,null,null,null,null,null,null,null,null,0,0,{"$f":"ROUND(Y107*Source!I71,7)","v":0},103227.06,80020.98,1.29,8,0,"","",{"$f":"ROUND(ROUND(AE107*AI107,2)*CX107,2)","v":0},0,0,0,0,0,"",0,"",0]
[{"$f":"ROW(Source!A71)","v":71},85316715,85320120,77404679,1,1,1,3,"20.2.02.04-0006","ФСБЦ-2022, 20.2.02.04-0006, приказ Минстроя России от 18.05.2022 г. № 378/пр","Колпачки полиэтиленовые К-6",1425,null,1013,"100 ШТ","100 ШТ",1,null,null,null,null,null,0,600080833,0,null,1351.57,0,0,0,1031.73,0,0,0,1.31,1,1,1,2,0,0,1,1,0,"",0,"",0,2,85320155,1,6144,108,1,0,0,0,0,0,0,0,0,0,0,0,0,0,0,0,0,0,0,0,0,0,null,null,null,null,null,null,null,null,null,null,null,null,null,null,null,null,null,null,null,null,null,null,null,null,0,0,{"$f":"ROUND(Y108*Source!I71,7)","v":0},1351.57,1031.73,1.31,0,0,"","",{"$f":"ROUND(ROUND(AE108*AI108,2)*CX108,2)","v":0},0,0,0,0,0,"",0,"",0]
[{"$f":"ROW(Source!A71)","v":71},85316715,85320120,77311321,114,1,1,3,"22.2.01.04","","Изоляторы штыревые",1371,null,1013,"ШТ","ШТ",1,null,null,null,null,null,0,-950997571,0,null,0,0,0,0,0,0,0,0,1,1,1,1,-2,1,0,1,0,0,"",0,"",0,2,85320156,1,0,109,0,0,0,0,0,0,0,0,0,0,0,0,0,0,0,0,0,0,0,0,0,0,null,null,null,null,null,null,null,null,null,null,null,null,null,null,null,null,null,null,null,null,null,null,null,null,0,0,{"$f":"ROUND(Y109*Source!I71,7)","v":0},0,0,1,0,0,"","",{"$f":"ROUND(ROUND(AE109,2)*CX109,2)","v":0},0,0,0,0,0,"",0,"",0]
[{"$f":"ROW(Source!A71)","v":71},85316715,85320120,77311366,114,1,1,3,"22.2.02.21","","Штыри",1371,null,1013,"ШТ","ШТ",1,null,null,null,null,null,0,-320198552,0,null,0,0,0,0,0,0,0,0,1,1,1,1,-2,1,0,1,0,0,"",0,"",0,2,85320157,1,0,110,0,0,0,0,0,0,0,0,0,0,0,0,0,0,0,0,0,0,0,0,0,0,null,null,null,null,null,null,null,null,null,null,null,null,null,null,null,null,null,null,null,null,null,null,null,null,0,0,{"$f":"ROUND(Y110*Source!I71,7)","v":0},0,0,1,0,0,"","",0,0,0,0,0,0,"",0,"",0]
[{"$f":"ROW(Source!A71)","v":71},85316715,85320120,77311370,114,1,1,3,"22.2.02.23","","Металлические плакаты",1371,null,1013,"ШТ","ШТ",1,null,null,null,null,null,0,326010188,0,null,0,0,0,0,0,0,0,0,1,1,1,1,-2,1,0,1,0,0,"",0,"",0,2,85320158,1,0,111,0,0,0,0,0,0,0,0,0,0,0,0,0,0,0,0,0,0,0,0,0,0,null,null,null,null,null,null,null,null,null,null,null,null,null,null,null,null,null,null,null,null,null,null,null,null,0,0,{"$f":"ROUND(Y111*Source!I71,7)","v":0},0,0,1,0,0,"","",0,0,0,0,0,0,"",0,"",0]
[{"$f":"ROW(Source!A72)","v":72},85316656,85320120,77306354,114,1,1,1,"1-100-32","","Средний разряд работы 3,2",1191,null,1013,"чел.-ч.","чел.-ч.",1,null,null,null,null,null,0,1958912953,5.81,null,0,0,0,739.09,0,0,0,739.09,1,1,1,1,-2,0,0,1,1,0,"",5.81,"",1,2,85320140,2,131072,112,1,0,0,0,0,0,0,0,0,0,0,4294.1129000000001,5.81,0,1,0,0,0,4294.1129000000001,5.81,0,1,null,null,null,null,null,null,null,null,null,null,null,null,null,null,null,null,null,null,null,null,null,null,null,{"$f":"ROUND(AT112*Source!I72*AH112*AL112,2)","v":0},{"$f":"ROUND(Y112*Source!I72,7)","v":0},0,{"$f":"ROUND(Y112*Source!I72,7)","v":0},{"$f":"AD112","v":739.09},{"$f":"AH112","v":739.09},{"$f":"AL112","v":1},4294.1099999999997,0,"","",0,0,0,0,{"$f":"DI112","v":0},1,"",0,"",0]
[{"$f":"ROW(Source!A72)","v":72},85316656,85320120,77306545,114,1,1,1,"4-100-00","","Затраты труда машинистов",1191,null,1013,"чел.-ч.","чел.-ч.",1,null,null,null,null,null,0,-1417349443,1.07,null,0,0,0,0,0,0,0,0,1,1,1,1,-2,0,0,1,1,0,"",1.07,"",2,2,85320141,1,0,113,1,0,0,0,0,0,0,0,0,0,0,0,0,0,0,0,0,0,0,0,0,0,null,null,null,null,null,null,null,null,null,null,null,null,null,null,null,null,null,null,null,null,null,null,null,null,0,0,{"$f":"ROUND(Y113*Source!I72,7)","v":0},{"$f":"AD113","v":0},{"$f":"AH113","v":0},{"$f":"AL113","v":1},0,0,"","",0,0,0,0,{"$f":"DI113","v":0},0,"",0,"",0]
[{"$f":"ROW(Source!A72)","v":72},85316656,85320120,77430875,1,1,1,2,"91.04.01-031","ФСЭМ-2022 доп.11, 91.04.01-031, приказ Минстроя России от 07.11.2024 г. № 747/пр","Машины бурильно-крановые на автомобильном ходу, диаметр бурения до 800 мм, глубина бурения до 5 м",1368,null,1011,"маш.-ч","маш.-ч",1,null,null,null,null,null,0,1146632698,0.78,null,0,2736.29,932.95,0,0,2088.77,932.95,0,1,1.31,1,1,2,0,0,1,1,0,"",0.78,"",1,2,85320142,2,65536,114,1,0,0,0,0,0,0,0,0,1629.2406000000001,727.70100000000002,0,0,0.78,1,0,1629.2406000000001,727.70100000000002,0,0,0.78,1,null,null,null,null,null,null,null,null,null,null,null,null,null,null,null,null,null,null,null,null,null,null,null,null,0,{"$f":"ROUND(Y114*Source!I72*DO114,7)","v":0},{"$f":"ROUND(Y114*Source!I72,7)","v":0},{"$f":"AB114","v":2736.29},{"$f":"AF114","v":2088.77},{"$f":"AJ114","v":1.31},1629.24,727.7,"","",0,{"$f":"ROUND(ROUND(AF114*AJ114,2)*CX114,2)","v":0},0,0,{"$f":"DG114+DH114","v":0},0,"4-100-050",5,"чел.-ч.",1]
[{"$f":"ROW(Source!A72)","v":72},85316656,85320120,77431879,1,1,1,2,"91.14.02-001","ФСЭМ-2022 доп.7, 91.14.02-001, приказ Минстроя России от 02.08.2023 г. № 551/пр","Автомобили бортовые, грузоподъемность до 5 т",1368,null,1011,"маш.-ч","маш.-ч",1,null,null,null,null,null,0,-1152394969,0.28999999999999998,null,0,641.70000000000005,811.79,0,0,641.70000000000005,811.79,0,1,1,1,1,-2,0,0,1,1,0,"",0.28999999999999998,"",1,2,85320143,1,0,115,1,0,0,0,0,0,0,0,0,186.09299999999999,235.41909999999999,0,0,0.28999999999999998,1,0,186.09299999999999,235.41909999999999,0,0,0.28999999999999998,1,null,null,null,null,null,null,null,null,null,null,null,null,null,null,null,null,null,null,null,null,null,null,null,null,0,{"$f":"ROUND(Y115*Source!I72*DO115,7)","v":0},{"$f":"ROUND(Y115*Source!I72,7)","v":0},{"$f":"AB115","v":641.70000000000005},{"$f":"AF115","v":641.70000000000005},{"$f":"AJ115","v":1},186.09,235.42,"","",0,{"$f":"ROUND(ROUND(AF115,2)*CX115,2)","v":0},0,0,{"$f":"DG115+DH115","v":0},1,"4-100-040",4,"чел.-ч.",1]
[{"$f":"ROW(Source!A72)","v":72},85316656,85320120,77375900,1,1,1,3,"01.3.01.06-0038","ФСБЦ-2022, 01.3.01.06-0038, приказ Минстроя России от 18.05.2022 г. № 378/пр","Смазка защитная электросетевая",1346,null,1009,"кг","кг",1,null,null,null,null,null,0,-1628490559,0.1,null,381.26,0,0,0,238.29,0,0,0,1.6,1,1,1,2,0,0,1,1,0,"",0.1,"",0,2,85320144,1,0,116,1,0,0,0,0,0,0,0,23.829000000000001,0,0,0,0,0,1,23.829000000000001,0,0,0,0,0,1,null,null,null,null,null,null,null,null,null,null,null,null,null,null,null,null,null,null,null,null,null,null,null,null,0,0,{"$f":"ROUND(Y116*Source!I72,7)","v":0},{"$f":"AA116","v":381.26},{"$f":"AE116","v":238.29},{"$f":"AI116","v":1.6},23.83,0,"","",{"$f":"ROUND(ROUND(AE116*AI116,2)*CX116,2)","v":0},0,0,0,{"$f":"DF116","v":0},0,"",0,"",0]
[{"$f":"ROW(Source!A72)","v":72},85316656,85320120,77375907,1,1,1,3,"01.3.01.06-0051","ФСБЦ-2022 доп.12, 01.3.01.06-0051, приказ Минстроя России от 07.11.2024 г. № 747/пр","Смазка солидол жировой Ж",1346,null,1009,"кг","кг",1,null,null,null,null,null,0,-479354107,0.03,null,93.65,0,0,0,58.53,0,0,0,1.6,1,1,1,2,0,0,1,1,0,"",0.03,"",0,2,85320145,1,0,117,1,0,0,0,0,0,0,0,1.7559,0,0,0,0,0,1,1.7559,0,0,0,0,0,1,null,null,null,null,null,null,null,null,null,null,null,null,null,null,null,null,null,null,null,null,null,null,null,null,0,0,{"$f":"ROUND(Y117*Source!I72,7)","v":0},93.65,58.53,1.6,1.76,0,"","",{"$f":"ROUND(ROUND(AE117*AI117,2)*CX117,2)","v":0},0,0,0,0,0,"",0,"",0]
[{"$f":"ROW(Source!A72)","v":72},85316656,85320120,77379558,1,1,1,3,"01.7.15.03-0042","ФСБЦ-2022, 01.7.15.03-0042, приказ Минстроя России от 18.05.2022 г. № 378/пр","Болты с гайками и шайбами строительные",1346,null,1009,"кг","кг",1,null,null,null,null,null,0,1181962216,0,null,188.92,0,0,0,174.93,0,0,0,1.08,1,1,1,2,1,0,1,0,0,"",0,"",0,2,85320146,1,0,118,0,0,0,0,0,0,0,0,0,0,0,0,0,0,0,0,0,0,0,0,0,0,null,null,null,null,null,null,null,null,null,null,null,null,null,null,null,null,null,null,null,null,null,null,null,null,0,0,{"$f":"ROUND(Y118*Source!I72,7)","v":0},188.92,174.93,1.08,0,0,"","",{"$f":"ROUND(ROUND(AE118*AI118,2)*CX118,2)","v":0},0,0,0,0,0,"",0,"",0]
[{"$f":"ROW(Source!A72)","v":72},85316656,85320120,77380691,1,1,1,3,"01.7.20.08-0051","ФСБЦ-2022 доп.8, 01.7.20.08-0051, приказ Минстроя России от 14.11.2023 г. № 817/пр","Ветошь хлопчатобумажная цветная",1346,null,1009,"кг","кг",1,null,null,null,null,null,0,-130701290,0.02,null,86.41,0,0,0,56.11,0,0,0,1.54,1,1,1,2,0,0,1,1,0,"",0.02,"",0,2,85320147,1,0,119,1,0,0,0,0,0,0,0,1.1222000000000001,0,0,0,0,0,1,1.1222000000000001,0,0,0,0,0,1,null,null,null,null,null,null,null,null,null,null,null,null,null,null,null,null,null,null,null,null,null,null,null,null,0,0,{"$f":"ROUND(Y119*Source!I72,7)","v":0},86.41,56.11,1.54,1.1200000000000001,0,"","",{"$f":"ROUND(ROUND(AE119*AI119,2)*CX119,2)","v":0},0,0,0,0,0,"",0,"",0]
[{"$f":"ROW(Source!A72)","v":72},85316656,85320120,77307872,114,1,1,3,"05.1.02.06","","Приставки железобетонные",1371,null,1013,"ШТ","ШТ",1,null,null,null,null,null,0,-1729700736,0,null,0,0,0,0,0,0,0,0,1,1,1,1,-2,1,0,1,0,0,"",0,"",0,2,85320148,1,0,120,0,0,0,0,0,0,0,0,0,0,0,0,0,0,0,0,0,0,0,0,0,0,null,null,null,null,null,null,null,null,null,null,null,null,null,null,null,null,null,null,null,null,null,null,null,null,0,0,{"$f":"ROUND(Y120*Source!I72,7)","v":0},0,0,1,0,0,"","",{"$f":"ROUND(ROUND(AE120,2)*CX120,2)","v":0},0,0,0,0,0,"",0,"",0]
[{"$f":"ROW(Source!A72)","v":72},85316656,85320120,77307877,114,1,1,3,"05.1.02.07","","Стойка железобетонная вибрированная для опор",1371,null,1013,"ШТ","ШТ",1,null,null,null,null,null,0,457934895,0,null,0,0,0,0,0,0,0,0,1,1,1,1,-2,1,0,1,0,0,"",0,"",0,2,85320149,1,0,121,0,0,0,0,0,0,0,0,0,0,0,0,0,0,0,0,0,0,0,0,0,0,null,null,null,null,null,null,null,null,null,null,null,null,null,null,null,null,null,null,null,null,null,null,null,null,0,0,{"$f":"ROUND(Y121*Source!I72,7)","v":0},0,0,1,0,0,"","",{"$f":"ROUND(ROUND(AE121,2)*CX121,2)","v":0},0,0,0,0,0,"",0,"",0]
[{"$f":"ROW(Source!A72)","v":72},85316656,85320120,77308556,114,1,1,3,"07.2.02.05","","Траверсы стальные",1348,null,1009,"т","т",1000,null,null,null,null,null,0,1602794472,0,null,0,0,0,0,0,0,0,0,1,1,1,1,-2,1,0,1,0,0,"",0,"",0,2,85320150,1,0,122,0,0,0,0,0,0,0,0,0,0,0,0,0,0,0,0,0,0,0,0,0,0,null,null,null,null,null,null,null,null,null,null,null,null,null,null,null,null,null,null,null,null,null,null,null,null,0,0,{"$f":"ROUND(Y122*Source!I72,7)","v":0},0,0,1,0,0,"","",{"$f":"ROUND(ROUND(AE122,2)*CX122,2)","v":0},0,0,0,0,0,"",0,"",0]
[{"$f":"ROW(Source!A72)","v":72},85316656,85320120,77308705,114,1,1,3,"07.2.07.13","","Хомуты стальные",1346,null,1009,"кг","кг",1,null,null,null,null,null,0,-1111733769,0,null,0,0,0,0,0,0,0,0,1,1,1,1,-2,1,0,1,0,0,"",0,"",0,2,85320151,1,0,123,0,0,0,0,0,0,0,0,0,0,0,0,0,0,0,0,0,0,0,0,0,0,null,null,null,null,null,null,null,null,null,null,null,null,null,null,null,null,null,null,null,null,null,null,null,null,0,0,{"$f":"ROUND(Y123*Source!I72,7)","v":0},0,0,1,0,0,"","",{"$f":"ROUND(ROUND(AE123,2)*CX123,2)","v":0},0,0,0,0,0,"",0,"",0]
[{"$f":"ROW(Source!A72)","v":72},85316656,85320120,77309038,114,1,1,3,"08.3.04.02","","Сталь стержневая диаметром до 10 мм",1348,null,1009,"т","т",1000,null,null,null,null,null,0,1613753229,0,null,0,0,0,0,0,0,0,0,1,1,1,1,-2,1,0,1,0,0,"",0,"",0,2,85320152,1,0,124,0,0,0,0,0,0,0,0,0,0,0,0,0,0,0,0,0,0,0,0,0,0,null,null,null,null,null,null,null,null,null,null,null,null,null,null,null,null,null,null,null,null,null,null,null,null,0,0,{"$f":"ROUND(Y124*Source!I72,7)","v":0},0,0,1,0,0,"","",{"$f":"ROUND(ROUND(AE124,2)*CX124,2)","v":0},0,0,0,0,0,"",0,"",0]
[{"$f":"ROW(Source!A72)","v":72},85316656,85320120,77397232,1,1,1,3,"14.4.02.04-0182","ФСБЦ-2022, 14.4.02.04-0182, приказ Минстроя России от 18.05.2022 г. № 378/пр","Краска масляная МА-15, цветная",1348,null,1009,"т","т",1000,null,null,null,null,null,0,-460826109,0,null,88222.16,0,0,0,61265.39,0,0,0,1.44,1,1,1,2,0,0,1,1,0,"",0,"",0,2,85320153,1,6144,125,1,0,0,0,0,0,0,0,0,0,0,0,0,0,0,0,0,0,0,0,0,0,null,null,null,null,null,null,null,null,null,null,null,null,null,null,null,null,null,null,null,null,null,null,null,null,0,0,{"$f":"ROUND(Y125*Source!I72,7)","v":0},88222.16,61265.39,1.44,0,0,"","",{"$f":"ROUND(ROUND(AE125*AI125,2)*CX125,2)","v":0},0,0,0,0,0,"",0,"",0]
[{"$f":"ROW(Source!A72)","v":72},85316656,85320120,77397258,1,1,1,3,"14.4.03.03-0102","ФСБЦ-2022 доп.4, 14.4.03.03-0102, приказ Минстроя России от 27.12.2022 г. № 1133/пр","Лак битумный БТ-577",1348,null,1009,"т","т",1000,null,null,null,null,null,0,1215516986,1E-4,null,103227.06,0,0,0,80020.98,0,0,0,1.29,1,1,1,2,0,0,1,1,0,"",1E-4,"",0,2,85320154,1,0,126,1,0,0,0,0,0,0,0,8.0020980000000002,0,0,0,0,0,1,8.0020980000000002,0,0,0,0,0,1,null,null,null,null,null,null,null,null,null,null,null,null,null,null,null,null,null,null,null,null,null,null,null,null,0,0,{"$f":"ROUND(Y126*Source!I72,7)","v":0},103227.06,80020.98,1.29,8,0,"","",{"$f":"ROUND(ROUND(AE126*AI126,2)*CX126,2)","v":0},0,0,0,0,0,"",0,"",0]
[{"$f":"ROW(Source!A72)","v":72},85316656,85320120,77404679,1,1,1,3,"20.2.02.04-0006","ФСБЦ-2022, 20.2.02.04-0006, приказ Минстроя России от 18.05.2022 г. № 378/пр","Колпачки полиэтиленовые К-6",1425,null,1013,"100 ШТ","100 ШТ",1,null,null,null,null,null,0,600080833,0,null,1351.57,0,0,0,1031.73,0,0,0,1.31,1,1,1,2,0,0,1,1,0,"",0,"",0,2,85320155,1,6144,127,1,0,0,0,0,0,0,0,0,0,0,0,0,0,0,0,0,0,0,0,0,0,null,null,null,null,null,null,null,null,null,null,null,null,null,null,null,null,null,null,null,null,null,null,null,null,0,0,{"$f":"ROUND(Y127*Source!I72,7)","v":0},1351.57,1031.73,1.31,0,0,"","",{"$f":"ROUND(ROUND(AE127*AI127,2)*CX127,2)","v":0},0,0,0,0,0,"",0,"",0]
[{"$f":"ROW(Source!A72)","v":72},85316656,85320120,77311321,114,1,1,3,"22.2.01.04","","Изоляторы штыревые",1371,null,1013,"ШТ","ШТ",1,null,null,null,null,null,0,-950997571,0,null,0,0,0,0,0,0,0,0,1,1,1,1,-2,1,0,1,0,0,"",0,"",0,2,85320156,1,0,128,0,0,0,0,0,0,0,0,0,0,0,0,0,0,0,0,0,0,0,0,0,0,null,null,null,null,null,null,null,null,null,null,null,null,null,null,null,null,null,null,null,null,null,null,null,null,0,0,{"$f":"ROUND(Y128*Source!I72,7)","v":0},0,0,1,0,0,"","",{"$f":"ROUND(ROUND(AE128,2)*CX128,2)","v":0},0,0,0,0,0,"",0,"",0]
[{"$f":"ROW(Source!A72)","v":72},85316656,85320120,77311366,114,1,1,3,"22.2.02.21","","Штыри",1371,null,1013,"ШТ","ШТ",1,null,null,null,null,null,0,-320198552,{"$f":"AT129","v":0},null,0,0,0,0,0,0,0,0,1,1,1,1,-2,1,0,1,0,0,"",0,"",0,2,85320157,1,0,129,0,0,0,0,0,0,0,0,0,0,0,0,0,0,0,0,0,0,0,0,0,0,null,null,null,null,null,null,null,null,null,null,null,null,null,null,null,null,null,null,null,null,null,null,null,null,0,0,{"$f":"ROUND(Y129*Source!I72,7)","v":0},0,0,1,{"$f":"ROUND(ROUND(AT129*CZ129,2),2)","v":0},{"$f":"ROUND(ROUND(AT129*AG129,2),2)","v":0},"","",0,0,{"$f":"ROUND(ROUND(AG129,2)*CX129,2)","v":0},{"$f":"ROUND(ROUND(AH129,2)*CX129,2)","v":0},0,0,"",0,"",0]
[{"$f":"ROW(Source!A72)","v":72},85316656,85320120,77311370,114,1,1,3,"22.2.02.23","","Металлические плакаты",1371,null,1013,"ШТ","ШТ",1,null,null,null,null,null,0,326010188,0,null,0,0,0,0,0,0,0,0,1,1,1,1,-2,1,0,1,0,0,"",0,"",0,2,85320158,1,0,130,0,0,0,0,0,0,0,0,0,0,0,0,0,0,0,0,0,0,0,0,0,0,null,null,null,null,null,null,null,null,null,null,null,null,null,null,null,null,null,null,null,null,null,null,null,null,0,0,{"$f":"ROUND(Y130*Source!I72,7)","v":0},0,0,1,0,0,"","",0,0,0,0,0,0,"",0,"",0]
[{"$f":"ROW(Source!A92)","v":92},85316715,85320169,83777501,117,1,1,1,"1-100-33","","Средний разряд работы 3,3",1191,null,1013,"чел.-ч.","чел.-ч.",1,null,null,null,null,null,0,32079103,5.98,null,0,0,0,748.18,0,0,0,748.18,1,1,1,1,-2,0,0,1,1,0,"",5.98,"",1,2,85320189,1,0,131,1,0,0,0,0,0,0,0,0,0,0,4474.1163999999999,5.98,0,1,0,0,0,4474.1163999999999,5.98,0,1,null,null,null,null,null,null,null,null,null,null,null,null,null,null,null,null,null,null,null,null,null,null,null,{"$f":"ROUND(AT131*Source!I92*AH131*AL131,2)","v":0},{"$f":"ROUND(Y131*Source!I92,7)","v":0},0,{"$f":"ROUND(Y131*Source!I92,7)","v":0},{"$f":"AD131","v":748.18},{"$f":"AH131","v":748.18},{"$f":"AL131","v":1},4474.12,0,"","",0,0,0,0,{"$f":"DI131","v":0},1,"",0,"",0]
[{"$f":"ROW(Source!A92)","v":92},85316715,85320169,83777689,117,1,1,1,"4-100-00","","Затраты труда машинистов",1191,null,1013,"чел.-ч.","чел.-ч.",1,null,null,null,null,null,0,-1417349443,2,null,0,0,0,0,0,0,0,0,1,1,1,1,-2,0,0,1,1,0,"",2,"",2,2,85320190,1,0,132,1,0,0,0,0,0,0,0,0,0,0,0,0,0,0,0,0,0,0,0,0,0,null,null,null,null,null,null,null,null,null,null,null,null,null,null,null,null,null,null,null,null,null,null,null,null,0,0,{"$f":"ROUND(Y132*Source!I92,7)","v":0},{"$f":"AD132","v":0},{"$f":"AH132","v":0},{"$f":"AL132","v":1},0,0,"","",0,0,0,0,{"$f":"DI132","v":0},0,"",0,"",0]
[{"$f":"ROW(Source!A92)","v":92},85316715,85320169,83784065,1,1,1,2,"91.04.01-031","ФСЭМ-2022 доп.11, 91.04.01-031, приказ Минстроя России от 07.11.2024 г. № 747/пр","Машины бурильно-крановые на автомобильном ходу, диаметр бурения до 800 мм, глубина бурения до 5 м",1368,null,1011,"маш.-ч","маш.-ч",1,null,null,null,null,null,0,843131152,1.6,null,0,2736.29,932.95,0,0,2088.77,932.95,0,1,1.31,1,1,2,0,0,1,1,0,"",1.6,"",1,2,85320191,1,0,133,1,0,0,0,0,0,0,0,0,3342.0320000000002,1492.7200000000003,0,0,1.6,1,0,3342.0320000000002,1492.7200000000003,0,0,1.6,1,null,null,null,null,null,null,null,null,null,null,null,null,null,null,null,null,null,null,null,null,null,null,null,null,0,{"$f":"ROUND(Y133*Source!I92*DO133,7)","v":0},{"$f":"ROUND(Y133*Source!I92,7)","v":0},{"$f":"AB133","v":2736.29},{"$f":"AF133","v":2088.77},{"$f":"AJ133","v":1.31},3342.03,1492.72,"","",0,{"$f":"ROUND(ROUND(AF133*AJ133,2)*CX133,2)","v":0},0,0,{"$f":"DG133+DH133","v":0},0,"4-100-050",5,"чел.-ч.",1]
[{"$f":"ROW(Source!A92)","v":92},85316715,85320169,83785072,1,1,1,2,"91.14.02-001","ФСЭМ-2022 доп.7, 91.14.02-001, приказ Минстроя России от 02.08.2023 г. № 551/пр","Автомобили бортовые, грузоподъемность до 5 т",1368,null,1011,"маш.-ч","маш.-ч",1,null,null,null,null,null,0,-849950259,0.4,null,0,641.70000000000005,811.79,0,0,641.70000000000005,811.79,0,1,1,1,1,-2,0,0,1,1,0,"",0.4,"",1,2,85320192,1,0,134,1,0,0,0,0,0,0,0,0,256.68,324.71600000000001,0,0,0.4,1,0,256.68,324.71600000000001,0,0,0.4,1,null,null,null,null,null,null,null,null,null,null,null,null,null,null,null,null,null,null,null,null,null,null,null,null,0,{"$f":"ROUND(Y134*Source!I92*DO134,7)","v":0},{"$f":"ROUND(Y134*Source!I92,7)","v":0},{"$f":"AB134","v":641.70000000000005},{"$f":"AF134","v":641.70000000000005},{"$f":"AJ134","v":1},256.68,324.72000000000003,"","",0,{"$f":"ROUND(ROUND(AF134,2)*CX134,2)","v":0},0,0,{"$f":"DG134+DH134","v":0},1,"4-100-040",4,"чел.-ч.",1]
[{"$f":"ROW(Source!A92)","v":92},85316715,85320169,83849794,1,1,1,3,"01.3.01.06-0038","ФСБЦ-2022 доп.17, 01.3.01.06-0038, приказ Минстроя России от 17.02.2026 г. № 91/пр","Смазка защитная электросетевая",1346,null,1009,"кг","кг",1,null,null,null,null,null,0,-897919439,0.1,null,296.69,0,0,0,185.43,0,0,0,1.6,1,1,1,2,0,0,1,1,0,"",0.1,"",0,2,85320193,1,0,135,1,0,0,0,0,0,0,0,18.543000000000003,0,0,0,0,0,1,18.543000000000003,0,0,0,0,0,1,null,null,null,null,null,null,null,null,null,null,null,null,null,null,null,null,null,null,null,null,null,null,null,null,0,0,{"$f":"ROUND(Y135*Source!I92,7)","v":0},{"$f":"AA135","v":296.69},{"$f":"AE135","v":185.43},{"$f":"AI135","v":1.6},18.54,0,"","",{"$f":"ROUND(ROUND(AE135*AI135,2)*CX135,2)","v":0},0,0,0,{"$f":"DF135","v":0},0,"",0,"",0]
[{"$f":"ROW(Source!A92)","v":92},85316715,85320169,83849801,1,1,1,3,"01.3.01.06-0051","ФСБЦ-2022 доп.12, 01.3.01.06-0051, приказ Минстроя России от 07.11.2024 г. № 747/пр","Смазка солидол жировой Ж",1346,null,1009,"кг","кг",1,null,null,null,null,null,0,-1547825166,0.03,null,93.65,0,0,0,58.53,0,0,0,1.6,1,1,1,2,0,0,1,1,0,"",0.03,"",0,2,85320194,1,0,136,1,0,0,0,0,0,0,0,1.7559,0,0,0,0,0,1,1.7559,0,0,0,0,0,1,null,null,null,null,null,null,null,null,null,null,null,null,null,null,null,null,null,null,null,null,null,null,null,null,0,0,{"$f":"ROUND(Y136*Source!I92,7)","v":0},93.65,58.53,1.6,1.76,0,"","",{"$f":"ROUND(ROUND(AE136*AI136,2)*CX136,2)","v":0},0,0,0,0,0,"",0,"",0]
[{"$f":"ROW(Source!A92)","v":92},85316715,85320169,83853338,1,1,1,3,"01.7.15.03-0042","ФСБЦ-2022, 01.7.15.03-0042, приказ Минстроя России от 18.05.2022 г. № 378/пр","Болты с гайками и шайбами строительные",1346,null,1009,"кг","кг",1,null,null,null,null,null,0,-1131385474,0,null,188.92,0,0,0,174.93,0,0,0,1.08,1,1,1,0,1,0,1,0,0,"",0,"",0,2,85320195,1,0,137,0,0,0,0,0,0,0,0,0,0,0,0,0,0,0,0,0,0,0,0,0,0,null,null,null,null,null,null,null,null,null,null,null,null,null,null,null,null,null,null,null,null,null,null,null,null,0,0,{"$f":"ROUND(Y137*Source!I92,7)","v":0},188.92,174.93,1.08,0,0,"","",{"$f":"ROUND(ROUND(AE137*AI137,2)*CX137,2)","v":0},0,0,0,0,0,"",0,"",0]
[{"$f":"ROW(Source!A92)","v":92},85316715,85320169,83854484,1,1,1,3,"01.7.20.08-0051","ФСБЦ-2022 доп.8, 01.7.20.08-0051, приказ Минстроя России от 14.11.2023 г. № 817/пр","Ветошь хлопчатобумажная цветная",1346,null,1009,"кг","кг",1,null,null,null,null,null,0,-373327139,0.02,null,86.41,0,0,0,56.11,0,0,0,1.54,1,1,1,2,0,0,1,1,0,"",0.02,"",0,2,85320196,1,0,138,1,0,0,0,0,0,0,0,1.1222000000000001,0,0,0,0,0,1,1.1222000000000001,0,0,0,0,0,1,null,null,null,null,null,null,null,null,null,null,null,null,null,null,null,null,null,null,null,null,null,null,null,null,0,0,{"$f":"ROUND(Y138*Source!I92,7)","v":0},86.41,56.11,1.54,1.1200000000000001,0,"","",{"$f":"ROUND(ROUND(AE138*AI138,2)*CX138,2)","v":0},0,0,0,0,0,"",0,"",0]
[{"$f":"ROW(Source!A92)","v":92},85316715,85320169,83779061,117,1,1,3,"05.1.02.07","","Стойка железобетонная вибрированная для опор",1371,null,1013,"ШТ","ШТ",1,null,null,null,null,null,0,457934895,0,null,0,0,0,0,0,0,0,0,1,1,1,1,0,1,0,1,0,0,"",0,"",0,2,85320197,1,0,139,0,0,0,0,0,0,0,0,0,0,0,0,0,0,0,0,0,0,0,0,0,0,null,null,null,null,null,null,null,null,null,null,null,null,null,null,null,null,null,null,null,null,null,null,null,null,0,0,{"$f":"ROUND(Y139*Source!I92,7)","v":0},0,0,1,0,0,"","",{"$f":"ROUND(ROUND(AE139,2)*CX139,2)","v":0},0,0,0,0,0,"",0,"",0]
[{"$f":"ROW(Source!A92)","v":92},85316715,85320169,83779738,117,1,1,3,"07.2.02.05","","Траверсы стальные",1348,null,1009,"т","т",1000,null,null,null,null,null,0,1602794472,0,null,0,0,0,0,0,0,0,0,1,1,1,1,0,1,0,1,0,0,"",0,"",0,2,85320198,1,0,140,0,0,0,0,0,0,0,0,0,0,0,0,0,0,0,0,0,0,0,0,0,0,null,null,null,null,null,null,null,null,null,null,null,null,null,null,null,null,null,null,null,null,null,null,null,null,0,0,{"$f":"ROUND(Y140*Source!I92,7)","v":0},0,0,1,0,0,"","",{"$f":"ROUND(ROUND(AE140,2)*CX140,2)","v":0},0,0,0,0,0,"",0,"",0]
[{"$f":"ROW(Source!A92)","v":92},85316715,85320169,83779884,117,1,1,3,"07.2.07.13","","Хомуты стальные",1346,null,1009,"кг","кг",1,null,null,null,null,null,0,-1111733769,0,null,0,0,0,0,0,0,0,0,1,1,1,1,0,1,0,1,0,0,"",0,"",0,2,85320199,1,0,141,0,0,0,0,0,0,0,0,0,0,0,0,0,0,0,0,0,0,0,0,0,0,null,null,null,null,null,null,null,null,null,null,null,null,null,null,null,null,null,null,null,null,null,null,null,null,0,0,{"$f":"ROUND(Y141*Source!I92,7)","v":0},0,0,1,0,0,"","",{"$f":"ROUND(ROUND(AE141,2)*CX141,2)","v":0},0,0,0,0,0,"",0,"",0]
[{"$f":"ROW(Source!A92)","v":92},85316715,85320169,83780219,117,1,1,3,"08.3.04.02","","Сталь стержневая диаметром до 10 мм",1348,null,1009,"т","т",1000,null,null,null,null,null,0,1613753229,0,null,0,0,0,0,0,0,0,0,1,1,1,1,0,1,0,1,0,0,"",0,"",0,2,85320200,1,0,142,0,0,0,0,0,0,0,0,0,0,0,0,0,0,0,0,0,0,0,0,0,0,null,null,null,null,null,null,null,null,null,null,null,null,null,null,null,null,null,null,null,null,null,null,null,null,0,0,{"$f":"ROUND(Y142*Source!I92,7)","v":0},0,0,1,0,0,"","",{"$f":"ROUND(ROUND(AE142,2)*CX142,2)","v":0},0,0,0,0,0,"",0,"",0]
[{"$f":"ROW(Source!A92)","v":92},85316715,85320169,83870522,1,1,1,3,"14.4.02.04-0182","ФСБЦ-2022 доп.17, 14.4.02.04-0182, приказ Минстроя России от 17.02.2026 г. № 91/пр","Краска масляная МА-15, цветная",1346,null,1009,"кг","кг",1,null,null,null,null,null,0,1157836156,0.4,null,88.24,0,0,0,61.28,0,0,0,1.44,1,1,1,2,0,0,1,1,0,"",0.4,"",0,2,85320201,1,0,143,1,0,0,0,0,0,0,0,24.512,0,0,0,0,0,1,24.512,0,0,0,0,0,1,null,null,null,null,null,null,null,null,null,null,null,null,null,null,null,null,null,null,null,null,null,null,null,null,0,0,{"$f":"ROUND(Y143*Source!I92,7)","v":0},88.24,61.28,1.44,24.51,0,"","",{"$f":"ROUND(ROUND(AE143*AI143,2)*CX143,2)","v":0},0,0,0,0,0,"",0,"",0]
[{"$f":"ROW(Source!A92)","v":92},85316715,85320169,83870548,1,1,1,3,"14.4.03.03-0102","ФСБЦ-2022 доп.4, 14.4.03.03-0102, приказ Минстроя России от 27.12.2022 г. № 1133/пр","Лак битумный БТ-577",1348,null,1009,"т","т",1000,null,null,null,null,null,0,-615866360,1E-4,null,103227.06,0,0,0,80020.98,0,0,0,1.29,1,1,1,2,0,0,1,1,0,"",1E-4,"",0,2,85320202,1,0,144,1,0,0,0,0,0,0,0,8.0020980000000002,0,0,0,0,0,1,8.0020980000000002,0,0,0,0,0,1,null,null,null,null,null,null,null,null,null,null,null,null,null,null,null,null,null,null,null,null,null,null,null,null,0,0,{"$f":"ROUND(Y144*Source!I92,7)","v":0},103227.06,80020.98,1.29,8,0,"","",{"$f":"ROUND(ROUND(AE144*AI144,2)*CX144,2)","v":0},0,0,0,0,0,"",0,"",0]
[{"$f":"ROW(Source!A92)","v":92},85316715,85320169,83878170,1,1,1,3,"20.2.02.04-0006","ФСБЦ-2022, 20.2.02.04-0006, приказ Минстроя России от 18.05.2022 г. № 378/пр","Колпачки полиэтиленовые К-6",1425,null,1013,"100 ШТ","100 ШТ",1,null,null,null,null,null,0,-734153582,0.06,null,1351.57,0,0,0,1031.73,0,0,0,1.31,1,1,1,2,0,0,1,1,0,"",0.06,"",0,2,85320203,1,0,145,1,0,0,0,0,0,0,0,61.903799999999997,0,0,0,0,0,1,61.903799999999997,0,0,0,0,0,1,null,null,null,null,null,null,null,null,null,null,null,null,null,null,null,null,null,null,null,null,null,null,null,null,0,0,{"$f":"ROUND(Y145*Source!I92,7)","v":0},1351.57,1031.73,1.31,61.9,0,"","",{"$f":"ROUND(ROUND(AE145*AI145,2)*CX145,2)","v":0},0,0,0,0,0,"",0,"",0]
[{"$f":"ROW(Source!A92)","v":92},85316715,85320169,83782579,117,1,1,3,"22.2.01.04","","Изоляторы штыревые",1371,null,1013,"ШТ","ШТ",1,null,null,null,null,null,0,-950997571,0,null,0,0,0,0,0,0,0,0,1,1,1,1,0,1,0,1,0,0,"",0,"",0,2,85320204,1,0,146,0,0,0,0,0,0,0,0,0,0,0,0,0,0,0,0,0,0,0,0,0,0,null,null,null,null,null,null,null,null,null,null,null,null,null,null,null,null,null,null,null,null,null,null,null,null,0,0,{"$f":"ROUND(Y146*Source!I92,7)","v":0},0,0,1,0,0,"","",{"$f":"ROUND(ROUND(AE146,2)*CX146,2)","v":0},0,0,0,0,0,"",0,"",0]
[{"$f":"ROW(Source!A92)","v":92},85316715,85320169,83782592,117,1,1,3,"22.2.02.07","","Детали крепления",1346,null,1009,"кг","кг",1,null,null,null,null,null,0,-1204247626,0,null,0,0,0,0,0,0,0,0,1,1,1,1,0,1,0,1,0,0,"",0,"",0,2,85320205,1,0,147,0,0,0,0,0,0,0,0,0,0,0,0,0,0,0,0,0,0,0,0,0,0,null,null,null,null,null,null,null,null,null,null,null,null,null,null,null,null,null,null,null,null,null,null,null,null,0,0,{"$f":"ROUND(Y147*Source!I92,7)","v":0},0,0,1,0,0,"","",0,0,0,0,0,0,"",0,"",0]
[{"$f":"ROW(Source!A92)","v":92},85316715,85320169,83782625,117,1,1,3,"22.2.02.21","","Штыри",1371,null,1013,"ШТ","ШТ",1,null,null,null,null,null,0,-320198552,0,null,0,0,0,0,0,0,0,0,1,1,1,1,0,1,0,1,0,0,"",0,"",0,2,85320206,1,0,148,0,0,0,0,0,0,0,0,0,0,0,0,0,0,0,0,0,0,0,0,0,0,null,null,null,null,null,null,null,null,null,null,null,null,null,null,null,null,null,null,null,null,null,null,null,null,0,0,{"$f":"ROUND(Y148*Source!I92,7)","v":0},0,0,1,0,0,"","",0,0,0,0,0,0,"",0,"",0]
[{"$f":"ROW(Source!A92)","v":92},85316715,85320169,83782629,117,1,1,3,"22.2.02.23","","Металлические плакаты",1371,null,1013,"ШТ","ШТ",1,null,null,null,null,null,0,326010188,0,null,0,0,0,0,0,0,0,0,1,1,1,1,0,1,0,1,0,0,"",0,"",0,2,85320207,1,0,149,0,0,0,0,0,0,0,0,0,0,0,0,0,0,0,0,0,0,0,0,0,0,null,null,null,null,null,null,null,null,null,null,null,null,null,null,null,null,null,null,null,null,null,null,null,null,0,0,{"$f":"ROUND(Y149*Source!I92,7)","v":0},0,0,1,0,0,"","",0,0,0,0,0,0,"",0,"",0]
[{"$f":"ROW(Source!A93)","v":93},85316656,85320169,83777501,117,1,1,1,"1-100-33","","Средний разряд работы 3,3",1191,null,1013,"чел.-ч.","чел.-ч.",1,null,null,null,null,null,0,32079103,5.98,null,0,0,0,748.18,0,0,0,748.18,1,1,1,1,-2,0,0,1,1,0,"",5.98,"",1,2,85320189,1,0,150,1,0,0,0,0,0,0,0,0,0,0,4474.1163999999999,5.98,0,1,0,0,0,4474.1163999999999,5.98,0,1,null,null,null,null,null,null,null,null,null,null,null,null,null,null,null,null,null,null,null,null,null,null,null,{"$f":"ROUND(AT150*Source!I93*AH150*AL150,2)","v":0},{"$f":"ROUND(Y150*Source!I93,7)","v":0},0,{"$f":"ROUND(Y150*Source!I93,7)","v":0},{"$f":"AD150","v":748.18},{"$f":"AH150","v":748.18},{"$f":"AL150","v":1},4474.12,0,"","",0,0,0,0,{"$f":"DI150","v":0},1,"",0,"",0]
[{"$f":"ROW(Source!A93)","v":93},85316656,85320169,83777689,117,1,1,1,"4-100-00","","Затраты труда машинистов",1191,null,1013,"чел.-ч.","чел.-ч.",1,null,null,null,null,null,0,-1417349443,2,null,0,0,0,0,0,0,0,0,1,1,1,1,-2,0,0,1,1,0,"",2,"",2,2,85320190,1,0,151,1,0,0,0,0,0,0,0,0,0,0,0,0,0,0,0,0,0,0,0,0,0,null,null,null,null,null,null,null,null,null,null,null,null,null,null,null,null,null,null,null,null,null,null,null,null,0,0,{"$f":"ROUND(Y151*Source!I93,7)","v":0},{"$f":"AD151","v":0},{"$f":"AH151","v":0},{"$f":"AL151","v":1},0,0,"","",0,0,0,0,{"$f":"DI151","v":0},0,"",0,"",0]
[{"$f":"ROW(Source!A93)","v":93},85316656,85320169,83784065,1,1,1,2,"91.04.01-031","ФСЭМ-2022 доп.11, 91.04.01-031, приказ Минстроя России от 07.11.2024 г. № 747/пр","Машины бурильно-крановые на автомобильном ходу, диаметр бурения до 800 мм, глубина бурения до 5 м",1368,null,1011,"маш.-ч","маш.-ч",1,null,null,null,null,null,0,843131152,1.6,null,0,2736.29,932.95,0,0,2088.77,932.95,0,1,1.31,1,1,2,0,0,1,1,0,"",1.6,"",1,2,85320191,1,0,152,1,0,0,0,0,0,0,0,0,3342.0320000000002,1492.7200000000003,0,0,1.6,1,0,3342.0320000000002,1492.7200000000003,0,0,1.6,1,null,null,null,null,null,null,null,null,null,null,null,null,null,null,null,null,null,null,null,null,null,null,null,null,0,{"$f":"ROUND(Y152*Source!I93*DO152,7)","v":0},{"$f":"ROUND(Y152*Source!I93,7)","v":0},{"$f":"AB152","v":2736.29},{"$f":"AF152","v":2088.77},{"$f":"AJ152","v":1.31},3342.03,1492.72,"","",0,{"$f":"ROUND(ROUND(AF152*AJ152,2)*CX152,2)","v":0},0,0,{"$f":"DG152+DH152","v":0},0,"4-100-050",5,"чел.-ч.",1]
[{"$f":"ROW(Source!A93)","v":93},85316656,85320169,83785072,1,1,1,2,"91.14.02-001","ФСЭМ-2022 доп.7, 91.14.02-001, приказ Минстроя России от 02.08.2023 г. № 551/пр","Автомобили бортовые, грузоподъемность до 5 т",1368,null,1011,"маш.-ч","маш.-ч",1,null,null,null,null,null,0,-849950259,0.4,null,0,641.70000000000005,811.79,0,0,641.70000000000005,811.79,0,1,1,1,1,-2,0,0,1,1,0,"",0.4,"",1,2,85320192,1,0,153,1,0,0,0,0,0,0,0,0,256.68,324.71600000000001,0,0,0.4,1,0,256.68,324.71600000000001,0,0,0.4,1,null,null,null,null,null,null,null,null,null,null,null,null,null,null,null,null,null,null,null,null,null,null,null,null,0,{"$f":"ROUND(Y153*Source!I93*DO153,7)","v":0},{"$f":"ROUND(Y153*Source!I93,7)","v":0},{"$f":"AB153","v":641.70000000000005},{"$f":"AF153","v":641.70000000000005},{"$f":"AJ153","v":1},256.68,324.72000000000003,"","",0,{"$f":"ROUND(ROUND(AF153,2)*CX153,2)","v":0},0,0,{"$f":"DG153+DH153","v":0},1,"4-100-040",4,"чел.-ч.",1]
[{"$f":"ROW(Source!A93)","v":93},85316656,85320169,83849794,1,1,1,3,"01.3.01.06-0038","ФСБЦ-2022 доп.17, 01.3.01.06-0038, приказ Минстроя России от 17.02.2026 г. № 91/пр","Смазка защитная электросетевая",1346,null,1009,"кг","кг",1,null,null,null,null,null,0,-897919439,0.1,null,296.69,0,0,0,185.43,0,0,0,1.6,1,1,1,2,0,0,1,1,0,"",0.1,"",0,2,85320193,1,0,154,1,0,0,0,0,0,0,0,18.543000000000003,0,0,0,0,0,1,18.543000000000003,0,0,0,0,0,1,null,null,null,null,null,null,null,null,null,null,null,null,null,null,null,null,null,null,null,null,null,null,null,null,0,0,{"$f":"ROUND(Y154*Source!I93,7)","v":0},{"$f":"AA154","v":296.69},{"$f":"AE154","v":185.43},{"$f":"AI154","v":1.6},18.54,0,"","",{"$f":"ROUND(ROUND(AE154*AI154,2)*CX154,2)","v":0},0,0,0,{"$f":"DF154","v":0},0,"",0,"",0]
[{"$f":"ROW(Source!A93)","v":93},85316656,85320169,83849801,1,1,1,3,"01.3.01.06-0051","ФСБЦ-2022 доп.12, 01.3.01.06-0051, приказ Минстроя России от 07.11.2024 г. № 747/пр","Смазка солидол жировой Ж",1346,null,1009,"кг","кг",1,null,null,null,null,null,0,-1547825166,0.03,null,93.65,0,0,0,58.53,0,0,0,1.6,1,1,1,2,0,0,1,1,0,"",0.03,"",0,2,85320194,1,0,155,1,0,0,0,0,0,0,0,1.7559,0,0,0,0,0,1,1.7559,0,0,0,0,0,1,null,null,null,null,null,null,null,null,null,null,null,null,null,null,null,null,null,null,null,null,null,null,null,null,0,0,{"$f":"ROUND(Y155*Source!I93,7)","v":0},93.65,58.53,1.6,1.76,0,"","",{"$f":"ROUND(ROUND(AE155*AI155,2)*CX155,2)","v":0},0,0,0,0,0,"",0,"",0]
[{"$f":"ROW(Source!A93)","v":93},85316656,85320169,83853338,1,1,1,3,"01.7.15.03-0042","ФСБЦ-2022, 01.7.15.03-0042, приказ Минстроя России от 18.05.2022 г. № 378/пр","Болты с гайками и шайбами строительные",1346,null,1009,"кг","кг",1,null,null,null,null,null,0,-1131385474,0,null,188.92,0,0,0,174.93,0,0,0,1.08,1,1,1,0,1,0,1,0,0,"",0,"",0,2,85320195,1,0,156,0,0,0,0,0,0,0,0,0,0,0,0,0,0,0,0,0,0,0,0,0,0,null,null,null,null,null,null,null,null,null,null,null,null,null,null,null,null,null,null,null,null,null,null,null,null,0,0,{"$f":"ROUND(Y156*Source!I93,7)","v":0},188.92,174.93,1.08,0,0,"","",{"$f":"ROUND(ROUND(AE156*AI156,2)*CX156,2)","v":0},0,0,0,0,0,"",0,"",0]
[{"$f":"ROW(Source!A93)","v":93},85316656,85320169,83854484,1,1,1,3,"01.7.20.08-0051","ФСБЦ-2022 доп.8, 01.7.20.08-0051, приказ Минстроя России от 14.11.2023 г. № 817/пр","Ветошь хлопчатобумажная цветная",1346,null,1009,"кг","кг",1,null,null,null,null,null,0,-373327139,0.02,null,86.41,0,0,0,56.11,0,0,0,1.54,1,1,1,2,0,0,1,1,0,"",0.02,"",0,2,85320196,1,0,157,1,0,0,0,0,0,0,0,1.1222000000000001,0,0,0,0,0,1,1.1222000000000001,0,0,0,0,0,1,null,null,null,null,null,null,null,null,null,null,null,null,null,null,null,null,null,null,null,null,null,null,null,null,0,0,{"$f":"ROUND(Y157*Source!I93,7)","v":0},86.41,56.11,1.54,1.1200000000000001,0,"","",{"$f":"ROUND(ROUND(AE157*AI157,2)*CX157,2)","v":0},0,0,0,0,0,"",0,"",0]
[{"$f":"ROW(Source!A93)","v":93},85316656,85320169,83779061,117,1,1,3,"05.1.02.07","","Стойка железобетонная вибрированная для опор",1371,null,1013,"ШТ","ШТ",1,null,null,null,null,null,0,457934895,0,null,0,0,0,0,0,0,0,0,1,1,1,1,0,1,0,1,0,0,"",0,"",0,2,85320197,1,0,158,0,0,0,0,0,0,0,0,0,0,0,0,0,0,0,0,0,0,0,0,0,0,null,null,null,null,null,null,null,null,null,null,null,null,null,null,null,null,null,null,null,null,null,null,null,null,0,0,{"$f":"ROUND(Y158*Source!I93,7)","v":0},0,0,1,0,0,"","",{"$f":"ROUND(ROUND(AE158,2)*CX158,2)","v":0},0,0,0,0,0,"",0,"",0]
[{"$f":"ROW(Source!A93)","v":93},85316656,85320169,83779738,117,1,1,3,"07.2.02.05","","Траверсы стальные",1348,null,1009,"т","т",1000,null,null,null,null,null,0,1602794472,0,null,0,0,0,0,0,0,0,0,1,1,1,1,0,1,0,1,0,0,"",0,"",0,2,85320198,1,0,159,0,0,0,0,0,0,0,0,0,0,0,0,0,0,0,0,0,0,0,0,0,0,null,null,null,null,null,null,null,null,null,null,null,null,null,null,null,null,null,null,null,null,null,null,null,null,0,0,{"$f":"ROUND(Y159*Source!I93,7)","v":0},0,0,1,0,0,"","",{"$f":"ROUND(ROUND(AE159,2)*CX159,2)","v":0},0,0,0,0,0,"",0,"",0]
[{"$f":"ROW(Source!A93)","v":93},85316656,85320169,83779884,117,1,1,3,"07.2.07.13","","Хомуты стальные",1346,null,1009,"кг","кг",1,null,null,null,null,null,0,-1111733769,0,null,0,0,0,0,0,0,0,0,1,1,1,1,0,1,0,1,0,0,"",0,"",0,2,85320199,1,0,160,0,0,0,0,0,0,0,0,0,0,0,0,0,0,0,0,0,0,0,0,0,0,null,null,null,null,null,null,null,null,null,null,null,null,null,null,null,null,null,null,null,null,null,null,null,null,0,0,{"$f":"ROUND(Y160*Source!I93,7)","v":0},0,0,1,0,0,"","",{"$f":"ROUND(ROUND(AE160,2)*CX160,2)","v":0},0,0,0,0,0,"",0,"",0]
[{"$f":"ROW(Source!A93)","v":93},85316656,85320169,83780219,117,1,1,3,"08.3.04.02","","Сталь стержневая диаметром до 10 мм",1348,null,1009,"т","т",1000,null,null,null,null,null,0,1613753229,0,null,0,0,0,0,0,0,0,0,1,1,1,1,0,1,0,1,0,0,"",0,"",0,2,85320200,1,0,161,0,0,0,0,0,0,0,0,0,0,0,0,0,0,0,0,0,0,0,0,0,0,null,null,null,null,null,null,null,null,null,null,null,null,null,null,null,null,null,null,null,null,null,null,null,null,0,0,{"$f":"ROUND(Y161*Source!I93,7)","v":0},0,0,1,0,0,"","",{"$f":"ROUND(ROUND(AE161,2)*CX161,2)","v":0},0,0,0,0,0,"",0,"",0]
[{"$f":"ROW(Source!A93)","v":93},85316656,85320169,83870522,1,1,1,3,"14.4.02.04-0182","ФСБЦ-2022 доп.17, 14.4.02.04-0182, приказ Минстроя России от 17.02.2026 г. № 91/пр","Краска масляная МА-15, цветная",1346,null,1009,"кг","кг",1,null,null,null,null,null,0,1157836156,0.4,null,88.24,0,0,0,61.28,0,0,0,1.44,1,1,1,2,0,0,1,1,0,"",0.4,"",0,2,85320201,1,0,162,1,0,0,0,0,0,0,0,24.512,0,0,0,0,0,1,24.512,0,0,0,0,0,1,null,null,null,null,null,null,null,null,null,null,null,null,null,null,null,null,null,null,null,null,null,null,null,null,0,0,{"$f":"ROUND(Y162*Source!I93,7)","v":0},88.24,61.28,1.44,24.51,0,"","",{"$f":"ROUND(ROUND(AE162*AI162,2)*CX162,2)","v":0},0,0,0,0,0,"",0,"",0]
[{"$f":"ROW(Source!A93)","v":93},85316656,85320169,83870548,1,1,1,3,"14.4.03.03-0102","ФСБЦ-2022 доп.4, 14.4.03.03-0102, приказ Минстроя России от 27.12.2022 г. № 1133/пр","Лак битумный БТ-577",1348,null,1009,"т","т",1000,null,null,null,null,null,0,-615866360,1E-4,null,103227.06,0,0,0,80020.98,0,0,0,1.29,1,1,1,2,0,0,1,1,0,"",1E-4,"",0,2,85320202,1,0,163,1,0,0,0,0,0,0,0,8.0020980000000002,0,0,0,0,0,1,8.0020980000000002,0,0,0,0,0,1,null,null,null,null,null,null,null,null,null,null,null,null,null,null,null,null,null,null,null,null,null,null,null,null,0,0,{"$f":"ROUND(Y163*Source!I93,7)","v":0},103227.06,80020.98,1.29,8,0,"","",{"$f":"ROUND(ROUND(AE163*AI163,2)*CX163,2)","v":0},0,0,0,0,0,"",0,"",0]
[{"$f":"ROW(Source!A93)","v":93},85316656,85320169,83878170,1,1,1,3,"20.2.02.04-0006","ФСБЦ-2022, 20.2.02.04-0006, приказ Минстроя России от 18.05.2022 г. № 378/пр","Колпачки полиэтиленовые К-6",1425,null,1013,"100 ШТ","100 ШТ",1,null,null,null,null,null,0,-734153582,0.06,null,1351.57,0,0,0,1031.73,0,0,0,1.31,1,1,1,2,0,0,1,1,0,"",0.06,"",0,2,85320203,1,0,164,1,0,0,0,0,0,0,0,61.903799999999997,0,0,0,0,0,1,61.903799999999997,0,0,0,0,0,1,null,null,null,null,null,null,null,null,null,null,null,null,null,null,null,null,null,null,null,null,null,null,null,null,0,0,{"$f":"ROUND(Y164*Source!I93,7)","v":0},1351.57,1031.73,1.31,61.9,0,"","",{"$f":"ROUND(ROUND(AE164*AI164,2)*CX164,2)","v":0},0,0,0,0,0,"",0,"",0]
[{"$f":"ROW(Source!A93)","v":93},85316656,85320169,83782579,117,1,1,3,"22.2.01.04","","Изоляторы штыревые",1371,null,1013,"ШТ","ШТ",1,null,null,null,null,null,0,-950997571,0,null,0,0,0,0,0,0,0,0,1,1,1,1,0,1,0,1,0,0,"",0,"",0,2,85320204,1,0,165,0,0,0,0,0,0,0,0,0,0,0,0,0,0,0,0,0,0,0,0,0,0,null,null,null,null,null,null,null,null,null,null,null,null,null,null,null,null,null,null,null,null,null,null,null,null,0,0,{"$f":"ROUND(Y165*Source!I93,7)","v":0},0,0,1,0,0,"","",{"$f":"ROUND(ROUND(AE165,2)*CX165,2)","v":0},0,0,0,0,0,"",0,"",0]
[{"$f":"ROW(Source!A93)","v":93},85316656,85320169,83782592,117,1,1,3,"22.2.02.07","","Детали крепления",1346,null,1009,"кг","кг",1,null,null,null,null,null,0,-1204247626,0,null,0,0,0,0,0,0,0,0,1,1,1,1,0,1,0,1,0,0,"",0,"",0,2,85320205,1,0,166,0,0,0,0,0,0,0,0,0,0,0,0,0,0,0,0,0,0,0,0,0,0,null,null,null,null,null,null,null,null,null,null,null,null,null,null,null,null,null,null,null,null,null,null,null,null,0,0,{"$f":"ROUND(Y166*Source!I93,7)","v":0},0,0,1,0,0,"","",0,0,0,0,0,0,"",0,"",0]
[{"$f":"ROW(Source!A93)","v":93},85316656,85320169,83782625,117,1,1,3,"22.2.02.21","","Штыри",1371,null,1013,"ШТ","ШТ",1,null,null,null,null,null,0,-320198552,0,null,0,0,0,0,0,0,0,0,1,1,1,1,0,1,0,1,0,0,"",0,"",0,2,85320206,1,0,167,0,0,0,0,0,0,0,0,0,0,0,0,0,0,0,0,0,0,0,0,0,0,null,null,null,null,null,null,null,null,null,null,null,null,null,null,null,null,null,null,null,null,null,null,null,null,0,0,{"$f":"ROUND(Y167*Source!I93,7)","v":0},0,0,1,0,0,"","",0,0,0,0,0,0,"",0,"",0]
[{"$f":"ROW(Source!A93)","v":93},85316656,85320169,83782629,117,1,1,3,"22.2.02.23","","Металлические плакаты",1371,null,1013,"ШТ","ШТ",1,null,null,null,null,null,0,326010188,0,null,0,0,0,0,0,0,0,0,1,1,1,1,0,1,0,1,0,0,"",0,"",0,2,85320207,1,0,168,0,0,0,0,0,0,0,0,0,0,0,0,0,0,0,0,0,0,0,0,0,0,null,null,null,null,null,null,null,null,null,null,null,null,null,null,null,null,null,null,null,null,null,null,null,null,0,0,{"$f":"ROUND(Y168*Source!I93,7)","v":0},0,0,1,0,0,"","",0,0,0,0,0,0,"",0,"",0]
[{"$f":"ROW(Source!A113)","v":113},85316715,85320218,83777501,117,1,1,1,"1-100-33","","Средний разряд работы 3,3",1191,null,1013,"чел.-ч.","чел.-ч.",1,null,null,null,null,null,0,32079103,9,null,0,0,0,748.18,0,0,0,748.18,1,1,1,1,-2,0,0,1,1,0,"",9,"",1,2,85320238,1,0,169,1,0,0,0,0,0,0,0,0,0,0,6733.62,9,0,1,0,0,0,6733.62,9,0,1,null,null,null,null,null,null,null,null,null,null,null,null,null,null,null,null,null,null,null,null,null,null,null,{"$f":"ROUND(AT169*Source!I113*AH169*AL169,2)","v":0},{"$f":"ROUND(Y169*Source!I113,7)","v":0},0,{"$f":"ROUND(Y169*Source!I113,7)","v":0},{"$f":"AD169","v":748.18},{"$f":"AH169","v":748.18},{"$f":"AL169","v":1},6733.62,0,"","",0,0,0,0,{"$f":"DI169","v":0},1,"",0,"",0]
[{"$f":"ROW(Source!A113)","v":113},85316715,85320218,83777689,117,1,1,1,"4-100-00","","Затраты труда машинистов",1191,null,1013,"чел.-ч.","чел.-ч.",1,null,null,null,null,null,0,-1417349443,3.21,null,0,0,0,0,0,0,0,0,1,1,1,1,-2,0,0,1,1,0,"",3.21,"",2,2,85320239,1,0,170,1,0,0,0,0,0,0,0,0,0,0,0,0,0,0,0,0,0,0,0,0,0,null,null,null,null,null,null,null,null,null,null,null,null,null,null,null,null,null,null,null,null,null,null,null,null,0,0,{"$f":"ROUND(Y170*Source!I113,7)","v":0},{"$f":"AD170","v":0},{"$f":"AH170","v":0},{"$f":"AL170","v":1},0,0,"","",0,0,0,0,{"$f":"DI170","v":0},0,"",0,"",0]
[{"$f":"ROW(Source!A113)","v":113},85316715,85320218,83784065,1,1,1,2,"91.04.01-031","ФСЭМ-2022 доп.11, 91.04.01-031, приказ Минстроя России от 07.11.2024 г. № 747/пр","Машины бурильно-крановые на автомобильном ходу, диаметр бурения до 800 мм, глубина бурения до 5 м",1368,null,1011,"маш.-ч","маш.-ч",1,null,null,null,null,null,0,843131152,2.6,null,0,2736.29,932.95,0,0,2088.77,932.95,0,1,1.31,1,1,2,0,0,1,1,0,"",2.6,"",1,2,85320240,1,0,171,1,0,0,0,0,0,0,0,0,5430.8020000000006,2425.67,0,0,2.6,1,0,5430.8020000000006,2425.67,0,0,2.6,1,null,null,null,null,null,null,null,null,null,null,null,null,null,null,null,null,null,null,null,null,null,null,null,null,0,{"$f":"ROUND(Y171*Source!I113*DO171,7)","v":0},{"$f":"ROUND(Y171*Source!I113,7)","v":0},{"$f":"AB171","v":2736.29},{"$f":"AF171","v":2088.77},{"$f":"AJ171","v":1.31},5430.8,2425.67,"","",0,{"$f":"ROUND(ROUND(AF171*AJ171,2)*CX171,2)","v":0},0,0,{"$f":"DG171+DH171","v":0},0,"4-100-050",5,"чел.-ч.",1]
[{"$f":"ROW(Source!A113)","v":113},85316715,85320218,83785072,1,1,1,2,"91.14.02-001","ФСЭМ-2022 доп.7, 91.14.02-001, приказ Минстроя России от 02.08.2023 г. № 551/пр","Автомобили бортовые, грузоподъемность до 5 т",1368,null,1011,"маш.-ч","маш.-ч",1,null,null,null,null,null,0,-849950259,0.61,null,0,641.70000000000005,811.79,0,0,641.70000000000005,811.79,0,1,1,1,1,-2,0,0,1,1,0,"",0.61,"",1,2,85320241,1,0,172,1,0,0,0,0,0,0,0,0,391.43700000000001,495.19189999999998,0,0,0.61,1,0,391.43700000000001,495.19189999999998,0,0,0.61,1,null,null,null,null,null,null,null,null,null,null,null,null,null,null,null,null,null,null,null,null,null,null,null,null,0,{"$f":"ROUND(Y172*Source!I113*DO172,7)","v":0},{"$f":"ROUND(Y172*Source!I113,7)","v":0},{"$f":"AB172","v":641.70000000000005},{"$f":"AF172","v":641.70000000000005},{"$f":"AJ172","v":1},391.44,495.19,"","",0,{"$f":"ROUND(ROUND(AF172,2)*CX172,2)","v":0},0,0,{"$f":"DG172+DH172","v":0},1,"4-100-040",4,"чел.-ч.",1]
[{"$f":"ROW(Source!A113)","v":113},85316715,85320218,83849794,1,1,1,3,"01.3.01.06-0038","ФСБЦ-2022 доп.17, 01.3.01.06-0038, приказ Минстроя России от 17.02.2026 г. № 91/пр","Смазка защитная электросетевая",1346,null,1009,"кг","кг",1,null,null,null,null,null,0,-897919439,0.1,null,296.69,0,0,0,185.43,0,0,0,1.6,1,1,1,2,0,0,1,1,0,"",0.1,"",0,2,85320242,1,0,173,1,0,0,0,0,0,0,0,18.543000000000003,0,0,0,0,0,1,18.543000000000003,0,0,0,0,0,1,null,null,null,null,null,null,null,null,null,null,null,null,null,null,null,null,null,null,null,null,null,null,null,null,0,0,{"$f":"ROUND(Y173*Source!I113,7)","v":0},{"$f":"AA173","v":296.69},{"$f":"AE173","v":185.43},{"$f":"AI173","v":1.6},18.54,0,"","",{"$f":"ROUND(ROUND(AE173*AI173,2)*CX173,2)","v":0},0,0,0,{"$f":"DF173","v":0},0,"",0,"",0]
[{"$f":"ROW(Source!A113)","v":113},85316715,85320218,83849801,1,1,1,3,"01.3.01.06-0051","ФСБЦ-2022 доп.12, 01.3.01.06-0051, приказ Минстроя России от 07.11.2024 г. № 747/пр","Смазка солидол жировой Ж",1346,null,1009,"кг","кг",1,null,null,null,null,null,0,-1547825166,0.03,null,93.65,0,0,0,58.53,0,0,0,1.6,1,1,1,2,0,0,1,1,0,"",0.03,"",0,2,85320243,1,0,174,1,0,0,0,0,0,0,0,1.7559,0,0,0,0,0,1,1.7559,0,0,0,0,0,1,null,null,null,null,null,null,null,null,null,null,null,null,null,null,null,null,null,null,null,null,null,null,null,null,0,0,{"$f":"ROUND(Y174*Source!I113,7)","v":0},93.65,58.53,1.6,1.76,0,"","",{"$f":"ROUND(ROUND(AE174*AI174,2)*CX174,2)","v":0},0,0,0,0,0,"",0,"",0]
[{"$f":"ROW(Source!A113)","v":113},85316715,85320218,83853338,1,1,1,3,"01.7.15.03-0042","ФСБЦ-2022, 01.7.15.03-0042, приказ Минстроя России от 18.05.2022 г. № 378/пр","Болты с гайками и шайбами строительные",1346,null,1009,"кг","кг",1,null,null,null,null,null,0,-1131385474,0,null,188.92,0,0,0,174.93,0,0,0,1.08,1,1,1,0,1,0,1,0,0,"",0,"",0,2,85320244,1,0,175,0,0,0,0,0,0,0,0,0,0,0,0,0,0,0,0,0,0,0,0,0,0,null,null,null,null,null,null,null,null,null,null,null,null,null,null,null,null,null,null,null,null,null,null,null,null,0,0,{"$f":"ROUND(Y175*Source!I113,7)","v":0},188.92,174.93,1.08,0,0,"","",{"$f":"ROUND(ROUND(AE175*AI175,2)*CX175,2)","v":0},0,0,0,0,0,"",0,"",0]
[{"$f":"ROW(Source!A113)","v":113},85316715,85320218,83854484,1,1,1,3,"01.7.20.08-0051","ФСБЦ-2022 доп.8, 01.7.20.08-0051, приказ Минстроя России от 14.11.2023 г. № 817/пр","Ветошь хлопчатобумажная цветная",1346,null,1009,"кг","кг",1,null,null,null,null,null,0,-373327139,0.02,null,86.41,0,0,0,56.11,0,0,0,1.54,1,1,1,2,0,0,1,1,0,"",0.02,"",0,2,85320245,1,0,176,1,0,0,0,0,0,0,0,1.1222000000000001,0,0,0,0,0,1,1.1222000000000001,0,0,0,0,0,1,null,null,null,null,null,null,null,null,null,null,null,null,null,null,null,null,null,null,null,null,null,null,null,null,0,0,{"$f":"ROUND(Y176*Source!I113,7)","v":0},86.41,56.11,1.54,1.1200000000000001,0,"","",{"$f":"ROUND(ROUND(AE176*AI176,2)*CX176,2)","v":0},0,0,0,0,0,"",0,"",0]
[{"$f":"ROW(Source!A113)","v":113},85316715,85320218,83779061,117,1,1,3,"05.1.02.07","","Стойка железобетонная вибрированная для опор",1371,null,1013,"ШТ","ШТ",1,null,null,null,null,null,0,457934895,0,null,0,0,0,0,0,0,0,0,1,1,1,1,0,1,0,1,0,0,"",0,"",0,2,85320246,1,0,177,0,0,0,0,0,0,0,0,0,0,0,0,0,0,0,0,0,0,0,0,0,0,null,null,null,null,null,null,null,null,null,null,null,null,null,null,null,null,null,null,null,null,null,null,null,null,0,0,{"$f":"ROUND(Y177*Source!I113,7)","v":0},0,0,1,0,0,"","",{"$f":"ROUND(ROUND(AE177,2)*CX177,2)","v":0},0,0,0,0,0,"",0,"",0]
[{"$f":"ROW(Source!A113)","v":113},85316715,85320218,83779738,117,1,1,3,"07.2.02.05","","Траверсы стальные",1348,null,1009,"т","т",1000,null,null,null,null,null,0,1602794472,0,null,0,0,0,0,0,0,0,0,1,1,1,1,0,1,0,1,0,0,"",0,"",0,2,85320247,1,0,178,0,0,0,0,0,0,0,0,0,0,0,0,0,0,0,0,0,0,0,0,0,0,null,null,null,null,null,null,null,null,null,null,null,null,null,null,null,null,null,null,null,null,null,null,null,null,0,0,{"$f":"ROUND(Y178*Source!I113,7)","v":0},0,0,1,0,0,"","",{"$f":"ROUND(ROUND(AE178,2)*CX178,2)","v":0},0,0,0,0,0,"",0,"",0]
[{"$f":"ROW(Source!A113)","v":113},85316715,85320218,83779884,117,1,1,3,"07.2.07.13","","Хомуты стальные",1346,null,1009,"кг","кг",1,null,null,null,null,null,0,-1111733769,0,null,0,0,0,0,0,0,0,0,1,1,1,1,0,1,0,1,0,0,"",0,"",0,2,85320248,1,0,179,0,0,0,0,0,0,0,0,0,0,0,0,0,0,0,0,0,0,0,0,0,0,null,null,null,null,null,null,null,null,null,null,null,null,null,null,null,null,null,null,null,null,null,null,null,null,0,0,{"$f":"ROUND(Y179*Source!I113,7)","v":0},0,0,1,0,0,"","",{"$f":"ROUND(ROUND(AE179,2)*CX179,2)","v":0},0,0,0,0,0,"",0,"",0]
[{"$f":"ROW(Source!A113)","v":113},85316715,85320218,83780219,117,1,1,3,"08.3.04.02","","Сталь стержневая диаметром до 10 мм",1348,null,1009,"т","т",1000,null,null,null,null,null,0,1613753229,0,null,0,0,0,0,0,0,0,0,1,1,1,1,0,1,0,1,0,0,"",0,"",0,2,85320249,1,0,180,0,0,0,0,0,0,0,0,0,0,0,0,0,0,0,0,0,0,0,0,0,0,null,null,null,null,null,null,null,null,null,null,null,null,null,null,null,null,null,null,null,null,null,null,null,null,0,0,{"$f":"ROUND(Y180*Source!I113,7)","v":0},0,0,1,0,0,"","",{"$f":"ROUND(ROUND(AE180,2)*CX180,2)","v":0},0,0,0,0,0,"",0,"",0]
[{"$f":"ROW(Source!A113)","v":113},85316715,85320218,83870522,1,1,1,3,"14.4.02.04-0182","ФСБЦ-2022 доп.17, 14.4.02.04-0182, приказ Минстроя России от 17.02.2026 г. № 91/пр","Краска масляная МА-15, цветная",1346,null,1009,"кг","кг",1,null,null,null,null,null,0,1157836156,0.4,null,88.24,0,0,0,61.28,0,0,0,1.44,1,1,1,2,0,0,1,1,0,"",0.4,"",0,2,85320250,1,0,181,1,0,0,0,0,0,0,0,24.512,0,0,0,0,0,1,24.512,0,0,0,0,0,1,null,null,null,null,null,null,null,null,null,null,null,null,null,null,null,null,null,null,null,null,null,null,null,null,0,0,{"$f":"ROUND(Y181*Source!I113,7)","v":0},88.24,61.28,1.44,24.51,0,"","",{"$f":"ROUND(ROUND(AE181*AI181,2)*CX181,2)","v":0},0,0,0,0,0,"",0,"",0]
[{"$f":"ROW(Source!A113)","v":113},85316715,85320218,83870548,1,1,1,3,"14.4.03.03-0102","ФСБЦ-2022 доп.4, 14.4.03.03-0102, приказ Минстроя России от 27.12.2022 г. № 1133/пр","Лак битумный БТ-577",1348,null,1009,"т","т",1000,null,null,null,null,null,0,-615866360,1E-4,null,103227.06,0,0,0,80020.98,0,0,0,1.29,1,1,1,2,0,0,1,1,0,"",1E-4,"",0,2,85320251,1,0,182,1,0,0,0,0,0,0,0,8.0020980000000002,0,0,0,0,0,1,8.0020980000000002,0,0,0,0,0,1,null,null,null,null,null,null,null,null,null,null,null,null,null,null,null,null,null,null,null,null,null,null,null,null,0,0,{"$f":"ROUND(Y182*Source!I113,7)","v":0},103227.06,80020.98,1.29,8,0,"","",{"$f":"ROUND(ROUND(AE182*AI182,2)*CX182,2)","v":0},0,0,0,0,0,"",0,"",0]
[{"$f":"ROW(Source!A113)","v":113},85316715,85320218,83878170,1,1,1,3,"20.2.02.04-0006","ФСБЦ-2022, 20.2.02.04-0006, приказ Минстроя России от 18.05.2022 г. № 378/пр","Колпачки полиэтиленовые К-6",1425,null,1013,"100 ШТ","100 ШТ",1,null,null,null,null,null,0,-734153582,0.06,null,1351.57,0,0,0,1031.73,0,0,0,1.31,1,1,1,2,0,0,1,1,0,"",0.06,"",0,2,85320252,1,0,183,1,0,0,0,0,0,0,0,61.903799999999997,0,0,0,0,0,1,61.903799999999997,0,0,0,0,0,1,null,null,null,null,null,null,null,null,null,null,null,null,null,null,null,null,null,null,null,null,null,null,null,null,0,0,{"$f":"ROUND(Y183*Source!I113,7)","v":0},1351.57,1031.73,1.31,61.9,0,"","",{"$f":"ROUND(ROUND(AE183*AI183,2)*CX183,2)","v":0},0,0,0,0,0,"",0,"",0]
[{"$f":"ROW(Source!A113)","v":113},85316715,85320218,83782579,117,1,1,3,"22.2.01.04","","Изоляторы штыревые",1371,null,1013,"ШТ","ШТ",1,null,null,null,null,null,0,-950997571,0,null,0,0,0,0,0,0,0,0,1,1,1,1,0,1,0,1,0,0,"",0,"",0,2,85320253,1,0,184,0,0,0,0,0,0,0,0,0,0,0,0,0,0,0,0,0,0,0,0,0,0,null,null,null,null,null,null,null,null,null,null,null,null,null,null,null,null,null,null,null,null,null,null,null,null,0,0,{"$f":"ROUND(Y184*Source!I113,7)","v":0},0,0,1,0,0,"","",{"$f":"ROUND(ROUND(AE184,2)*CX184,2)","v":0},0,0,0,0,0,"",0,"",0]
[{"$f":"ROW(Source!A113)","v":113},85316715,85320218,83782592,117,1,1,3,"22.2.02.07","","Детали крепления",1346,null,1009,"кг","кг",1,null,null,null,null,null,0,-1204247626,0,null,0,0,0,0,0,0,0,0,1,1,1,1,0,1,0,1,0,0,"",0,"",0,2,85320254,1,0,185,0,0,0,0,0,0,0,0,0,0,0,0,0,0,0,0,0,0,0,0,0,0,null,null,null,null,null,null,null,null,null,null,null,null,null,null,null,null,null,null,null,null,null,null,null,null,0,0,{"$f":"ROUND(Y185*Source!I113,7)","v":0},0,0,1,0,0,"","",0,0,0,0,0,0,"",0,"",0]
[{"$f":"ROW(Source!A113)","v":113},85316715,85320218,83782625,117,1,1,3,"22.2.02.21","","Штыри",1371,null,1013,"ШТ","ШТ",1,null,null,null,null,null,0,-320198552,0,null,0,0,0,0,0,0,0,0,1,1,1,1,0,1,0,1,0,0,"",0,"",0,2,85320255,1,0,186,0,0,0,0,0,0,0,0,0,0,0,0,0,0,0,0,0,0,0,0,0,0,null,null,null,null,null,null,null,null,null,null,null,null,null,null,null,null,null,null,null,null,null,null,null,null,0,0,{"$f":"ROUND(Y186*Source!I113,7)","v":0},0,0,1,0,0,"","",0,0,0,0,0,0,"",0,"",0]
[{"$f":"ROW(Source!A113)","v":113},85316715,85320218,83782629,117,1,1,3,"22.2.02.23","","Металлические плакаты",1371,null,1013,"ШТ","ШТ",1,null,null,null,null,null,0,326010188,0,null,0,0,0,0,0,0,0,0,1,1,1,1,0,1,0,1,0,0,"",0,"",0,2,85320256,1,0,187,0,0,0,0,0,0,0,0,0,0,0,0,0,0,0,0,0,0,0,0,0,0,null,null,null,null,null,null,null,null,null,null,null,null,null,null,null,null,null,null,null,null,null,null,null,null,0,0,{"$f":"ROUND(Y187*Source!I113,7)","v":0},0,0,1,0,0,"","",0,0,0,0,0,0,"",0,"",0]
[{"$f":"ROW(Source!A114)","v":114},85316656,85320218,83777501,117,1,1,1,"1-100-33","","Средний разряд работы 3,3",1191,null,1013,"чел.-ч.","чел.-ч.",1,null,null,null,null,null,0,32079103,9,null,0,0,0,748.18,0,0,0,748.18,1,1,1,1,-2,0,0,1,1,0,"",9,"",1,2,85320238,1,0,188,1,0,0,0,0,0,0,0,0,0,0,6733.62,9,0,1,0,0,0,6733.62,9,0,1,null,null,null,null,null,null,null,null,null,null,null,null,null,null,null,null,null,null,null,null,null,null,null,{"$f":"ROUND(AT188*Source!I114*AH188*AL188,2)","v":0},{"$f":"ROUND(Y188*Source!I114,7)","v":0},0,{"$f":"ROUND(Y188*Source!I114,7)","v":0},{"$f":"AD188","v":748.18},{"$f":"AH188","v":748.18},{"$f":"AL188","v":1},6733.62,0,"","",0,0,0,0,{"$f":"DI188","v":0},1,"",0,"",0]
[{"$f":"ROW(Source!A114)","v":114},85316656,85320218,83777689,117,1,1,1,"4-100-00","","Затраты труда машинистов",1191,null,1013,"чел.-ч.","чел.-ч.",1,null,null,null,null,null,0,-1417349443,3.21,null,0,0,0,0,0,0,0,0,1,1,1,1,-2,0,0,1,1,0,"",3.21,"",2,2,85320239,1,0,189,1,0,0,0,0,0,0,0,0,0,0,0,0,0,0,0,0,0,0,0,0,0,null,null,null,null,null,null,null,null,null,null,null,null,null,null,null,null,null,null,null,null,null,null,null,null,0,0,{"$f":"ROUND(Y189*Source!I114,7)","v":0},{"$f":"AD189","v":0},{"$f":"AH189","v":0},{"$f":"AL189","v":1},0,0,"","",0,0,0,0,{"$f":"DI189","v":0},0,"",0,"",0]
[{"$f":"ROW(Source!A114)","v":114},85316656,85320218,83784065,1,1,1,2,"91.04.01-031","ФСЭМ-2022 доп.11, 91.04.01-031, приказ Минстроя России от 07.11.2024 г. № 747/пр","Машины бурильно-крановые на автомобильном ходу, диаметр бурения до 800 мм, глубина бурения до 5 м",1368,null,1011,"маш.-ч","маш.-ч",1,null,null,null,null,null,0,843131152,2.6,null,0,2736.29,932.95,0,0,2088.77,932.95,0,1,1.31,1,1,2,0,0,1,1,0,"",2.6,"",1,2,85320240,1,0,190,1,0,0,0,0,0,0,0,0,5430.8020000000006,2425.67,0,0,2.6,1,0,5430.8020000000006,2425.67,0,0,2.6,1,null,null,null,null,null,null,null,null,null,null,null,null,null,null,null,null,null,null,null,null,null,null,null,null,0,{"$f":"ROUND(Y190*Source!I114*DO190,7)","v":0},{"$f":"ROUND(Y190*Source!I114,7)","v":0},{"$f":"AB190","v":2736.29},{"$f":"AF190","v":2088.77},{"$f":"AJ190","v":1.31},5430.8,2425.67,"","",0,{"$f":"ROUND(ROUND(AF190*AJ190,2)*CX190,2)","v":0},0,0,{"$f":"DG190+DH190","v":0},0,"4-100-050",5,"чел.-ч.",1]
[{"$f":"ROW(Source!A114)","v":114},85316656,85320218,83785072,1,1,1,2,"91.14.02-001","ФСЭМ-2022 доп.7, 91.14.02-001, приказ Минстроя России от 02.08.2023 г. № 551/пр","Автомобили бортовые, грузоподъемность до 5 т",1368,null,1011,"маш.-ч","маш.-ч",1,null,null,null,null,null,0,-849950259,0.61,null,0,641.70000000000005,811.79,0,0,641.70000000000005,811.79,0,1,1,1,1,-2,0,0,1,1,0,"",0.61,"",1,2,85320241,1,0,191,1,0,0,0,0,0,0,0,0,391.43700000000001,495.19189999999998,0,0,0.61,1,0,391.43700000000001,495.19189999999998,0,0,0.61,1,null,null,null,null,null,null,null,null,null,null,null,null,null,null,null,null,null,null,null,null,null,null,null,null,0,{"$f":"ROUND(Y191*Source!I114*DO191,7)","v":0},{"$f":"ROUND(Y191*Source!I114,7)","v":0},{"$f":"AB191","v":641.70000000000005},{"$f":"AF191","v":641.70000000000005},{"$f":"AJ191","v":1},391.44,495.19,"","",0,{"$f":"ROUND(ROUND(AF191,2)*CX191,2)","v":0},0,0,{"$f":"DG191+DH191","v":0},1,"4-100-040",4,"чел.-ч.",1]
[{"$f":"ROW(Source!A114)","v":114},85316656,85320218,83849794,1,1,1,3,"01.3.01.06-0038","ФСБЦ-2022 доп.17, 01.3.01.06-0038, приказ Минстроя России от 17.02.2026 г. № 91/пр","Смазка защитная электросетевая",1346,null,1009,"кг","кг",1,null,null,null,null,null,0,-897919439,0.1,null,296.69,0,0,0,185.43,0,0,0,1.6,1,1,1,2,0,0,1,1,0,"",0.1,"",0,2,85320242,1,0,192,1,0,0,0,0,0,0,0,18.543000000000003,0,0,0,0,0,1,18.543000000000003,0,0,0,0,0,1,null,null,null,null,null,null,null,null,null,null,null,null,null,null,null,null,null,null,null,null,null,null,null,null,0,0,{"$f":"ROUND(Y192*Source!I114,7)","v":0},{"$f":"AA192","v":296.69},{"$f":"AE192","v":185.43},{"$f":"AI192","v":1.6},18.54,0,"","",{"$f":"ROUND(ROUND(AE192*AI192,2)*CX192,2)","v":0},0,0,0,{"$f":"DF192","v":0},0,"",0,"",0]
[{"$f":"ROW(Source!A114)","v":114},85316656,85320218,83849801,1,1,1,3,"01.3.01.06-0051","ФСБЦ-2022 доп.12, 01.3.01.06-0051, приказ Минстроя России от 07.11.2024 г. № 747/пр","Смазка солидол жировой Ж",1346,null,1009,"кг","кг",1,null,null,null,null,null,0,-1547825166,{"$f":"AT193","v":0.03},null,93.65,0,0,0,58.53,0,0,0,1.6,1,1,1,2,0,0,1,1,0,"",0.03,"",0,2,85320243,1,0,193,1,0,0,0,0,0,0,0,1.7559,0,0,0,0,0,1,1.7559,0,0,0,0,0,1,null,null,null,null,null,null,null,null,null,null,null,null,null,null,null,null,null,null,null,null,null,null,null,null,0,0,{"$f":"ROUND(Y193*Source!I114,7)","v":0},93.65,58.53,1.6,{"$f":"ROUND(ROUND(AT193*CZ193,2),2)","v":1.76},{"$f":"ROUND(ROUND(AT193*AG193,2),2)","v":0},"","",{"$f":"ROUND(ROUND(AE193*AI193,2)*CX193,2)","v":0},0,{"$f":"ROUND(ROUND(AG193,2)*CX193,2)","v":0},{"$f":"ROUND(ROUND(AH193,2)*CX193,2)","v":0},0,0,"",0,"",0]
[{"$f":"ROW(Source!A114)","v":114},85316656,85320218,83853338,1,1,1,3,"01.7.15.03-0042","ФСБЦ-2022, 01.7.15.03-0042, приказ Минстроя России от 18.05.2022 г. № 378/пр","Болты с гайками и шайбами строительные",1346,null,1009,"кг","кг",1,null,null,null,null,null,0,-1131385474,0,null,188.92,0,0,0,174.93,0,0,0,1.08,1,1,1,0,1,0,1,0,0,"",0,"",0,2,85320244,1,0,194,0,0,0,0,0,0,0,0,0,0,0,0,0,0,0,0,0,0,0,0,0,0,null,null,null,null,null,null,null,null,null,null,null,null,null,null,null,null,null,null,null,null,null,null,null,null,0,0,{"$f":"ROUND(Y194*Source!I114,7)","v":0},188.92,174.93,1.08,0,0,"","",{"$f":"ROUND(ROUND(AE194*AI194,2)*CX194,2)","v":0},0,0,0,0,0,"",0,"",0]
[{"$f":"ROW(Source!A114)","v":114},85316656,85320218,83854484,1,1,1,3,"01.7.20.08-0051","ФСБЦ-2022 доп.8, 01.7.20.08-0051, приказ Минстроя России от 14.11.2023 г. № 817/пр","Ветошь хлопчатобумажная цветная",1346,null,1009,"кг","кг",1,null,null,null,null,null,0,-373327139,0.02,null,86.41,0,0,0,56.11,0,0,0,1.54,1,1,1,2,0,0,1,1,0,"",0.02,"",0,2,85320245,1,0,195,1,0,0,0,0,0,0,0,1.1222000000000001,0,0,0,0,0,1,1.1222000000000001,0,0,0,0,0,1,null,null,null,null,null,null,null,null,null,null,null,null,null,null,null,null,null,null,null,null,null,null,null,null,0,0,{"$f":"ROUND(Y195*Source!I114,7)","v":0},86.41,56.11,1.54,1.1200000000000001,0,"","",{"$f":"ROUND(ROUND(AE195*AI195,2)*CX195,2)","v":0},0,0,0,0,0,"",0,"",0]
[{"$f":"ROW(Source!A114)","v":114},85316656,85320218,83779061,117,1,1,3,"05.1.02.07","","Стойка железобетонная вибрированная для опор",1371,null,1013,"ШТ","ШТ",1,null,null,null,null,null,0,457934895,0,null,0,0,0,0,0,0,0,0,1,1,1,1,0,1,0,1,0,0,"",0,"",0,2,85320246,1,0,196,0,0,0,0,0,0,0,0,0,0,0,0,0,0,0,0,0,0,0,0,0,0,null,null,null,null,null,null,null,null,null,null,null,null,null,null,null,null,null,null,null,null,null,null,null,null,0,0,{"$f":"ROUND(Y196*Source!I114,7)","v":0},0,0,1,0,0,"","",{"$f":"ROUND(ROUND(AE196,2)*CX196,2)","v":0},0,0,0,0,0,"",0,"",0]
[{"$f":"ROW(Source!A114)","v":114},85316656,85320218,83779738,117,1,1,3,"07.2.02.05","","Траверсы стальные",1348,null,1009,"т","т",1000,null,null,null,null,null,0,1602794472,0,null,0,0,0,0,0,0,0,0,1,1,1,1,0,1,0,1,0,0,"",0,"",0,2,85320247,1,0,197,0,0,0,0,0,0,0,0,0,0,0,0,0,0,0,0,0,0,0,0,0,0,null,null,null,null,null,null,null,null,null,null,null,null,null,null,null,null,null,null,null,null,null,null,null,null,0,0,{"$f":"ROUND(Y197*Source!I114,7)","v":0},0,0,1,0,0,"","",{"$f":"ROUND(ROUND(AE197,2)*CX197,2)","v":0},0,0,0,0,0,"",0,"",0]
[{"$f":"ROW(Source!A114)","v":114},85316656,85320218,83779884,117,1,1,3,"07.2.07.13","","Хомуты стальные",1346,null,1009,"кг","кг",1,null,null,null,null,null,0,-1111733769,0,null,0,0,0,0,0,0,0,0,1,1,1,1,0,1,0,1,0,0,"",0,"",0,2,85320248,1,0,198,0,0,0,0,0,0,0,0,0,0,0,0,0,0,0,0,0,0,0,0,0,0,null,null,null,null,null,null,null,null,null,null,null,null,null,null,null,null,null,null,null,null,null,null,null,null,0,0,{"$f":"ROUND(Y198*Source!I114,7)","v":0},0,0,1,0,0,"","",{"$f":"ROUND(ROUND(AE198,2)*CX198,2)","v":0},0,0,0,0,0,"",0,"",0]
[{"$f":"ROW(Source!A114)","v":114},85316656,85320218,83780219,117,1,1,3,"08.3.04.02","","Сталь стержневая диаметром до 10 мм",1348,null,1009,"т","т",1000,null,null,null,null,null,0,1613753229,0,null,0,0,0,0,0,0,0,0,1,1,1,1,0,1,0,1,0,0,"",0,"",0,2,85320249,1,0,199,0,0,0,0,0,0,0,0,0,0,0,0,0,0,0,0,0,0,0,0,0,0,null,null,null,null,null,null,null,null,null,null,null,null,null,null,null,null,null,null,null,null,null,null,null,null,0,0,{"$f":"ROUND(Y199*Source!I114,7)","v":0},0,0,1,0,0,"","",{"$f":"ROUND(ROUND(AE199,2)*CX199,2)","v":0},0,0,0,0,0,"",0,"",0]
[{"$f":"ROW(Source!A114)","v":114},85316656,85320218,83870522,1,1,1,3,"14.4.02.04-0182","ФСБЦ-2022 доп.17, 14.4.02.04-0182, приказ Минстроя России от 17.02.2026 г. № 91/пр","Краска масляная МА-15, цветная",1346,null,1009,"кг","кг",1,null,null,null,null,null,0,1157836156,0.4,null,88.24,0,0,0,61.28,0,0,0,1.44,1,1,1,2,0,0,1,1,0,"",0.4,"",0,2,85320250,1,0,200,1,0,0,0,0,0,0,0,24.512,0,0,0,0,0,1,24.512,0,0,0,0,0,1,null,null,null,null,null,null,null,null,null,null,null,null,null,null,null,null,null,null,null,null,null,null,null,null,0,0,{"$f":"ROUND(Y200*Source!I114,7)","v":0},88.24,61.28,1.44,24.51,0,"","",{"$f":"ROUND(ROUND(AE200*AI200,2)*CX200,2)","v":0},0,0,0,0,0,"",0,"",0]
[{"$f":"ROW(Source!A114)","v":114},85316656,85320218,83870548,1,1,1,3,"14.4.03.03-0102","ФСБЦ-2022 доп.4, 14.4.03.03-0102, приказ Минстроя России от 27.12.2022 г. № 1133/пр","Лак битумный БТ-577",1348,null,1009,"т","т",1000,null,null,null,null,null,0,-615866360,1E-4,null,103227.06,0,0,0,80020.98,0,0,0,1.29,1,1,1,2,0,0,1,1,0,"",1E-4,"",0,2,85320251,1,0,201,1,0,0,0,0,0,0,0,8.0020980000000002,0,0,0,0,0,1,8.0020980000000002,0,0,0,0,0,1,null,null,null,null,null,null,null,null,null,null,null,null,null,null,null,null,null,null,null,null,null,null,null,null,0,0,{"$f":"ROUND(Y201*Source!I114,7)","v":0},103227.06,80020.98,1.29,8,0,"","",{"$f":"ROUND(ROUND(AE201*AI201,2)*CX201,2)","v":0},0,0,0,0,0,"",0,"",0]
[{"$f":"ROW(Source!A114)","v":114},85316656,85320218,83878170,1,1,1,3,"20.2.02.04-0006","ФСБЦ-2022, 20.2.02.04-0006, приказ Минстроя России от 18.05.2022 г. № 378/пр","Колпачки полиэтиленовые К-6",1425,null,1013,"100 ШТ","100 ШТ",1,null,null,null,null,null,0,-734153582,0.06,null,1351.57,0,0,0,1031.73,0,0,0,1.31,1,1,1,2,0,0,1,1,0,"",0.06,"",0,2,85320252,1,0,202,1,0,0,0,0,0,0,0,61.903799999999997,0,0,0,0,0,1,61.903799999999997,0,0,0,0,0,1,null,null,null,null,null,null,null,null,null,null,null,null,null,null,null,null,null,null,null,null,null,null,null,null,0,0,{"$f":"ROUND(Y202*Source!I114,7)","v":0},1351.57,1031.73,1.31,61.9,0,"","",{"$f":"ROUND(ROUND(AE202*AI202,2)*CX202,2)","v":0},0,0,0,0,0,"",0,"",0]
[{"$f":"ROW(Source!A114)","v":114},85316656,85320218,83782579,117,1,1,3,"22.2.01.04","","Изоляторы штыревые",1371,null,1013,"ШТ","ШТ",1,null,null,null,null,null,0,-950997571,0,null,0,0,0,0,0,0,0,0,1,1,1,1,0,1,0,1,0,0,"",0,"",0,2,85320253,1,0,203,0,0,0,0,0,0,0,0,0,0,0,0,0,0,0,0,0,0,0,0,0,0,null,null,null,null,null,null,null,null,null,null,null,null,null,null,null,null,null,null,null,null,null,null,null,null,0,0,{"$f":"ROUND(Y203*Source!I114,7)","v":0},0,0,1,0,0,"","",{"$f":"ROUND(ROUND(AE203,2)*CX203,2)","v":0},0,0,0,0,0,"",0,"",0]
[{"$f":"ROW(Source!A114)","v":114},85316656,85320218,83782592,117,1,1,3,"22.2.02.07","","Детали крепления",1346,null,1009,"кг","кг",1,null,null,null,null,null,0,-1204247626,0,null,0,0,0,0,0,0,0,0,1,1,1,1,0,1,0,1,0,0,"",0,"",0,2,85320254,1,0,204,0,0,0,0,0,0,0,0,0,0,0,0,0,0,0,0,0,0,0,0,0,0,null,null,null,null,null,null,null,null,null,null,null,null,null,null,null,null,null,null,null,null,null,null,null,null,0,0,{"$f":"ROUND(Y204*Source!I114,7)","v":0},0,0,1,0,0,"","",0,0,0,0,0,0,"",0,"",0]
[{"$f":"ROW(Source!A114)","v":114},85316656,85320218,83782625,117,1,1,3,"22.2.02.21","","Штыри",1371,null,1013,"ШТ","ШТ",1,null,null,null,null,null,0,-320198552,0,null,0,0,0,0,0,0,0,0,1,1,1,1,0,1,0,1,0,0,"",0,"",0,2,85320255,1,0,205,0,0,0,0,0,0,0,0,0,0,0,0,0,0,0,0,0,0,0,0,0,0,null,null,null,null,null,null,null,null,null,null,null,null,null,null,null,null,null,null,null,null,null,null,null,null,0,0,{"$f":"ROUND(Y205*Source!I114,7)","v":0},0,0,1,0,0,"","",0,0,0,0,0,0,"",0,"",0]
[{"$f":"ROW(Source!A114)","v":114},85316656,85320218,83782629,117,1,1,3,"22.2.02.23","","Металлические плакаты",1371,null,1013,"ШТ","ШТ",1,null,null,null,null,null,0,326010188,0,null,0,0,0,0,0,0,0,0,1,1,1,1,0,1,0,1,0,0,"",0,"",0,2,85320256,1,0,206,0,0,0,0,0,0,0,0,0,0,0,0,0,0,0,0,0,0,0,0,0,0,null,null,null,null,null,null,null,null,null,null,null,null,null,null,null,null,null,null,null,null,null,null,null,null,0,0,{"$f":"ROUND(Y206*Source!I114,7)","v":0},0,0,1,0,0,"","",0,0,0,0,0,0,"",0,"",0]
[{"$f":"ROW(Source!A134)","v":134},85316715,85320267,83777501,117,1,1,1,"1-100-33","","Средний разряд работы 3,3",1191,null,1013,"чел.-ч.","чел.-ч.",1,null,null,null,null,null,0,32079103,4.55,null,0,0,0,748.18,0,0,0,748.18,1,1,1,1,-2,0,0,1,1,0,"",4.55,"",1,2,85320286,1,0,207,1,0,0,0,0,0,0,0,0,0,0,3404.2189999999996,4.55,0,1,0,0,0,3404.2189999999996,4.55,0,1,null,null,null,null,null,null,null,null,null,null,null,null,null,null,null,null,null,null,null,null,null,null,null,{"$f":"ROUND(AT207*Source!I134*AH207*AL207,2)","v":0},{"$f":"ROUND(Y207*Source!I134,7)","v":0},0,{"$f":"ROUND(Y207*Source!I134,7)","v":0},{"$f":"AD207","v":748.18},{"$f":"AH207","v":748.18},{"$f":"AL207","v":1},3404.22,0,"","",0,0,0,0,{"$f":"DI207","v":0},1,"",0,"",0]
[{"$f":"ROW(Source!A134)","v":134},85316715,85320267,83777689,117,1,1,1,"4-100-00","","Затраты труда машинистов",1191,null,1013,"чел.-ч.","чел.-ч.",1,null,null,null,null,null,0,-1417349443,0.99,null,0,0,0,0,0,0,0,0,1,1,1,1,-2,0,0,1,1,0,"",0.99,"",2,2,85320287,1,0,208,1,0,0,0,0,0,0,0,0,0,0,0,0,0,0,0,0,0,0,0,0,0,null,null,null,null,null,null,null,null,null,null,null,null,null,null,null,null,null,null,null,null,null,null,null,null,0,0,{"$f":"ROUND(Y208*Source!I134,7)","v":0},{"$f":"AD208","v":0},{"$f":"AH208","v":0},{"$f":"AL208","v":1},0,0,"","",0,0,0,0,{"$f":"DI208","v":0},0,"",0,"",0]
[{"$f":"ROW(Source!A134)","v":134},85316715,85320267,83784065,1,1,1,2,"91.04.01-031","ФСЭМ-2022 доп.11, 91.04.01-031, приказ Минстроя России от 07.11.2024 г. № 747/пр","Машины бурильно-крановые на автомобильном ходу, диаметр бурения до 800 мм, глубина бурения до 5 м",1368,null,1011,"маш.-ч","маш.-ч",1,null,null,null,null,null,0,843131152,0.71,null,0,2736.29,932.95,0,0,2088.77,932.95,0,1,1.31,1,1,2,0,0,1,1,0,"",0.71,"",1,2,85320288,1,0,209,1,0,0,0,0,0,0,0,0,1483.0266999999999,662.39449999999999,0,0,0.71,1,0,1483.0266999999999,662.39449999999999,0,0,0.71,1,null,null,null,null,null,null,null,null,null,null,null,null,null,null,null,null,null,null,null,null,null,null,null,null,0,{"$f":"ROUND(Y209*Source!I134*DO209,7)","v":0},{"$f":"ROUND(Y209*Source!I134,7)","v":0},{"$f":"AB209","v":2736.29},{"$f":"AF209","v":2088.77},{"$f":"AJ209","v":1.31},1483.03,662.39,"","",0,{"$f":"ROUND(ROUND(AF209*AJ209,2)*CX209,2)","v":0},0,0,{"$f":"DG209+DH209","v":0},0,"4-100-050",5,"чел.-ч.",1]
[{"$f":"ROW(Source!A134)","v":134},85316715,85320267,83785072,1,1,1,2,"91.14.02-001","ФСЭМ-2022 доп.7, 91.14.02-001, приказ Минстроя России от 02.08.2023 г. № 551/пр","Автомобили бортовые, грузоподъемность до 5 т",1368,null,1011,"маш.-ч","маш.-ч",1,null,null,null,null,null,0,-849950259,0.28000000000000003,null,0,641.70000000000005,811.79,0,0,641.70000000000005,811.79,0,1,1,1,1,-2,0,0,1,1,0,"",0.28000000000000003,"",1,2,85320289,1,0,210,1,0,0,0,0,0,0,0,0,179.67600000000002,227.30120000000002,0,0,0.28000000000000003,1,0,179.67600000000002,227.30120000000002,0,0,0.28000000000000003,1,null,null,null,null,null,null,null,null,null,null,null,null,null,null,null,null,null,null,null,null,null,null,null,null,0,{"$f":"ROUND(Y210*Source!I134*DO210,7)","v":0},{"$f":"ROUND(Y210*Source!I134,7)","v":0},{"$f":"AB210","v":641.70000000000005},{"$f":"AF210","v":641.70000000000005},{"$f":"AJ210","v":1},179.68,227.3,"","",0,{"$f":"ROUND(ROUND(AF210,2)*CX210,2)","v":0},0,0,{"$f":"DG210+DH210","v":0},1,"4-100-040",4,"чел.-ч.",1]
[{"$f":"ROW(Source!A134)","v":134},85316715,85320267,83849794,1,1,1,3,"01.3.01.06-0038","ФСБЦ-2022 доп.17, 01.3.01.06-0038, приказ Минстроя России от 17.02.2026 г. № 91/пр","Смазка защитная электросетевая",1346,null,1009,"кг","кг",1,null,null,null,null,null,0,-897919439,0.1,null,296.69,0,0,0,185.43,0,0,0,1.6,1,1,1,2,0,0,1,1,0,"",0.1,"",0,2,85320290,1,0,211,1,0,0,0,0,0,0,0,18.543000000000003,0,0,0,0,0,1,18.543000000000003,0,0,0,0,0,1,null,null,null,null,null,null,null,null,null,null,null,null,null,null,null,null,null,null,null,null,null,null,null,null,0,0,{"$f":"ROUND(Y211*Source!I134,7)","v":0},{"$f":"AA211","v":296.69},{"$f":"AE211","v":185.43},{"$f":"AI211","v":1.6},18.54,0,"","",{"$f":"ROUND(ROUND(AE211*AI211,2)*CX211,2)","v":0},0,0,0,{"$f":"DF211","v":0},0,"",0,"",0]
[{"$f":"ROW(Source!A134)","v":134},85316715,85320267,83849801,1,1,1,3,"01.3.01.06-0051","ФСБЦ-2022 доп.12, 01.3.01.06-0051, приказ Минстроя России от 07.11.2024 г. № 747/пр","Смазка солидол жировой Ж",1346,null,1009,"кг","кг",1,null,null,null,null,null,0,-1547825166,0.03,null,93.65,0,0,0,58.53,0,0,0,1.6,1,1,1,2,0,0,1,1,0,"",0.03,"",0,2,85320291,1,0,212,1,0,0,0,0,0,0,0,1.7559,0,0,0,0,0,1,1.7559,0,0,0,0,0,1,null,null,null,null,null,null,null,null,null,null,null,null,null,null,null,null,null,null,null,null,null,null,null,null,0,0,{"$f":"ROUND(Y212*Source!I134,7)","v":0},93.65,58.53,1.6,1.76,0,"","",{"$f":"ROUND(ROUND(AE212*AI212,2)*CX212,2)","v":0},0,0,0,0,0,"",0,"",0]
[{"$f":"ROW(Source!A134)","v":134},85316715,85320267,83853338,1,1,1,3,"01.7.15.03-0042","ФСБЦ-2022, 01.7.15.03-0042, приказ Минстроя России от 18.05.2022 г. № 378/пр","Болты с гайками и шайбами строительные",1346,null,1009,"кг","кг",1,null,null,null,null,null,0,-1131385474,0,null,188.92,0,0,0,174.93,0,0,0,1.08,1,1,1,0,1,0,1,0,0,"",0,"",0,2,85320292,1,0,213,0,0,0,0,0,0,0,0,0,0,0,0,0,0,0,0,0,0,0,0,0,0,null,null,null,null,null,null,null,null,null,null,null,null,null,null,null,null,null,null,null,null,null,null,null,null,0,0,{"$f":"ROUND(Y213*Source!I134,7)","v":0},188.92,174.93,1.08,0,0,"","",{"$f":"ROUND(ROUND(AE213*AI213,2)*CX213,2)","v":0},0,0,0,0,0,"",0,"",0]
[{"$f":"ROW(Source!A134)","v":134},85316715,85320267,83854484,1,1,1,3,"01.7.20.08-0051","ФСБЦ-2022 доп.8, 01.7.20.08-0051, приказ Минстроя России от 14.11.2023 г. № 817/пр","Ветошь хлопчатобумажная цветная",1346,null,1009,"кг","кг",1,null,null,null,null,null,0,-373327139,0.02,null,86.41,0,0,0,56.11,0,0,0,1.54,1,1,1,2,0,0,1,1,0,"",0.02,"",0,2,85320293,1,0,214,1,0,0,0,0,0,0,0,1.1222000000000001,0,0,0,0,0,1,1.1222000000000001,0,0,0,0,0,1,null,null,null,null,null,null,null,null,null,null,null,null,null,null,null,null,null,null,null,null,null,null,null,null,0,0,{"$f":"ROUND(Y214*Source!I134,7)","v":0},86.41,56.11,1.54,1.1200000000000001,0,"","",{"$f":"ROUND(ROUND(AE214*AI214,2)*CX214,2)","v":0},0,0,0,0,0,"",0,"",0]
[{"$f":"ROW(Source!A134)","v":134},85316715,85320267,83779061,117,1,1,3,"05.1.02.07","","Стойка железобетонная вибрированная для опор",1371,null,1013,"ШТ","ШТ",1,null,null,null,null,null,0,457934895,0,null,0,0,0,0,0,0,0,0,1,1,1,1,0,1,0,1,0,0,"",0,"",0,2,85320294,1,0,215,0,0,0,0,0,0,0,0,0,0,0,0,0,0,0,0,0,0,0,0,0,0,null,null,null,null,null,null,null,null,null,null,null,null,null,null,null,null,null,null,null,null,null,null,null,null,0,0,{"$f":"ROUND(Y215*Source!I134,7)","v":0},0,0,1,0,0,"","",{"$f":"ROUND(ROUND(AE215,2)*CX215,2)","v":0},0,0,0,0,0,"",0,"",0]
[{"$f":"ROW(Source!A134)","v":134},85316715,85320267,83779738,117,1,1,3,"07.2.02.05","","Траверсы стальные",1348,null,1009,"т","т",1000,null,null,null,null,null,0,1602794472,0,null,0,0,0,0,0,0,0,0,1,1,1,1,0,1,0,1,0,0,"",0,"",0,2,85320295,1,0,216,0,0,0,0,0,0,0,0,0,0,0,0,0,0,0,0,0,0,0,0,0,0,null,null,null,null,null,null,null,null,null,null,null,null,null,null,null,null,null,null,null,null,null,null,null,null,0,0,{"$f":"ROUND(Y216*Source!I134,7)","v":0},0,0,1,0,0,"","",{"$f":"ROUND(ROUND(AE216,2)*CX216,2)","v":0},0,0,0,0,0,"",0,"",0]
[{"$f":"ROW(Source!A134)","v":134},85316715,85320267,83779884,117,1,1,3,"07.2.07.13","","Хомуты стальные",1346,null,1009,"кг","кг",1,null,null,null,null,null,0,-1111733769,0,null,0,0,0,0,0,0,0,0,1,1,1,1,0,1,0,1,0,0,"",0,"",0,2,85320296,1,0,217,0,0,0,0,0,0,0,0,0,0,0,0,0,0,0,0,0,0,0,0,0,0,null,null,null,null,null,null,null,null,null,null,null,null,null,null,null,null,null,null,null,null,null,null,null,null,0,0,{"$f":"ROUND(Y217*Source!I134,7)","v":0},0,0,1,0,0,"","",{"$f":"ROUND(ROUND(AE217,2)*CX217,2)","v":0},0,0,0,0,0,"",0,"",0]
[{"$f":"ROW(Source!A134)","v":134},85316715,85320267,83780219,117,1,1,3,"08.3.04.02","","Сталь стержневая диаметром до 10 мм",1348,null,1009,"т","т",1000,null,null,null,null,null,0,1613753229,0,null,0,0,0,0,0,0,0,0,1,1,1,1,0,1,0,1,0,0,"",0,"",0,2,85320297,1,0,218,0,0,0,0,0,0,0,0,0,0,0,0,0,0,0,0,0,0,0,0,0,0,null,null,null,null,null,null,null,null,null,null,null,null,null,null,null,null,null,null,null,null,null,null,null,null,0,0,{"$f":"ROUND(Y218*Source!I134,7)","v":0},0,0,1,0,0,"","",{"$f":"ROUND(ROUND(AE218,2)*CX218,2)","v":0},0,0,0,0,0,"",0,"",0]
[{"$f":"ROW(Source!A134)","v":134},85316715,85320267,83870522,1,1,1,3,"14.4.02.04-0182","ФСБЦ-2022 доп.17, 14.4.02.04-0182, приказ Минстроя России от 17.02.2026 г. № 91/пр","Краска масляная МА-15, цветная",1346,null,1009,"кг","кг",1,null,null,null,null,null,0,1157836156,0,null,88.24,0,0,0,61.28,0,0,0,1.44,1,1,1,2,0,0,1,1,0,"",0,"",0,2,85320298,1,6144,219,1,0,0,0,0,0,0,0,0,0,0,0,0,0,0,0,0,0,0,0,0,0,null,null,null,null,null,null,null,null,null,null,null,null,null,null,null,null,null,null,null,null,null,null,null,null,0,0,{"$f":"ROUND(Y219*Source!I134,7)","v":0},88.24,61.28,1.44,0,0,"","",{"$f":"ROUND(ROUND(AE219*AI219,2)*CX219,2)","v":0},0,0,0,0,0,"",0,"",0]
[{"$f":"ROW(Source!A134)","v":134},85316715,85320267,83870548,1,1,1,3,"14.4.03.03-0102","ФСБЦ-2022 доп.4, 14.4.03.03-0102, приказ Минстроя России от 27.12.2022 г. № 1133/пр","Лак битумный БТ-577",1348,null,1009,"т","т",1000,null,null,null,null,null,0,-615866360,1E-4,null,103227.06,0,0,0,80020.98,0,0,0,1.29,1,1,1,2,0,0,1,1,0,"",1E-4,"",0,2,85320299,1,0,220,1,0,0,0,0,0,0,0,8.0020980000000002,0,0,0,0,0,1,8.0020980000000002,0,0,0,0,0,1,null,null,null,null,null,null,null,null,null,null,null,null,null,null,null,null,null,null,null,null,null,null,null,null,0,0,{"$f":"ROUND(Y220*Source!I134,7)","v":0},103227.06,80020.98,1.29,8,0,"","",{"$f":"ROUND(ROUND(AE220*AI220,2)*CX220,2)","v":0},0,0,0,0,0,"",0,"",0]
[{"$f":"ROW(Source!A134)","v":134},85316715,85320267,83878170,1,1,1,3,"20.2.02.04-0006","ФСБЦ-2022, 20.2.02.04-0006, приказ Минстроя России от 18.05.2022 г. № 378/пр","Колпачки полиэтиленовые К-6",1425,null,1013,"100 ШТ","100 ШТ",1,null,null,null,null,null,0,-734153582,0,null,1351.57,0,0,0,1031.73,0,0,0,1.31,1,1,1,2,0,0,1,1,0,"",0,"",0,2,85320300,1,6144,221,1,0,0,0,0,0,0,0,0,0,0,0,0,0,0,0,0,0,0,0,0,0,null,null,null,null,null,null,null,null,null,null,null,null,null,null,null,null,null,null,null,null,null,null,null,null,0,0,{"$f":"ROUND(Y221*Source!I134,7)","v":0},1351.57,1031.73,1.31,0,0,"","",{"$f":"ROUND(ROUND(AE221*AI221,2)*CX221,2)","v":0},0,0,0,0,0,"",0,"",0]
[{"$f":"ROW(Source!A134)","v":134},85316715,85320267,83782579,117,1,1,3,"22.2.01.04","","Изоляторы штыревые",1371,null,1013,"ШТ","ШТ",1,null,null,null,null,null,0,-950997571,0,null,0,0,0,0,0,0,0,0,1,1,1,1,0,1,0,1,0,0,"",0,"",0,2,85320301,1,0,222,0,0,0,0,0,0,0,0,0,0,0,0,0,0,0,0,0,0,0,0,0,0,null,null,null,null,null,null,null,null,null,null,null,null,null,null,null,null,null,null,null,null,null,null,null,null,0,0,{"$f":"ROUND(Y222*Source!I134,7)","v":0},0,0,1,0,0,"","",{"$f":"ROUND(ROUND(AE222,2)*CX222,2)","v":0},0,0,0,0,0,"",0,"",0]
[{"$f":"ROW(Source!A134)","v":134},85316715,85320267,83782625,117,1,1,3,"22.2.02.21","","Штыри",1371,null,1013,"ШТ","ШТ",1,null,null,null,null,null,0,-320198552,0,null,0,0,0,0,0,0,0,0,1,1,1,1,0,1,0,1,0,0,"",0,"",0,2,85320302,1,0,223,0,0,0,0,0,0,0,0,0,0,0,0,0,0,0,0,0,0,0,0,0,0,null,null,null,null,null,null,null,null,null,null,null,null,null,null,null,null,null,null,null,null,null,null,null,null,0,0,{"$f":"ROUND(Y223*Source!I134,7)","v":0},0,0,1,0,0,"","",0,0,0,0,0,0,"",0,"",0]
[{"$f":"ROW(Source!A134)","v":134},85316715,85320267,83782629,117,1,1,3,"22.2.02.23","","Металлические плакаты",1371,null,1013,"ШТ","ШТ",1,null,null,null,null,null,0,326010188,0,null,0,0,0,0,0,0,0,0,1,1,1,1,0,1,0,1,0,0,"",0,"",0,2,85320303,1,0,224,0,0,0,0,0,0,0,0,0,0,0,0,0,0,0,0,0,0,0,0,0,0,null,null,null,null,null,null,null,null,null,null,null,null,null,null,null,null,null,null,null,null,null,null,null,null,0,0,{"$f":"ROUND(Y224*Source!I134,7)","v":0},0,0,1,0,0,"","",0,0,0,0,0,0,"",0,"",0]
[{"$f":"ROW(Source!A135)","v":135},85316656,85320267,83777501,117,1,1,1,"1-100-33","","Средний разряд работы 3,3",1191,null,1013,"чел.-ч.","чел.-ч.",1,null,null,null,null,null,0,32079103,4.55,null,0,0,0,748.18,0,0,0,748.18,1,1,1,1,-2,0,0,1,1,0,"",4.55,"",1,2,85320286,1,0,225,1,0,0,0,0,0,0,0,0,0,0,3404.2189999999996,4.55,0,1,0,0,0,3404.2189999999996,4.55,0,1,null,null,null,null,null,null,null,null,null,null,null,null,null,null,null,null,null,null,null,null,null,null,null,{"$f":"ROUND(AT225*Source!I135*AH225*AL225,2)","v":0},{"$f":"ROUND(Y225*Source!I135,7)","v":0},0,{"$f":"ROUND(Y225*Source!I135,7)","v":0},{"$f":"AD225","v":748.18},{"$f":"AH225","v":748.18},{"$f":"AL225","v":1},3404.22,0,"","",0,0,0,0,{"$f":"DI225","v":0},1,"",0,"",0]
[{"$f":"ROW(Source!A135)","v":135},85316656,85320267,83777689,117,1,1,1,"4-100-00","","Затраты труда машинистов",1191,null,1013,"чел.-ч.","чел.-ч.",1,null,null,null,null,null,0,-1417349443,0.99,null,0,0,0,0,0,0,0,0,1,1,1,1,-2,0,0,1,1,0,"",0.99,"",2,2,85320287,1,0,226,1,0,0,0,0,0,0,0,0,0,0,0,0,0,0,0,0,0,0,0,0,0,null,null,null,null,null,null,null,null,null,null,null,null,null,null,null,null,null,null,null,null,null,null,null,null,0,0,{"$f":"ROUND(Y226*Source!I135,7)","v":0},{"$f":"AD226","v":0},{"$f":"AH226","v":0},{"$f":"AL226","v":1},0,0,"","",0,0,0,0,{"$f":"DI226","v":0},0,"",0,"",0]
[{"$f":"ROW(Source!A135)","v":135},85316656,85320267,83784065,1,1,1,2,"91.04.01-031","ФСЭМ-2022 доп.11, 91.04.01-031, приказ Минстроя России от 07.11.2024 г. № 747/пр","Машины бурильно-крановые на автомобильном ходу, диаметр бурения до 800 мм, глубина бурения до 5 м",1368,null,1011,"маш.-ч","маш.-ч",1,null,null,null,null,null,0,843131152,0.71,null,0,2736.29,932.95,0,0,2088.77,932.95,0,1,1.31,1,1,2,0,0,1,1,0,"",0.71,"",1,2,85320288,1,0,227,1,0,0,0,0,0,0,0,0,1483.0266999999999,662.39449999999999,0,0,0.71,1,0,1483.0266999999999,662.39449999999999,0,0,0.71,1,null,null,null,null,null,null,null,null,null,null,null,null,null,null,null,null,null,null,null,null,null,null,null,null,0,{"$f":"ROUND(Y227*Source!I135*DO227,7)","v":0},{"$f":"ROUND(Y227*Source!I135,7)","v":0},{"$f":"AB227","v":2736.29},{"$f":"AF227","v":2088.77},{"$f":"AJ227","v":1.31},1483.03,662.39,"","",0,{"$f":"ROUND(ROUND(AF227*AJ227,2)*CX227,2)","v":0},0,0,{"$f":"DG227+DH227","v":0},0,"4-100-050",5,"чел.-ч.",1]
[{"$f":"ROW(Source!A135)","v":135},85316656,85320267,83785072,1,1,1,2,"91.14.02-001","ФСЭМ-2022 доп.7, 91.14.02-001, приказ Минстроя России от 02.08.2023 г. № 551/пр","Автомобили бортовые, грузоподъемность до 5 т",1368,null,1011,"маш.-ч","маш.-ч",1,null,null,null,null,null,0,-849950259,0.28000000000000003,null,0,641.70000000000005,811.79,0,0,641.70000000000005,811.79,0,1,1,1,1,-2,0,0,1,1,0,"",0.28000000000000003,"",1,2,85320289,1,0,228,1,0,0,0,0,0,0,0,0,179.67600000000002,227.30120000000002,0,0,0.28000000000000003,1,0,179.67600000000002,227.30120000000002,0,0,0.28000000000000003,1,null,null,null,null,null,null,null,null,null,null,null,null,null,null,null,null,null,null,null,null,null,null,null,null,0,{"$f":"ROUND(Y228*Source!I135*DO228,7)","v":0},{"$f":"ROUND(Y228*Source!I135,7)","v":0},{"$f":"AB228","v":641.70000000000005},{"$f":"AF228","v":641.70000000000005},{"$f":"AJ228","v":1},179.68,227.3,"","",0,{"$f":"ROUND(ROUND(AF228,2)*CX228,2)","v":0},0,0,{"$f":"DG228+DH228","v":0},1,"4-100-040",4,"чел.-ч.",1]
[{"$f":"ROW(Source!A135)","v":135},85316656,85320267,83849794,1,1,1,3,"01.3.01.06-0038","ФСБЦ-2022 доп.17, 01.3.01.06-0038, приказ Минстроя России от 17.02.2026 г. № 91/пр","Смазка защитная электросетевая",1346,null,1009,"кг","кг",1,null,null,null,null,null,0,-897919439,0.1,null,296.69,0,0,0,185.43,0,0,0,1.6,1,1,1,2,0,0,1,1,0,"",0.1,"",0,2,85320290,1,0,229,1,0,0,0,0,0,0,0,18.543000000000003,0,0,0,0,0,1,18.543000000000003,0,0,0,0,0,1,null,null,null,null,null,null,null,null,null,null,null,null,null,null,null,null,null,null,null,null,null,null,null,null,0,0,{"$f":"ROUND(Y229*Source!I135,7)","v":0},{"$f":"AA229","v":296.69},{"$f":"AE229","v":185.43},{"$f":"AI229","v":1.6},18.54,0,"","",{"$f":"ROUND(ROUND(AE229*AI229,2)*CX229,2)","v":0},0,0,0,{"$f":"DF229","v":0},0,"",0,"",0]
[{"$f":"ROW(Source!A135)","v":135},85316656,85320267,83849801,1,1,1,3,"01.3.01.06-0051","ФСБЦ-2022 доп.12, 01.3.01.06-0051, приказ Минстроя России от 07.11.2024 г. № 747/пр","Смазка солидол жировой Ж",1346,null,1009,"кг","кг",1,null,null,null,null,null,0,-1547825166,0.03,null,93.65,0,0,0,58.53,0,0,0,1.6,1,1,1,2,0,0,1,1,0,"",0.03,"",0,2,85320291,1,0,230,1,0,0,0,0,0,0,0,1.7559,0,0,0,0,0,1,1.7559,0,0,0,0,0,1,null,null,null,null,null,null,null,null,null,null,null,null,null,null,null,null,null,null,null,null,null,null,null,null,0,0,{"$f":"ROUND(Y230*Source!I135,7)","v":0},93.65,58.53,1.6,1.76,0,"","",{"$f":"ROUND(ROUND(AE230*AI230,2)*CX230,2)","v":0},0,0,0,0,0,"",0,"",0]
[{"$f":"ROW(Source!A135)","v":135},85316656,85320267,83853338,1,1,1,3,"01.7.15.03-0042","ФСБЦ-2022, 01.7.15.03-0042, приказ Минстроя России от 18.05.2022 г. № 378/пр","Болты с гайками и шайбами строительные",1346,null,1009,"кг","кг",1,null,null,null,null,null,0,-1131385474,0,null,188.92,0,0,0,174.93,0,0,0,1.08,1,1,1,0,1,0,1,0,0,"",0,"",0,2,85320292,1,0,231,0,0,0,0,0,0,0,0,0,0,0,0,0,0,0,0,0,0,0,0,0,0,null,null,null,null,null,null,null,null,null,null,null,null,null,null,null,null,null,null,null,null,null,null,null,null,0,0,{"$f":"ROUND(Y231*Source!I135,7)","v":0},188.92,174.93,1.08,0,0,"","",{"$f":"ROUND(ROUND(AE231*AI231,2)*CX231,2)","v":0},0,0,0,0,0,"",0,"",0]
[{"$f":"ROW(Source!A135)","v":135},85316656,85320267,83854484,1,1,1,3,"01.7.20.08-0051","ФСБЦ-2022 доп.8, 01.7.20.08-0051, приказ Минстроя России от 14.11.2023 г. № 817/пр","Ветошь хлопчатобумажная цветная",1346,null,1009,"кг","кг",1,null,null,null,null,null,0,-373327139,0.02,null,86.41,0,0,0,56.11,0,0,0,1.54,1,1,1,2,0,0,1,1,0,"",0.02,"",0,2,85320293,1,0,232,1,0,0,0,0,0,0,0,1.1222000000000001,0,0,0,0,0,1,1.1222000000000001,0,0,0,0,0,1,null,null,null,null,null,null,null,null,null,null,null,null,null,null,null,null,null,null,null,null,null,null,null,null,0,0,{"$f":"ROUND(Y232*Source!I135,7)","v":0},86.41,56.11,1.54,1.1200000000000001,0,"","",{"$f":"ROUND(ROUND(AE232*AI232,2)*CX232,2)","v":0},0,0,0,0,0,"",0,"",0]
[{"$f":"ROW(Source!A135)","v":135},85316656,85320267,83779061,117,1,1,3,"05.1.02.07","","Стойка железобетонная вибрированная для опор",1371,null,1013,"ШТ","ШТ",1,null,null,null,null,null,0,457934895,0,null,0,0,0,0,0,0,0,0,1,1,1,1,0,1,0,1,0,0,"",0,"",0,2,85320294,1,0,233,0,0,0,0,0,0,0,0,0,0,0,0,0,0,0,0,0,0,0,0,0,0,null,null,null,null,null,null,null,null,null,null,null,null,null,null,null,null,null,null,null,null,null,null,null,null,0,0,{"$f":"ROUND(Y233*Source!I135,7)","v":0},0,0,1,0,0,"","",{"$f":"ROUND(ROUND(AE233,2)*CX233,2)","v":0},0,0,0,0,0,"",0,"",0]
[{"$f":"ROW(Source!A135)","v":135},85316656,85320267,83779738,117,1,1,3,"07.2.02.05","","Траверсы стальные",1348,null,1009,"т","т",1000,null,null,null,null,null,0,1602794472,0,null,0,0,0,0,0,0,0,0,1,1,1,1,0,1,0,1,0,0,"",0,"",0,2,85320295,1,0,234,0,0,0,0,0,0,0,0,0,0,0,0,0,0,0,0,0,0,0,0,0,0,null,null,null,null,null,null,null,null,null,null,null,null,null,null,null,null,null,null,null,null,null,null,null,null,0,0,{"$f":"ROUND(Y234*Source!I135,7)","v":0},0,0,1,0,0,"","",{"$f":"ROUND(ROUND(AE234,2)*CX234,2)","v":0},0,0,0,0,0,"",0,"",0]
[{"$f":"ROW(Source!A135)","v":135},85316656,85320267,83779884,117,1,1,3,"07.2.07.13","","Хомуты стальные",1346,null,1009,"кг","кг",1,null,null,null,null,null,0,-1111733769,0,null,0,0,0,0,0,0,0,0,1,1,1,1,0,1,0,1,0,0,"",0,"",0,2,85320296,1,0,235,0,0,0,0,0,0,0,0,0,0,0,0,0,0,0,0,0,0,0,0,0,0,null,null,null,null,null,null,null,null,null,null,null,null,null,null,null,null,null,null,null,null,null,null,null,null,0,0,{"$f":"ROUND(Y235*Source!I135,7)","v":0},0,0,1,0,0,"","",{"$f":"ROUND(ROUND(AE235,2)*CX235,2)","v":0},0,0,0,0,0,"",0,"",0]
[{"$f":"ROW(Source!A135)","v":135},85316656,85320267,83780219,117,1,1,3,"08.3.04.02","","Сталь стержневая диаметром до 10 мм",1348,null,1009,"т","т",1000,null,null,null,null,null,0,1613753229,0,null,0,0,0,0,0,0,0,0,1,1,1,1,0,1,0,1,0,0,"",0,"",0,2,85320297,1,0,236,0,0,0,0,0,0,0,0,0,0,0,0,0,0,0,0,0,0,0,0,0,0,null,null,null,null,null,null,null,null,null,null,null,null,null,null,null,null,null,null,null,null,null,null,null,null,0,0,{"$f":"ROUND(Y236*Source!I135,7)","v":0},0,0,1,0,0,"","",{"$f":"ROUND(ROUND(AE236,2)*CX236,2)","v":0},0,0,0,0,0,"",0,"",0]
[{"$f":"ROW(Source!A135)","v":135},85316656,85320267,83870522,1,1,1,3,"14.4.02.04-0182","ФСБЦ-2022 доп.17, 14.4.02.04-0182, приказ Минстроя России от 17.02.2026 г. № 91/пр","Краска масляная МА-15, цветная",1346,null,1009,"кг","кг",1,null,null,null,null,null,0,1157836156,0,null,88.24,0,0,0,61.28,0,0,0,1.44,1,1,1,2,0,0,1,1,0,"",0,"",0,2,85320298,1,6144,237,1,0,0,0,0,0,0,0,0,0,0,0,0,0,0,0,0,0,0,0,0,0,null,null,null,null,null,null,null,null,null,null,null,null,null,null,null,null,null,null,null,null,null,null,null,null,0,0,{"$f":"ROUND(Y237*Source!I135,7)","v":0},88.24,61.28,1.44,0,0,"","",{"$f":"ROUND(ROUND(AE237*AI237,2)*CX237,2)","v":0},0,0,0,0,0,"",0,"",0]
[{"$f":"ROW(Source!A135)","v":135},85316656,85320267,83870548,1,1,1,3,"14.4.03.03-0102","ФСБЦ-2022 доп.4, 14.4.03.03-0102, приказ Минстроя России от 27.12.2022 г. № 1133/пр","Лак битумный БТ-577",1348,null,1009,"т","т",1000,null,null,null,null,null,0,-615866360,1E-4,null,103227.06,0,0,0,80020.98,0,0,0,1.29,1,1,1,2,0,0,1,1,0,"",1E-4,"",0,2,85320299,1,0,238,1,0,0,0,0,0,0,0,8.0020980000000002,0,0,0,0,0,1,8.0020980000000002,0,0,0,0,0,1,null,null,null,null,null,null,null,null,null,null,null,null,null,null,null,null,null,null,null,null,null,null,null,null,0,0,{"$f":"ROUND(Y238*Source!I135,7)","v":0},103227.06,80020.98,1.29,8,0,"","",{"$f":"ROUND(ROUND(AE238*AI238,2)*CX238,2)","v":0},0,0,0,0,0,"",0,"",0]
[{"$f":"ROW(Source!A135)","v":135},85316656,85320267,83878170,1,1,1,3,"20.2.02.04-0006","ФСБЦ-2022, 20.2.02.04-0006, приказ Минстроя России от 18.05.2022 г. № 378/пр","Колпачки полиэтиленовые К-6",1425,null,1013,"100 ШТ","100 ШТ",1,null,null,null,null,null,0,-734153582,0,null,1351.57,0,0,0,1031.73,0,0,0,1.31,1,1,1,2,0,0,1,1,0,"",0,"",0,2,85320300,1,6144,239,1,0,0,0,0,0,0,0,0,0,0,0,0,0,0,0,0,0,0,0,0,0,null,null,null,null,null,null,null,null,null,null,null,null,null,null,null,null,null,null,null,null,null,null,null,null,0,0,{"$f":"ROUND(Y239*Source!I135,7)","v":0},1351.57,1031.73,1.31,0,0,"","",{"$f":"ROUND(ROUND(AE239*AI239,2)*CX239,2)","v":0},0,0,0,0,0,"",0,"",0]
[{"$f":"ROW(Source!A135)","v":135},85316656,85320267,83782579,117,1,1,3,"22.2.01.04","","Изоляторы штыревые",1371,null,1013,"ШТ","ШТ",1,null,null,null,null,null,0,-950997571,0,null,0,0,0,0,0,0,0,0,1,1,1,1,0,1,0,1,0,0,"",0,"",0,2,85320301,1,0,240,0,0,0,0,0,0,0,0,0,0,0,0,0,0,0,0,0,0,0,0,0,0,null,null,null,null,null,null,null,null,null,null,null,null,null,null,null,null,null,null,null,null,null,null,null,null,0,0,{"$f":"ROUND(Y240*Source!I135,7)","v":0},0,0,1,0,0,"","",{"$f":"ROUND(ROUND(AE240,2)*CX240,2)","v":0},0,0,0,0,0,"",0,"",0]
[{"$f":"ROW(Source!A135)","v":135},85316656,85320267,83782625,117,1,1,3,"22.2.02.21","","Штыри",1371,null,1013,"ШТ","ШТ",1,null,null,null,null,null,0,-320198552,0,null,0,0,0,0,0,0,0,0,1,1,1,1,0,1,0,1,0,0,"",0,"",0,2,85320302,1,0,241,0,0,0,0,0,0,0,0,0,0,0,0,0,0,0,0,0,0,0,0,0,0,null,null,null,null,null,null,null,null,null,null,null,null,null,null,null,null,null,null,null,null,null,null,null,null,0,0,{"$f":"ROUND(Y241*Source!I135,7)","v":0},0,0,1,0,0,"","",0,0,0,0,0,0,"",0,"",0]
[{"$f":"ROW(Source!A135)","v":135},85316656,85320267,83782629,117,1,1,3,"22.2.02.23","","Металлические плакаты",1371,null,1013,"ШТ","ШТ",1,null,null,null,null,null,0,326010188,0,null,0,0,0,0,0,0,0,0,1,1,1,1,0,1,0,1,0,0,"",0,"",0,2,85320303,1,0,242,0,0,0,0,0,0,0,0,0,0,0,0,0,0,0,0,0,0,0,0,0,0,null,null,null,null,null,null,null,null,null,null,null,null,null,null,null,null,null,null,null,null,null,null,null,null,0,0,{"$f":"ROUND(Y242*Source!I135,7)","v":0},0,0,1,0,0,"","",0,0,0,0,0,0,"",0,"",0]
[{"$f":"ROW(Source!A153)","v":153},85316715,85320313,77306306,114,1,1,1,"1-100-18","","Средний разряд работы 1,8",1191,null,1013,"чел.-ч.","чел.-ч.",1,null,null,null,null,null,0,1286521233,4.84,null,0,0,0,649.42999999999995,0,0,0,649.42999999999995,1,1,1,1,-2,0,0,1,1,0,"",4.84,"",1,2,85320318,2,131072,243,1,0,0,0,0,0,0,0,0,0,0,3143.2411999999995,4.84,0,1,0,0,0,3143.2411999999995,4.84,0,1,null,null,null,null,null,null,null,null,null,null,null,null,null,null,null,null,null,null,null,null,null,null,null,{"$f":"ROUND(AT243*Source!I153*AH243*AL243,2)","v":0},{"$f":"ROUND(Y243*Source!I153,7)","v":0},0,{"$f":"ROUND(Y243*Source!I153,7)","v":0},{"$f":"AD243","v":649.42999999999995},{"$f":"AH243","v":649.42999999999995},{"$f":"AL243","v":1},3143.24,0,"","",0,0,0,0,{"$f":"DI243","v":0},1,"",0,"",0]
[{"$f":"ROW(Source!A153)","v":153},85316715,85320313,77306545,114,1,1,1,"4-100-00","","Затраты труда машинистов",1191,null,1013,"чел.-ч.","чел.-ч.",1,null,null,null,null,null,0,-1417349443,0.03,null,0,0,0,0,0,0,0,0,1,1,1,1,-2,0,0,1,1,0,"",0.03,"",2,2,85320319,1,0,244,1,0,0,0,0,0,0,0,0,0,0,0,0,0,0,0,0,0,0,0,0,0,null,null,null,null,null,null,null,null,null,null,null,null,null,null,null,null,null,null,null,null,null,null,null,null,0,0,{"$f":"ROUND(Y244*Source!I153,7)","v":0},{"$f":"AD244","v":0},{"$f":"AH244","v":0},{"$f":"AL244","v":1},0,0,"","",0,0,0,0,{"$f":"DI244","v":0},0,"",0,"",0]
[{"$f":"ROW(Source!A153)","v":153},85316715,85320313,77431879,1,1,1,2,"91.14.02-001","ФСЭМ-2022 доп.7, 91.14.02-001, приказ Минстроя России от 02.08.2023 г. № 551/пр","Автомобили бортовые, грузоподъемность до 5 т",1368,null,1011,"маш.-ч","маш.-ч",1,null,null,null,null,null,0,-1152394969,0.03,null,0,641.70000000000005,811.79,0,0,641.70000000000005,811.79,0,1,1,1,1,-2,0,0,1,1,0,"",0.03,"",1,2,85320320,1,0,245,1,0,0,0,0,0,0,0,0,19.251000000000001,24.353699999999996,0,0,0.03,1,0,19.251000000000001,24.353699999999996,0,0,0.03,1,null,null,null,null,null,null,null,null,null,null,null,null,null,null,null,null,null,null,null,null,null,null,null,null,0,{"$f":"ROUND(Y245*Source!I153*DO245,7)","v":0},{"$f":"ROUND(Y245*Source!I153,7)","v":0},{"$f":"AB245","v":641.70000000000005},{"$f":"AF245","v":641.70000000000005},{"$f":"AJ245","v":1},19.25,24.35,"","",0,0,0,0,{"$f":"DG245+DH245","v":0},1,"4-100-040",4,"чел.-ч.",1]
[{"$f":"ROW(Source!A153)","v":153},85316715,85320313,77312233,114,1,1,3,"421/пр_2020_п.75_пп.а","","Сметная стоимость вспомогательных ненормируемых материальных ресурсов, не учтенная в сметной норме, 2%",3277935,null,1013,"%","%",1,null,null,null,null,null,0,274903907,2,null,0,0,0,0,0,0,0,0,1,1,1,1,-2,0,0,0,0,0,"",2,"",0,2,85320321,1,0,246,0,0,0,0,0,0,0,0,0,0,0,0,0,0,0,0,0,0,0,0,0,0,null,null,null,null,null,null,null,null,null,null,null,null,null,null,null,null,null,null,null,null,null,null,null,null,0,0,{"$f":"ROUND(Y246*Source!I153,7)","v":0},{"$f":"AA246","v":0},{"$f":"AE246","v":0},{"$f":"AI246","v":1},0,0,"","",0,0,0,0,{"$f":"DF246","v":0},0,"",0,"",0]
[{"$f":"ROW(Source!A154)","v":154},85316656,85320313,77306306,114,1,1,1,"1-100-18","","Средний разряд работы 1,8",1191,null,1013,"чел.-ч.","чел.-ч.",1,null,null,null,null,null,0,1286521233,4.84,null,0,0,0,649.42999999999995,0,0,0,649.42999999999995,1,1,1,1,-2,0,0,1,1,0,"",4.84,"",1,2,85320318,2,131072,247,1,0,0,0,0,0,0,0,0,0,0,3143.2411999999995,4.84,0,1,0,0,0,3143.2411999999995,4.84,0,1,null,null,null,null,null,null,null,null,null,null,null,null,null,null,null,null,null,null,null,null,null,null,null,{"$f":"ROUND(AT247*Source!I154*AH247*AL247,2)","v":0},{"$f":"ROUND(Y247*Source!I154,7)","v":0},0,{"$f":"ROUND(Y247*Source!I154,7)","v":0},{"$f":"AD247","v":649.42999999999995},{"$f":"AH247","v":649.42999999999995},{"$f":"AL247","v":1},3143.24,0,"","",0,0,0,0,{"$f":"DI247","v":0},1,"",0,"",0]
[{"$f":"ROW(Source!A154)","v":154},85316656,85320313,77306545,114,1,1,1,"4-100-00","","Затраты труда машинистов",1191,null,1013,"чел.-ч.","чел.-ч.",1,null,null,null,null,null,0,-1417349443,0.03,null,0,0,0,0,0,0,0,0,1,1,1,1,-2,0,0,1,1,0,"",0.03,"",2,2,85320319,1,0,248,1,0,0,0,0,0,0,0,0,0,0,0,0,0,0,0,0,0,0,0,0,0,null,null,null,null,null,null,null,null,null,null,null,null,null,null,null,null,null,null,null,null,null,null,null,null,0,0,{"$f":"ROUND(Y248*Source!I154,7)","v":0},{"$f":"AD248","v":0},{"$f":"AH248","v":0},{"$f":"AL248","v":1},0,0,"","",0,0,0,0,{"$f":"DI248","v":0},0,"",0,"",0]
[{"$f":"ROW(Source!A154)","v":154},85316656,85320313,77431879,1,1,1,2,"91.14.02-001","ФСЭМ-2022 доп.7, 91.14.02-001, приказ Минстроя России от 02.08.2023 г. № 551/пр","Автомобили бортовые, грузоподъемность до 5 т",1368,null,1011,"маш.-ч","маш.-ч",1,null,null,null,null,null,0,-1152394969,0.03,null,0,641.70000000000005,811.79,0,0,641.70000000000005,811.79,0,1,1,1,1,-2,0,0,1,1,0,"",0.03,"",1,2,85320320,1,0,249,1,0,0,0,0,0,0,0,0,19.251000000000001,24.353699999999996,0,0,0.03,1,0,19.251000000000001,24.353699999999996,0,0,0.03,1,null,null,null,null,null,null,null,null,null,null,null,null,null,null,null,null,null,null,null,null,null,null,null,null,0,{"$f":"ROUND(Y249*Source!I154*DO249,7)","v":0},{"$f":"ROUND(Y249*Source!I154,7)","v":0},{"$f":"AB249","v":641.70000000000005},{"$f":"AF249","v":641.70000000000005},{"$f":"AJ249","v":1},19.25,24.35,"","",0,0,0,0,{"$f":"DG249+DH249","v":0},1,"4-100-040",4,"чел.-ч.",1]
[{"$f":"ROW(Source!A154)","v":154},85316656,85320313,77312233,114,1,1,3,"421/пр_2020_п.75_пп.а","","Сметная стоимость вспомогательных ненормируемых материальных ресурсов, не учтенная в сметной норме, 2%",3277935,null,1013,"%","%",1,null,null,null,null,null,0,274903907,2,null,0,0,0,0,0,0,0,0,1,1,1,1,-2,0,0,0,0,0,"",2,"",0,2,85320321,1,0,250,0,0,0,0,0,0,0,0,0,0,0,0,0,0,0,0,0,0,0,0,0,0,null,null,null,null,null,null,null,null,null,null,null,null,null,null,null,null,null,null,null,null,null,null,null,null,0,0,{"$f":"ROUND(Y250*Source!I154,7)","v":0},{"$f":"AA250","v":0},{"$f":"AE250","v":0},{"$f":"AI250","v":1},0,0,"","",0,0,0,0,{"$f":"DF250","v":0},0,"",0,"",0]
[{"$f":"ROW(Source!A158)","v":158},85316715,85320324,83777513,117,1,1,1,"1-100-38","","Средний разряд работы 3,8",1191,null,1013,"чел.-ч.","чел.-ч.",1,null,null,null,null,null,0,44848675,31.28,null,0,0,0,793.61,0,0,0,793.61,1,1,1,1,-2,0,0,1,1,0,"",31.28,"",1,2,85320334,1,0,251,1,0,0,0,0,0,0,0,0,0,0,24824.120800000001,31.28,0,1,0,0,0,24824.120800000001,31.28,0,1,null,null,null,null,null,null,null,null,null,null,null,null,null,null,null,null,null,null,null,null,null,null,null,{"$f":"ROUND(AT251*Source!I158*AH251*AL251,2)","v":0},{"$f":"ROUND(Y251*Source!I158,7)","v":0},0,{"$f":"ROUND(Y251*Source!I158,7)","v":0},{"$f":"AD251","v":793.61},{"$f":"AH251","v":793.61},{"$f":"AL251","v":1},24824.12,0,"","",0,0,0,0,{"$f":"DI251","v":0},1,"",0,"",0]
[{"$f":"ROW(Source!A158)","v":158},85316715,85320324,83777689,117,1,1,1,"4-100-00","","Затраты труда машинистов",1191,null,1013,"чел.-ч.","чел.-ч.",1,null,null,null,null,null,0,-1417349443,0.7,null,0,0,0,0,0,0,0,0,1,1,1,1,-2,0,0,1,1,0,"",0.7,"",2,2,85320335,1,0,252,1,0,0,0,0,0,0,0,0,0,0,0,0,0,0,0,0,0,0,0,0,0,null,null,null,null,null,null,null,null,null,null,null,null,null,null,null,null,null,null,null,null,null,null,null,null,0,0,{"$f":"ROUND(Y252*Source!I158,7)","v":0},{"$f":"AD252","v":0},{"$f":"AH252","v":0},{"$f":"AL252","v":1},0,0,"","",0,0,0,0,{"$f":"DI252","v":0},0,"",0,"",0]
[{"$f":"ROW(Source!A158)","v":158},85316715,85320324,83784178,1,1,1,2,"91.05.05-015","ФСЭМ-2022, 91.05.05-015, приказ Минстроя России от 18.05.2022 г. № 378/пр","Краны на автомобильном ходу, грузоподъемность 16 т",1368,null,1011,"маш.-ч","маш.-ч",1,null,null,null,null,null,0,639918019,0.35,null,0,1626.29,1090.46,0,0,1626.29,1090.46,0,1,1,1,1,-2,0,0,1,1,0,"",0.35,"",1,2,85320336,1,0,253,1,0,0,0,0,0,0,0,0,569.2014999999999,381.661,0,0,0.35,1,0,569.2014999999999,381.661,0,0,0.35,1,null,null,null,null,null,null,null,null,null,null,null,null,null,null,null,null,null,null,null,null,null,null,null,null,0,{"$f":"ROUND(Y253*Source!I158*DO253,7)","v":0},{"$f":"ROUND(Y253*Source!I158,7)","v":0},{"$f":"AB253","v":1626.29},{"$f":"AF253","v":1626.29},{"$f":"AJ253","v":1},569.20000000000005,381.66,"","",0,0,0,0,{"$f":"DG253+DH253","v":0},1,"4-100-060",6,"чел.-ч.",1]
[{"$f":"ROW(Source!A158)","v":158},85316715,85320324,83785072,1,1,1,2,"91.14.02-001","ФСЭМ-2022 доп.7, 91.14.02-001, приказ Минстроя России от 02.08.2023 г. № 551/пр","Автомобили бортовые, грузоподъемность до 5 т",1368,null,1011,"маш.-ч","маш.-ч",1,null,null,null,null,null,0,-849950259,0.35,null,0,641.70000000000005,811.79,0,0,641.70000000000005,811.79,0,1,1,1,1,-2,0,0,1,1,0,"",0.35,"",1,2,85320337,1,0,254,1,0,0,0,0,0,0,0,0,224.595,284.12649999999996,0,0,0.35,1,0,224.595,284.12649999999996,0,0,0.35,1,null,null,null,null,null,null,null,null,null,null,null,null,null,null,null,null,null,null,null,null,null,null,null,null,0,{"$f":"ROUND(Y254*Source!I158*DO254,7)","v":0},{"$f":"ROUND(Y254*Source!I158,7)","v":0},{"$f":"AB254","v":641.70000000000005},{"$f":"AF254","v":641.70000000000005},{"$f":"AJ254","v":1},224.6,284.13,"","",0,0,0,0,{"$f":"DG254+DH254","v":0},1,"4-100-040",4,"чел.-ч.",1]
[{"$f":"ROW(Source!A158)","v":158},85316715,85320324,83785268,1,1,1,2,"91.17.04-233","ФСЭМ-2022, 91.17.04-233, приказ Минстроя России от 18.05.2022 г. № 378/пр","Аппараты сварочные для ручной дуговой сварки, сварочный ток до 350 А",1368,null,1011,"маш.-ч","маш.-ч",1,null,null,null,null,null,0,303316554,2.16,null,0,34.61,0,0,0,34.61,0,0,1,1,1,1,-2,0,0,1,1,0,"",2.16,"",1,2,85320338,1,0,255,1,0,0,0,0,0,0,0,0,74.757600000000011,0,0,0,0,1,0,74.757600000000011,0,0,0,0,1,null,null,null,null,null,null,null,null,null,null,null,null,null,null,null,null,null,null,null,null,null,null,null,null,0,{"$f":"ROUND(Y255*Source!I158*DO255,7)","v":0},{"$f":"ROUND(Y255*Source!I158,7)","v":0},{"$f":"AB255","v":34.61},{"$f":"AF255","v":34.61},{"$f":"AJ255","v":1},74.760000000000005,0,"","",0,0,0,0,{"$f":"DG255+DH255","v":0},1,"",0,"",0]
[{"$f":"ROW(Source!A158)","v":158},85316715,85320324,83851841,1,1,1,3,"01.7.03.04-0001","ФСБЦ-2022, 01.7.03.04-0001, приказ Минстроя России от 18.05.2022 г. № 378/пр","Электроэнергия",1383,null,1013,"КВТ-Ч","КВТ-Ч",1,null,null,null,null,null,0,1840299850,1.1488,null,7.32,0,0,0,7.32,0,0,0,1,1,1,1,-2,0,0,1,1,0,"",1.1488,"",0,2,85320339,1,0,256,1,0,0,0,0,0,0,0,8.4092160000000007,0,0,0,0,0,1,8.4092160000000007,0,0,0,0,0,1,null,null,null,null,null,null,null,null,null,null,null,null,null,null,null,null,null,null,null,null,null,null,null,null,0,0,{"$f":"ROUND(Y256*Source!I158,7)","v":0},{"$f":"AA256","v":7.32},{"$f":"AE256","v":7.32},{"$f":"AI256","v":1},8.41,0,"","",0,0,0,0,{"$f":"DF256","v":0},1,"",0,"",0]
[{"$f":"ROW(Source!A158)","v":158},85316715,85320324,83852582,1,1,1,3,"01.7.11.07-0227","ФСБЦ-2022, 01.7.11.07-0227, приказ Минстроя России от 18.05.2022 г. № 378/пр","Электроды сварочные для сварки низколегированных и углеродистых сталей УОНИ 13/45, Э42А, диаметр 4-5 мм",1346,null,1009,"кг","кг",1,null,null,null,null,null,0,-163259778,{"$f":"AT257","v":0.96},null,121.39,0,0,0,155.63,0,0,0,0.78,1,1,1,2,0,0,1,1,0,"",0.96,"",0,2,85320340,1,0,257,1,0,0,0,0,0,0,0,149.40479999999999,0,0,0,0,0,1,149.40479999999999,0,0,0,0,0,1,null,null,null,null,null,null,null,null,null,null,null,null,null,null,null,null,null,null,null,null,null,null,null,null,0,0,{"$f":"ROUND(Y257*Source!I158,7)","v":0},{"$f":"AA257","v":121.39},{"$f":"AE257","v":155.63},{"$f":"AI257","v":0.78},{"$f":"ROUND(ROUND(AT257*CZ257,2),2)","v":149.4},{"$f":"ROUND(ROUND(AT257*AG257,2),2)","v":0},"","",{"$f":"ROUND(ROUND(AE257*AI257,2)*CX257,2)","v":0},0,{"$f":"ROUND(ROUND(AG257,2)*CX257,2)","v":0},{"$f":"ROUND(ROUND(AH257,2)*CX257,2)","v":0},{"$f":"DF257","v":0},0,"",0,"",0]
[{"$f":"ROW(Source!A158)","v":158},85316715,85320324,83870031,1,1,1,3,"14.1.02.01-0002","ФСБЦ-2022, 14.1.02.01-0002, приказ Минстроя России от 18.05.2022 г. № 378/пр","Клей, марка БМК-5к",1346,null,1009,"кг","кг",1,null,null,null,null,null,0,306218686,0.55000000000000004,null,243.31,0,0,0,160.07,0,0,0,1.52,1,1,1,2,0,0,1,1,0,"",0.55000000000000004,"",0,2,85320341,1,0,258,1,0,0,0,0,0,0,0,88.038499999999999,0,0,0,0,0,1,88.038499999999999,0,0,0,0,0,1,null,null,null,null,null,null,null,null,null,null,null,null,null,null,null,null,null,null,null,null,null,null,null,null,0,0,{"$f":"ROUND(Y258*Source!I158,7)","v":0},{"$f":"AA258","v":243.31},{"$f":"AE258","v":160.07},{"$f":"AI258","v":1.52},88.04,0,"","",{"$f":"ROUND(ROUND(AE258*AI258,2)*CX258,2)","v":0},0,0,0,{"$f":"DF258","v":0},0,"",0,"",0]
[{"$f":"ROW(Source!A158)","v":158},85316715,85320324,83783523,117,1,1,3,"421/пр_2020_п.75_пп.а","","Сметная стоимость вспомогательных ненормируемых материальных ресурсов, не учтенная в сметной норме, 2%",3277935,null,1013,"%","%",1,null,null,null,null,null,0,274903907,2,null,0,0,0,0,0,0,0,0,1,1,1,1,0,0,0,0,0,0,"",2,"",0,2,85320342,1,0,259,0,0,0,0,0,0,0,0,0,0,0,0,0,0,0,0,0,0,0,0,0,0,null,null,null,null,null,null,null,null,null,null,null,null,null,null,null,null,null,null,null,null,null,null,null,null,0,0,{"$f":"ROUND(Y259*Source!I158,7)","v":0},{"$f":"AA259","v":0},{"$f":"AE259","v":0},{"$f":"AI259","v":1},0,0,"","",{"$f":"ROUND(ROUND(AE259,2)*CX259,2)","v":0},0,0,0,{"$f":"DF259","v":0},0,"",0,"",0]
[{"$f":"ROW(Source!A159)","v":159},85316656,85320324,83777513,117,1,1,1,"1-100-38","","Средний разряд работы 3,8",1191,null,1013,"чел.-ч.","чел.-ч.",1,null,null,null,null,null,0,44848675,31.28,null,0,0,0,793.61,0,0,0,793.61,1,1,1,1,-2,0,0,1,1,0,"",31.28,"",1,2,85320334,1,0,260,1,0,0,0,0,0,0,0,0,0,0,24824.120800000001,31.28,0,1,0,0,0,24824.120800000001,31.28,0,1,null,null,null,null,null,null,null,null,null,null,null,null,null,null,null,null,null,null,null,null,null,null,null,{"$f":"ROUND(AT260*Source!I159*AH260*AL260,2)","v":0},{"$f":"ROUND(Y260*Source!I159,7)","v":0},0,{"$f":"ROUND(Y260*Source!I159,7)","v":0},{"$f":"AD260","v":793.61},{"$f":"AH260","v":793.61},{"$f":"AL260","v":1},24824.12,0,"","",0,{"$f":"ROUND(ROUND(AF260,2)*CX260,2)","v":0},0,0,{"$f":"DI260","v":0},1,"",0,"",0]
[{"$f":"ROW(Source!A159)","v":159},85316656,85320324,83777689,117,1,1,1,"4-100-00","","Затраты труда машинистов",1191,null,1013,"чел.-ч.","чел.-ч.",1,null,null,null,null,null,0,-1417349443,0.7,null,0,0,0,0,0,0,0,0,1,1,1,1,-2,0,0,1,1,0,"",0.7,"",2,2,85320335,1,0,261,1,0,0,0,0,0,0,0,0,0,0,0,0,0,0,0,0,0,0,0,0,0,null,null,null,null,null,null,null,null,null,null,null,null,null,null,null,null,null,null,null,null,null,null,null,null,0,0,{"$f":"ROUND(Y261*Source!I159,7)","v":0},{"$f":"AD261","v":0},{"$f":"AH261","v":0},{"$f":"AL261","v":1},0,0,"","",0,0,0,0,{"$f":"DI261","v":0},0,"",0,"",0]
[{"$f":"ROW(Source!A159)","v":159},85316656,85320324,83784178,1,1,1,2,"91.05.05-015","ФСЭМ-2022, 91.05.05-015, приказ Минстроя России от 18.05.2022 г. № 378/пр","Краны на автомобильном ходу, грузоподъемность 16 т",1368,null,1011,"маш.-ч","маш.-ч",1,null,null,null,null,null,0,639918019,0.35,null,0,1626.29,1090.46,0,0,1626.29,1090.46,0,1,1,1,1,-2,0,0,1,1,0,"",0.35,"",1,2,85320336,1,0,262,1,0,0,0,0,0,0,0,0,569.2014999999999,381.661,0,0,0.35,1,0,569.2014999999999,381.661,0,0,0.35,1,null,null,null,null,null,null,null,null,null,null,null,null,null,null,null,null,null,null,null,null,null,null,null,null,0,{"$f":"ROUND(Y262*Source!I159*DO262,7)","v":0},{"$f":"ROUND(Y262*Source!I159,7)","v":0},{"$f":"AB262","v":1626.29},{"$f":"AF262","v":1626.29},{"$f":"AJ262","v":1},569.20000000000005,381.66,"","",0,0,0,0,{"$f":"DG262+DH262","v":0},1,"4-100-060",6,"чел.-ч.",1]
[{"$f":"ROW(Source!A159)","v":159},85316656,85320324,83785072,1,1,1,2,"91.14.02-001","ФСЭМ-2022 доп.7, 91.14.02-001, приказ Минстроя России от 02.08.2023 г. № 551/пр","Автомобили бортовые, грузоподъемность до 5 т",1368,null,1011,"маш.-ч","маш.-ч",1,null,null,null,null,null,0,-849950259,0.35,null,0,641.70000000000005,811.79,0,0,641.70000000000005,811.79,0,1,1,1,1,-2,0,0,1,1,0,"",0.35,"",1,2,85320337,1,0,263,1,0,0,0,0,0,0,0,0,224.595,284.12649999999996,0,0,0.35,1,0,224.595,284.12649999999996,0,0,0.35,1,null,null,null,null,null,null,null,null,null,null,null,null,null,null,null,null,null,null,null,null,null,null,null,null,0,{"$f":"ROUND(Y263*Source!I159*DO263,7)","v":0},{"$f":"ROUND(Y263*Source!I159,7)","v":0},{"$f":"AB263","v":641.70000000000005},{"$f":"AF263","v":641.70000000000005},{"$f":"AJ263","v":1},224.6,284.13,"","",0,0,0,0,{"$f":"DG263+DH263","v":0},1,"4-100-040",4,"чел.-ч.",1]
[{"$f":"ROW(Source!A159)","v":159},85316656,85320324,83785268,1,1,1,2,"91.17.04-233","ФСЭМ-2022, 91.17.04-233, приказ Минстроя России от 18.05.2022 г. № 378/пр","Аппараты сварочные для ручной дуговой сварки, сварочный ток до 350 А",1368,null,1011,"маш.-ч","маш.-ч",1,null,null,null,null,null,0,303316554,2.16,null,0,34.61,0,0,0,34.61,0,0,1,1,1,1,-2,0,0,1,1,0,"",2.16,"",1,2,85320338,1,0,264,1,0,0,0,0,0,0,0,0,74.757600000000011,0,0,0,0,1,0,74.757600000000011,0,0,0,0,1,null,null,null,null,null,null,null,null,null,null,null,null,null,null,null,null,null,null,null,null,null,null,null,null,0,{"$f":"ROUND(Y264*Source!I159*DO264,7)","v":0},{"$f":"ROUND(Y264*Source!I159,7)","v":0},{"$f":"AB264","v":34.61},{"$f":"AF264","v":34.61},{"$f":"AJ264","v":1},74.760000000000005,0,"","",0,0,0,0,{"$f":"DG264+DH264","v":0},1,"",0,"",0]
[{"$f":"ROW(Source!A159)","v":159},85316656,85320324,83851841,1,1,1,3,"01.7.03.04-0001","ФСБЦ-2022, 01.7.03.04-0001, приказ Минстроя России от 18.05.2022 г. № 378/пр","Электроэнергия",1383,null,1013,"КВТ-Ч","КВТ-Ч",1,null,null,null,null,null,0,1840299850,1.1488,null,7.32,0,0,0,7.32,0,0,0,1,1,1,1,-2,0,0,1,1,0,"",1.1488,"",0,2,85320339,1,0,265,1,0,0,0,0,0,0,0,8.4092160000000007,0,0,0,0,0,1,8.4092160000000007,0,0,0,0,0,1,null,null,null,null,null,null,null,null,null,null,null,null,null,null,null,null,null,null,null,null,null,null,null,null,0,0,{"$f":"ROUND(Y265*Source!I159,7)","v":0},{"$f":"AA265","v":7.32},{"$f":"AE265","v":7.32},{"$f":"AI265","v":1},8.41,0,"","",0,0,0,0,{"$f":"DF265","v":0},1,"",0,"",0]
[{"$f":"ROW(Source!A159)","v":159},85316656,85320324,83852582,1,1,1,3,"01.7.11.07-0227","ФСБЦ-2022, 01.7.11.07-0227, приказ Минстроя России от 18.05.2022 г. № 378/пр","Электроды сварочные для сварки низколегированных и углеродистых сталей УОНИ 13/45, Э42А, диаметр 4-5 мм",1346,null,1009,"кг","кг",1,null,null,null,null,null,0,-163259778,0.96,null,121.39,0,0,0,155.63,0,0,0,0.78,1,1,1,2,0,0,1,1,0,"",0.96,"",0,2,85320340,1,0,266,1,0,0,0,0,0,0,0,149.40479999999999,0,0,0,0,0,1,149.40479999999999,0,0,0,0,0,1,null,null,null,null,null,null,null,null,null,null,null,null,null,null,null,null,null,null,null,null,null,null,null,null,0,0,{"$f":"ROUND(Y266*Source!I159,7)","v":0},{"$f":"AA266","v":121.39},{"$f":"AE266","v":155.63},{"$f":"AI266","v":0.78},149.4,0,"","",{"$f":"ROUND(ROUND(AE266*AI266,2)*CX266,2)","v":0},0,0,0,{"$f":"DF266","v":0},0,"",0,"",0]
[{"$f":"ROW(Source!A159)","v":159},85316656,85320324,83870031,1,1,1,3,"14.1.02.01-0002","ФСБЦ-2022, 14.1.02.01-0002, приказ Минстроя России от 18.05.2022 г. № 378/пр","Клей, марка БМК-5к",1346,null,1009,"кг","кг",1,null,null,null,null,null,0,306218686,0.55000000000000004,null,243.31,0,0,0,160.07,0,0,0,1.52,1,1,1,2,0,0,1,1,0,"",0.55000000000000004,"",0,2,85320341,1,0,267,1,0,0,0,0,0,0,0,88.038499999999999,0,0,0,0,0,1,88.038499999999999,0,0,0,0,0,1,null,null,null,null,null,null,null,null,null,null,null,null,null,null,null,null,null,null,null,null,null,null,null,null,0,0,{"$f":"ROUND(Y267*Source!I159,7)","v":0},{"$f":"AA267","v":243.31},{"$f":"AE267","v":160.07},{"$f":"AI267","v":1.52},88.04,0,"","",{"$f":"ROUND(ROUND(AE267*AI267,2)*CX267,2)","v":0},0,0,0,{"$f":"DF267","v":0},0,"",0,"",0]
[{"$f":"ROW(Source!A159)","v":159},85316656,85320324,83783523,117,1,1,3,"421/пр_2020_п.75_пп.а","","Сметная стоимость вспомогательных ненормируемых материальных ресурсов, не учтенная в сметной норме, 2%",3277935,null,1013,"%","%",1,null,null,null,null,null,0,274903907,2,null,0,0,0,0,0,0,0,0,1,1,1,1,0,0,0,0,0,0,"",2,"",0,2,85320342,1,0,268,0,0,0,0,0,0,0,0,0,0,0,0,0,0,0,0,0,0,0,0,0,0,null,null,null,null,null,null,null,null,null,null,null,null,null,null,null,null,null,null,null,null,null,null,null,null,0,0,{"$f":"ROUND(Y268*Source!I159,7)","v":0},{"$f":"AA268","v":0},{"$f":"AE268","v":0},{"$f":"AI268","v":1},0,0,"","",{"$f":"ROUND(ROUND(AE268,2)*CX268,2)","v":0},0,0,0,{"$f":"DF268","v":0},0,"",0,"",0]
[{"$f":"ROW(Source!A163)","v":163},85316715,85320345,83777513,117,1,1,1,"1-100-38","","Средний разряд работы 3,8",1191,null,1013,"чел.-ч.","чел.-ч.",1,null,null,null,null,null,0,44848675,14.4,null,0,0,0,793.61,0,0,0,793.61,1,1,1,1,-2,0,0,1,1,0,"",14.4,"",1,2,85320356,1,0,269,1,0,0,0,0,0,0,0,0,0,0,11427.984,14.4,0,1,0,0,0,11427.984,14.4,0,1,null,null,null,null,null,null,null,null,null,null,null,null,null,null,null,null,null,null,null,null,null,null,null,{"$f":"ROUND(AT269*Source!I163*AH269*AL269,2)","v":0},{"$f":"ROUND(Y269*Source!I163,7)","v":0},0,{"$f":"ROUND(Y269*Source!I163,7)","v":0},{"$f":"AD269","v":793.61},{"$f":"AH269","v":793.61},{"$f":"AL269","v":1},11427.98,0,"","",{"$f":"ROUND(ROUND(AE269,2)*CX269,2)","v":0},0,0,0,{"$f":"DI269","v":0},1,"",0,"",0]
[{"$f":"ROW(Source!A163)","v":163},85316715,85320345,83777689,117,1,1,1,"4-100-00","","Затраты труда машинистов",1191,null,1013,"чел.-ч.","чел.-ч.",1,null,null,null,null,null,0,-1417349443,0.4,null,0,0,0,0,0,0,0,0,1,1,1,1,-2,0,0,1,1,0,"",0.4,"",2,2,85320357,1,0,270,1,0,0,0,0,0,0,0,0,0,0,0,0,0,0,0,0,0,0,0,0,0,null,null,null,null,null,null,null,null,null,null,null,null,null,null,null,null,null,null,null,null,null,null,null,null,0,0,{"$f":"ROUND(Y270*Source!I163,7)","v":0},{"$f":"AD270","v":0},{"$f":"AH270","v":0},{"$f":"AL270","v":1},0,0,"","",{"$f":"ROUND(ROUND(AE270,2)*CX270,2)","v":0},0,0,0,{"$f":"DI270","v":0},0,"",0,"",0]
[{"$f":"ROW(Source!A163)","v":163},85316715,85320345,83784178,1,1,1,2,"91.05.05-015","ФСЭМ-2022, 91.05.05-015, приказ Минстроя России от 18.05.2022 г. № 378/пр","Краны на автомобильном ходу, грузоподъемность 16 т",1368,null,1011,"маш.-ч","маш.-ч",1,null,null,null,null,null,0,639918019,0.2,null,0,1626.29,1090.46,0,0,1626.29,1090.46,0,1,1,1,1,-2,0,0,1,1,0,"",0.2,"",1,2,85320358,1,0,271,1,0,0,0,0,0,0,0,0,325.25800000000004,218.09200000000001,0,0,0.2,1,0,325.25800000000004,218.09200000000001,0,0,0.2,1,null,null,null,null,null,null,null,null,null,null,null,null,null,null,null,null,null,null,null,null,null,null,null,null,0,{"$f":"ROUND(Y271*Source!I163*DO271,7)","v":0},{"$f":"ROUND(Y271*Source!I163,7)","v":0},{"$f":"AB271","v":1626.29},{"$f":"AF271","v":1626.29},{"$f":"AJ271","v":1},325.26,218.09,"","",{"$f":"ROUND(ROUND(AE271,2)*CX271,2)","v":0},0,0,0,{"$f":"DG271+DH271","v":0},1,"4-100-060",6,"чел.-ч.",1]
[{"$f":"ROW(Source!A163)","v":163},85316715,85320345,83785072,1,1,1,2,"91.14.02-001","ФСЭМ-2022 доп.7, 91.14.02-001, приказ Минстроя России от 02.08.2023 г. № 551/пр","Автомобили бортовые, грузоподъемность до 5 т",1368,null,1011,"маш.-ч","маш.-ч",1,null,null,null,null,null,0,-849950259,0.2,null,0,641.70000000000005,811.79,0,0,641.70000000000005,811.79,0,1,1,1,1,-2,0,0,1,1,0,"",0.2,"",1,2,85320359,1,0,272,1,0,0,0,0,0,0,0,0,128.34,162.358,0,0,0.2,1,0,128.34,162.358,0,0,0.2,1,null,null,null,null,null,null,null,null,null,null,null,null,null,null,null,null,null,null,null,null,null,null,null,null,0,{"$f":"ROUND(Y272*Source!I163*DO272,7)","v":0},{"$f":"ROUND(Y272*Source!I163,7)","v":0},{"$f":"AB272","v":641.70000000000005},{"$f":"AF272","v":641.70000000000005},{"$f":"AJ272","v":1},128.34,162.36000000000001,"","",{"$f":"ROUND(ROUND(AE272,2)*CX272,2)","v":0},0,0,0,{"$f":"DG272+DH272","v":0},1,"4-100-040",4,"чел.-ч.",1]
[{"$f":"ROW(Source!A163)","v":163},85316715,85320345,83852000,1,1,1,3,"01.7.06.05-0041","ФСБЦ-2022, 01.7.06.05-0041, приказ Минстроя России от 18.05.2022 г. № 378/пр","Ленты изоляционные хлопчатобумажные прорезиненные для электромонтажных и ремонтных работ, цвет черный, ширина 20 мм, толщина 0,35 мм",1301,null,1003,"м","м",1,null,null,null,null,null,0,-1499427467,33.33,null,5.17,0,0,0,5.87,0,0,0,0.88,1,1,1,2,0,0,1,1,0,"",33.33,"",0,2,85320360,1,0,273,1,0,0,0,0,0,0,0,195.64709999999999,0,0,0,0,0,1,195.64709999999999,0,0,0,0,0,1,null,null,null,null,null,null,null,null,null,null,null,null,null,null,null,null,null,null,null,null,null,null,null,null,0,0,{"$f":"ROUND(Y273*Source!I163,7)","v":0},{"$f":"AA273","v":5.17},{"$f":"AE273","v":5.87},{"$f":"AI273","v":0.88},195.65,0,"","",{"$f":"ROUND(ROUND(AE273*AI273,2)*CX273,2)","v":0},0,0,0,{"$f":"DF273","v":0},0,"",0,"",0]
[{"$f":"ROW(Source!A163)","v":163},85316715,85320345,83852170,1,1,1,3,"01.7.07.20-0002","ФСБЦ-2022, 01.7.07.20-0002, приказ Минстроя России от 18.05.2022 г. № 378/пр","Тальк молотый, сорт I",1348,null,1009,"т","т",1000,null,null,null,null,null,0,-423309981,1.3699999999999999E-3,null,57844.42,0,0,0,43821.53,0,0,0,1.32,1,1,1,2,0,0,1,1,0,"",1.3699999999999999E-3,"",0,2,85320361,1,0,274,1,0,0,0,0,0,0,0,60.035496099999996,0,0,0,0,0,1,60.035496099999996,0,0,0,0,0,1,null,null,null,null,null,null,null,null,null,null,null,null,null,null,null,null,null,null,null,null,null,null,null,null,0,0,{"$f":"ROUND(Y274*Source!I163,7)","v":0},57844.42,43821.53,1.32,60.04,0,"","",{"$f":"ROUND(ROUND(AE274*AI274,2)*CX274,2)","v":0},0,0,0,0,0,"",0,"",0]
[{"$f":"ROW(Source!A163)","v":163},85316715,85320345,83870516,1,1,1,3,"14.4.02.04-0142","ФСБЦ-2022, 14.4.02.04-0142, приказ Минстроя России от 18.05.2022 г. № 378/пр","Краска масляная МА-0115, мумия, сурик железный",1346,null,1009,"кг","кг",1,null,null,null,null,null,0,291254868,0.02,null,115.03,0,0,0,79.88,0,0,0,1.44,1,1,1,2,0,0,1,1,0,"",0.02,"",0,2,85320362,1,0,275,1,0,0,0,0,0,0,0,1.5975999999999999,0,0,0,0,0,1,1.5975999999999999,0,0,0,0,0,1,null,null,null,null,null,null,null,null,null,null,null,null,null,null,null,null,null,null,null,null,null,null,null,null,0,0,{"$f":"ROUND(Y275*Source!I163,7)","v":0},115.03,79.88,1.44,1.6,0,"","",{"$f":"ROUND(ROUND(AE275*AI275,2)*CX275,2)","v":0},0,0,0,0,0,"",0,"",0]
[{"$f":"ROW(Source!A163)","v":163},85316715,85320345,83878106,1,1,1,3,"20.2.01.05-0011","ФСБЦ-2022 доп.11, 20.2.01.05-0011, приказ Минстроя России от 09.08.2024 г. № 524/пр","Гильзы кабельные медные 120 мм",1425,null,1013,"100 ШТ","100 ШТ",1,null,null,null,null,null,0,723347505,0.05,null,14237.19,0,0,0,11574.95,0,0,0,1.23,1,1,1,2,0,0,1,1,0,"",0.05,"",0,2,85320363,1,0,276,1,0,0,0,0,0,0,0,578.74750000000006,0,0,0,0,0,1,578.74750000000006,0,0,0,0,0,1,null,null,null,null,null,null,null,null,null,null,null,null,null,null,null,null,null,null,null,null,null,null,null,null,0,0,{"$f":"ROUND(Y276*Source!I163,7)","v":0},14237.19,11574.95,1.23,578.75,0,"","",{"$f":"ROUND(ROUND(AE276*AI276,2)*CX276,2)","v":0},0,0,0,0,0,"",0,"",0]
[{"$f":"ROW(Source!A163)","v":163},85316715,85320345,83878151,1,1,1,3,"20.2.02.01-0016","ФСБЦ-2022 доп.9, 20.2.02.01-0016, приказ Минстроя России от 16.02.2024 г. № 102/пр","Втулки полипропиленовые, диаметр 69 мм",1407,null,1013,"1000 ШТ","1000 ШТ",1,null,null,null,null,null,0,-1403868175,1.2200000000000001E-2,null,8561.9,0,0,0,6904.76,0,0,0,1.24,1,1,1,2,0,0,1,1,0,"",1.2200000000000001E-2,"",0,2,85320364,1,0,277,1,0,0,0,0,0,0,0,84.238072000000003,0,0,0,0,0,1,84.238072000000003,0,0,0,0,0,1,null,null,null,null,null,null,null,null,null,null,null,null,null,null,null,null,null,null,null,null,null,null,null,null,0,0,{"$f":"ROUND(Y277*Source!I163,7)","v":0},8561.9,6904.76,1.24,84.24,0,"","",{"$f":"ROUND(ROUND(AE277*AI277,2)*CX277,2)","v":0},0,0,0,0,0,"",0,"",0]
[{"$f":"ROW(Source!A163)","v":163},85316715,85320345,83783523,117,1,1,3,"421/пр_2020_п.75_пп.а","","Сметная стоимость вспомогательных ненормируемых материальных ресурсов, не учтенная в сметной норме, 2%",3277935,null,1013,"%","%",1,null,null,null,null,null,0,274903907,2,null,0,0,0,0,0,0,0,0,1,1,1,1,0,0,0,0,0,0,"",2,"",0,2,85320365,1,0,278,0,0,0,0,0,0,0,0,0,0,0,0,0,0,0,0,0,0,0,0,0,0,null,null,null,null,null,null,null,null,null,null,null,null,null,null,null,null,null,null,null,null,null,null,null,null,0,0,{"$f":"ROUND(Y278*Source!I163,7)","v":0},0,0,1,0,0,"","",{"$f":"ROUND(ROUND(AE278,2)*CX278,2)","v":0},0,0,0,0,0,"",0,"",0]
[{"$f":"ROW(Source!A164)","v":164},85316656,85320345,83777513,117,1,1,1,"1-100-38","","Средний разряд работы 3,8",1191,null,1013,"чел.-ч.","чел.-ч.",1,null,null,null,null,null,0,44848675,14.4,null,0,0,0,793.61,0,0,0,793.61,1,1,1,1,-2,0,0,1,1,0,"",14.4,"",1,2,85320356,1,0,279,1,0,0,0,0,0,0,0,0,0,0,11427.984,14.4,0,1,0,0,0,11427.984,14.4,0,1,null,null,null,null,null,null,null,null,null,null,null,null,null,null,null,null,null,null,null,null,null,null,null,{"$f":"ROUND(AT279*Source!I164*AH279*AL279,2)","v":0},{"$f":"ROUND(Y279*Source!I164,7)","v":0},0,{"$f":"ROUND(Y279*Source!I164,7)","v":0},{"$f":"AD279","v":793.61},{"$f":"AH279","v":793.61},{"$f":"AL279","v":1},11427.98,0,"","",{"$f":"ROUND(ROUND(AE279,2)*CX279,2)","v":0},0,0,0,{"$f":"DI279","v":0},1,"",0,"",0]
[{"$f":"ROW(Source!A164)","v":164},85316656,85320345,83777689,117,1,1,1,"4-100-00","","Затраты труда машинистов",1191,null,1013,"чел.-ч.","чел.-ч.",1,null,null,null,null,null,0,-1417349443,0.4,null,0,0,0,0,0,0,0,0,1,1,1,1,-2,0,0,1,1,0,"",0.4,"",2,2,85320357,1,0,280,1,0,0,0,0,0,0,0,0,0,0,0,0,0,0,0,0,0,0,0,0,0,null,null,null,null,null,null,null,null,null,null,null,null,null,null,null,null,null,null,null,null,null,null,null,null,0,0,{"$f":"ROUND(Y280*Source!I164,7)","v":0},{"$f":"AD280","v":0},{"$f":"AH280","v":0},{"$f":"AL280","v":1},0,0,"","",{"$f":"ROUND(ROUND(AE280,2)*CX280,2)","v":0},0,0,0,{"$f":"DI280","v":0},0,"",0,"",0]
[{"$f":"ROW(Source!A164)","v":164},85316656,85320345,83784178,1,1,1,2,"91.05.05-015","ФСЭМ-2022, 91.05.05-015, приказ Минстроя России от 18.05.2022 г. № 378/пр","Краны на автомобильном ходу, грузоподъемность 16 т",1368,null,1011,"маш.-ч","маш.-ч",1,null,null,null,null,null,0,639918019,0.2,null,0,1626.29,1090.46,0,0,1626.29,1090.46,0,1,1,1,1,-2,0,0,1,1,0,"",0.2,"",1,2,85320358,1,0,281,1,0,0,0,0,0,0,0,0,325.25800000000004,218.09200000000001,0,0,0.2,1,0,325.25800000000004,218.09200000000001,0,0,0.2,1,null,null,null,null,null,null,null,null,null,null,null,null,null,null,null,null,null,null,null,null,null,null,null,null,0,{"$f":"ROUND(Y281*Source!I164*DO281,7)","v":0},{"$f":"ROUND(Y281*Source!I164,7)","v":0},{"$f":"AB281","v":1626.29},{"$f":"AF281","v":1626.29},{"$f":"AJ281","v":1},325.26,218.09,"","",{"$f":"ROUND(ROUND(AE281,2)*CX281,2)","v":0},0,0,0,{"$f":"DG281+DH281","v":0},1,"4-100-060",6,"чел.-ч.",1]
[{"$f":"ROW(Source!A164)","v":164},85316656,85320345,83785072,1,1,1,2,"91.14.02-001","ФСЭМ-2022 доп.7, 91.14.02-001, приказ Минстроя России от 02.08.2023 г. № 551/пр","Автомобили бортовые, грузоподъемность до 5 т",1368,null,1011,"маш.-ч","маш.-ч",1,null,null,null,null,null,0,-849950259,0.2,null,0,641.70000000000005,811.79,0,0,641.70000000000005,811.79,0,1,1,1,1,-2,0,0,1,1,0,"",0.2,"",1,2,85320359,1,0,282,1,0,0,0,0,0,0,0,0,128.34,162.358,0,0,0.2,1,0,128.34,162.358,0,0,0.2,1,null,null,null,null,null,null,null,null,null,null,null,null,null,null,null,null,null,null,null,null,null,null,null,null,0,{"$f":"ROUND(Y282*Source!I164*DO282,7)","v":0},{"$f":"ROUND(Y282*Source!I164,7)","v":0},{"$f":"AB282","v":641.70000000000005},{"$f":"AF282","v":641.70000000000005},{"$f":"AJ282","v":1},128.34,162.36000000000001,"","",{"$f":"ROUND(ROUND(AE282,2)*CX282,2)","v":0},0,0,0,{"$f":"DG282+DH282","v":0},1,"4-100-040",4,"чел.-ч.",1]
[{"$f":"ROW(Source!A164)","v":164},85316656,85320345,83852000,1,1,1,3,"01.7.06.05-0041","ФСБЦ-2022, 01.7.06.05-0041, приказ Минстроя России от 18.05.2022 г. № 378/пр","Ленты изоляционные хлопчатобумажные прорезиненные для электромонтажных и ремонтных работ, цвет черный, ширина 20 мм, толщина 0,35 мм",1301,null,1003,"м","м",1,null,null,null,null,null,0,-1499427467,33.33,null,5.17,0,0,0,5.87,0,0,0,0.88,1,1,1,2,0,0,1,1,0,"",33.33,"",0,2,85320360,1,0,283,1,0,0,0,0,0,0,0,195.64709999999999,0,0,0,0,0,1,195.64709999999999,0,0,0,0,0,1,null,null,null,null,null,null,null,null,null,null,null,null,null,null,null,null,null,null,null,null,null,null,null,null,0,0,{"$f":"ROUND(Y283*Source!I164,7)","v":0},{"$f":"AA283","v":5.17},{"$f":"AE283","v":5.87},{"$f":"AI283","v":0.88},195.65,0,"","",{"$f":"ROUND(ROUND(AE283*AI283,2)*CX283,2)","v":0},0,0,0,{"$f":"DF283","v":0},0,"",0,"",0]
[{"$f":"ROW(Source!A164)","v":164},85316656,85320345,83852170,1,1,1,3,"01.7.07.20-0002","ФСБЦ-2022, 01.7.07.20-0002, приказ Минстроя России от 18.05.2022 г. № 378/пр","Тальк молотый, сорт I",1348,null,1009,"т","т",1000,null,null,null,null,null,0,-423309981,1.3699999999999999E-3,null,57844.42,0,0,0,43821.53,0,0,0,1.32,1,1,1,2,0,0,1,1,0,"",1.3699999999999999E-3,"",0,2,85320361,1,0,284,1,0,0,0,0,0,0,0,60.035496099999996,0,0,0,0,0,1,60.035496099999996,0,0,0,0,0,1,null,null,null,null,null,null,null,null,null,null,null,null,null,null,null,null,null,null,null,null,null,null,null,null,0,0,{"$f":"ROUND(Y284*Source!I164,7)","v":0},57844.42,43821.53,1.32,60.04,0,"","",{"$f":"ROUND(ROUND(AE284*AI284,2)*CX284,2)","v":0},0,0,0,0,0,"",0,"",0]
[{"$f":"ROW(Source!A164)","v":164},85316656,85320345,83870516,1,1,1,3,"14.4.02.04-0142","ФСБЦ-2022, 14.4.02.04-0142, приказ Минстроя России от 18.05.2022 г. № 378/пр","Краска масляная МА-0115, мумия, сурик железный",1346,null,1009,"кг","кг",1,null,null,null,null,null,0,291254868,0.02,null,115.03,0,0,0,79.88,0,0,0,1.44,1,1,1,2,0,0,1,1,0,"",0.02,"",0,2,85320362,1,0,285,1,0,0,0,0,0,0,0,1.5975999999999999,0,0,0,0,0,1,1.5975999999999999,0,0,0,0,0,1,null,null,null,null,null,null,null,null,null,null,null,null,null,null,null,null,null,null,null,null,null,null,null,null,0,0,{"$f":"ROUND(Y285*Source!I164,7)","v":0},115.03,79.88,1.44,1.6,0,"","",{"$f":"ROUND(ROUND(AE285*AI285,2)*CX285,2)","v":0},0,0,0,0,0,"",0,"",0]
[{"$f":"ROW(Source!A164)","v":164},85316656,85320345,83878106,1,1,1,3,"20.2.01.05-0011","ФСБЦ-2022 доп.11, 20.2.01.05-0011, приказ Минстроя России от 09.08.2024 г. № 524/пр","Гильзы кабельные медные 120 мм",1425,null,1013,"100 ШТ","100 ШТ",1,null,null,null,null,null,0,723347505,0.05,null,14237.19,0,0,0,11574.95,0,0,0,1.23,1,1,1,2,0,0,1,1,0,"",0.05,"",0,2,85320363,1,0,286,1,0,0,0,0,0,0,0,578.74750000000006,0,0,0,0,0,1,578.74750000000006,0,0,0,0,0,1,null,null,null,null,null,null,null,null,null,null,null,null,null,null,null,null,null,null,null,null,null,null,null,null,0,0,{"$f":"ROUND(Y286*Source!I164,7)","v":0},14237.19,11574.95,1.23,578.75,0,"","",{"$f":"ROUND(ROUND(AE286*AI286,2)*CX286,2)","v":0},0,0,0,0,0,"",0,"",0]
[{"$f":"ROW(Source!A164)","v":164},85316656,85320345,83878151,1,1,1,3,"20.2.02.01-0016","ФСБЦ-2022 доп.9, 20.2.02.01-0016, приказ Минстроя России от 16.02.2024 г. № 102/пр","Втулки полипропиленовые, диаметр 69 мм",1407,null,1013,"1000 ШТ","1000 ШТ",1,null,null,null,null,null,0,-1403868175,1.2200000000000001E-2,null,8561.9,0,0,0,6904.76,0,0,0,1.24,1,1,1,2,0,0,1,1,0,"",1.2200000000000001E-2,"",0,2,85320364,1,0,287,1,0,0,0,0,0,0,0,84.238072000000003,0,0,0,0,0,1,84.238072000000003,0,0,0,0,0,1,null,null,null,null,null,null,null,null,null,null,null,null,null,null,null,null,null,null,null,null,null,null,null,null,0,0,{"$f":"ROUND(Y287*Source!I164,7)","v":0},8561.9,6904.76,1.24,84.24,0,"","",{"$f":"ROUND(ROUND(AE287*AI287,2)*CX287,2)","v":0},0,0,0,0,0,"",0,"",0]
[{"$f":"ROW(Source!A164)","v":164},85316656,85320345,83783523,117,1,1,3,"421/пр_2020_п.75_пп.а","","Сметная стоимость вспомогательных ненормируемых материальных ресурсов, не учтенная в сметной норме, 2%",3277935,null,1013,"%","%",1,null,null,null,null,null,0,274903907,2,null,0,0,0,0,0,0,0,0,1,1,1,1,0,0,0,0,0,0,"",2,"",0,2,85320365,1,0,288,0,0,0,0,0,0,0,0,0,0,0,0,0,0,0,0,0,0,0,0,0,0,null,null,null,null,null,null,null,null,null,null,null,null,null,null,null,null,null,null,null,null,null,null,null,null,0,0,{"$f":"ROUND(Y288*Source!I164,7)","v":0},0,0,1,0,0,"","",{"$f":"ROUND(ROUND(AE288,2)*CX288,2)","v":0},0,0,0,0,0,"",0,"",0]
[{"$f":"ROW(Source!A168)","v":168},85316715,85320368,83777513,117,1,1,1,"1-100-38","","Средний разряд работы 3,8",1191,null,1013,"чел.-ч.","чел.-ч.",1,null,null,null,null,null,0,44848675,41.12,null,0,0,0,793.61,0,0,0,793.61,1,1,1,1,-2,0,0,1,1,0,"",41.12,"",1,2,85320380,1,0,289,1,0,0,0,0,0,0,0,0,0,0,32633.243199999997,41.12,0,1,0,0,0,32633.243199999997,41.12,0,1,null,null,null,null,null,null,null,null,null,null,null,null,null,null,null,null,null,null,null,null,null,null,null,{"$f":"ROUND(AT289*Source!I168*AH289*AL289,2)","v":0},{"$f":"ROUND(Y289*Source!I168,7)","v":0},0,{"$f":"ROUND(Y289*Source!I168,7)","v":0},{"$f":"AD289","v":793.61},{"$f":"AH289","v":793.61},{"$f":"AL289","v":1},32633.24,0,"","",0,0,0,0,{"$f":"DI289","v":0},1,"",0,"",0]
[{"$f":"ROW(Source!A168)","v":168},85316715,85320368,83777689,117,1,1,1,"4-100-00","","Затраты труда машинистов",1191,null,1013,"чел.-ч.","чел.-ч.",1,null,null,null,null,null,0,-1417349443,1.54,null,0,0,0,0,0,0,0,0,1,1,1,1,-2,0,0,1,1,0,"",1.54,"",2,2,85320381,1,0,290,1,0,0,0,0,0,0,0,0,0,0,0,0,0,0,0,0,0,0,0,0,0,null,null,null,null,null,null,null,null,null,null,null,null,null,null,null,null,null,null,null,null,null,null,null,null,0,0,{"$f":"ROUND(Y290*Source!I168,7)","v":0},{"$f":"AD290","v":0},{"$f":"AH290","v":0},{"$f":"AL290","v":1},0,0,"","",0,0,0,0,{"$f":"DI290","v":0},0,"",0,"",0]
[{"$f":"ROW(Source!A168)","v":168},85316715,85320368,83784178,1,1,1,2,"91.05.05-015","ФСЭМ-2022, 91.05.05-015, приказ Минстроя России от 18.05.2022 г. № 378/пр","Краны на автомобильном ходу, грузоподъемность 16 т",1368,null,1011,"маш.-ч","маш.-ч",1,null,null,null,null,null,0,639918019,0.77,null,0,1626.29,1090.46,0,0,1626.29,1090.46,0,1,1,1,1,-2,0,0,1,1,0,"",0.77,"",1,2,85320382,1,0,291,1,0,0,0,0,0,0,0,0,1252.2433000000001,839.65420000000006,0,0,0.77,1,0,1252.2433000000001,839.65420000000006,0,0,0.77,1,null,null,null,null,null,null,null,null,null,null,null,null,null,null,null,null,null,null,null,null,null,null,null,null,0,{"$f":"ROUND(Y291*Source!I168*DO291,7)","v":0},{"$f":"ROUND(Y291*Source!I168,7)","v":0},{"$f":"AB291","v":1626.29},{"$f":"AF291","v":1626.29},{"$f":"AJ291","v":1},1252.24,839.65,"","",0,0,0,0,{"$f":"DG291+DH291","v":0},1,"4-100-060",6,"чел.-ч.",1]
[{"$f":"ROW(Source!A168)","v":168},85316715,85320368,83785072,1,1,1,2,"91.14.02-001","ФСЭМ-2022 доп.7, 91.14.02-001, приказ Минстроя России от 02.08.2023 г. № 551/пр","Автомобили бортовые, грузоподъемность до 5 т",1368,null,1011,"маш.-ч","маш.-ч",1,null,null,null,null,null,0,-849950259,0.77,null,0,641.70000000000005,811.79,0,0,641.70000000000005,811.79,0,1,1,1,1,-2,0,0,1,1,0,"",0.77,"",1,2,85320383,1,0,292,1,0,0,0,0,0,0,0,0,494.10900000000004,625.07830000000001,0,0,0.77,1,0,494.10900000000004,625.07830000000001,0,0,0.77,1,null,null,null,null,null,null,null,null,null,null,null,null,null,null,null,null,null,null,null,null,null,null,null,null,0,{"$f":"ROUND(Y292*Source!I168*DO292,7)","v":0},{"$f":"ROUND(Y292*Source!I168,7)","v":0},{"$f":"AB292","v":641.70000000000005},{"$f":"AF292","v":641.70000000000005},{"$f":"AJ292","v":1},494.11,625.08000000000004,"","",0,{"$f":"ROUND(ROUND(AF292,2)*CX292,2)","v":0},0,0,{"$f":"DG292+DH292","v":0},1,"4-100-040",4,"чел.-ч.",1]
[{"$f":"ROW(Source!A168)","v":168},85316715,85320368,83785268,1,1,1,2,"91.17.04-233","ФСЭМ-2022, 91.17.04-233, приказ Минстроя России от 18.05.2022 г. № 378/пр","Аппараты сварочные для ручной дуговой сварки, сварочный ток до 350 А",1368,null,1011,"маш.-ч","маш.-ч",1,null,null,null,null,null,0,303316554,4.9400000000000004,null,0,34.61,0,0,0,34.61,0,0,1,1,1,1,-2,0,0,1,1,0,"",4.9400000000000004,"",1,2,85320384,1,0,293,1,0,0,0,0,0,0,0,0,170.9734,0,0,0,0,1,0,170.9734,0,0,0,0,1,null,null,null,null,null,null,null,null,null,null,null,null,null,null,null,null,null,null,null,null,null,null,null,null,0,{"$f":"ROUND(Y293*Source!I168*DO293,7)","v":0},{"$f":"ROUND(Y293*Source!I168,7)","v":0},{"$f":"AB293","v":34.61},{"$f":"AF293","v":34.61},{"$f":"AJ293","v":1},170.97,0,"","",0,0,0,0,{"$f":"DG293+DH293","v":0},1,"",0,"",0]
[{"$f":"ROW(Source!A168)","v":168},85316715,85320368,83851809,1,1,1,3,"01.7.02.07-0011","ФСБЦ-2022 доп.12, 01.7.02.07-0011, приказ Минстроя России от 07.11.2024 г. № 747/пр","Прессшпан листовой, марка А",1346,null,1009,"кг","кг",1,null,null,null,null,null,0,-999785557,0.99,null,282.81,0,0,0,206.43,0,0,0,1.37,1,1,1,2,0,0,1,1,0,"",0.99,"",0,2,85320385,1,0,294,1,0,0,0,0,0,0,0,204.3657,0,0,0,0,0,1,204.3657,0,0,0,0,0,1,null,null,null,null,null,null,null,null,null,null,null,null,null,null,null,null,null,null,null,null,null,null,null,null,0,0,{"$f":"ROUND(Y294*Source!I168,7)","v":0},{"$f":"AA294","v":282.81},{"$f":"AE294","v":206.43},{"$f":"AI294","v":1.37},204.37,0,"","",{"$f":"ROUND(ROUND(AE294*AI294,2)*CX294,2)","v":0},0,0,0,{"$f":"DF294","v":0},0,"",0,"",0]
[{"$f":"ROW(Source!A168)","v":168},85316715,85320368,83851841,1,1,1,3,"01.7.03.04-0001","ФСБЦ-2022, 01.7.03.04-0001, приказ Минстроя России от 18.05.2022 г. № 378/пр","Электроэнергия",1383,null,1013,"КВТ-Ч","КВТ-Ч",1,null,null,null,null,null,0,1840299850,2.5428000000000002,null,7.32,0,0,0,7.32,0,0,0,1,1,1,1,-2,0,0,1,1,0,"",2.5428000000000002,"",0,2,85320386,1,0,295,1,0,0,0,0,0,0,0,18.613296000000002,0,0,0,0,0,1,18.613296000000002,0,0,0,0,0,1,null,null,null,null,null,null,null,null,null,null,null,null,null,null,null,null,null,null,null,null,null,null,null,null,0,0,{"$f":"ROUND(Y295*Source!I168,7)","v":0},7.32,7.32,1,18.61,0,"","",{"$f":"ROUND(ROUND(AE295,2)*CX295,2)","v":0},0,0,0,0,1,"",0,"",0]
[{"$f":"ROW(Source!A168)","v":168},85316715,85320368,83852582,1,1,1,3,"01.7.11.07-0227","ФСБЦ-2022, 01.7.11.07-0227, приказ Минстроя России от 18.05.2022 г. № 378/пр","Электроды сварочные для сварки низколегированных и углеродистых сталей УОНИ 13/45, Э42А, диаметр 4-5 мм",1346,null,1009,"кг","кг",1,null,null,null,null,null,0,-163259778,3,null,121.39,0,0,0,155.63,0,0,0,0.78,1,1,1,2,0,0,1,1,0,"",3,"",0,2,85320387,1,0,296,1,0,0,0,0,0,0,0,466.89,0,0,0,0,0,1,466.89,0,0,0,0,0,1,null,null,null,null,null,null,null,null,null,null,null,null,null,null,null,null,null,null,null,null,null,null,null,null,0,0,{"$f":"ROUND(Y296*Source!I168,7)","v":0},121.39,155.63,0.78,466.89,0,"","",{"$f":"ROUND(ROUND(AE296*AI296,2)*CX296,2)","v":0},0,0,0,0,0,"",0,"",0]
[{"$f":"ROW(Source!A168)","v":168},85316715,85320368,83853343,1,1,1,3,"01.7.15.04-0011","ФСБЦ-2022, 01.7.15.04-0011, приказ Минстроя России от 18.05.2022 г. № 378/пр","Винты стальные с полукруглой головкой, длина 50 мм",1348,null,1009,"т","т",1000,null,null,null,null,null,0,-82070740,1.5499999999999999E-3,null,164353.74,0,0,0,127406,0,0,0,1.29,1,1,1,2,0,0,1,1,0,"",1.5499999999999999E-3,"",0,2,85320388,1,0,297,1,0,0,0,0,0,0,0,197.47929999999999,0,0,0,0,0,1,197.47929999999999,0,0,0,0,0,1,null,null,null,null,null,null,null,null,null,null,null,null,null,null,null,null,null,null,null,null,null,null,null,null,0,0,{"$f":"ROUND(Y297*Source!I168,7)","v":0},164353.74,127406,1.29,197.48,0,"","",{"$f":"ROUND(ROUND(AE297*AI297,2)*CX297,2)","v":0},0,0,0,0,0,"",0,"",0]
[{"$f":"ROW(Source!A168)","v":168},85316715,85320368,83870516,1,1,1,3,"14.4.02.04-0142","ФСБЦ-2022, 14.4.02.04-0142, приказ Минстроя России от 18.05.2022 г. № 378/пр","Краска масляная МА-0115, мумия, сурик железный",1346,null,1009,"кг","кг",1,null,null,null,null,null,0,291254868,0.1,null,115.03,0,0,0,79.88,0,0,0,1.44,1,1,1,2,0,0,1,1,0,"",0.1,"",0,2,85320389,1,0,298,1,0,0,0,0,0,0,0,7.9879999999999995,0,0,0,0,0,1,7.9879999999999995,0,0,0,0,0,1,null,null,null,null,null,null,null,null,null,null,null,null,null,null,null,null,null,null,null,null,null,null,null,null,0,0,{"$f":"ROUND(Y298*Source!I168,7)","v":0},115.03,79.88,1.44,7.99,0,"","",{"$f":"ROUND(ROUND(AE298*AI298,2)*CX298,2)","v":0},0,0,0,0,0,"",0,"",0]
[{"$f":"ROW(Source!A168)","v":168},85316715,85320368,83783523,117,1,1,3,"421/пр_2020_п.75_пп.а","","Сметная стоимость вспомогательных ненормируемых материальных ресурсов, не учтенная в сметной норме, 2%",3277935,null,1013,"%","%",1,null,null,null,null,null,0,274903907,2,null,0,0,0,0,0,0,0,0,1,1,1,1,0,0,0,0,0,0,"",2,"",0,2,85320390,1,0,299,0,0,0,0,0,0,0,0,0,0,0,0,0,0,0,0,0,0,0,0,0,0,null,null,null,null,null,null,null,null,null,null,null,null,null,null,null,null,null,null,null,null,null,null,null,null,0,0,{"$f":"ROUND(Y299*Source!I168,7)","v":0},0,0,1,0,0,"","",{"$f":"ROUND(ROUND(AE299,2)*CX299,2)","v":0},0,0,0,0,0,"",0,"",0]
[{"$f":"ROW(Source!A169)","v":169},85316656,85320368,83777513,117,1,1,1,"1-100-38","","Средний разряд работы 3,8",1191,null,1013,"чел.-ч.","чел.-ч.",1,null,null,null,null,null,0,44848675,41.12,null,0,0,0,793.61,0,0,0,793.61,1,1,1,1,-2,0,0,1,1,0,"",41.12,"",1,2,85320380,1,0,300,1,0,0,0,0,0,0,0,0,0,0,32633.243199999997,41.12,0,1,0,0,0,32633.243199999997,41.12,0,1,null,null,null,null,null,null,null,null,null,null,null,null,null,null,null,null,null,null,null,null,null,null,null,{"$f":"ROUND(AT300*Source!I169*AH300*AL300,2)","v":0},{"$f":"ROUND(Y300*Source!I169,7)","v":0},0,{"$f":"ROUND(Y300*Source!I169,7)","v":0},{"$f":"AD300","v":793.61},{"$f":"AH300","v":793.61},{"$f":"AL300","v":1},32633.24,0,"","",0,0,0,0,{"$f":"DI300","v":0},1,"",0,"",0]
[{"$f":"ROW(Source!A169)","v":169},85316656,85320368,83777689,117,1,1,1,"4-100-00","","Затраты труда машинистов",1191,null,1013,"чел.-ч.","чел.-ч.",1,null,null,null,null,null,0,-1417349443,1.54,null,0,0,0,0,0,0,0,0,1,1,1,1,-2,0,0,1,1,0,"",1.54,"",2,2,85320381,1,0,301,1,0,0,0,0,0,0,0,0,0,0,0,0,0,0,0,0,0,0,0,0,0,null,null,null,null,null,null,null,null,null,null,null,null,null,null,null,null,null,null,null,null,null,null,null,null,0,0,{"$f":"ROUND(Y301*Source!I169,7)","v":0},{"$f":"AD301","v":0},{"$f":"AH301","v":0},{"$f":"AL301","v":1},0,0,"","",0,0,0,0,{"$f":"DI301","v":0},0,"",0,"",0]
[{"$f":"ROW(Source!A169)","v":169},85316656,85320368,83784178,1,1,1,2,"91.05.05-015","ФСЭМ-2022, 91.05.05-015, приказ Минстроя России от 18.05.2022 г. № 378/пр","Краны на автомобильном ходу, грузоподъемность 16 т",1368,null,1011,"маш.-ч","маш.-ч",1,null,null,null,null,null,0,639918019,0.77,null,0,1626.29,1090.46,0,0,1626.29,1090.46,0,1,1,1,1,-2,0,0,1,1,0,"",0.77,"",1,2,85320382,1,0,302,1,0,0,0,0,0,0,0,0,1252.2433000000001,839.65420000000006,0,0,0.77,1,0,1252.2433000000001,839.65420000000006,0,0,0.77,1,null,null,null,null,null,null,null,null,null,null,null,null,null,null,null,null,null,null,null,null,null,null,null,null,0,{"$f":"ROUND(Y302*Source!I169*DO302,7)","v":0},{"$f":"ROUND(Y302*Source!I169,7)","v":0},{"$f":"AB302","v":1626.29},{"$f":"AF302","v":1626.29},{"$f":"AJ302","v":1},1252.24,839.65,"","",0,0,0,0,{"$f":"DG302+DH302","v":0},1,"4-100-060",6,"чел.-ч.",1]
[{"$f":"ROW(Source!A169)","v":169},85316656,85320368,83785072,1,1,1,2,"91.14.02-001","ФСЭМ-2022 доп.7, 91.14.02-001, приказ Минстроя России от 02.08.2023 г. № 551/пр","Автомобили бортовые, грузоподъемность до 5 т",1368,null,1011,"маш.-ч","маш.-ч",1,null,null,null,null,null,0,-849950259,0.77,null,0,641.70000000000005,811.79,0,0,641.70000000000005,811.79,0,1,1,1,1,-2,0,0,1,1,0,"",0.77,"",1,2,85320383,1,0,303,1,0,0,0,0,0,0,0,0,494.10900000000004,625.07830000000001,0,0,0.77,1,0,494.10900000000004,625.07830000000001,0,0,0.77,1,null,null,null,null,null,null,null,null,null,null,null,null,null,null,null,null,null,null,null,null,null,null,null,null,0,{"$f":"ROUND(Y303*Source!I169*DO303,7)","v":0},{"$f":"ROUND(Y303*Source!I169,7)","v":0},{"$f":"AB303","v":641.70000000000005},{"$f":"AF303","v":641.70000000000005},{"$f":"AJ303","v":1},494.11,625.08000000000004,"","",0,0,0,0,{"$f":"DG303+DH303","v":0},1,"4-100-040",4,"чел.-ч.",1]
[{"$f":"ROW(Source!A169)","v":169},85316656,85320368,83785268,1,1,1,2,"91.17.04-233","ФСЭМ-2022, 91.17.04-233, приказ Минстроя России от 18.05.2022 г. № 378/пр","Аппараты сварочные для ручной дуговой сварки, сварочный ток до 350 А",1368,null,1011,"маш.-ч","маш.-ч",1,null,null,null,null,null,0,303316554,4.9400000000000004,null,0,34.61,0,0,0,34.61,0,0,1,1,1,1,-2,0,0,1,1,0,"",4.9400000000000004,"",1,2,85320384,1,0,304,1,0,0,0,0,0,0,0,0,170.9734,0,0,0,0,1,0,170.9734,0,0,0,0,1,null,null,null,null,null,null,null,null,null,null,null,null,null,null,null,null,null,null,null,null,null,null,null,null,0,{"$f":"ROUND(Y304*Source!I169*DO304,7)","v":0},{"$f":"ROUND(Y304*Source!I169,7)","v":0},{"$f":"AB304","v":34.61},{"$f":"AF304","v":34.61},{"$f":"AJ304","v":1},170.97,0,"","",0,0,0,0,{"$f":"DG304+DH304","v":0},1,"",0,"",0]
[{"$f":"ROW(Source!A169)","v":169},85316656,85320368,83851809,1,1,1,3,"01.7.02.07-0011","ФСБЦ-2022 доп.12, 01.7.02.07-0011, приказ Минстроя России от 07.11.2024 г. № 747/пр","Прессшпан листовой, марка А",1346,null,1009,"кг","кг",1,null,null,null,null,null,0,-999785557,0.99,null,282.81,0,0,0,206.43,0,0,0,1.37,1,1,1,2,0,0,1,1,0,"",0.99,"",0,2,85320385,1,0,305,1,0,0,0,0,0,0,0,204.3657,0,0,0,0,0,1,204.3657,0,0,0,0,0,1,null,null,null,null,null,null,null,null,null,null,null,null,null,null,null,null,null,null,null,null,null,null,null,null,0,0,{"$f":"ROUND(Y305*Source!I169,7)","v":0},{"$f":"AA305","v":282.81},{"$f":"AE305","v":206.43},{"$f":"AI305","v":1.37},204.37,0,"","",{"$f":"ROUND(ROUND(AE305*AI305,2)*CX305,2)","v":0},0,0,0,{"$f":"DF305","v":0},0,"",0,"",0]
[{"$f":"ROW(Source!A169)","v":169},85316656,85320368,83851841,1,1,1,3,"01.7.03.04-0001","ФСБЦ-2022, 01.7.03.04-0001, приказ Минстроя России от 18.05.2022 г. № 378/пр","Электроэнергия",1383,null,1013,"КВТ-Ч","КВТ-Ч",1,null,null,null,null,null,0,1840299850,2.5428000000000002,null,7.32,0,0,0,7.32,0,0,0,1,1,1,1,-2,0,0,1,1,0,"",2.5428000000000002,"",0,2,85320386,1,0,306,1,0,0,0,0,0,0,0,18.613296000000002,0,0,0,0,0,1,18.613296000000002,0,0,0,0,0,1,null,null,null,null,null,null,null,null,null,null,null,null,null,null,null,null,null,null,null,null,null,null,null,null,0,0,{"$f":"ROUND(Y306*Source!I169,7)","v":0},7.32,7.32,1,18.61,0,"","",{"$f":"ROUND(ROUND(AE306,2)*CX306,2)","v":0},0,0,0,0,1,"",0,"",0]
[{"$f":"ROW(Source!A169)","v":169},85316656,85320368,83852582,1,1,1,3,"01.7.11.07-0227","ФСБЦ-2022, 01.7.11.07-0227, приказ Минстроя России от 18.05.2022 г. № 378/пр","Электроды сварочные для сварки низколегированных и углеродистых сталей УОНИ 13/45, Э42А, диаметр 4-5 мм",1346,null,1009,"кг","кг",1,null,null,null,null,null,0,-163259778,3,null,121.39,0,0,0,155.63,0,0,0,0.78,1,1,1,2,0,0,1,1,0,"",3,"",0,2,85320387,1,0,307,1,0,0,0,0,0,0,0,466.89,0,0,0,0,0,1,466.89,0,0,0,0,0,1,null,null,null,null,null,null,null,null,null,null,null,null,null,null,null,null,null,null,null,null,null,null,null,null,0,0,{"$f":"ROUND(Y307*Source!I169,7)","v":0},121.39,155.63,0.78,466.89,0,"","",{"$f":"ROUND(ROUND(AE307*AI307,2)*CX307,2)","v":0},0,0,0,0,0,"",0,"",0]
[{"$f":"ROW(Source!A169)","v":169},85316656,85320368,83853343,1,1,1,3,"01.7.15.04-0011","ФСБЦ-2022, 01.7.15.04-0011, приказ Минстроя России от 18.05.2022 г. № 378/пр","Винты стальные с полукруглой головкой, длина 50 мм",1348,null,1009,"т","т",1000,null,null,null,null,null,0,-82070740,1.5499999999999999E-3,null,164353.74,0,0,0,127406,0,0,0,1.29,1,1,1,2,0,0,1,1,0,"",1.5499999999999999E-3,"",0,2,85320388,1,0,308,1,0,0,0,0,0,0,0,197.47929999999999,0,0,0,0,0,1,197.47929999999999,0,0,0,0,0,1,null,null,null,null,null,null,null,null,null,null,null,null,null,null,null,null,null,null,null,null,null,null,null,null,0,0,{"$f":"ROUND(Y308*Source!I169,7)","v":0},164353.74,127406,1.29,197.48,0,"","",{"$f":"ROUND(ROUND(AE308*AI308,2)*CX308,2)","v":0},0,0,0,0,0,"",0,"",0]
[{"$f":"ROW(Source!A169)","v":169},85316656,85320368,83870516,1,1,1,3,"14.4.02.04-0142","ФСБЦ-2022, 14.4.02.04-0142, приказ Минстроя России от 18.05.2022 г. № 378/пр","Краска масляная МА-0115, мумия, сурик железный",1346,null,1009,"кг","кг",1,null,null,null,null,null,0,291254868,0.1,null,115.03,0,0,0,79.88,0,0,0,1.44,1,1,1,2,0,0,1,1,0,"",0.1,"",0,2,85320389,1,0,309,1,0,0,0,0,0,0,0,7.9879999999999995,0,0,0,0,0,1,7.9879999999999995,0,0,0,0,0,1,null,null,null,null,null,null,null,null,null,null,null,null,null,null,null,null,null,null,null,null,null,null,null,null,0,0,{"$f":"ROUND(Y309*Source!I169,7)","v":0},115.03,79.88,1.44,7.99,0,"","",{"$f":"ROUND(ROUND(AE309*AI309,2)*CX309,2)","v":0},0,0,0,0,0,"",0,"",0]
[{"$f":"ROW(Source!A169)","v":169},85316656,85320368,83783523,117,1,1,3,"421/пр_2020_п.75_пп.а","","Сметная стоимость вспомогательных ненормируемых материальных ресурсов, не учтенная в сметной норме, 2%",3277935,null,1013,"%","%",1,null,null,null,null,null,0,274903907,2,null,0,0,0,0,0,0,0,0,1,1,1,1,0,0,0,0,0,0,"",2,"",0,2,85320390,1,0,310,0,0,0,0,0,0,0,0,0,0,0,0,0,0,0,0,0,0,0,0,0,0,null,null,null,null,null,null,null,null,null,null,null,null,null,null,null,null,null,null,null,null,null,null,null,null,0,0,{"$f":"ROUND(Y310*Source!I169,7)","v":0},0,0,1,0,0,"","",{"$f":"ROUND(ROUND(AE310,2)*CX310,2)","v":0},0,0,0,0,0,"",0,"",0]
[{"$f":"ROW(Source!A173)","v":173},85316715,85320393,83777647,117,1,1,1,"2-100-02","","Рабочий 2 разряда",1369,null,1013,"чел.-ч","чел.-ч",1,null,null,null,null,null,0,-236928766,0.99,null,0,0,0,660.33,0,0,0,660.33,1,1,1,1,-2,0,0,1,1,0,"",0.99,"",1,2,85320407,1,0,311,1,0,0,0,0,0,0,0,0,0,0,653.72670000000005,0.99,0,1,0,0,0,653.72670000000005,0.99,0,1,null,null,null,null,null,null,null,null,null,null,null,null,null,null,null,null,null,null,null,null,null,null,null,{"$f":"ROUND(AT311*Source!I173*AH311*AL311,2)","v":0},{"$f":"ROUND(Y311*Source!I173,7)","v":0},0,{"$f":"ROUND(Y311*Source!I173,7)","v":0},{"$f":"AD311","v":660.33},{"$f":"AH311","v":660.33},{"$f":"AL311","v":1},653.73,0,"","",0,0,0,0,{"$f":"DI311","v":0},1,"",0,"",0]
[{"$f":"ROW(Source!A173)","v":173},85316715,85320393,83777649,117,1,1,1,"2-100-03","","Рабочий 3 разряда",1369,null,1013,"чел.-ч","чел.-ч",1,null,null,null,null,null,0,-587036825,47.29,null,0,0,0,720.91,0,0,0,720.91,1,1,1,1,-2,0,0,1,1,0,"",47.29,"",1,2,85320408,1,0,312,1,0,0,0,0,0,0,0,0,0,0,34091.833899999998,47.29,0,1,0,0,0,34091.833899999998,47.29,0,1,null,null,null,null,null,null,null,null,null,null,null,null,null,null,null,null,null,null,null,null,null,null,null,{"$f":"ROUND(AT312*Source!I173*AH312*AL312,2)","v":0},{"$f":"ROUND(Y312*Source!I173,7)","v":0},0,{"$f":"ROUND(Y312*Source!I173,7)","v":0},{"$f":"AD312","v":720.91},{"$f":"AH312","v":720.91},{"$f":"AL312","v":1},34091.83,0,"","",0,0,0,0,{"$f":"DI312","v":0},1,"",0,"",0]
[{"$f":"ROW(Source!A173)","v":173},85316715,85320393,83777653,117,1,1,1,"2-100-04","","Рабочий 4 разряда",1369,null,1013,"чел.-ч","чел.-ч",1,null,null,null,null,null,0,-512803540,23.42,null,0,0,0,811.79,0,0,0,811.79,1,1,1,1,-2,0,0,1,1,0,"",23.42,"",1,2,85320409,1,0,313,1,0,0,0,0,0,0,0,0,0,0,19012.121800000001,23.42,0,1,0,0,0,19012.121800000001,23.42,0,1,null,null,null,null,null,null,null,null,null,null,null,null,null,null,null,null,null,null,null,null,null,null,null,{"$f":"ROUND(AT313*Source!I173*AH313*AL313,2)","v":0},{"$f":"ROUND(Y313*Source!I173,7)","v":0},0,{"$f":"ROUND(Y313*Source!I173,7)","v":0},{"$f":"AD313","v":811.79},{"$f":"AH313","v":811.79},{"$f":"AL313","v":1},19012.12,0,"","",0,0,0,0,{"$f":"DI313","v":0},1,"",0,"",0]
[{"$f":"ROW(Source!A173)","v":173},85316715,85320393,83777657,117,1,1,1,"2-100-05","","Рабочий 5 разряда",1369,null,1013,"чел.-ч","чел.-ч",1,null,null,null,null,null,0,1518711480,23.42,null,0,0,0,932.95,0,0,0,932.95,1,1,1,1,-2,0,0,1,1,0,"",23.42,"",1,2,85320410,1,0,314,1,0,0,0,0,0,0,0,0,0,0,21849.689000000002,23.42,0,1,0,0,0,21849.689000000002,23.42,0,1,null,null,null,null,null,null,null,null,null,null,null,null,null,null,null,null,null,null,null,null,null,null,null,{"$f":"ROUND(AT314*Source!I173*AH314*AL314,2)","v":0},{"$f":"ROUND(Y314*Source!I173,7)","v":0},0,{"$f":"ROUND(Y314*Source!I173,7)","v":0},{"$f":"AD314","v":932.95},{"$f":"AH314","v":932.95},{"$f":"AL314","v":1},21849.69,0,"","",0,0,0,0,{"$f":"DI314","v":0},1,"",0,"",0]
[{"$f":"ROW(Source!A173)","v":173},85316715,85320393,83777689,117,1,1,1,"4-100-00","","Затраты труда машинистов",1191,null,1013,"чел.-ч.","чел.-ч.",1,null,null,null,null,null,0,-1417349443,24.89,null,0,0,0,0,0,0,0,0,1,1,1,1,-2,0,0,1,1,0,"",24.89,"",2,2,85320411,1,0,315,1,0,0,0,0,0,0,0,0,0,0,0,0,0,0,0,0,0,0,0,0,0,null,null,null,null,null,null,null,null,null,null,null,null,null,null,null,null,null,null,null,null,null,null,null,null,0,0,{"$f":"ROUND(Y315*Source!I173,7)","v":0},{"$f":"AD315","v":0},{"$f":"AH315","v":0},{"$f":"AL315","v":1},0,0,"","",0,0,0,0,{"$f":"DI315","v":0},0,"",0,"",0]
[{"$f":"ROW(Source!A173)","v":173},85316715,85320393,83784178,1,1,1,2,"91.05.05-015","ФСЭМ-2022, 91.05.05-015, приказ Минстроя России от 18.05.2022 г. № 378/пр","Краны на автомобильном ходу, грузоподъемность 16 т",1368,null,1011,"маш.-ч","маш.-ч",1,null,null,null,null,null,0,639918019,0.75,null,0,1626.29,1090.46,0,0,1626.29,1090.46,0,1,1,1,1,-2,0,0,1,1,0,"",0.75,"",1,2,85320412,1,0,316,1,0,0,0,0,0,0,0,0,1219.7175,817.84500000000003,0,0,0.75,1,0,1219.7175,817.84500000000003,0,0,0.75,1,null,null,null,null,null,null,null,null,null,null,null,null,null,null,null,null,null,null,null,null,null,null,null,null,0,{"$f":"ROUND(Y316*Source!I173*DO316,7)","v":0},{"$f":"ROUND(Y316*Source!I173,7)","v":0},{"$f":"AB316","v":1626.29},{"$f":"AF316","v":1626.29},{"$f":"AJ316","v":1},1219.72,817.85,"","",0,0,0,0,{"$f":"DG316+DH316","v":0},1,"4-100-060",6,"чел.-ч.",1]
[{"$f":"ROW(Source!A173)","v":173},85316715,85320393,83784312,1,1,1,2,"91.06.03-055","ФСЭМ-2022, 91.06.03-055, приказ Минстроя России от 18.05.2022 г. № 378/пр","Лебедки электрические тяговым усилием 19,62 кН (2 т)",1368,null,1011,"маш.-ч","маш.-ч",1,null,null,null,null,null,0,1560534341,0.81,null,0,16.95,0,0,0,11.45,0,0,1,1.48,1,1,2,0,0,1,1,0,"",0.81,"",1,2,85320413,1,0,317,1,0,0,0,0,0,0,0,0,9.2744999999999997,0,0,0,0,1,0,9.2744999999999997,0,0,0,0,1,null,null,null,null,null,null,null,null,null,null,null,null,null,null,null,null,null,null,null,null,null,null,null,null,0,{"$f":"ROUND(Y317*Source!I173*DO317,7)","v":0},{"$f":"ROUND(Y317*Source!I173,7)","v":0},{"$f":"AB317","v":16.95},{"$f":"AF317","v":11.45},{"$f":"AJ317","v":1.48},9.27,0,"","",0,{"$f":"ROUND(ROUND(AF317*AJ317,2)*CX317,2)","v":0},0,0,{"$f":"DG317+DH317","v":0},0,"",0,"",0]
[{"$f":"ROW(Source!A173)","v":173},85316715,85320393,83784352,1,1,1,2,"91.06.06-011","ФСЭМ-2022, 91.06.06-011, приказ Минстроя России от 18.05.2022 г. № 378/пр","Автогидроподъемники, высота подъема 12 м",1368,null,1011,"маш.-ч","маш.-ч",1,null,null,null,null,null,0,-438045540,22.74,null,0,506.23,811.79,0,0,346.73,811.79,0,1,1.46,1,1,2,0,0,1,1,0,"",22.74,"",1,2,85320414,1,0,318,1,0,0,0,0,0,0,0,0,7884.6401999999998,18460.104599999999,0,0,22.74,1,0,7884.6401999999998,18460.104599999999,0,0,22.74,1,null,null,null,null,null,null,null,null,null,null,null,null,null,null,null,null,null,null,null,null,null,null,null,null,0,{"$f":"ROUND(Y318*Source!I173*DO318,7)","v":0},{"$f":"ROUND(Y318*Source!I173,7)","v":0},{"$f":"AB318","v":506.23},{"$f":"AF318","v":346.73},{"$f":"AJ318","v":1.46},7884.64,18460.099999999999,"","",0,{"$f":"ROUND(ROUND(AF318*AJ318,2)*CX318,2)","v":0},0,0,{"$f":"DG318+DH318","v":0},0,"4-100-040",4,"чел.-ч.",1]
[{"$f":"ROW(Source!A173)","v":173},85316715,85320393,83785072,1,1,1,2,"91.14.02-001","ФСЭМ-2022 доп.7, 91.14.02-001, приказ Минстроя России от 02.08.2023 г. № 551/пр","Автомобили бортовые, грузоподъемность до 5 т",1368,null,1011,"маш.-ч","маш.-ч",1,null,null,null,null,null,0,-849950259,0.59,null,0,641.70000000000005,811.79,0,0,641.70000000000005,811.79,0,1,1,1,1,-2,0,0,1,1,0,"",0.59,"",1,2,85320415,1,0,319,1,0,0,0,0,0,0,0,0,378.60300000000001,478.95609999999994,0,0,0.59,1,0,378.60300000000001,478.95609999999994,0,0,0.59,1,null,null,null,null,null,null,null,null,null,null,null,null,null,null,null,null,null,null,null,null,null,null,null,null,0,{"$f":"ROUND(Y319*Source!I173*DO319,7)","v":0},{"$f":"ROUND(Y319*Source!I173,7)","v":0},{"$f":"AB319","v":641.70000000000005},{"$f":"AF319","v":641.70000000000005},{"$f":"AJ319","v":1},378.6,478.96,"","",0,{"$f":"ROUND(ROUND(AF319,2)*CX319,2)","v":0},0,0,{"$f":"DG319+DH319","v":0},1,"4-100-040",4,"чел.-ч.",1]
[{"$f":"ROW(Source!A173)","v":173},85316715,85320393,83785270,1,1,1,2,"91.17.04-544","ФСЭМ-2022, 91.17.04-544, приказ Минстроя России от 18.05.2022 г. № 378/пр","Генераторы бензиновые портативные, мощность до 6 кВт",1368,null,1011,"маш.-ч","маш.-ч",1,null,null,null,null,null,0,-1265937479,0.81,null,0,192.86,811.79,0,0,192.86,811.79,0,1,1,1,1,-2,0,0,1,1,0,"",0.81,"",1,2,85320416,1,0,320,1,0,0,0,0,0,0,0,0,156.21660000000003,657.54989999999998,0,0,0.81,1,0,156.21660000000003,657.54989999999998,0,0,0.81,1,null,null,null,null,null,null,null,null,null,null,null,null,null,null,null,null,null,null,null,null,null,null,null,null,0,{"$f":"ROUND(Y320*Source!I173*DO320,7)","v":0},{"$f":"ROUND(Y320*Source!I173,7)","v":0},{"$f":"AB320","v":192.86},{"$f":"AF320","v":192.86},{"$f":"AJ320","v":1},156.22,657.55,"","",0,0,0,0,{"$f":"DG320+DH320","v":0},1,"4-100-040",4,"чел.-ч.",1]
[{"$f":"ROW(Source!A173)","v":173},85316715,85320393,83782364,117,1,1,3,"20.1.01.01","","Комплект линейной арматуры для крепления СИП-2 на опоре ВЛИ",1371,null,1013,"ШТ","ШТ",1,null,null,null,null,null,0,864875641,{"$f":"AT321","v":0},null,0,0,0,0,0,0,0,0,1,1,1,1,0,1,0,1,0,0,"",0,"",0,2,85320417,1,0,321,0,0,0,0,0,0,0,0,0,0,0,0,0,0,0,0,0,0,0,0,0,0,null,null,null,null,null,null,null,null,null,null,null,null,null,null,null,null,null,null,null,null,null,null,null,null,0,0,{"$f":"ROUND(Y321*Source!I173,7)","v":0},{"$f":"AA321","v":0},{"$f":"AE321","v":0},{"$f":"AI321","v":1},{"$f":"ROUND(ROUND(AT321*CZ321,2),2)","v":0},{"$f":"ROUND(ROUND(AT321*AG321,2),2)","v":0},"","",0,0,{"$f":"ROUND(ROUND(AG321,2)*CX321,2)","v":0},{"$f":"ROUND(ROUND(AH321,2)*CX321,2)","v":0},{"$f":"DF321","v":0},0,"",0,"",0]
[{"$f":"ROW(Source!A173)","v":173},85316715,85320393,83782372,117,1,1,3,"20.1.01.11","","Комплект линейной арматуры для устройства заземлений на опорах ВЛИ",1371,null,1013,"ШТ","ШТ",1,null,null,null,null,null,0,-1890832814,0,null,0,0,0,0,0,0,0,0,1,1,1,1,0,1,0,1,0,0,"",0,"",0,2,85320418,1,0,322,0,0,0,0,0,0,0,0,0,0,0,0,0,0,0,0,0,0,0,0,0,0,null,null,null,null,null,null,null,null,null,null,null,null,null,null,null,null,null,null,null,null,null,null,null,null,0,0,{"$f":"ROUND(Y322*Source!I173,7)","v":0},{"$f":"AA322","v":0},{"$f":"AE322","v":0},{"$f":"AI322","v":1},0,0,"","",0,0,0,0,{"$f":"DF322","v":0},0,"",0,"",0]
[{"$f":"ROW(Source!A173)","v":173},85316715,85320393,83782541,117,1,1,3,"21.2.01.01","","Провода самонесущие изолированные для ВЛИ",1477,null,1013,"1000 м","1000 М",1,null,null,null,null,null,0,164804165,0,null,0,0,0,0,0,0,0,0,1,1,1,1,0,1,0,1,0,0,"",0,"",0,2,85320419,1,0,323,0,0,0,0,0,0,0,0,0,0,0,0,0,0,0,0,0,0,0,0,0,0,null,null,null,null,null,null,null,null,null,null,null,null,null,null,null,null,null,null,null,null,null,null,null,null,0,0,{"$f":"ROUND(Y323*Source!I173,7)","v":0},{"$f":"AA323","v":0},{"$f":"AE323","v":0},{"$f":"AI323","v":1},0,0,"","",0,0,0,0,{"$f":"DF323","v":0},0,"",0,"",0]
[{"$f":"ROW(Source!A174)","v":174},85316656,85320393,83777647,117,1,1,1,"2-100-02","","Рабочий 2 разряда",1369,null,1013,"чел.-ч","чел.-ч",1,null,null,null,null,null,0,-236928766,0.99,null,0,0,0,660.33,0,0,0,660.33,1,1,1,1,-2,0,0,1,1,0,"",0.99,"",1,2,85320407,1,0,324,1,0,0,0,0,0,0,0,0,0,0,653.72670000000005,0.99,0,1,0,0,0,653.72670000000005,0.99,0,1,null,null,null,null,null,null,null,null,null,null,null,null,null,null,null,null,null,null,null,null,null,null,null,{"$f":"ROUND(AT324*Source!I174*AH324*AL324,2)","v":0},{"$f":"ROUND(Y324*Source!I174,7)","v":0},0,{"$f":"ROUND(Y324*Source!I174,7)","v":0},{"$f":"AD324","v":660.33},{"$f":"AH324","v":660.33},{"$f":"AL324","v":1},653.73,0,"","",0,0,0,0,{"$f":"DI324","v":0},1,"",0,"",0]
[{"$f":"ROW(Source!A174)","v":174},85316656,85320393,83777649,117,1,1,1,"2-100-03","","Рабочий 3 разряда",1369,null,1013,"чел.-ч","чел.-ч",1,null,null,null,null,null,0,-587036825,47.29,null,0,0,0,720.91,0,0,0,720.91,1,1,1,1,-2,0,0,1,1,0,"",47.29,"",1,2,85320408,1,0,325,1,0,0,0,0,0,0,0,0,0,0,34091.833899999998,47.29,0,1,0,0,0,34091.833899999998,47.29,0,1,null,null,null,null,null,null,null,null,null,null,null,null,null,null,null,null,null,null,null,null,null,null,null,{"$f":"ROUND(AT325*Source!I174*AH325*AL325,2)","v":0},{"$f":"ROUND(Y325*Source!I174,7)","v":0},0,{"$f":"ROUND(Y325*Source!I174,7)","v":0},{"$f":"AD325","v":720.91},{"$f":"AH325","v":720.91},{"$f":"AL325","v":1},34091.83,0,"","",0,0,0,0,{"$f":"DI325","v":0},1,"",0,"",0]
[{"$f":"ROW(Source!A174)","v":174},85316656,85320393,83777653,117,1,1,1,"2-100-04","","Рабочий 4 разряда",1369,null,1013,"чел.-ч","чел.-ч",1,null,null,null,null,null,0,-512803540,23.42,null,0,0,0,811.79,0,0,0,811.79,1,1,1,1,-2,0,0,1,1,0,"",23.42,"",1,2,85320409,1,0,326,1,0,0,0,0,0,0,0,0,0,0,19012.121800000001,23.42,0,1,0,0,0,19012.121800000001,23.42,0,1,null,null,null,null,null,null,null,null,null,null,null,null,null,null,null,null,null,null,null,null,null,null,null,{"$f":"ROUND(AT326*Source!I174*AH326*AL326,2)","v":0},{"$f":"ROUND(Y326*Source!I174,7)","v":0},0,{"$f":"ROUND(Y326*Source!I174,7)","v":0},{"$f":"AD326","v":811.79},{"$f":"AH326","v":811.79},{"$f":"AL326","v":1},19012.12,0,"","",0,0,0,0,{"$f":"DI326","v":0},1,"",0,"",0]
[{"$f":"ROW(Source!A174)","v":174},85316656,85320393,83777657,117,1,1,1,"2-100-05","","Рабочий 5 разряда",1369,null,1013,"чел.-ч","чел.-ч",1,null,null,null,null,null,0,1518711480,23.42,null,0,0,0,932.95,0,0,0,932.95,1,1,1,1,-2,0,0,1,1,0,"",23.42,"",1,2,85320410,1,0,327,1,0,0,0,0,0,0,0,0,0,0,21849.689000000002,23.42,0,1,0,0,0,21849.689000000002,23.42,0,1,null,null,null,null,null,null,null,null,null,null,null,null,null,null,null,null,null,null,null,null,null,null,null,{"$f":"ROUND(AT327*Source!I174*AH327*AL327,2)","v":0},{"$f":"ROUND(Y327*Source!I174,7)","v":0},0,{"$f":"ROUND(Y327*Source!I174,7)","v":0},{"$f":"AD327","v":932.95},{"$f":"AH327","v":932.95},{"$f":"AL327","v":1},21849.69,0,"","",0,0,0,0,{"$f":"DI327","v":0},1,"",0,"",0]
[{"$f":"ROW(Source!A174)","v":174},85316656,85320393,83777689,117,1,1,1,"4-100-00","","Затраты труда машинистов",1191,null,1013,"чел.-ч.","чел.-ч.",1,null,null,null,null,null,0,-1417349443,24.89,null,0,0,0,0,0,0,0,0,1,1,1,1,-2,0,0,1,1,0,"",24.89,"",2,2,85320411,1,0,328,1,0,0,0,0,0,0,0,0,0,0,0,0,0,0,0,0,0,0,0,0,0,null,null,null,null,null,null,null,null,null,null,null,null,null,null,null,null,null,null,null,null,null,null,null,null,0,0,{"$f":"ROUND(Y328*Source!I174,7)","v":0},{"$f":"AD328","v":0},{"$f":"AH328","v":0},{"$f":"AL328","v":1},0,0,"","",0,0,0,0,{"$f":"DI328","v":0},0,"",0,"",0]
[{"$f":"ROW(Source!A174)","v":174},85316656,85320393,83784178,1,1,1,2,"91.05.05-015","ФСЭМ-2022, 91.05.05-015, приказ Минстроя России от 18.05.2022 г. № 378/пр","Краны на автомобильном ходу, грузоподъемность 16 т",1368,null,1011,"маш.-ч","маш.-ч",1,null,null,null,null,null,0,639918019,0.75,null,0,1626.29,1090.46,0,0,1626.29,1090.46,0,1,1,1,1,-2,0,0,1,1,0,"",0.75,"",1,2,85320412,1,0,329,1,0,0,0,0,0,0,0,0,1219.7175,817.84500000000003,0,0,0.75,1,0,1219.7175,817.84500000000003,0,0,0.75,1,null,null,null,null,null,null,null,null,null,null,null,null,null,null,null,null,null,null,null,null,null,null,null,null,0,{"$f":"ROUND(Y329*Source!I174*DO329,7)","v":0},{"$f":"ROUND(Y329*Source!I174,7)","v":0},{"$f":"AB329","v":1626.29},{"$f":"AF329","v":1626.29},{"$f":"AJ329","v":1},1219.72,817.85,"","",0,0,0,0,{"$f":"DG329+DH329","v":0},1,"4-100-060",6,"чел.-ч.",1]
[{"$f":"ROW(Source!A174)","v":174},85316656,85320393,83784312,1,1,1,2,"91.06.03-055","ФСЭМ-2022, 91.06.03-055, приказ Минстроя России от 18.05.2022 г. № 378/пр","Лебедки электрические тяговым усилием 19,62 кН (2 т)",1368,null,1011,"маш.-ч","маш.-ч",1,null,null,null,null,null,0,1560534341,0.81,null,0,16.95,0,0,0,11.45,0,0,1,1.48,1,1,2,0,0,1,1,0,"",0.81,"",1,2,85320413,1,0,330,1,0,0,0,0,0,0,0,0,9.2744999999999997,0,0,0,0,1,0,9.2744999999999997,0,0,0,0,1,null,null,null,null,null,null,null,null,null,null,null,null,null,null,null,null,null,null,null,null,null,null,null,null,0,{"$f":"ROUND(Y330*Source!I174*DO330,7)","v":0},{"$f":"ROUND(Y330*Source!I174,7)","v":0},{"$f":"AB330","v":16.95},{"$f":"AF330","v":11.45},{"$f":"AJ330","v":1.48},9.27,0,"","",0,{"$f":"ROUND(ROUND(AF330*AJ330,2)*CX330,2)","v":0},0,0,{"$f":"DG330+DH330","v":0},0,"",0,"",0]
[{"$f":"ROW(Source!A174)","v":174},85316656,85320393,83784352,1,1,1,2,"91.06.06-011","ФСЭМ-2022, 91.06.06-011, приказ Минстроя России от 18.05.2022 г. № 378/пр","Автогидроподъемники, высота подъема 12 м",1368,null,1011,"маш.-ч","маш.-ч",1,null,null,null,null,null,0,-438045540,22.74,null,0,506.23,811.79,0,0,346.73,811.79,0,1,1.46,1,1,2,0,0,1,1,0,"",22.74,"",1,2,85320414,1,0,331,1,0,0,0,0,0,0,0,0,7884.6401999999998,18460.104599999999,0,0,22.74,1,0,7884.6401999999998,18460.104599999999,0,0,22.74,1,null,null,null,null,null,null,null,null,null,null,null,null,null,null,null,null,null,null,null,null,null,null,null,null,0,{"$f":"ROUND(Y331*Source!I174*DO331,7)","v":0},{"$f":"ROUND(Y331*Source!I174,7)","v":0},{"$f":"AB331","v":506.23},{"$f":"AF331","v":346.73},{"$f":"AJ331","v":1.46},7884.64,18460.099999999999,"","",0,{"$f":"ROUND(ROUND(AF331*AJ331,2)*CX331,2)","v":0},0,0,{"$f":"DG331+DH331","v":0},0,"4-100-040",4,"чел.-ч.",1]
[{"$f":"ROW(Source!A174)","v":174},85316656,85320393,83785072,1,1,1,2,"91.14.02-001","ФСЭМ-2022 доп.7, 91.14.02-001, приказ Минстроя России от 02.08.2023 г. № 551/пр","Автомобили бортовые, грузоподъемность до 5 т",1368,null,1011,"маш.-ч","маш.-ч",1,null,null,null,null,null,0,-849950259,0.59,null,0,641.70000000000005,811.79,0,0,641.70000000000005,811.79,0,1,1,1,1,-2,0,0,1,1,0,"",0.59,"",1,2,85320415,1,0,332,1,0,0,0,0,0,0,0,0,378.60300000000001,478.95609999999994,0,0,0.59,1,0,378.60300000000001,478.95609999999994,0,0,0.59,1,null,null,null,null,null,null,null,null,null,null,null,null,null,null,null,null,null,null,null,null,null,null,null,null,0,{"$f":"ROUND(Y332*Source!I174*DO332,7)","v":0},{"$f":"ROUND(Y332*Source!I174,7)","v":0},{"$f":"AB332","v":641.70000000000005},{"$f":"AF332","v":641.70000000000005},{"$f":"AJ332","v":1},378.6,478.96,"","",0,{"$f":"ROUND(ROUND(AF332,2)*CX332,2)","v":0},0,0,{"$f":"DG332+DH332","v":0},1,"4-100-040",4,"чел.-ч.",1]
[{"$f":"ROW(Source!A174)","v":174},85316656,85320393,83785270,1,1,1,2,"91.17.04-544","ФСЭМ-2022, 91.17.04-544, приказ Минстроя России от 18.05.2022 г. № 378/пр","Генераторы бензиновые портативные, мощность до 6 кВт",1368,null,1011,"маш.-ч","маш.-ч",1,null,null,null,null,null,0,-1265937479,0.81,null,0,192.86,811.79,0,0,192.86,811.79,0,1,1,1,1,-2,0,0,1,1,0,"",0.81,"",1,2,85320416,1,0,333,1,0,0,0,0,0,0,0,0,156.21660000000003,657.54989999999998,0,0,0.81,1,0,156.21660000000003,657.54989999999998,0,0,0.81,1,null,null,null,null,null,null,null,null,null,null,null,null,null,null,null,null,null,null,null,null,null,null,null,null,0,{"$f":"ROUND(Y333*Source!I174*DO333,7)","v":0},{"$f":"ROUND(Y333*Source!I174,7)","v":0},{"$f":"AB333","v":192.86},{"$f":"AF333","v":192.86},{"$f":"AJ333","v":1},156.22,657.55,"","",0,0,0,0,{"$f":"DG333+DH333","v":0},1,"4-100-040",4,"чел.-ч.",1]
[{"$f":"ROW(Source!A174)","v":174},85316656,85320393,83782364,117,1,1,3,"20.1.01.01","","Комплект линейной арматуры для крепления СИП-2 на опоре ВЛИ",1371,null,1013,"ШТ","ШТ",1,null,null,null,null,null,0,864875641,0,null,0,0,0,0,0,0,0,0,1,1,1,1,0,1,0,1,0,0,"",0,"",0,2,85320417,1,0,334,0,0,0,0,0,0,0,0,0,0,0,0,0,0,0,0,0,0,0,0,0,0,null,null,null,null,null,null,null,null,null,null,null,null,null,null,null,null,null,null,null,null,null,null,null,null,0,0,{"$f":"ROUND(Y334*Source!I174,7)","v":0},{"$f":"AA334","v":0},{"$f":"AE334","v":0},{"$f":"AI334","v":1},0,0,"","",0,0,0,0,{"$f":"DF334","v":0},0,"",0,"",0]
[{"$f":"ROW(Source!A174)","v":174},85316656,85320393,83782372,117,1,1,3,"20.1.01.11","","Комплект линейной арматуры для устройства заземлений на опорах ВЛИ",1371,null,1013,"ШТ","ШТ",1,null,null,null,null,null,0,-1890832814,0,null,0,0,0,0,0,0,0,0,1,1,1,1,0,1,0,1,0,0,"",0,"",0,2,85320418,1,0,335,0,0,0,0,0,0,0,0,0,0,0,0,0,0,0,0,0,0,0,0,0,0,null,null,null,null,null,null,null,null,null,null,null,null,null,null,null,null,null,null,null,null,null,null,null,null,0,0,{"$f":"ROUND(Y335*Source!I174,7)","v":0},{"$f":"AA335","v":0},{"$f":"AE335","v":0},{"$f":"AI335","v":1},0,0,"","",0,0,0,0,{"$f":"DF335","v":0},0,"",0,"",0]
[{"$f":"ROW(Source!A174)","v":174},85316656,85320393,83782541,117,1,1,3,"21.2.01.01","","Провода самонесущие изолированные для ВЛИ",1477,null,1013,"1000 м","1000 М",1,null,null,null,null,null,0,164804165,0,null,0,0,0,0,0,0,0,0,1,1,1,1,0,1,0,1,0,0,"",0,"",0,2,85320419,1,0,336,0,0,0,0,0,0,0,0,0,0,0,0,0,0,0,0,0,0,0,0,0,0,null,null,null,null,null,null,null,null,null,null,null,null,null,null,null,null,null,null,null,null,null,null,null,null,0,0,{"$f":"ROUND(Y336*Source!I174,7)","v":0},{"$f":"AA336","v":0},{"$f":"AE336","v":0},{"$f":"AI336","v":1},0,0,"","",0,0,0,0,{"$f":"DF336","v":0},0,"",0,"",0]
[{"$f":"ROW(Source!A182)","v":182},85316715,85320424,83777649,117,1,1,1,"2-100-03","","Рабочий 3 разряда",1369,null,1013,"чел.-ч","чел.-ч",1,null,null,null,null,null,0,-587036825,0.91,null,0,0,0,720.91,0,0,0,720.91,1,1,1,1,-2,0,0,1,1,0,"",0.91,"",1,2,85320432,1,0,337,1,0,0,0,0,0,0,0,0,0,0,656.02809999999999,0.91,0,1,0,0,0,656.02809999999999,0.91,0,1,null,null,null,null,null,null,null,null,null,null,null,null,null,null,null,null,null,null,null,null,null,null,null,{"$f":"ROUND(AT337*Source!I182*AH337*AL337,2)","v":0},{"$f":"ROUND(Y337*Source!I182,7)","v":0},0,{"$f":"ROUND(Y337*Source!I182,7)","v":0},{"$f":"AD337","v":720.91},{"$f":"AH337","v":720.91},{"$f":"AL337","v":1},656.03,0,"","",0,0,0,0,{"$f":"DI337","v":0},1,"",0,"",0]
[{"$f":"ROW(Source!A182)","v":182},85316715,85320424,83777653,117,1,1,1,"2-100-04","","Рабочий 4 разряда",1369,null,1013,"чел.-ч","чел.-ч",1,null,null,null,null,null,0,-512803540,0.45,null,0,0,0,811.79,0,0,0,811.79,1,1,1,1,-2,0,0,1,1,0,"",0.45,"",1,2,85320433,1,0,338,1,0,0,0,0,0,0,0,0,0,0,365.30549999999999,0.45,0,1,0,0,0,365.30549999999999,0.45,0,1,null,null,null,null,null,null,null,null,null,null,null,null,null,null,null,null,null,null,null,null,null,null,null,{"$f":"ROUND(AT338*Source!I182*AH338*AL338,2)","v":0},{"$f":"ROUND(Y338*Source!I182,7)","v":0},0,{"$f":"ROUND(Y338*Source!I182,7)","v":0},{"$f":"AD338","v":811.79},{"$f":"AH338","v":811.79},{"$f":"AL338","v":1},365.31,0,"","",0,0,0,0,{"$f":"DI338","v":0},1,"",0,"",0]
[{"$f":"ROW(Source!A182)","v":182},85316715,85320424,83777657,117,1,1,1,"2-100-05","","Рабочий 5 разряда",1369,null,1013,"чел.-ч","чел.-ч",1,null,null,null,null,null,0,1518711480,0.45,null,0,0,0,932.95,0,0,0,932.95,1,1,1,1,-2,0,0,1,1,0,"",0.45,"",1,2,85320434,1,0,339,1,0,0,0,0,0,0,0,0,0,0,419.82750000000004,0.45,0,1,0,0,0,419.82750000000004,0.45,0,1,null,null,null,null,null,null,null,null,null,null,null,null,null,null,null,null,null,null,null,null,null,null,null,{"$f":"ROUND(AT339*Source!I182*AH339*AL339,2)","v":0},{"$f":"ROUND(Y339*Source!I182,7)","v":0},0,{"$f":"ROUND(Y339*Source!I182,7)","v":0},{"$f":"AD339","v":932.95},{"$f":"AH339","v":932.95},{"$f":"AL339","v":1},419.83,0,"","",0,0,0,0,{"$f":"DI339","v":0},1,"",0,"",0]
[{"$f":"ROW(Source!A182)","v":182},85316715,85320424,83777689,117,1,1,1,"4-100-00","","Затраты труда машинистов",1191,null,1013,"чел.-ч.","чел.-ч.",1,null,null,null,null,null,0,-1417349443,0.44,null,0,0,0,0,0,0,0,0,1,1,1,1,-2,0,0,1,1,0,"",0.44,"",2,2,85320435,1,0,340,1,0,0,0,0,0,0,0,0,0,0,0,0,0,0,0,0,0,0,0,0,0,null,null,null,null,null,null,null,null,null,null,null,null,null,null,null,null,null,null,null,null,null,null,null,null,0,0,{"$f":"ROUND(Y340*Source!I182,7)","v":0},{"$f":"AD340","v":0},{"$f":"AH340","v":0},{"$f":"AL340","v":1},0,0,"","",0,0,0,0,{"$f":"DI340","v":0},0,"",0,"",0]
[{"$f":"ROW(Source!A182)","v":182},85316715,85320424,83784352,1,1,1,2,"91.06.06-011","ФСЭМ-2022, 91.06.06-011, приказ Минстроя России от 18.05.2022 г. № 378/пр","Автогидроподъемники, высота подъема 12 м",1368,null,1011,"маш.-ч","маш.-ч",1,null,null,null,null,null,0,-438045540,0.44,null,0,506.23,811.79,0,0,346.73,811.79,0,1,1.46,1,1,2,0,0,1,1,0,"",0.44,"",1,2,85320436,1,0,341,1,0,0,0,0,0,0,0,0,152.56120000000001,357.18759999999997,0,0,0.44,1,0,152.56120000000001,357.18759999999997,0,0,0.44,1,null,null,null,null,null,null,null,null,null,null,null,null,null,null,null,null,null,null,null,null,null,null,null,null,0,{"$f":"ROUND(Y341*Source!I182*DO341,7)","v":0},{"$f":"ROUND(Y341*Source!I182,7)","v":0},{"$f":"AB341","v":506.23},{"$f":"AF341","v":346.73},{"$f":"AJ341","v":1.46},152.56,357.19,"","",0,{"$f":"ROUND(ROUND(AF341*AJ341,2)*CX341,2)","v":0},0,0,{"$f":"DG341+DH341","v":0},0,"4-100-040",4,"чел.-ч.",1]
[{"$f":"ROW(Source!A182)","v":182},85316715,85320424,83782364,117,1,1,3,"20.1.01.01","","Комплект линейной арматуры для крепления СИП-2 на опоре ВЛИ",1371,null,1013,"ШТ","ШТ",1,null,null,null,null,null,0,864875641,0,null,0,0,0,0,0,0,0,0,1,1,1,1,0,1,0,1,0,0,"",0,"",0,2,85320437,1,0,342,0,0,0,0,0,0,0,0,0,0,0,0,0,0,0,0,0,0,0,0,0,0,null,null,null,null,null,null,null,null,null,null,null,null,null,null,null,null,null,null,null,null,null,null,null,null,0,0,{"$f":"ROUND(Y342*Source!I182,7)","v":0},{"$f":"AA342","v":0},{"$f":"AE342","v":0},{"$f":"AI342","v":1},0,0,"","",0,{"$f":"ROUND(ROUND(AF342,2)*CX342,2)","v":0},0,0,{"$f":"DF342","v":0},0,"",0,"",0]
[{"$f":"ROW(Source!A182)","v":182},85316715,85320424,83782372,117,1,1,3,"20.1.01.11","","Комплект линейной арматуры для устройства заземлений на опорах ВЛИ",1371,null,1013,"ШТ","ШТ",1,null,null,null,null,null,0,-1890832814,0,null,0,0,0,0,0,0,0,0,1,1,1,1,0,1,0,1,0,0,"",0,"",0,2,85320438,1,0,343,0,0,0,0,0,0,0,0,0,0,0,0,0,0,0,0,0,0,0,0,0,0,null,null,null,null,null,null,null,null,null,null,null,null,null,null,null,null,null,null,null,null,null,null,null,null,0,0,{"$f":"ROUND(Y343*Source!I182,7)","v":0},{"$f":"AA343","v":0},{"$f":"AE343","v":0},{"$f":"AI343","v":1},0,0,"","",0,0,0,0,{"$f":"DF343","v":0},0,"",0,"",0]
[{"$f":"ROW(Source!A183)","v":183},85316656,85320424,83777649,117,1,1,1,"2-100-03","","Рабочий 3 разряда",1369,null,1013,"чел.-ч","чел.-ч",1,null,null,null,null,null,0,-587036825,0.91,null,0,0,0,720.91,0,0,0,720.91,1,1,1,1,-2,0,0,1,1,0,"",0.91,"",1,2,85320432,1,0,344,1,0,0,0,0,0,0,0,0,0,0,656.02809999999999,0.91,0,1,0,0,0,656.02809999999999,0.91,0,1,null,null,null,null,null,null,null,null,null,null,null,null,null,null,null,null,null,null,null,null,null,null,null,{"$f":"ROUND(AT344*Source!I183*AH344*AL344,2)","v":0},{"$f":"ROUND(Y344*Source!I183,7)","v":0},0,{"$f":"ROUND(Y344*Source!I183,7)","v":0},{"$f":"AD344","v":720.91},{"$f":"AH344","v":720.91},{"$f":"AL344","v":1},656.03,0,"","",0,0,0,0,{"$f":"DI344","v":0},1,"",0,"",0]
[{"$f":"ROW(Source!A183)","v":183},85316656,85320424,83777653,117,1,1,1,"2-100-04","","Рабочий 4 разряда",1369,null,1013,"чел.-ч","чел.-ч",1,null,null,null,null,null,0,-512803540,0.45,null,0,0,0,811.79,0,0,0,811.79,1,1,1,1,-2,0,0,1,1,0,"",0.45,"",1,2,85320433,1,0,345,1,0,0,0,0,0,0,0,0,0,0,365.30549999999999,0.45,0,1,0,0,0,365.30549999999999,0.45,0,1,null,null,null,null,null,null,null,null,null,null,null,null,null,null,null,null,null,null,null,null,null,null,null,{"$f":"ROUND(AT345*Source!I183*AH345*AL345,2)","v":0},{"$f":"ROUND(Y345*Source!I183,7)","v":0},0,{"$f":"ROUND(Y345*Source!I183,7)","v":0},{"$f":"AD345","v":811.79},{"$f":"AH345","v":811.79},{"$f":"AL345","v":1},365.31,0,"","",0,0,0,0,{"$f":"DI345","v":0},1,"",0,"",0]
[{"$f":"ROW(Source!A183)","v":183},85316656,85320424,83777657,117,1,1,1,"2-100-05","","Рабочий 5 разряда",1369,null,1013,"чел.-ч","чел.-ч",1,null,null,null,null,null,0,1518711480,0.45,null,0,0,0,932.95,0,0,0,932.95,1,1,1,1,-2,0,0,1,1,0,"",0.45,"",1,2,85320434,1,0,346,1,0,0,0,0,0,0,0,0,0,0,419.82750000000004,0.45,0,1,0,0,0,419.82750000000004,0.45,0,1,null,null,null,null,null,null,null,null,null,null,null,null,null,null,null,null,null,null,null,null,null,null,null,{"$f":"ROUND(AT346*Source!I183*AH346*AL346,2)","v":0},{"$f":"ROUND(Y346*Source!I183,7)","v":0},0,{"$f":"ROUND(Y346*Source!I183,7)","v":0},{"$f":"AD346","v":932.95},{"$f":"AH346","v":932.95},{"$f":"AL346","v":1},419.83,0,"","",0,0,0,0,{"$f":"DI346","v":0},1,"",0,"",0]
[{"$f":"ROW(Source!A183)","v":183},85316656,85320424,83777689,117,1,1,1,"4-100-00","","Затраты труда машинистов",1191,null,1013,"чел.-ч.","чел.-ч.",1,null,null,null,null,null,0,-1417349443,0.44,null,0,0,0,0,0,0,0,0,1,1,1,1,-2,0,0,1,1,0,"",0.44,"",2,2,85320435,1,0,347,1,0,0,0,0,0,0,0,0,0,0,0,0,0,0,0,0,0,0,0,0,0,null,null,null,null,null,null,null,null,null,null,null,null,null,null,null,null,null,null,null,null,null,null,null,null,0,0,{"$f":"ROUND(Y347*Source!I183,7)","v":0},{"$f":"AD347","v":0},{"$f":"AH347","v":0},{"$f":"AL347","v":1},0,0,"","",0,0,0,0,{"$f":"DI347","v":0},0,"",0,"",0]
[{"$f":"ROW(Source!A183)","v":183},85316656,85320424,83784352,1,1,1,2,"91.06.06-011","ФСЭМ-2022, 91.06.06-011, приказ Минстроя России от 18.05.2022 г. № 378/пр","Автогидроподъемники, высота подъема 12 м",1368,null,1011,"маш.-ч","маш.-ч",1,null,null,null,null,null,0,-438045540,0.44,null,0,506.23,811.79,0,0,346.73,811.79,0,1,1.46,1,1,2,0,0,1,1,0,"",0.44,"",1,2,85320436,1,0,348,1,0,0,0,0,0,0,0,0,152.56120000000001,357.18759999999997,0,0,0.44,1,0,152.56120000000001,357.18759999999997,0,0,0.44,1,null,null,null,null,null,null,null,null,null,null,null,null,null,null,null,null,null,null,null,null,null,null,null,null,0,{"$f":"ROUND(Y348*Source!I183*DO348,7)","v":0},{"$f":"ROUND(Y348*Source!I183,7)","v":0},{"$f":"AB348","v":506.23},{"$f":"AF348","v":346.73},{"$f":"AJ348","v":1.46},152.56,357.19,"","",0,{"$f":"ROUND(ROUND(AF348*AJ348,2)*CX348,2)","v":0},0,0,{"$f":"DG348+DH348","v":0},0,"4-100-040",4,"чел.-ч.",1]
[{"$f":"ROW(Source!A183)","v":183},85316656,85320424,83782364,117,1,1,3,"20.1.01.01","","Комплект линейной арматуры для крепления СИП-2 на опоре ВЛИ",1371,null,1013,"ШТ","ШТ",1,null,null,null,null,null,0,864875641,0,null,0,0,0,0,0,0,0,0,1,1,1,1,0,1,0,1,0,0,"",0,"",0,2,85320437,1,0,349,0,0,0,0,0,0,0,0,0,0,0,0,0,0,0,0,0,0,0,0,0,0,null,null,null,null,null,null,null,null,null,null,null,null,null,null,null,null,null,null,null,null,null,null,null,null,0,0,{"$f":"ROUND(Y349*Source!I183,7)","v":0},{"$f":"AA349","v":0},{"$f":"AE349","v":0},{"$f":"AI349","v":1},0,0,"","",0,{"$f":"ROUND(ROUND(AF349,2)*CX349,2)","v":0},0,0,{"$f":"DF349","v":0},0,"",0,"",0]
[{"$f":"ROW(Source!A183)","v":183},85316656,85320424,83782372,117,1,1,3,"20.1.01.11","","Комплект линейной арматуры для устройства заземлений на опорах ВЛИ",1371,null,1013,"ШТ","ШТ",1,null,null,null,null,null,0,-1890832814,0,null,0,0,0,0,0,0,0,0,1,1,1,1,0,1,0,1,0,0,"",0,"",0,2,85320438,1,0,350,0,0,0,0,0,0,0,0,0,0,0,0,0,0,0,0,0,0,0,0,0,0,null,null,null,null,null,null,null,null,null,null,null,null,null,null,null,null,null,null,null,null,null,null,null,null,0,0,{"$f":"ROUND(Y350*Source!I183,7)","v":0},{"$f":"AA350","v":0},{"$f":"AE350","v":0},{"$f":"AI350","v":1},0,0,"","",0,0,0,0,{"$f":"DF350","v":0},0,"",0,"",0]
[{"$f":"ROW(Source!A189)","v":189},85316715,85320442,83777519,117,1,1,1,"1-100-40","","Средний разряд работы 4,0",1191,null,1013,"чел.-ч.","чел.-ч.",1,null,null,null,null,null,0,888410196,41.2,null,0,0,0,811.79,0,0,0,811.79,1,1,1,1,-2,0,0,1,1,0,"",41.2,"",1,2,85320452,1,0,351,1,0,0,0,0,0,0,0,0,0,0,33445.748,41.2,0,1,0,0,0,33445.748,41.2,0,1,null,null,null,null,null,null,null,null,null,null,null,null,null,null,null,null,null,null,null,null,null,null,null,{"$f":"ROUND(AT351*Source!I189*AH351*AL351,2)","v":0},{"$f":"ROUND(Y351*Source!I189,7)","v":0},0,{"$f":"ROUND(Y351*Source!I189,7)","v":0},{"$f":"AD351","v":811.79},{"$f":"AH351","v":811.79},{"$f":"AL351","v":1},33445.75,0,"","",0,0,0,0,{"$f":"DI351","v":0},1,"",0,"",0]
[{"$f":"ROW(Source!A189)","v":189},85316715,85320442,83777689,117,1,1,1,"4-100-00","","Затраты труда машинистов",1191,null,1013,"чел.-ч.","чел.-ч.",1,null,null,null,null,null,0,-1417349443,0.2,null,0,0,0,0,0,0,0,0,1,1,1,1,-2,0,0,1,1,0,"",0.2,"",2,2,85320453,1,0,352,1,0,0,0,0,0,0,0,0,0,0,0,0,0,0,0,0,0,0,0,0,0,null,null,null,null,null,null,null,null,null,null,null,null,null,null,null,null,null,null,null,null,null,null,null,null,0,0,{"$f":"ROUND(Y352*Source!I189,7)","v":0},{"$f":"AD352","v":0},{"$f":"AH352","v":0},{"$f":"AL352","v":1},0,0,"","",0,0,0,0,{"$f":"DI352","v":0},0,"",0,"",0]
[{"$f":"ROW(Source!A189)","v":189},85316715,85320442,83784178,1,1,1,2,"91.05.05-015","ФСЭМ-2022, 91.05.05-015, приказ Минстроя России от 18.05.2022 г. № 378/пр","Краны на автомобильном ходу, грузоподъемность 16 т",1368,null,1011,"маш.-ч","маш.-ч",1,null,null,null,null,null,0,639918019,0.1,null,0,1626.29,1090.46,0,0,1626.29,1090.46,0,1,1,1,1,-2,0,0,1,1,0,"",0.1,"",1,2,85320454,1,0,353,1,0,0,0,0,0,0,0,0,162.62900000000002,109.04600000000001,0,0,0.1,1,0,162.62900000000002,109.04600000000001,0,0,0.1,1,null,null,null,null,null,null,null,null,null,null,null,null,null,null,null,null,null,null,null,null,null,null,null,null,0,{"$f":"ROUND(Y353*Source!I189*DO353,7)","v":0},{"$f":"ROUND(Y353*Source!I189,7)","v":0},{"$f":"AB353","v":1626.29},{"$f":"AF353","v":1626.29},{"$f":"AJ353","v":1},162.63,109.05,"","",0,0,0,0,{"$f":"DG353+DH353","v":0},1,"4-100-060",6,"чел.-ч.",1]
[{"$f":"ROW(Source!A189)","v":189},85316715,85320442,83785072,1,1,1,2,"91.14.02-001","ФСЭМ-2022 доп.7, 91.14.02-001, приказ Минстроя России от 02.08.2023 г. № 551/пр","Автомобили бортовые, грузоподъемность до 5 т",1368,null,1011,"маш.-ч","маш.-ч",1,null,null,null,null,null,0,-849950259,0.1,null,0,641.70000000000005,811.79,0,0,641.70000000000005,811.79,0,1,1,1,1,-2,0,0,1,1,0,"",0.1,"",1,2,85320455,1,0,354,1,0,0,0,0,0,0,0,0,64.17,81.179000000000002,0,0,0.1,1,0,64.17,81.179000000000002,0,0,0.1,1,null,null,null,null,null,null,null,null,null,null,null,null,null,null,null,null,null,null,null,null,null,null,null,null,0,{"$f":"ROUND(Y354*Source!I189*DO354,7)","v":0},{"$f":"ROUND(Y354*Source!I189,7)","v":0},{"$f":"AB354","v":641.70000000000005},{"$f":"AF354","v":641.70000000000005},{"$f":"AJ354","v":1},64.17,81.180000000000007,"","",0,0,0,0,{"$f":"DG354+DH354","v":0},1,"4-100-040",4,"чел.-ч.",1]
[{"$f":"ROW(Source!A189)","v":189},85316715,85320442,83785268,1,1,1,2,"91.17.04-233","ФСЭМ-2022, 91.17.04-233, приказ Минстроя России от 18.05.2022 г. № 378/пр","Аппараты сварочные для ручной дуговой сварки, сварочный ток до 350 А",1368,null,1011,"маш.-ч","маш.-ч",1,null,null,null,null,null,0,303316554,0.16,null,0,34.61,0,0,0,34.61,0,0,1,1,1,1,-2,0,0,1,1,0,"",0.16,"",1,2,85320456,1,0,355,1,0,0,0,0,0,0,0,0,5.5376000000000003,0,0,0,0,1,0,5.5376000000000003,0,0,0,0,1,null,null,null,null,null,null,null,null,null,null,null,null,null,null,null,null,null,null,null,null,null,null,null,null,0,{"$f":"ROUND(Y355*Source!I189*DO355,7)","v":0},{"$f":"ROUND(Y355*Source!I189,7)","v":0},{"$f":"AB355","v":34.61},{"$f":"AF355","v":34.61},{"$f":"AJ355","v":1},5.54,0,"","",0,0,0,0,{"$f":"DG355+DH355","v":0},1,"",0,"",0]
[{"$f":"ROW(Source!A189)","v":189},85316715,85320442,83860728,1,1,1,3,"08.3.07.01-0052","ФСБЦ-2022 доп.4, 08.3.07.01-0052, приказ Минстроя России от 27.12.2022 г. № 1133/пр","Прокат стальной горячекатаный полосовой, марки стали Ст3сп, Ст3пс, размеры 50х5 мм",1348,null,1009,"т","т",1000,null,null,null,null,null,0,-560086148,3.0000000000000001E-3,null,52029.73,0,0,0,70310.45,0,0,0,0.74,1,1,1,2,0,0,1,1,0,"",3.0000000000000001E-3,"",0,2,85320457,1,0,356,1,0,0,0,0,0,0,0,210.93135000000001,0,0,0,0,0,1,210.93135000000001,0,0,0,0,0,1,null,null,null,null,null,null,null,null,null,null,null,null,null,null,null,null,null,null,null,null,null,null,null,null,0,0,{"$f":"ROUND(Y356*Source!I189,7)","v":0},{"$f":"AA356","v":52029.73},{"$f":"AE356","v":70310.45},{"$f":"AI356","v":0.74},210.93,0,"","",{"$f":"ROUND(ROUND(AE356*AI356,2)*CX356,2)","v":0},0,0,0,{"$f":"DF356","v":0},0,"",0,"",0]
[{"$f":"ROW(Source!A189)","v":189},85316715,85320442,83870516,1,1,1,3,"14.4.02.04-0142","ФСБЦ-2022, 14.4.02.04-0142, приказ Минстроя России от 18.05.2022 г. № 378/пр","Краска масляная МА-0115, мумия, сурик железный",1346,null,1009,"кг","кг",1,null,null,null,null,null,0,291254868,0.8,null,115.03,0,0,0,79.88,0,0,0,1.44,1,1,1,2,0,0,1,1,0,"",0.8,"",0,2,85320458,1,0,357,1,0,0,0,0,0,0,0,63.903999999999996,0,0,0,0,0,1,63.903999999999996,0,0,0,0,0,1,null,null,null,null,null,null,null,null,null,null,null,null,null,null,null,null,null,null,null,null,null,null,null,null,0,0,{"$f":"ROUND(Y357*Source!I189,7)","v":0},{"$f":"AA357","v":115.03},{"$f":"AE357","v":79.88},{"$f":"AI357","v":1.44},63.9,0,"","",{"$f":"ROUND(ROUND(AE357*AI357,2)*CX357,2)","v":0},0,0,0,{"$f":"DF357","v":0},0,"",0,"",0]
[{"$f":"ROW(Source!A189)","v":189},85316715,85320442,83881219,1,1,1,3,"20.5.04.03-0002","ФСБЦ-2022, 20.5.04.03-0002, приказ Минстроя России от 18.05.2022 г. № 378/пр","Зажимы наборные проходные ЗН24-4П25",1425,null,1013,"100 ШТ","100 ШТ",1,null,null,null,null,null,0,-568563229,-1.02,null,1022.02,0,0,0,896.51,0,0,0,1.1399999999999999,1,1,1,2,0,0,1,0,0,"",-1.02,"",0,2,85320459,1,6144,358,0,0,0,0,0,0,0,0,0,0,0,0,0,0,0,0,0,0,0,0,0,0,null,null,null,null,null,null,null,null,null,null,null,null,null,null,null,null,null,null,null,null,null,null,null,null,0,0,{"$f":"ROUND(Y358*Source!I189,7)","v":0},{"$f":"AA358","v":1022.02},{"$f":"AE358","v":896.51},{"$f":"AI358","v":1.1399999999999999},-914.44,0,"","",{"$f":"ROUND(ROUND(AE358*AI358,2)*CX358,2)","v":0},0,0,0,{"$f":"DF358","v":0},0,"",0,"",0]
[{"$f":"ROW(Source!A189)","v":189},85316715,85320442,83783523,117,1,1,3,"421/пр_2020_п.75_пп.а","","Сметная стоимость вспомогательных ненормируемых материальных ресурсов, не учтенная в сметной норме, 2%",3277935,null,1013,"%","%",1,null,null,null,null,null,0,274903907,2,null,0,0,0,0,0,0,0,0,1,1,1,1,0,0,0,0,0,0,"",2,"",0,2,85320460,1,0,359,0,0,0,0,0,0,0,0,0,0,0,0,0,0,0,0,0,0,0,0,0,0,null,null,null,null,null,null,null,null,null,null,null,null,null,null,null,null,null,null,null,null,null,null,null,null,0,0,{"$f":"ROUND(Y359*Source!I189,7)","v":0},{"$f":"AA359","v":0},{"$f":"AE359","v":0},{"$f":"AI359","v":1},0,0,"","",{"$f":"ROUND(ROUND(AE359,2)*CX359,2)","v":0},0,0,0,{"$f":"DF359","v":0},0,"",0,"",0]
[{"$f":"ROW(Source!A190)","v":190},85316656,85320442,83777519,117,1,1,1,"1-100-40","","Средний разряд работы 4,0",1191,null,1013,"чел.-ч.","чел.-ч.",1,null,null,null,null,null,0,888410196,41.2,null,0,0,0,811.79,0,0,0,811.79,1,1,1,1,-2,0,0,1,1,0,"",41.2,"",1,2,85320452,1,0,360,1,0,0,0,0,0,0,0,0,0,0,33445.748,41.2,0,1,0,0,0,33445.748,41.2,0,1,null,null,null,null,null,null,null,null,null,null,null,null,null,null,null,null,null,null,null,null,null,null,null,{"$f":"ROUND(AT360*Source!I190*AH360*AL360,2)","v":0},{"$f":"ROUND(Y360*Source!I190,7)","v":0},0,{"$f":"ROUND(Y360*Source!I190,7)","v":0},{"$f":"AD360","v":811.79},{"$f":"AH360","v":811.79},{"$f":"AL360","v":1},33445.75,0,"","",0,0,0,0,{"$f":"DI360","v":0},1,"",0,"",0]
[{"$f":"ROW(Source!A190)","v":190},85316656,85320442,83777689,117,1,1,1,"4-100-00","","Затраты труда машинистов",1191,null,1013,"чел.-ч.","чел.-ч.",1,null,null,null,null,null,0,-1417349443,0.2,null,0,0,0,0,0,0,0,0,1,1,1,1,-2,0,0,1,1,0,"",0.2,"",2,2,85320453,1,0,361,1,0,0,0,0,0,0,0,0,0,0,0,0,0,0,0,0,0,0,0,0,0,null,null,null,null,null,null,null,null,null,null,null,null,null,null,null,null,null,null,null,null,null,null,null,null,0,0,{"$f":"ROUND(Y361*Source!I190,7)","v":0},{"$f":"AD361","v":0},{"$f":"AH361","v":0},{"$f":"AL361","v":1},0,0,"","",0,0,0,0,{"$f":"DI361","v":0},0,"",0,"",0]
[{"$f":"ROW(Source!A190)","v":190},85316656,85320442,83784178,1,1,1,2,"91.05.05-015","ФСЭМ-2022, 91.05.05-015, приказ Минстроя России от 18.05.2022 г. № 378/пр","Краны на автомобильном ходу, грузоподъемность 16 т",1368,null,1011,"маш.-ч","маш.-ч",1,null,null,null,null,null,0,639918019,0.1,null,0,1626.29,1090.46,0,0,1626.29,1090.46,0,1,1,1,1,-2,0,0,1,1,0,"",0.1,"",1,2,85320454,1,0,362,1,0,0,0,0,0,0,0,0,162.62900000000002,109.04600000000001,0,0,0.1,1,0,162.62900000000002,109.04600000000001,0,0,0.1,1,null,null,null,null,null,null,null,null,null,null,null,null,null,null,null,null,null,null,null,null,null,null,null,null,0,{"$f":"ROUND(Y362*Source!I190*DO362,7)","v":0},{"$f":"ROUND(Y362*Source!I190,7)","v":0},{"$f":"AB362","v":1626.29},{"$f":"AF362","v":1626.29},{"$f":"AJ362","v":1},162.63,109.05,"","",0,0,0,0,{"$f":"DG362+DH362","v":0},1,"4-100-060",6,"чел.-ч.",1]
[{"$f":"ROW(Source!A190)","v":190},85316656,85320442,83785072,1,1,1,2,"91.14.02-001","ФСЭМ-2022 доп.7, 91.14.02-001, приказ Минстроя России от 02.08.2023 г. № 551/пр","Автомобили бортовые, грузоподъемность до 5 т",1368,null,1011,"маш.-ч","маш.-ч",1,null,null,null,null,null,0,-849950259,0.1,null,0,641.70000000000005,811.79,0,0,641.70000000000005,811.79,0,1,1,1,1,-2,0,0,1,1,0,"",0.1,"",1,2,85320455,1,0,363,1,0,0,0,0,0,0,0,0,64.17,81.179000000000002,0,0,0.1,1,0,64.17,81.179000000000002,0,0,0.1,1,null,null,null,null,null,null,null,null,null,null,null,null,null,null,null,null,null,null,null,null,null,null,null,null,0,{"$f":"ROUND(Y363*Source!I190*DO363,7)","v":0},{"$f":"ROUND(Y363*Source!I190,7)","v":0},{"$f":"AB363","v":641.70000000000005},{"$f":"AF363","v":641.70000000000005},{"$f":"AJ363","v":1},64.17,81.180000000000007,"","",0,0,0,0,{"$f":"DG363+DH363","v":0},1,"4-100-040",4,"чел.-ч.",1]
[{"$f":"ROW(Source!A190)","v":190},85316656,85320442,83785268,1,1,1,2,"91.17.04-233","ФСЭМ-2022, 91.17.04-233, приказ Минстроя России от 18.05.2022 г. № 378/пр","Аппараты сварочные для ручной дуговой сварки, сварочный ток до 350 А",1368,null,1011,"маш.-ч","маш.-ч",1,null,null,null,null,null,0,303316554,0.16,null,0,34.61,0,0,0,34.61,0,0,1,1,1,1,-2,0,0,1,1,0,"",0.16,"",1,2,85320456,1,0,364,1,0,0,0,0,0,0,0,0,5.5376000000000003,0,0,0,0,1,0,5.5376000000000003,0,0,0,0,1,null,null,null,null,null,null,null,null,null,null,null,null,null,null,null,null,null,null,null,null,null,null,null,null,0,{"$f":"ROUND(Y364*Source!I190*DO364,7)","v":0},{"$f":"ROUND(Y364*Source!I190,7)","v":0},{"$f":"AB364","v":34.61},{"$f":"AF364","v":34.61},{"$f":"AJ364","v":1},5.54,0,"","",0,0,0,0,{"$f":"DG364+DH364","v":0},1,"",0,"",0]
[{"$f":"ROW(Source!A190)","v":190},85316656,85320442,83860728,1,1,1,3,"08.3.07.01-0052","ФСБЦ-2022 доп.4, 08.3.07.01-0052, приказ Минстроя России от 27.12.2022 г. № 1133/пр","Прокат стальной горячекатаный полосовой, марки стали Ст3сп, Ст3пс, размеры 50х5 мм",1348,null,1009,"т","т",1000,null,null,null,null,null,0,-560086148,3.0000000000000001E-3,null,52029.73,0,0,0,70310.45,0,0,0,0.74,1,1,1,2,0,0,1,1,0,"",3.0000000000000001E-3,"",0,2,85320457,1,0,365,1,0,0,0,0,0,0,0,210.93135000000001,0,0,0,0,0,1,210.93135000000001,0,0,0,0,0,1,null,null,null,null,null,null,null,null,null,null,null,null,null,null,null,null,null,null,null,null,null,null,null,null,0,0,{"$f":"ROUND(Y365*Source!I190,7)","v":0},{"$f":"AA365","v":52029.73},{"$f":"AE365","v":70310.45},{"$f":"AI365","v":0.74},210.93,0,"","",{"$f":"ROUND(ROUND(AE365*AI365,2)*CX365,2)","v":0},0,0,0,{"$f":"DF365","v":0},0,"",0,"",0]
[{"$f":"ROW(Source!A190)","v":190},85316656,85320442,83870516,1,1,1,3,"14.4.02.04-0142","ФСБЦ-2022, 14.4.02.04-0142, приказ Минстроя России от 18.05.2022 г. № 378/пр","Краска масляная МА-0115, мумия, сурик железный",1346,null,1009,"кг","кг",1,null,null,null,null,null,0,291254868,0.8,null,115.03,0,0,0,79.88,0,0,0,1.44,1,1,1,2,0,0,1,1,0,"",0.8,"",0,2,85320458,1,0,366,1,0,0,0,0,0,0,0,63.903999999999996,0,0,0,0,0,1,63.903999999999996,0,0,0,0,0,1,null,null,null,null,null,null,null,null,null,null,null,null,null,null,null,null,null,null,null,null,null,null,null,null,0,0,{"$f":"ROUND(Y366*Source!I190,7)","v":0},{"$f":"AA366","v":115.03},{"$f":"AE366","v":79.88},{"$f":"AI366","v":1.44},63.9,0,"","",{"$f":"ROUND(ROUND(AE366*AI366,2)*CX366,2)","v":0},0,0,0,{"$f":"DF366","v":0},0,"",0,"",0]
[{"$f":"ROW(Source!A190)","v":190},85316656,85320442,83881219,1,1,1,3,"20.5.04.03-0002","ФСБЦ-2022, 20.5.04.03-0002, приказ Минстроя России от 18.05.2022 г. № 378/пр","Зажимы наборные проходные ЗН24-4П25",1425,null,1013,"100 ШТ","100 ШТ",1,null,null,null,null,null,0,-568563229,-1.02,null,1022.02,0,0,0,896.51,0,0,0,1.1399999999999999,1,1,1,2,0,0,1,0,0,"",-1.02,"",0,2,85320459,1,6144,367,0,0,0,0,0,0,0,0,0,0,0,0,0,0,0,0,0,0,0,0,0,0,null,null,null,null,null,null,null,null,null,null,null,null,null,null,null,null,null,null,null,null,null,null,null,null,0,0,{"$f":"ROUND(Y367*Source!I190,7)","v":0},{"$f":"AA367","v":1022.02},{"$f":"AE367","v":896.51},{"$f":"AI367","v":1.1399999999999999},-914.44,0,"","",{"$f":"ROUND(ROUND(AE367*AI367,2)*CX367,2)","v":0},0,0,0,{"$f":"DF367","v":0},0,"",0,"",0]
[{"$f":"ROW(Source!A190)","v":190},85316656,85320442,83783523,117,1,1,3,"421/пр_2020_п.75_пп.а","","Сметная стоимость вспомогательных ненормируемых материальных ресурсов, не учтенная в сметной норме, 2%",3277935,null,1013,"%","%",1,null,null,null,null,null,0,274903907,2,null,0,0,0,0,0,0,0,0,1,1,1,1,0,0,0,0,0,0,"",2,"",0,2,85320460,1,0,368,0,0,0,0,0,0,0,0,0,0,0,0,0,0,0,0,0,0,0,0,0,0,null,null,null,null,null,null,null,null,null,null,null,null,null,null,null,null,null,null,null,null,null,null,null,null,0,0,{"$f":"ROUND(Y368*Source!I190,7)","v":0},{"$f":"AA368","v":0},{"$f":"AE368","v":0},{"$f":"AI368","v":1},0,0,"","",{"$f":"ROUND(ROUND(AE368,2)*CX368,2)","v":0},0,0,0,{"$f":"DF368","v":0},0,"",0,"",0]
[{"$f":"ROW(Source!A196)","v":196},85316715,85320464,77306356,114,1,1,1,"1-100-33","","Средний разряд работы 3,3",1191,null,1013,"чел.-ч.","чел.-ч.",1,null,null,null,null,null,0,32079103,3.76,null,0,0,0,748.18,0,0,0,748.18,1,1,1,1,-2,0,0,1,1,0,"",3.76,"",1,2,85320479,2,131072,369,1,0,0,0,0,0,0,0,0,0,0,2813.1567999999997,3.76,0,1,0,0,0,2813.1567999999997,3.76,0,1,null,null,null,null,null,null,null,null,null,null,null,null,null,null,null,null,null,null,null,null,null,null,null,{"$f":"ROUND(AT369*Source!I196*AH369*AL369,2)","v":0},{"$f":"ROUND(Y369*Source!I196,7)","v":0},0,{"$f":"ROUND(Y369*Source!I196,7)","v":0},{"$f":"AD369","v":748.18},{"$f":"AH369","v":748.18},{"$f":"AL369","v":1},2813.16,0,"","",{"$f":"ROUND(ROUND(AE369,2)*CX369,2)","v":0},0,0,0,{"$f":"DI369","v":0},1,"",0,"",0]
[{"$f":"ROW(Source!A196)","v":196},85316715,85320464,77306545,114,1,1,1,"4-100-00","","Затраты труда машинистов",1191,null,1013,"чел.-ч.","чел.-ч.",1,null,null,null,null,null,0,-1417349443,1.07,null,0,0,0,0,0,0,0,0,1,1,1,1,-2,0,0,1,1,0,"",1.07,"",2,2,85320480,1,0,370,1,0,0,0,0,0,0,0,0,0,0,0,0,0,0,0,0,0,0,0,0,0,null,null,null,null,null,null,null,null,null,null,null,null,null,null,null,null,null,null,null,null,null,null,null,null,0,0,{"$f":"ROUND(Y370*Source!I196,7)","v":0},{"$f":"AD370","v":0},{"$f":"AH370","v":0},{"$f":"AL370","v":1},0,0,"","",{"$f":"ROUND(ROUND(AE370,2)*CX370,2)","v":0},0,0,0,{"$f":"DI370","v":0},0,"",0,"",0]
[{"$f":"ROW(Source!A196)","v":196},85316715,85320464,77431161,1,1,1,2,"91.06.06-011","ФСЭМ-2022, 91.06.06-011, приказ Минстроя России от 18.05.2022 г. № 378/пр","Автогидроподъемники, высота подъема 12 м",1368,null,1011,"маш.-ч","маш.-ч",1,null,null,null,null,null,0,469552416,0.85,null,0,506.23,811.79,0,0,346.73,811.79,0,1,1.46,1,1,2,0,0,1,1,0,"",0.85,"",1,2,85320481,2,65536,371,1,0,0,0,0,0,0,0,0,294.72050000000002,690.02149999999995,0,0,0.85,1,0,294.72050000000002,690.02149999999995,0,0,0.85,1,null,null,null,null,null,null,null,null,null,null,null,null,null,null,null,null,null,null,null,null,null,null,null,null,0,{"$f":"ROUND(Y371*Source!I196*DO371,7)","v":0},{"$f":"ROUND(Y371*Source!I196,7)","v":0},{"$f":"AB371","v":506.23},{"$f":"AF371","v":346.73},{"$f":"AJ371","v":1.46},294.72000000000003,690.02,"","",{"$f":"ROUND(ROUND(AE371,2)*CX371,2)","v":0},{"$f":"ROUND(ROUND(AF371*AJ371,2)*CX371,2)","v":0},0,0,{"$f":"DG371+DH371","v":0},0,"4-100-040",4,"чел.-ч.",1]
[{"$f":"ROW(Source!A196)","v":196},85316715,85320464,77431879,1,1,1,2,"91.14.02-001","ФСЭМ-2022 доп.7, 91.14.02-001, приказ Минстроя России от 02.08.2023 г. № 551/пр","Автомобили бортовые, грузоподъемность до 5 т",1368,null,1011,"маш.-ч","маш.-ч",1,null,null,null,null,null,0,-1152394969,0.22,null,0,641.70000000000005,811.79,0,0,641.70000000000005,811.79,0,1,1,1,1,-2,0,0,1,1,0,"",0.22,"",1,2,85320482,1,0,372,1,0,0,0,0,0,0,0,0,141.17400000000001,178.59379999999999,0,0,0.22,1,0,141.17400000000001,178.59379999999999,0,0,0.22,1,null,null,null,null,null,null,null,null,null,null,null,null,null,null,null,null,null,null,null,null,null,null,null,null,0,{"$f":"ROUND(Y372*Source!I196*DO372,7)","v":0},{"$f":"ROUND(Y372*Source!I196,7)","v":0},{"$f":"AB372","v":641.70000000000005},{"$f":"AF372","v":641.70000000000005},{"$f":"AJ372","v":1},141.16999999999999,178.59,"","",{"$f":"ROUND(ROUND(AE372,2)*CX372,2)","v":0},{"$f":"ROUND(ROUND(AF372,2)*CX372,2)","v":0},0,0,{"$f":"DG372+DH372","v":0},1,"4-100-040",4,"чел.-ч.",1]
[{"$f":"ROW(Source!A196)","v":196},85316715,85320464,77375900,1,1,1,3,"01.3.01.06-0038","ФСБЦ-2022, 01.3.01.06-0038, приказ Минстроя России от 18.05.2022 г. № 378/пр","Смазка защитная электросетевая",1346,null,1009,"кг","кг",1,null,null,null,null,null,0,-1628490559,0.1,null,381.26,0,0,0,238.29,0,0,0,1.6,1,1,1,2,0,0,1,1,0,"",0.1,"",0,2,85320483,1,0,373,1,0,0,0,0,0,0,0,23.829000000000001,0,0,0,0,0,1,23.829000000000001,0,0,0,0,0,1,null,null,null,null,null,null,null,null,null,null,null,null,null,null,null,null,null,null,null,null,null,null,null,null,0,0,{"$f":"ROUND(Y373*Source!I196,7)","v":0},{"$f":"AA373","v":381.26},{"$f":"AE373","v":238.29},{"$f":"AI373","v":1.6},23.83,0,"","",{"$f":"ROUND(ROUND(AE373*AI373,2)*CX373,2)","v":0},0,0,0,{"$f":"DF373","v":0},0,"",0,"",0]
[{"$f":"ROW(Source!A196)","v":196},85316715,85320464,77375907,1,1,1,3,"01.3.01.06-0051","ФСБЦ-2022 доп.12, 01.3.01.06-0051, приказ Минстроя России от 07.11.2024 г. № 747/пр","Смазка солидол жировой Ж",1346,null,1009,"кг","кг",1,null,null,null,null,null,0,-479354107,0.03,null,93.65,0,0,0,58.53,0,0,0,1.6,1,1,1,2,0,0,1,1,0,"",0.03,"",0,2,85320484,1,0,374,1,0,0,0,0,0,0,0,1.7559,0,0,0,0,0,1,1.7559,0,0,0,0,0,1,null,null,null,null,null,null,null,null,null,null,null,null,null,null,null,null,null,null,null,null,null,null,null,null,0,0,{"$f":"ROUND(Y374*Source!I196,7)","v":0},93.65,58.53,1.6,1.76,0,"","",{"$f":"ROUND(ROUND(AE374*AI374,2)*CX374,2)","v":0},0,0,0,0,0,"",0,"",0]
[{"$f":"ROW(Source!A196)","v":196},85316715,85320464,77379558,1,1,1,3,"01.7.15.03-0042","ФСБЦ-2022, 01.7.15.03-0042, приказ Минстроя России от 18.05.2022 г. № 378/пр","Болты с гайками и шайбами строительные",1346,null,1009,"кг","кг",1,null,null,null,null,null,0,1181962216,0,null,188.92,0,0,0,174.93,0,0,0,1.08,1,1,1,2,1,0,1,0,0,"",0,"",0,2,85320485,1,0,375,0,0,0,0,0,0,0,0,0,0,0,0,0,0,0,0,0,0,0,0,0,0,null,null,null,null,null,null,null,null,null,null,null,null,null,null,null,null,null,null,null,null,null,null,null,null,0,0,{"$f":"ROUND(Y375*Source!I196,7)","v":0},188.92,174.93,1.08,0,0,"","",{"$f":"ROUND(ROUND(AE375*AI375,2)*CX375,2)","v":0},0,0,0,0,0,"",0,"",0]
[{"$f":"ROW(Source!A196)","v":196},85316715,85320464,77380691,1,1,1,3,"01.7.20.08-0051","ФСБЦ-2022 доп.8, 01.7.20.08-0051, приказ Минстроя России от 14.11.2023 г. № 817/пр","Ветошь хлопчатобумажная цветная",1346,null,1009,"кг","кг",1,null,null,null,null,null,0,-130701290,0.02,null,86.41,0,0,0,56.11,0,0,0,1.54,1,1,1,2,0,0,1,1,0,"",0.02,"",0,2,85320486,1,0,376,1,0,0,0,0,0,0,0,1.1222000000000001,0,0,0,0,0,1,1.1222000000000001,0,0,0,0,0,1,null,null,null,null,null,null,null,null,null,null,null,null,null,null,null,null,null,null,null,null,null,null,null,null,0,0,{"$f":"ROUND(Y376*Source!I196,7)","v":0},86.41,56.11,1.54,1.1200000000000001,0,"","",{"$f":"ROUND(ROUND(AE376*AI376,2)*CX376,2)","v":0},0,0,0,0,0,"",0,"",0]
[{"$f":"ROW(Source!A196)","v":196},85316715,85320464,77308705,114,1,1,3,"07.2.07.13","","Хомуты стальные",1346,null,1009,"кг","кг",1,null,null,null,null,null,0,-1111733769,0,null,0,0,0,0,0,0,0,0,1,1,1,1,-2,1,0,1,0,0,"",0,"",0,2,85320487,1,0,377,0,0,0,0,0,0,0,0,0,0,0,0,0,0,0,0,0,0,0,0,0,0,null,null,null,null,null,null,null,null,null,null,null,null,null,null,null,null,null,null,null,null,null,null,null,null,0,0,{"$f":"ROUND(Y377*Source!I196,7)","v":0},0,0,1,0,0,"","",{"$f":"ROUND(ROUND(AE377,2)*CX377,2)","v":0},0,0,0,0,0,"",0,"",0]
[{"$f":"ROW(Source!A196)","v":196},85316715,85320464,77309038,114,1,1,3,"08.3.04.02","","Сталь стержневая диаметром до 10 мм",1348,null,1009,"т","т",1000,null,null,null,null,null,0,1613753229,0,null,0,0,0,0,0,0,0,0,1,1,1,1,-2,1,0,1,0,0,"",0,"",0,2,85320488,1,0,378,0,0,0,0,0,0,0,0,0,0,0,0,0,0,0,0,0,0,0,0,0,0,null,null,null,null,null,null,null,null,null,null,null,null,null,null,null,null,null,null,null,null,null,null,null,null,0,0,{"$f":"ROUND(Y378*Source!I196,7)","v":0},0,0,1,0,0,"","",{"$f":"ROUND(ROUND(AE378,2)*CX378,2)","v":0},0,0,0,0,0,"",0,"",0]
[{"$f":"ROW(Source!A196)","v":196},85316715,85320464,77397258,1,1,1,3,"14.4.03.03-0102","ФСБЦ-2022 доп.4, 14.4.03.03-0102, приказ Минстроя России от 27.12.2022 г. № 1133/пр","Лак битумный БТ-577",1348,null,1009,"т","т",1000,null,null,null,null,null,0,1215516986,1E-4,null,103227.06,0,0,0,80020.98,0,0,0,1.29,1,1,1,2,0,0,1,1,0,"",1E-4,"",0,2,85320489,1,0,379,1,0,0,0,0,0,0,0,8.0020980000000002,0,0,0,0,0,1,8.0020980000000002,0,0,0,0,0,1,null,null,null,null,null,null,null,null,null,null,null,null,null,null,null,null,null,null,null,null,null,null,null,null,0,0,{"$f":"ROUND(Y379*Source!I196,7)","v":0},103227.06,80020.98,1.29,8,0,"","",{"$f":"ROUND(ROUND(AE379*AI379,2)*CX379,2)","v":0},0,0,0,0,0,"",0,"",0]
[{"$f":"ROW(Source!A196)","v":196},85316715,85320464,77397652,1,1,1,3,"14.5.09.11-0102","ФСБЦ-2022, 14.5.09.11-0102, приказ Минстроя России от 18.05.2022 г. № 378/пр","Уайт-спирит",1346,null,1009,"кг","кг",1,null,null,null,null,null,0,-105256092,0.03,null,86.66,0,0,0,60.6,0,0,0,1.43,1,1,1,2,0,0,1,1,0,"",0.03,"",0,2,85320490,1,0,380,1,0,0,0,0,0,0,0,1.8180000000000001,0,0,0,0,0,1,1.8180000000000001,0,0,0,0,0,1,null,null,null,null,null,null,null,null,null,null,null,null,null,null,null,null,null,null,null,null,null,null,null,null,0,0,{"$f":"ROUND(Y380*Source!I196,7)","v":0},86.66,60.6,1.43,1.82,0,"","",{"$f":"ROUND(ROUND(AE380*AI380,2)*CX380,2)","v":0},0,0,0,0,0,"",0,"",0]
[{"$f":"ROW(Source!A196)","v":196},85316715,85320464,77311321,114,1,1,3,"22.2.01.04","","Изоляторы линейные штыревые фарфоровые",1371,null,1013,"ШТ","ШТ",1,null,null,null,null,null,0,1740798612,0,null,0,0,0,0,0,0,0,0,1,1,1,1,-2,1,0,1,0,0,"",0,"",0,2,85320491,1,0,381,0,0,0,0,0,0,0,0,0,0,0,0,0,0,0,0,0,0,0,0,0,0,null,null,null,null,null,null,null,null,null,null,null,null,null,null,null,null,null,null,null,null,null,null,null,null,0,0,{"$f":"ROUND(Y381*Source!I196,7)","v":0},0,0,1,0,0,"","",{"$f":"ROUND(ROUND(AE381,2)*CX381,2)","v":0},0,0,0,0,0,"",0,"",0]
[{"$f":"ROW(Source!A196)","v":196},85316715,85320464,77311330,114,1,1,3,"22.2.02.03","","Детали крепления стальные",1346,null,1009,"кг","кг",1,null,null,null,null,null,0,1533393836,0,null,0,0,0,0,0,0,0,0,1,1,1,1,-2,1,0,1,0,0,"",0,"",0,2,85320492,1,0,382,0,0,0,0,0,0,0,0,0,0,0,0,0,0,0,0,0,0,0,0,0,0,null,null,null,null,null,null,null,null,null,null,null,null,null,null,null,null,null,null,null,null,null,null,null,null,0,0,{"$f":"ROUND(Y382*Source!I196,7)","v":0},0,0,1,0,0,"","",0,0,0,0,0,0,"",0,"",0]
[{"$f":"ROW(Source!A197)","v":197},85316656,85320464,77306356,114,1,1,1,"1-100-33","","Средний разряд работы 3,3",1191,null,1013,"чел.-ч.","чел.-ч.",1,null,null,null,null,null,0,32079103,3.76,null,0,0,0,748.18,0,0,0,748.18,1,1,1,1,-2,0,0,1,1,0,"",3.76,"",1,2,85320479,2,131072,383,1,0,0,0,0,0,0,0,0,0,0,2813.1567999999997,3.76,0,1,0,0,0,2813.1567999999997,3.76,0,1,null,null,null,null,null,null,null,null,null,null,null,null,null,null,null,null,null,null,null,null,null,null,null,{"$f":"ROUND(AT383*Source!I197*AH383*AL383,2)","v":0},{"$f":"ROUND(Y383*Source!I197,7)","v":0},0,{"$f":"ROUND(Y383*Source!I197,7)","v":0},{"$f":"AD383","v":748.18},{"$f":"AH383","v":748.18},{"$f":"AL383","v":1},2813.16,0,"","",0,0,0,0,{"$f":"DI383","v":0},1,"",0,"",0]
[{"$f":"ROW(Source!A197)","v":197},85316656,85320464,77306545,114,1,1,1,"4-100-00","","Затраты труда машинистов",1191,null,1013,"чел.-ч.","чел.-ч.",1,null,null,null,null,null,0,-1417349443,1.07,null,0,0,0,0,0,0,0,0,1,1,1,1,-2,0,0,1,1,0,"",1.07,"",2,2,85320480,1,0,384,1,0,0,0,0,0,0,0,0,0,0,0,0,0,0,0,0,0,0,0,0,0,null,null,null,null,null,null,null,null,null,null,null,null,null,null,null,null,null,null,null,null,null,null,null,null,0,0,{"$f":"ROUND(Y384*Source!I197,7)","v":0},{"$f":"AD384","v":0},{"$f":"AH384","v":0},{"$f":"AL384","v":1},0,0,"","",0,0,0,0,{"$f":"DI384","v":0},0,"",0,"",0]
[{"$f":"ROW(Source!A197)","v":197},85316656,85320464,77431161,1,1,1,2,"91.06.06-011","ФСЭМ-2022, 91.06.06-011, приказ Минстроя России от 18.05.2022 г. № 378/пр","Автогидроподъемники, высота подъема 12 м",1368,null,1011,"маш.-ч","маш.-ч",1,null,null,null,null,null,0,469552416,{"$f":"AT385","v":0.85},null,0,506.23,811.79,0,0,346.73,811.79,0,1,1.46,1,1,2,0,0,1,1,0,"",0.85,"",1,2,85320481,2,65536,385,1,0,0,0,0,0,0,0,0,294.72050000000002,690.02149999999995,0,0,0.85,1,0,294.72050000000002,690.02149999999995,0,0,0.85,1,null,null,null,null,null,null,null,null,null,null,null,null,null,null,null,null,null,null,null,null,null,null,null,null,0,{"$f":"ROUND(Y385*Source!I197*DO385,7)","v":0},{"$f":"ROUND(Y385*Source!I197,7)","v":0},{"$f":"AB385","v":506.23},{"$f":"AF385","v":346.73},{"$f":"AJ385","v":1.46},{"$f":"ROUND(ROUND(AT385*CZ385,2),2)","v":294.72000000000003},{"$f":"ROUND(ROUND(AT385*AG385,2),2)","v":690.02},"","",0,{"$f":"ROUND(ROUND(AF385*AJ385,2)*CX385,2)","v":0},{"$f":"ROUND(ROUND(AG385,2)*CX385,2)","v":0},{"$f":"ROUND(ROUND(AH385,2)*CX385,2)","v":0},{"$f":"DG385+DH385","v":0},0,"4-100-040",4,"чел.-ч.",1]
[{"$f":"ROW(Source!A197)","v":197},85316656,85320464,77431879,1,1,1,2,"91.14.02-001","ФСЭМ-2022 доп.7, 91.14.02-001, приказ Минстроя России от 02.08.2023 г. № 551/пр","Автомобили бортовые, грузоподъемность до 5 т",1368,null,1011,"маш.-ч","маш.-ч",1,null,null,null,null,null,0,-1152394969,0.22,null,0,641.70000000000005,811.79,0,0,641.70000000000005,811.79,0,1,1,1,1,-2,0,0,1,1,0,"",0.22,"",1,2,85320482,1,0,386,1,0,0,0,0,0,0,0,0,141.17400000000001,178.59379999999999,0,0,0.22,1,0,141.17400000000001,178.59379999999999,0,0,0.22,1,null,null,null,null,null,null,null,null,null,null,null,null,null,null,null,null,null,null,null,null,null,null,null,null,0,{"$f":"ROUND(Y386*Source!I197*DO386,7)","v":0},{"$f":"ROUND(Y386*Source!I197,7)","v":0},{"$f":"AB386","v":641.70000000000005},{"$f":"AF386","v":641.70000000000005},{"$f":"AJ386","v":1},141.16999999999999,178.59,"","",0,{"$f":"ROUND(ROUND(AF386,2)*CX386,2)","v":0},0,0,{"$f":"DG386+DH386","v":0},1,"4-100-040",4,"чел.-ч.",1]
[{"$f":"ROW(Source!A197)","v":197},85316656,85320464,77375900,1,1,1,3,"01.3.01.06-0038","ФСБЦ-2022, 01.3.01.06-0038, приказ Минстроя России от 18.05.2022 г. № 378/пр","Смазка защитная электросетевая",1346,null,1009,"кг","кг",1,null,null,null,null,null,0,-1628490559,0.1,null,381.26,0,0,0,238.29,0,0,0,1.6,1,1,1,2,0,0,1,1,0,"",0.1,"",0,2,85320483,1,0,387,1,0,0,0,0,0,0,0,23.829000000000001,0,0,0,0,0,1,23.829000000000001,0,0,0,0,0,1,null,null,null,null,null,null,null,null,null,null,null,null,null,null,null,null,null,null,null,null,null,null,null,null,0,0,{"$f":"ROUND(Y387*Source!I197,7)","v":0},{"$f":"AA387","v":381.26},{"$f":"AE387","v":238.29},{"$f":"AI387","v":1.6},23.83,0,"","",{"$f":"ROUND(ROUND(AE387*AI387,2)*CX387,2)","v":0},0,0,0,{"$f":"DF387","v":0},0,"",0,"",0]
[{"$f":"ROW(Source!A197)","v":197},85316656,85320464,77375907,1,1,1,3,"01.3.01.06-0051","ФСБЦ-2022 доп.12, 01.3.01.06-0051, приказ Минстроя России от 07.11.2024 г. № 747/пр","Смазка солидол жировой Ж",1346,null,1009,"кг","кг",1,null,null,null,null,null,0,-479354107,0.03,null,93.65,0,0,0,58.53,0,0,0,1.6,1,1,1,2,0,0,1,1,0,"",0.03,"",0,2,85320484,1,0,388,1,0,0,0,0,0,0,0,1.7559,0,0,0,0,0,1,1.7559,0,0,0,0,0,1,null,null,null,null,null,null,null,null,null,null,null,null,null,null,null,null,null,null,null,null,null,null,null,null,0,0,{"$f":"ROUND(Y388*Source!I197,7)","v":0},93.65,58.53,1.6,1.76,0,"","",{"$f":"ROUND(ROUND(AE388*AI388,2)*CX388,2)","v":0},0,0,0,0,0,"",0,"",0]
[{"$f":"ROW(Source!A197)","v":197},85316656,85320464,77379558,1,1,1,3,"01.7.15.03-0042","ФСБЦ-2022, 01.7.15.03-0042, приказ Минстроя России от 18.05.2022 г. № 378/пр","Болты с гайками и шайбами строительные",1346,null,1009,"кг","кг",1,null,null,null,null,null,0,1181962216,0,null,188.92,0,0,0,174.93,0,0,0,1.08,1,1,1,2,1,0,1,0,0,"",0,"",0,2,85320485,1,0,389,0,0,0,0,0,0,0,0,0,0,0,0,0,0,0,0,0,0,0,0,0,0,null,null,null,null,null,null,null,null,null,null,null,null,null,null,null,null,null,null,null,null,null,null,null,null,0,0,{"$f":"ROUND(Y389*Source!I197,7)","v":0},188.92,174.93,1.08,0,0,"","",{"$f":"ROUND(ROUND(AE389*AI389,2)*CX389,2)","v":0},0,0,0,0,0,"",0,"",0]
[{"$f":"ROW(Source!A197)","v":197},85316656,85320464,77380691,1,1,1,3,"01.7.20.08-0051","ФСБЦ-2022 доп.8, 01.7.20.08-0051, приказ Минстроя России от 14.11.2023 г. № 817/пр","Ветошь хлопчатобумажная цветная",1346,null,1009,"кг","кг",1,null,null,null,null,null,0,-130701290,0.02,null,86.41,0,0,0,56.11,0,0,0,1.54,1,1,1,2,0,0,1,1,0,"",0.02,"",0,2,85320486,1,0,390,1,0,0,0,0,0,0,0,1.1222000000000001,0,0,0,0,0,1,1.1222000000000001,0,0,0,0,0,1,null,null,null,null,null,null,null,null,null,null,null,null,null,null,null,null,null,null,null,null,null,null,null,null,0,0,{"$f":"ROUND(Y390*Source!I197,7)","v":0},86.41,56.11,1.54,1.1200000000000001,0,"","",{"$f":"ROUND(ROUND(AE390*AI390,2)*CX390,2)","v":0},0,0,0,0,0,"",0,"",0]
[{"$f":"ROW(Source!A197)","v":197},85316656,85320464,77308705,114,1,1,3,"07.2.07.13","","Хомуты стальные",1346,null,1009,"кг","кг",1,null,null,null,null,null,0,-1111733769,0,null,0,0,0,0,0,0,0,0,1,1,1,1,-2,1,0,1,0,0,"",0,"",0,2,85320487,1,0,391,0,0,0,0,0,0,0,0,0,0,0,0,0,0,0,0,0,0,0,0,0,0,null,null,null,null,null,null,null,null,null,null,null,null,null,null,null,null,null,null,null,null,null,null,null,null,0,0,{"$f":"ROUND(Y391*Source!I197,7)","v":0},0,0,1,0,0,"","",{"$f":"ROUND(ROUND(AE391,2)*CX391,2)","v":0},0,0,0,0,0,"",0,"",0]
[{"$f":"ROW(Source!A197)","v":197},85316656,85320464,77309038,114,1,1,3,"08.3.04.02","","Сталь стержневая диаметром до 10 мм",1348,null,1009,"т","т",1000,null,null,null,null,null,0,1613753229,0,null,0,0,0,0,0,0,0,0,1,1,1,1,-2,1,0,1,0,0,"",0,"",0,2,85320488,1,0,392,0,0,0,0,0,0,0,0,0,0,0,0,0,0,0,0,0,0,0,0,0,0,null,null,null,null,null,null,null,null,null,null,null,null,null,null,null,null,null,null,null,null,null,null,null,null,0,0,{"$f":"ROUND(Y392*Source!I197,7)","v":0},0,0,1,0,0,"","",{"$f":"ROUND(ROUND(AE392,2)*CX392,2)","v":0},0,0,0,0,0,"",0,"",0]
[{"$f":"ROW(Source!A197)","v":197},85316656,85320464,77397258,1,1,1,3,"14.4.03.03-0102","ФСБЦ-2022 доп.4, 14.4.03.03-0102, приказ Минстроя России от 27.12.2022 г. № 1133/пр","Лак битумный БТ-577",1348,null,1009,"т","т",1000,null,null,null,null,null,0,1215516986,1E-4,null,103227.06,0,0,0,80020.98,0,0,0,1.29,1,1,1,2,0,0,1,1,0,"",1E-4,"",0,2,85320489,1,0,393,1,0,0,0,0,0,0,0,8.0020980000000002,0,0,0,0,0,1,8.0020980000000002,0,0,0,0,0,1,null,null,null,null,null,null,null,null,null,null,null,null,null,null,null,null,null,null,null,null,null,null,null,null,0,0,{"$f":"ROUND(Y393*Source!I197,7)","v":0},103227.06,80020.98,1.29,8,0,"","",{"$f":"ROUND(ROUND(AE393*AI393,2)*CX393,2)","v":0},0,0,0,0,0,"",0,"",0]
[{"$f":"ROW(Source!A197)","v":197},85316656,85320464,77397652,1,1,1,3,"14.5.09.11-0102","ФСБЦ-2022, 14.5.09.11-0102, приказ Минстроя России от 18.05.2022 г. № 378/пр","Уайт-спирит",1346,null,1009,"кг","кг",1,null,null,null,null,null,0,-105256092,0.03,null,86.66,0,0,0,60.6,0,0,0,1.43,1,1,1,2,0,0,1,1,0,"",0.03,"",0,2,85320490,1,0,394,1,0,0,0,0,0,0,0,1.8180000000000001,0,0,0,0,0,1,1.8180000000000001,0,0,0,0,0,1,null,null,null,null,null,null,null,null,null,null,null,null,null,null,null,null,null,null,null,null,null,null,null,null,0,0,{"$f":"ROUND(Y394*Source!I197,7)","v":0},86.66,60.6,1.43,1.82,0,"","",{"$f":"ROUND(ROUND(AE394*AI394,2)*CX394,2)","v":0},0,0,0,0,0,"",0,"",0]
[{"$f":"ROW(Source!A197)","v":197},85316656,85320464,77311321,114,1,1,3,"22.2.01.04","","Изоляторы линейные штыревые фарфоровые",1371,null,1013,"ШТ","ШТ",1,null,null,null,null,null,0,1740798612,0,null,0,0,0,0,0,0,0,0,1,1,1,1,-2,1,0,1,0,0,"",0,"",0,2,85320491,1,0,395,0,0,0,0,0,0,0,0,0,0,0,0,0,0,0,0,0,0,0,0,0,0,null,null,null,null,null,null,null,null,null,null,null,null,null,null,null,null,null,null,null,null,null,null,null,null,0,0,{"$f":"ROUND(Y395*Source!I197,7)","v":0},0,0,1,0,0,"","",{"$f":"ROUND(ROUND(AE395,2)*CX395,2)","v":0},0,0,0,0,0,"",0,"",0]
[{"$f":"ROW(Source!A197)","v":197},85316656,85320464,77311330,114,1,1,3,"22.2.02.03","","Детали крепления стальные",1346,null,1009,"кг","кг",1,null,null,null,null,null,0,1533393836,0,null,0,0,0,0,0,0,0,0,1,1,1,1,-2,1,0,1,0,0,"",0,"",0,2,85320492,1,0,396,0,0,0,0,0,0,0,0,0,0,0,0,0,0,0,0,0,0,0,0,0,0,null,null,null,null,null,null,null,null,null,null,null,null,null,null,null,null,null,null,null,null,null,null,null,null,0,0,{"$f":"ROUND(Y396*Source!I197,7)","v":0},0,0,1,0,0,"","",0,0,0,0,0,0,"",0,"",0]
[{"$f":"ROW(Source!A209)","v":209},85316715,85320499,83777525,117,1,1,1,"1-100-42","","Средний разряд работы 4,2",1191,null,1013,"чел.-ч.","чел.-ч.",1,null,null,null,null,null,0,1522950421,52.53,null,0,0,0,836.02,0,0,0,836.02,1,1,1,1,-2,0,0,1,1,0,"",52.53,"",1,2,85320514,1,0,397,1,0,0,0,0,0,0,0,0,0,0,43916.130599999997,52.53,0,1,0,0,0,43916.130599999997,52.53,0,1,null,null,null,null,null,null,null,null,null,null,null,null,null,null,null,null,null,null,null,null,null,null,null,{"$f":"ROUND(AT397*Source!I209*AH397*AL397,2)","v":0},{"$f":"ROUND(Y397*Source!I209,7)","v":0},0,{"$f":"ROUND(Y397*Source!I209,7)","v":0},{"$f":"AD397","v":836.02},{"$f":"AH397","v":836.02},{"$f":"AL397","v":1},43916.13,0,"","",0,0,0,0,{"$f":"DI397","v":0},1,"",0,"",0]
[{"$f":"ROW(Source!A209)","v":209},85316715,85320499,83777689,117,1,1,1,"4-100-00","","Затраты труда машинистов",1191,null,1013,"чел.-ч.","чел.-ч.",1,null,null,null,null,null,0,-1417349443,0.06,null,0,0,0,0,0,0,0,0,1,1,1,1,-2,0,0,1,1,0,"",0.06,"",2,2,85320515,1,0,398,1,0,0,0,0,0,0,0,0,0,0,0,0,0,0,0,0,0,0,0,0,0,null,null,null,null,null,null,null,null,null,null,null,null,null,null,null,null,null,null,null,null,null,null,null,null,0,0,{"$f":"ROUND(Y398*Source!I209,7)","v":0},{"$f":"AD398","v":0},{"$f":"AH398","v":0},{"$f":"AL398","v":1},0,0,"","",0,0,0,0,{"$f":"DI398","v":0},0,"",0,"",0]
[{"$f":"ROW(Source!A209)","v":209},85316715,85320499,83784178,1,1,1,2,"91.05.05-015","ФСЭМ-2022, 91.05.05-015, приказ Минстроя России от 18.05.2022 г. № 378/пр","Краны на автомобильном ходу, грузоподъемность 16 т",1368,null,1011,"маш.-ч","маш.-ч",1,null,null,null,null,null,0,639918019,0.03,null,0,1626.29,1090.46,0,0,1626.29,1090.46,0,1,1,1,1,-2,0,0,1,1,0,"",0.03,"",1,2,85320516,1,0,399,1,0,0,0,0,0,0,0,0,48.788699999999999,32.713799999999999,0,0,0.03,1,0,48.788699999999999,32.713799999999999,0,0,0.03,1,null,null,null,null,null,null,null,null,null,null,null,null,null,null,null,null,null,null,null,null,null,null,null,null,0,{"$f":"ROUND(Y399*Source!I209*DO399,7)","v":0},{"$f":"ROUND(Y399*Source!I209,7)","v":0},{"$f":"AB399","v":1626.29},{"$f":"AF399","v":1626.29},{"$f":"AJ399","v":1},48.79,32.71,"","",0,0,0,0,{"$f":"DG399+DH399","v":0},1,"4-100-060",6,"чел.-ч.",1]
[{"$f":"ROW(Source!A209)","v":209},85316715,85320499,83785072,1,1,1,2,"91.14.02-001","ФСЭМ-2022 доп.7, 91.14.02-001, приказ Минстроя России от 02.08.2023 г. № 551/пр","Автомобили бортовые, грузоподъемность до 5 т",1368,null,1011,"маш.-ч","маш.-ч",1,null,null,null,null,null,0,-849950259,0.03,null,0,641.70000000000005,811.79,0,0,641.70000000000005,811.79,0,1,1,1,1,-2,0,0,1,1,0,"",0.03,"",1,2,85320517,1,0,400,1,0,0,0,0,0,0,0,0,19.251000000000001,24.353699999999996,0,0,0.03,1,0,19.251000000000001,24.353699999999996,0,0,0.03,1,null,null,null,null,null,null,null,null,null,null,null,null,null,null,null,null,null,null,null,null,null,null,null,null,0,{"$f":"ROUND(Y400*Source!I209*DO400,7)","v":0},{"$f":"ROUND(Y400*Source!I209,7)","v":0},{"$f":"AB400","v":641.70000000000005},{"$f":"AF400","v":641.70000000000005},{"$f":"AJ400","v":1},19.25,24.35,"","",0,0,0,0,{"$f":"DG400+DH400","v":0},1,"4-100-040",4,"чел.-ч.",1]
[{"$f":"ROW(Source!A209)","v":209},85316715,85320499,83785705,1,1,1,2,"91.21.16-012","ФСЭМ-2022, 91.21.16-012, приказ Минстроя России от 18.05.2022 г. № 378/пр","Прессы гидравлические с электроприводом",1368,null,1011,"маш.-ч","маш.-ч",1,null,null,null,null,null,0,691687715,17.5,null,0,15.84,0,0,0,15.84,0,0,1,1,1,1,-2,0,0,1,1,0,"",17.5,"",1,2,85320518,1,0,401,1,0,0,0,0,0,0,0,0,277.2,0,0,0,0,1,0,277.2,0,0,0,0,1,null,null,null,null,null,null,null,null,null,null,null,null,null,null,null,null,null,null,null,null,null,null,null,null,0,{"$f":"ROUND(Y401*Source!I209*DO401,7)","v":0},{"$f":"ROUND(Y401*Source!I209,7)","v":0},{"$f":"AB401","v":15.84},{"$f":"AF401","v":15.84},{"$f":"AJ401","v":1},277.2,0,"","",0,0,0,0,{"$f":"DG401+DH401","v":0},1,"",0,"",0]
[{"$f":"ROW(Source!A209)","v":209},85316715,85320499,83849775,1,1,1,3,"01.3.01.02-0002","ФСБЦ-2022 доп.8, 01.3.01.02-0002, приказ Минстроя России от 14.11.2023 г. № 817/пр","Вазелин технический",1346,null,1009,"кг","кг",1,null,null,null,null,null,0,819855318,0.3,null,240.06,0,0,0,150.04,0,0,0,1.6,1,1,1,2,0,0,1,1,0,"",0.3,"",0,2,85320519,1,0,402,1,0,0,0,0,0,0,0,45.011999999999993,0,0,0,0,0,1,45.011999999999993,0,0,0,0,0,1,null,null,null,null,null,null,null,null,null,null,null,null,null,null,null,null,null,null,null,null,null,null,null,null,0,0,{"$f":"ROUND(Y402*Source!I209,7)","v":0},{"$f":"AA402","v":240.06},{"$f":"AE402","v":150.04},{"$f":"AI402","v":1.6},45.01,0,"","",{"$f":"ROUND(ROUND(AE402*AI402,2)*CX402,2)","v":0},0,0,0,{"$f":"DF402","v":0},0,"",0,"",0]
[{"$f":"ROW(Source!A209)","v":209},85316715,85320499,83851817,1,1,1,3,"01.7.02.09-0002","ФСБЦ-2022, 01.7.02.09-0002, приказ Минстроя России от 18.05.2022 г. № 378/пр","Шпагат бумажный, диаметр 2,5 мм",1346,null,1009,"кг","кг",1,null,null,null,null,null,0,-559691286,0.1,null,164.89,0,0,0,187.38,0,0,0,0.88,1,1,1,2,0,0,1,1,0,"",0.1,"",0,2,85320520,1,0,403,1,0,0,0,0,0,0,0,18.738,0,0,0,0,0,1,18.738,0,0,0,0,0,1,null,null,null,null,null,null,null,null,null,null,null,null,null,null,null,null,null,null,null,null,null,null,null,null,0,0,{"$f":"ROUND(Y403*Source!I209,7)","v":0},164.89,187.38,0.88,18.739999999999998,0,"","",0,0,0,0,0,0,"",0,"",0]
[{"$f":"ROW(Source!A209)","v":209},85316715,85320499,83852000,1,1,1,3,"01.7.06.05-0041","ФСБЦ-2022, 01.7.06.05-0041, приказ Минстроя России от 18.05.2022 г. № 378/пр","Ленты изоляционные хлопчатобумажные прорезиненные для электромонтажных и ремонтных работ, цвет черный, ширина 20 мм, толщина 0,35 мм",1301,null,1003,"м","м",1,null,null,null,null,null,0,-1499427467,83.33,null,5.17,0,0,0,5.87,0,0,0,0.88,1,1,1,2,0,0,1,1,0,"",83.33,"",0,2,85320521,1,0,404,1,0,0,0,0,0,0,0,489.14710000000002,0,0,0,0,0,1,489.14710000000002,0,0,0,0,0,1,null,null,null,null,null,null,null,null,null,null,null,null,null,null,null,null,null,null,null,null,null,null,null,null,0,0,{"$f":"ROUND(Y404*Source!I209,7)","v":0},5.17,5.87,0.88,489.15,0,"","",0,0,0,0,0,0,"",0,"",0]
[{"$f":"ROW(Source!A209)","v":209},85316715,85320499,83852014,1,1,1,3,"01.7.06.07-0002","ФСБЦ-2022, 01.7.06.07-0002, приказ Минстроя России от 18.05.2022 г. № 378/пр","Ленты монтажные из пластмассы для бандажирования проводов, скрепляются пластмассовыми кнопками, ширина 10 мм",1302,null,1003,"10 м","10 м",10,null,null,null,null,null,0,530731316,1.5,null,57.7,0,0,0,37.71,0,0,0,1.53,1,1,1,2,0,0,1,1,0,"",1.5,"",0,2,85320522,1,0,405,1,0,0,0,0,0,0,0,56.564999999999998,0,0,0,0,0,1,56.564999999999998,0,0,0,0,0,1,null,null,null,null,null,null,null,null,null,null,null,null,null,null,null,null,null,null,null,null,null,null,null,null,0,0,{"$f":"ROUND(Y405*Source!I209,7)","v":0},57.7,37.71,1.53,56.57,0,"","",0,0,0,0,0,0,"",0,"",0]
[{"$f":"ROW(Source!A209)","v":209},85316715,85320499,83853338,1,1,1,3,"01.7.15.03-0042","ФСБЦ-2022, 01.7.15.03-0042, приказ Минстроя России от 18.05.2022 г. № 378/пр","Болты с гайками и шайбами строительные",1346,null,1009,"кг","кг",1,null,null,null,null,null,0,-1131385474,7.94,null,188.92,0,0,0,174.93,0,0,0,1.08,1,1,1,2,0,0,1,1,0,"",7.94,"",0,2,85320523,1,0,406,1,0,0,0,0,0,0,0,1388.9442000000001,0,0,0,0,0,1,1388.9442000000001,0,0,0,0,0,1,null,null,null,null,null,null,null,null,null,null,null,null,null,null,null,null,null,null,null,null,null,null,null,null,0,0,{"$f":"ROUND(Y406*Source!I209,7)","v":0},188.92,174.93,1.08,1388.94,0,"","",0,0,0,0,0,0,"",0,"",0]
[{"$f":"ROW(Source!A209)","v":209},85316715,85320499,83854460,1,1,1,3,"01.7.20.04-0005","ФСБЦ-2022, 01.7.20.04-0005, приказ Минстроя России от 18.05.2022 г. № 378/пр","Нитки швейные армированные",1346,null,1009,"кг","кг",1,null,null,null,null,null,0,-390590286,0.06,null,609.29999999999995,0,0,0,395.65,0,0,0,1.54,1,1,1,2,0,0,1,1,0,"",0.06,"",0,2,85320524,1,0,407,1,0,0,0,0,0,0,0,23.738999999999997,0,0,0,0,0,1,23.738999999999997,0,0,0,0,0,1,null,null,null,null,null,null,null,null,null,null,null,null,null,null,null,null,null,null,null,null,null,null,null,null,0,0,{"$f":"ROUND(Y407*Source!I209,7)","v":0},609.29999999999995,395.65,1.54,23.74,0,"","",0,0,0,0,0,0,"",0,"",0]
[{"$f":"ROW(Source!A209)","v":209},85316715,85320499,83870611,1,1,1,3,"14.4.03.17-0101","ФСБЦ-2022, 14.4.03.17-0101, приказ Минстроя России от 18.05.2022 г. № 378/пр","Лак КФ-965",1348,null,1009,"т","т",1000,null,null,null,null,null,0,-800421790,4.0000000000000002E-4,null,370619.64,0,0,0,308849.7,0,0,0,1.2,1,1,1,2,0,0,1,1,0,"",4.0000000000000002E-4,"",0,2,85320525,1,0,408,1,0,0,0,0,0,0,0,123.53988000000001,0,0,0,0,0,1,123.53988000000001,0,0,0,0,0,1,null,null,null,null,null,null,null,null,null,null,null,null,null,null,null,null,null,null,null,null,null,null,null,null,0,0,{"$f":"ROUND(Y408*Source!I209,7)","v":0},370619.64,308849.7,1.2,123.54,0,"","",0,0,0,0,0,0,"",0,"",0]
[{"$f":"ROW(Source!A209)","v":209},85316715,85320499,83896008,1,1,1,3,"25.2.01.01-0001","ФСБЦ-2022, 25.2.01.01-0001, приказ Минстроя России от 18.05.2022 г. № 378/пр","Бирки-оконцеватели маркировочные А671",1425,null,1013,"100 ШТ","100 ШТ",1,null,null,null,null,null,0,1904922673,1.02,null,623.11,0,0,0,655.9,0,0,0,0.95,1,1,1,2,0,0,1,1,0,"",1.02,"",0,2,85320526,1,0,409,1,0,0,0,0,0,0,0,669.01800000000003,0,0,0,0,0,1,669.01800000000003,0,0,0,0,0,1,null,null,null,null,null,null,null,null,null,null,null,null,null,null,null,null,null,null,null,null,null,null,null,null,0,0,{"$f":"ROUND(Y409*Source!I209,7)","v":0},623.11,655.9,0.95,669.02,0,"","",0,0,0,0,0,0,"",0,"",0]
[{"$f":"ROW(Source!A209)","v":209},85316715,85320499,83783523,117,1,1,3,"421/пр_2020_п.75_пп.а","","Сметная стоимость вспомогательных ненормируемых материальных ресурсов, не учтенная в сметной норме, 2%",3277935,null,1013,"%","%",1,null,null,null,null,null,0,274903907,2,null,0,0,0,0,0,0,0,0,1,1,1,1,0,0,0,0,0,0,"",2,"",0,2,85320527,1,0,410,0,0,0,0,0,0,0,0,0,0,0,0,0,0,0,0,0,0,0,0,0,0,null,null,null,null,null,null,null,null,null,null,null,null,null,null,null,null,null,null,null,null,null,null,null,null,0,0,{"$f":"ROUND(Y410*Source!I209,7)","v":0},0,0,1,0,0,"","",{"$f":"ROUND(ROUND(AE410,2)*CX410,2)","v":0},0,0,0,0,0,"",0,"",0]
[{"$f":"ROW(Source!A210)","v":210},85316656,85320499,83777525,117,1,1,1,"1-100-42","","Средний разряд работы 4,2",1191,null,1013,"чел.-ч.","чел.-ч.",1,null,null,null,null,null,0,1522950421,52.53,null,0,0,0,836.02,0,0,0,836.02,1,1,1,1,-2,0,0,1,1,0,"",52.53,"",1,2,85320514,1,0,411,1,0,0,0,0,0,0,0,0,0,0,43916.130599999997,52.53,0,1,0,0,0,43916.130599999997,52.53,0,1,null,null,null,null,null,null,null,null,null,null,null,null,null,null,null,null,null,null,null,null,null,null,null,{"$f":"ROUND(AT411*Source!I210*AH411*AL411,2)","v":0},{"$f":"ROUND(Y411*Source!I210,7)","v":0},0,{"$f":"ROUND(Y411*Source!I210,7)","v":0},{"$f":"AD411","v":836.02},{"$f":"AH411","v":836.02},{"$f":"AL411","v":1},43916.13,0,"","",0,0,0,0,{"$f":"DI411","v":0},1,"",0,"",0]
[{"$f":"ROW(Source!A210)","v":210},85316656,85320499,83777689,117,1,1,1,"4-100-00","","Затраты труда машинистов",1191,null,1013,"чел.-ч.","чел.-ч.",1,null,null,null,null,null,0,-1417349443,0.06,null,0,0,0,0,0,0,0,0,1,1,1,1,-2,0,0,1,1,0,"",0.06,"",2,2,85320515,1,0,412,1,0,0,0,0,0,0,0,0,0,0,0,0,0,0,0,0,0,0,0,0,0,null,null,null,null,null,null,null,null,null,null,null,null,null,null,null,null,null,null,null,null,null,null,null,null,0,0,{"$f":"ROUND(Y412*Source!I210,7)","v":0},{"$f":"AD412","v":0},{"$f":"AH412","v":0},{"$f":"AL412","v":1},0,0,"","",0,0,0,0,{"$f":"DI412","v":0},0,"",0,"",0]
[{"$f":"ROW(Source!A210)","v":210},85316656,85320499,83784178,1,1,1,2,"91.05.05-015","ФСЭМ-2022, 91.05.05-015, приказ Минстроя России от 18.05.2022 г. № 378/пр","Краны на автомобильном ходу, грузоподъемность 16 т",1368,null,1011,"маш.-ч","маш.-ч",1,null,null,null,null,null,0,639918019,0.03,null,0,1626.29,1090.46,0,0,1626.29,1090.46,0,1,1,1,1,-2,0,0,1,1,0,"",0.03,"",1,2,85320516,1,0,413,1,0,0,0,0,0,0,0,0,48.788699999999999,32.713799999999999,0,0,0.03,1,0,48.788699999999999,32.713799999999999,0,0,0.03,1,null,null,null,null,null,null,null,null,null,null,null,null,null,null,null,null,null,null,null,null,null,null,null,null,0,{"$f":"ROUND(Y413*Source!I210*DO413,7)","v":0},{"$f":"ROUND(Y413*Source!I210,7)","v":0},{"$f":"AB413","v":1626.29},{"$f":"AF413","v":1626.29},{"$f":"AJ413","v":1},48.79,32.71,"","",0,0,0,0,{"$f":"DG413+DH413","v":0},1,"4-100-060",6,"чел.-ч.",1]
[{"$f":"ROW(Source!A210)","v":210},85316656,85320499,83785072,1,1,1,2,"91.14.02-001","ФСЭМ-2022 доп.7, 91.14.02-001, приказ Минстроя России от 02.08.2023 г. № 551/пр","Автомобили бортовые, грузоподъемность до 5 т",1368,null,1011,"маш.-ч","маш.-ч",1,null,null,null,null,null,0,-849950259,0.03,null,0,641.70000000000005,811.79,0,0,641.70000000000005,811.79,0,1,1,1,1,-2,0,0,1,1,0,"",0.03,"",1,2,85320517,1,0,414,1,0,0,0,0,0,0,0,0,19.251000000000001,24.353699999999996,0,0,0.03,1,0,19.251000000000001,24.353699999999996,0,0,0.03,1,null,null,null,null,null,null,null,null,null,null,null,null,null,null,null,null,null,null,null,null,null,null,null,null,0,{"$f":"ROUND(Y414*Source!I210*DO414,7)","v":0},{"$f":"ROUND(Y414*Source!I210,7)","v":0},{"$f":"AB414","v":641.70000000000005},{"$f":"AF414","v":641.70000000000005},{"$f":"AJ414","v":1},19.25,24.35,"","",0,0,0,0,{"$f":"DG414+DH414","v":0},1,"4-100-040",4,"чел.-ч.",1]
[{"$f":"ROW(Source!A210)","v":210},85316656,85320499,83785705,1,1,1,2,"91.21.16-012","ФСЭМ-2022, 91.21.16-012, приказ Минстроя России от 18.05.2022 г. № 378/пр","Прессы гидравлические с электроприводом",1368,null,1011,"маш.-ч","маш.-ч",1,null,null,null,null,null,0,691687715,17.5,null,0,15.84,0,0,0,15.84,0,0,1,1,1,1,-2,0,0,1,1,0,"",17.5,"",1,2,85320518,1,0,415,1,0,0,0,0,0,0,0,0,277.2,0,0,0,0,1,0,277.2,0,0,0,0,1,null,null,null,null,null,null,null,null,null,null,null,null,null,null,null,null,null,null,null,null,null,null,null,null,0,{"$f":"ROUND(Y415*Source!I210*DO415,7)","v":0},{"$f":"ROUND(Y415*Source!I210,7)","v":0},{"$f":"AB415","v":15.84},{"$f":"AF415","v":15.84},{"$f":"AJ415","v":1},277.2,0,"","",0,0,0,0,{"$f":"DG415+DH415","v":0},1,"",0,"",0]
[{"$f":"ROW(Source!A210)","v":210},85316656,85320499,83849775,1,1,1,3,"01.3.01.02-0002","ФСБЦ-2022 доп.8, 01.3.01.02-0002, приказ Минстроя России от 14.11.2023 г. № 817/пр","Вазелин технический",1346,null,1009,"кг","кг",1,null,null,null,null,null,0,819855318,0.3,null,240.06,0,0,0,150.04,0,0,0,1.6,1,1,1,2,0,0,1,1,0,"",0.3,"",0,2,85320519,1,0,416,1,0,0,0,0,0,0,0,45.011999999999993,0,0,0,0,0,1,45.011999999999993,0,0,0,0,0,1,null,null,null,null,null,null,null,null,null,null,null,null,null,null,null,null,null,null,null,null,null,null,null,null,0,0,{"$f":"ROUND(Y416*Source!I210,7)","v":0},{"$f":"AA416","v":240.06},{"$f":"AE416","v":150.04},{"$f":"AI416","v":1.6},45.01,0,"","",{"$f":"ROUND(ROUND(AE416*AI416,2)*CX416,2)","v":0},0,0,0,{"$f":"DF416","v":0},0,"",0,"",0]
[{"$f":"ROW(Source!A210)","v":210},85316656,85320499,83851817,1,1,1,3,"01.7.02.09-0002","ФСБЦ-2022, 01.7.02.09-0002, приказ Минстроя России от 18.05.2022 г. № 378/пр","Шпагат бумажный, диаметр 2,5 мм",1346,null,1009,"кг","кг",1,null,null,null,null,null,0,-559691286,0.1,null,164.89,0,0,0,187.38,0,0,0,0.88,1,1,1,2,0,0,1,1,0,"",0.1,"",0,2,85320520,1,0,417,1,0,0,0,0,0,0,0,18.738,0,0,0,0,0,1,18.738,0,0,0,0,0,1,null,null,null,null,null,null,null,null,null,null,null,null,null,null,null,null,null,null,null,null,null,null,null,null,0,0,{"$f":"ROUND(Y417*Source!I210,7)","v":0},164.89,187.38,0.88,18.739999999999998,0,"","",0,0,0,0,0,0,"",0,"",0]
[{"$f":"ROW(Source!A210)","v":210},85316656,85320499,83852000,1,1,1,3,"01.7.06.05-0041","ФСБЦ-2022, 01.7.06.05-0041, приказ Минстроя России от 18.05.2022 г. № 378/пр","Ленты изоляционные хлопчатобумажные прорезиненные для электромонтажных и ремонтных работ, цвет черный, ширина 20 мм, толщина 0,35 мм",1301,null,1003,"м","м",1,null,null,null,null,null,0,-1499427467,83.33,null,5.17,0,0,0,5.87,0,0,0,0.88,1,1,1,2,0,0,1,1,0,"",83.33,"",0,2,85320521,1,0,418,1,0,0,0,0,0,0,0,489.14710000000002,0,0,0,0,0,1,489.14710000000002,0,0,0,0,0,1,null,null,null,null,null,null,null,null,null,null,null,null,null,null,null,null,null,null,null,null,null,null,null,null,0,0,{"$f":"ROUND(Y418*Source!I210,7)","v":0},5.17,5.87,0.88,489.15,0,"","",0,{"$f":"ROUND(ROUND(AF418,2)*CX418,2)","v":0},0,0,0,0,"",0,"",0]
[{"$f":"ROW(Source!A210)","v":210},85316656,85320499,83852014,1,1,1,3,"01.7.06.07-0002","ФСБЦ-2022, 01.7.06.07-0002, приказ Минстроя России от 18.05.2022 г. № 378/пр","Ленты монтажные из пластмассы для бандажирования проводов, скрепляются пластмассовыми кнопками, ширина 10 мм",1302,null,1003,"10 м","10 м",10,null,null,null,null,null,0,530731316,1.5,null,57.7,0,0,0,37.71,0,0,0,1.53,1,1,1,2,0,0,1,1,0,"",1.5,"",0,2,85320522,1,0,419,1,0,0,0,0,0,0,0,56.564999999999998,0,0,0,0,0,1,56.564999999999998,0,0,0,0,0,1,null,null,null,null,null,null,null,null,null,null,null,null,null,null,null,null,null,null,null,null,null,null,null,null,0,0,{"$f":"ROUND(Y419*Source!I210,7)","v":0},57.7,37.71,1.53,56.57,0,"","",0,0,0,0,0,0,"",0,"",0]
[{"$f":"ROW(Source!A210)","v":210},85316656,85320499,83853338,1,1,1,3,"01.7.15.03-0042","ФСБЦ-2022, 01.7.15.03-0042, приказ Минстроя России от 18.05.2022 г. № 378/пр","Болты с гайками и шайбами строительные",1346,null,1009,"кг","кг",1,null,null,null,null,null,0,-1131385474,7.94,null,188.92,0,0,0,174.93,0,0,0,1.08,1,1,1,2,0,0,1,1,0,"",7.94,"",0,2,85320523,1,0,420,1,0,0,0,0,0,0,0,1388.9442000000001,0,0,0,0,0,1,1388.9442000000001,0,0,0,0,0,1,null,null,null,null,null,null,null,null,null,null,null,null,null,null,null,null,null,null,null,null,null,null,null,null,0,0,{"$f":"ROUND(Y420*Source!I210,7)","v":0},188.92,174.93,1.08,1388.94,0,"","",0,0,0,0,0,0,"",0,"",0]
[{"$f":"ROW(Source!A210)","v":210},85316656,85320499,83854460,1,1,1,3,"01.7.20.04-0005","ФСБЦ-2022, 01.7.20.04-0005, приказ Минстроя России от 18.05.2022 г. № 378/пр","Нитки швейные армированные",1346,null,1009,"кг","кг",1,null,null,null,null,null,0,-390590286,0.06,null,609.29999999999995,0,0,0,395.65,0,0,0,1.54,1,1,1,2,0,0,1,1,0,"",0.06,"",0,2,85320524,1,0,421,1,0,0,0,0,0,0,0,23.738999999999997,0,0,0,0,0,1,23.738999999999997,0,0,0,0,0,1,null,null,null,null,null,null,null,null,null,null,null,null,null,null,null,null,null,null,null,null,null,null,null,null,0,0,{"$f":"ROUND(Y421*Source!I210,7)","v":0},609.29999999999995,395.65,1.54,23.74,0,"","",0,0,0,0,0,0,"",0,"",0]
[{"$f":"ROW(Source!A210)","v":210},85316656,85320499,83870611,1,1,1,3,"14.4.03.17-0101","ФСБЦ-2022, 14.4.03.17-0101, приказ Минстроя России от 18.05.2022 г. № 378/пр","Лак КФ-965",1348,null,1009,"т","т",1000,null,null,null,null,null,0,-800421790,4.0000000000000002E-4,null,370619.64,0,0,0,308849.7,0,0,0,1.2,1,1,1,2,0,0,1,1,0,"",4.0000000000000002E-4,"",0,2,85320525,1,0,422,1,0,0,0,0,0,0,0,123.53988000000001,0,0,0,0,0,1,123.53988000000001,0,0,0,0,0,1,null,null,null,null,null,null,null,null,null,null,null,null,null,null,null,null,null,null,null,null,null,null,null,null,0,0,{"$f":"ROUND(Y422*Source!I210,7)","v":0},370619.64,308849.7,1.2,123.54,0,"","",0,0,0,0,0,0,"",0,"",0]
[{"$f":"ROW(Source!A210)","v":210},85316656,85320499,83896008,1,1,1,3,"25.2.01.01-0001","ФСБЦ-2022, 25.2.01.01-0001, приказ Минстроя России от 18.05.2022 г. № 378/пр","Бирки-оконцеватели маркировочные А671",1425,null,1013,"100 ШТ","100 ШТ",1,null,null,null,null,null,0,1904922673,1.02,null,623.11,0,0,0,655.9,0,0,0,0.95,1,1,1,2,0,0,1,1,0,"",1.02,"",0,2,85320526,1,0,423,1,0,0,0,0,0,0,0,669.01800000000003,0,0,0,0,0,1,669.01800000000003,0,0,0,0,0,1,null,null,null,null,null,null,null,null,null,null,null,null,null,null,null,null,null,null,null,null,null,null,null,null,0,0,{"$f":"ROUND(Y423*Source!I210,7)","v":0},623.11,655.9,0.95,669.02,0,"","",0,0,0,0,0,0,"",0,"",0]
[{"$f":"ROW(Source!A210)","v":210},85316656,85320499,83783523,117,1,1,3,"421/пр_2020_п.75_пп.а","","Сметная стоимость вспомогательных ненормируемых материальных ресурсов, не учтенная в сметной норме, 2%",3277935,null,1013,"%","%",1,null,null,null,null,null,0,274903907,2,null,0,0,0,0,0,0,0,0,1,1,1,1,0,0,0,0,0,0,"",2,"",0,2,85320527,1,0,424,0,0,0,0,0,0,0,0,0,0,0,0,0,0,0,0,0,0,0,0,0,0,null,null,null,null,null,null,null,null,null,null,null,null,null,null,null,null,null,null,null,null,null,null,null,null,0,0,{"$f":"ROUND(Y424*Source!I210,7)","v":0},0,0,1,0,0,"","",{"$f":"ROUND(ROUND(AE424,2)*CX424,2)","v":0},0,0,0,0,0,"",0,"",0]
[{"$f":"ROW(Source!A214)","v":214},85316715,85320530,77306386,114,1,1,1,"1-100-45","","Средний разряд работы 4,5",1191,null,1013,"чел.-ч.","чел.-ч.",1,null,null,null,null,null,0,1903532093,2.38,null,0,0,0,872.37,0,0,0,872.37,1,1,1,1,-2,0,0,1,1,0,"",2.38,"",1,2,85320550,2,131072,425,1,0,0,0,0,0,0,0,0,0,0,2076.2406000000001,2.38,0,1,0,0,0,2076.2406000000001,2.38,0,1,null,null,null,null,null,null,null,null,null,null,null,null,null,null,null,null,null,null,null,null,null,null,null,{"$f":"ROUND(AT425*Source!I214*AH425*AL425,2)","v":0},{"$f":"ROUND(Y425*Source!I214,7)","v":0},0,{"$f":"ROUND(Y425*Source!I214,7)","v":0},{"$f":"AD425","v":872.37},{"$f":"AH425","v":872.37},{"$f":"AL425","v":1},2076.2399999999998,0,"","",0,0,0,0,{"$f":"DI425","v":0},1,"",0,"",0]
[{"$f":"ROW(Source!A214)","v":214},85316715,85320530,77306545,114,1,1,1,"4-100-00","","Затраты труда машинистов",1191,null,1013,"чел.-ч.","чел.-ч.",1,null,null,null,null,null,0,-1417349443,0.02,null,0,0,0,0,0,0,0,0,1,1,1,1,-2,0,0,1,1,0,"",0.02,"",2,2,85320551,1,0,426,1,0,0,0,0,0,0,0,0,0,0,0,0,0,0,0,0,0,0,0,0,0,null,null,null,null,null,null,null,null,null,null,null,null,null,null,null,null,null,null,null,null,null,null,null,null,0,0,{"$f":"ROUND(Y426*Source!I214,7)","v":0},{"$f":"AD426","v":0},{"$f":"AH426","v":0},{"$f":"AL426","v":1},0,0,"","",0,0,0,0,{"$f":"DI426","v":0},0,"",0,"",0]
[{"$f":"ROW(Source!A214)","v":214},85316715,85320530,77430988,1,1,1,2,"91.05.05-015","ФСЭМ-2022, 91.05.05-015, приказ Минстроя России от 18.05.2022 г. № 378/пр","Краны на автомобильном ходу, грузоподъемность 16 т",1368,null,1011,"маш.-ч","маш.-ч",1,null,null,null,null,null,0,-468861091,0.01,null,0,1626.29,1090.46,0,0,1626.29,1090.46,0,1,1,1,1,-2,0,0,1,1,0,"",0.01,"",1,2,85320552,1,0,427,1,0,0,0,0,0,0,0,0,16.262899999999998,10.9046,0,0,0.01,1,0,16.262899999999998,10.9046,0,0,0.01,1,null,null,null,null,null,null,null,null,null,null,null,null,null,null,null,null,null,null,null,null,null,null,null,null,0,{"$f":"ROUND(Y427*Source!I214*DO427,7)","v":0},{"$f":"ROUND(Y427*Source!I214,7)","v":0},{"$f":"AB427","v":1626.29},{"$f":"AF427","v":1626.29},{"$f":"AJ427","v":1},16.260000000000002,10.9,"","",0,0,0,0,{"$f":"DG427+DH427","v":0},1,"4-100-060",6,"чел.-ч.",1]
[{"$f":"ROW(Source!A214)","v":214},85316715,85320530,77431879,1,1,1,2,"91.14.02-001","ФСЭМ-2022 доп.7, 91.14.02-001, приказ Минстроя России от 02.08.2023 г. № 551/пр","Автомобили бортовые, грузоподъемность до 5 т",1368,null,1011,"маш.-ч","маш.-ч",1,null,null,null,null,null,0,-1152394969,0.01,null,0,641.70000000000005,811.79,0,0,641.70000000000005,811.79,0,1,1,1,1,-2,0,0,1,1,0,"",0.01,"",1,2,85320553,1,0,428,1,0,0,0,0,0,0,0,0,6.4170000000000007,8.1179000000000006,0,0,0.01,1,0,6.4170000000000007,8.1179000000000006,0,0,0.01,1,null,null,null,null,null,null,null,null,null,null,null,null,null,null,null,null,null,null,null,null,null,null,null,null,0,{"$f":"ROUND(Y428*Source!I214*DO428,7)","v":0},{"$f":"ROUND(Y428*Source!I214,7)","v":0},{"$f":"AB428","v":641.70000000000005},{"$f":"AF428","v":641.70000000000005},{"$f":"AJ428","v":1},6.42,8.1199999999999992,"","",0,0,0,0,{"$f":"DG428+DH428","v":0},1,"4-100-040",4,"чел.-ч.",1]
[{"$f":"ROW(Source!A214)","v":214},85316715,85320530,77432074,1,1,1,2,"91.17.04-233","ФСЭМ-2022, 91.17.04-233, приказ Минстроя России от 18.05.2022 г. № 378/пр","Аппараты сварочные для ручной дуговой сварки, сварочный ток до 350 А",1368,null,1011,"маш.-ч","маш.-ч",1,null,null,null,null,null,0,-334821386,0.108,null,0,34.61,0,0,0,34.61,0,0,1,1,1,1,-2,0,0,1,1,0,"",0.108,"",1,2,85320554,1,0,429,1,0,0,0,0,0,0,0,0,3.7378800000000001,0,0,0,0,1,0,3.7378800000000001,0,0,0,0,1,null,null,null,null,null,null,null,null,null,null,null,null,null,null,null,null,null,null,null,null,null,null,null,null,0,{"$f":"ROUND(Y429*Source!I214*DO429,7)","v":0},{"$f":"ROUND(Y429*Source!I214,7)","v":0},{"$f":"AB429","v":34.61},{"$f":"AF429","v":34.61},{"$f":"AJ429","v":1},3.74,0,"","",0,0,0,0,{"$f":"DG429+DH429","v":0},1,"",0,"",0]
[{"$f":"ROW(Source!A214)","v":214},85316715,85320530,77432509,1,1,1,2,"91.21.16-012","ФСЭМ-2022, 91.21.16-012, приказ Минстроя России от 18.05.2022 г. № 378/пр","Прессы гидравлические с электроприводом",1368,null,1011,"маш.-ч","маш.-ч",1,null,null,null,null,null,0,-685414241,0.19800000000000001,null,0,15.84,0,0,0,15.84,0,0,1,1,1,1,-2,0,0,1,1,0,"",0.19800000000000001,"",1,2,85320555,1,0,430,1,0,0,0,0,0,0,0,0,3.13632,0,0,0,0,1,0,3.13632,0,0,0,0,1,null,null,null,null,null,null,null,null,null,null,null,null,null,null,null,null,null,null,null,null,null,null,null,null,0,{"$f":"ROUND(Y430*Source!I214*DO430,7)","v":0},{"$f":"ROUND(Y430*Source!I214,7)","v":0},{"$f":"AB430","v":15.84},{"$f":"AF430","v":15.84},{"$f":"AJ430","v":1},3.14,0,"","",0,0,0,0,{"$f":"DG430+DH430","v":0},1,"",0,"",0]
[{"$f":"ROW(Source!A214)","v":214},85316715,85320530,77375881,1,1,1,3,"01.3.01.02-0002","ФСБЦ-2022 доп.8, 01.3.01.02-0002, приказ Минстроя России от 14.11.2023 г. № 817/пр","Вазелин технический",1346,null,1009,"кг","кг",1,null,null,null,null,null,0,-1157339123,0,null,240.06,0,0,0,150.04,0,0,0,1.6,1,1,1,2,0,0,1,1,0,"",0,"",0,2,85320556,1,6144,431,1,0,0,0,0,0,0,0,0,0,0,0,0,0,0,0,0,0,0,0,0,0,null,null,null,null,null,null,null,null,null,null,null,null,null,null,null,null,null,null,null,null,null,null,null,null,0,0,{"$f":"ROUND(Y431*Source!I214,7)","v":0},{"$f":"AA431","v":240.06},{"$f":"AE431","v":150.04},{"$f":"AI431","v":1.6},0,0,"","",{"$f":"ROUND(ROUND(AE431*AI431,2)*CX431,2)","v":0},0,0,0,{"$f":"DF431","v":0},0,"",0,"",0]
[{"$f":"ROW(Source!A214)","v":214},85316715,85320530,77378054,1,1,1,3,"01.7.02.09-0002","ФСБЦ-2022, 01.7.02.09-0002, приказ Минстроя России от 18.05.2022 г. № 378/пр","Шпагат бумажный, диаметр 2,5 мм",1346,null,1009,"кг","кг",1,null,null,null,null,null,0,-1566248661,0,null,164.89,0,0,0,187.38,0,0,0,0.88,1,1,1,2,0,0,1,1,0,"",0,"",0,2,85320557,1,6144,432,1,0,0,0,0,0,0,0,0,0,0,0,0,0,0,0,0,0,0,0,0,0,null,null,null,null,null,null,null,null,null,null,null,null,null,null,null,null,null,null,null,null,null,null,null,null,0,0,{"$f":"ROUND(Y432*Source!I214,7)","v":0},164.89,187.38,0.88,0,0,"","",{"$f":"ROUND(ROUND(AE432*AI432,2)*CX432,2)","v":0},0,0,0,0,0,"",0,"",0]
[{"$f":"ROW(Source!A214)","v":214},85316715,85320530,77378078,1,1,1,3,"01.7.03.04-0001","ФСБЦ-2022, 01.7.03.04-0001, приказ Минстроя России от 18.05.2022 г. № 378/пр","Электроэнергия",1383,null,1013,"КВТ-Ч","КВТ-Ч",1,null,null,null,null,null,0,-2119218604,2.0799999999999999E-2,null,7.32,0,0,0,7.32,0,0,0,1,1,1,1,-2,0,0,1,1,0,"",2.0799999999999999E-2,"",0,2,85320558,1,0,433,1,0,0,0,0,0,0,0,0.152256,0,0,0,0,0,1,0.152256,0,0,0,0,0,1,null,null,null,null,null,null,null,null,null,null,null,null,null,null,null,null,null,null,null,null,null,null,null,null,0,0,{"$f":"ROUND(Y433*Source!I214,7)","v":0},7.32,7.32,1,0.15,0,"","",{"$f":"ROUND(ROUND(AE433,2)*CX433,2)","v":0},0,0,0,0,1,"",0,"",0]
[{"$f":"ROW(Source!A214)","v":214},85316715,85320530,77378231,1,1,1,3,"01.7.06.05-0041","ФСБЦ-2022, 01.7.06.05-0041, приказ Минстроя России от 18.05.2022 г. № 378/пр","Ленты изоляционные хлопчатобумажные прорезиненные для электромонтажных и ремонтных работ, цвет черный, ширина 20 мм, толщина 0,35 мм",1301,null,1003,"м","м",1,null,null,null,null,null,0,1254062187,3.5,null,5.17,0,0,0,5.87,0,0,0,0.88,1,1,1,2,0,0,1,1,0,"",3.5,"",0,2,85320559,1,0,434,1,0,0,0,0,0,0,0,20.545000000000002,0,0,0,0,0,1,20.545000000000002,0,0,0,0,0,1,null,null,null,null,null,null,null,null,null,null,null,null,null,null,null,null,null,null,null,null,null,null,null,null,0,0,{"$f":"ROUND(Y434*Source!I214,7)","v":0},5.17,5.87,0.88,20.55,0,"","",{"$f":"ROUND(ROUND(AE434*AI434,2)*CX434,2)","v":0},0,0,0,0,0,"",0,"",0]
[{"$f":"ROW(Source!A214)","v":214},85316715,85320530,77378830,1,1,1,3,"01.7.11.07-0227","ФСБЦ-2022, 01.7.11.07-0227, приказ Минстроя России от 18.05.2022 г. № 378/пр","Электроды сварочные для сварки низколегированных и углеродистых сталей УОНИ 13/45, Э42А, диаметр 4-5 мм",1346,null,1009,"кг","кг",1,null,null,null,null,null,0,212334824,7.0000000000000007E-2,null,121.39,0,0,0,155.63,0,0,0,0.78,1,1,1,2,0,0,1,1,0,"",7.0000000000000007E-2,"",0,2,85320560,1,0,435,1,0,0,0,0,0,0,0,10.8941,0,0,0,0,0,1,10.8941,0,0,0,0,0,1,null,null,null,null,null,null,null,null,null,null,null,null,null,null,null,null,null,null,null,null,null,null,null,null,0,0,{"$f":"ROUND(Y435*Source!I214,7)","v":0},121.39,155.63,0.78,10.89,0,"","",0,0,0,0,0,0,"",0,"",0]
[{"$f":"ROW(Source!A214)","v":214},85316715,85320530,77379558,1,1,1,3,"01.7.15.03-0042","ФСБЦ-2022, 01.7.15.03-0042, приказ Минстроя России от 18.05.2022 г. № 378/пр","Болты с гайками и шайбами строительные",1346,null,1009,"кг","кг",1,null,null,null,null,null,0,1181962216,0,null,188.92,0,0,0,174.93,0,0,0,1.08,1,1,1,2,0,0,1,1,0,"",0,"",0,2,85320561,1,6144,436,1,0,0,0,0,0,0,0,0,0,0,0,0,0,0,0,0,0,0,0,0,0,null,null,null,null,null,null,null,null,null,null,null,null,null,null,null,null,null,null,null,null,null,null,null,null,0,0,{"$f":"ROUND(Y436*Source!I214,7)","v":0},188.92,174.93,1.08,0,0,"","",0,0,0,0,0,0,"",0,"",0]
[{"$f":"ROW(Source!A214)","v":214},85316715,85320530,77379624,1,1,1,3,"01.7.15.07-0014","ФСБЦ-2022, 01.7.15.07-0014, приказ Минстроя России от 18.05.2022 г. № 378/пр","Дюбели распорные полипропиленовые",1425,null,1013,"100 ШТ","100 ШТ",1,null,null,null,null,null,0,-145062553,1.4E-2,null,53.81,0,0,0,41.71,0,0,0,1.29,1,1,1,2,0,0,1,1,0,"",1.4E-2,"",0,2,85320562,1,0,437,1,0,0,0,0,0,0,0,0.58394000000000001,0,0,0,0,0,1,0.58394000000000001,0,0,0,0,0,1,null,null,null,null,null,null,null,null,null,null,null,null,null,null,null,null,null,null,null,null,null,null,null,null,0,0,{"$f":"ROUND(Y437*Source!I214,7)","v":0},53.81,41.71,1.29,0.57999999999999996,0,"","",0,0,0,0,0,0,"",0,"",0]
[{"$f":"ROW(Source!A214)","v":214},85316715,85320530,77380667,1,1,1,3,"01.7.20.04-0005","ФСБЦ-2022, 01.7.20.04-0005, приказ Минстроя России от 18.05.2022 г. № 378/пр","Нитки швейные армированные",1346,null,1009,"кг","кг",1,null,null,null,null,null,0,307966500,0,null,609.29999999999995,0,0,0,395.65,0,0,0,1.54,1,1,1,2,0,0,1,1,0,"",0,"",0,2,85320563,1,6144,438,1,0,0,0,0,0,0,0,0,0,0,0,0,0,0,0,0,0,0,0,0,0,null,null,null,null,null,null,null,null,null,null,null,null,null,null,null,null,null,null,null,null,null,null,null,null,0,0,{"$f":"ROUND(Y438*Source!I214,7)","v":0},609.29999999999995,395.65,1.54,0,0,"","",0,0,0,0,0,0,"",0,"",0]
[{"$f":"ROW(Source!A214)","v":214},85316715,85320530,77385128,1,1,1,3,"07.2.07.04-0007","ФСБЦ-2022, 07.2.07.04-0007, приказ Минстроя России от 18.05.2022 г. № 378/пр","Конструкции стальные индивидуального изготовления из сортового проката",1348,null,1009,"т","т",1000,null,null,null,null,null,0,2105722316,0,null,135809.66,0,0,0,105278.81,0,0,0,1.29,1,1,1,2,0,0,1,1,0,"",0,"",0,2,85320564,1,6144,439,1,0,0,0,0,0,0,0,0,0,0,0,0,0,0,0,0,0,0,0,0,0,null,null,null,null,null,null,null,null,null,null,null,null,null,null,null,null,null,null,null,null,null,null,null,null,0,0,{"$f":"ROUND(Y439*Source!I214,7)","v":0},135809.66,105278.81,1.29,0,0,"","",0,0,0,0,0,0,"",0,"",0]
[{"$f":"ROW(Source!A214)","v":214},85316715,85320530,77397226,1,1,1,3,"14.4.02.04-0142","ФСБЦ-2022, 14.4.02.04-0142, приказ Минстроя России от 18.05.2022 г. № 378/пр","Краска масляная МА-0115, мумия, сурик железный",1346,null,1009,"кг","кг",1,null,null,null,null,null,0,790403873,0,null,115.03,0,0,0,79.88,0,0,0,1.44,1,1,1,2,0,0,1,1,0,"",0,"",0,2,85320565,1,6144,440,1,0,0,0,0,0,0,0,0,0,0,0,0,0,0,0,0,0,0,0,0,0,null,null,null,null,null,null,null,null,null,null,null,null,null,null,null,null,null,null,null,null,null,null,null,null,0,0,{"$f":"ROUND(Y440*Source!I214,7)","v":0},115.03,79.88,1.44,0,0,"","",0,0,0,0,0,0,"",0,"",0]
[{"$f":"ROW(Source!A214)","v":214},85316715,85320530,77397272,1,1,1,3,"14.4.03.06-0001","ФСБЦ-2022 доп.9, 14.4.03.06-0001, приказ Минстроя России от 16.02.2024 г. № 102/пр","Лак электроизоляционный МЛ-92",1346,null,1009,"кг","кг",1,null,null,null,null,null,0,-1422522641,0,null,188.93,0,0,0,157.44,0,0,0,1.2,1,1,1,2,0,0,1,1,0,"",0,"",0,2,85320566,1,6144,441,1,0,0,0,0,0,0,0,0,0,0,0,0,0,0,0,0,0,0,0,0,0,null,null,null,null,null,null,null,null,null,null,null,null,null,null,null,null,null,null,null,null,null,null,null,null,0,0,{"$f":"ROUND(Y441*Source!I214,7)","v":0},188.93,157.44,1.2,0,0,"","",0,0,0,0,0,0,"",0,"",0]
[{"$f":"ROW(Source!A214)","v":214},85316715,85320530,77404544,1,1,1,3,"20.1.02.23-0082","ФСБЦ-2022, 20.1.02.23-0082, приказ Минстроя России от 18.05.2022 г. № 378/пр","Перемычки гибкие, тип ПГС-50",1455,null,1013,"10 ШТ","10 ШТ",1,null,null,null,null,null,0,1640750103,0.1,null,1303.67,0,0,0,944.69,0,0,0,1.38,1,1,1,2,0,0,1,1,0,"",0.1,"",0,2,85320567,1,0,442,1,0,0,0,0,0,0,0,94.469000000000008,0,0,0,0,0,1,94.469000000000008,0,0,0,0,0,1,null,null,null,null,null,null,null,null,null,null,null,null,null,null,null,null,null,null,null,null,null,null,null,null,0,0,{"$f":"ROUND(Y442*Source!I214,7)","v":0},1303.67,944.69,1.38,94.47,0,"","",0,0,0,0,0,0,"",0,"",0]
[{"$f":"ROW(Source!A214)","v":214},85316715,85320530,77312233,114,1,1,3,"421/пр_2020_п.75_пп.а","","Сметная стоимость вспомогательных ненормируемых материальных ресурсов, не учтенная в сметной норме, 2%",3277935,null,1013,"%","%",1,null,null,null,null,null,0,274903907,2,null,0,0,0,0,0,0,0,0,1,1,1,1,-2,0,0,0,0,0,"",2,"",0,2,85320568,1,0,443,0,0,0,0,0,0,0,0,0,0,0,0,0,0,0,0,0,0,0,0,0,0,null,null,null,null,null,null,null,null,null,null,null,null,null,null,null,null,null,null,null,null,null,null,null,null,0,0,{"$f":"ROUND(Y443*Source!I214,7)","v":0},0,0,1,0,0,"","",{"$f":"ROUND(ROUND(AE443,2)*CX443,2)","v":0},0,0,0,0,0,"",0,"",0]
[{"$f":"ROW(Source!A215)","v":215},85316656,85320530,77306386,114,1,1,1,"1-100-45","","Средний разряд работы 4,5",1191,null,1013,"чел.-ч.","чел.-ч.",1,null,null,null,null,null,0,1903532093,2.38,null,0,0,0,872.37,0,0,0,872.37,1,1,1,1,-2,0,0,1,1,0,"",2.38,"",1,2,85320550,2,131072,444,1,0,0,0,0,0,0,0,0,0,0,2076.2406000000001,2.38,0,1,0,0,0,2076.2406000000001,2.38,0,1,null,null,null,null,null,null,null,null,null,null,null,null,null,null,null,null,null,null,null,null,null,null,null,{"$f":"ROUND(AT444*Source!I215*AH444*AL444,2)","v":0},{"$f":"ROUND(Y444*Source!I215,7)","v":0},0,{"$f":"ROUND(Y444*Source!I215,7)","v":0},{"$f":"AD444","v":872.37},{"$f":"AH444","v":872.37},{"$f":"AL444","v":1},2076.2399999999998,0,"","",0,0,0,0,{"$f":"DI444","v":0},1,"",0,"",0]
[{"$f":"ROW(Source!A215)","v":215},85316656,85320530,77306545,114,1,1,1,"4-100-00","","Затраты труда машинистов",1191,null,1013,"чел.-ч.","чел.-ч.",1,null,null,null,null,null,0,-1417349443,0.02,null,0,0,0,0,0,0,0,0,1,1,1,1,-2,0,0,1,1,0,"",0.02,"",2,2,85320551,1,0,445,1,0,0,0,0,0,0,0,0,0,0,0,0,0,0,0,0,0,0,0,0,0,null,null,null,null,null,null,null,null,null,null,null,null,null,null,null,null,null,null,null,null,null,null,null,null,0,0,{"$f":"ROUND(Y445*Source!I215,7)","v":0},{"$f":"AD445","v":0},{"$f":"AH445","v":0},{"$f":"AL445","v":1},0,0,"","",0,0,0,0,{"$f":"DI445","v":0},0,"",0,"",0]
[{"$f":"ROW(Source!A215)","v":215},85316656,85320530,77430988,1,1,1,2,"91.05.05-015","ФСЭМ-2022, 91.05.05-015, приказ Минстроя России от 18.05.2022 г. № 378/пр","Краны на автомобильном ходу, грузоподъемность 16 т",1368,null,1011,"маш.-ч","маш.-ч",1,null,null,null,null,null,0,-468861091,0.01,null,0,1626.29,1090.46,0,0,1626.29,1090.46,0,1,1,1,1,-2,0,0,1,1,0,"",0.01,"",1,2,85320552,1,0,446,1,0,0,0,0,0,0,0,0,16.262899999999998,10.9046,0,0,0.01,1,0,16.262899999999998,10.9046,0,0,0.01,1,null,null,null,null,null,null,null,null,null,null,null,null,null,null,null,null,null,null,null,null,null,null,null,null,0,{"$f":"ROUND(Y446*Source!I215*DO446,7)","v":0},{"$f":"ROUND(Y446*Source!I215,7)","v":0},{"$f":"AB446","v":1626.29},{"$f":"AF446","v":1626.29},{"$f":"AJ446","v":1},16.260000000000002,10.9,"","",0,0,0,0,{"$f":"DG446+DH446","v":0},1,"4-100-060",6,"чел.-ч.",1]
[{"$f":"ROW(Source!A215)","v":215},85316656,85320530,77431879,1,1,1,2,"91.14.02-001","ФСЭМ-2022 доп.7, 91.14.02-001, приказ Минстроя России от 02.08.2023 г. № 551/пр","Автомобили бортовые, грузоподъемность до 5 т",1368,null,1011,"маш.-ч","маш.-ч",1,null,null,null,null,null,0,-1152394969,0.01,null,0,641.70000000000005,811.79,0,0,641.70000000000005,811.79,0,1,1,1,1,-2,0,0,1,1,0,"",0.01,"",1,2,85320553,1,0,447,1,0,0,0,0,0,0,0,0,6.4170000000000007,8.1179000000000006,0,0,0.01,1,0,6.4170000000000007,8.1179000000000006,0,0,0.01,1,null,null,null,null,null,null,null,null,null,null,null,null,null,null,null,null,null,null,null,null,null,null,null,null,0,{"$f":"ROUND(Y447*Source!I215*DO447,7)","v":0},{"$f":"ROUND(Y447*Source!I215,7)","v":0},{"$f":"AB447","v":641.70000000000005},{"$f":"AF447","v":641.70000000000005},{"$f":"AJ447","v":1},6.42,8.1199999999999992,"","",0,0,0,0,{"$f":"DG447+DH447","v":0},1,"4-100-040",4,"чел.-ч.",1]
[{"$f":"ROW(Source!A215)","v":215},85316656,85320530,77432074,1,1,1,2,"91.17.04-233","ФСЭМ-2022, 91.17.04-233, приказ Минстроя России от 18.05.2022 г. № 378/пр","Аппараты сварочные для ручной дуговой сварки, сварочный ток до 350 А",1368,null,1011,"маш.-ч","маш.-ч",1,null,null,null,null,null,0,-334821386,0.108,null,0,34.61,0,0,0,34.61,0,0,1,1,1,1,-2,0,0,1,1,0,"",0.108,"",1,2,85320554,1,0,448,1,0,0,0,0,0,0,0,0,3.7378800000000001,0,0,0,0,1,0,3.7378800000000001,0,0,0,0,1,null,null,null,null,null,null,null,null,null,null,null,null,null,null,null,null,null,null,null,null,null,null,null,null,0,{"$f":"ROUND(Y448*Source!I215*DO448,7)","v":0},{"$f":"ROUND(Y448*Source!I215,7)","v":0},{"$f":"AB448","v":34.61},{"$f":"AF448","v":34.61},{"$f":"AJ448","v":1},3.74,0,"","",0,0,0,0,{"$f":"DG448+DH448","v":0},1,"",0,"",0]
[{"$f":"ROW(Source!A215)","v":215},85316656,85320530,77432509,1,1,1,2,"91.21.16-012","ФСЭМ-2022, 91.21.16-012, приказ Минстроя России от 18.05.2022 г. № 378/пр","Прессы гидравлические с электроприводом",1368,null,1011,"маш.-ч","маш.-ч",1,null,null,null,null,null,0,-685414241,{"$f":"AT449","v":0.19800000000000001},null,0,15.84,0,0,0,15.84,0,0,1,1,1,1,-2,0,0,1,1,0,"",0.19800000000000001,"",1,2,85320555,1,0,449,1,0,0,0,0,0,0,0,0,3.13632,0,0,0,0,1,0,3.13632,0,0,0,0,1,null,null,null,null,null,null,null,null,null,null,null,null,null,null,null,null,null,null,null,null,null,null,null,null,0,{"$f":"ROUND(Y449*Source!I215*DO449,7)","v":0},{"$f":"ROUND(Y449*Source!I215,7)","v":0},{"$f":"AB449","v":15.84},{"$f":"AF449","v":15.84},{"$f":"AJ449","v":1},{"$f":"ROUND(ROUND(AT449*CZ449,2),2)","v":3.14},{"$f":"ROUND(ROUND(AT449*AG449,2),2)","v":0},"","",0,0,{"$f":"ROUND(ROUND(AG449,2)*CX449,2)","v":0},{"$f":"ROUND(ROUND(AH449,2)*CX449,2)","v":0},{"$f":"DG449+DH449","v":0},1,"",0,"",0]
[{"$f":"ROW(Source!A215)","v":215},85316656,85320530,77375881,1,1,1,3,"01.3.01.02-0002","ФСБЦ-2022 доп.8, 01.3.01.02-0002, приказ Минстроя России от 14.11.2023 г. № 817/пр","Вазелин технический",1346,null,1009,"кг","кг",1,null,null,null,null,null,0,-1157339123,0,null,240.06,0,0,0,150.04,0,0,0,1.6,1,1,1,2,0,0,1,1,0,"",0,"",0,2,85320556,1,6144,450,1,0,0,0,0,0,0,0,0,0,0,0,0,0,0,0,0,0,0,0,0,0,null,null,null,null,null,null,null,null,null,null,null,null,null,null,null,null,null,null,null,null,null,null,null,null,0,0,{"$f":"ROUND(Y450*Source!I215,7)","v":0},{"$f":"AA450","v":240.06},{"$f":"AE450","v":150.04},{"$f":"AI450","v":1.6},0,0,"","",{"$f":"ROUND(ROUND(AE450*AI450,2)*CX450,2)","v":0},{"$f":"ROUND(ROUND(AF450,2)*CX450,2)","v":0},0,0,{"$f":"DF450","v":0},0,"",0,"",0]
[{"$f":"ROW(Source!A215)","v":215},85316656,85320530,77378054,1,1,1,3,"01.7.02.09-0002","ФСБЦ-2022, 01.7.02.09-0002, приказ Минстроя России от 18.05.2022 г. № 378/пр","Шпагат бумажный, диаметр 2,5 мм",1346,null,1009,"кг","кг",1,null,null,null,null,null,0,-1566248661,0,null,164.89,0,0,0,187.38,0,0,0,0.88,1,1,1,2,0,0,1,1,0,"",0,"",0,2,85320557,1,6144,451,1,0,0,0,0,0,0,0,0,0,0,0,0,0,0,0,0,0,0,0,0,0,null,null,null,null,null,null,null,null,null,null,null,null,null,null,null,null,null,null,null,null,null,null,null,null,0,0,{"$f":"ROUND(Y451*Source!I215,7)","v":0},164.89,187.38,0.88,0,0,"","",{"$f":"ROUND(ROUND(AE451*AI451,2)*CX451,2)","v":0},0,0,0,0,0,"",0,"",0]
[{"$f":"ROW(Source!A215)","v":215},85316656,85320530,77378078,1,1,1,3,"01.7.03.04-0001","ФСБЦ-2022, 01.7.03.04-0001, приказ Минстроя России от 18.05.2022 г. № 378/пр","Электроэнергия",1383,null,1013,"КВТ-Ч","КВТ-Ч",1,null,null,null,null,null,0,-2119218604,2.0799999999999999E-2,null,7.32,0,0,0,7.32,0,0,0,1,1,1,1,-2,0,0,1,1,0,"",2.0799999999999999E-2,"",0,2,85320558,1,0,452,1,0,0,0,0,0,0,0,0.152256,0,0,0,0,0,1,0.152256,0,0,0,0,0,1,null,null,null,null,null,null,null,null,null,null,null,null,null,null,null,null,null,null,null,null,null,null,null,null,0,0,{"$f":"ROUND(Y452*Source!I215,7)","v":0},7.32,7.32,1,0.15,0,"","",{"$f":"ROUND(ROUND(AE452,2)*CX452,2)","v":0},0,0,0,0,1,"",0,"",0]
[{"$f":"ROW(Source!A215)","v":215},85316656,85320530,77378231,1,1,1,3,"01.7.06.05-0041","ФСБЦ-2022, 01.7.06.05-0041, приказ Минстроя России от 18.05.2022 г. № 378/пр","Ленты изоляционные хлопчатобумажные прорезиненные для электромонтажных и ремонтных работ, цвет черный, ширина 20 мм, толщина 0,35 мм",1301,null,1003,"м","м",1,null,null,null,null,null,0,1254062187,3.5,null,5.17,0,0,0,5.87,0,0,0,0.88,1,1,1,2,0,0,1,1,0,"",3.5,"",0,2,85320559,1,0,453,1,0,0,0,0,0,0,0,20.545000000000002,0,0,0,0,0,1,20.545000000000002,0,0,0,0,0,1,null,null,null,null,null,null,null,null,null,null,null,null,null,null,null,null,null,null,null,null,null,null,null,null,0,0,{"$f":"ROUND(Y453*Source!I215,7)","v":0},5.17,5.87,0.88,20.55,0,"","",{"$f":"ROUND(ROUND(AE453*AI453,2)*CX453,2)","v":0},0,0,0,0,0,"",0,"",0]
[{"$f":"ROW(Source!A215)","v":215},85316656,85320530,77378830,1,1,1,3,"01.7.11.07-0227","ФСБЦ-2022, 01.7.11.07-0227, приказ Минстроя России от 18.05.2022 г. № 378/пр","Электроды сварочные для сварки низколегированных и углеродистых сталей УОНИ 13/45, Э42А, диаметр 4-5 мм",1346,null,1009,"кг","кг",1,null,null,null,null,null,0,212334824,7.0000000000000007E-2,null,121.39,0,0,0,155.63,0,0,0,0.78,1,1,1,2,0,0,1,1,0,"",7.0000000000000007E-2,"",0,2,85320560,1,0,454,1,0,0,0,0,0,0,0,10.8941,0,0,0,0,0,1,10.8941,0,0,0,0,0,1,null,null,null,null,null,null,null,null,null,null,null,null,null,null,null,null,null,null,null,null,null,null,null,null,0,0,{"$f":"ROUND(Y454*Source!I215,7)","v":0},121.39,155.63,0.78,10.89,0,"","",0,0,0,0,0,0,"",0,"",0]
[{"$f":"ROW(Source!A215)","v":215},85316656,85320530,77379558,1,1,1,3,"01.7.15.03-0042","ФСБЦ-2022, 01.7.15.03-0042, приказ Минстроя России от 18.05.2022 г. № 378/пр","Болты с гайками и шайбами строительные",1346,null,1009,"кг","кг",1,null,null,null,null,null,0,1181962216,0,null,188.92,0,0,0,174.93,0,0,0,1.08,1,1,1,2,0,0,1,1,0,"",0,"",0,2,85320561,1,6144,455,1,0,0,0,0,0,0,0,0,0,0,0,0,0,0,0,0,0,0,0,0,0,null,null,null,null,null,null,null,null,null,null,null,null,null,null,null,null,null,null,null,null,null,null,null,null,0,0,{"$f":"ROUND(Y455*Source!I215,7)","v":0},188.92,174.93,1.08,0,0,"","",0,0,0,0,0,0,"",0,"",0]
[{"$f":"ROW(Source!A215)","v":215},85316656,85320530,77379624,1,1,1,3,"01.7.15.07-0014","ФСБЦ-2022, 01.7.15.07-0014, приказ Минстроя России от 18.05.2022 г. № 378/пр","Дюбели распорные полипропиленовые",1425,null,1013,"100 ШТ","100 ШТ",1,null,null,null,null,null,0,-145062553,1.4E-2,null,53.81,0,0,0,41.71,0,0,0,1.29,1,1,1,2,0,0,1,1,0,"",1.4E-2,"",0,2,85320562,1,0,456,1,0,0,0,0,0,0,0,0.58394000000000001,0,0,0,0,0,1,0.58394000000000001,0,0,0,0,0,1,null,null,null,null,null,null,null,null,null,null,null,null,null,null,null,null,null,null,null,null,null,null,null,null,0,0,{"$f":"ROUND(Y456*Source!I215,7)","v":0},53.81,41.71,1.29,0.57999999999999996,0,"","",0,0,0,0,0,0,"",0,"",0]
[{"$f":"ROW(Source!A215)","v":215},85316656,85320530,77380667,1,1,1,3,"01.7.20.04-0005","ФСБЦ-2022, 01.7.20.04-0005, приказ Минстроя России от 18.05.2022 г. № 378/пр","Нитки швейные армированные",1346,null,1009,"кг","кг",1,null,null,null,null,null,0,307966500,0,null,609.29999999999995,0,0,0,395.65,0,0,0,1.54,1,1,1,2,0,0,1,1,0,"",0,"",0,2,85320563,1,6144,457,1,0,0,0,0,0,0,0,0,0,0,0,0,0,0,0,0,0,0,0,0,0,null,null,null,null,null,null,null,null,null,null,null,null,null,null,null,null,null,null,null,null,null,null,null,null,0,0,{"$f":"ROUND(Y457*Source!I215,7)","v":0},609.29999999999995,395.65,1.54,0,0,"","",0,0,0,0,0,0,"",0,"",0]
[{"$f":"ROW(Source!A215)","v":215},85316656,85320530,77385128,1,1,1,3,"07.2.07.04-0007","ФСБЦ-2022, 07.2.07.04-0007, приказ Минстроя России от 18.05.2022 г. № 378/пр","Конструкции стальные индивидуального изготовления из сортового проката",1348,null,1009,"т","т",1000,null,null,null,null,null,0,2105722316,0,null,135809.66,0,0,0,105278.81,0,0,0,1.29,1,1,1,2,0,0,1,1,0,"",0,"",0,2,85320564,1,6144,458,1,0,0,0,0,0,0,0,0,0,0,0,0,0,0,0,0,0,0,0,0,0,null,null,null,null,null,null,null,null,null,null,null,null,null,null,null,null,null,null,null,null,null,null,null,null,0,0,{"$f":"ROUND(Y458*Source!I215,7)","v":0},135809.66,105278.81,1.29,0,0,"","",0,0,0,0,0,0,"",0,"",0]
[{"$f":"ROW(Source!A215)","v":215},85316656,85320530,77397226,1,1,1,3,"14.4.02.04-0142","ФСБЦ-2022, 14.4.02.04-0142, приказ Минстроя России от 18.05.2022 г. № 378/пр","Краска масляная МА-0115, мумия, сурик железный",1346,null,1009,"кг","кг",1,null,null,null,null,null,0,790403873,0,null,115.03,0,0,0,79.88,0,0,0,1.44,1,1,1,2,0,0,1,1,0,"",0,"",0,2,85320565,1,6144,459,1,0,0,0,0,0,0,0,0,0,0,0,0,0,0,0,0,0,0,0,0,0,null,null,null,null,null,null,null,null,null,null,null,null,null,null,null,null,null,null,null,null,null,null,null,null,0,0,{"$f":"ROUND(Y459*Source!I215,7)","v":0},115.03,79.88,1.44,0,0,"","",0,0,0,0,0,0,"",0,"",0]
[{"$f":"ROW(Source!A215)","v":215},85316656,85320530,77397272,1,1,1,3,"14.4.03.06-0001","ФСБЦ-2022 доп.9, 14.4.03.06-0001, приказ Минстроя России от 16.02.2024 г. № 102/пр","Лак электроизоляционный МЛ-92",1346,null,1009,"кг","кг",1,null,null,null,null,null,0,-1422522641,0,null,188.93,0,0,0,157.44,0,0,0,1.2,1,1,1,2,0,0,1,1,0,"",0,"",0,2,85320566,1,6144,460,1,0,0,0,0,0,0,0,0,0,0,0,0,0,0,0,0,0,0,0,0,0,null,null,null,null,null,null,null,null,null,null,null,null,null,null,null,null,null,null,null,null,null,null,null,null,0,0,{"$f":"ROUND(Y460*Source!I215,7)","v":0},188.93,157.44,1.2,0,0,"","",0,0,0,0,0,0,"",0,"",0]
[{"$f":"ROW(Source!A215)","v":215},85316656,85320530,77404544,1,1,1,3,"20.1.02.23-0082","ФСБЦ-2022, 20.1.02.23-0082, приказ Минстроя России от 18.05.2022 г. № 378/пр","Перемычки гибкие, тип ПГС-50",1455,null,1013,"10 ШТ","10 ШТ",1,null,null,null,null,null,0,1640750103,0.1,null,1303.67,0,0,0,944.69,0,0,0,1.38,1,1,1,2,0,0,1,1,0,"",0.1,"",0,2,85320567,1,0,461,1,0,0,0,0,0,0,0,94.469000000000008,0,0,0,0,0,1,94.469000000000008,0,0,0,0,0,1,null,null,null,null,null,null,null,null,null,null,null,null,null,null,null,null,null,null,null,null,null,null,null,null,0,0,{"$f":"ROUND(Y461*Source!I215,7)","v":0},1303.67,944.69,1.38,94.47,0,"","",0,0,0,0,0,0,"",0,"",0]
[{"$f":"ROW(Source!A215)","v":215},85316656,85320530,77312233,114,1,1,3,"421/пр_2020_п.75_пп.а","","Сметная стоимость вспомогательных ненормируемых материальных ресурсов, не учтенная в сметной норме, 2%",3277935,null,1013,"%","%",1,null,null,null,null,null,0,274903907,2,null,0,0,0,0,0,0,0,0,1,1,1,1,-2,0,0,0,0,0,"",2,"",0,2,85320568,1,0,462,0,0,0,0,0,0,0,0,0,0,0,0,0,0,0,0,0,0,0,0,0,0,null,null,null,null,null,null,null,null,null,null,null,null,null,null,null,null,null,null,null,null,null,null,null,null,0,0,{"$f":"ROUND(Y462*Source!I215,7)","v":0},0,0,1,0,0,"","",{"$f":"ROUND(ROUND(AE462,2)*CX462,2)","v":0},0,0,0,0,0,"",0,"",0]
[{"$f":"ROW(Source!A219)","v":219},85316715,85320571,77306374,114,1,1,1,"1-100-40","","Средний разряд работы 4,0",1191,null,1013,"чел.-ч.","чел.-ч.",1,null,null,null,null,null,0,888410196,45.3,null,0,0,0,811.79,0,0,0,811.79,1,1,1,1,-2,0,0,1,1,0,"",45.3,"",1,2,85320586,2,131072,463,1,0,0,0,0,0,0,0,0,0,0,36774.087,45.3,0,1,0,0,0,36774.087,45.3,0,1,null,null,null,null,null,null,null,null,null,null,null,null,null,null,null,null,null,null,null,null,null,null,null,{"$f":"ROUND(AT463*Source!I219*AH463*AL463,2)","v":0},{"$f":"ROUND(Y463*Source!I219,7)","v":0},0,{"$f":"ROUND(Y463*Source!I219,7)","v":0},{"$f":"AD463","v":811.79},{"$f":"AH463","v":811.79},{"$f":"AL463","v":1},36774.089999999997,0,"","",0,0,0,0,{"$f":"DI463","v":0},1,"",0,"",0]
[{"$f":"ROW(Source!A219)","v":219},85316715,85320571,77306545,114,1,1,1,"4-100-00","","Затраты труда машинистов",1191,null,1013,"чел.-ч.","чел.-ч.",1,null,null,null,null,null,0,-1417349443,5.3,null,0,0,0,0,0,0,0,0,1,1,1,1,-2,0,0,1,1,0,"",5.3,"",2,2,85320587,1,0,464,1,0,0,0,0,0,0,0,0,0,0,0,0,0,0,0,0,0,0,0,0,0,null,null,null,null,null,null,null,null,null,null,null,null,null,null,null,null,null,null,null,null,null,null,null,null,0,0,{"$f":"ROUND(Y464*Source!I219,7)","v":0},{"$f":"AD464","v":0},{"$f":"AH464","v":0},{"$f":"AL464","v":1},0,0,"","",0,0,0,0,{"$f":"DI464","v":0},0,"",0,"",0]
[{"$f":"ROW(Source!A219)","v":219},85316715,85320571,77430988,1,1,1,2,"91.05.05-015","ФСЭМ-2022, 91.05.05-015, приказ Минстроя России от 18.05.2022 г. № 378/пр","Краны на автомобильном ходу, грузоподъемность 16 т",1368,null,1011,"маш.-ч","маш.-ч",1,null,null,null,null,null,0,-468861091,0.2,null,0,1626.29,1090.46,0,0,1626.29,1090.46,0,1,1,1,1,-2,0,0,1,1,0,"",0.2,"",1,2,85320588,1,0,465,1,0,0,0,0,0,0,0,0,325.25800000000004,218.09200000000001,0,0,0.2,1,0,325.25800000000004,218.09200000000001,0,0,0.2,1,null,null,null,null,null,null,null,null,null,null,null,null,null,null,null,null,null,null,null,null,null,null,null,null,0,{"$f":"ROUND(Y465*Source!I219*DO465,7)","v":0},{"$f":"ROUND(Y465*Source!I219,7)","v":0},{"$f":"AB465","v":1626.29},{"$f":"AF465","v":1626.29},{"$f":"AJ465","v":1},325.26,218.09,"","",0,0,0,0,{"$f":"DG465+DH465","v":0},1,"4-100-060",6,"чел.-ч.",1]
[{"$f":"ROW(Source!A219)","v":219},85316715,85320571,77431879,1,1,1,2,"91.14.02-001","ФСЭМ-2022 доп.7, 91.14.02-001, приказ Минстроя России от 02.08.2023 г. № 551/пр","Автомобили бортовые, грузоподъемность до 5 т",1368,null,1011,"маш.-ч","маш.-ч",1,null,null,null,null,null,0,-1152394969,0.2,null,0,641.70000000000005,811.79,0,0,641.70000000000005,811.79,0,1,1,1,1,-2,0,0,1,1,0,"",0.2,"",1,2,85320589,1,0,466,1,0,0,0,0,0,0,0,0,128.34,162.358,0,0,0.2,1,0,128.34,162.358,0,0,0.2,1,null,null,null,null,null,null,null,null,null,null,null,null,null,null,null,null,null,null,null,null,null,null,null,null,0,{"$f":"ROUND(Y466*Source!I219*DO466,7)","v":0},{"$f":"ROUND(Y466*Source!I219,7)","v":0},{"$f":"AB466","v":641.70000000000005},{"$f":"AF466","v":641.70000000000005},{"$f":"AJ466","v":1},128.34,162.36000000000001,"","",0,0,0,0,{"$f":"DG466+DH466","v":0},1,"4-100-040",4,"чел.-ч.",1]
[{"$f":"ROW(Source!A219)","v":219},85316715,85320571,77432074,1,1,1,2,"91.17.04-233","ФСЭМ-2022, 91.17.04-233, приказ Минстроя России от 18.05.2022 г. № 378/пр","Аппараты сварочные для ручной дуговой сварки, сварочный ток до 350 А",1368,null,1011,"маш.-ч","маш.-ч",1,null,null,null,null,null,0,-334821386,1.69,null,0,34.61,0,0,0,34.61,0,0,1,1,1,1,-2,0,0,1,1,0,"",1.69,"",1,2,85320590,1,0,467,1,0,0,0,0,0,0,0,0,58.490899999999996,0,0,0,0,1,0,58.490899999999996,0,0,0,0,1,null,null,null,null,null,null,null,null,null,null,null,null,null,null,null,null,null,null,null,null,null,null,null,null,0,{"$f":"ROUND(Y467*Source!I219*DO467,7)","v":0},{"$f":"ROUND(Y467*Source!I219,7)","v":0},{"$f":"AB467","v":34.61},{"$f":"AF467","v":34.61},{"$f":"AJ467","v":1},58.49,0,"","",0,0,0,0,{"$f":"DG467+DH467","v":0},1,"",0,"",0]
[{"$f":"ROW(Source!A219)","v":219},85316715,85320571,77432548,1,1,1,2,"91.21.19-031","ФСЭМ-2022, 91.21.19-031, приказ Минстроя России от 18.05.2022 г. № 378/пр","Станки сверлильные",1368,null,1011,"маш.-ч","маш.-ч",1,null,null,null,null,null,0,2033333404,0.86,null,0,30.34,0,0,0,23.89,0,0,1,1.27,1,1,2,0,0,1,1,0,"",0.86,"",1,2,85320591,1,0,468,1,0,0,0,0,0,0,0,0,20.545400000000001,0,0,0,0,1,0,20.545400000000001,0,0,0,0,1,null,null,null,null,null,null,null,null,null,null,null,null,null,null,null,null,null,null,null,null,null,null,null,null,0,{"$f":"ROUND(Y468*Source!I219*DO468,7)","v":0},{"$f":"ROUND(Y468*Source!I219,7)","v":0},{"$f":"AB468","v":30.34},{"$f":"AF468","v":23.89},{"$f":"AJ468","v":1.27},20.55,0,"","",0,{"$f":"ROUND(ROUND(AF468*AJ468,2)*CX468,2)","v":0},0,0,{"$f":"DG468+DH468","v":0},0,"",0,"",0]
[{"$f":"ROW(Source!A219)","v":219},85316715,85320571,77432634,1,1,1,2,"91.21.22-491","ФСЭМ-2022, 91.21.22-491, приказ Минстроя России от 18.05.2022 г. № 378/пр","Шиногибы гидравлические универсальные",1368,null,1011,"маш.-ч","маш.-ч",1,null,null,null,null,null,0,1781070667,4.9000000000000004,null,0,31.84,811.79,0,0,26.76,811.79,0,1,1.19,1,1,2,0,0,1,1,0,"",4.9000000000000004,"",1,2,85320592,2,65536,469,1,0,0,0,0,0,0,0,0,131.12400000000002,3977.7710000000002,0,0,4.9000000000000004,1,0,131.12400000000002,3977.7710000000002,0,0,4.9000000000000004,1,null,null,null,null,null,null,null,null,null,null,null,null,null,null,null,null,null,null,null,null,null,null,null,null,0,{"$f":"ROUND(Y469*Source!I219*DO469,7)","v":0},{"$f":"ROUND(Y469*Source!I219,7)","v":0},{"$f":"AB469","v":31.84},{"$f":"AF469","v":26.76},{"$f":"AJ469","v":1.19},131.12,3977.77,"","",0,{"$f":"ROUND(ROUND(AF469*AJ469,2)*CX469,2)","v":0},0,0,{"$f":"DG469+DH469","v":0},0,"4-100-040",4,"чел.-ч.",1]
[{"$f":"ROW(Source!A219)","v":219},85316715,85320571,77375932,1,1,1,3,"01.3.02.02-0001","ФСБЦ-2022 доп.3, 01.3.02.02-0001, приказ Минстроя России от 26.10.2022 г. № 905/пр","Аргон газообразный, сорт I",1339,null,1007,"м3","м3",1,null,null,null,null,null,0,379320714,0.31,null,342.85,0,0,0,253.96,0,0,0,1.35,1,1,1,2,0,0,1,1,0,"",0.31,"",0,2,85320593,1,0,470,1,0,0,0,0,0,0,0,78.727599999999995,0,0,0,0,0,1,78.727599999999995,0,0,0,0,0,1,null,null,null,null,null,null,null,null,null,null,null,null,null,null,null,null,null,null,null,null,null,null,null,null,0,0,{"$f":"ROUND(Y470*Source!I219,7)","v":0},{"$f":"AA470","v":342.85},{"$f":"AE470","v":253.96},{"$f":"AI470","v":1.35},78.73,0,"","",{"$f":"ROUND(ROUND(AE470*AI470,2)*CX470,2)","v":0},{"$f":"ROUND(ROUND(AF470,2)*CX470,2)","v":0},0,0,{"$f":"DF470","v":0},0,"",0,"",0]
[{"$f":"ROW(Source!A219)","v":219},85316715,85320571,77379558,1,1,1,3,"01.7.15.03-0042","ФСБЦ-2022, 01.7.15.03-0042, приказ Минстроя России от 18.05.2022 г. № 378/пр","Болты с гайками и шайбами строительные",1346,null,1009,"кг","кг",1,null,null,null,null,null,0,1181962216,2.88,null,188.92,0,0,0,174.93,0,0,0,1.08,1,1,1,2,0,0,1,1,0,"",2.88,"",0,2,85320594,1,0,471,1,0,0,0,0,0,0,0,503.79840000000002,0,0,0,0,0,1,503.79840000000002,0,0,0,0,0,1,null,null,null,null,null,null,null,null,null,null,null,null,null,null,null,null,null,null,null,null,null,null,null,null,0,0,{"$f":"ROUND(Y471*Source!I219,7)","v":0},188.92,174.93,1.08,503.8,0,"","",0,0,0,0,0,0,"",0,"",0]
[{"$f":"ROW(Source!A219)","v":219},85316715,85320571,77379734,1,1,1,3,"01.7.15.11-0061","ФСБЦ-2022, 01.7.15.11-0061, приказ Минстроя России от 18.05.2022 г. № 378/пр","Шайбы стальные оцинкованные пружинные (гровер), диаметр отверстия М3",1348,null,1009,"т","т",1000,null,null,null,null,null,0,-1722949244,1.2E-4,null,252094.32,0,0,0,195421.95,0,0,0,1.29,1,1,1,2,0,0,1,1,0,"",1.2E-4,"",0,2,85320595,1,0,472,1,0,0,0,0,0,0,0,23.450634000000001,0,0,0,0,0,1,23.450634000000001,0,0,0,0,0,1,null,null,null,null,null,null,null,null,null,null,null,null,null,null,null,null,null,null,null,null,null,null,null,null,0,0,{"$f":"ROUND(Y472*Source!I219,7)","v":0},252094.32,195421.95,1.29,23.45,0,"","",0,0,0,0,0,0,"",0,"",0]
[{"$f":"ROW(Source!A219)","v":219},85316715,85320571,77388710,1,1,1,3,"10.1.02.04-0009","ФСБЦ-2022 доп.9, 10.1.02.04-0009, приказ Минстроя России от 16.02.2024 г. № 102/пр","Прутки круглого сечения из алюминиевых сплавов марок АД0, АД1, АД, АД31, АД33, АД35, АВ, диаметр 135,0-200,0 мм",1348,null,1009,"т","т",1000,null,null,null,null,null,0,692705173,6.0000000000000002E-5,null,344819.69,0,0,0,530491.82999999996,0,0,0,0.65,1,1,1,2,0,0,1,1,0,"",6.0000000000000002E-5,"",0,2,85320596,1,0,473,1,0,0,0,0,0,0,0,31.829509799999997,0,0,0,0,0,1,31.829509799999997,0,0,0,0,0,1,null,null,null,null,null,null,null,null,null,null,null,null,null,null,null,null,null,null,null,null,null,null,null,null,0,0,{"$f":"ROUND(Y473*Source!I219,7)","v":0},344819.69,530491.82999999996,0.65,31.83,0,"","",0,0,0,0,0,0,"",0,"",0]
[{"$f":"ROW(Source!A219)","v":219},85316715,85320571,77388985,1,1,1,3,"10.2.02.10-0013","ФСБЦ-2022, 10.2.02.10-0013, приказ Минстроя России от 18.05.2022 г. № 378/пр","Прутки круглые из меди марки М3, диаметр 10-30 мм",1348,null,1009,"т","т",1000,null,null,null,null,null,0,1889610346,3.0000000000000001E-5,null,614343.55000000005,0,0,0,945143.92,0,0,0,0.65,1,1,1,2,0,0,1,1,0,"",3.0000000000000001E-5,"",0,2,85320597,1,0,474,1,0,0,0,0,0,0,0,28.354317600000002,0,0,0,0,0,1,28.354317600000002,0,0,0,0,0,1,null,null,null,null,null,null,null,null,null,null,null,null,null,null,null,null,null,null,null,null,null,null,null,null,0,0,{"$f":"ROUND(Y474*Source!I219,7)","v":0},614343.55000000005,945143.92,0.65,28.35,0,"","",0,0,0,0,0,0,"",0,"",0]
[{"$f":"ROW(Source!A219)","v":219},85316715,85320571,77397226,1,1,1,3,"14.4.02.04-0142","ФСБЦ-2022, 14.4.02.04-0142, приказ Минстроя России от 18.05.2022 г. № 378/пр","Краска масляная МА-0115, мумия, сурик железный",1346,null,1009,"кг","кг",1,null,null,null,null,null,0,790403873,1.74,null,115.03,0,0,0,79.88,0,0,0,1.44,1,1,1,2,0,0,1,1,0,"",1.74,"",0,2,85320598,1,0,475,1,0,0,0,0,0,0,0,138.99119999999999,0,0,0,0,0,1,138.99119999999999,0,0,0,0,0,1,null,null,null,null,null,null,null,null,null,null,null,null,null,null,null,null,null,null,null,null,null,null,null,null,0,0,{"$f":"ROUND(Y475*Source!I219,7)","v":0},115.03,79.88,1.44,138.99,0,"","",0,0,0,0,0,0,"",0,"",0]
[{"$f":"ROW(Source!A219)","v":219},85316715,85320571,77312233,114,1,1,3,"421/пр_2020_п.75_пп.а","","Сметная стоимость вспомогательных ненормируемых материальных ресурсов, не учтенная в сметной норме, 2%",3277935,null,1013,"%","%",1,null,null,null,null,null,0,274903907,2,null,0,0,0,0,0,0,0,0,1,1,1,1,-2,0,0,0,0,0,"",2,"",0,2,85320599,1,0,476,0,0,0,0,0,0,0,0,0,0,0,0,0,0,0,0,0,0,0,0,0,0,null,null,null,null,null,null,null,null,null,null,null,null,null,null,null,null,null,null,null,null,null,null,null,null,0,0,{"$f":"ROUND(Y476*Source!I219,7)","v":0},0,0,1,0,0,"","",{"$f":"ROUND(ROUND(AE476,2)*CX476,2)","v":0},0,0,0,0,0,"",0,"",0]
[{"$f":"ROW(Source!A220)","v":220},85316656,85320571,77306374,114,1,1,1,"1-100-40","","Средний разряд работы 4,0",1191,null,1013,"чел.-ч.","чел.-ч.",1,null,null,null,null,null,0,888410196,45.3,null,0,0,0,811.79,0,0,0,811.79,1,1,1,1,-2,0,0,1,1,0,"",45.3,"",1,2,85320586,2,131072,477,1,0,0,0,0,0,0,0,0,0,0,36774.087,45.3,0,1,0,0,0,36774.087,45.3,0,1,null,null,null,null,null,null,null,null,null,null,null,null,null,null,null,null,null,null,null,null,null,null,null,{"$f":"ROUND(AT477*Source!I220*AH477*AL477,2)","v":0},{"$f":"ROUND(Y477*Source!I220,7)","v":0},0,{"$f":"ROUND(Y477*Source!I220,7)","v":0},{"$f":"AD477","v":811.79},{"$f":"AH477","v":811.79},{"$f":"AL477","v":1},36774.089999999997,0,"","",0,0,0,0,{"$f":"DI477","v":0},1,"",0,"",0]
[{"$f":"ROW(Source!A220)","v":220},85316656,85320571,77306545,114,1,1,1,"4-100-00","","Затраты труда машинистов",1191,null,1013,"чел.-ч.","чел.-ч.",1,null,null,null,null,null,0,-1417349443,5.3,null,0,0,0,0,0,0,0,0,1,1,1,1,-2,0,0,1,1,0,"",5.3,"",2,2,85320587,1,0,478,1,0,0,0,0,0,0,0,0,0,0,0,0,0,0,0,0,0,0,0,0,0,null,null,null,null,null,null,null,null,null,null,null,null,null,null,null,null,null,null,null,null,null,null,null,null,0,0,{"$f":"ROUND(Y478*Source!I220,7)","v":0},{"$f":"AD478","v":0},{"$f":"AH478","v":0},{"$f":"AL478","v":1},0,0,"","",0,0,0,0,{"$f":"DI478","v":0},0,"",0,"",0]
[{"$f":"ROW(Source!A220)","v":220},85316656,85320571,77430988,1,1,1,2,"91.05.05-015","ФСЭМ-2022, 91.05.05-015, приказ Минстроя России от 18.05.2022 г. № 378/пр","Краны на автомобильном ходу, грузоподъемность 16 т",1368,null,1011,"маш.-ч","маш.-ч",1,null,null,null,null,null,0,-468861091,0.2,null,0,1626.29,1090.46,0,0,1626.29,1090.46,0,1,1,1,1,-2,0,0,1,1,0,"",0.2,"",1,2,85320588,1,0,479,1,0,0,0,0,0,0,0,0,325.25800000000004,218.09200000000001,0,0,0.2,1,0,325.25800000000004,218.09200000000001,0,0,0.2,1,null,null,null,null,null,null,null,null,null,null,null,null,null,null,null,null,null,null,null,null,null,null,null,null,0,{"$f":"ROUND(Y479*Source!I220*DO479,7)","v":0},{"$f":"ROUND(Y479*Source!I220,7)","v":0},{"$f":"AB479","v":1626.29},{"$f":"AF479","v":1626.29},{"$f":"AJ479","v":1},325.26,218.09,"","",0,0,0,0,{"$f":"DG479+DH479","v":0},1,"4-100-060",6,"чел.-ч.",1]
[{"$f":"ROW(Source!A220)","v":220},85316656,85320571,77431879,1,1,1,2,"91.14.02-001","ФСЭМ-2022 доп.7, 91.14.02-001, приказ Минстроя России от 02.08.2023 г. № 551/пр","Автомобили бортовые, грузоподъемность до 5 т",1368,null,1011,"маш.-ч","маш.-ч",1,null,null,null,null,null,0,-1152394969,0.2,null,0,641.70000000000005,811.79,0,0,641.70000000000005,811.79,0,1,1,1,1,-2,0,0,1,1,0,"",0.2,"",1,2,85320589,1,0,480,1,0,0,0,0,0,0,0,0,128.34,162.358,0,0,0.2,1,0,128.34,162.358,0,0,0.2,1,null,null,null,null,null,null,null,null,null,null,null,null,null,null,null,null,null,null,null,null,null,null,null,null,0,{"$f":"ROUND(Y480*Source!I220*DO480,7)","v":0},{"$f":"ROUND(Y480*Source!I220,7)","v":0},{"$f":"AB480","v":641.70000000000005},{"$f":"AF480","v":641.70000000000005},{"$f":"AJ480","v":1},128.34,162.36000000000001,"","",0,0,0,0,{"$f":"DG480+DH480","v":0},1,"4-100-040",4,"чел.-ч.",1]
[{"$f":"ROW(Source!A220)","v":220},85316656,85320571,77432074,1,1,1,2,"91.17.04-233","ФСЭМ-2022, 91.17.04-233, приказ Минстроя России от 18.05.2022 г. № 378/пр","Аппараты сварочные для ручной дуговой сварки, сварочный ток до 350 А",1368,null,1011,"маш.-ч","маш.-ч",1,null,null,null,null,null,0,-334821386,1.69,null,0,34.61,0,0,0,34.61,0,0,1,1,1,1,-2,0,0,1,1,0,"",1.69,"",1,2,85320590,1,0,481,1,0,0,0,0,0,0,0,0,58.490899999999996,0,0,0,0,1,0,58.490899999999996,0,0,0,0,1,null,null,null,null,null,null,null,null,null,null,null,null,null,null,null,null,null,null,null,null,null,null,null,null,0,{"$f":"ROUND(Y481*Source!I220*DO481,7)","v":0},{"$f":"ROUND(Y481*Source!I220,7)","v":0},{"$f":"AB481","v":34.61},{"$f":"AF481","v":34.61},{"$f":"AJ481","v":1},58.49,0,"","",0,0,0,0,{"$f":"DG481+DH481","v":0},1,"",0,"",0]
[{"$f":"ROW(Source!A220)","v":220},85316656,85320571,77432548,1,1,1,2,"91.21.19-031","ФСЭМ-2022, 91.21.19-031, приказ Минстроя России от 18.05.2022 г. № 378/пр","Станки сверлильные",1368,null,1011,"маш.-ч","маш.-ч",1,null,null,null,null,null,0,2033333404,0.86,null,0,30.34,0,0,0,23.89,0,0,1,1.27,1,1,2,0,0,1,1,0,"",0.86,"",1,2,85320591,1,0,482,1,0,0,0,0,0,0,0,0,20.545400000000001,0,0,0,0,1,0,20.545400000000001,0,0,0,0,1,null,null,null,null,null,null,null,null,null,null,null,null,null,null,null,null,null,null,null,null,null,null,null,null,0,{"$f":"ROUND(Y482*Source!I220*DO482,7)","v":0},{"$f":"ROUND(Y482*Source!I220,7)","v":0},{"$f":"AB482","v":30.34},{"$f":"AF482","v":23.89},{"$f":"AJ482","v":1.27},20.55,0,"","",0,{"$f":"ROUND(ROUND(AF482*AJ482,2)*CX482,2)","v":0},0,0,{"$f":"DG482+DH482","v":0},0,"",0,"",0]
[{"$f":"ROW(Source!A220)","v":220},85316656,85320571,77432634,1,1,1,2,"91.21.22-491","ФСЭМ-2022, 91.21.22-491, приказ Минстроя России от 18.05.2022 г. № 378/пр","Шиногибы гидравлические универсальные",1368,null,1011,"маш.-ч","маш.-ч",1,null,null,null,null,null,0,1781070667,4.9000000000000004,null,0,31.84,811.79,0,0,26.76,811.79,0,1,1.19,1,1,2,0,0,1,1,0,"",4.9000000000000004,"",1,2,85320592,2,65536,483,1,0,0,0,0,0,0,0,0,131.12400000000002,3977.7710000000002,0,0,4.9000000000000004,1,0,131.12400000000002,3977.7710000000002,0,0,4.9000000000000004,1,null,null,null,null,null,null,null,null,null,null,null,null,null,null,null,null,null,null,null,null,null,null,null,null,0,{"$f":"ROUND(Y483*Source!I220*DO483,7)","v":0},{"$f":"ROUND(Y483*Source!I220,7)","v":0},{"$f":"AB483","v":31.84},{"$f":"AF483","v":26.76},{"$f":"AJ483","v":1.19},131.12,3977.77,"","",0,{"$f":"ROUND(ROUND(AF483*AJ483,2)*CX483,2)","v":0},0,0,{"$f":"DG483+DH483","v":0},0,"4-100-040",4,"чел.-ч.",1]
[{"$f":"ROW(Source!A220)","v":220},85316656,85320571,77375932,1,1,1,3,"01.3.02.02-0001","ФСБЦ-2022 доп.3, 01.3.02.02-0001, приказ Минстроя России от 26.10.2022 г. № 905/пр","Аргон газообразный, сорт I",1339,null,1007,"м3","м3",1,null,null,null,null,null,0,379320714,0.31,null,342.85,0,0,0,253.96,0,0,0,1.35,1,1,1,2,0,0,1,1,0,"",0.31,"",0,2,85320593,1,0,484,1,0,0,0,0,0,0,0,78.727599999999995,0,0,0,0,0,1,78.727599999999995,0,0,0,0,0,1,null,null,null,null,null,null,null,null,null,null,null,null,null,null,null,null,null,null,null,null,null,null,null,null,0,0,{"$f":"ROUND(Y484*Source!I220,7)","v":0},{"$f":"AA484","v":342.85},{"$f":"AE484","v":253.96},{"$f":"AI484","v":1.35},78.73,0,"","",{"$f":"ROUND(ROUND(AE484*AI484,2)*CX484,2)","v":0},{"$f":"ROUND(ROUND(AF484,2)*CX484,2)","v":0},0,0,{"$f":"DF484","v":0},0,"",0,"",0]
[{"$f":"ROW(Source!A220)","v":220},85316656,85320571,77379558,1,1,1,3,"01.7.15.03-0042","ФСБЦ-2022, 01.7.15.03-0042, приказ Минстроя России от 18.05.2022 г. № 378/пр","Болты с гайками и шайбами строительные",1346,null,1009,"кг","кг",1,null,null,null,null,null,0,1181962216,2.88,null,188.92,0,0,0,174.93,0,0,0,1.08,1,1,1,2,0,0,1,1,0,"",2.88,"",0,2,85320594,1,0,485,1,0,0,0,0,0,0,0,503.79840000000002,0,0,0,0,0,1,503.79840000000002,0,0,0,0,0,1,null,null,null,null,null,null,null,null,null,null,null,null,null,null,null,null,null,null,null,null,null,null,null,null,0,0,{"$f":"ROUND(Y485*Source!I220,7)","v":0},188.92,174.93,1.08,503.8,0,"","",0,0,0,0,0,0,"",0,"",0]
[{"$f":"ROW(Source!A220)","v":220},85316656,85320571,77379734,1,1,1,3,"01.7.15.11-0061","ФСБЦ-2022, 01.7.15.11-0061, приказ Минстроя России от 18.05.2022 г. № 378/пр","Шайбы стальные оцинкованные пружинные (гровер), диаметр отверстия М3",1348,null,1009,"т","т",1000,null,null,null,null,null,0,-1722949244,1.2E-4,null,252094.32,0,0,0,195421.95,0,0,0,1.29,1,1,1,2,0,0,1,1,0,"",1.2E-4,"",0,2,85320595,1,0,486,1,0,0,0,0,0,0,0,23.450634000000001,0,0,0,0,0,1,23.450634000000001,0,0,0,0,0,1,null,null,null,null,null,null,null,null,null,null,null,null,null,null,null,null,null,null,null,null,null,null,null,null,0,0,{"$f":"ROUND(Y486*Source!I220,7)","v":0},252094.32,195421.95,1.29,23.45,0,"","",0,0,0,0,0,0,"",0,"",0]
[{"$f":"ROW(Source!A220)","v":220},85316656,85320571,77388710,1,1,1,3,"10.1.02.04-0009","ФСБЦ-2022 доп.9, 10.1.02.04-0009, приказ Минстроя России от 16.02.2024 г. № 102/пр","Прутки круглого сечения из алюминиевых сплавов марок АД0, АД1, АД, АД31, АД33, АД35, АВ, диаметр 135,0-200,0 мм",1348,null,1009,"т","т",1000,null,null,null,null,null,0,692705173,6.0000000000000002E-5,null,344819.69,0,0,0,530491.82999999996,0,0,0,0.65,1,1,1,2,0,0,1,1,0,"",6.0000000000000002E-5,"",0,2,85320596,1,0,487,1,0,0,0,0,0,0,0,31.829509799999997,0,0,0,0,0,1,31.829509799999997,0,0,0,0,0,1,null,null,null,null,null,null,null,null,null,null,null,null,null,null,null,null,null,null,null,null,null,null,null,null,0,0,{"$f":"ROUND(Y487*Source!I220,7)","v":0},344819.69,530491.82999999996,0.65,31.83,0,"","",0,0,0,0,0,0,"",0,"",0]
[{"$f":"ROW(Source!A220)","v":220},85316656,85320571,77388985,1,1,1,3,"10.2.02.10-0013","ФСБЦ-2022, 10.2.02.10-0013, приказ Минстроя России от 18.05.2022 г. № 378/пр","Прутки круглые из меди марки М3, диаметр 10-30 мм",1348,null,1009,"т","т",1000,null,null,null,null,null,0,1889610346,3.0000000000000001E-5,null,614343.55000000005,0,0,0,945143.92,0,0,0,0.65,1,1,1,2,0,0,1,1,0,"",3.0000000000000001E-5,"",0,2,85320597,1,0,488,1,0,0,0,0,0,0,0,28.354317600000002,0,0,0,0,0,1,28.354317600000002,0,0,0,0,0,1,null,null,null,null,null,null,null,null,null,null,null,null,null,null,null,null,null,null,null,null,null,null,null,null,0,0,{"$f":"ROUND(Y488*Source!I220,7)","v":0},614343.55000000005,945143.92,0.65,28.35,0,"","",0,0,0,0,0,0,"",0,"",0]
[{"$f":"ROW(Source!A220)","v":220},85316656,85320571,77397226,1,1,1,3,"14.4.02.04-0142","ФСБЦ-2022, 14.4.02.04-0142, приказ Минстроя России от 18.05.2022 г. № 378/пр","Краска масляная МА-0115, мумия, сурик железный",1346,null,1009,"кг","кг",1,null,null,null,null,null,0,790403873,1.74,null,115.03,0,0,0,79.88,0,0,0,1.44,1,1,1,2,0,0,1,1,0,"",1.74,"",0,2,85320598,1,0,489,1,0,0,0,0,0,0,0,138.99119999999999,0,0,0,0,0,1,138.99119999999999,0,0,0,0,0,1,null,null,null,null,null,null,null,null,null,null,null,null,null,null,null,null,null,null,null,null,null,null,null,null,0,0,{"$f":"ROUND(Y489*Source!I220,7)","v":0},115.03,79.88,1.44,138.99,0,"","",0,0,0,0,0,0,"",0,"",0]
[{"$f":"ROW(Source!A220)","v":220},85316656,85320571,77312233,114,1,1,3,"421/пр_2020_п.75_пп.а","","Сметная стоимость вспомогательных ненормируемых материальных ресурсов, не учтенная в сметной норме, 2%",3277935,null,1013,"%","%",1,null,null,null,null,null,0,274903907,2,null,0,0,0,0,0,0,0,0,1,1,1,1,-2,0,0,0,0,0,"",2,"",0,2,85320599,1,0,490,0,0,0,0,0,0,0,0,0,0,0,0,0,0,0,0,0,0,0,0,0,0,null,null,null,null,null,null,null,null,null,null,null,null,null,null,null,null,null,null,null,null,null,null,null,null,0,0,{"$f":"ROUND(Y490*Source!I220,7)","v":0},0,0,1,0,0,"","",{"$f":"ROUND(ROUND(AE490,2)*CX490,2)","v":0},0,0,0,0,0,"",0,"",0]
[{"$f":"ROW(Source!A224)","v":224},85316715,85320602,77306380,114,1,1,1,"1-100-42","","Средний разряд работы 4,2",1191,null,1013,"чел.-ч.","чел.-ч.",1,null,null,null,null,null,0,1522950421,103,null,0,0,0,836.02,0,0,0,836.02,1,1,1,1,-2,0,0,1,1,0,"",103,"",1,2,85320616,2,131072,491,1,0,0,0,0,0,0,0,0,0,0,86110.06,103,0,1,0,0,0,86110.06,103,0,1,null,null,null,null,null,null,null,null,null,null,null,null,null,null,null,null,null,null,null,null,null,null,null,{"$f":"ROUND(AT491*Source!I224*AH491*AL491,2)","v":0},{"$f":"ROUND(Y491*Source!I224,7)","v":0},0,{"$f":"ROUND(Y491*Source!I224,7)","v":0},{"$f":"AD491","v":836.02},{"$f":"AH491","v":836.02},{"$f":"AL491","v":1},86110.06,0,"","",0,0,0,0,{"$f":"DI491","v":0},1,"",0,"",0]
[{"$f":"ROW(Source!A224)","v":224},85316715,85320602,77306545,114,1,1,1,"4-100-00","","Затраты труда машинистов",1191,null,1013,"чел.-ч.","чел.-ч.",1,null,null,null,null,null,0,-1417349443,20.65,null,0,0,0,0,0,0,0,0,1,1,1,1,-2,0,0,1,1,0,"",20.65,"",2,2,85320617,1,0,492,1,0,0,0,0,0,0,0,0,0,0,0,0,0,0,0,0,0,0,0,0,0,null,null,null,null,null,null,null,null,null,null,null,null,null,null,null,null,null,null,null,null,null,null,null,null,0,0,{"$f":"ROUND(Y492*Source!I224,7)","v":0},{"$f":"AD492","v":0},{"$f":"AH492","v":0},{"$f":"AL492","v":1},0,0,"","",0,0,0,0,{"$f":"DI492","v":0},0,"",0,"",0]
[{"$f":"ROW(Source!A224)","v":224},85316715,85320602,77430971,1,1,1,2,"91.05.04-010","ФСЭМ-2022, 91.05.04-010, приказ Минстроя России от 18.05.2022 г. № 378/пр","Краны мостовые электрические, грузоподъемность 50 т",1368,null,1011,"маш.-ч","маш.-ч",1,null,null,null,null,null,0,-1825891408,7.83,null,0,2314.71,932.95,0,0,1689.57,932.95,0,1,1.37,1,1,2,0,0,1,1,0,"",7.83,"",1,2,85320618,2,65536,493,1,0,0,0,0,0,0,0,0,13229.3331,7304.9985000000006,0,0,7.83,1,0,13229.3331,7304.9985000000006,0,0,7.83,1,null,null,null,null,null,null,null,null,null,null,null,null,null,null,null,null,null,null,null,null,null,null,null,null,0,{"$f":"ROUND(Y493*Source!I224*DO493,7)","v":0},{"$f":"ROUND(Y493*Source!I224,7)","v":0},{"$f":"AB493","v":2314.71},{"$f":"AF493","v":1689.57},{"$f":"AJ493","v":1.37},13229.33,7305,"","",0,{"$f":"ROUND(ROUND(AF493*AJ493,2)*CX493,2)","v":0},0,0,{"$f":"DG493+DH493","v":0},0,"4-100-050",5,"чел.-ч.",1]
[{"$f":"ROW(Source!A224)","v":224},85316715,85320602,77430988,1,1,1,2,"91.05.05-015","ФСЭМ-2022, 91.05.05-015, приказ Минстроя России от 18.05.2022 г. № 378/пр","Краны на автомобильном ходу, грузоподъемность 16 т",1368,null,1011,"маш.-ч","маш.-ч",1,null,null,null,null,null,0,-468861091,0.6,null,0,1626.29,1090.46,0,0,1626.29,1090.46,0,1,1,1,1,-2,0,0,1,1,0,"",0.6,"",1,2,85320619,1,0,494,1,0,0,0,0,0,0,0,0,975.77399999999989,654.27599999999995,0,0,0.6,1,0,975.77399999999989,654.27599999999995,0,0,0.6,1,null,null,null,null,null,null,null,null,null,null,null,null,null,null,null,null,null,null,null,null,null,null,null,null,0,{"$f":"ROUND(Y494*Source!I224*DO494,7)","v":0},{"$f":"ROUND(Y494*Source!I224,7)","v":0},1626.29,1626.29,1,975.77,654.28,"","",0,{"$f":"ROUND(ROUND(AF494,2)*CX494,2)","v":0},0,0,0,1,"4-100-060",6,"чел.-ч.",1]
[{"$f":"ROW(Source!A224)","v":224},85316715,85320602,77431168,1,1,1,2,"91.06.06-042","ФСЭМ-2022, 91.06.06-042, приказ Минстроя России от 18.05.2022 г. № 378/пр","Подъемники гидравлические, высота подъема 10 м",1368,null,1011,"маш.-ч","маш.-ч",1,null,null,null,null,null,0,-702403151,5.5,null,0,128.09,811.79,0,0,104.99,811.79,0,1,1.22,1,1,2,0,0,1,1,0,"",5.5,"",1,2,85320620,2,65536,495,1,0,0,0,0,0,0,0,0,577.44499999999994,4464.8449999999993,0,0,5.5,1,0,577.44499999999994,4464.8449999999993,0,0,5.5,1,null,null,null,null,null,null,null,null,null,null,null,null,null,null,null,null,null,null,null,null,null,null,null,null,0,{"$f":"ROUND(Y495*Source!I224*DO495,7)","v":0},{"$f":"ROUND(Y495*Source!I224,7)","v":0},128.09,104.99,1.22,577.45000000000005,4464.8500000000004,"","",0,{"$f":"ROUND(ROUND(AF495*AJ495,2)*CX495,2)","v":0},0,0,0,0,"4-100-040",4,"чел.-ч.",1]
[{"$f":"ROW(Source!A224)","v":224},85316715,85320602,77431879,1,1,1,2,"91.14.02-001","ФСЭМ-2022 доп.7, 91.14.02-001, приказ Минстроя России от 02.08.2023 г. № 551/пр","Автомобили бортовые, грузоподъемность до 5 т",1368,null,1011,"маш.-ч","маш.-ч",1,null,null,null,null,null,0,-1152394969,0.6,null,0,641.70000000000005,811.79,0,0,641.70000000000005,811.79,0,1,1,1,1,-2,0,0,1,1,0,"",0.6,"",1,2,85320621,1,0,496,1,0,0,0,0,0,0,0,0,385.02000000000004,487.07399999999996,0,0,0.6,1,0,385.02000000000004,487.07399999999996,0,0,0.6,1,null,null,null,null,null,null,null,null,null,null,null,null,null,null,null,null,null,null,null,null,null,null,null,null,0,{"$f":"ROUND(Y496*Source!I224*DO496,7)","v":0},{"$f":"ROUND(Y496*Source!I224,7)","v":0},641.70000000000005,641.70000000000005,1,385.02,487.07,"","",0,{"$f":"ROUND(ROUND(AF496,2)*CX496,2)","v":0},0,0,0,1,"4-100-040",4,"чел.-ч.",1]
[{"$f":"ROW(Source!A224)","v":224},85316715,85320602,77432062,1,1,1,2,"91.17.04-161","ФСЭМ-2022, 91.17.04-161, приказ Минстроя России от 18.05.2022 г. № 378/пр","Аппарат сварочный для полуавтоматической сварки, сварочный ток до 500 А, в комплекте с механизмом подачи проволоки",1368,null,1011,"маш.-ч","маш.-ч",1,null,null,null,null,null,0,-589932474,72.3,null,0,103.08,0,0,0,103.08,0,0,1,1,1,1,-2,0,0,1,1,0,"",72.3,"",1,2,85320622,1,0,497,1,0,0,0,0,0,0,0,0,7452.6839999999993,0,0,0,0,1,0,7452.6839999999993,0,0,0,0,1,null,null,null,null,null,null,null,null,null,null,null,null,null,null,null,null,null,null,null,null,null,null,null,null,0,{"$f":"ROUND(Y497*Source!I224*DO497,7)","v":0},{"$f":"ROUND(Y497*Source!I224,7)","v":0},103.08,103.08,1,7452.68,0,"","",0,{"$f":"ROUND(ROUND(AF497,2)*CX497,2)","v":0},0,0,0,1,"",0,"",0]
[{"$f":"ROW(Source!A224)","v":224},85316715,85320602,77432634,1,1,1,2,"91.21.22-491","ФСЭМ-2022, 91.21.22-491, приказ Минстроя России от 18.05.2022 г. № 378/пр","Шиногибы гидравлические универсальные",1368,null,1011,"маш.-ч","маш.-ч",1,null,null,null,null,null,0,1781070667,6.12,null,0,31.84,811.79,0,0,26.76,811.79,0,1,1.19,1,1,2,0,0,1,1,0,"",6.12,"",1,2,85320623,2,65536,498,1,0,0,0,0,0,0,0,0,163.77120000000002,4968.1548000000003,0,0,6.12,1,0,163.77120000000002,4968.1548000000003,0,0,6.12,1,null,null,null,null,null,null,null,null,null,null,null,null,null,null,null,null,null,null,null,null,null,null,null,null,0,{"$f":"ROUND(Y498*Source!I224*DO498,7)","v":0},{"$f":"ROUND(Y498*Source!I224,7)","v":0},31.84,26.76,1.19,163.77000000000001,4968.1499999999996,"","",0,{"$f":"ROUND(ROUND(AF498*AJ498,2)*CX498,2)","v":0},0,0,0,0,"4-100-040",4,"чел.-ч.",1]
[{"$f":"ROW(Source!A224)","v":224},85316715,85320602,77375932,1,1,1,3,"01.3.02.02-0001","ФСБЦ-2022 доп.3, 01.3.02.02-0001, приказ Минстроя России от 26.10.2022 г. № 905/пр","Аргон газообразный, сорт I",1339,null,1007,"м3","м3",1,null,null,null,null,null,0,379320714,1.5,null,342.85,0,0,0,253.96,0,0,0,1.35,1,1,1,2,0,0,1,1,0,"",1.5,"",0,2,85320624,1,0,499,1,0,0,0,0,0,0,0,380.94,0,0,0,0,0,1,380.94,0,0,0,0,0,1,null,null,null,null,null,null,null,null,null,null,null,null,null,null,null,null,null,null,null,null,null,null,null,null,0,0,{"$f":"ROUND(Y499*Source!I224,7)","v":0},{"$f":"AA499","v":342.85},{"$f":"AE499","v":253.96},{"$f":"AI499","v":1.35},380.94,0,"","",{"$f":"ROUND(ROUND(AE499*AI499,2)*CX499,2)","v":0},{"$f":"ROUND(ROUND(AF499,2)*CX499,2)","v":0},0,0,{"$f":"DF499","v":0},0,"",0,"",0]
[{"$f":"ROW(Source!A224)","v":224},85316715,85320602,77378830,1,1,1,3,"01.7.11.07-0227","ФСБЦ-2022, 01.7.11.07-0227, приказ Минстроя России от 18.05.2022 г. № 378/пр","Электроды сварочные для сварки низколегированных и углеродистых сталей УОНИ 13/45, Э42А, диаметр 4-5 мм",1346,null,1009,"кг","кг",1,null,null,null,null,null,0,212334824,4,null,121.39,0,0,0,155.63,0,0,0,0.78,1,1,1,2,0,0,1,1,0,"",4,"",0,2,85320625,1,0,500,1,0,0,0,0,0,0,0,622.52,0,0,0,0,0,1,622.52,0,0,0,0,0,1,null,null,null,null,null,null,null,null,null,null,null,null,null,null,null,null,null,null,null,null,null,null,null,null,0,0,{"$f":"ROUND(Y500*Source!I224,7)","v":0},{"$f":"AA500","v":121.39},{"$f":"AE500","v":155.63},{"$f":"AI500","v":0.78},622.52,0,"","",{"$f":"ROUND(ROUND(AE500*AI500,2)*CX500,2)","v":0},0,0,0,{"$f":"DF500","v":0},0,"",0,"",0]
[{"$f":"ROW(Source!A224)","v":224},85316715,85320602,77388702,1,1,1,3,"10.1.02.04-0001","ФСБЦ-2022 доп.9, 10.1.02.04-0001, приказ Минстроя России от 16.02.2024 г. № 102/пр","Прутки круглого сечения из алюминиевых сплавов марок АД0, АД1, АД, АД31, АД33, АД35, АВ, диаметр 5,0 мм",1348,null,1009,"т","т",1000,null,null,null,null,null,0,19259809,2.5300000000000001E-3,null,384129.8,0,0,0,590968.93000000005,0,0,0,0.65,1,1,1,2,0,0,1,1,0,"",2.5300000000000001E-3,"",0,2,85320626,1,0,501,1,0,0,0,0,0,0,0,1495.1513929000002,0,0,0,0,0,1,1495.1513929000002,0,0,0,0,0,1,null,null,null,null,null,null,null,null,null,null,null,null,null,null,null,null,null,null,null,null,null,null,null,null,0,0,{"$f":"ROUND(Y501*Source!I224,7)","v":0},{"$f":"AA501","v":384129.8},{"$f":"AE501","v":590968.93000000005},{"$f":"AI501","v":0.65},1495.15,0,"","",{"$f":"ROUND(ROUND(AE501*AI501,2)*CX501,2)","v":0},0,0,0,{"$f":"DF501","v":0},0,"",0,"",0]
[{"$f":"ROW(Source!A224)","v":224},85316715,85320602,77397226,1,1,1,3,"14.4.02.04-0142","ФСБЦ-2022, 14.4.02.04-0142, приказ Минстроя России от 18.05.2022 г. № 378/пр","Краска масляная МА-0115, мумия, сурик железный",1346,null,1009,"кг","кг",1,null,null,null,null,null,0,790403873,14.9,null,115.03,0,0,0,79.88,0,0,0,1.44,1,1,1,2,0,0,1,1,0,"",14.9,"",0,2,85320627,1,0,502,1,0,0,0,0,0,0,0,1190.212,0,0,0,0,0,1,1190.212,0,0,0,0,0,1,null,null,null,null,null,null,null,null,null,null,null,null,null,null,null,null,null,null,null,null,null,null,null,null,0,0,{"$f":"ROUND(Y502*Source!I224,7)","v":0},{"$f":"AA502","v":115.03},{"$f":"AE502","v":79.88},{"$f":"AI502","v":1.44},1190.21,0,"","",{"$f":"ROUND(ROUND(AE502*AI502,2)*CX502,2)","v":0},0,0,0,{"$f":"DF502","v":0},0,"",0,"",0]
[{"$f":"ROW(Source!A224)","v":224},85316715,85320602,77312233,114,1,1,3,"421/пр_2020_п.75_пп.а","","Сметная стоимость вспомогательных ненормируемых материальных ресурсов, не учтенная в сметной норме, 2%",3277935,null,1013,"%","%",1,null,null,null,null,null,0,274903907,2,null,0,0,0,0,0,0,0,0,1,1,1,1,-2,0,0,0,0,0,"",2,"",0,2,85320628,1,0,503,0,0,0,0,0,0,0,0,0,0,0,0,0,0,0,0,0,0,0,0,0,0,null,null,null,null,null,null,null,null,null,null,null,null,null,null,null,null,null,null,null,null,null,null,null,null,0,0,{"$f":"ROUND(Y503*Source!I224,7)","v":0},{"$f":"AA503","v":0},{"$f":"AE503","v":0},{"$f":"AI503","v":1},0,0,"","",{"$f":"ROUND(ROUND(AE503,2)*CX503,2)","v":0},0,0,0,{"$f":"DF503","v":0},0,"",0,"",0]
[{"$f":"ROW(Source!A225)","v":225},85316656,85320602,77306380,114,1,1,1,"1-100-42","","Средний разряд работы 4,2",1191,null,1013,"чел.-ч.","чел.-ч.",1,null,null,null,null,null,0,1522950421,103,null,0,0,0,836.02,0,0,0,836.02,1,1,1,1,-2,0,0,1,1,0,"",103,"",1,2,85320616,2,131072,504,1,0,0,0,0,0,0,0,0,0,0,86110.06,103,0,1,0,0,0,86110.06,103,0,1,null,null,null,null,null,null,null,null,null,null,null,null,null,null,null,null,null,null,null,null,null,null,null,{"$f":"ROUND(AT504*Source!I225*AH504*AL504,2)","v":0},{"$f":"ROUND(Y504*Source!I225,7)","v":0},0,{"$f":"ROUND(Y504*Source!I225,7)","v":0},{"$f":"AD504","v":836.02},{"$f":"AH504","v":836.02},{"$f":"AL504","v":1},86110.06,0,"","",0,0,0,0,{"$f":"DI504","v":0},1,"",0,"",0]
[{"$f":"ROW(Source!A225)","v":225},85316656,85320602,77306545,114,1,1,1,"4-100-00","","Затраты труда машинистов",1191,null,1013,"чел.-ч.","чел.-ч.",1,null,null,null,null,null,0,-1417349443,20.65,null,0,0,0,0,0,0,0,0,1,1,1,1,-2,0,0,1,1,0,"",20.65,"",2,2,85320617,1,0,505,1,0,0,0,0,0,0,0,0,0,0,0,0,0,0,0,0,0,0,0,0,0,null,null,null,null,null,null,null,null,null,null,null,null,null,null,null,null,null,null,null,null,null,null,null,null,0,0,{"$f":"ROUND(Y505*Source!I225,7)","v":0},{"$f":"AD505","v":0},{"$f":"AH505","v":0},{"$f":"AL505","v":1},0,0,"","",0,0,0,0,{"$f":"DI505","v":0},0,"",0,"",0]
[{"$f":"ROW(Source!A225)","v":225},85316656,85320602,77430971,1,1,1,2,"91.05.04-010","ФСЭМ-2022, 91.05.04-010, приказ Минстроя России от 18.05.2022 г. № 378/пр","Краны мостовые электрические, грузоподъемность 50 т",1368,null,1011,"маш.-ч","маш.-ч",1,null,null,null,null,null,0,-1825891408,7.83,null,0,2314.71,932.95,0,0,1689.57,932.95,0,1,1.37,1,1,2,0,0,1,1,0,"",7.83,"",1,2,85320618,2,65536,506,1,0,0,0,0,0,0,0,0,13229.3331,7304.9985000000006,0,0,7.83,1,0,13229.3331,7304.9985000000006,0,0,7.83,1,null,null,null,null,null,null,null,null,null,null,null,null,null,null,null,null,null,null,null,null,null,null,null,null,0,{"$f":"ROUND(Y506*Source!I225*DO506,7)","v":0},{"$f":"ROUND(Y506*Source!I225,7)","v":0},{"$f":"AB506","v":2314.71},{"$f":"AF506","v":1689.57},{"$f":"AJ506","v":1.37},13229.33,7305,"","",0,{"$f":"ROUND(ROUND(AF506*AJ506,2)*CX506,2)","v":0},0,0,{"$f":"DG506+DH506","v":0},0,"4-100-050",5,"чел.-ч.",1]
[{"$f":"ROW(Source!A225)","v":225},85316656,85320602,77430988,1,1,1,2,"91.05.05-015","ФСЭМ-2022, 91.05.05-015, приказ Минстроя России от 18.05.2022 г. № 378/пр","Краны на автомобильном ходу, грузоподъемность 16 т",1368,null,1011,"маш.-ч","маш.-ч",1,null,null,null,null,null,0,-468861091,0.6,null,0,1626.29,1090.46,0,0,1626.29,1090.46,0,1,1,1,1,-2,0,0,1,1,0,"",0.6,"",1,2,85320619,1,0,507,1,0,0,0,0,0,0,0,0,975.77399999999989,654.27599999999995,0,0,0.6,1,0,975.77399999999989,654.27599999999995,0,0,0.6,1,null,null,null,null,null,null,null,null,null,null,null,null,null,null,null,null,null,null,null,null,null,null,null,null,0,{"$f":"ROUND(Y507*Source!I225*DO507,7)","v":0},{"$f":"ROUND(Y507*Source!I225,7)","v":0},1626.29,1626.29,1,975.77,654.28,"","",0,{"$f":"ROUND(ROUND(AF507,2)*CX507,2)","v":0},0,0,0,1,"4-100-060",6,"чел.-ч.",1]
[{"$f":"ROW(Source!A225)","v":225},85316656,85320602,77431168,1,1,1,2,"91.06.06-042","ФСЭМ-2022, 91.06.06-042, приказ Минстроя России от 18.05.2022 г. № 378/пр","Подъемники гидравлические, высота подъема 10 м",1368,null,1011,"маш.-ч","маш.-ч",1,null,null,null,null,null,0,-702403151,5.5,null,0,128.09,811.79,0,0,104.99,811.79,0,1,1.22,1,1,2,0,0,1,1,0,"",5.5,"",1,2,85320620,2,65536,508,1,0,0,0,0,0,0,0,0,577.44499999999994,4464.8449999999993,0,0,5.5,1,0,577.44499999999994,4464.8449999999993,0,0,5.5,1,null,null,null,null,null,null,null,null,null,null,null,null,null,null,null,null,null,null,null,null,null,null,null,null,0,{"$f":"ROUND(Y508*Source!I225*DO508,7)","v":0},{"$f":"ROUND(Y508*Source!I225,7)","v":0},128.09,104.99,1.22,577.45000000000005,4464.8500000000004,"","",0,{"$f":"ROUND(ROUND(AF508*AJ508,2)*CX508,2)","v":0},0,0,0,0,"4-100-040",4,"чел.-ч.",1]
[{"$f":"ROW(Source!A225)","v":225},85316656,85320602,77431879,1,1,1,2,"91.14.02-001","ФСЭМ-2022 доп.7, 91.14.02-001, приказ Минстроя России от 02.08.2023 г. № 551/пр","Автомобили бортовые, грузоподъемность до 5 т",1368,null,1011,"маш.-ч","маш.-ч",1,null,null,null,null,null,0,-1152394969,0.6,null,0,641.70000000000005,811.79,0,0,641.70000000000005,811.79,0,1,1,1,1,-2,0,0,1,1,0,"",0.6,"",1,2,85320621,1,0,509,1,0,0,0,0,0,0,0,0,385.02000000000004,487.07399999999996,0,0,0.6,1,0,385.02000000000004,487.07399999999996,0,0,0.6,1,null,null,null,null,null,null,null,null,null,null,null,null,null,null,null,null,null,null,null,null,null,null,null,null,0,{"$f":"ROUND(Y509*Source!I225*DO509,7)","v":0},{"$f":"ROUND(Y509*Source!I225,7)","v":0},641.70000000000005,641.70000000000005,1,385.02,487.07,"","",0,{"$f":"ROUND(ROUND(AF509,2)*CX509,2)","v":0},0,0,0,1,"4-100-040",4,"чел.-ч.",1]
[{"$f":"ROW(Source!A225)","v":225},85316656,85320602,77432062,1,1,1,2,"91.17.04-161","ФСЭМ-2022, 91.17.04-161, приказ Минстроя России от 18.05.2022 г. № 378/пр","Аппарат сварочный для полуавтоматической сварки, сварочный ток до 500 А, в комплекте с механизмом подачи проволоки",1368,null,1011,"маш.-ч","маш.-ч",1,null,null,null,null,null,0,-589932474,72.3,null,0,103.08,0,0,0,103.08,0,0,1,1,1,1,-2,0,0,1,1,0,"",72.3,"",1,2,85320622,1,0,510,1,0,0,0,0,0,0,0,0,7452.6839999999993,0,0,0,0,1,0,7452.6839999999993,0,0,0,0,1,null,null,null,null,null,null,null,null,null,null,null,null,null,null,null,null,null,null,null,null,null,null,null,null,0,{"$f":"ROUND(Y510*Source!I225*DO510,7)","v":0},{"$f":"ROUND(Y510*Source!I225,7)","v":0},103.08,103.08,1,7452.68,0,"","",0,{"$f":"ROUND(ROUND(AF510,2)*CX510,2)","v":0},0,0,0,1,"",0,"",0]
[{"$f":"ROW(Source!A225)","v":225},85316656,85320602,77432634,1,1,1,2,"91.21.22-491","ФСЭМ-2022, 91.21.22-491, приказ Минстроя России от 18.05.2022 г. № 378/пр","Шиногибы гидравлические универсальные",1368,null,1011,"маш.-ч","маш.-ч",1,null,null,null,null,null,0,1781070667,6.12,null,0,31.84,811.79,0,0,26.76,811.79,0,1,1.19,1,1,2,0,0,1,1,0,"",6.12,"",1,2,85320623,2,65536,511,1,0,0,0,0,0,0,0,0,163.77120000000002,4968.1548000000003,0,0,6.12,1,0,163.77120000000002,4968.1548000000003,0,0,6.12,1,null,null,null,null,null,null,null,null,null,null,null,null,null,null,null,null,null,null,null,null,null,null,null,null,0,{"$f":"ROUND(Y511*Source!I225*DO511,7)","v":0},{"$f":"ROUND(Y511*Source!I225,7)","v":0},31.84,26.76,1.19,163.77000000000001,4968.1499999999996,"","",0,{"$f":"ROUND(ROUND(AF511*AJ511,2)*CX511,2)","v":0},0,0,0,0,"4-100-040",4,"чел.-ч.",1]
[{"$f":"ROW(Source!A225)","v":225},85316656,85320602,77375932,1,1,1,3,"01.3.02.02-0001","ФСБЦ-2022 доп.3, 01.3.02.02-0001, приказ Минстроя России от 26.10.2022 г. № 905/пр","Аргон газообразный, сорт I",1339,null,1007,"м3","м3",1,null,null,null,null,null,0,379320714,1.5,null,342.85,0,0,0,253.96,0,0,0,1.35,1,1,1,2,0,0,1,1,0,"",1.5,"",0,2,85320624,1,0,512,1,0,0,0,0,0,0,0,380.94,0,0,0,0,0,1,380.94,0,0,0,0,0,1,null,null,null,null,null,null,null,null,null,null,null,null,null,null,null,null,null,null,null,null,null,null,null,null,0,0,{"$f":"ROUND(Y512*Source!I225,7)","v":0},{"$f":"AA512","v":342.85},{"$f":"AE512","v":253.96},{"$f":"AI512","v":1.35},380.94,0,"","",{"$f":"ROUND(ROUND(AE512*AI512,2)*CX512,2)","v":0},{"$f":"ROUND(ROUND(AF512,2)*CX512,2)","v":0},0,0,{"$f":"DF512","v":0},0,"",0,"",0]
[{"$f":"ROW(Source!A225)","v":225},85316656,85320602,77378830,1,1,1,3,"01.7.11.07-0227","ФСБЦ-2022, 01.7.11.07-0227, приказ Минстроя России от 18.05.2022 г. № 378/пр","Электроды сварочные для сварки низколегированных и углеродистых сталей УОНИ 13/45, Э42А, диаметр 4-5 мм",1346,null,1009,"кг","кг",1,null,null,null,null,null,0,212334824,{"$f":"AT513","v":4},null,121.39,0,0,0,155.63,0,0,0,0.78,1,1,1,2,0,0,1,1,0,"",4,"",0,2,85320625,1,0,513,1,0,0,0,0,0,0,0,622.52,0,0,0,0,0,1,622.52,0,0,0,0,0,1,null,null,null,null,null,null,null,null,null,null,null,null,null,null,null,null,null,null,null,null,null,null,null,null,0,0,{"$f":"ROUND(Y513*Source!I225,7)","v":0},{"$f":"AA513","v":121.39},{"$f":"AE513","v":155.63},{"$f":"AI513","v":0.78},{"$f":"ROUND(ROUND(AT513*CZ513,2),2)","v":622.52},{"$f":"ROUND(ROUND(AT513*AG513,2),2)","v":0},"","",{"$f":"ROUND(ROUND(AE513*AI513,2)*CX513,2)","v":0},0,{"$f":"ROUND(ROUND(AG513,2)*CX513,2)","v":0},{"$f":"ROUND(ROUND(AH513,2)*CX513,2)","v":0},{"$f":"DF513","v":0},0,"",0,"",0]
[{"$f":"ROW(Source!A225)","v":225},85316656,85320602,77388702,1,1,1,3,"10.1.02.04-0001","ФСБЦ-2022 доп.9, 10.1.02.04-0001, приказ Минстроя России от 16.02.2024 г. № 102/пр","Прутки круглого сечения из алюминиевых сплавов марок АД0, АД1, АД, АД31, АД33, АД35, АВ, диаметр 5,0 мм",1348,null,1009,"т","т",1000,null,null,null,null,null,0,19259809,2.5300000000000001E-3,null,384129.8,0,0,0,590968.93000000005,0,0,0,0.65,1,1,1,2,0,0,1,1,0,"",2.5300000000000001E-3,"",0,2,85320626,1,0,514,1,0,0,0,0,0,0,0,1495.1513929000002,0,0,0,0,0,1,1495.1513929000002,0,0,0,0,0,1,null,null,null,null,null,null,null,null,null,null,null,null,null,null,null,null,null,null,null,null,null,null,null,null,0,0,{"$f":"ROUND(Y514*Source!I225,7)","v":0},{"$f":"AA514","v":384129.8},{"$f":"AE514","v":590968.93000000005},{"$f":"AI514","v":0.65},1495.15,0,"","",{"$f":"ROUND(ROUND(AE514*AI514,2)*CX514,2)","v":0},0,0,0,{"$f":"DF514","v":0},0,"",0,"",0]
[{"$f":"ROW(Source!A225)","v":225},85316656,85320602,77397226,1,1,1,3,"14.4.02.04-0142","ФСБЦ-2022, 14.4.02.04-0142, приказ Минстроя России от 18.05.2022 г. № 378/пр","Краска масляная МА-0115, мумия, сурик железный",1346,null,1009,"кг","кг",1,null,null,null,null,null,0,790403873,14.9,null,115.03,0,0,0,79.88,0,0,0,1.44,1,1,1,2,0,0,1,1,0,"",14.9,"",0,2,85320627,1,0,515,1,0,0,0,0,0,0,0,1190.212,0,0,0,0,0,1,1190.212,0,0,0,0,0,1,null,null,null,null,null,null,null,null,null,null,null,null,null,null,null,null,null,null,null,null,null,null,null,null,0,0,{"$f":"ROUND(Y515*Source!I225,7)","v":0},{"$f":"AA515","v":115.03},{"$f":"AE515","v":79.88},{"$f":"AI515","v":1.44},1190.21,0,"","",{"$f":"ROUND(ROUND(AE515*AI515,2)*CX515,2)","v":0},0,0,0,{"$f":"DF515","v":0},0,"",0,"",0]
[{"$f":"ROW(Source!A225)","v":225},85316656,85320602,77312233,114,1,1,3,"421/пр_2020_п.75_пп.а","","Сметная стоимость вспомогательных ненормируемых материальных ресурсов, не учтенная в сметной норме, 2%",3277935,null,1013,"%","%",1,null,null,null,null,null,0,274903907,2,null,0,0,0,0,0,0,0,0,1,1,1,1,-2,0,0,0,0,0,"",2,"",0,2,85320628,1,0,516,0,0,0,0,0,0,0,0,0,0,0,0,0,0,0,0,0,0,0,0,0,0,null,null,null,null,null,null,null,null,null,null,null,null,null,null,null,null,null,null,null,null,null,null,null,null,0,0,{"$f":"ROUND(Y516*Source!I225,7)","v":0},{"$f":"AA516","v":0},{"$f":"AE516","v":0},{"$f":"AI516","v":1},0,0,"","",{"$f":"ROUND(ROUND(AE516,2)*CX516,2)","v":0},0,0,0,{"$f":"DF516","v":0},0,"",0,"",0]
[{"$f":"ROW(Source!A229)","v":229},85316715,85320631,77306382,114,1,1,1,"1-100-43","","Средний разряд работы 4,3",1191,null,1013,"чел.-ч.","чел.-ч.",1,null,null,null,null,null,0,-50752015,7.42,null,0,0,0,848.13,0,0,0,848.13,1,1,1,1,-2,0,0,1,1,0,"",7.42,"",1,2,85320647,2,131072,517,1,0,0,0,0,0,0,0,0,0,0,6293.1246000000001,7.42,0,1,0,0,0,6293.1246000000001,7.42,0,1,null,null,null,null,null,null,null,null,null,null,null,null,null,null,null,null,null,null,null,null,null,null,null,{"$f":"ROUND(AT517*Source!I229*AH517*AL517,2)","v":0},{"$f":"ROUND(Y517*Source!I229,7)","v":0},0,{"$f":"ROUND(Y517*Source!I229,7)","v":0},{"$f":"AD517","v":848.13},{"$f":"AH517","v":848.13},{"$f":"AL517","v":1},6293.12,0,"","",{"$f":"ROUND(ROUND(AE517,2)*CX517,2)","v":0},0,0,0,{"$f":"DI517","v":0},1,"",0,"",0]
[{"$f":"ROW(Source!A229)","v":229},85316715,85320631,77306545,114,1,1,1,"4-100-00","","Затраты труда машинистов",1191,null,1013,"чел.-ч.","чел.-ч.",1,null,null,null,null,null,0,-1417349443,1.02,null,0,0,0,0,0,0,0,0,1,1,1,1,-2,0,0,1,1,0,"",1.02,"",2,2,85320648,1,0,518,1,0,0,0,0,0,0,0,0,0,0,0,0,0,0,0,0,0,0,0,0,0,null,null,null,null,null,null,null,null,null,null,null,null,null,null,null,null,null,null,null,null,null,null,null,null,0,0,{"$f":"ROUND(Y518*Source!I229,7)","v":0},{"$f":"AD518","v":0},{"$f":"AH518","v":0},{"$f":"AL518","v":1},0,0,"","",{"$f":"ROUND(ROUND(AE518,2)*CX518,2)","v":0},0,0,0,{"$f":"DI518","v":0},0,"",0,"",0]
[{"$f":"ROW(Source!A229)","v":229},85316715,85320631,77430988,1,1,1,2,"91.05.05-015","ФСЭМ-2022, 91.05.05-015, приказ Минстроя России от 18.05.2022 г. № 378/пр","Краны на автомобильном ходу, грузоподъемность 16 т",1368,null,1011,"маш.-ч","маш.-ч",1,null,null,null,null,null,0,-468861091,0.61,null,0,1626.29,1090.46,0,0,1626.29,1090.46,0,1,1,1,1,-2,0,0,1,1,0,"",0.61,"",1,2,85320649,1,0,519,1,0,0,0,0,0,0,0,0,992.03689999999995,665.18060000000003,0,0,0.61,1,0,992.03689999999995,665.18060000000003,0,0,0.61,1,null,null,null,null,null,null,null,null,null,null,null,null,null,null,null,null,null,null,null,null,null,null,null,null,0,{"$f":"ROUND(Y519*Source!I229*DO519,7)","v":0},{"$f":"ROUND(Y519*Source!I229,7)","v":0},{"$f":"AB519","v":1626.29},{"$f":"AF519","v":1626.29},{"$f":"AJ519","v":1},992.04,665.18,"","",{"$f":"ROUND(ROUND(AE519,2)*CX519,2)","v":0},0,0,0,{"$f":"DG519+DH519","v":0},1,"4-100-060",6,"чел.-ч.",1]
[{"$f":"ROW(Source!A229)","v":229},85316715,85320631,77431879,1,1,1,2,"91.14.02-001","ФСЭМ-2022 доп.7, 91.14.02-001, приказ Минстроя России от 02.08.2023 г. № 551/пр","Автомобили бортовые, грузоподъемность до 5 т",1368,null,1011,"маш.-ч","маш.-ч",1,null,null,null,null,null,0,-1152394969,0.41,null,0,641.70000000000005,811.79,0,0,641.70000000000005,811.79,0,1,1,1,1,-2,0,0,1,1,0,"",0.41,"",1,2,85320650,1,0,520,1,0,0,0,0,0,0,0,0,263.09699999999998,332.83389999999997,0,0,0.41,1,0,263.09699999999998,332.83389999999997,0,0,0.41,1,null,null,null,null,null,null,null,null,null,null,null,null,null,null,null,null,null,null,null,null,null,null,null,null,0,{"$f":"ROUND(Y520*Source!I229*DO520,7)","v":0},{"$f":"ROUND(Y520*Source!I229,7)","v":0},{"$f":"AB520","v":641.70000000000005},{"$f":"AF520","v":641.70000000000005},{"$f":"AJ520","v":1},263.10000000000002,332.83,"","",{"$f":"ROUND(ROUND(AE520,2)*CX520,2)","v":0},0,0,0,{"$f":"DG520+DH520","v":0},1,"4-100-040",4,"чел.-ч.",1]
[{"$f":"ROW(Source!A229)","v":229},85316715,85320631,77375900,1,1,1,3,"01.3.01.06-0038","ФСБЦ-2022, 01.3.01.06-0038, приказ Минстроя России от 18.05.2022 г. № 378/пр","Смазка защитная электросетевая",1346,null,1009,"кг","кг",1,null,null,null,null,null,0,-1628490559,0.01,null,381.26,0,0,0,238.29,0,0,0,1.6,1,1,1,2,0,0,1,1,0,"",0.01,"",0,2,85320651,1,0,521,1,0,0,0,0,0,0,0,2.3828999999999998,0,0,0,0,0,1,2.3828999999999998,0,0,0,0,0,1,null,null,null,null,null,null,null,null,null,null,null,null,null,null,null,null,null,null,null,null,null,null,null,null,0,0,{"$f":"ROUND(Y521*Source!I229,7)","v":0},{"$f":"AA521","v":381.26},{"$f":"AE521","v":238.29},{"$f":"AI521","v":1.6},2.38,0,"","",{"$f":"ROUND(ROUND(AE521*AI521,2)*CX521,2)","v":0},0,0,0,{"$f":"DF521","v":0},0,"",0,"",0]
[{"$f":"ROW(Source!A229)","v":229},85316715,85320631,77375907,1,1,1,3,"01.3.01.06-0051","ФСБЦ-2022 доп.12, 01.3.01.06-0051, приказ Минстроя России от 07.11.2024 г. № 747/пр","Смазка солидол жировой Ж",1346,null,1009,"кг","кг",1,null,null,null,null,null,0,-479354107,0.03,null,93.65,0,0,0,58.53,0,0,0,1.6,1,1,1,2,0,0,1,1,0,"",0.03,"",0,2,85320652,1,0,522,1,0,0,0,0,0,0,0,1.7559,0,0,0,0,0,1,1.7559,0,0,0,0,0,1,null,null,null,null,null,null,null,null,null,null,null,null,null,null,null,null,null,null,null,null,null,null,null,null,0,0,{"$f":"ROUND(Y522*Source!I229,7)","v":0},93.65,58.53,1.6,1.76,0,"","",{"$f":"ROUND(ROUND(AE522*AI522,2)*CX522,2)","v":0},0,0,0,0,0,"",0,"",0]
[{"$f":"ROW(Source!A229)","v":229},85316715,85320631,77379558,1,1,1,3,"01.7.15.03-0042","ФСБЦ-2022, 01.7.15.03-0042, приказ Минстроя России от 18.05.2022 г. № 378/пр","Болты с гайками и шайбами строительные",1346,null,1009,"кг","кг",1,null,null,null,null,null,0,1181962216,0,null,188.92,0,0,0,174.93,0,0,0,1.08,1,1,1,2,1,0,1,0,0,"",0,"",0,2,85320653,1,0,523,0,0,0,0,0,0,0,0,0,0,0,0,0,0,0,0,0,0,0,0,0,0,null,null,null,null,null,null,null,null,null,null,null,null,null,null,null,null,null,null,null,null,null,null,null,null,0,0,{"$f":"ROUND(Y523*Source!I229,7)","v":0},188.92,174.93,1.08,0,0,"","",{"$f":"ROUND(ROUND(AE523*AI523,2)*CX523,2)","v":0},0,0,0,0,0,"",0,"",0]
[{"$f":"ROW(Source!A229)","v":229},85316715,85320631,77380691,1,1,1,3,"01.7.20.08-0051","ФСБЦ-2022 доп.8, 01.7.20.08-0051, приказ Минстроя России от 14.11.2023 г. № 817/пр","Ветошь хлопчатобумажная цветная",1346,null,1009,"кг","кг",1,null,null,null,null,null,0,-130701290,0.02,null,86.41,0,0,0,56.11,0,0,0,1.54,1,1,1,2,0,0,1,1,0,"",0.02,"",0,2,85320654,1,0,524,1,0,0,0,0,0,0,0,1.1222000000000001,0,0,0,0,0,1,1.1222000000000001,0,0,0,0,0,1,null,null,null,null,null,null,null,null,null,null,null,null,null,null,null,null,null,null,null,null,null,null,null,null,0,0,{"$f":"ROUND(Y524*Source!I229,7)","v":0},86.41,56.11,1.54,1.1200000000000001,0,"","",{"$f":"ROUND(ROUND(AE524*AI524,2)*CX524,2)","v":0},0,0,0,0,0,"",0,"",0]
[{"$f":"ROW(Source!A229)","v":229},85316715,85320631,77308705,114,1,1,3,"07.2.07.13","","Хомуты стальные",1346,null,1009,"кг","кг",1,null,null,null,null,null,0,-1111733769,0,null,0,0,0,0,0,0,0,0,1,1,1,1,-2,1,0,1,0,0,"",0,"",0,2,85320655,1,0,525,0,0,0,0,0,0,0,0,0,0,0,0,0,0,0,0,0,0,0,0,0,0,null,null,null,null,null,null,null,null,null,null,null,null,null,null,null,null,null,null,null,null,null,null,null,null,0,0,{"$f":"ROUND(Y525*Source!I229,7)","v":0},0,0,1,0,0,"","",{"$f":"ROUND(ROUND(AE525,2)*CX525,2)","v":0},0,0,0,0,0,"",0,"",0]
[{"$f":"ROW(Source!A229)","v":229},85316715,85320631,77309038,114,1,1,3,"08.3.04.02","","Сталь стержневая диаметром до 10 мм",1348,null,1009,"т","т",1000,null,null,null,null,null,0,1613753229,0,null,0,0,0,0,0,0,0,0,1,1,1,1,-2,1,0,1,0,0,"",0,"",0,2,85320656,1,0,526,0,0,0,0,0,0,0,0,0,0,0,0,0,0,0,0,0,0,0,0,0,0,null,null,null,null,null,null,null,null,null,null,null,null,null,null,null,null,null,null,null,null,null,null,null,null,0,0,{"$f":"ROUND(Y526*Source!I229,7)","v":0},0,0,1,0,0,"","",{"$f":"ROUND(ROUND(AE526,2)*CX526,2)","v":0},0,0,0,0,0,"",0,"",0]
[{"$f":"ROW(Source!A229)","v":229},85316715,85320631,77397258,1,1,1,3,"14.4.03.03-0102","ФСБЦ-2022 доп.4, 14.4.03.03-0102, приказ Минстроя России от 27.12.2022 г. № 1133/пр","Лак битумный БТ-577",1348,null,1009,"т","т",1000,null,null,null,null,null,0,1215516986,1E-4,null,103227.06,0,0,0,80020.98,0,0,0,1.29,1,1,1,2,0,0,1,1,0,"",1E-4,"",0,2,85320657,1,0,527,1,0,0,0,0,0,0,0,8.0020980000000002,0,0,0,0,0,1,8.0020980000000002,0,0,0,0,0,1,null,null,null,null,null,null,null,null,null,null,null,null,null,null,null,null,null,null,null,null,null,null,null,null,0,0,{"$f":"ROUND(Y527*Source!I229,7)","v":0},103227.06,80020.98,1.29,8,0,"","",{"$f":"ROUND(ROUND(AE527*AI527,2)*CX527,2)","v":0},0,0,0,0,0,"",0,"",0]
[{"$f":"ROW(Source!A229)","v":229},85316715,85320631,77397652,1,1,1,3,"14.5.09.11-0102","ФСБЦ-2022, 14.5.09.11-0102, приказ Минстроя России от 18.05.2022 г. № 378/пр","Уайт-спирит",1346,null,1009,"кг","кг",1,null,null,null,null,null,0,-105256092,0.12,null,86.66,0,0,0,60.6,0,0,0,1.43,1,1,1,2,0,0,1,1,0,"",0.12,"",0,2,85320658,1,0,528,1,0,0,0,0,0,0,0,7.2720000000000002,0,0,0,0,0,1,7.2720000000000002,0,0,0,0,0,1,null,null,null,null,null,null,null,null,null,null,null,null,null,null,null,null,null,null,null,null,null,null,null,null,0,0,{"$f":"ROUND(Y528*Source!I229,7)","v":0},86.66,60.6,1.43,7.27,0,"","",{"$f":"ROUND(ROUND(AE528*AI528,2)*CX528,2)","v":0},0,0,0,0,0,"",0,"",0]
[{"$f":"ROW(Source!A229)","v":229},85316715,85320631,77311290,114,1,1,3,"21.2.01.02","","Провода неизолированные для воздушных линий электропередач",1348,null,1009,"т","т",1000,null,null,null,null,null,0,-2074906300,0,null,0,0,0,0,0,0,0,0,1,1,1,1,-2,1,0,1,0,0,"",0,"",0,2,85320659,1,0,529,0,0,0,0,0,0,0,0,0,0,0,0,0,0,0,0,0,0,0,0,0,0,null,null,null,null,null,null,null,null,null,null,null,null,null,null,null,null,null,null,null,null,null,null,null,null,0,0,{"$f":"ROUND(Y529*Source!I229,7)","v":0},0,0,1,0,0,"","",{"$f":"ROUND(ROUND(AE529,2)*CX529,2)","v":0},0,0,0,0,0,"",0,"",0]
[{"$f":"ROW(Source!A229)","v":229},85316715,85320631,77311321,114,1,1,3,"22.2.01.04","","Изоляторы линейные штыревые фарфоровые",1371,null,1013,"ШТ","ШТ",1,null,null,null,null,null,0,1740798612,0,null,0,0,0,0,0,0,0,0,1,1,1,1,-2,1,0,1,0,0,"",0,"",0,2,85320660,1,0,530,0,0,0,0,0,0,0,0,0,0,0,0,0,0,0,0,0,0,0,0,0,0,null,null,null,null,null,null,null,null,null,null,null,null,null,null,null,null,null,null,null,null,null,null,null,null,0,0,{"$f":"ROUND(Y530*Source!I229,7)","v":0},0,0,1,0,0,"","",0,0,0,0,0,0,"",0,"",0]
[{"$f":"ROW(Source!A229)","v":229},85316715,85320631,77311330,114,1,1,3,"22.2.02.03","","Детали крепления стальные",1346,null,1009,"кг","кг",1,null,null,null,null,null,0,1533393836,0,null,0,0,0,0,0,0,0,0,1,1,1,1,-2,1,0,1,0,0,"",0,"",0,2,85320661,1,0,531,0,0,0,0,0,0,0,0,0,0,0,0,0,0,0,0,0,0,0,0,0,0,null,null,null,null,null,null,null,null,null,null,null,null,null,null,null,null,null,null,null,null,null,null,null,null,0,0,{"$f":"ROUND(Y531*Source!I229,7)","v":0},0,0,1,0,0,"","",0,0,0,0,0,0,"",0,"",0]
[{"$f":"ROW(Source!A230)","v":230},85316656,85320631,77306382,114,1,1,1,"1-100-43","","Средний разряд работы 4,3",1191,null,1013,"чел.-ч.","чел.-ч.",1,null,null,null,null,null,0,-50752015,7.42,null,0,0,0,848.13,0,0,0,848.13,1,1,1,1,-2,0,0,1,1,0,"",7.42,"",1,2,85320647,2,131072,532,1,0,0,0,0,0,0,0,0,0,0,6293.1246000000001,7.42,0,1,0,0,0,6293.1246000000001,7.42,0,1,null,null,null,null,null,null,null,null,null,null,null,null,null,null,null,null,null,null,null,null,null,null,null,{"$f":"ROUND(AT532*Source!I230*AH532*AL532,2)","v":0},{"$f":"ROUND(Y532*Source!I230,7)","v":0},0,{"$f":"ROUND(Y532*Source!I230,7)","v":0},{"$f":"AD532","v":848.13},{"$f":"AH532","v":848.13},{"$f":"AL532","v":1},6293.12,0,"","",0,0,0,0,{"$f":"DI532","v":0},1,"",0,"",0]
[{"$f":"ROW(Source!A230)","v":230},85316656,85320631,77306545,114,1,1,1,"4-100-00","","Затраты труда машинистов",1191,null,1013,"чел.-ч.","чел.-ч.",1,null,null,null,null,null,0,-1417349443,1.02,null,0,0,0,0,0,0,0,0,1,1,1,1,-2,0,0,1,1,0,"",1.02,"",2,2,85320648,1,0,533,1,0,0,0,0,0,0,0,0,0,0,0,0,0,0,0,0,0,0,0,0,0,null,null,null,null,null,null,null,null,null,null,null,null,null,null,null,null,null,null,null,null,null,null,null,null,0,0,{"$f":"ROUND(Y533*Source!I230,7)","v":0},{"$f":"AD533","v":0},{"$f":"AH533","v":0},{"$f":"AL533","v":1},0,0,"","",0,0,0,0,{"$f":"DI533","v":0},0,"",0,"",0]
[{"$f":"ROW(Source!A230)","v":230},85316656,85320631,77430988,1,1,1,2,"91.05.05-015","ФСЭМ-2022, 91.05.05-015, приказ Минстроя России от 18.05.2022 г. № 378/пр","Краны на автомобильном ходу, грузоподъемность 16 т",1368,null,1011,"маш.-ч","маш.-ч",1,null,null,null,null,null,0,-468861091,0.61,null,0,1626.29,1090.46,0,0,1626.29,1090.46,0,1,1,1,1,-2,0,0,1,1,0,"",0.61,"",1,2,85320649,1,0,534,1,0,0,0,0,0,0,0,0,992.03689999999995,665.18060000000003,0,0,0.61,1,0,992.03689999999995,665.18060000000003,0,0,0.61,1,null,null,null,null,null,null,null,null,null,null,null,null,null,null,null,null,null,null,null,null,null,null,null,null,0,{"$f":"ROUND(Y534*Source!I230*DO534,7)","v":0},{"$f":"ROUND(Y534*Source!I230,7)","v":0},{"$f":"AB534","v":1626.29},{"$f":"AF534","v":1626.29},{"$f":"AJ534","v":1},992.04,665.18,"","",0,0,0,0,{"$f":"DG534+DH534","v":0},1,"4-100-060",6,"чел.-ч.",1]
[{"$f":"ROW(Source!A230)","v":230},85316656,85320631,77431879,1,1,1,2,"91.14.02-001","ФСЭМ-2022 доп.7, 91.14.02-001, приказ Минстроя России от 02.08.2023 г. № 551/пр","Автомобили бортовые, грузоподъемность до 5 т",1368,null,1011,"маш.-ч","маш.-ч",1,null,null,null,null,null,0,-1152394969,0.41,null,0,641.70000000000005,811.79,0,0,641.70000000000005,811.79,0,1,1,1,1,-2,0,0,1,1,0,"",0.41,"",1,2,85320650,1,0,535,1,0,0,0,0,0,0,0,0,263.09699999999998,332.83389999999997,0,0,0.41,1,0,263.09699999999998,332.83389999999997,0,0,0.41,1,null,null,null,null,null,null,null,null,null,null,null,null,null,null,null,null,null,null,null,null,null,null,null,null,0,{"$f":"ROUND(Y535*Source!I230*DO535,7)","v":0},{"$f":"ROUND(Y535*Source!I230,7)","v":0},{"$f":"AB535","v":641.70000000000005},{"$f":"AF535","v":641.70000000000005},{"$f":"AJ535","v":1},263.10000000000002,332.83,"","",0,0,0,0,{"$f":"DG535+DH535","v":0},1,"4-100-040",4,"чел.-ч.",1]
[{"$f":"ROW(Source!A230)","v":230},85316656,85320631,77375900,1,1,1,3,"01.3.01.06-0038","ФСБЦ-2022, 01.3.01.06-0038, приказ Минстроя России от 18.05.2022 г. № 378/пр","Смазка защитная электросетевая",1346,null,1009,"кг","кг",1,null,null,null,null,null,0,-1628490559,0.01,null,381.26,0,0,0,238.29,0,0,0,1.6,1,1,1,2,0,0,1,1,0,"",0.01,"",0,2,85320651,1,0,536,1,0,0,0,0,0,0,0,2.3828999999999998,0,0,0,0,0,1,2.3828999999999998,0,0,0,0,0,1,null,null,null,null,null,null,null,null,null,null,null,null,null,null,null,null,null,null,null,null,null,null,null,null,0,0,{"$f":"ROUND(Y536*Source!I230,7)","v":0},{"$f":"AA536","v":381.26},{"$f":"AE536","v":238.29},{"$f":"AI536","v":1.6},2.38,0,"","",{"$f":"ROUND(ROUND(AE536*AI536,2)*CX536,2)","v":0},0,0,0,{"$f":"DF536","v":0},0,"",0,"",0]
[{"$f":"ROW(Source!A230)","v":230},85316656,85320631,77375907,1,1,1,3,"01.3.01.06-0051","ФСБЦ-2022 доп.12, 01.3.01.06-0051, приказ Минстроя России от 07.11.2024 г. № 747/пр","Смазка солидол жировой Ж",1346,null,1009,"кг","кг",1,null,null,null,null,null,0,-479354107,0.03,null,93.65,0,0,0,58.53,0,0,0,1.6,1,1,1,2,0,0,1,1,0,"",0.03,"",0,2,85320652,1,0,537,1,0,0,0,0,0,0,0,1.7559,0,0,0,0,0,1,1.7559,0,0,0,0,0,1,null,null,null,null,null,null,null,null,null,null,null,null,null,null,null,null,null,null,null,null,null,null,null,null,0,0,{"$f":"ROUND(Y537*Source!I230,7)","v":0},93.65,58.53,1.6,1.76,0,"","",{"$f":"ROUND(ROUND(AE537*AI537,2)*CX537,2)","v":0},0,0,0,0,0,"",0,"",0]
[{"$f":"ROW(Source!A230)","v":230},85316656,85320631,77379558,1,1,1,3,"01.7.15.03-0042","ФСБЦ-2022, 01.7.15.03-0042, приказ Минстроя России от 18.05.2022 г. № 378/пр","Болты с гайками и шайбами строительные",1346,null,1009,"кг","кг",1,null,null,null,null,null,0,1181962216,0,null,188.92,0,0,0,174.93,0,0,0,1.08,1,1,1,2,1,0,1,0,0,"",0,"",0,2,85320653,1,0,538,0,0,0,0,0,0,0,0,0,0,0,0,0,0,0,0,0,0,0,0,0,0,null,null,null,null,null,null,null,null,null,null,null,null,null,null,null,null,null,null,null,null,null,null,null,null,0,0,{"$f":"ROUND(Y538*Source!I230,7)","v":0},188.92,174.93,1.08,0,0,"","",{"$f":"ROUND(ROUND(AE538*AI538,2)*CX538,2)","v":0},0,0,0,0,0,"",0,"",0]
[{"$f":"ROW(Source!A230)","v":230},85316656,85320631,77380691,1,1,1,3,"01.7.20.08-0051","ФСБЦ-2022 доп.8, 01.7.20.08-0051, приказ Минстроя России от 14.11.2023 г. № 817/пр","Ветошь хлопчатобумажная цветная",1346,null,1009,"кг","кг",1,null,null,null,null,null,0,-130701290,0.02,null,86.41,0,0,0,56.11,0,0,0,1.54,1,1,1,2,0,0,1,1,0,"",0.02,"",0,2,85320654,1,0,539,1,0,0,0,0,0,0,0,1.1222000000000001,0,0,0,0,0,1,1.1222000000000001,0,0,0,0,0,1,null,null,null,null,null,null,null,null,null,null,null,null,null,null,null,null,null,null,null,null,null,null,null,null,0,0,{"$f":"ROUND(Y539*Source!I230,7)","v":0},86.41,56.11,1.54,1.1200000000000001,0,"","",{"$f":"ROUND(ROUND(AE539*AI539,2)*CX539,2)","v":0},0,0,0,0,0,"",0,"",0]
[{"$f":"ROW(Source!A230)","v":230},85316656,85320631,77308705,114,1,1,3,"07.2.07.13","","Хомуты стальные",1346,null,1009,"кг","кг",1,null,null,null,null,null,0,-1111733769,0,null,0,0,0,0,0,0,0,0,1,1,1,1,-2,1,0,1,0,0,"",0,"",0,2,85320655,1,0,540,0,0,0,0,0,0,0,0,0,0,0,0,0,0,0,0,0,0,0,0,0,0,null,null,null,null,null,null,null,null,null,null,null,null,null,null,null,null,null,null,null,null,null,null,null,null,0,0,{"$f":"ROUND(Y540*Source!I230,7)","v":0},0,0,1,0,0,"","",{"$f":"ROUND(ROUND(AE540,2)*CX540,2)","v":0},0,0,0,0,0,"",0,"",0]
[{"$f":"ROW(Source!A230)","v":230},85316656,85320631,77309038,114,1,1,3,"08.3.04.02","","Сталь стержневая диаметром до 10 мм",1348,null,1009,"т","т",1000,null,null,null,null,null,0,1613753229,0,null,0,0,0,0,0,0,0,0,1,1,1,1,-2,1,0,1,0,0,"",0,"",0,2,85320656,1,0,541,0,0,0,0,0,0,0,0,0,0,0,0,0,0,0,0,0,0,0,0,0,0,null,null,null,null,null,null,null,null,null,null,null,null,null,null,null,null,null,null,null,null,null,null,null,null,0,0,{"$f":"ROUND(Y541*Source!I230,7)","v":0},0,0,1,0,0,"","",{"$f":"ROUND(ROUND(AE541,2)*CX541,2)","v":0},0,0,0,0,0,"",0,"",0]
[{"$f":"ROW(Source!A230)","v":230},85316656,85320631,77397258,1,1,1,3,"14.4.03.03-0102","ФСБЦ-2022 доп.4, 14.4.03.03-0102, приказ Минстроя России от 27.12.2022 г. № 1133/пр","Лак битумный БТ-577",1348,null,1009,"т","т",1000,null,null,null,null,null,0,1215516986,1E-4,null,103227.06,0,0,0,80020.98,0,0,0,1.29,1,1,1,2,0,0,1,1,0,"",1E-4,"",0,2,85320657,1,0,542,1,0,0,0,0,0,0,0,8.0020980000000002,0,0,0,0,0,1,8.0020980000000002,0,0,0,0,0,1,null,null,null,null,null,null,null,null,null,null,null,null,null,null,null,null,null,null,null,null,null,null,null,null,0,0,{"$f":"ROUND(Y542*Source!I230,7)","v":0},103227.06,80020.98,1.29,8,0,"","",{"$f":"ROUND(ROUND(AE542*AI542,2)*CX542,2)","v":0},0,0,0,0,0,"",0,"",0]
[{"$f":"ROW(Source!A230)","v":230},85316656,85320631,77397652,1,1,1,3,"14.5.09.11-0102","ФСБЦ-2022, 14.5.09.11-0102, приказ Минстроя России от 18.05.2022 г. № 378/пр","Уайт-спирит",1346,null,1009,"кг","кг",1,null,null,null,null,null,0,-105256092,0.12,null,86.66,0,0,0,60.6,0,0,0,1.43,1,1,1,2,0,0,1,1,0,"",0.12,"",0,2,85320658,1,0,543,1,0,0,0,0,0,0,0,7.2720000000000002,0,0,0,0,0,1,7.2720000000000002,0,0,0,0,0,1,null,null,null,null,null,null,null,null,null,null,null,null,null,null,null,null,null,null,null,null,null,null,null,null,0,0,{"$f":"ROUND(Y543*Source!I230,7)","v":0},86.66,60.6,1.43,7.27,0,"","",{"$f":"ROUND(ROUND(AE543*AI543,2)*CX543,2)","v":0},0,0,0,0,0,"",0,"",0]
[{"$f":"ROW(Source!A230)","v":230},85316656,85320631,77311290,114,1,1,3,"21.2.01.02","","Провода неизолированные для воздушных линий электропередач",1348,null,1009,"т","т",1000,null,null,null,null,null,0,-2074906300,0,null,0,0,0,0,0,0,0,0,1,1,1,1,-2,1,0,1,0,0,"",0,"",0,2,85320659,1,0,544,0,0,0,0,0,0,0,0,0,0,0,0,0,0,0,0,0,0,0,0,0,0,null,null,null,null,null,null,null,null,null,null,null,null,null,null,null,null,null,null,null,null,null,null,null,null,0,0,{"$f":"ROUND(Y544*Source!I230,7)","v":0},0,0,1,0,0,"","",{"$f":"ROUND(ROUND(AE544,2)*CX544,2)","v":0},0,0,0,0,0,"",0,"",0]
[{"$f":"ROW(Source!A230)","v":230},85316656,85320631,77311321,114,1,1,3,"22.2.01.04","","Изоляторы линейные штыревые фарфоровые",1371,null,1013,"ШТ","ШТ",1,null,null,null,null,null,0,1740798612,0,null,0,0,0,0,0,0,0,0,1,1,1,1,-2,1,0,1,0,0,"",0,"",0,2,85320660,1,0,545,0,0,0,0,0,0,0,0,0,0,0,0,0,0,0,0,0,0,0,0,0,0,null,null,null,null,null,null,null,null,null,null,null,null,null,null,null,null,null,null,null,null,null,null,null,null,0,0,{"$f":"ROUND(Y545*Source!I230,7)","v":0},0,0,1,0,0,"","",0,0,0,0,0,0,"",0,"",0]
[{"$f":"ROW(Source!A230)","v":230},85316656,85320631,77311330,114,1,1,3,"22.2.02.03","","Детали крепления стальные",1346,null,1009,"кг","кг",1,null,null,null,null,null,0,1533393836,0,null,0,0,0,0,0,0,0,0,1,1,1,1,-2,1,0,1,0,0,"",0,"",0,2,85320661,1,0,546,0,0,0,0,0,0,0,0,0,0,0,0,0,0,0,0,0,0,0,0,0,0,null,null,null,null,null,null,null,null,null,null,null,null,null,null,null,null,null,null,null,null,null,null,null,null,0,0,{"$f":"ROUND(Y546*Source!I230,7)","v":0},0,0,1,0,0,"","",0,0,0,0,0,0,"",0,"",0]
[{"$f":"ROW(Source!A244)","v":244},85316715,85320669,83777499,117,1,1,1,"1-100-32","","Средний разряд работы 3,2",1191,null,1013,"чел.-ч.","чел.-ч.",1,null,null,null,null,null,0,1958912953,19.2,null,0,0,0,739.09,0,0,0,739.09,1,1,1,1,-2,0,0,1,1,0,"",19.2,"",1,2,85320680,1,0,547,1,0,0,0,0,0,0,0,0,0,0,14190.528,19.2,0,1,0,0,0,14190.528,19.2,0,1,null,null,null,null,null,null,null,null,null,null,null,null,null,null,null,null,null,null,null,null,null,null,null,{"$f":"ROUND(AT547*Source!I244*AH547*AL547,2)","v":1203.3599999999999},{"$f":"ROUND(Y547*Source!I244,7)","v":1.6281600000000001},0,{"$f":"ROUND(Y547*Source!I244,7)","v":1.6281600000000001},{"$f":"AD547","v":739.09},{"$f":"AH547","v":739.09},{"$f":"AL547","v":1},14190.53,0,"","",0,0,0,1203.3599999999999,{"$f":"DI547","v":1203.3599999999999},1,"",0,"",0]
[{"$f":"ROW(Source!A244)","v":244},85316715,85320669,83777689,117,1,1,1,"4-100-00","","Затраты труда машинистов",1191,null,1013,"чел.-ч.","чел.-ч.",1,null,null,null,null,null,0,-1417349443,0.06,null,0,0,0,0,0,0,0,0,1,1,1,1,-2,0,0,1,1,0,"",0.06,"",2,2,85320681,1,0,548,1,0,0,0,0,0,0,0,0,0,0,0,0,0,0,0,0,0,0,0,0,0,null,null,null,null,null,null,null,null,null,null,null,null,null,null,null,null,null,null,null,null,null,null,null,null,0,0,{"$f":"ROUND(Y548*Source!I244,7)","v":5.0879999999999996E-3},{"$f":"AD548","v":0},{"$f":"AH548","v":0},{"$f":"AL548","v":1},0,0,"","",0,0,0,0,{"$f":"DI548","v":0},0,"",0,"",0]
[{"$f":"ROW(Source!A244)","v":244},85316715,85320669,83784365,1,1,1,2,"91.06.06-048","ФСЭМ-2022, 91.06.06-048, приказ Минстроя России от 18.05.2022 г. № 378/пр","Подъемники одномачтовые, грузоподъемность до 500 кг, высота подъема 45 м",1368,null,1011,"маш.-ч","маш.-ч",1,null,null,null,null,null,0,945201097,0.01,null,0,57.85,720.91,0,0,37.32,720.91,0,1,1.55,1,1,2,0,0,1,1,0,"",0.01,"",1,2,85320682,1,0,549,1,0,0,0,0,0,0,0,0,0.37320000000000003,7.2090999999999994,0,0,0.01,1,0,0.37320000000000003,7.2090999999999994,0,0,0.01,1,null,null,null,null,null,null,null,null,null,null,null,null,null,null,null,null,null,null,null,null,null,null,null,null,0,{"$f":"ROUND(Y549*Source!I244*DO549,7)","v":8.4800000000000001E-4},{"$f":"ROUND(Y549*Source!I244,7)","v":8.4800000000000001E-4},{"$f":"AB549","v":57.85},{"$f":"AF549","v":37.32},{"$f":"AJ549","v":1.55},0.37,7.21,"","",0,{"$f":"ROUND(ROUND(AF549*AJ549,2)*CX549,2)","v":0.05},0.61,0,{"$f":"DG549+DH549","v":0.66},0,"4-100-030",3,"чел.-ч.",1]
[{"$f":"ROW(Source!A244)","v":244},85316715,85320669,83785072,1,1,1,2,"91.14.02-001","ФСЭМ-2022 доп.7, 91.14.02-001, приказ Минстроя России от 02.08.2023 г. № 551/пр","Автомобили бортовые, грузоподъемность до 5 т",1368,null,1011,"маш.-ч","маш.-ч",1,null,null,null,null,null,0,-849950259,0.05,null,0,641.70000000000005,811.79,0,0,641.70000000000005,811.79,0,1,1,1,1,-2,0,0,1,1,0,"",0.05,"",1,2,85320683,1,0,550,1,0,0,0,0,0,0,0,0,32.085000000000001,40.589500000000001,0,0,0.05,1,0,32.085000000000001,40.589500000000001,0,0,0.05,1,null,null,null,null,null,null,null,null,null,null,null,null,null,null,null,null,null,null,null,null,null,null,null,null,0,{"$f":"ROUND(Y550*Source!I244*DO550,7)","v":4.2399999999999998E-3},{"$f":"ROUND(Y550*Source!I244,7)","v":4.2399999999999998E-3},{"$f":"AB550","v":641.70000000000005},{"$f":"AF550","v":641.70000000000005},{"$f":"AJ550","v":1},32.090000000000003,40.590000000000003,"","",0,{"$f":"ROUND(ROUND(AF550,2)*CX550,2)","v":2.72},3.44,0,{"$f":"DG550+DH550","v":6.16},1,"4-100-040",4,"чел.-ч.",1]
[{"$f":"ROW(Source!A244)","v":244},85316715,85320669,83852432,1,1,1,3,"01.7.10.17-0141","ФСБЦ-2022, 01.7.10.17-0141, приказ Минстроя России от 18.05.2022 г. № 378/пр","Пемза",1346,null,1009,"кг","кг",1,null,null,null,null,null,0,-2122839911,0.24,null,3310.06,0,0,0,2507.62,0,0,0,1.32,1,1,1,2,0,0,1,1,0,"",0.24,"",0,2,85320684,1,0,551,1,0,0,0,0,0,0,0,601.8288,0,0,0,0,0,1,601.8288,0,0,0,0,0,1,null,null,null,null,null,null,null,null,null,null,null,null,null,null,null,null,null,null,null,null,null,null,null,null,0,0,{"$f":"ROUND(Y551*Source!I244,7)","v":2.0351999999999999E-2},{"$f":"AA551","v":3310.06},{"$f":"AE551","v":2507.62},{"$f":"AI551","v":1.32},601.83000000000004,0,"","",{"$f":"ROUND(ROUND(AE551*AI551,2)*CX551,2)","v":67.37},0,0,0,{"$f":"DF551","v":67.37},0,"",0,"",0]
[{"$f":"ROW(Source!A244)","v":244},85316715,85320669,83854120,1,1,1,3,"01.7.17.11-0011","ФСБЦ-2022, 01.7.17.11-0011, приказ Минстроя России от 18.05.2022 г. № 378/пр","Шкурка шлифовальная двухслойная с зернистостью 40-25",1327,null,1005,"м2","м2",1,null,null,null,null,null,0,10451617,0.8,null,701.5,0,0,0,531.44000000000005,0,0,0,1.32,1,1,1,2,0,0,1,1,0,"",0.8,"",0,2,85320685,1,0,552,1,0,0,0,0,0,0,0,425.15200000000004,0,0,0,0,0,1,425.15200000000004,0,0,0,0,0,1,null,null,null,null,null,null,null,null,null,null,null,null,null,null,null,null,null,null,null,null,null,null,null,null,0,0,{"$f":"ROUND(Y552*Source!I244,7)","v":6.7839999999999998E-2},701.5,531.44000000000005,1.32,425.15,0,"","",{"$f":"ROUND(ROUND(AE552*AI552,2)*CX552,2)","v":47.59},0,0,0,47.59,0,"",0,"",0]
[{"$f":"ROW(Source!A244)","v":244},85316715,85320669,83854484,1,1,1,3,"01.7.20.08-0051","ФСБЦ-2022 доп.8, 01.7.20.08-0051, приказ Минстроя России от 14.11.2023 г. № 817/пр","Ветошь хлопчатобумажная цветная",1346,null,1009,"кг","кг",1,null,null,null,null,null,0,-373327139,0.21,null,86.41,0,0,0,56.11,0,0,0,1.54,1,1,1,2,0,0,1,1,0,"",0.21,"",0,2,85320686,1,0,553,1,0,0,0,0,0,0,0,11.783099999999999,0,0,0,0,0,1,11.783099999999999,0,0,0,0,0,1,null,null,null,null,null,null,null,null,null,null,null,null,null,null,null,null,null,null,null,null,null,null,null,null,0,0,{"$f":"ROUND(Y553*Source!I244,7)","v":1.7808000000000001E-2},86.41,56.11,1.54,11.78,0,"","",{"$f":"ROUND(ROUND(AE553*AI553,2)*CX553,2)","v":1.54},0,0,0,1.54,0,"",0,"",0]
[{"$f":"ROW(Source!A244)","v":244},85316715,85320669,83781429,117,1,1,3,"14.4.02.04","","Краски для внутренних работ масляные готовые к применению",1346,null,1009,"кг","кг",1,null,null,null,null,null,0,-438754628,26.7,null,0,0,0,0,0,0,0,0,1,1,1,1,0,0,0,1,0,0,"",26.7,"",0,2,85320687,1,0,554,0,0,0,0,0,0,0,0,0,0,0,0,0,0,0,0,0,0,0,0,0,0,null,null,null,null,null,null,null,null,null,null,null,null,null,null,null,null,null,null,null,null,null,null,null,null,0,0,{"$f":"ROUND(Y554*Source!I244,7)","v":2.26416},0,0,1,0,0,"","",{"$f":"ROUND(ROUND(AE554,2)*CX554,2)","v":0},0,0,0,0,0,"",0,"",0]
[{"$f":"ROW(Source!A244)","v":244},85316715,85320669,83781533,117,1,1,3,"14.5.05.01","","Олифы комбинированные",1348,null,1009,"т","т",1000,null,null,null,null,null,0,-827349247,1.03E-2,null,0,0,0,0,0,0,0,0,1,1,1,1,0,0,0,1,0,0,"",1.03E-2,"",0,2,85320688,1,0,555,0,0,0,0,0,0,0,0,0,0,0,0,0,0,0,0,0,0,0,0,0,0,null,null,null,null,null,null,null,null,null,null,null,null,null,null,null,null,null,null,null,null,null,null,null,null,0,0,{"$f":"ROUND(Y555*Source!I244,7)","v":8.7339999999999998E-4},0,0,1,0,0,"","",{"$f":"ROUND(ROUND(AE555,2)*CX555,2)","v":0},0,0,0,0,0,"",0,"",0]
[{"$f":"ROW(Source!A244)","v":244},85316715,85320669,83870953,1,1,1,3,"14.5.11.01-0003","ФСБЦ-2022, 14.5.11.01-0003, приказ Минстроя России от 18.05.2022 г. № 378/пр","Шпатлевка масляно-клеевая",1348,null,1009,"т","т",1000,null,null,null,null,null,0,-1010729546,5.0000000000000001E-3,null,36493.18,0,0,0,24995.33,0,0,0,1.46,1,1,1,2,0,0,1,1,0,"",5.0000000000000001E-3,"",0,2,85320689,1,0,556,1,0,0,0,0,0,0,0,124.97665000000001,0,0,0,0,0,1,124.97665000000001,0,0,0,0,0,1,null,null,null,null,null,null,null,null,null,null,null,null,null,null,null,null,null,null,null,null,null,null,null,null,0,0,{"$f":"ROUND(Y556*Source!I244,7)","v":4.2400000000000001E-4},36493.18,24995.33,1.46,124.98,0,"","",{"$f":"ROUND(ROUND(AE556*AI556,2)*CX556,2)","v":15.47},0,0,0,15.47,0,"",0,"",0]
[{"$f":"ROW(Source!A245)","v":245},85316656,85320669,83777499,117,1,1,1,"1-100-32","","Средний разряд работы 3,2",1191,null,1013,"чел.-ч.","чел.-ч.",1,null,null,null,null,null,0,1958912953,19.2,null,0,0,0,739.09,0,0,0,739.09,1,1,1,1,-2,0,0,1,1,0,"",19.2,"",1,2,85320680,1,0,557,1,0,0,0,0,0,0,0,0,0,0,14190.528,19.2,0,1,0,0,0,14190.528,19.2,0,1,null,null,null,null,null,null,null,null,null,null,null,null,null,null,null,null,null,null,null,null,null,null,null,{"$f":"ROUND(AT557*Source!I245*AH557*AL557,2)","v":1203.3599999999999},{"$f":"ROUND(Y557*Source!I245,7)","v":1.6281600000000001},0,{"$f":"ROUND(Y557*Source!I245,7)","v":1.6281600000000001},{"$f":"AD557","v":739.09},{"$f":"AH557","v":739.09},{"$f":"AL557","v":1},14190.53,0,"","",{"$f":"ROUND(ROUND(AE557,2)*CX557,2)","v":0},0,0,1203.3599999999999,{"$f":"DI557","v":1203.3599999999999},1,"",0,"",0]
[{"$f":"ROW(Source!A245)","v":245},85316656,85320669,83777689,117,1,1,1,"4-100-00","","Затраты труда машинистов",1191,null,1013,"чел.-ч.","чел.-ч.",1,null,null,null,null,null,0,-1417349443,0.06,null,0,0,0,0,0,0,0,0,1,1,1,1,-2,0,0,1,1,0,"",0.06,"",2,2,85320681,1,0,558,1,0,0,0,0,0,0,0,0,0,0,0,0,0,0,0,0,0,0,0,0,0,null,null,null,null,null,null,null,null,null,null,null,null,null,null,null,null,null,null,null,null,null,null,null,null,0,0,{"$f":"ROUND(Y558*Source!I245,7)","v":5.0879999999999996E-3},{"$f":"AD558","v":0},{"$f":"AH558","v":0},{"$f":"AL558","v":1},0,0,"","",{"$f":"ROUND(ROUND(AE558,2)*CX558,2)","v":0},0,0,0,{"$f":"DI558","v":0},0,"",0,"",0]
[{"$f":"ROW(Source!A245)","v":245},85316656,85320669,83784365,1,1,1,2,"91.06.06-048","ФСЭМ-2022, 91.06.06-048, приказ Минстроя России от 18.05.2022 г. № 378/пр","Подъемники одномачтовые, грузоподъемность до 500 кг, высота подъема 45 м",1368,null,1011,"маш.-ч","маш.-ч",1,null,null,null,null,null,0,945201097,0.01,null,0,57.85,720.91,0,0,37.32,720.91,0,1,1.55,1,1,2,0,0,1,1,0,"",0.01,"",1,2,85320682,1,0,559,1,0,0,0,0,0,0,0,0,0.37320000000000003,7.2090999999999994,0,0,0.01,1,0,0.37320000000000003,7.2090999999999994,0,0,0.01,1,null,null,null,null,null,null,null,null,null,null,null,null,null,null,null,null,null,null,null,null,null,null,null,null,0,{"$f":"ROUND(Y559*Source!I245*DO559,7)","v":8.4800000000000001E-4},{"$f":"ROUND(Y559*Source!I245,7)","v":8.4800000000000001E-4},{"$f":"AB559","v":57.85},{"$f":"AF559","v":37.32},{"$f":"AJ559","v":1.55},0.37,7.21,"","",{"$f":"ROUND(ROUND(AE559,2)*CX559,2)","v":0},{"$f":"ROUND(ROUND(AF559*AJ559,2)*CX559,2)","v":0.05},0.61,0,{"$f":"DG559+DH559","v":0.66},0,"4-100-030",3,"чел.-ч.",1]
[{"$f":"ROW(Source!A245)","v":245},85316656,85320669,83785072,1,1,1,2,"91.14.02-001","ФСЭМ-2022 доп.7, 91.14.02-001, приказ Минстроя России от 02.08.2023 г. № 551/пр","Автомобили бортовые, грузоподъемность до 5 т",1368,null,1011,"маш.-ч","маш.-ч",1,null,null,null,null,null,0,-849950259,0.05,null,0,641.70000000000005,811.79,0,0,641.70000000000005,811.79,0,1,1,1,1,-2,0,0,1,1,0,"",0.05,"",1,2,85320683,1,0,560,1,0,0,0,0,0,0,0,0,32.085000000000001,40.589500000000001,0,0,0.05,1,0,32.085000000000001,40.589500000000001,0,0,0.05,1,null,null,null,null,null,null,null,null,null,null,null,null,null,null,null,null,null,null,null,null,null,null,null,null,0,{"$f":"ROUND(Y560*Source!I245*DO560,7)","v":4.2399999999999998E-3},{"$f":"ROUND(Y560*Source!I245,7)","v":4.2399999999999998E-3},{"$f":"AB560","v":641.70000000000005},{"$f":"AF560","v":641.70000000000005},{"$f":"AJ560","v":1},32.090000000000003,40.590000000000003,"","",{"$f":"ROUND(ROUND(AE560,2)*CX560,2)","v":0},{"$f":"ROUND(ROUND(AF560,2)*CX560,2)","v":2.72},3.44,0,{"$f":"DG560+DH560","v":6.16},1,"4-100-040",4,"чел.-ч.",1]
[{"$f":"ROW(Source!A245)","v":245},85316656,85320669,83852432,1,1,1,3,"01.7.10.17-0141","ФСБЦ-2022, 01.7.10.17-0141, приказ Минстроя России от 18.05.2022 г. № 378/пр","Пемза",1346,null,1009,"кг","кг",1,null,null,null,null,null,0,-2122839911,0.24,null,3310.06,0,0,0,2507.62,0,0,0,1.32,1,1,1,2,0,0,1,1,0,"",0.24,"",0,2,85320684,1,0,561,1,0,0,0,0,0,0,0,601.8288,0,0,0,0,0,1,601.8288,0,0,0,0,0,1,null,null,null,null,null,null,null,null,null,null,null,null,null,null,null,null,null,null,null,null,null,null,null,null,0,0,{"$f":"ROUND(Y561*Source!I245,7)","v":2.0351999999999999E-2},{"$f":"AA561","v":3310.06},{"$f":"AE561","v":2507.62},{"$f":"AI561","v":1.32},601.83000000000004,0,"","",{"$f":"ROUND(ROUND(AE561*AI561,2)*CX561,2)","v":67.37},0,0,0,{"$f":"DF561","v":67.37},0,"",0,"",0]
[{"$f":"ROW(Source!A245)","v":245},85316656,85320669,83854120,1,1,1,3,"01.7.17.11-0011","ФСБЦ-2022, 01.7.17.11-0011, приказ Минстроя России от 18.05.2022 г. № 378/пр","Шкурка шлифовальная двухслойная с зернистостью 40-25",1327,null,1005,"м2","м2",1,null,null,null,null,null,0,10451617,0.8,null,701.5,0,0,0,531.44000000000005,0,0,0,1.32,1,1,1,2,0,0,1,1,0,"",0.8,"",0,2,85320685,1,0,562,1,0,0,0,0,0,0,0,425.15200000000004,0,0,0,0,0,1,425.15200000000004,0,0,0,0,0,1,null,null,null,null,null,null,null,null,null,null,null,null,null,null,null,null,null,null,null,null,null,null,null,null,0,0,{"$f":"ROUND(Y562*Source!I245,7)","v":6.7839999999999998E-2},701.5,531.44000000000005,1.32,425.15,0,"","",{"$f":"ROUND(ROUND(AE562*AI562,2)*CX562,2)","v":47.59},0,0,0,47.59,0,"",0,"",0]
[{"$f":"ROW(Source!A245)","v":245},85316656,85320669,83854484,1,1,1,3,"01.7.20.08-0051","ФСБЦ-2022 доп.8, 01.7.20.08-0051, приказ Минстроя России от 14.11.2023 г. № 817/пр","Ветошь хлопчатобумажная цветная",1346,null,1009,"кг","кг",1,null,null,null,null,null,0,-373327139,0.21,null,86.41,0,0,0,56.11,0,0,0,1.54,1,1,1,2,0,0,1,1,0,"",0.21,"",0,2,85320686,1,0,563,1,0,0,0,0,0,0,0,11.783099999999999,0,0,0,0,0,1,11.783099999999999,0,0,0,0,0,1,null,null,null,null,null,null,null,null,null,null,null,null,null,null,null,null,null,null,null,null,null,null,null,null,0,0,{"$f":"ROUND(Y563*Source!I245,7)","v":1.7808000000000001E-2},86.41,56.11,1.54,11.78,0,"","",{"$f":"ROUND(ROUND(AE563*AI563,2)*CX563,2)","v":1.54},0,0,0,1.54,0,"",0,"",0]
[{"$f":"ROW(Source!A245)","v":245},85316656,85320669,83781429,117,1,1,3,"14.4.02.04","","Краски для внутренних работ масляные готовые к применению",1346,null,1009,"кг","кг",1,null,null,null,null,null,0,-438754628,26.7,null,0,0,0,0,0,0,0,0,1,1,1,1,0,0,0,1,0,0,"",26.7,"",0,2,85320687,1,0,564,0,0,0,0,0,0,0,0,0,0,0,0,0,0,0,0,0,0,0,0,0,0,null,null,null,null,null,null,null,null,null,null,null,null,null,null,null,null,null,null,null,null,null,null,null,null,0,0,{"$f":"ROUND(Y564*Source!I245,7)","v":2.26416},0,0,1,0,0,"","",{"$f":"ROUND(ROUND(AE564,2)*CX564,2)","v":0},0,0,0,0,0,"",0,"",0]
[{"$f":"ROW(Source!A245)","v":245},85316656,85320669,83781533,117,1,1,3,"14.5.05.01","","Олифы комбинированные",1348,null,1009,"т","т",1000,null,null,null,null,null,0,-827349247,1.03E-2,null,0,0,0,0,0,0,0,0,1,1,1,1,0,0,0,1,0,0,"",1.03E-2,"",0,2,85320688,1,0,565,0,0,0,0,0,0,0,0,0,0,0,0,0,0,0,0,0,0,0,0,0,0,null,null,null,null,null,null,null,null,null,null,null,null,null,null,null,null,null,null,null,null,null,null,null,null,0,0,{"$f":"ROUND(Y565*Source!I245,7)","v":8.7339999999999998E-4},0,0,1,0,0,"","",{"$f":"ROUND(ROUND(AE565,2)*CX565,2)","v":0},0,0,0,0,0,"",0,"",0]
[{"$f":"ROW(Source!A245)","v":245},85316656,85320669,83870953,1,1,1,3,"14.5.11.01-0003","ФСБЦ-2022, 14.5.11.01-0003, приказ Минстроя России от 18.05.2022 г. № 378/пр","Шпатлевка масляно-клеевая",1348,null,1009,"т","т",1000,null,null,null,null,null,0,-1010729546,5.0000000000000001E-3,null,36493.18,0,0,0,24995.33,0,0,0,1.46,1,1,1,2,0,0,1,1,0,"",5.0000000000000001E-3,"",0,2,85320689,1,0,566,1,0,0,0,0,0,0,0,124.97665000000001,0,0,0,0,0,1,124.97665000000001,0,0,0,0,0,1,null,null,null,null,null,null,null,null,null,null,null,null,null,null,null,null,null,null,null,null,null,null,null,null,0,0,{"$f":"ROUND(Y566*Source!I245,7)","v":4.2400000000000001E-4},36493.18,24995.33,1.46,124.98,0,"","",{"$f":"ROUND(ROUND(AE566*AI566,2)*CX566,2)","v":15.47},0,0,0,15.47,0,"",0,"",0]
[{"$f":"ROW(Source!A286)","v":286},85316715,85320693,83777455,117,1,1,1,"1-100-20","","Средний разряд работы 2,0",1191,null,1013,"чел.-ч.","чел.-ч.",1,null,null,null,null,null,0,370475345,154,null,0,0,0,660.33,0,0,0,660.33,1,1,1,1,-2,0,0,1,1,0,"",154,"",1,2,85320695,1,0,567,1,0,0,0,0,0,0,0,0,0,0,101690.82,154,0,1,0,0,0,101690.82,154,0,1,null,null,null,null,null,null,null,null,null,null,null,null,null,null,null,null,null,null,null,null,null,null,null,{"$f":"ROUND(AT567*Source!I286*AH567*AL567,2)","v":0},{"$f":"ROUND(Y567*Source!I286,7)","v":0},0,{"$f":"ROUND(Y567*Source!I286,7)","v":0},{"$f":"AD567","v":660.33},{"$f":"AH567","v":660.33},{"$f":"AL567","v":1},101690.82,0,"","",{"$f":"ROUND(ROUND(AE567,2)*CX567,2)","v":0},0,0,0,{"$f":"DI567","v":0},1,"",0,"",0]
[{"$f":"ROW(Source!A287)","v":287},85316656,85320693,83777455,117,1,1,1,"1-100-20","","Средний разряд работы 2,0",1191,null,1013,"чел.-ч.","чел.-ч.",1,null,null,null,null,null,0,370475345,154,null,0,0,0,660.33,0,0,0,660.33,1,1,1,1,-2,0,0,1,1,0,"",154,"",1,2,85320695,1,0,568,1,0,0,0,0,0,0,0,0,0,0,101690.82,154,0,1,0,0,0,101690.82,154,0,1,null,null,null,null,null,null,null,null,null,null,null,null,null,null,null,null,null,null,null,null,null,null,null,{"$f":"ROUND(AT568*Source!I287*AH568*AL568,2)","v":0},{"$f":"ROUND(Y568*Source!I287,7)","v":0},0,{"$f":"ROUND(Y568*Source!I287,7)","v":0},660.33,660.33,1,101690.82,0,"","",0,0,0,0,0,1,"",0,"",0]
[{"$f":"ROW(Source!A288)","v":288},85316715,85320696,83777445,117,1,1,1,"1-100-15","","Средний разряд работы 1,5",1191,null,1013,"чел.-ч.","чел.-ч.",1,null,null,null,null,null,0,-267883188,88.5,null,0,0,0,633.07000000000005,0,0,0,633.07000000000005,1,1,1,1,-2,0,0,1,1,0,"",88.5,"",1,2,85320698,1,0,569,1,0,0,0,0,0,0,0,0,0,0,56026.695000000007,88.5,0,1,0,0,0,56026.695000000007,88.5,0,1,null,null,null,null,null,null,null,null,null,null,null,null,null,null,null,null,null,null,null,null,null,null,null,{"$f":"ROUND(AT569*Source!I288*AH569*AL569,2)","v":0},{"$f":"ROUND(Y569*Source!I288,7)","v":0},0,{"$f":"ROUND(Y569*Source!I288,7)","v":0},633.07000000000005,633.07000000000005,1,56026.7,0,"","",0,0,0,0,0,1,"",0,"",0]
[{"$f":"ROW(Source!A289)","v":289},85316656,85320696,83777445,117,1,1,1,"1-100-15","","Средний разряд работы 1,5",1191,null,1013,"чел.-ч.","чел.-ч.",1,null,null,null,null,null,0,-267883188,88.5,null,0,0,0,633.07000000000005,0,0,0,633.07000000000005,1,1,1,1,-2,0,0,1,1,0,"",88.5,"",1,2,85320698,1,0,570,1,0,0,0,0,0,0,0,0,0,0,56026.695000000007,88.5,0,1,0,0,0,56026.695000000007,88.5,0,1,null,null,null,null,null,null,null,null,null,null,null,null,null,null,null,null,null,null,null,null,null,null,null,{"$f":"ROUND(AT570*Source!I289*AH570*AL570,2)","v":0},{"$f":"ROUND(Y570*Source!I289,7)","v":0},0,{"$f":"ROUND(Y570*Source!I289,7)","v":0},633.07000000000005,633.07000000000005,1,56026.7,0,"","",0,0,0,0,0,1,"",0,"",0]
[{"$f":"ROW(Source!A290)","v":290},85316715,85320699,83777513,117,1,1,1,"1-100-38","","Средний разряд работы 3,8",1191,null,1013,"чел.-ч.","чел.-ч.",1,null,null,null,null,null,0,44848675,9.27,null,0,0,0,793.61,0,0,0,793.61,1,1,1,1,-2,0,0,1,1,0,"",9.27,"",1,2,85320708,1,0,571,1,0,0,0,0,0,0,0,0,0,0,7356.7646999999997,9.27,0,1,0,0,0,7356.7646999999997,9.27,0,1,null,null,null,null,null,null,null,null,null,null,null,null,null,null,null,null,null,null,null,null,null,null,null,{"$f":"ROUND(AT571*Source!I290*AH571*AL571,2)","v":0},{"$f":"ROUND(Y571*Source!I290,7)","v":0},0,{"$f":"ROUND(Y571*Source!I290,7)","v":0},793.61,793.61,1,7356.76,0,"","",0,0,0,0,0,1,"",0,"",0]
[{"$f":"ROW(Source!A290)","v":290},85316715,85320699,83777689,117,1,1,1,"4-100-00","","Затраты труда машинистов",1191,null,1013,"чел.-ч.","чел.-ч.",1,null,null,null,null,null,0,-1417349443,0.34,null,0,0,0,0,0,0,0,0,1,1,1,1,-2,0,0,1,1,0,"",0.34,"",2,2,85320709,1,0,572,1,0,0,0,0,0,0,0,0,0,0,0,0,0,0,0,0,0,0,0,0,0,null,null,null,null,null,null,null,null,null,null,null,null,null,null,null,null,null,null,null,null,null,null,null,null,0,0,{"$f":"ROUND(Y572*Source!I290,7)","v":0},0,0,1,0,0,"","",0,0,0,0,0,0,"",0,"",0]
[{"$f":"ROW(Source!A290)","v":290},85316715,85320699,83784178,1,1,1,2,"91.05.05-015","ФСЭМ-2022, 91.05.05-015, приказ Минстроя России от 18.05.2022 г. № 378/пр","Краны на автомобильном ходу, грузоподъемность 16 т",1368,null,1011,"маш.-ч","маш.-ч",1,null,null,null,null,null,0,639918019,0.17,null,0,1626.29,1090.46,0,0,1626.29,1090.46,0,1,1,1,1,-2,0,0,1,1,0,"",0.17,"",1,2,85320710,1,0,573,1,0,0,0,0,0,0,0,0,276.46930000000003,185.37820000000002,0,0,0.17,1,0,276.46930000000003,185.37820000000002,0,0,0.17,1,null,null,null,null,null,null,null,null,null,null,null,null,null,null,null,null,null,null,null,null,null,null,null,null,0,{"$f":"ROUND(Y573*Source!I290*DO573,7)","v":0},{"$f":"ROUND(Y573*Source!I290,7)","v":0},{"$f":"AB573","v":1626.29},{"$f":"AF573","v":1626.29},{"$f":"AJ573","v":1},276.47000000000003,185.38,"","",0,0,0,0,{"$f":"DG573+DH573","v":0},1,"4-100-060",6,"чел.-ч.",1]
[{"$f":"ROW(Source!A290)","v":290},85316715,85320699,83785072,1,1,1,2,"91.14.02-001","ФСЭМ-2022 доп.7, 91.14.02-001, приказ Минстроя России от 02.08.2023 г. № 551/пр","Автомобили бортовые, грузоподъемность до 5 т",1368,null,1011,"маш.-ч","маш.-ч",1,null,null,null,null,null,0,-849950259,0.17,null,0,641.70000000000005,811.79,0,0,641.70000000000005,811.79,0,1,1,1,1,-2,0,0,1,1,0,"",0.17,"",1,2,85320711,1,0,574,1,0,0,0,0,0,0,0,0,109.08900000000001,138.0043,0,0,0.17,1,0,109.08900000000001,138.0043,0,0,0.17,1,null,null,null,null,null,null,null,null,null,null,null,null,null,null,null,null,null,null,null,null,null,null,null,null,0,{"$f":"ROUND(Y574*Source!I290*DO574,7)","v":0},{"$f":"ROUND(Y574*Source!I290,7)","v":0},{"$f":"AB574","v":641.70000000000005},{"$f":"AF574","v":641.70000000000005},{"$f":"AJ574","v":1},109.09,138,"","",0,0,0,0,{"$f":"DG574+DH574","v":0},1,"4-100-040",4,"чел.-ч.",1]
[{"$f":"ROW(Source!A290)","v":290},85316715,85320699,83785268,1,1,1,2,"91.17.04-233","ФСЭМ-2022, 91.17.04-233, приказ Минстроя России от 18.05.2022 г. № 378/пр","Аппараты сварочные для ручной дуговой сварки, сварочный ток до 350 А",1368,null,1011,"маш.-ч","маш.-ч",1,null,null,null,null,null,0,303316554,1.51,null,0,34.61,0,0,0,34.61,0,0,1,1,1,1,-2,0,0,1,1,0,"",1.51,"",1,2,85320712,1,0,575,1,0,0,0,0,0,0,0,0,52.261099999999999,0,0,0,0,1,0,52.261099999999999,0,0,0,0,1,null,null,null,null,null,null,null,null,null,null,null,null,null,null,null,null,null,null,null,null,null,null,null,null,0,{"$f":"ROUND(Y575*Source!I290*DO575,7)","v":0},{"$f":"ROUND(Y575*Source!I290,7)","v":0},{"$f":"AB575","v":34.61},{"$f":"AF575","v":34.61},{"$f":"AJ575","v":1},52.26,0,"","",0,0,0,0,{"$f":"DG575+DH575","v":0},1,"",0,"",0]
[{"$f":"ROW(Source!A290)","v":290},85316715,85320699,83852582,1,1,1,3,"01.7.11.07-0227","ФСБЦ-2022, 01.7.11.07-0227, приказ Минстроя России от 18.05.2022 г. № 378/пр","Электроды сварочные для сварки низколегированных и углеродистых сталей УОНИ 13/45, Э42А, диаметр 4-5 мм",1346,null,1009,"кг","кг",1,null,null,null,null,null,0,-163259778,0.65,null,121.39,0,0,0,155.63,0,0,0,0.78,1,1,1,2,0,0,1,1,0,"",0.65,"",0,2,85320713,1,0,576,1,0,0,0,0,0,0,0,101.15949999999999,0,0,0,0,0,1,101.15949999999999,0,0,0,0,0,1,null,null,null,null,null,null,null,null,null,null,null,null,null,null,null,null,null,null,null,null,null,null,null,null,0,0,{"$f":"ROUND(Y576*Source!I290,7)","v":0},{"$f":"AA576","v":121.39},{"$f":"AE576","v":155.63},{"$f":"AI576","v":0.78},101.16,0,"","",{"$f":"ROUND(ROUND(AE576*AI576,2)*CX576,2)","v":0},0,0,0,{"$f":"DF576","v":0},0,"",0,"",0]
[{"$f":"ROW(Source!A290)","v":290},85316715,85320699,83870453,1,1,1,3,"14.4.01.09-0427","ФСБЦ-2022 доп.8, 14.4.01.09-0427, приказ Минстроя России от 14.11.2023 г. № 817/пр","Грунтовка эпоксидная антикоррозионная с содержанием цинка для защиты металлических поверхностей, расход 0,20-0,39 кг/м2",1346,null,1009,"кг","кг",1,null,null,null,null,null,0,72056734,{"$f":"AT577","v":2},null,1139.45,0,0,0,911.56,0,0,0,1.25,1,1,1,2,0,0,1,1,0,"",2,"",0,2,85320714,1,0,577,1,0,0,0,0,0,0,0,1823.12,0,0,0,0,0,1,1823.12,0,0,0,0,0,1,null,null,null,null,null,null,null,null,null,null,null,null,null,null,null,null,null,null,null,null,null,null,null,null,0,0,{"$f":"ROUND(Y577*Source!I290,7)","v":0},{"$f":"AA577","v":1139.45},{"$f":"AE577","v":911.56},{"$f":"AI577","v":1.25},{"$f":"ROUND(ROUND(AT577*CZ577,2),2)","v":1823.12},{"$f":"ROUND(ROUND(AT577*AG577,2),2)","v":0},"","",{"$f":"ROUND(ROUND(AE577*AI577,2)*CX577,2)","v":0},0,{"$f":"ROUND(ROUND(AG577,2)*CX577,2)","v":0},{"$f":"ROUND(ROUND(AH577,2)*CX577,2)","v":0},{"$f":"DF577","v":0},0,"",0,"",0]
[{"$f":"ROW(Source!A290)","v":290},85316715,85320699,83783523,117,1,1,3,"421/пр_2020_п.75_пп.а","","Сметная стоимость вспомогательных ненормируемых материальных ресурсов, не учтенная в сметной норме, 2%",3277935,null,1013,"%","%",1,null,null,null,null,null,0,274903907,2,null,0,0,0,0,0,0,0,0,1,1,1,1,0,0,0,0,0,0,"",2,"",0,2,85320715,1,0,578,0,0,0,0,0,0,0,0,0,0,0,0,0,0,0,0,0,0,0,0,0,0,null,null,null,null,null,null,null,null,null,null,null,null,null,null,null,null,null,null,null,null,null,null,null,null,0,0,{"$f":"ROUND(Y578*Source!I290,7)","v":0},{"$f":"AA578","v":0},{"$f":"AE578","v":0},{"$f":"AI578","v":1},0,0,"","",{"$f":"ROUND(ROUND(AE578,2)*CX578,2)","v":0},0,0,0,{"$f":"DF578","v":0},0,"",0,"",0]
[{"$f":"ROW(Source!A291)","v":291},85316656,85320699,83777513,117,1,1,1,"1-100-38","","Средний разряд работы 3,8",1191,null,1013,"чел.-ч.","чел.-ч.",1,null,null,null,null,null,0,44848675,9.27,null,0,0,0,793.61,0,0,0,793.61,1,1,1,1,-2,0,0,1,1,0,"",9.27,"",1,2,85320708,1,0,579,1,0,0,0,0,0,0,0,0,0,0,7356.7646999999997,9.27,0,1,0,0,0,7356.7646999999997,9.27,0,1,null,null,null,null,null,null,null,null,null,null,null,null,null,null,null,null,null,null,null,null,null,null,null,{"$f":"ROUND(AT579*Source!I291*AH579*AL579,2)","v":0},{"$f":"ROUND(Y579*Source!I291,7)","v":0},0,{"$f":"ROUND(Y579*Source!I291,7)","v":0},{"$f":"AD579","v":793.61},{"$f":"AH579","v":793.61},{"$f":"AL579","v":1},7356.76,0,"","",0,0,0,0,{"$f":"DI579","v":0},1,"",0,"",0]
[{"$f":"ROW(Source!A291)","v":291},85316656,85320699,83777689,117,1,1,1,"4-100-00","","Затраты труда машинистов",1191,null,1013,"чел.-ч.","чел.-ч.",1,null,null,null,null,null,0,-1417349443,0.34,null,0,0,0,0,0,0,0,0,1,1,1,1,-2,0,0,1,1,0,"",0.34,"",2,2,85320709,1,0,580,1,0,0,0,0,0,0,0,0,0,0,0,0,0,0,0,0,0,0,0,0,0,null,null,null,null,null,null,null,null,null,null,null,null,null,null,null,null,null,null,null,null,null,null,null,null,0,0,{"$f":"ROUND(Y580*Source!I291,7)","v":0},{"$f":"AD580","v":0},{"$f":"AH580","v":0},{"$f":"AL580","v":1},0,0,"","",0,0,0,0,{"$f":"DI580","v":0},0,"",0,"",0]
[{"$f":"ROW(Source!A291)","v":291},85316656,85320699,83784178,1,1,1,2,"91.05.05-015","ФСЭМ-2022, 91.05.05-015, приказ Минстроя России от 18.05.2022 г. № 378/пр","Краны на автомобильном ходу, грузоподъемность 16 т",1368,null,1011,"маш.-ч","маш.-ч",1,null,null,null,null,null,0,639918019,0.17,null,0,1626.29,1090.46,0,0,1626.29,1090.46,0,1,1,1,1,-2,0,0,1,1,0,"",0.17,"",1,2,85320710,1,0,581,1,0,0,0,0,0,0,0,0,276.46930000000003,185.37820000000002,0,0,0.17,1,0,276.46930000000003,185.37820000000002,0,0,0.17,1,null,null,null,null,null,null,null,null,null,null,null,null,null,null,null,null,null,null,null,null,null,null,null,null,0,{"$f":"ROUND(Y581*Source!I291*DO581,7)","v":0},{"$f":"ROUND(Y581*Source!I291,7)","v":0},{"$f":"AB581","v":1626.29},{"$f":"AF581","v":1626.29},{"$f":"AJ581","v":1},276.47000000000003,185.38,"","",0,0,0,0,{"$f":"DG581+DH581","v":0},1,"4-100-060",6,"чел.-ч.",1]
[{"$f":"ROW(Source!A291)","v":291},85316656,85320699,83785072,1,1,1,2,"91.14.02-001","ФСЭМ-2022 доп.7, 91.14.02-001, приказ Минстроя России от 02.08.2023 г. № 551/пр","Автомобили бортовые, грузоподъемность до 5 т",1368,null,1011,"маш.-ч","маш.-ч",1,null,null,null,null,null,0,-849950259,0.17,null,0,641.70000000000005,811.79,0,0,641.70000000000005,811.79,0,1,1,1,1,-2,0,0,1,1,0,"",0.17,"",1,2,85320711,1,0,582,1,0,0,0,0,0,0,0,0,109.08900000000001,138.0043,0,0,0.17,1,0,109.08900000000001,138.0043,0,0,0.17,1,null,null,null,null,null,null,null,null,null,null,null,null,null,null,null,null,null,null,null,null,null,null,null,null,0,{"$f":"ROUND(Y582*Source!I291*DO582,7)","v":0},{"$f":"ROUND(Y582*Source!I291,7)","v":0},{"$f":"AB582","v":641.70000000000005},{"$f":"AF582","v":641.70000000000005},{"$f":"AJ582","v":1},109.09,138,"","",0,0,0,0,{"$f":"DG582+DH582","v":0},1,"4-100-040",4,"чел.-ч.",1]
[{"$f":"ROW(Source!A291)","v":291},85316656,85320699,83785268,1,1,1,2,"91.17.04-233","ФСЭМ-2022, 91.17.04-233, приказ Минстроя России от 18.05.2022 г. № 378/пр","Аппараты сварочные для ручной дуговой сварки, сварочный ток до 350 А",1368,null,1011,"маш.-ч","маш.-ч",1,null,null,null,null,null,0,303316554,1.51,null,0,34.61,0,0,0,34.61,0,0,1,1,1,1,-2,0,0,1,1,0,"",1.51,"",1,2,85320712,1,0,583,1,0,0,0,0,0,0,0,0,52.261099999999999,0,0,0,0,1,0,52.261099999999999,0,0,0,0,1,null,null,null,null,null,null,null,null,null,null,null,null,null,null,null,null,null,null,null,null,null,null,null,null,0,{"$f":"ROUND(Y583*Source!I291*DO583,7)","v":0},{"$f":"ROUND(Y583*Source!I291,7)","v":0},{"$f":"AB583","v":34.61},{"$f":"AF583","v":34.61},{"$f":"AJ583","v":1},52.26,0,"","",0,0,0,0,{"$f":"DG583+DH583","v":0},1,"",0,"",0]
[{"$f":"ROW(Source!A291)","v":291},85316656,85320699,83852582,1,1,1,3,"01.7.11.07-0227","ФСБЦ-2022, 01.7.11.07-0227, приказ Минстроя России от 18.05.2022 г. № 378/пр","Электроды сварочные для сварки низколегированных и углеродистых сталей УОНИ 13/45, Э42А, диаметр 4-5 мм",1346,null,1009,"кг","кг",1,null,null,null,null,null,0,-163259778,0.65,null,121.39,0,0,0,155.63,0,0,0,0.78,1,1,1,2,0,0,1,1,0,"",0.65,"",0,2,85320713,1,0,584,1,0,0,0,0,0,0,0,101.15949999999999,0,0,0,0,0,1,101.15949999999999,0,0,0,0,0,1,null,null,null,null,null,null,null,null,null,null,null,null,null,null,null,null,null,null,null,null,null,null,null,null,0,0,{"$f":"ROUND(Y584*Source!I291,7)","v":0},{"$f":"AA584","v":121.39},{"$f":"AE584","v":155.63},{"$f":"AI584","v":0.78},101.16,0,"","",{"$f":"ROUND(ROUND(AE584*AI584,2)*CX584,2)","v":0},0,0,0,{"$f":"DF584","v":0},0,"",0,"",0]
[{"$f":"ROW(Source!A291)","v":291},85316656,85320699,83870453,1,1,1,3,"14.4.01.09-0427","ФСБЦ-2022 доп.8, 14.4.01.09-0427, приказ Минстроя России от 14.11.2023 г. № 817/пр","Грунтовка эпоксидная антикоррозионная с содержанием цинка для защиты металлических поверхностей, расход 0,20-0,39 кг/м2",1346,null,1009,"кг","кг",1,null,null,null,null,null,0,72056734,2,null,1139.45,0,0,0,911.56,0,0,0,1.25,1,1,1,2,0,0,1,1,0,"",2,"",0,2,85320714,1,0,585,1,0,0,0,0,0,0,0,1823.12,0,0,0,0,0,1,1823.12,0,0,0,0,0,1,null,null,null,null,null,null,null,null,null,null,null,null,null,null,null,null,null,null,null,null,null,null,null,null,0,0,{"$f":"ROUND(Y585*Source!I291,7)","v":0},{"$f":"AA585","v":1139.45},{"$f":"AE585","v":911.56},{"$f":"AI585","v":1.25},1823.12,0,"","",{"$f":"ROUND(ROUND(AE585*AI585,2)*CX585,2)","v":0},0,0,0,{"$f":"DF585","v":0},0,"",0,"",0]
[{"$f":"ROW(Source!A291)","v":291},85316656,85320699,83783523,117,1,1,3,"421/пр_2020_п.75_пп.а","","Сметная стоимость вспомогательных ненормируемых материальных ресурсов, не учтенная в сметной норме, 2%",3277935,null,1013,"%","%",1,null,null,null,null,null,0,274903907,2,null,0,0,0,0,0,0,0,0,1,1,1,1,0,0,0,0,0,0,"",2,"",0,2,85320715,1,0,586,0,0,0,0,0,0,0,0,0,0,0,0,0,0,0,0,0,0,0,0,0,0,null,null,null,null,null,null,null,null,null,null,null,null,null,null,null,null,null,null,null,null,null,null,null,null,0,0,{"$f":"ROUND(Y586*Source!I291,7)","v":0},{"$f":"AA586","v":0},{"$f":"AE586","v":0},{"$f":"AI586","v":1},0,0,"","",{"$f":"ROUND(ROUND(AE586,2)*CX586,2)","v":0},0,0,0,{"$f":"DF586","v":0},0,"",0,"",0]
[{"$f":"ROW(Source!A297)","v":297},85316715,85320719,83777513,117,1,1,1,"1-100-38","","Средний разряд работы 3,8",1191,null,1013,"чел.-ч.","чел.-ч.",1,null,null,null,null,null,0,44848675,16.5,null,0,0,0,793.61,0,0,0,793.61,1,1,1,1,-2,0,0,1,1,0,"",16.5,"",1,2,85320728,1,0,587,1,0,0,0,0,0,0,0,0,0,0,13094.565000000001,16.5,0,1,0,0,0,13094.565000000001,16.5,0,1,null,null,null,null,null,null,null,null,null,null,null,null,null,null,null,null,null,null,null,null,null,null,null,{"$f":"ROUND(AT587*Source!I297*AH587*AL587,2)","v":0},{"$f":"ROUND(Y587*Source!I297,7)","v":0},0,{"$f":"ROUND(Y587*Source!I297,7)","v":0},{"$f":"AD587","v":793.61},{"$f":"AH587","v":793.61},{"$f":"AL587","v":1},13094.57,0,"","",0,0,0,0,{"$f":"DI587","v":0},1,"",0,"",0]
[{"$f":"ROW(Source!A297)","v":297},85316715,85320719,83777689,117,1,1,1,"4-100-00","","Затраты труда машинистов",1191,null,1013,"чел.-ч.","чел.-ч.",1,null,null,null,null,null,0,-1417349443,0.26,null,0,0,0,0,0,0,0,0,1,1,1,1,-2,0,0,1,1,0,"",0.26,"",2,2,85320729,1,0,588,1,0,0,0,0,0,0,0,0,0,0,0,0,0,0,0,0,0,0,0,0,0,null,null,null,null,null,null,null,null,null,null,null,null,null,null,null,null,null,null,null,null,null,null,null,null,0,0,{"$f":"ROUND(Y588*Source!I297,7)","v":0},{"$f":"AD588","v":0},{"$f":"AH588","v":0},{"$f":"AL588","v":1},0,0,"","",0,0,0,0,{"$f":"DI588","v":0},0,"",0,"",0]
[{"$f":"ROW(Source!A297)","v":297},85316715,85320719,83784178,1,1,1,2,"91.05.05-015","ФСЭМ-2022, 91.05.05-015, приказ Минстроя России от 18.05.2022 г. № 378/пр","Краны на автомобильном ходу, грузоподъемность 16 т",1368,null,1011,"маш.-ч","маш.-ч",1,null,null,null,null,null,0,639918019,0.13,null,0,1626.29,1090.46,0,0,1626.29,1090.46,0,1,1,1,1,-2,0,0,1,1,0,"",0.13,"",1,2,85320730,1,0,589,1,0,0,0,0,0,0,0,0,211.4177,141.75980000000001,0,0,0.13,1,0,211.4177,141.75980000000001,0,0,0.13,1,null,null,null,null,null,null,null,null,null,null,null,null,null,null,null,null,null,null,null,null,null,null,null,null,0,{"$f":"ROUND(Y589*Source!I297*DO589,7)","v":0},{"$f":"ROUND(Y589*Source!I297,7)","v":0},{"$f":"AB589","v":1626.29},{"$f":"AF589","v":1626.29},{"$f":"AJ589","v":1},211.42,141.76,"","",0,0,0,0,{"$f":"DG589+DH589","v":0},1,"4-100-060",6,"чел.-ч.",1]
[{"$f":"ROW(Source!A297)","v":297},85316715,85320719,83785072,1,1,1,2,"91.14.02-001","ФСЭМ-2022 доп.7, 91.14.02-001, приказ Минстроя России от 02.08.2023 г. № 551/пр","Автомобили бортовые, грузоподъемность до 5 т",1368,null,1011,"маш.-ч","маш.-ч",1,null,null,null,null,null,0,-849950259,0.13,null,0,641.70000000000005,811.79,0,0,641.70000000000005,811.79,0,1,1,1,1,-2,0,0,1,1,0,"",0.13,"",1,2,85320731,1,0,590,1,0,0,0,0,0,0,0,0,83.421000000000006,105.53270000000001,0,0,0.13,1,0,83.421000000000006,105.53270000000001,0,0,0.13,1,null,null,null,null,null,null,null,null,null,null,null,null,null,null,null,null,null,null,null,null,null,null,null,null,0,{"$f":"ROUND(Y590*Source!I297*DO590,7)","v":0},{"$f":"ROUND(Y590*Source!I297,7)","v":0},{"$f":"AB590","v":641.70000000000005},{"$f":"AF590","v":641.70000000000005},{"$f":"AJ590","v":1},83.42,105.53,"","",0,0,0,0,{"$f":"DG590+DH590","v":0},1,"4-100-040",4,"чел.-ч.",1]
[{"$f":"ROW(Source!A297)","v":297},85316715,85320719,83785268,1,1,1,2,"91.17.04-233","ФСЭМ-2022, 91.17.04-233, приказ Минстроя России от 18.05.2022 г. № 378/пр","Аппараты сварочные для ручной дуговой сварки, сварочный ток до 350 А",1368,null,1011,"маш.-ч","маш.-ч",1,null,null,null,null,null,0,303316554,2.7,null,0,34.61,0,0,0,34.61,0,0,1,1,1,1,-2,0,0,1,1,0,"",2.7,"",1,2,85320732,1,0,591,1,0,0,0,0,0,0,0,0,93.447000000000003,0,0,0,0,1,0,93.447000000000003,0,0,0,0,1,null,null,null,null,null,null,null,null,null,null,null,null,null,null,null,null,null,null,null,null,null,null,null,null,0,{"$f":"ROUND(Y591*Source!I297*DO591,7)","v":0},{"$f":"ROUND(Y591*Source!I297,7)","v":0},{"$f":"AB591","v":34.61},{"$f":"AF591","v":34.61},{"$f":"AJ591","v":1},93.45,0,"","",0,0,0,0,{"$f":"DG591+DH591","v":0},1,"",0,"",0]
[{"$f":"ROW(Source!A297)","v":297},85316715,85320719,83852582,1,1,1,3,"01.7.11.07-0227","ФСБЦ-2022, 01.7.11.07-0227, приказ Минстроя России от 18.05.2022 г. № 378/пр","Электроды сварочные для сварки низколегированных и углеродистых сталей УОНИ 13/45, Э42А, диаметр 4-5 мм",1346,null,1009,"кг","кг",1,null,null,null,null,null,0,-163259778,0.6,null,121.39,0,0,0,155.63,0,0,0,0.78,1,1,1,2,0,0,1,1,0,"",0.6,"",0,2,85320733,1,0,592,1,0,0,0,0,0,0,0,93.378,0,0,0,0,0,1,93.378,0,0,0,0,0,1,null,null,null,null,null,null,null,null,null,null,null,null,null,null,null,null,null,null,null,null,null,null,null,null,0,0,{"$f":"ROUND(Y592*Source!I297,7)","v":0},{"$f":"AA592","v":121.39},{"$f":"AE592","v":155.63},{"$f":"AI592","v":0.78},93.38,0,"","",{"$f":"ROUND(ROUND(AE592*AI592,2)*CX592,2)","v":0},{"$f":"ROUND(ROUND(AF592,2)*CX592,2)","v":0},0,0,{"$f":"DF592","v":0},0,"",0,"",0]
[{"$f":"ROW(Source!A297)","v":297},85316715,85320719,83870453,1,1,1,3,"14.4.01.09-0427","ФСБЦ-2022 доп.8, 14.4.01.09-0427, приказ Минстроя России от 14.11.2023 г. № 817/пр","Грунтовка эпоксидная антикоррозионная с содержанием цинка для защиты металлических поверхностей, расход 0,20-0,39 кг/м2",1346,null,1009,"кг","кг",1,null,null,null,null,null,0,72056734,2,null,1139.45,0,0,0,911.56,0,0,0,1.25,1,1,1,2,0,0,1,1,0,"",2,"",0,2,85320734,1,0,593,1,0,0,0,0,0,0,0,1823.12,0,0,0,0,0,1,1823.12,0,0,0,0,0,1,null,null,null,null,null,null,null,null,null,null,null,null,null,null,null,null,null,null,null,null,null,null,null,null,0,0,{"$f":"ROUND(Y593*Source!I297,7)","v":0},{"$f":"AA593","v":1139.45},{"$f":"AE593","v":911.56},{"$f":"AI593","v":1.25},1823.12,0,"","",{"$f":"ROUND(ROUND(AE593*AI593,2)*CX593,2)","v":0},0,0,0,{"$f":"DF593","v":0},0,"",0,"",0]
[{"$f":"ROW(Source!A297)","v":297},85316715,85320719,83783523,117,1,1,3,"421/пр_2020_п.75_пп.а","","Сметная стоимость вспомогательных ненормируемых материальных ресурсов, не учтенная в сметной норме, 2%",3277935,null,1013,"%","%",1,null,null,null,null,null,0,274903907,2,null,0,0,0,0,0,0,0,0,1,1,1,1,0,0,0,0,0,0,"",2,"",0,2,85320735,1,0,594,0,0,0,0,0,0,0,0,0,0,0,0,0,0,0,0,0,0,0,0,0,0,null,null,null,null,null,null,null,null,null,null,null,null,null,null,null,null,null,null,null,null,null,null,null,null,0,0,{"$f":"ROUND(Y594*Source!I297,7)","v":0},{"$f":"AA594","v":0},{"$f":"AE594","v":0},{"$f":"AI594","v":1},0,0,"","",{"$f":"ROUND(ROUND(AE594,2)*CX594,2)","v":0},0,0,0,{"$f":"DF594","v":0},0,"",0,"",0]
[{"$f":"ROW(Source!A298)","v":298},85316656,85320719,83777513,117,1,1,1,"1-100-38","","Средний разряд работы 3,8",1191,null,1013,"чел.-ч.","чел.-ч.",1,null,null,null,null,null,0,44848675,16.5,null,0,0,0,793.61,0,0,0,793.61,1,1,1,1,-2,0,0,1,1,0,"",16.5,"",1,2,85320728,1,0,595,1,0,0,0,0,0,0,0,0,0,0,13094.565000000001,16.5,0,1,0,0,0,13094.565000000001,16.5,0,1,null,null,null,null,null,null,null,null,null,null,null,null,null,null,null,null,null,null,null,null,null,null,null,{"$f":"ROUND(AT595*Source!I298*AH595*AL595,2)","v":0},{"$f":"ROUND(Y595*Source!I298,7)","v":0},0,{"$f":"ROUND(Y595*Source!I298,7)","v":0},{"$f":"AD595","v":793.61},{"$f":"AH595","v":793.61},{"$f":"AL595","v":1},13094.57,0,"","",0,0,0,0,{"$f":"DI595","v":0},1,"",0,"",0]
[{"$f":"ROW(Source!A298)","v":298},85316656,85320719,83777689,117,1,1,1,"4-100-00","","Затраты труда машинистов",1191,null,1013,"чел.-ч.","чел.-ч.",1,null,null,null,null,null,0,-1417349443,0.26,null,0,0,0,0,0,0,0,0,1,1,1,1,-2,0,0,1,1,0,"",0.26,"",2,2,85320729,1,0,596,1,0,0,0,0,0,0,0,0,0,0,0,0,0,0,0,0,0,0,0,0,0,null,null,null,null,null,null,null,null,null,null,null,null,null,null,null,null,null,null,null,null,null,null,null,null,0,0,{"$f":"ROUND(Y596*Source!I298,7)","v":0},{"$f":"AD596","v":0},{"$f":"AH596","v":0},{"$f":"AL596","v":1},0,0,"","",0,0,0,0,{"$f":"DI596","v":0},0,"",0,"",0]
[{"$f":"ROW(Source!A298)","v":298},85316656,85320719,83784178,1,1,1,2,"91.05.05-015","ФСЭМ-2022, 91.05.05-015, приказ Минстроя России от 18.05.2022 г. № 378/пр","Краны на автомобильном ходу, грузоподъемность 16 т",1368,null,1011,"маш.-ч","маш.-ч",1,null,null,null,null,null,0,639918019,0.13,null,0,1626.29,1090.46,0,0,1626.29,1090.46,0,1,1,1,1,-2,0,0,1,1,0,"",0.13,"",1,2,85320730,1,0,597,1,0,0,0,0,0,0,0,0,211.4177,141.75980000000001,0,0,0.13,1,0,211.4177,141.75980000000001,0,0,0.13,1,null,null,null,null,null,null,null,null,null,null,null,null,null,null,null,null,null,null,null,null,null,null,null,null,0,{"$f":"ROUND(Y597*Source!I298*DO597,7)","v":0},{"$f":"ROUND(Y597*Source!I298,7)","v":0},{"$f":"AB597","v":1626.29},{"$f":"AF597","v":1626.29},{"$f":"AJ597","v":1},211.42,141.76,"","",0,0,0,0,{"$f":"DG597+DH597","v":0},1,"4-100-060",6,"чел.-ч.",1]
[{"$f":"ROW(Source!A298)","v":298},85316656,85320719,83785072,1,1,1,2,"91.14.02-001","ФСЭМ-2022 доп.7, 91.14.02-001, приказ Минстроя России от 02.08.2023 г. № 551/пр","Автомобили бортовые, грузоподъемность до 5 т",1368,null,1011,"маш.-ч","маш.-ч",1,null,null,null,null,null,0,-849950259,0.13,null,0,641.70000000000005,811.79,0,0,641.70000000000005,811.79,0,1,1,1,1,-2,0,0,1,1,0,"",0.13,"",1,2,85320731,1,0,598,1,0,0,0,0,0,0,0,0,83.421000000000006,105.53270000000001,0,0,0.13,1,0,83.421000000000006,105.53270000000001,0,0,0.13,1,null,null,null,null,null,null,null,null,null,null,null,null,null,null,null,null,null,null,null,null,null,null,null,null,0,{"$f":"ROUND(Y598*Source!I298*DO598,7)","v":0},{"$f":"ROUND(Y598*Source!I298,7)","v":0},{"$f":"AB598","v":641.70000000000005},{"$f":"AF598","v":641.70000000000005},{"$f":"AJ598","v":1},83.42,105.53,"","",0,0,0,0,{"$f":"DG598+DH598","v":0},1,"4-100-040",4,"чел.-ч.",1]
[{"$f":"ROW(Source!A298)","v":298},85316656,85320719,83785268,1,1,1,2,"91.17.04-233","ФСЭМ-2022, 91.17.04-233, приказ Минстроя России от 18.05.2022 г. № 378/пр","Аппараты сварочные для ручной дуговой сварки, сварочный ток до 350 А",1368,null,1011,"маш.-ч","маш.-ч",1,null,null,null,null,null,0,303316554,2.7,null,0,34.61,0,0,0,34.61,0,0,1,1,1,1,-2,0,0,1,1,0,"",2.7,"",1,2,85320732,1,0,599,1,0,0,0,0,0,0,0,0,93.447000000000003,0,0,0,0,1,0,93.447000000000003,0,0,0,0,1,null,null,null,null,null,null,null,null,null,null,null,null,null,null,null,null,null,null,null,null,null,null,null,null,0,{"$f":"ROUND(Y599*Source!I298*DO599,7)","v":0},{"$f":"ROUND(Y599*Source!I298,7)","v":0},{"$f":"AB599","v":34.61},{"$f":"AF599","v":34.61},{"$f":"AJ599","v":1},93.45,0,"","",0,0,0,0,{"$f":"DG599+DH599","v":0},1,"",0,"",0]
[{"$f":"ROW(Source!A298)","v":298},85316656,85320719,83852582,1,1,1,3,"01.7.11.07-0227","ФСБЦ-2022, 01.7.11.07-0227, приказ Минстроя России от 18.05.2022 г. № 378/пр","Электроды сварочные для сварки низколегированных и углеродистых сталей УОНИ 13/45, Э42А, диаметр 4-5 мм",1346,null,1009,"кг","кг",1,null,null,null,null,null,0,-163259778,0.6,null,121.39,0,0,0,155.63,0,0,0,0.78,1,1,1,2,0,0,1,1,0,"",0.6,"",0,2,85320733,1,0,600,1,0,0,0,0,0,0,0,93.378,0,0,0,0,0,1,93.378,0,0,0,0,0,1,null,null,null,null,null,null,null,null,null,null,null,null,null,null,null,null,null,null,null,null,null,null,null,null,0,0,{"$f":"ROUND(Y600*Source!I298,7)","v":0},{"$f":"AA600","v":121.39},{"$f":"AE600","v":155.63},{"$f":"AI600","v":0.78},93.38,0,"","",{"$f":"ROUND(ROUND(AE600*AI600,2)*CX600,2)","v":0},0,0,0,{"$f":"DF600","v":0},0,"",0,"",0]
[{"$f":"ROW(Source!A298)","v":298},85316656,85320719,83870453,1,1,1,3,"14.4.01.09-0427","ФСБЦ-2022 доп.8, 14.4.01.09-0427, приказ Минстроя России от 14.11.2023 г. № 817/пр","Грунтовка эпоксидная антикоррозионная с содержанием цинка для защиты металлических поверхностей, расход 0,20-0,39 кг/м2",1346,null,1009,"кг","кг",1,null,null,null,null,null,0,72056734,2,null,1139.45,0,0,0,911.56,0,0,0,1.25,1,1,1,2,0,0,1,1,0,"",2,"",0,2,85320734,1,0,601,1,0,0,0,0,0,0,0,1823.12,0,0,0,0,0,1,1823.12,0,0,0,0,0,1,null,null,null,null,null,null,null,null,null,null,null,null,null,null,null,null,null,null,null,null,null,null,null,null,0,0,{"$f":"ROUND(Y601*Source!I298,7)","v":0},{"$f":"AA601","v":1139.45},{"$f":"AE601","v":911.56},{"$f":"AI601","v":1.25},1823.12,0,"","",{"$f":"ROUND(ROUND(AE601*AI601,2)*CX601,2)","v":0},0,0,0,{"$f":"DF601","v":0},0,"",0,"",0]
[{"$f":"ROW(Source!A298)","v":298},85316656,85320719,83783523,117,1,1,3,"421/пр_2020_п.75_пп.а","","Сметная стоимость вспомогательных ненормируемых материальных ресурсов, не учтенная в сметной норме, 2%",3277935,null,1013,"%","%",1,null,null,null,null,null,0,274903907,2,null,0,0,0,0,0,0,0,0,1,1,1,1,0,0,0,0,0,0,"",2,"",0,2,85320735,1,0,602,0,0,0,0,0,0,0,0,0,0,0,0,0,0,0,0,0,0,0,0,0,0,null,null,null,null,null,null,null,null,null,null,null,null,null,null,null,null,null,null,null,null,null,null,null,null,0,0,{"$f":"ROUND(Y602*Source!I298,7)","v":0},{"$f":"AA602","v":0},{"$f":"AE602","v":0},{"$f":"AI602","v":1},0,0,"","",{"$f":"ROUND(ROUND(AE602,2)*CX602,2)","v":0},0,0,0,{"$f":"DF602","v":0},0,"",0,"",0]
[{"$f":"ROW(Source!A302)","v":302},85316715,85320738,83777513,117,1,1,1,"1-100-38","","Средний разряд работы 3,8",1191,null,1013,"чел.-ч.","чел.-ч.",1,null,null,null,null,null,0,44848675,18.5,null,0,0,0,793.61,0,0,0,793.61,1,1,1,1,-2,0,0,1,1,0,"",18.5,"",1,2,85320748,1,0,603,1,0,0,0,0,0,0,0,0,0,0,14681.785,18.5,0,1,0,0,0,14681.785,18.5,0,1,null,null,null,null,null,null,null,null,null,null,null,null,null,null,null,null,null,null,null,null,null,null,null,{"$f":"ROUND(AT603*Source!I302*AH603*AL603,2)","v":0},{"$f":"ROUND(Y603*Source!I302,7)","v":0},0,{"$f":"ROUND(Y603*Source!I302,7)","v":0},{"$f":"AD603","v":793.61},{"$f":"AH603","v":793.61},{"$f":"AL603","v":1},14681.79,0,"","",0,0,0,0,{"$f":"DI603","v":0},1,"",0,"",0]
[{"$f":"ROW(Source!A302)","v":302},85316715,85320738,83777689,117,1,1,1,"4-100-00","","Затраты труда машинистов",1191,null,1013,"чел.-ч.","чел.-ч.",1,null,null,null,null,null,0,-1417349443,0.34,null,0,0,0,0,0,0,0,0,1,1,1,1,-2,0,0,1,1,0,"",0.34,"",2,2,85320749,1,0,604,1,0,0,0,0,0,0,0,0,0,0,0,0,0,0,0,0,0,0,0,0,0,null,null,null,null,null,null,null,null,null,null,null,null,null,null,null,null,null,null,null,null,null,null,null,null,0,0,{"$f":"ROUND(Y604*Source!I302,7)","v":0},{"$f":"AD604","v":0},{"$f":"AH604","v":0},{"$f":"AL604","v":1},0,0,"","",0,0,0,0,{"$f":"DI604","v":0},0,"",0,"",0]
[{"$f":"ROW(Source!A302)","v":302},85316715,85320738,83784178,1,1,1,2,"91.05.05-015","ФСЭМ-2022, 91.05.05-015, приказ Минстроя России от 18.05.2022 г. № 378/пр","Краны на автомобильном ходу, грузоподъемность 16 т",1368,null,1011,"маш.-ч","маш.-ч",1,null,null,null,null,null,0,639918019,0.17,null,0,1626.29,1090.46,0,0,1626.29,1090.46,0,1,1,1,1,-2,0,0,1,1,0,"",0.17,"",1,2,85320750,1,0,605,1,0,0,0,0,0,0,0,0,276.46930000000003,185.37820000000002,0,0,0.17,1,0,276.46930000000003,185.37820000000002,0,0,0.17,1,null,null,null,null,null,null,null,null,null,null,null,null,null,null,null,null,null,null,null,null,null,null,null,null,0,{"$f":"ROUND(Y605*Source!I302*DO605,7)","v":0},{"$f":"ROUND(Y605*Source!I302,7)","v":0},{"$f":"AB605","v":1626.29},{"$f":"AF605","v":1626.29},{"$f":"AJ605","v":1},276.47000000000003,185.38,"","",0,0,0,0,{"$f":"DG605+DH605","v":0},1,"4-100-060",6,"чел.-ч.",1]
[{"$f":"ROW(Source!A302)","v":302},85316715,85320738,83785072,1,1,1,2,"91.14.02-001","ФСЭМ-2022 доп.7, 91.14.02-001, приказ Минстроя России от 02.08.2023 г. № 551/пр","Автомобили бортовые, грузоподъемность до 5 т",1368,null,1011,"маш.-ч","маш.-ч",1,null,null,null,null,null,0,-849950259,0.17,null,0,641.70000000000005,811.79,0,0,641.70000000000005,811.79,0,1,1,1,1,-2,0,0,1,1,0,"",0.17,"",1,2,85320751,1,0,606,1,0,0,0,0,0,0,0,0,109.08900000000001,138.0043,0,0,0.17,1,0,109.08900000000001,138.0043,0,0,0.17,1,null,null,null,null,null,null,null,null,null,null,null,null,null,null,null,null,null,null,null,null,null,null,null,null,0,{"$f":"ROUND(Y606*Source!I302*DO606,7)","v":0},{"$f":"ROUND(Y606*Source!I302,7)","v":0},{"$f":"AB606","v":641.70000000000005},{"$f":"AF606","v":641.70000000000005},{"$f":"AJ606","v":1},109.09,138,"","",0,0,0,0,{"$f":"DG606+DH606","v":0},1,"4-100-040",4,"чел.-ч.",1]
[{"$f":"ROW(Source!A302)","v":302},85316715,85320738,83785268,1,1,1,2,"91.17.04-233","ФСЭМ-2022, 91.17.04-233, приказ Минстроя России от 18.05.2022 г. № 378/пр","Аппараты сварочные для ручной дуговой сварки, сварочный ток до 350 А",1368,null,1011,"маш.-ч","маш.-ч",1,null,null,null,null,null,0,303316554,2.9,null,0,34.61,0,0,0,34.61,0,0,1,1,1,1,-2,0,0,1,1,0,"",2.9,"",1,2,85320752,1,0,607,1,0,0,0,0,0,0,0,0,100.369,0,0,0,0,1,0,100.369,0,0,0,0,1,null,null,null,null,null,null,null,null,null,null,null,null,null,null,null,null,null,null,null,null,null,null,null,null,0,{"$f":"ROUND(Y607*Source!I302*DO607,7)","v":0},{"$f":"ROUND(Y607*Source!I302,7)","v":0},{"$f":"AB607","v":34.61},{"$f":"AF607","v":34.61},{"$f":"AJ607","v":1},100.37,0,"","",0,0,0,0,{"$f":"DG607+DH607","v":0},1,"",0,"",0]
[{"$f":"ROW(Source!A302)","v":302},85316715,85320738,83852582,1,1,1,3,"01.7.11.07-0227","ФСБЦ-2022, 01.7.11.07-0227, приказ Минстроя России от 18.05.2022 г. № 378/пр","Электроды сварочные для сварки низколегированных и углеродистых сталей УОНИ 13/45, Э42А, диаметр 4-5 мм",1346,null,1009,"кг","кг",1,null,null,null,null,null,0,-163259778,0.9,null,121.39,0,0,0,155.63,0,0,0,0.78,1,1,1,2,0,0,1,1,0,"",0.9,"",0,2,85320753,1,0,608,1,0,0,0,0,0,0,0,140.06700000000001,0,0,0,0,0,1,140.06700000000001,0,0,0,0,0,1,null,null,null,null,null,null,null,null,null,null,null,null,null,null,null,null,null,null,null,null,null,null,null,null,0,0,{"$f":"ROUND(Y608*Source!I302,7)","v":0},{"$f":"AA608","v":121.39},{"$f":"AE608","v":155.63},{"$f":"AI608","v":0.78},140.07,0,"","",{"$f":"ROUND(ROUND(AE608*AI608,2)*CX608,2)","v":0},0,0,0,{"$f":"DF608","v":0},0,"",0,"",0]
[{"$f":"ROW(Source!A302)","v":302},85316715,85320738,83860653,1,1,1,3,"08.3.05.02-0021","ФСБЦ-2022, 08.3.05.02-0021, приказ Минстроя России от 18.05.2022 г. № 378/пр","Прокат листовой горячекатаный, марки стали Ст3сп, Ст3пс, ширина 1200-3000 мм, толщина 1-8 мм",1348,null,1009,"т","т",1000,null,null,null,null,null,0,-1417638397,4.0000000000000001E-3,null,49995.77,0,0,0,49995.77,0,0,0,1,1,1,1,-2,0,0,1,1,0,"",4.0000000000000001E-3,"",0,2,85320754,1,0,609,1,0,0,0,0,0,0,0,199.98308,0,0,0,0,0,1,199.98308,0,0,0,0,0,1,null,null,null,null,null,null,null,null,null,null,null,null,null,null,null,null,null,null,null,null,null,null,null,null,0,0,{"$f":"ROUND(Y609*Source!I302,7)","v":0},{"$f":"AA609","v":49995.77},{"$f":"AE609","v":49995.77},{"$f":"AI609","v":1},199.98,0,"","",{"$f":"ROUND(ROUND(AE609,2)*CX609,2)","v":0},0,0,0,{"$f":"DF609","v":0},1,"",0,"",0]
[{"$f":"ROW(Source!A302)","v":302},85316715,85320738,83870453,1,1,1,3,"14.4.01.09-0427","ФСБЦ-2022 доп.8, 14.4.01.09-0427, приказ Минстроя России от 14.11.2023 г. № 817/пр","Грунтовка эпоксидная антикоррозионная с содержанием цинка для защиты металлических поверхностей, расход 0,20-0,39 кг/м2",1346,null,1009,"кг","кг",1,null,null,null,null,null,0,72056734,2.4,null,1139.45,0,0,0,911.56,0,0,0,1.25,1,1,1,2,0,0,1,1,0,"",2.4,"",0,2,85320755,1,0,610,1,0,0,0,0,0,0,0,2187.7439999999997,0,0,0,0,0,1,2187.7439999999997,0,0,0,0,0,1,null,null,null,null,null,null,null,null,null,null,null,null,null,null,null,null,null,null,null,null,null,null,null,null,0,0,{"$f":"ROUND(Y610*Source!I302,7)","v":0},{"$f":"AA610","v":1139.45},{"$f":"AE610","v":911.56},{"$f":"AI610","v":1.25},2187.7399999999998,0,"","",{"$f":"ROUND(ROUND(AE610*AI610,2)*CX610,2)","v":0},0,0,0,{"$f":"DF610","v":0},0,"",0,"",0]
[{"$f":"ROW(Source!A302)","v":302},85316715,85320738,83783523,117,1,1,3,"421/пр_2020_п.75_пп.а","","Сметная стоимость вспомогательных ненормируемых материальных ресурсов, не учтенная в сметной норме, 2%",3277935,null,1013,"%","%",1,null,null,null,null,null,0,274903907,2,null,0,0,0,0,0,0,0,0,1,1,1,1,0,0,0,0,0,0,"",2,"",0,2,85320756,1,0,611,0,0,0,0,0,0,0,0,0,0,0,0,0,0,0,0,0,0,0,0,0,0,null,null,null,null,null,null,null,null,null,null,null,null,null,null,null,null,null,null,null,null,null,null,null,null,0,0,{"$f":"ROUND(Y611*Source!I302,7)","v":0},{"$f":"AA611","v":0},{"$f":"AE611","v":0},{"$f":"AI611","v":1},0,0,"","",{"$f":"ROUND(ROUND(AE611,2)*CX611,2)","v":0},0,0,0,{"$f":"DF611","v":0},0,"",0,"",0]
[{"$f":"ROW(Source!A303)","v":303},85316656,85320738,83777513,117,1,1,1,"1-100-38","","Средний разряд работы 3,8",1191,null,1013,"чел.-ч.","чел.-ч.",1,null,null,null,null,null,0,44848675,18.5,null,0,0,0,793.61,0,0,0,793.61,1,1,1,1,-2,0,0,1,1,0,"",18.5,"",1,2,85320748,1,0,612,1,0,0,0,0,0,0,0,0,0,0,14681.785,18.5,0,1,0,0,0,14681.785,18.5,0,1,null,null,null,null,null,null,null,null,null,null,null,null,null,null,null,null,null,null,null,null,null,null,null,{"$f":"ROUND(AT612*Source!I303*AH612*AL612,2)","v":0},{"$f":"ROUND(Y612*Source!I303,7)","v":0},0,{"$f":"ROUND(Y612*Source!I303,7)","v":0},{"$f":"AD612","v":793.61},{"$f":"AH612","v":793.61},{"$f":"AL612","v":1},14681.79,0,"","",0,0,0,0,{"$f":"DI612","v":0},1,"",0,"",0]
[{"$f":"ROW(Source!A303)","v":303},85316656,85320738,83777689,117,1,1,1,"4-100-00","","Затраты труда машинистов",1191,null,1013,"чел.-ч.","чел.-ч.",1,null,null,null,null,null,0,-1417349443,0.34,null,0,0,0,0,0,0,0,0,1,1,1,1,-2,0,0,1,1,0,"",0.34,"",2,2,85320749,1,0,613,1,0,0,0,0,0,0,0,0,0,0,0,0,0,0,0,0,0,0,0,0,0,null,null,null,null,null,null,null,null,null,null,null,null,null,null,null,null,null,null,null,null,null,null,null,null,0,0,{"$f":"ROUND(Y613*Source!I303,7)","v":0},{"$f":"AD613","v":0},{"$f":"AH613","v":0},{"$f":"AL613","v":1},0,0,"","",0,0,0,0,{"$f":"DI613","v":0},0,"",0,"",0]
[{"$f":"ROW(Source!A303)","v":303},85316656,85320738,83784178,1,1,1,2,"91.05.05-015","ФСЭМ-2022, 91.05.05-015, приказ Минстроя России от 18.05.2022 г. № 378/пр","Краны на автомобильном ходу, грузоподъемность 16 т",1368,null,1011,"маш.-ч","маш.-ч",1,null,null,null,null,null,0,639918019,0.17,null,0,1626.29,1090.46,0,0,1626.29,1090.46,0,1,1,1,1,-2,0,0,1,1,0,"",0.17,"",1,2,85320750,1,0,614,1,0,0,0,0,0,0,0,0,276.46930000000003,185.37820000000002,0,0,0.17,1,0,276.46930000000003,185.37820000000002,0,0,0.17,1,null,null,null,null,null,null,null,null,null,null,null,null,null,null,null,null,null,null,null,null,null,null,null,null,0,{"$f":"ROUND(Y614*Source!I303*DO614,7)","v":0},{"$f":"ROUND(Y614*Source!I303,7)","v":0},{"$f":"AB614","v":1626.29},{"$f":"AF614","v":1626.29},{"$f":"AJ614","v":1},276.47000000000003,185.38,"","",0,0,0,0,{"$f":"DG614+DH614","v":0},1,"4-100-060",6,"чел.-ч.",1]
[{"$f":"ROW(Source!A303)","v":303},85316656,85320738,83785072,1,1,1,2,"91.14.02-001","ФСЭМ-2022 доп.7, 91.14.02-001, приказ Минстроя России от 02.08.2023 г. № 551/пр","Автомобили бортовые, грузоподъемность до 5 т",1368,null,1011,"маш.-ч","маш.-ч",1,null,null,null,null,null,0,-849950259,0.17,null,0,641.70000000000005,811.79,0,0,641.70000000000005,811.79,0,1,1,1,1,-2,0,0,1,1,0,"",0.17,"",1,2,85320751,1,0,615,1,0,0,0,0,0,0,0,0,109.08900000000001,138.0043,0,0,0.17,1,0,109.08900000000001,138.0043,0,0,0.17,1,null,null,null,null,null,null,null,null,null,null,null,null,null,null,null,null,null,null,null,null,null,null,null,null,0,{"$f":"ROUND(Y615*Source!I303*DO615,7)","v":0},{"$f":"ROUND(Y615*Source!I303,7)","v":0},{"$f":"AB615","v":641.70000000000005},{"$f":"AF615","v":641.70000000000005},{"$f":"AJ615","v":1},109.09,138,"","",0,0,0,0,{"$f":"DG615+DH615","v":0},1,"4-100-040",4,"чел.-ч.",1]
[{"$f":"ROW(Source!A303)","v":303},85316656,85320738,83785268,1,1,1,2,"91.17.04-233","ФСЭМ-2022, 91.17.04-233, приказ Минстроя России от 18.05.2022 г. № 378/пр","Аппараты сварочные для ручной дуговой сварки, сварочный ток до 350 А",1368,null,1011,"маш.-ч","маш.-ч",1,null,null,null,null,null,0,303316554,2.9,null,0,34.61,0,0,0,34.61,0,0,1,1,1,1,-2,0,0,1,1,0,"",2.9,"",1,2,85320752,1,0,616,1,0,0,0,0,0,0,0,0,100.369,0,0,0,0,1,0,100.369,0,0,0,0,1,null,null,null,null,null,null,null,null,null,null,null,null,null,null,null,null,null,null,null,null,null,null,null,null,0,{"$f":"ROUND(Y616*Source!I303*DO616,7)","v":0},{"$f":"ROUND(Y616*Source!I303,7)","v":0},{"$f":"AB616","v":34.61},{"$f":"AF616","v":34.61},{"$f":"AJ616","v":1},100.37,0,"","",0,0,0,0,{"$f":"DG616+DH616","v":0},1,"",0,"",0]
[{"$f":"ROW(Source!A303)","v":303},85316656,85320738,83852582,1,1,1,3,"01.7.11.07-0227","ФСБЦ-2022, 01.7.11.07-0227, приказ Минстроя России от 18.05.2022 г. № 378/пр","Электроды сварочные для сварки низколегированных и углеродистых сталей УОНИ 13/45, Э42А, диаметр 4-5 мм",1346,null,1009,"кг","кг",1,null,null,null,null,null,0,-163259778,0.9,null,121.39,0,0,0,155.63,0,0,0,0.78,1,1,1,2,0,0,1,1,0,"",0.9,"",0,2,85320753,1,0,617,1,0,0,0,0,0,0,0,140.06700000000001,0,0,0,0,0,1,140.06700000000001,0,0,0,0,0,1,null,null,null,null,null,null,null,null,null,null,null,null,null,null,null,null,null,null,null,null,null,null,null,null,0,0,{"$f":"ROUND(Y617*Source!I303,7)","v":0},{"$f":"AA617","v":121.39},{"$f":"AE617","v":155.63},{"$f":"AI617","v":0.78},140.07,0,"","",{"$f":"ROUND(ROUND(AE617*AI617,2)*CX617,2)","v":0},0,0,0,{"$f":"DF617","v":0},0,"",0,"",0]
[{"$f":"ROW(Source!A303)","v":303},85316656,85320738,83860653,1,1,1,3,"08.3.05.02-0021","ФСБЦ-2022, 08.3.05.02-0021, приказ Минстроя России от 18.05.2022 г. № 378/пр","Прокат листовой горячекатаный, марки стали Ст3сп, Ст3пс, ширина 1200-3000 мм, толщина 1-8 мм",1348,null,1009,"т","т",1000,null,null,null,null,null,0,-1417638397,4.0000000000000001E-3,null,49995.77,0,0,0,49995.77,0,0,0,1,1,1,1,-2,0,0,1,1,0,"",4.0000000000000001E-3,"",0,2,85320754,1,0,618,1,0,0,0,0,0,0,0,199.98308,0,0,0,0,0,1,199.98308,0,0,0,0,0,1,null,null,null,null,null,null,null,null,null,null,null,null,null,null,null,null,null,null,null,null,null,null,null,null,0,0,{"$f":"ROUND(Y618*Source!I303,7)","v":0},{"$f":"AA618","v":49995.77},{"$f":"AE618","v":49995.77},{"$f":"AI618","v":1},199.98,0,"","",{"$f":"ROUND(ROUND(AE618,2)*CX618,2)","v":0},0,0,0,{"$f":"DF618","v":0},1,"",0,"",0]
[{"$f":"ROW(Source!A303)","v":303},85316656,85320738,83870453,1,1,1,3,"14.4.01.09-0427","ФСБЦ-2022 доп.8, 14.4.01.09-0427, приказ Минстроя России от 14.11.2023 г. № 817/пр","Грунтовка эпоксидная антикоррозионная с содержанием цинка для защиты металлических поверхностей, расход 0,20-0,39 кг/м2",1346,null,1009,"кг","кг",1,null,null,null,null,null,0,72056734,2.4,null,1139.45,0,0,0,911.56,0,0,0,1.25,1,1,1,2,0,0,1,1,0,"",2.4,"",0,2,85320755,1,0,619,1,0,0,0,0,0,0,0,2187.7439999999997,0,0,0,0,0,1,2187.7439999999997,0,0,0,0,0,1,null,null,null,null,null,null,null,null,null,null,null,null,null,null,null,null,null,null,null,null,null,null,null,null,0,0,{"$f":"ROUND(Y619*Source!I303,7)","v":0},{"$f":"AA619","v":1139.45},{"$f":"AE619","v":911.56},{"$f":"AI619","v":1.25},2187.7399999999998,0,"","",{"$f":"ROUND(ROUND(AE619*AI619,2)*CX619,2)","v":0},0,0,0,{"$f":"DF619","v":0},0,"",0,"",0]
[{"$f":"ROW(Source!A303)","v":303},85316656,85320738,83783523,117,1,1,3,"421/пр_2020_п.75_пп.а","","Сметная стоимость вспомогательных ненормируемых материальных ресурсов, не учтенная в сметной норме, 2%",3277935,null,1013,"%","%",1,null,null,null,null,null,0,274903907,2,null,0,0,0,0,0,0,0,0,1,1,1,1,0,0,0,0,0,0,"",2,"",0,2,85320756,1,0,620,0,0,0,0,0,0,0,0,0,0,0,0,0,0,0,0,0,0,0,0,0,0,null,null,null,null,null,null,null,null,null,null,null,null,null,null,null,null,null,null,null,null,null,null,null,null,0,0,{"$f":"ROUND(Y620*Source!I303,7)","v":0},{"$f":"AA620","v":0},{"$f":"AE620","v":0},{"$f":"AI620","v":1},0,0,"","",{"$f":"ROUND(ROUND(AE620,2)*CX620,2)","v":0},0,0,0,{"$f":"DF620","v":0},0,"",0,"",0]
[{"$f":"ROW(Source!A309)","v":309},85316715,85320760,83777519,117,1,1,1,"1-100-40","","Средний разряд работы 4,0",1191,null,1013,"чел.-ч.","чел.-ч.",1,null,null,null,null,null,0,888410196,41.2,null,0,0,0,811.79,0,0,0,811.79,1,1,1,1,-2,0,0,1,1,0,"",41.2,"",1,2,85320770,1,0,621,1,0,0,0,0,0,0,0,0,0,0,33445.748,41.2,0,1,0,0,0,33445.748,41.2,0,1,null,null,null,null,null,null,null,null,null,null,null,null,null,null,null,null,null,null,null,null,null,null,null,{"$f":"ROUND(AT621*Source!I309*AH621*AL621,2)","v":0},{"$f":"ROUND(Y621*Source!I309,7)","v":0},0,{"$f":"ROUND(Y621*Source!I309,7)","v":0},{"$f":"AD621","v":811.79},{"$f":"AH621","v":811.79},{"$f":"AL621","v":1},33445.75,0,"","",0,0,0,0,{"$f":"DI621","v":0},1,"",0,"",0]
[{"$f":"ROW(Source!A309)","v":309},85316715,85320760,83777689,117,1,1,1,"4-100-00","","Затраты труда машинистов",1191,null,1013,"чел.-ч.","чел.-ч.",1,null,null,null,null,null,0,-1417349443,0.2,null,0,0,0,0,0,0,0,0,1,1,1,1,-2,0,0,1,1,0,"",0.2,"",2,2,85320771,1,0,622,1,0,0,0,0,0,0,0,0,0,0,0,0,0,0,0,0,0,0,0,0,0,null,null,null,null,null,null,null,null,null,null,null,null,null,null,null,null,null,null,null,null,null,null,null,null,0,0,{"$f":"ROUND(Y622*Source!I309,7)","v":0},{"$f":"AD622","v":0},{"$f":"AH622","v":0},{"$f":"AL622","v":1},0,0,"","",0,0,0,0,{"$f":"DI622","v":0},0,"",0,"",0]
[{"$f":"ROW(Source!A309)","v":309},85316715,85320760,83784178,1,1,1,2,"91.05.05-015","ФСЭМ-2022, 91.05.05-015, приказ Минстроя России от 18.05.2022 г. № 378/пр","Краны на автомобильном ходу, грузоподъемность 16 т",1368,null,1011,"маш.-ч","маш.-ч",1,null,null,null,null,null,0,639918019,0.1,null,0,1626.29,1090.46,0,0,1626.29,1090.46,0,1,1,1,1,-2,0,0,1,1,0,"",0.1,"",1,2,85320772,1,0,623,1,0,0,0,0,0,0,0,0,162.62900000000002,109.04600000000001,0,0,0.1,1,0,162.62900000000002,109.04600000000001,0,0,0.1,1,null,null,null,null,null,null,null,null,null,null,null,null,null,null,null,null,null,null,null,null,null,null,null,null,0,{"$f":"ROUND(Y623*Source!I309*DO623,7)","v":0},{"$f":"ROUND(Y623*Source!I309,7)","v":0},{"$f":"AB623","v":1626.29},{"$f":"AF623","v":1626.29},{"$f":"AJ623","v":1},162.63,109.05,"","",0,0,0,0,{"$f":"DG623+DH623","v":0},1,"4-100-060",6,"чел.-ч.",1]
[{"$f":"ROW(Source!A309)","v":309},85316715,85320760,83785072,1,1,1,2,"91.14.02-001","ФСЭМ-2022 доп.7, 91.14.02-001, приказ Минстроя России от 02.08.2023 г. № 551/пр","Автомобили бортовые, грузоподъемность до 5 т",1368,null,1011,"маш.-ч","маш.-ч",1,null,null,null,null,null,0,-849950259,0.1,null,0,641.70000000000005,811.79,0,0,641.70000000000005,811.79,0,1,1,1,1,-2,0,0,1,1,0,"",0.1,"",1,2,85320773,1,0,624,1,0,0,0,0,0,0,0,0,64.17,81.179000000000002,0,0,0.1,1,0,64.17,81.179000000000002,0,0,0.1,1,null,null,null,null,null,null,null,null,null,null,null,null,null,null,null,null,null,null,null,null,null,null,null,null,0,{"$f":"ROUND(Y624*Source!I309*DO624,7)","v":0},{"$f":"ROUND(Y624*Source!I309,7)","v":0},{"$f":"AB624","v":641.70000000000005},{"$f":"AF624","v":641.70000000000005},{"$f":"AJ624","v":1},64.17,81.180000000000007,"","",0,{"$f":"ROUND(ROUND(AF624,2)*CX624,2)","v":0},0,0,{"$f":"DG624+DH624","v":0},1,"4-100-040",4,"чел.-ч.",1]
[{"$f":"ROW(Source!A309)","v":309},85316715,85320760,83785268,1,1,1,2,"91.17.04-233","ФСЭМ-2022, 91.17.04-233, приказ Минстроя России от 18.05.2022 г. № 378/пр","Аппараты сварочные для ручной дуговой сварки, сварочный ток до 350 А",1368,null,1011,"маш.-ч","маш.-ч",1,null,null,null,null,null,0,303316554,0,null,0,34.61,0,0,0,34.61,0,0,1,1,1,1,-2,0,0,1,1,0,"",0,"",1,2,85320774,1,6144,625,1,0,0,0,0,0,0,0,0,0,0,0,0,0,0,0,0,0,0,0,0,0,null,null,null,null,null,null,null,null,null,null,null,null,null,null,null,null,null,null,null,null,null,null,null,null,0,{"$f":"ROUND(Y625*Source!I309*DO625,7)","v":0},{"$f":"ROUND(Y625*Source!I309,7)","v":0},{"$f":"AB625","v":34.61},{"$f":"AF625","v":34.61},{"$f":"AJ625","v":1},0,0,"","",0,0,0,0,{"$f":"DG625+DH625","v":0},1,"",0,"",0]
[{"$f":"ROW(Source!A309)","v":309},85316715,85320760,83860728,1,1,1,3,"08.3.07.01-0052","ФСБЦ-2022 доп.4, 08.3.07.01-0052, приказ Минстроя России от 27.12.2022 г. № 1133/пр","Прокат стальной горячекатаный полосовой, марки стали Ст3сп, Ст3пс, размеры 50х5 мм",1348,null,1009,"т","т",1000,null,null,null,null,null,0,-560086148,0,null,52029.73,0,0,0,70310.45,0,0,0,0.74,1,1,1,2,0,0,1,1,0,"",0,"",0,2,85320775,1,6144,626,1,0,0,0,0,0,0,0,0,0,0,0,0,0,0,0,0,0,0,0,0,0,null,null,null,null,null,null,null,null,null,null,null,null,null,null,null,null,null,null,null,null,null,null,null,null,0,0,{"$f":"ROUND(Y626*Source!I309,7)","v":0},{"$f":"AA626","v":52029.73},{"$f":"AE626","v":70310.45},{"$f":"AI626","v":0.74},0,0,"","",{"$f":"ROUND(ROUND(AE626*AI626,2)*CX626,2)","v":0},0,0,0,{"$f":"DF626","v":0},0,"",0,"",0]
[{"$f":"ROW(Source!A309)","v":309},85316715,85320760,83870516,1,1,1,3,"14.4.02.04-0142","ФСБЦ-2022, 14.4.02.04-0142, приказ Минстроя России от 18.05.2022 г. № 378/пр","Краска масляная МА-0115, мумия, сурик железный",1346,null,1009,"кг","кг",1,null,null,null,null,null,0,291254868,0,null,115.03,0,0,0,79.88,0,0,0,1.44,1,1,1,2,0,0,1,1,0,"",0,"",0,2,85320776,1,6144,627,1,0,0,0,0,0,0,0,0,0,0,0,0,0,0,0,0,0,0,0,0,0,null,null,null,null,null,null,null,null,null,null,null,null,null,null,null,null,null,null,null,null,null,null,null,null,0,0,{"$f":"ROUND(Y627*Source!I309,7)","v":0},{"$f":"AA627","v":115.03},{"$f":"AE627","v":79.88},{"$f":"AI627","v":1.44},0,0,"","",{"$f":"ROUND(ROUND(AE627*AI627,2)*CX627,2)","v":0},0,0,0,{"$f":"DF627","v":0},0,"",0,"",0]
[{"$f":"ROW(Source!A309)","v":309},85316715,85320760,83881219,1,1,1,3,"20.5.04.03-0002","ФСБЦ-2022, 20.5.04.03-0002, приказ Минстроя России от 18.05.2022 г. № 378/пр","Зажимы наборные проходные ЗН24-4П25",1425,null,1013,"100 ШТ","100 ШТ",1,null,null,null,null,null,0,-568563229,-1.02,null,1022.02,0,0,0,896.51,0,0,0,1.1399999999999999,1,1,1,2,0,0,1,0,0,"",-1.02,"",0,2,85320777,1,6144,628,0,0,0,0,0,0,0,0,0,0,0,0,0,0,0,0,0,0,0,0,0,0,null,null,null,null,null,null,null,null,null,null,null,null,null,null,null,null,null,null,null,null,null,null,null,null,0,0,{"$f":"ROUND(Y628*Source!I309,7)","v":0},{"$f":"AA628","v":1022.02},{"$f":"AE628","v":896.51},{"$f":"AI628","v":1.1399999999999999},-914.44,0,"","",{"$f":"ROUND(ROUND(AE628*AI628,2)*CX628,2)","v":0},0,0,0,{"$f":"DF628","v":0},0,"",0,"",0]
[{"$f":"ROW(Source!A309)","v":309},85316715,85320760,83783523,117,1,1,3,"421/пр_2020_п.75_пп.а","","Сметная стоимость вспомогательных ненормируемых материальных ресурсов, не учтенная в сметной норме, 2%",3277935,null,1013,"%","%",1,null,null,null,null,null,0,274903907,2,null,0,0,0,0,0,0,0,0,1,1,1,1,0,0,0,0,0,0,"",2,"",0,2,85320778,1,0,629,0,0,0,0,0,0,0,0,0,0,0,0,0,0,0,0,0,0,0,0,0,0,null,null,null,null,null,null,null,null,null,null,null,null,null,null,null,null,null,null,null,null,null,null,null,null,0,0,{"$f":"ROUND(Y629*Source!I309,7)","v":0},{"$f":"AA629","v":0},{"$f":"AE629","v":0},{"$f":"AI629","v":1},0,0,"","",{"$f":"ROUND(ROUND(AE629,2)*CX629,2)","v":0},0,0,0,{"$f":"DF629","v":0},0,"",0,"",0]
[{"$f":"ROW(Source!A310)","v":310},85316656,85320760,83777519,117,1,1,1,"1-100-40","","Средний разряд работы 4,0",1191,null,1013,"чел.-ч.","чел.-ч.",1,null,null,null,null,null,0,888410196,41.2,null,0,0,0,811.79,0,0,0,811.79,1,1,1,1,-2,0,0,1,1,0,"",41.2,"",1,2,85320770,1,0,630,1,0,0,0,0,0,0,0,0,0,0,33445.748,41.2,0,1,0,0,0,33445.748,41.2,0,1,null,null,null,null,null,null,null,null,null,null,null,null,null,null,null,null,null,null,null,null,null,null,null,{"$f":"ROUND(AT630*Source!I310*AH630*AL630,2)","v":0},{"$f":"ROUND(Y630*Source!I310,7)","v":0},0,{"$f":"ROUND(Y630*Source!I310,7)","v":0},{"$f":"AD630","v":811.79},{"$f":"AH630","v":811.79},{"$f":"AL630","v":1},33445.75,0,"","",0,0,0,0,{"$f":"DI630","v":0},1,"",0,"",0]
[{"$f":"ROW(Source!A310)","v":310},85316656,85320760,83777689,117,1,1,1,"4-100-00","","Затраты труда машинистов",1191,null,1013,"чел.-ч.","чел.-ч.",1,null,null,null,null,null,0,-1417349443,0.2,null,0,0,0,0,0,0,0,0,1,1,1,1,-2,0,0,1,1,0,"",0.2,"",2,2,85320771,1,0,631,1,0,0,0,0,0,0,0,0,0,0,0,0,0,0,0,0,0,0,0,0,0,null,null,null,null,null,null,null,null,null,null,null,null,null,null,null,null,null,null,null,null,null,null,null,null,0,0,{"$f":"ROUND(Y631*Source!I310,7)","v":0},{"$f":"AD631","v":0},{"$f":"AH631","v":0},{"$f":"AL631","v":1},0,0,"","",0,0,0,0,{"$f":"DI631","v":0},0,"",0,"",0]
[{"$f":"ROW(Source!A310)","v":310},85316656,85320760,83784178,1,1,1,2,"91.05.05-015","ФСЭМ-2022, 91.05.05-015, приказ Минстроя России от 18.05.2022 г. № 378/пр","Краны на автомобильном ходу, грузоподъемность 16 т",1368,null,1011,"маш.-ч","маш.-ч",1,null,null,null,null,null,0,639918019,0.1,null,0,1626.29,1090.46,0,0,1626.29,1090.46,0,1,1,1,1,-2,0,0,1,1,0,"",0.1,"",1,2,85320772,1,0,632,1,0,0,0,0,0,0,0,0,162.62900000000002,109.04600000000001,0,0,0.1,1,0,162.62900000000002,109.04600000000001,0,0,0.1,1,null,null,null,null,null,null,null,null,null,null,null,null,null,null,null,null,null,null,null,null,null,null,null,null,0,{"$f":"ROUND(Y632*Source!I310*DO632,7)","v":0},{"$f":"ROUND(Y632*Source!I310,7)","v":0},{"$f":"AB632","v":1626.29},{"$f":"AF632","v":1626.29},{"$f":"AJ632","v":1},162.63,109.05,"","",0,0,0,0,{"$f":"DG632+DH632","v":0},1,"4-100-060",6,"чел.-ч.",1]
[{"$f":"ROW(Source!A310)","v":310},85316656,85320760,83785072,1,1,1,2,"91.14.02-001","ФСЭМ-2022 доп.7, 91.14.02-001, приказ Минстроя России от 02.08.2023 г. № 551/пр","Автомобили бортовые, грузоподъемность до 5 т",1368,null,1011,"маш.-ч","маш.-ч",1,null,null,null,null,null,0,-849950259,0.1,null,0,641.70000000000005,811.79,0,0,641.70000000000005,811.79,0,1,1,1,1,-2,0,0,1,1,0,"",0.1,"",1,2,85320773,1,0,633,1,0,0,0,0,0,0,0,0,64.17,81.179000000000002,0,0,0.1,1,0,64.17,81.179000000000002,0,0,0.1,1,null,null,null,null,null,null,null,null,null,null,null,null,null,null,null,null,null,null,null,null,null,null,null,null,0,{"$f":"ROUND(Y633*Source!I310*DO633,7)","v":0},{"$f":"ROUND(Y633*Source!I310,7)","v":0},{"$f":"AB633","v":641.70000000000005},{"$f":"AF633","v":641.70000000000005},{"$f":"AJ633","v":1},64.17,81.180000000000007,"","",0,0,0,0,{"$f":"DG633+DH633","v":0},1,"4-100-040",4,"чел.-ч.",1]
[{"$f":"ROW(Source!A310)","v":310},85316656,85320760,83785268,1,1,1,2,"91.17.04-233","ФСЭМ-2022, 91.17.04-233, приказ Минстроя России от 18.05.2022 г. № 378/пр","Аппараты сварочные для ручной дуговой сварки, сварочный ток до 350 А",1368,null,1011,"маш.-ч","маш.-ч",1,null,null,null,null,null,0,303316554,0,null,0,34.61,0,0,0,34.61,0,0,1,1,1,1,-2,0,0,1,1,0,"",0,"",1,2,85320774,1,6144,634,1,0,0,0,0,0,0,0,0,0,0,0,0,0,0,0,0,0,0,0,0,0,null,null,null,null,null,null,null,null,null,null,null,null,null,null,null,null,null,null,null,null,null,null,null,null,0,{"$f":"ROUND(Y634*Source!I310*DO634,7)","v":0},{"$f":"ROUND(Y634*Source!I310,7)","v":0},{"$f":"AB634","v":34.61},{"$f":"AF634","v":34.61},{"$f":"AJ634","v":1},0,0,"","",0,0,0,0,{"$f":"DG634+DH634","v":0},1,"",0,"",0]
[{"$f":"ROW(Source!A310)","v":310},85316656,85320760,83860728,1,1,1,3,"08.3.07.01-0052","ФСБЦ-2022 доп.4, 08.3.07.01-0052, приказ Минстроя России от 27.12.2022 г. № 1133/пр","Прокат стальной горячекатаный полосовой, марки стали Ст3сп, Ст3пс, размеры 50х5 мм",1348,null,1009,"т","т",1000,null,null,null,null,null,0,-560086148,0,null,52029.73,0,0,0,70310.45,0,0,0,0.74,1,1,1,2,0,0,1,1,0,"",0,"",0,2,85320775,1,6144,635,1,0,0,0,0,0,0,0,0,0,0,0,0,0,0,0,0,0,0,0,0,0,null,null,null,null,null,null,null,null,null,null,null,null,null,null,null,null,null,null,null,null,null,null,null,null,0,0,{"$f":"ROUND(Y635*Source!I310,7)","v":0},{"$f":"AA635","v":52029.73},{"$f":"AE635","v":70310.45},{"$f":"AI635","v":0.74},0,0,"","",{"$f":"ROUND(ROUND(AE635*AI635,2)*CX635,2)","v":0},0,0,0,{"$f":"DF635","v":0},0,"",0,"",0]
[{"$f":"ROW(Source!A310)","v":310},85316656,85320760,83870516,1,1,1,3,"14.4.02.04-0142","ФСБЦ-2022, 14.4.02.04-0142, приказ Минстроя России от 18.05.2022 г. № 378/пр","Краска масляная МА-0115, мумия, сурик железный",1346,null,1009,"кг","кг",1,null,null,null,null,null,0,291254868,0,null,115.03,0,0,0,79.88,0,0,0,1.44,1,1,1,2,0,0,1,1,0,"",0,"",0,2,85320776,1,6144,636,1,0,0,0,0,0,0,0,0,0,0,0,0,0,0,0,0,0,0,0,0,0,null,null,null,null,null,null,null,null,null,null,null,null,null,null,null,null,null,null,null,null,null,null,null,null,0,0,{"$f":"ROUND(Y636*Source!I310,7)","v":0},{"$f":"AA636","v":115.03},{"$f":"AE636","v":79.88},{"$f":"AI636","v":1.44},0,0,"","",{"$f":"ROUND(ROUND(AE636*AI636,2)*CX636,2)","v":0},0,0,0,{"$f":"DF636","v":0},0,"",0,"",0]
[{"$f":"ROW(Source!A310)","v":310},85316656,85320760,83881219,1,1,1,3,"20.5.04.03-0002","ФСБЦ-2022, 20.5.04.03-0002, приказ Минстроя России от 18.05.2022 г. № 378/пр","Зажимы наборные проходные ЗН24-4П25",1425,null,1013,"100 ШТ","100 ШТ",1,null,null,null,null,null,0,-568563229,-1.02,null,1022.02,0,0,0,896.51,0,0,0,1.1399999999999999,1,1,1,2,0,0,1,0,0,"",-1.02,"",0,2,85320777,1,6144,637,0,0,0,0,0,0,0,0,0,0,0,0,0,0,0,0,0,0,0,0,0,0,null,null,null,null,null,null,null,null,null,null,null,null,null,null,null,null,null,null,null,null,null,null,null,null,0,0,{"$f":"ROUND(Y637*Source!I310,7)","v":0},{"$f":"AA637","v":1022.02},{"$f":"AE637","v":896.51},{"$f":"AI637","v":1.1399999999999999},-914.44,0,"","",{"$f":"ROUND(ROUND(AE637*AI637,2)*CX637,2)","v":0},0,0,0,{"$f":"DF637","v":0},0,"",0,"",0]
[{"$f":"ROW(Source!A310)","v":310},85316656,85320760,83783523,117,1,1,3,"421/пр_2020_п.75_пп.а","","Сметная стоимость вспомогательных ненормируемых материальных ресурсов, не учтенная в сметной норме, 2%",3277935,null,1013,"%","%",1,null,null,null,null,null,0,274903907,2,null,0,0,0,0,0,0,0,0,1,1,1,1,0,0,0,0,0,0,"",2,"",0,2,85320778,1,0,638,0,0,0,0,0,0,0,0,0,0,0,0,0,0,0,0,0,0,0,0,0,0,null,null,null,null,null,null,null,null,null,null,null,null,null,null,null,null,null,null,null,null,null,null,null,null,0,0,{"$f":"ROUND(Y638*Source!I310,7)","v":0},{"$f":"AA638","v":0},{"$f":"AE638","v":0},{"$f":"AI638","v":1},0,0,"","",{"$f":"ROUND(ROUND(AE638,2)*CX638,2)","v":0},0,0,0,{"$f":"DF638","v":0},0,"",0,"",0]
[{"$f":"ROW(Source!A540)","v":540},85316715,85320824,83777659,117,1,1,1,"2-100-06","","Рабочий 6 разряда",1369,null,1013,"чел.-ч","чел.-ч",1,null,null,null,null,null,0,286205319,{"$f":"(AT639*ROUND((0.2+1),7))","v":0.6},null,0,0,0,1090.46,0,0,0,1090.46,1,1,1,1,-2,0,0,1,1,0,"",0.5,"*(0,2+1)",1,2,85320827,1,0,639,1,0,0,0,0,0,0,0,0,0,0,545.23,0.5,0,1,0,0,0,654.27599999999995,0.6,0,1,null,null,null,null,null,null,null,null,null,null,null,null,null,null,null,null,null,null,null,null,null,null,null,{"$f":"ROUND(AT639*Source!I540*AH639*AL639,2)","v":1635.69},{"$f":"ROUND(Y639*Source!I540,7)","v":1.8},0,{"$f":"ROUND(Y639*Source!I540,7)","v":1.8},{"$f":"AD639","v":1090.46},{"$f":"AH639","v":1090.46},{"$f":"AL639","v":1},{"$f":"ROUND((ROUND(AT639*CZ639,2)*ROUND((0.2+1),7)),2)","v":654.28},{"$f":"ROUND((ROUND(AT639*AG639,2)*ROUND((0.2+1),7)),2)","v":0},"","",0,0,0,1962.83,{"$f":"DI639","v":1962.83},1,"",0,"",0]
[{"$f":"ROW(Source!A540)","v":540},85316715,85320824,83777683,117,1,1,1,"3-200-03","","Инженер III категории",1369,null,1013,"чел.-ч","чел.-ч",1,null,null,null,null,null,0,126826561,0.6,null,0,0,0,1066.23,0,0,0,1066.23,1,1,1,1,-2,0,0,1,1,0,"",0.5,"*(0,2+1)",1,2,85320828,1,0,640,1,0,0,0,0,0,0,0,0,0,0,533.11500000000001,0.5,0,1,0,0,0,639.73799999999994,0.6,0,1,null,null,null,null,null,null,null,null,null,null,null,null,null,null,null,null,null,null,null,null,null,null,null,{"$f":"ROUND(AT640*Source!I540*AH640*AL640,2)","v":1599.35},{"$f":"ROUND(Y640*Source!I540,7)","v":1.8},0,{"$f":"ROUND(Y640*Source!I540,7)","v":1.8},1066.23,1066.23,1,639.74,0,"","",0,0,0,1919.21,1919.21,1,"",0,"",0]
[{"$f":"ROW(Source!A541)","v":541},85316656,85320824,83777659,117,1,1,1,"2-100-06","","Рабочий 6 разряда",1369,null,1013,"чел.-ч","чел.-ч",1,null,null,null,null,null,0,286205319,0.6,null,0,0,0,1090.46,0,0,0,1090.46,1,1,1,1,-2,0,0,1,1,0,"",0.5,"*(0,2+1)",1,2,85320827,1,0,641,1,0,0,0,0,0,0,0,0,0,0,545.23,0.5,0,1,0,0,0,654.27599999999995,0.6,0,1,null,null,null,null,null,null,null,null,null,null,null,null,null,null,null,null,null,null,null,null,null,null,null,{"$f":"ROUND(AT641*Source!I541*AH641*AL641,2)","v":1635.69},{"$f":"ROUND(Y641*Source!I541,7)","v":1.8},0,{"$f":"ROUND(Y641*Source!I541,7)","v":1.8},1090.46,1090.46,1,654.28,0,"","",0,0,{"$f":"ROUND(ROUND(AG641,2)*CX641,2)","v":0},{"$f":"ROUND(ROUND(AH641,2)*CX641,2)","v":1962.83},1962.83,1,"",0,"",0]
[{"$f":"ROW(Source!A541)","v":541},85316656,85320824,83777683,117,1,1,1,"3-200-03","","Инженер III категории",1369,null,1013,"чел.-ч","чел.-ч",1,null,null,null,null,null,0,126826561,0.6,null,0,0,0,1066.23,0,0,0,1066.23,1,1,1,1,-2,0,0,1,1,0,"",0.5,"*(0,2+1)",1,2,85320828,1,0,642,1,0,0,0,0,0,0,0,0,0,0,533.11500000000001,0.5,0,1,0,0,0,639.73799999999994,0.6,0,1,null,null,null,null,null,null,null,null,null,null,null,null,null,null,null,null,null,null,null,null,null,null,null,{"$f":"ROUND(AT642*Source!I541*AH642*AL642,2)","v":1599.35},{"$f":"ROUND(Y642*Source!I541,7)","v":1.8},0,{"$f":"ROUND(Y642*Source!I541,7)","v":1.8},1066.23,1066.23,1,639.74,0,"","",0,0,0,1919.21,1919.21,1,"",0,"",0]
[{"$f":"ROW(Source!A543)","v":543},85316715,85320830,83777659,117,1,1,1,"2-100-06","","Рабочий 6 разряда",1369,null,1013,"чел.-ч","чел.-ч",1,null,null,null,null,null,0,286205319,7.7759999999999998,null,0,0,0,1090.46,0,0,0,1090.46,1,1,1,1,-2,0,0,1,1,0,"",6.48,"*(0,2+1)",1,2,85320833,1,0,643,1,0,0,0,0,0,0,0,0,0,0,7066.180800000001,6.48,0,1,0,0,0,8479.4169600000005,7.7759999999999998,0,1,null,null,null,null,null,null,null,null,null,null,null,null,null,null,null,null,null,null,null,null,null,null,null,{"$f":"ROUND(AT643*Source!I543*AH643*AL643,2)","v":423.97},{"$f":"ROUND(Y643*Source!I543,7)","v":0.46655999999999997},0,{"$f":"ROUND(Y643*Source!I543,7)","v":0.46655999999999997},1090.46,1090.46,1,8479.42,0,"","",0,0,0,508.77,508.77,1,"",0,"",0]
[{"$f":"ROW(Source!A543)","v":543},85316715,85320830,83777683,117,1,1,1,"3-200-03","","Инженер III категории",1369,null,1013,"чел.-ч","чел.-ч",1,null,null,null,null,null,0,126826561,7.7759999999999998,null,0,0,0,1066.23,0,0,0,1066.23,1,1,1,1,-2,0,0,1,1,0,"",6.48,"*(0,2+1)",1,2,85320834,1,0,644,1,0,0,0,0,0,0,0,0,0,0,6909.1704000000009,6.48,0,1,0,0,0,8291.0044799999996,7.7759999999999998,0,1,null,null,null,null,null,null,null,null,null,null,null,null,null,null,null,null,null,null,null,null,null,null,null,{"$f":"ROUND(AT644*Source!I543*AH644*AL644,2)","v":414.55},{"$f":"ROUND(Y644*Source!I543,7)","v":0.46655999999999997},0,{"$f":"ROUND(Y644*Source!I543,7)","v":0.46655999999999997},1066.23,1066.23,1,8291,0,"","",0,0,0,497.46,497.46,1,"",0,"",0]
[{"$f":"ROW(Source!A544)","v":544},85316656,85320830,83777659,117,1,1,1,"2-100-06","","Рабочий 6 разряда",1369,null,1013,"чел.-ч","чел.-ч",1,null,null,null,null,null,0,286205319,7.7759999999999998,null,0,0,0,1090.46,0,0,0,1090.46,1,1,1,1,-2,0,0,1,1,0,"",6.48,"*(0,2+1)",1,2,85320833,1,0,645,1,0,0,0,0,0,0,0,0,0,0,7066.180800000001,6.48,0,1,0,0,0,8479.4169600000005,7.7759999999999998,0,1,null,null,null,null,null,null,null,null,null,null,null,null,null,null,null,null,null,null,null,null,null,null,null,{"$f":"ROUND(AT645*Source!I544*AH645*AL645,2)","v":423.97},{"$f":"ROUND(Y645*Source!I544,7)","v":0.46655999999999997},0,{"$f":"ROUND(Y645*Source!I544,7)","v":0.46655999999999997},1090.46,1090.46,1,8479.42,0,"","",0,0,0,508.77,508.77,1,"",0,"",0]
[{"$f":"ROW(Source!A544)","v":544},85316656,85320830,83777683,117,1,1,1,"3-200-03","","Инженер III категории",1369,null,1013,"чел.-ч","чел.-ч",1,null,null,null,null,null,0,126826561,7.7759999999999998,null,0,0,0,1066.23,0,0,0,1066.23,1,1,1,1,-2,0,0,1,1,0,"",6.48,"*(0,2+1)",1,2,85320834,1,0,646,1,0,0,0,0,0,0,0,0,0,0,6909.1704000000009,6.48,0,1,0,0,0,8291.0044799999996,7.7759999999999998,0,1,null,null,null,null,null,null,null,null,null,null,null,null,null,null,null,null,null,null,null,null,null,null,null,{"$f":"ROUND(AT646*Source!I544*AH646*AL646,2)","v":414.55},{"$f":"ROUND(Y646*Source!I544,7)","v":0.46655999999999997},0,{"$f":"ROUND(Y646*Source!I544,7)","v":0.46655999999999997},1066.23,1066.23,1,8291,0,"","",0,0,0,497.46,497.46,1,"",0,"",0]
[{"$f":"ROW(Source!A546)","v":546},85316715,85320836,77306515,114,1,1,1,"2-100-06","","Рабочий 6 разряда",1369,null,1013,"чел.-ч","чел.-ч",1,null,null,null,null,null,0,286205319,0.49199999999999994,null,0,0,0,1090.46,0,0,0,1090.46,1,1,1,1,-2,0,0,1,1,0,"",0.41,"*(0,2+1)",1,2,85320839,2,133120,647,1,0,0,0,0,0,0,0,0,0,0,447.08859999999999,0.41,0,1,0,0,0,536.50631999999996,0.49199999999999999,0,1,null,null,null,null,null,null,null,null,null,null,null,null,null,null,null,null,null,null,null,null,null,null,null,{"$f":"ROUND(AT647*Source!I546*AH647*AL647,2)","v":1341.27},{"$f":"ROUND(Y647*Source!I546,7)","v":1.476},0,{"$f":"ROUND(Y647*Source!I546,7)","v":1.476},1090.46,1090.46,1,536.51,0,"","",0,0,0,1609.52,1609.52,1,"",0,"",0]
[{"$f":"ROW(Source!A546)","v":546},85316715,85320836,77306539,114,1,1,1,"3-200-03","","Инженер III категории",1369,null,1013,"чел.-ч","чел.-ч",1,null,null,null,null,null,0,126826561,0.49199999999999994,null,0,0,0,1066.23,0,0,0,1066.23,1,1,1,1,-2,0,0,1,1,0,"",0.41,"*(0,2+1)",1,2,85320840,2,133120,648,1,0,0,0,0,0,0,0,0,0,0,437.15429999999998,0.41,0,1,0,0,0,524.58515999999997,0.49199999999999999,0,1,null,null,null,null,null,null,null,null,null,null,null,null,null,null,null,null,null,null,null,null,null,null,null,{"$f":"ROUND(AT648*Source!I546*AH648*AL648,2)","v":1311.46},{"$f":"ROUND(Y648*Source!I546,7)","v":1.476},0,{"$f":"ROUND(Y648*Source!I546,7)","v":1.476},1066.23,1066.23,1,524.58000000000004,0,"","",0,0,0,1573.76,1573.76,1,"",0,"",0]
[{"$f":"ROW(Source!A547)","v":547},85316656,85320836,77306515,114,1,1,1,"2-100-06","","Рабочий 6 разряда",1369,null,1013,"чел.-ч","чел.-ч",1,null,null,null,null,null,0,286205319,0.49199999999999994,null,0,0,0,1090.46,0,0,0,1090.46,1,1,1,1,-2,0,0,1,1,0,"",0.41,"*(0,2+1)",1,2,85320839,2,133120,649,1,0,0,0,0,0,0,0,0,0,0,447.08859999999999,0.41,0,1,0,0,0,536.50631999999996,0.49199999999999999,0,1,null,null,null,null,null,null,null,null,null,null,null,null,null,null,null,null,null,null,null,null,null,null,null,{"$f":"ROUND(AT649*Source!I547*AH649*AL649,2)","v":1341.27},{"$f":"ROUND(Y649*Source!I547,7)","v":1.476},0,{"$f":"ROUND(Y649*Source!I547,7)","v":1.476},1090.46,1090.46,1,536.51,0,"","",0,0,0,1609.52,1609.52,1,"",0,"",0]
[{"$f":"ROW(Source!A547)","v":547},85316656,85320836,77306539,114,1,1,1,"3-200-03","","Инженер III категории",1369,null,1013,"чел.-ч","чел.-ч",1,null,null,null,null,null,0,126826561,0.49199999999999994,null,0,0,0,1066.23,0,0,0,1066.23,1,1,1,1,-2,0,0,1,1,0,"",0.41,"*(0,2+1)",1,2,85320840,2,133120,650,1,0,0,0,0,0,0,0,0,0,0,437.15429999999998,0.41,0,1,0,0,0,524.58515999999997,0.49199999999999999,0,1,null,null,null,null,null,null,null,null,null,null,null,null,null,null,null,null,null,null,null,null,null,null,null,{"$f":"ROUND(AT650*Source!I547*AH650*AL650,2)","v":1311.46},{"$f":"ROUND(Y650*Source!I547,7)","v":1.476},0,{"$f":"ROUND(Y650*Source!I547,7)","v":1.476},1066.23,1066.23,1,524.58000000000004,0,"","",0,0,0,1573.76,1573.76,1,"",0,"",0]
[{"$f":"ROW(Source!A549)","v":549},85316715,85320842,77306515,114,1,1,1,"2-100-06","","Рабочий 6 разряда",1369,null,1013,"чел.-ч","чел.-ч",1,null,null,null,null,null,0,286205319,1.944,null,0,0,0,1090.46,0,0,0,1090.46,1,1,1,1,-2,0,0,1,1,0,"",1.62,"*(0,2+1)",1,2,85320845,2,131072,651,1,0,0,0,0,0,0,0,0,0,0,1766.5452000000002,1.62,0,1,0,0,0,2119.8542400000001,1.944,0,1,null,null,null,null,null,null,null,null,null,null,null,null,null,null,null,null,null,null,null,null,null,null,null,{"$f":"ROUND(AT651*Source!I549*AH651*AL651,2)","v":1766.55},{"$f":"ROUND(Y651*Source!I549,7)","v":1.944},0,{"$f":"ROUND(Y651*Source!I549,7)","v":1.944},1090.46,1090.46,1,2119.86,0,"","",0,0,0,2119.85,2119.85,1,"",0,"",0]
[{"$f":"ROW(Source!A549)","v":549},85316715,85320842,77306539,114,1,1,1,"3-200-03","","Инженер III категории",1369,null,1013,"чел.-ч","чел.-ч",1,null,null,null,null,null,0,126826561,1.944,null,0,0,0,1066.23,0,0,0,1066.23,1,1,1,1,-2,0,0,1,1,0,"",1.62,"*(0,2+1)",1,2,85320846,2,131072,652,1,0,0,0,0,0,0,0,0,0,0,1727.2926000000002,1.62,0,1,0,0,0,2072.7511199999999,1.944,0,1,null,null,null,null,null,null,null,null,null,null,null,null,null,null,null,null,null,null,null,null,null,null,null,{"$f":"ROUND(AT652*Source!I549*AH652*AL652,2)","v":1727.29},{"$f":"ROUND(Y652*Source!I549,7)","v":1.944},0,{"$f":"ROUND(Y652*Source!I549,7)","v":1.944},1066.23,1066.23,1,2072.75,0,"","",0,0,0,2072.75,2072.75,1,"",0,"",0]
[{"$f":"ROW(Source!A550)","v":550},85316656,85320842,77306515,114,1,1,1,"2-100-06","","Рабочий 6 разряда",1369,null,1013,"чел.-ч","чел.-ч",1,null,null,null,null,null,0,286205319,1.944,null,0,0,0,1090.46,0,0,0,1090.46,1,1,1,1,-2,0,0,1,1,0,"",1.62,"*(0,2+1)",1,2,85320845,2,131072,653,1,0,0,0,0,0,0,0,0,0,0,1766.5452000000002,1.62,0,1,0,0,0,2119.8542400000001,1.944,0,1,null,null,null,null,null,null,null,null,null,null,null,null,null,null,null,null,null,null,null,null,null,null,null,{"$f":"ROUND(AT653*Source!I550*AH653*AL653,2)","v":1766.55},{"$f":"ROUND(Y653*Source!I550,7)","v":1.944},0,{"$f":"ROUND(Y653*Source!I550,7)","v":1.944},1090.46,1090.46,1,2119.86,0,"","",0,0,0,2119.85,2119.85,1,"",0,"",0]
[{"$f":"ROW(Source!A550)","v":550},85316656,85320842,77306539,114,1,1,1,"3-200-03","","Инженер III категории",1369,null,1013,"чел.-ч","чел.-ч",1,null,null,null,null,null,0,126826561,1.944,null,0,0,0,1066.23,0,0,0,1066.23,1,1,1,1,-2,0,0,1,1,0,"",1.62,"*(0,2+1)",1,2,85320846,2,131072,654,1,0,0,0,0,0,0,0,0,0,0,1727.2926000000002,1.62,0,1,0,0,0,2072.7511199999999,1.944,0,1,null,null,null,null,null,null,null,null,null,null,null,null,null,null,null,null,null,null,null,null,null,null,null,{"$f":"ROUND(AT654*Source!I550*AH654*AL654,2)","v":1727.29},{"$f":"ROUND(Y654*Source!I550,7)","v":1.944},0,{"$f":"ROUND(Y654*Source!I550,7)","v":1.944},1066.23,1066.23,1,2072.75,0,"","",0,0,0,2072.75,2072.75,1,"",0,"",0]
[{"$f":"ROW(Source!A552)","v":552},85316715,85320848,77306511,114,1,1,1,"2-100-04","","Рабочий 4 разряда",1369,null,1013,"чел.-ч","чел.-ч",1,null,null,null,null,null,0,-512803540,1.62,null,0,0,0,811.79,0,0,0,811.79,1,1,1,1,-2,0,0,1,1,0,"",1.35,"*(0,2+1)",1,2,85320851,2,131072,655,1,0,0,0,0,0,0,0,0,0,0,1095.9165,1.35,0,1,0,0,0,1315.0998,1.62,0,1,null,null,null,null,null,null,null,null,null,null,null,null,null,null,null,null,null,null,null,null,null,null,null,{"$f":"ROUND(AT655*Source!I552*AH655*AL655,2)","v":1095.92},{"$f":"ROUND(Y655*Source!I552,7)","v":1.62},0,{"$f":"ROUND(Y655*Source!I552,7)","v":1.62},811.79,811.79,1,1315.1,0,"","",0,0,0,1315.1,1315.1,1,"",0,"",0]
[{"$f":"ROW(Source!A552)","v":552},85316715,85320848,77306529,114,1,1,1,"3-100-02","","Техник II категории",1369,null,1013,"чел.-ч","чел.-ч",1,null,null,null,null,null,0,-1275334932,1.62,null,0,0,0,775.44,0,0,0,775.44,1,1,1,1,-2,0,0,1,1,0,"",1.35,"*(0,2+1)",1,2,85320852,2,131072,656,1,0,0,0,0,0,0,0,0,0,0,1046.8440000000001,1.35,0,1,0,0,0,1256.2128000000002,1.62,0,1,null,null,null,null,null,null,null,null,null,null,null,null,null,null,null,null,null,null,null,null,null,null,null,{"$f":"ROUND(AT656*Source!I552*AH656*AL656,2)","v":1046.8399999999999},{"$f":"ROUND(Y656*Source!I552,7)","v":1.62},0,{"$f":"ROUND(Y656*Source!I552,7)","v":1.62},775.44,775.44,1,1256.21,0,"","",0,{"$f":"ROUND(ROUND(AF656,2)*CX656,2)","v":0},0,1256.21,1256.21,1,"",0,"",0]
[{"$f":"ROW(Source!A553)","v":553},85316656,85320848,77306511,114,1,1,1,"2-100-04","","Рабочий 4 разряда",1369,null,1013,"чел.-ч","чел.-ч",1,null,null,null,null,null,0,-512803540,1.62,null,0,0,0,811.79,0,0,0,811.79,1,1,1,1,-2,0,0,1,1,0,"",1.35,"*(0,2+1)",1,2,85320851,2,131072,657,1,0,0,0,0,0,0,0,0,0,0,1095.9165,1.35,0,1,0,0,0,1315.0998,1.62,0,1,null,null,null,null,null,null,null,null,null,null,null,null,null,null,null,null,null,null,null,null,null,null,null,{"$f":"ROUND(AT657*Source!I553*AH657*AL657,2)","v":1095.92},{"$f":"ROUND(Y657*Source!I553,7)","v":1.62},0,{"$f":"ROUND(Y657*Source!I553,7)","v":1.62},811.79,811.79,1,1315.1,0,"","",0,0,0,1315.1,1315.1,1,"",0,"",0]
[{"$f":"ROW(Source!A553)","v":553},85316656,85320848,77306529,114,1,1,1,"3-100-02","","Техник II категории",1369,null,1013,"чел.-ч","чел.-ч",1,null,null,null,null,null,0,-1275334932,1.62,null,0,0,0,775.44,0,0,0,775.44,1,1,1,1,-2,0,0,1,1,0,"",1.35,"*(0,2+1)",1,2,85320852,2,131072,658,1,0,0,0,0,0,0,0,0,0,0,1046.8440000000001,1.35,0,1,0,0,0,1256.2128000000002,1.62,0,1,null,null,null,null,null,null,null,null,null,null,null,null,null,null,null,null,null,null,null,null,null,null,null,{"$f":"ROUND(AT658*Source!I553*AH658*AL658,2)","v":1046.8399999999999},{"$f":"ROUND(Y658*Source!I553,7)","v":1.62},0,{"$f":"ROUND(Y658*Source!I553,7)","v":1.62},775.44,775.44,1,1256.21,0,"","",0,0,0,1256.21,1256.21,1,"",0,"",0]
[{"$f":"ROW(Source!A555)","v":555},85316715,85320854,77306515,114,1,1,1,"2-100-06","","Рабочий 6 разряда",1369,null,1013,"чел.-ч","чел.-ч",1,null,null,null,null,null,0,286205319,0.6,null,0,0,0,1090.46,0,0,0,1090.46,1,1,1,1,-2,0,0,1,1,0,"",0.5,"*(0,2+1)",1,2,85320857,2,131072,659,1,0,0,0,0,0,0,0,0,0,0,545.23,0.5,0,1,0,0,0,654.27599999999995,0.6,0,1,null,null,null,null,null,null,null,null,null,null,null,null,null,null,null,null,null,null,null,null,null,null,null,{"$f":"ROUND(AT659*Source!I555*AH659*AL659,2)","v":545.23},{"$f":"ROUND(Y659*Source!I555,7)","v":0.6},0,{"$f":"ROUND(Y659*Source!I555,7)","v":0.6},1090.46,1090.46,1,654.28,0,"","",0,0,0,654.28,654.28,1,"",0,"",0]
[{"$f":"ROW(Source!A555)","v":555},85316715,85320854,77306539,114,1,1,1,"3-200-03","","Инженер III категории",1369,null,1013,"чел.-ч","чел.-ч",1,null,null,null,null,null,0,126826561,0.6,null,0,0,0,1066.23,0,0,0,1066.23,1,1,1,1,-2,0,0,1,1,0,"",0.5,"*(0,2+1)",1,2,85320858,2,131072,660,1,0,0,0,0,0,0,0,0,0,0,533.11500000000001,0.5,0,1,0,0,0,639.73799999999994,0.6,0,1,null,null,null,null,null,null,null,null,null,null,null,null,null,null,null,null,null,null,null,null,null,null,null,{"$f":"ROUND(AT660*Source!I555*AH660*AL660,2)","v":533.12},{"$f":"ROUND(Y660*Source!I555,7)","v":0.6},0,{"$f":"ROUND(Y660*Source!I555,7)","v":0.6},1066.23,1066.23,1,639.74,0,"","",0,0,0,639.74,639.74,1,"",0,"",0]
[{"$f":"ROW(Source!A556)","v":556},85316656,85320854,77306515,114,1,1,1,0,"","Рабочий 6 разряда",1369,null,1013,"чел.-ч","чел.-ч",1,null,null,null,null,null,0,286205319,0.6,null,0,0,0,1090.46,0,0,0,1090.46,1,1,1,1,-2,0,0,1,1,0,"",0.5,"*(0,2+1)",1,2,85320857,2,131072,661,1,0,0,0,0,0,0,0,0,0,0,545.23,0.5,0,1,0,0,0,654.27599999999995,0.6,0,1,null,null,null,null,null,null,null,null,null,null,null,null,null,null,null,null,null,null,null,null,null,null,null,{"$f":"ROUND(AT661*Source!I556*AH661*AL661,2)","v":545.23},{"$f":"ROUND(Y661*Source!I556,7)","v":0.6},0,{"$f":"ROUND(Y661*Source!I556,7)","v":0.6},1090.46,1090.46,1,654.28,0,"","",0,0,0,654.28,654.28,1,"",0,"",0]
[{"$f":"ROW(Source!A556)","v":556},85316656,85320854,77306539,114,1,1,1,"3-200-03","","Инженер III категории",1369,null,1013,"чел.-ч","чел.-ч",1,null,null,null,null,null,0,126826561,0.6,null,0,0,0,1066.23,0,0,0,1066.23,1,1,1,1,-2,0,0,1,1,0,"",0.5,"*(0,2+1)",1,2,85320858,2,131072,662,1,0,0,0,0,0,0,0,0,0,0,533.11500000000001,0.5,0,1,0,0,0,639.73799999999994,0.6,0,1,null,null,null,null,null,null,null,null,null,null,null,null,null,null,null,null,null,null,null,null,null,null,null,{"$f":"ROUND(AT662*Source!I556*AH662*AL662,2)","v":533.12},{"$f":"ROUND(Y662*Source!I556,7)","v":0.6},0,{"$f":"ROUND(Y662*Source!I556,7)","v":0.6},1066.23,1066.23,1,639.74,0,"","",0,0,0,639.74,639.74,1,"",0,"",0]
[{"$f":"ROW(Source!A558)","v":558},85316715,85320860,77306515,114,1,1,1,"2-100-06","","Рабочий 6 разряда",1369,null,1013,"чел.-ч","чел.-ч",1,null,null,null,null,null,0,286205319,0.192,null,0,0,0,1090.46,0,0,0,1090.46,1,1,1,1,-2,0,0,1,1,0,"",0.16,"*(0,2+1)",1,2,85320863,2,131072,663,1,0,0,0,0,0,0,0,0,0,0,174.4736,0.16,0,1,0,0,0,209.36832000000001,0.192,0,1,null,null,null,null,null,null,null,null,null,null,null,null,null,null,null,null,null,null,null,null,null,null,null,{"$f":"ROUND(AT663*Source!I558*AH663*AL663,2)","v":174.47},{"$f":"ROUND(Y663*Source!I558,7)","v":0.192},0,{"$f":"ROUND(Y663*Source!I558,7)","v":0.192},1090.46,1090.46,1,209.36,0,"","",0,0,0,209.37,209.37,1,"",0,"",0]
[{"$f":"ROW(Source!A558)","v":558},85316715,85320860,77306539,114,1,1,1,"3-200-03","","Инженер III категории",1369,null,1013,"чел.-ч","чел.-ч",1,null,null,null,null,null,0,126826561,0.192,null,0,0,0,1066.23,0,0,0,1066.23,1,1,1,1,-2,0,0,1,1,0,"",0.16,"*(0,2+1)",1,2,85320864,2,131072,664,1,0,0,0,0,0,0,0,0,0,0,170.5968,0.16,0,1,0,0,0,204.71616,0.192,0,1,null,null,null,null,null,null,null,null,null,null,null,null,null,null,null,null,null,null,null,null,null,null,null,{"$f":"ROUND(AT664*Source!I558*AH664*AL664,2)","v":170.6},{"$f":"ROUND(Y664*Source!I558,7)","v":0.192},0,{"$f":"ROUND(Y664*Source!I558,7)","v":0.192},1066.23,1066.23,1,204.72,0,"","",0,0,0,204.72,204.72,1,"",0,"",0]
[{"$f":"ROW(Source!A559)","v":559},85316656,85320860,77306515,114,1,1,1,"2-100-06","","Рабочий 6 разряда",1369,null,1013,"чел.-ч","чел.-ч",1,null,null,null,null,null,0,286205319,0.192,null,0,0,0,1090.46,0,0,0,1090.46,1,1,1,1,-2,0,0,1,1,0,"",0.16,"*(0,2+1)",1,2,85320863,2,131072,665,1,0,0,0,0,0,0,0,0,0,0,174.4736,0.16,0,1,0,0,0,209.36832000000001,0.192,0,1,null,null,null,null,null,null,null,null,null,null,null,null,null,null,null,null,null,null,null,null,null,null,null,{"$f":"ROUND(AT665*Source!I559*AH665*AL665,2)","v":174.47},{"$f":"ROUND(Y665*Source!I559,7)","v":0.192},0,{"$f":"ROUND(Y665*Source!I559,7)","v":0.192},1090.46,1090.46,1,209.36,0,"","",0,0,0,209.37,209.37,1,"",0,"",0]
[{"$f":"ROW(Source!A559)","v":559},85316656,85320860,77306539,114,1,1,1,"3-200-03","","Инженер III категории",1369,null,1013,"чел.-ч","чел.-ч",1,null,null,null,null,null,0,126826561,0.192,null,0,0,0,1066.23,0,0,0,1066.23,1,1,1,1,-2,0,0,1,1,0,"",0.16,"*(0,2+1)",1,2,85320864,2,131072,666,1,0,0,0,0,0,0,0,0,0,0,170.5968,0.16,0,1,0,0,0,204.71616,0.192,0,1,null,null,null,null,null,null,null,null,null,null,null,null,null,null,null,null,null,null,null,null,null,null,null,{"$f":"ROUND(AT666*Source!I559*AH666*AL666,2)","v":170.6},{"$f":"ROUND(Y666*Source!I559,7)","v":0.192},0,{"$f":"ROUND(Y666*Source!I559,7)","v":0.192},1066.23,1066.23,1,204.72,0,"","",0,0,0,204.72,204.72,1,"",0,"",0]
[{"$f":"ROW(Source!A561)","v":561},85316715,85320866,77306511,114,1,1,1,"2-100-04","","Рабочий 4 разряда",1369,null,1013,"чел.-ч","чел.-ч",1,null,null,null,null,null,0,-512803540,3.504,null,0,0,0,811.79,0,0,0,811.79,1,1,1,1,-2,0,0,1,1,0,"",2.92,"*(0,2+1)",1,2,85320869,2,131072,667,1,0,0,0,0,0,0,0,0,0,0,2370.4267999999997,2.92,0,1,0,0,0,2844.5121599999998,3.504,0,1,null,null,null,null,null,null,null,null,null,null,null,null,null,null,null,null,null,null,null,null,null,null,null,{"$f":"ROUND(AT667*Source!I561*AH667*AL667,2)","v":2370.4299999999998},{"$f":"ROUND(Y667*Source!I561,7)","v":3.504},0,{"$f":"ROUND(Y667*Source!I561,7)","v":3.504},811.79,811.79,1,2844.52,0,"","",0,0,0,2844.51,2844.51,1,"",0,"",0]
[{"$f":"ROW(Source!A561)","v":561},85316715,85320866,77306539,114,1,1,1,"3-200-03","","Инженер III категории",1369,null,1013,"чел.-ч","чел.-ч",1,null,null,null,null,null,0,126826561,5.2439999999999998,null,0,0,0,1066.23,0,0,0,1066.23,1,1,1,1,-2,0,0,1,1,0,"",4.37,"*(0,2+1)",1,2,85320870,2,131072,668,1,0,0,0,0,0,0,0,0,0,0,4659.4251000000004,4.37,0,1,0,0,0,5591.3101200000001,5.2439999999999998,0,1,null,null,null,null,null,null,null,null,null,null,null,null,null,null,null,null,null,null,null,null,null,null,null,{"$f":"ROUND(AT668*Source!I561*AH668*AL668,2)","v":4659.43},{"$f":"ROUND(Y668*Source!I561,7)","v":5.2439999999999998},0,{"$f":"ROUND(Y668*Source!I561,7)","v":5.2439999999999998},1066.23,1066.23,1,5591.32,0,"","",0,0,0,5591.31,5591.31,1,"",0,"",0]
[{"$f":"ROW(Source!A562)","v":562},85316656,85320866,77306511,114,1,1,1,"2-100-04","","Рабочий 4 разряда",1369,null,1013,"чел.-ч","чел.-ч",1,null,null,null,null,null,0,-512803540,3.504,null,0,0,0,811.79,0,0,0,811.79,1,1,1,1,-2,0,0,1,1,0,"",2.92,"*(0,2+1)",1,2,85320869,2,131072,669,1,0,0,0,0,0,0,0,0,0,0,2370.4267999999997,2.92,0,1,0,0,0,2844.5121599999998,3.504,0,1,null,null,null,null,null,null,null,null,null,null,null,null,null,null,null,null,null,null,null,null,null,null,null,{"$f":"ROUND(AT669*Source!I562*AH669*AL669,2)","v":2370.4299999999998},{"$f":"ROUND(Y669*Source!I562,7)","v":3.504},0,{"$f":"ROUND(Y669*Source!I562,7)","v":3.504},811.79,811.79,1,2844.52,0,"","",0,0,0,2844.51,2844.51,1,"",0,"",0]
[{"$f":"ROW(Source!A562)","v":562},85316656,85320866,77306539,114,1,1,1,"3-200-03","","Инженер III категории",1369,null,1013,"чел.-ч","чел.-ч",1,null,null,null,null,null,0,126826561,5.2439999999999998,null,0,0,0,1066.23,0,0,0,1066.23,1,1,1,1,-2,0,0,1,1,0,"",4.37,"*(0,2+1)",1,2,85320870,2,131072,670,1,0,0,0,0,0,0,0,0,0,0,4659.4251000000004,4.37,0,1,0,0,0,5591.3101200000001,5.2439999999999998,0,1,null,null,null,null,null,null,null,null,null,null,null,null,null,null,null,null,null,null,null,null,null,null,null,{"$f":"ROUND(AT670*Source!I562*AH670*AL670,2)","v":4659.43},{"$f":"ROUND(Y670*Source!I562,7)","v":5.2439999999999998},0,{"$f":"ROUND(Y670*Source!I562,7)","v":5.2439999999999998},1066.23,1066.23,1,5591.32,0,"","",0,0,0,5591.31,5591.31,1,"",0,"",0]

{"sheet":"EtalonRes","index":5,"n_rows":670,"n_cols":44,"rows_kept":670,"cut":false,"hidden":false,"merged":[]}
[{"$f":"ROW(Source!A28)","v":28},85320006,85320002,77306356,114,1,1,1,"1-100-33","","Средний разряд работы 3,3",1191,null,1013,"чел.-ч.","чел.-ч.",1,null,null,null,null,null,null,7.41,0,0,0,0,0,1,1,"",7.41,2,85320003,1,0,0,0,0,0,0,0,0]
[{"$f":"ROW(Source!A28)","v":28},85320007,85320002,77380687,1,1,1,3,"01.7.20.07-0002","ФСБЦ-2022, 01.7.20.07-0002, приказ Минстроя России от 18.05.2022 г. № 378/пр","Шпагат из пенькового волокна, диаметр 1,7 мм",1346,null,1009,"кг","кг",1,null,null,null,null,null,null,0.2,214.47,0,0,0,0,1,0,"",0.2,2,85320004,2,0,0,0,0,0,0,0,0]
[{"$f":"ROW(Source!A28)","v":28},85320008,85320002,77389427,1,1,1,3,"11.1.03.05-0074","ФСБЦ-2022, 11.1.03.05-0074, приказ Минстроя России от 18.05.2022 г. № 378/пр","Доска необрезная хвойных пород, естественной влажности, длина 4-6,5 м, ширина 100-250, толщина 20 мм, сорт IV",1339,null,1007,"м3","м3",1,null,null,null,null,null,null,1E-3,7555,0,0,0,0,1,0,"",1E-3,2,85320005,3,0,0,0,0,0,0,0,0]
[{"$f":"ROW(Source!A29)","v":29},85320006,85320002,77306356,114,1,1,1,"1-100-33","","Средний разряд работы 3,3",1191,null,1013,"чел.-ч.","чел.-ч.",1,null,null,null,null,null,null,7.41,0,0,0,0,0,1,1,"",7.41,2,85320003,4,0,0,0,0,0,0,0,0]
[{"$f":"ROW(Source!A29)","v":29},85320007,85320002,77380687,1,1,1,3,"01.7.20.07-0002","ФСБЦ-2022, 01.7.20.07-0002, приказ Минстроя России от 18.05.2022 г. № 378/пр","Шпагат из пенькового волокна, диаметр 1,7 мм",1346,null,1009,"кг","кг",1,null,null,null,null,null,null,0.2,214.47,0,0,0,0,1,0,"",0.2,2,85320004,5,0,0,0,0,0,0,0,0]
[{"$f":"ROW(Source!A29)","v":29},85320008,85320002,77389427,1,1,1,3,"11.1.03.05-0074","ФСБЦ-2022, 11.1.03.05-0074, приказ Минстроя России от 18.05.2022 г. № 378/пр","Доска необрезная хвойных пород, естественной влажности, длина 4-6,5 м, ширина 100-250, толщина 20 мм, сорт IV",1339,null,1007,"м3","м3",1,null,null,null,null,null,null,1E-3,7555,0,0,0,0,1,0,"",1E-3,2,85320005,6,0,0,0,0,0,0,0,0]
[{"$f":"ROW(Source!A31)","v":31},85320014,85320010,77306545,114,1,1,1,"4-100-00","","Затраты труда машинистов",1191,null,1013,"чел.-ч.","чел.-ч.",1,null,null,null,null,null,null,0.99,0,0,0,0,0,1,2,"",0.99,2,85320011,7,0,0,0,0,0,0,0,0]
[{"$f":"ROW(Source!A31)","v":31},85320015,85320010,77430562,1,1,1,2,"91.01.01-035","ФСЭМ-2022, 91.01.01-035, приказ Минстроя России от 18.05.2022 г. № 378/пр","Бульдозеры, мощность 79 кВт (108 л.с.)",1368,null,1011,"маш.-ч","маш.-ч",1,null,null,null,null,null,null,0.61,0,887.54,675.65,0,0,1,0,"",0.61,2,85320012,8,0,0,0,0,0,0,0,0]
[{"$f":"ROW(Source!A31)","v":31},85320016,85320010,77430573,1,1,1,2,"91.01.02-004","ФСЭМ-2022 доп.11, 91.01.02-004, приказ Минстроя России от 09.08.2024 г. № 524/пр","Автогрейдеры среднего типа, мощность 99 кВт (135 л.с.)",1368,null,1011,"маш.-ч","маш.-ч",1,null,null,null,null,null,null,0.38,0,1933,675.65,0,0,1,0,"",0.38,2,85320013,9,0,0,0,0,0,0,0,0]
[{"$f":"ROW(Source!A32)","v":32},85320014,85320010,77306545,114,1,1,1,"4-100-00","","Затраты труда машинистов",1191,null,1013,"чел.-ч.","чел.-ч.",1,null,null,null,null,null,null,0.99,0,0,0,0,0,1,2,"",0.99,2,85320011,10,0,0,0,0,0,0,0,0]
[{"$f":"ROW(Source!A32)","v":32},85320015,85320010,77430562,1,1,1,2,"91.01.01-035","ФСЭМ-2022, 91.01.01-035, приказ Минстроя России от 18.05.2022 г. № 378/пр","Бульдозеры, мощность 79 кВт (108 л.с.)",1368,null,1011,"маш.-ч","маш.-ч",1,null,null,null,null,null,null,0.61,0,887.54,675.65,0,0,1,0,"",0.61,2,85320012,11,0,0,0,0,0,0,0,0]
[{"$f":"ROW(Source!A32)","v":32},85320016,85320010,77430573,1,1,1,2,"91.01.02-004","ФСЭМ-2022 доп.11, 91.01.02-004, приказ Минстроя России от 09.08.2024 г. № 524/пр","Автогрейдеры среднего типа, мощность 99 кВт (135 л.с.)",1368,null,1011,"маш.-ч","маш.-ч",1,null,null,null,null,null,null,0.38,0,1933,675.65,0,0,1,0,"",0.38,2,85320013,12,0,0,0,0,0,0,0,0]
[{"$f":"ROW(Source!A34)","v":34},85320022,85320018,77306386,114,1,1,1,"1-100-45","","Средний разряд работы 4,5",1191,null,1013,"чел.-ч.","чел.-ч.",1,null,null,null,null,null,null,0.68,0,0,0,0,0,1,1,"",0.68,2,85320019,13,0,0,0,0,0,0,0,0]
[{"$f":"ROW(Source!A34)","v":34},85320023,85320018,77306545,114,1,1,1,"4-100-00","","Затраты труда машинистов",1191,null,1013,"чел.-ч.","чел.-ч.",1,null,null,null,null,null,null,0.33,0,0,0,0,0,1,2,"",0.33,2,85320020,14,0,0,0,0,0,0,0,0]
[{"$f":"ROW(Source!A34)","v":34},85320024,85320018,77431162,1,1,1,2,"91.06.06-012","ФСЭМ-2022, 91.06.06-012, приказ Минстроя России от 18.05.2022 г. № 378/пр","Автогидроподъемники, высота подъема 18 м",1368,null,1011,"маш.-ч","маш.-ч",1,null,null,null,null,null,null,0.33,0,930.99,932.95,0,0,1,0,"",0.33,2,85320021,15,0,0,0,0,0,0,0,0]
[{"$f":"ROW(Source!A35)","v":35},85320022,85320018,77306386,114,1,1,1,"1-100-45","","Средний разряд работы 4,5",1191,null,1013,"чел.-ч.","чел.-ч.",1,null,null,null,null,null,null,0.68,0,0,0,0,0,1,1,"",0.68,2,85320019,16,0,0,0,0,0,0,0,0]
[{"$f":"ROW(Source!A35)","v":35},85320023,85320018,77306545,114,1,1,1,"4-100-00","","Затраты труда машинистов",1191,null,1013,"чел.-ч.","чел.-ч.",1,null,null,null,null,null,null,0.33,0,0,0,0,0,1,2,"",0.33,2,85320020,17,0,0,0,0,0,0,0,0]
[{"$f":"ROW(Source!A35)","v":35},85320024,85320018,77431162,1,1,1,2,"91.06.06-012","ФСЭМ-2022, 91.06.06-012, приказ Минстроя России от 18.05.2022 г. № 378/пр","Автогидроподъемники, высота подъема 18 м",1368,null,1011,"маш.-ч","маш.-ч",1,null,null,null,null,null,null,0.33,0,930.99,932.95,0,0,1,0,"",0.33,2,85320021,18,0,0,0,0,0,0,0,0]
[{"$f":"ROW(Source!A37)","v":37},85320028,85320026,77306346,114,1,1,1,"1-100-29","","Средний разряд работы 2,9",1191,null,1013,"чел.-ч.","чел.-ч.",1,null,null,null,null,null,null,0.98,0,0,0,0,0,1,1,"",0.98,2,85320027,19,0,0,0,0,0,0,0,0]
[{"$f":"ROW(Source!A38)","v":38},85320028,85320026,77306346,114,1,1,1,"1-100-29","","Средний разряд работы 2,9",1191,null,1013,"чел.-ч.","чел.-ч.",1,null,null,null,null,null,null,0.98,0,0,0,0,0,1,1,"",0.98,2,85320027,20,0,0,0,0,0,0,0,0]
[{"$f":"ROW(Source!A40)","v":40},85320036,85320030,83777477,117,1,1,1,"1-100-25","","Средний разряд работы 2,5",1191,null,1013,"чел.-ч.","чел.-ч.",1,null,null,null,null,null,null,0.44,0,0,0,690.62,0,1,1,"",0.44,2,85320031,21,0,0,0,0,0,0,0,0]
[{"$f":"ROW(Source!A40)","v":40},85320037,85320030,83777689,117,1,1,1,"4-100-00","","Затраты труда машинистов",1191,null,1013,"чел.-ч.","чел.-ч.",1,null,null,null,null,null,null,0.48,0,0,0,0,0,1,2,"",0.48,2,85320032,22,0,0,0,0,0,0,0,0]
[{"$f":"ROW(Source!A40)","v":40},85320038,85320030,83784178,1,1,1,2,"91.05.05-015","ФСЭМ-2022, 91.05.05-015, приказ Минстроя России от 18.05.2022 г. № 378/пр","Краны на автомобильном ходу, грузоподъемность 16 т",1368,null,1011,"маш.-ч","маш.-ч",1,null,null,null,null,null,null,0.24,0,1626.29,1090.46,0,0,1,0,"",0.24,2,85320033,23,0,0,0,0,0,0,0,0]
[{"$f":"ROW(Source!A40)","v":40},85320039,85320030,83785137,1,1,1,2,"91.15.01-001","ФСЭМ-2022, 91.15.01-001, приказ Минстроя России от 18.05.2022 г. № 378/пр","Прицепы тракторные, грузоподъемность до 2 т",1368,null,1011,"маш.-ч","маш.-ч",1,null,null,null,null,null,null,0.24,0,13.86,0,0,0,1,0,"",0.24,2,85320034,24,0,0,0,0,0,0,0,0]
[{"$f":"ROW(Source!A40)","v":40},85320040,85320030,83785155,1,1,1,2,"91.15.03-014","ФСЭМ-2022 доп.11, 91.15.03-014, приказ Минстроя России от 09.08.2024 г. № 524/пр","Тракторы на пневмоколесном ходу, мощность 59 кВт (80 л.с.)",1368,null,1011,"маш.-ч","маш.-ч",1,null,null,null,null,null,null,0.24,0,487.94,811.79,0,0,1,0,"",0.24,2,85320035,25,0,0,0,0,0,0,0,0]
[{"$f":"ROW(Source!A41)","v":41},85320036,85320030,83777477,117,1,1,1,"1-100-25","","Средний разряд работы 2,5",1191,null,1013,"чел.-ч.","чел.-ч.",1,null,null,null,null,null,null,0.44,0,0,0,690.62,0,1,1,"",0.44,2,85320031,26,0,0,0,0,0,0,0,0]
[{"$f":"ROW(Source!A41)","v":41},85320037,85320030,83777689,117,1,1,1,"4-100-00","","Затраты труда машинистов",1191,null,1013,"чел.-ч.","чел.-ч.",1,null,null,null,null,null,null,0.48,0,0,0,0,0,1,2,"",0.48,2,85320032,27,0,0,0,0,0,0,0,0]
[{"$f":"ROW(Source!A41)","v":41},85320038,85320030,83784178,1,1,1,2,"91.05.05-015","ФСЭМ-2022, 91.05.05-015, приказ Минстроя России от 18.05.2022 г. № 378/пр","Краны на автомобильном ходу, грузоподъемность 16 т",1368,null,1011,"маш.-ч","маш.-ч",1,null,null,null,null,null,null,0.24,0,1626.29,1090.46,0,0,1,0,"",0.24,2,85320033,28,0,0,0,0,0,0,0,0]
[{"$f":"ROW(Source!A41)","v":41},85320039,85320030,83785137,1,1,1,2,"91.15.01-001","ФСЭМ-2022, 91.15.01-001, приказ Минстроя России от 18.05.2022 г. № 378/пр","Прицепы тракторные, грузоподъемность до 2 т",1368,null,1011,"маш.-ч","маш.-ч",1,null,null,null,null,null,null,0.24,0,13.86,0,0,0,1,0,"",0.24,2,85320034,29,0,0,0,0,0,0,0,0]
[{"$f":"ROW(Source!A41)","v":41},85320040,85320030,83785155,1,1,1,2,"91.15.03-014","ФСЭМ-2022 доп.11, 91.15.03-014, приказ Минстроя России от 09.08.2024 г. № 524/пр","Тракторы на пневмоколесном ходу, мощность 59 кВт (80 л.с.)",1368,null,1011,"маш.-ч","маш.-ч",1,null,null,null,null,null,null,0.24,0,487.94,811.79,0,0,1,0,"",0.24,2,85320035,30,0,0,0,0,0,0,0,0]
[{"$f":"ROW(Source!A43)","v":43},85320048,85320042,77306332,114,1,1,1,"1-100-25","","Средний разряд работы 2,5",1191,null,1013,"чел.-ч.","чел.-ч.",1,null,null,null,null,null,null,0.41,0,0,0,0,0,1,1,"",0.41,2,85320043,31,0,0,0,0,0,0,0,0]
[{"$f":"ROW(Source!A43)","v":43},85320049,85320042,77306545,114,1,1,1,"4-100-00","","Затраты труда машинистов",1191,null,1013,"чел.-ч.","чел.-ч.",1,null,null,null,null,null,null,0.44,0,0,0,0,0,1,2,"",0.44,2,85320044,32,0,0,0,0,0,0,0,0]
[{"$f":"ROW(Source!A43)","v":43},85320050,85320042,77430988,1,1,1,2,"91.05.05-015","ФСЭМ-2022, 91.05.05-015, приказ Минстроя России от 18.05.2022 г. № 378/пр","Краны на автомобильном ходу, грузоподъемность 16 т",1368,null,1011,"маш.-ч","маш.-ч",1,null,null,null,null,null,null,0.22,0,1626.29,1090.46,0,0,1,0,"",0.22,2,85320045,33,0,0,0,0,0,0,0,0]
[{"$f":"ROW(Source!A43)","v":43},85320051,85320042,77431943,1,1,1,2,"91.15.01-001","ФСЭМ-2022, 91.15.01-001, приказ Минстроя России от 18.05.2022 г. № 378/пр","Прицепы тракторные, грузоподъемность до 2 т",1368,null,1011,"маш.-ч","маш.-ч",1,null,null,null,null,null,null,0.22,0,13.86,0,0,0,1,0,"",0.22,2,85320046,34,0,0,0,0,0,0,0,0]
[{"$f":"ROW(Source!A43)","v":43},85320052,85320042,77431961,1,1,1,2,"91.15.03-014","ФСЭМ-2022 доп.11, 91.15.03-014, приказ Минстроя России от 09.08.2024 г. № 524/пр","Тракторы на пневмоколесном ходу, мощность 59 кВт (80 л.с.)",1368,null,1011,"маш.-ч","маш.-ч",1,null,null,null,null,null,null,0.22,0,487.94,502.98,0,0,1,0,"",0.22,2,85320047,35,0,0,0,0,0,0,0,0]
[{"$f":"ROW(Source!A44)","v":44},85320048,85320042,77306332,114,1,1,1,"1-100-25","","Средний разряд работы 2,5",1191,null,1013,"чел.-ч.","чел.-ч.",1,null,null,null,null,null,null,0.41,0,0,0,0,0,1,1,"",0.41,2,85320043,36,0,0,0,0,0,0,0,0]
[{"$f":"ROW(Source!A44)","v":44},85320049,85320042,77306545,114,1,1,1,"4-100-00","","Затраты труда машинистов",1191,null,1013,"чел.-ч.","чел.-ч.",1,null,null,null,null,null,null,0.44,0,0,0,0,0,1,2,"",0.44,2,85320044,37,0,0,0,0,0,0,0,0]
[{"$f":"ROW(Source!A44)","v":44},85320050,85320042,77430988,1,1,1,2,"91.05.05-015","ФСЭМ-2022, 91.05.05-015, приказ Минстроя России от 18.05.2022 г. № 378/пр","Краны на автомобильном ходу, грузоподъемность 16 т",1368,null,1011,"маш.-ч","маш.-ч",1,null,null,null,null,null,null,0.22,0,1626.29,1090.46,0,0,1,0,"",0.22,2,85320045,38,0,0,0,0,0,0,0,0]
[{"$f":"ROW(Source!A44)","v":44},85320051,85320042,77431943,1,1,1,2,"91.15.01-001","ФСЭМ-2022, 91.15.01-001, приказ Минстроя России от 18.05.2022 г. № 378/пр","Прицепы тракторные, грузоподъемность до 2 т",1368,null,1011,"маш.-ч","маш.-ч",1,null,null,null,null,null,null,0.22,0,13.86,0,0,0,1,0,"",0.22,2,85320046,39,0,0,0,0,0,0,0,0]
[{"$f":"ROW(Source!A44)","v":44},85320052,85320042,77431961,1,1,1,2,"91.15.03-014","ФСЭМ-2022 доп.11, 91.15.03-014, приказ Минстроя России от 09.08.2024 г. № 524/пр","Тракторы на пневмоколесном ходу, мощность 59 кВт (80 л.с.)",1368,null,1011,"маш.-ч","маш.-ч",1,null,null,null,null,null,null,0.22,0,487.94,502.98,0,0,1,0,"",0.22,2,85320047,40,0,0,0,0,0,0,0,0]
[{"$f":"ROW(Source!A46)","v":46},85320059,85320054,83777477,117,1,1,1,"1-100-25","","Средний разряд работы 2,5",1191,null,1013,"чел.-ч.","чел.-ч.",1,null,null,null,null,null,null,0.25,0,0,0,690.62,0,1,1,"",0.25,2,85320055,41,0,0,0,0,0,0,0,0]
[{"$f":"ROW(Source!A46)","v":46},85320060,85320054,83777689,117,1,1,1,"4-100-00","","Затраты труда машинистов",1191,null,1013,"чел.-ч.","чел.-ч.",1,null,null,null,null,null,null,0.14000000000000001,0,0,0,0,0,1,2,"",0.14000000000000001,2,85320056,42,0,0,0,0,0,0,0,0]
[{"$f":"ROW(Source!A46)","v":46},85320061,85320054,83785137,1,1,1,2,"91.15.01-001","ФСЭМ-2022, 91.15.01-001, приказ Минстроя России от 18.05.2022 г. № 378/пр","Прицепы тракторные, грузоподъемность до 2 т",1368,null,1011,"маш.-ч","маш.-ч",1,null,null,null,null,null,null,0.14000000000000001,0,13.86,0,0,0,1,0,"",0.14000000000000001,2,85320057,43,0,0,0,0,0,0,0,0]
[{"$f":"ROW(Source!A46)","v":46},85320062,85320054,83785155,1,1,1,2,"91.15.03-014","ФСЭМ-2022 доп.11, 91.15.03-014, приказ Минстроя России от 09.08.2024 г. № 524/пр","Тракторы на пневмоколесном ходу, мощность 59 кВт (80 л.с.)",1368,null,1011,"маш.-ч","маш.-ч",1,null,null,null,null,null,null,0.14000000000000001,0,487.94,811.79,0,0,1,0,"",0.14000000000000001,2,85320058,44,0,0,0,0,0,0,0,0]
[{"$f":"ROW(Source!A47)","v":47},85320059,85320054,83777477,117,1,1,1,"1-100-25","","Средний разряд работы 2,5",1191,null,1013,"чел.-ч.","чел.-ч.",1,null,null,null,null,null,null,0.25,0,0,0,690.62,0,1,1,"",0.25,2,85320055,45,0,0,0,0,0,0,0,0]
[{"$f":"ROW(Source!A47)","v":47},85320060,85320054,83777689,117,1,1,1,"4-100-00","","Затраты труда машинистов",1191,null,1013,"чел.-ч.","чел.-ч.",1,null,null,null,null,null,null,0.14000000000000001,0,0,0,0,0,1,2,"",0.14000000000000001,2,85320056,46,0,0,0,0,0,0,0,0]
[{"$f":"ROW(Source!A47)","v":47},85320061,85320054,83785137,1,1,1,2,"91.15.01-001","ФСЭМ-2022, 91.15.01-001, приказ Минстроя России от 18.05.2022 г. № 378/пр","Прицепы тракторные, грузоподъемность до 2 т",1368,null,1011,"маш.-ч","маш.-ч",1,null,null,null,null,null,null,0.14000000000000001,0,13.86,0,0,0,1,0,"",0.14000000000000001,2,85320057,47,0,0,0,0,0,0,0,0]
[{"$f":"ROW(Source!A47)","v":47},85320062,85320054,83785155,1,1,1,2,"91.15.03-014","ФСЭМ-2022 доп.11, 91.15.03-014, приказ Минстроя России от 09.08.2024 г. № 524/пр","Тракторы на пневмоколесном ходу, мощность 59 кВт (80 л.с.)",1368,null,1011,"маш.-ч","маш.-ч",1,null,null,null,null,null,null,0.14000000000000001,0,487.94,811.79,0,0,1,0,"",0.14000000000000001,2,85320058,48,0,0,0,0,0,0,0,0]
[{"$f":"ROW(Source!A49)","v":49},85320069,85320064,83777477,117,1,1,1,"1-100-25","","Средний разряд работы 2,5",1191,null,1013,"чел.-ч.","чел.-ч.",1,null,null,null,null,null,null,0.3,0,0,0,690.62,0,1,1,"",0.3,2,85320065,49,0,0,0,0,0,0,0,0]
[{"$f":"ROW(Source!A49)","v":49},85320070,85320064,83777689,117,1,1,1,"4-100-00","","Затраты труда машинистов",1191,null,1013,"чел.-ч.","чел.-ч.",1,null,null,null,null,null,null,0.16,0,0,0,0,0,1,2,"",0.16,2,85320066,50,0,0,0,0,0,0,0,0]
[{"$f":"ROW(Source!A49)","v":49},85320071,85320064,83785137,1,1,1,2,"91.15.01-001","ФСЭМ-2022, 91.15.01-001, приказ Минстроя России от 18.05.2022 г. № 378/пр","Прицепы тракторные, грузоподъемность до 2 т",1368,null,1011,"маш.-ч","маш.-ч",1,null,null,null,null,null,null,0.16,0,13.86,0,0,0,1,0,"",0.16,2,85320067,51,0,0,0,0,0,0,0,0]
[{"$f":"ROW(Source!A49)","v":49},85320072,85320064,83785155,1,1,1,2,"91.15.03-014","ФСЭМ-2022 доп.11, 91.15.03-014, приказ Минстроя России от 09.08.2024 г. № 524/пр","Тракторы на пневмоколесном ходу, мощность 59 кВт (80 л.с.)",1368,null,1011,"маш.-ч","маш.-ч",1,null,null,null,null,null,null,0.16,0,487.94,811.79,0,0,1,0,"",0.16,2,85320068,52,0,0,0,0,0,0,0,0]
[{"$f":"ROW(Source!A50)","v":50},85320069,85320064,83777477,117,1,1,1,"1-100-25","","Средний разряд работы 2,5",1191,null,1013,"чел.-ч.","чел.-ч.",1,null,null,null,null,null,null,0.3,0,0,0,690.62,0,1,1,"",0.3,2,85320065,53,0,0,0,0,0,0,0,0]
[{"$f":"ROW(Source!A50)","v":50},85320070,85320064,83777689,117,1,1,1,"4-100-00","","Затраты труда машинистов",1191,null,1013,"чел.-ч.","чел.-ч.",1,null,null,null,null,null,null,0.16,0,0,0,0,0,1,2,"",0.16,2,85320066,54,0,0,0,0,0,0,0,0]
[{"$f":"ROW(Source!A50)","v":50},85320071,85320064,83785137,1,1,1,2,"91.15.01-001","ФСЭМ-2022, 91.15.01-001, приказ Минстроя России от 18.05.2022 г. № 378/пр","Прицепы тракторные, грузоподъемность до 2 т",1368,null,1011,"маш.-ч","маш.-ч",1,null,null,null,null,null,null,0.16,0,13.86,0,0,0,1,0,"",0.16,2,85320067,55,0,0,0,0,0,0,0,0]
[{"$f":"ROW(Source!A50)","v":50},85320072,85320064,83785155,1,1,1,2,"91.15.03-014","ФСЭМ-2022 доп.11, 91.15.03-014, приказ Минстроя России от 09.08.2024 г. № 524/пр","Тракторы на пневмоколесном ходу, мощность 59 кВт (80 л.с.)",1368,null,1011,"маш.-ч","маш.-ч",1,null,null,null,null,null,null,0.16,0,487.94,811.79,0,0,1,0,"",0.16,2,85320068,56,0,0,0,0,0,0,0,0]
[{"$f":"ROW(Source!A52)","v":52},85320093,85320074,83777501,117,1,1,1,"1-100-33","","Средний разряд работы 3,3",1191,null,1013,"чел.-ч.","чел.-ч.",1,null,null,null,null,null,null,3.06,0,0,0,748.18,0,1,1,"",3.06,2,85320075,57,0,0,0,0,0,0,0,0]
[{"$f":"ROW(Source!A52)","v":52},85320094,85320074,83777689,117,1,1,1,"4-100-00","","Затраты труда машинистов",1191,null,1013,"чел.-ч.","чел.-ч.",1,null,null,null,null,null,null,0.87,0,0,0,0,0,1,2,"",0.87,2,85320076,58,0,0,0,0,0,0,0,0]
[{"$f":"ROW(Source!A52)","v":52},85320095,85320074,83784065,1,1,1,2,"91.04.01-031","ФСЭМ-2022 доп.11, 91.04.01-031, приказ Минстроя России от 07.11.2024 г. № 747/пр","Машины бурильно-крановые на автомобильном ходу, диаметр бурения до 800 мм, глубина бурения до 5 м",1368,null,1011,"маш.-ч","маш.-ч",1,null,null,null,null,null,null,0.68,0,2088.77,932.95,0,0,1,0,"",0.68,2,85320077,59,0,0,0,0,0,0,0,0]
[{"$f":"ROW(Source!A52)","v":52},85320096,85320074,83785072,1,1,1,2,"91.14.02-001","ФСЭМ-2022 доп.7, 91.14.02-001, приказ Минстроя России от 02.08.2023 г. № 551/пр","Автомобили бортовые, грузоподъемность до 5 т",1368,null,1011,"маш.-ч","маш.-ч",1,null,null,null,null,null,null,0.19,0,641.70000000000005,811.79,0,0,1,0,"",0.19,2,85320078,60,0,0,0,0,0,0,0,0]
[{"$f":"ROW(Source!A52)","v":52},85320097,85320074,83849794,1,1,1,3,"01.3.01.06-0038","ФСБЦ-2022 доп.17, 01.3.01.06-0038, приказ Минстроя России от 17.02.2026 г. № 91/пр","Смазка защитная электросетевая",1346,null,1009,"кг","кг",1,null,null,null,null,null,null,0.1,185.43,0,0,0,0,1,0,"",0.1,2,85320079,61,0,0,0,0,0,0,0,0]
[{"$f":"ROW(Source!A52)","v":52},85320098,85320074,83849801,1,1,1,3,"01.3.01.06-0051","ФСБЦ-2022 доп.12, 01.3.01.06-0051, приказ Минстроя России от 07.11.2024 г. № 747/пр","Смазка солидол жировой Ж",1346,null,1009,"кг","кг",1,null,null,null,null,null,null,0.03,58.53,0,0,0,0,1,0,"",0.03,2,85320080,62,0,0,0,0,0,0,0,0]
[{"$f":"ROW(Source!A52)","v":52},85320099,85320074,83853338,1,1,1,3,"01.7.15.03-0042","ФСБЦ-2022, 01.7.15.03-0042, приказ Минстроя России от 18.05.2022 г. № 378/пр","Болты с гайками и шайбами строительные",1346,null,1009,"кг","кг",1,null,null,null,null,null,null,0,174.93,0,0,0,1,0,0,"",0,2,85320081,63,0,0,0,0,0,0,0,0]
[{"$f":"ROW(Source!A52)","v":52},85320100,85320074,83854484,1,1,1,3,"01.7.20.08-0051","ФСБЦ-2022 доп.8, 01.7.20.08-0051, приказ Минстроя России от 14.11.2023 г. № 817/пр","Ветошь хлопчатобумажная цветная",1346,null,1009,"кг","кг",1,null,null,null,null,null,null,0.02,56.11,0,0,0,0,1,0,"",0.02,2,85320082,64,0,0,0,0,0,0,0,0]
[{"$f":"ROW(Source!A52)","v":52},85320101,85320074,83779061,117,1,1,3,"05.1.02.07","","Стойка железобетонная вибрированная для опор",1371,null,1013,"ШТ","ШТ",1,null,null,null,null,null,null,0,0,0,0,0,1,0,0,"",0,2,85320083,65,0,0,0,0,0,0,0,0]
[{"$f":"ROW(Source!A52)","v":52},85320102,85320074,83779738,117,1,1,3,"07.2.02.05","","Траверсы стальные",1348,null,1009,"т","т",1000,null,null,null,null,null,null,0,0,0,0,0,1,0,0,"",0,2,85320084,66,0,0,0,0,0,0,0,0]
[{"$f":"ROW(Source!A52)","v":52},85320103,85320074,83779884,117,1,1,3,"07.2.07.13","","Хомуты стальные",1346,null,1009,"кг","кг",1,null,null,null,null,null,null,0,0,0,0,0,1,0,0,"",0,2,85320085,67,0,0,0,0,0,0,0,0]
[{"$f":"ROW(Source!A52)","v":52},85320104,85320074,83780219,117,1,1,3,"08.3.04.02","","Сталь стержневая диаметром до 10 мм",1348,null,1009,"т","т",1000,null,null,null,null,null,null,0,0,0,0,0,1,0,0,"",0,2,85320086,68,0,0,0,0,0,0,0,0]
[{"$f":"ROW(Source!A52)","v":52},85320105,85320074,83870522,1,1,1,3,"14.4.02.04-0182","ФСБЦ-2022 доп.17, 14.4.02.04-0182, приказ Минстроя России от 17.02.2026 г. № 91/пр","Краска масляная МА-15, цветная",1346,null,1009,"кг","кг",1,null,null,null,null,null,null,0.4,61.28,0,0,0,0,1,0,"",0.4,2,85320087,69,0,0,0,0,0,0,0,0]
[{"$f":"ROW(Source!A52)","v":52},85320106,85320074,83870548,1,1,1,3,"14.4.03.03-0102","ФСБЦ-2022 доп.4, 14.4.03.03-0102, приказ Минстроя России от 27.12.2022 г. № 1133/пр","Лак битумный БТ-577",1348,null,1009,"т","т",1000,null,null,null,null,null,null,1E-4,80020.98,0,0,0,0,1,0,"",1E-4,2,85320088,70,0,0,0,0,0,0,0,0]
[{"$f":"ROW(Source!A52)","v":52},85320107,85320074,83878170,1,1,1,3,"20.2.02.04-0006","ФСБЦ-2022, 20.2.02.04-0006, приказ Минстроя России от 18.05.2022 г. № 378/пр","Колпачки полиэтиленовые К-6",1425,null,1013,"100 ШТ","100 ШТ",1,null,null,null,null,null,null,0.06,1031.73,0,0,0,0,1,0,"",0.06,2,85320089,71,0,0,0,0,0,0,0,0]
[{"$f":"ROW(Source!A52)","v":52},85320108,85320074,83782579,117,1,1,3,"22.2.01.04","","Изоляторы штыревые",1371,null,1013,"ШТ","ШТ",1,null,null,null,null,null,null,0,0,0,0,0,1,0,0,"",0,2,85320090,72,0,0,0,0,0,0,0,0]
[{"$f":"ROW(Source!A52)","v":52},85320109,85320074,83782625,117,1,1,3,"22.2.02.21","","Штыри",1371,null,1013,"ШТ","ШТ",1,null,null,null,null,null,null,0,0,0,0,0,1,0,0,"",0,2,85320091,73,0,0,0,0,0,0,0,0]
[{"$f":"ROW(Source!A52)","v":52},85320110,85320074,83782629,117,1,1,3,"22.2.02.23","","Металлические плакаты",1371,null,1013,"ШТ","ШТ",1,null,null,null,null,null,null,0,0,0,0,0,1,0,0,"",0,2,85320092,74,0,0,0,0,0,0,0,0]
[{"$f":"ROW(Source!A53)","v":53},85320093,85320074,83777501,117,1,1,1,"1-100-33","","Средний разряд работы 3,3",1191,null,1013,"чел.-ч.","чел.-ч.",1,null,null,null,null,null,null,3.06,0,0,0,748.18,0,1,1,"",3.06,2,85320075,75,0,0,0,0,0,0,0,0]
[{"$f":"ROW(Source!A53)","v":53},85320094,85320074,83777689,117,1,1,1,"4-100-00","","Затраты труда машинистов",1191,null,1013,"чел.-ч.","чел.-ч.",1,null,null,null,null,null,null,0.87,0,0,0,0,0,1,2,"",0.87,2,85320076,76,0,0,0,0,0,0,0,0]
[{"$f":"ROW(Source!A53)","v":53},85320095,85320074,83784065,1,1,1,2,"91.04.01-031","ФСЭМ-2022 доп.11, 91.04.01-031, приказ Минстроя России от 07.11.2024 г. № 747/пр","Машины бурильно-крановые на автомобильном ходу, диаметр бурения до 800 мм, глубина бурения до 5 м",1368,null,1011,"маш.-ч","маш.-ч",1,null,null,null,null,null,null,0.68,0,2088.77,932.95,0,0,1,0,"",0.68,2,85320077,77,0,0,0,0,0,0,0,0]
[{"$f":"ROW(Source!A53)","v":53},85320096,85320074,83785072,1,1,1,2,"91.14.02-001","ФСЭМ-2022 доп.7, 91.14.02-001, приказ Минстроя России от 02.08.2023 г. № 551/пр","Автомобили бортовые, грузоподъемность до 5 т",1368,null,1011,"маш.-ч","маш.-ч",1,null,null,null,null,null,null,0.19,0,641.70000000000005,811.79,0,0,1,0,"",0.19,2,85320078,78,0,0,0,0,0,0,0,0]
[{"$f":"ROW(Source!A53)","v":53},85320097,85320074,83849794,1,1,1,3,"01.3.01.06-0038","ФСБЦ-2022 доп.17, 01.3.01.06-0038, приказ Минстроя России от 17.02.2026 г. № 91/пр","Смазка защитная электросетевая",1346,null,1009,"кг","кг",1,null,null,null,null,null,null,0.1,185.43,0,0,0,0,1,0,"",0.1,2,85320079,79,0,0,0,0,0,0,0,0]
[{"$f":"ROW(Source!A53)","v":53},85320098,85320074,83849801,1,1,1,3,"01.3.01.06-0051","ФСБЦ-2022 доп.12, 01.3.01.06-0051, приказ Минстроя России от 07.11.2024 г. № 747/пр","Смазка солидол жировой Ж",1346,null,1009,"кг","кг",1,null,null,null,null,null,null,0.03,58.53,0,0,0,0,1,0,"",0.03,2,85320080,80,0,0,0,0,0,0,0,0]
[{"$f":"ROW(Source!A53)","v":53},85320099,85320074,83853338,1,1,1,3,"01.7.15.03-0042","ФСБЦ-2022, 01.7.15.03-0042, приказ Минстроя России от 18.05.2022 г. № 378/пр","Болты с гайками и шайбами строительные",1346,null,1009,"кг","кг",1,null,null,null,null,null,null,0,174.93,0,0,0,1,0,0,"",0,2,85320081,81,0,0,0,0,0,0,0,0]
[{"$f":"ROW(Source!A53)","v":53},85320100,85320074,83854484,1,1,1,3,"01.7.20.08-0051","ФСБЦ-2022 доп.8, 01.7.20.08-0051, приказ Минстроя России от 14.11.2023 г. № 817/пр","Ветошь хлопчатобумажная цветная",1346,null,1009,"кг","кг",1,null,null,null,null,null,null,0.02,56.11,0,0,0,0,1,0,"",0.02,2,85320082,82,0,0,0,0,0,0,0,0]
[{"$f":"ROW(Source!A53)","v":53},85320101,85320074,83779061,117,1,1,3,"05.1.02.07","","Стойка железобетонная вибрированная для опор",1371,null,1013,"ШТ","ШТ",1,null,null,null,null,null,null,0,0,0,0,0,1,0,0,"",0,2,85320083,83,0,0,0,0,0,0,0,0]
[{"$f":"ROW(Source!A53)","v":53},85320102,85320074,83779738,117,1,1,3,"07.2.02.05","","Траверсы стальные",1348,null,1009,"т","т",1000,null,null,null,null,null,null,0,0,0,0,0,1,0,0,"",0,2,85320084,84,0,0,0,0,0,0,0,0]
[{"$f":"ROW(Source!A53)","v":53},85320103,85320074,83779884,117,1,1,3,"07.2.07.13","","Хомуты стальные",1346,null,1009,"кг","кг",1,null,null,null,null,null,null,0,0,0,0,0,1,0,0,"",0,2,85320085,85,0,0,0,0,0,0,0,0]
[{"$f":"ROW(Source!A53)","v":53},85320104,85320074,83780219,117,1,1,3,"08.3.04.02","","Сталь стержневая диаметром до 10 мм",1348,null,1009,"т","т",1000,null,null,null,null,null,null,0,0,0,0,0,1,0,0,"",0,2,85320086,86,0,0,0,0,0,0,0,0]
[{"$f":"ROW(Source!A53)","v":53},85320105,85320074,83870522,1,1,1,3,"14.4.02.04-0182","ФСБЦ-2022 доп.17, 14.4.02.04-0182, приказ Минстроя России от 17.02.2026 г. № 91/пр","Краска масляная МА-15, цветная",1346,null,1009,"кг","кг",1,null,null,null,null,null,null,0.4,61.28,0,0,0,0,1,0,"",0.4,2,85320087,87,0,0,0,0,0,0,0,0]
[{"$f":"ROW(Source!A53)","v":53},85320106,85320074,83870548,1,1,1,3,"14.4.03.03-0102","ФСБЦ-2022 доп.4, 14.4.03.03-0102, приказ Минстроя России от 27.12.2022 г. № 1133/пр","Лак битумный БТ-577",1348,null,1009,"т","т",1000,null,null,null,null,null,null,1E-4,80020.98,0,0,0,0,1,0,"",1E-4,2,85320088,88,0,0,0,0,0,0,0,0]
[{"$f":"ROW(Source!A53)","v":53},85320107,85320074,83878170,1,1,1,3,"20.2.02.04-0006","ФСБЦ-2022, 20.2.02.04-0006, приказ Минстроя России от 18.05.2022 г. № 378/пр","Колпачки полиэтиленовые К-6",1425,null,1013,"100 ШТ","100 ШТ",1,null,null,null,null,null,null,0.06,1031.73,0,0,0,0,1,0,"",0.06,2,85320089,89,0,0,0,0,0,0,0,0]
[{"$f":"ROW(Source!A53)","v":53},85320108,85320074,83782579,117,1,1,3,"22.2.01.04","","Изоляторы штыревые",1371,null,1013,"ШТ","ШТ",1,null,null,null,null,null,null,0,0,0,0,0,1,0,0,"",0,2,85320090,90,0,0,0,0,0,0,0,0]
[{"$f":"ROW(Source!A53)","v":53},85320109,85320074,83782625,117,1,1,3,"22.2.02.21","","Штыри",1371,null,1013,"ШТ","ШТ",1,null,null,null,null,null,null,0,0,0,0,0,1,0,0,"",0,2,85320091,91,0,0,0,0,0,0,0,0]
[{"$f":"ROW(Source!A53)","v":53},85320110,85320074,83782629,117,1,1,3,"22.2.02.23","","Металлические плакаты",1371,null,1013,"ШТ","ШТ",1,null,null,null,null,null,null,0,0,0,0,0,1,0,0,"",0,2,85320092,92,0,0,0,0,0,0,0,0]
[{"$f":"ROW(Source!A71)","v":71},85320140,85320120,77306354,114,1,1,1,"1-100-32","","Средний разряд работы 3,2",1191,null,1013,"чел.-ч.","чел.-ч.",1,null,null,null,null,null,null,5.81,0,0,0,0,0,1,1,"",5.81,2,85320121,93,0,0,0,0,0,0,0,0]
[{"$f":"ROW(Source!A71)","v":71},85320141,85320120,77306545,114,1,1,1,"4-100-00","","Затраты труда машинистов",1191,null,1013,"чел.-ч.","чел.-ч.",1,null,null,null,null,null,null,1.07,0,0,0,0,0,1,2,"",1.07,2,85320122,94,0,0,0,0,0,0,0,0]
[{"$f":"ROW(Source!A71)","v":71},85320142,85320120,77430875,1,1,1,2,"91.04.01-031","ФСЭМ-2022 доп.11, 91.04.01-031, приказ Минстроя России от 07.11.2024 г. № 747/пр","Машины бурильно-крановые на автомобильном ходу, диаметр бурения до 800 мм, глубина бурения до 5 м",1368,null,1011,"маш.-ч","маш.-ч",1,null,null,null,null,null,null,0.78,0,2088.77,578.04999999999995,0,0,1,0,"",0.78,2,85320123,95,0,0,0,0,0,0,0,0]
[{"$f":"ROW(Source!A71)","v":71},85320143,85320120,77431879,1,1,1,2,"91.14.02-001","ФСЭМ-2022 доп.7, 91.14.02-001, приказ Минстроя России от 02.08.2023 г. № 551/пр","Автомобили бортовые, грузоподъемность до 5 т",1368,null,1011,"маш.-ч","маш.-ч",1,null,null,null,null,null,null,0.28999999999999998,0,641.70000000000005,811.79,0,0,1,0,"",0.28999999999999998,2,85320124,96,0,0,0,0,0,0,0,0]
[{"$f":"ROW(Source!A71)","v":71},85320144,85320120,77375900,1,1,1,3,"01.3.01.06-0038","ФСБЦ-2022, 01.3.01.06-0038, приказ Минстроя России от 18.05.2022 г. № 378/пр","Смазка защитная электросетевая",1346,null,1009,"кг","кг",1,null,null,null,null,null,null,0.1,238.29,0,0,0,0,1,0,"",0.1,2,85320125,97,0,0,0,0,0,0,0,0]
[{"$f":"ROW(Source!A71)","v":71},85320145,85320120,77375907,1,1,1,3,"01.3.01.06-0051","ФСБЦ-2022 доп.12, 01.3.01.06-0051, приказ Минстроя России от 07.11.2024 г. № 747/пр","Смазка солидол жировой Ж",1346,null,1009,"кг","кг",1,null,null,null,null,null,null,0.03,58.53,0,0,0,0,1,0,"",0.03,2,85320126,98,0,0,0,0,0,0,0,0]
[{"$f":"ROW(Source!A71)","v":71},85320146,85320120,77379558,1,1,1,3,"01.7.15.03-0042","ФСБЦ-2022, 01.7.15.03-0042, приказ Минстроя России от 18.05.2022 г. № 378/пр","Болты с гайками и шайбами строительные",1346,null,1009,"кг","кг",1,null,null,null,null,null,null,0,174.93,0,0,0,1,0,0,"",0,2,85320127,99,0,0,0,0,0,0,0,0]
[{"$f":"ROW(Source!A71)","v":71},85320147,85320120,77380691,1,1,1,3,"01.7.20.08-0051","ФСБЦ-2022 доп.8, 01.7.20.08-0051, приказ Минстроя России от 14.11.2023 г. № 817/пр","Ветошь хлопчатобумажная цветная",1346,null,1009,"кг","кг",1,null,null,null,null,null,null,0.02,56.11,0,0,0,0,1,0,"",0.02,2,85320128,100,0,0,0,0,0,0,0,0]
[{"$f":"ROW(Source!A71)","v":71},85320148,85320120,77307872,114,1,1,3,"05.1.02.06","","Приставки железобетонные",1371,null,1013,"ШТ","ШТ",1,null,null,null,null,null,null,0,0,0,0,0,1,0,0,"",0,2,85320129,101,0,0,0,0,0,0,0,0]
[{"$f":"ROW(Source!A71)","v":71},85320149,85320120,77307877,114,1,1,3,"05.1.02.07","","Стойка железобетонная вибрированная для опор",1371,null,1013,"ШТ","ШТ",1,null,null,null,null,null,null,0,0,0,0,0,1,0,0,"",0,2,85320130,102,0,0,0,0,0,0,0,0]
[{"$f":"ROW(Source!A71)","v":71},85320150,85320120,77308556,114,1,1,3,"07.2.02.05","","Траверсы стальные",1348,null,1009,"т","т",1000,null,null,null,null,null,null,0,0,0,0,0,1,0,0,"",0,2,85320131,103,0,0,0,0,0,0,0,0]
[{"$f":"ROW(Source!A71)","v":71},85320151,85320120,77308705,114,1,1,3,"07.2.07.13","","Хомуты стальные",1346,null,1009,"кг","кг",1,null,null,null,null,null,null,0,0,0,0,0,1,0,0,"",0,2,85320132,104,0,0,0,0,0,0,0,0]
[{"$f":"ROW(Source!A71)","v":71},85320152,85320120,77309038,114,1,1,3,"08.3.04.02","","Сталь стержневая диаметром до 10 мм",1348,null,1009,"т","т",1000,null,null,null,null,null,null,0,0,0,0,0,1,0,0,"",0,2,85320133,105,0,0,0,0,0,0,0,0]
[{"$f":"ROW(Source!A71)","v":71},85320153,85320120,77397232,1,1,1,3,"14.4.02.04-0182","ФСБЦ-2022, 14.4.02.04-0182, приказ Минстроя России от 18.05.2022 г. № 378/пр","Краска масляная МА-15, цветная",1348,null,1009,"т","т",1000,null,null,null,null,null,null,4.0000000000000002E-4,61265.39,0,0,0,0,1,0,"",4.0000000000000002E-4,2,85320134,106,0,0,0,0,0,0,0,0]
[{"$f":"ROW(Source!A71)","v":71},85320154,85320120,77397258,1,1,1,3,"14.4.03.03-0102","ФСБЦ-2022 доп.4, 14.4.03.03-0102, приказ Минстроя России от 27.12.2022 г. № 1133/пр","Лак битумный БТ-577",1348,null,1009,"т","т",1000,null,null,null,null,null,null,1E-4,80020.98,0,0,0,0,1,0,"",1E-4,2,85320135,107,0,0,0,0,0,0,0,0]
[{"$f":"ROW(Source!A71)","v":71},85320155,85320120,77404679,1,1,1,3,"20.2.02.04-0006","ФСБЦ-2022, 20.2.02.04-0006, приказ Минстроя России от 18.05.2022 г. № 378/пр","Колпачки полиэтиленовые К-6",1425,null,1013,"100 ШТ","100 ШТ",1,null,null,null,null,null,null,0.06,1031.73,0,0,0,0,1,0,"",0.06,2,85320136,108,0,0,0,0,0,0,0,0]
[{"$f":"ROW(Source!A71)","v":71},85320156,85320120,77311321,114,1,1,3,"22.2.01.04","","Изоляторы штыревые",1371,null,1013,"ШТ","ШТ",1,null,null,null,null,null,null,0,0,0,0,0,1,0,0,"",0,2,85320137,109,0,0,0,0,0,0,0,0]
[{"$f":"ROW(Source!A71)","v":71},85320157,85320120,77311366,114,1,1,3,"22.2.02.21","","Штыри",1371,null,1013,"ШТ","ШТ",1,null,null,null,null,null,null,0,0,0,0,0,1,0,0,"",0,2,85320138,110,0,0,0,0,0,0,0,0]
[{"$f":"ROW(Source!A71)","v":71},85320158,85320120,77311370,114,1,1,3,"22.2.02.23","","Металлические плакаты",1371,null,1013,"ШТ","ШТ",1,null,null,null,null,null,null,0,0,0,0,0,1,0,0,"",0,2,85320139,111,0,0,0,0,0,0,0,0]
[{"$f":"ROW(Source!A72)","v":72},85320140,85320120,77306354,114,1,1,1,"1-100-32","","Средний разряд работы 3,2",1191,null,1013,"чел.-ч.","чел.-ч.",1,null,null,null,null,null,null,5.81,0,0,0,0,0,1,1,"",5.81,2,85320121,112,0,0,0,0,0,0,0,0]
[{"$f":"ROW(Source!A72)","v":72},85320141,85320120,77306545,114,1,1,1,"4-100-00","","Затраты труда машинистов",1191,null,1013,"чел.-ч.","чел.-ч.",1,null,null,null,null,null,null,1.07,0,0,0,0,0,1,2,"",1.07,2,85320122,113,0,0,0,0,0,0,0,0]
[{"$f":"ROW(Source!A72)","v":72},85320142,85320120,77430875,1,1,1,2,"91.04.01-031","ФСЭМ-2022 доп.11, 91.04.01-031, приказ Минстроя России от 07.11.2024 г. № 747/пр","Машины бурильно-крановые на автомобильном ходу, диаметр бурения до 800 мм, глубина бурения до 5 м",1368,null,1011,"маш.-ч","маш.-ч",1,null,null,null,null,null,null,0.78,0,2088.77,578.04999999999995,0,0,1,0,"",0.78,2,85320123,114,0,0,0,0,0,0,0,0]
[{"$f":"ROW(Source!A72)","v":72},85320143,85320120,77431879,1,1,1,2,"91.14.02-001","ФСЭМ-2022 доп.7, 91.14.02-001, приказ Минстроя России от 02.08.2023 г. № 551/пр","Автомобили бортовые, грузоподъемность до 5 т",1368,null,1011,"маш.-ч","маш.-ч",1,null,null,null,null,null,null,0.28999999999999998,0,641.70000000000005,811.79,0,0,1,0,"",0.28999999999999998,2,85320124,115,0,0,0,0,0,0,0,0]
[{"$f":"ROW(Source!A72)","v":72},85320144,85320120,77375900,1,1,1,3,"01.3.01.06-0038","ФСБЦ-2022, 01.3.01.06-0038, приказ Минстроя России от 18.05.2022 г. № 378/пр","Смазка защитная электросетевая",1346,null,1009,"кг","кг",1,null,null,null,null,null,null,0.1,238.29,0,0,0,0,1,0,"",0.1,2,85320125,116,0,0,0,0,0,0,0,0]
[{"$f":"ROW(Source!A72)","v":72},85320145,85320120,77375907,1,1,1,3,"01.3.01.06-0051","ФСБЦ-2022 доп.12, 01.3.01.06-0051, приказ Минстроя России от 07.11.2024 г. № 747/пр","Смазка солидол жировой Ж",1346,null,1009,"кг","кг",1,null,null,null,null,null,null,0.03,58.53,0,0,0,0,1,0,"",0.03,2,85320126,117,0,0,0,0,0,0,0,0]
[{"$f":"ROW(Source!A72)","v":72},85320146,85320120,77379558,1,1,1,3,"01.7.15.03-0042","ФСБЦ-2022, 01.7.15.03-0042, приказ Минстроя России от 18.05.2022 г. № 378/пр","Болты с гайками и шайбами строительные",1346,null,1009,"кг","кг",1,null,null,null,null,null,null,0,174.93,0,0,0,1,0,0,"",0,2,85320127,118,0,0,0,0,0,0,0,0]
[{"$f":"ROW(Source!A72)","v":72},85320147,85320120,77380691,1,1,1,3,"01.7.20.08-0051","ФСБЦ-2022 доп.8, 01.7.20.08-0051, приказ Минстроя России от 14.11.2023 г. № 817/пр","Ветошь хлопчатобумажная цветная",1346,null,1009,"кг","кг",1,null,null,null,null,null,null,0.02,56.11,0,0,0,0,1,0,"",0.02,2,85320128,119,0,0,0,0,0,0,0,0]
[{"$f":"ROW(Source!A72)","v":72},85320148,85320120,77307872,114,1,1,3,"05.1.02.06","","Приставки железобетонные",1371,null,1013,"ШТ","ШТ",1,null,null,null,null,null,null,0,0,0,0,0,1,0,0,"",0,2,85320129,120,0,0,0,0,0,0,0,0]
[{"$f":"ROW(Source!A72)","v":72},85320149,85320120,77307877,114,1,1,3,"05.1.02.07","","Стойка железобетонная вибрированная для опор",1371,null,1013,"ШТ","ШТ",1,null,null,null,null,null,null,0,0,0,0,0,1,0,0,"",0,2,85320130,121,0,0,0,0,0,0,0,0]
[{"$f":"ROW(Source!A72)","v":72},85320150,85320120,77308556,114,1,1,3,"07.2.02.05","","Траверсы стальные",1348,null,1009,"т","т",1000,null,null,null,null,null,null,0,0,0,0,0,1,0,0,"",0,2,85320131,122,0,0,0,0,0,0,0,0]
[{"$f":"ROW(Source!A72)","v":72},85320151,85320120,77308705,114,1,1,3,"07.2.07.13","","Хомуты стальные",1346,null,1009,"кг","кг",1,null,null,null,null,null,null,0,0,0,0,0,1,0,0,"",0,2,85320132,123,0,0,0,0,0,0,0,0]
[{"$f":"ROW(Source!A72)","v":72},85320152,85320120,77309038,114,1,1,3,"08.3.04.02","","Сталь стержневая диаметром до 10 мм",1348,null,1009,"т","т",1000,null,null,null,null,null,null,0,0,0,0,0,1,0,0,"",0,2,85320133,124,0,0,0,0,0,0,0,0]
[{"$f":"ROW(Source!A72)","v":72},85320153,85320120,77397232,1,1,1,3,"14.4.02.04-0182","ФСБЦ-2022, 14.4.02.04-0182, приказ Минстроя России от 18.05.2022 г. № 378/пр","Краска масляная МА-15, цветная",1348,null,1009,"т","т",1000,null,null,null,null,null,null,4.0000000000000002E-4,61265.39,0,0,0,0,1,0,"",4.0000000000000002E-4,2,85320134,125,0,0,0,0,0,0,0,0]
[{"$f":"ROW(Source!A72)","v":72},85320154,85320120,77397258,1,1,1,3,"14.4.03.03-0102","ФСБЦ-2022 доп.4, 14.4.03.03-0102, приказ Минстроя России от 27.12.2022 г. № 1133/пр","Лак битумный БТ-577",1348,null,1009,"т","т",1000,null,null,null,null,null,null,1E-4,80020.98,0,0,0,0,1,0,"",1E-4,2,85320135,126,0,0,0,0,0,0,0,0]
[{"$f":"ROW(Source!A72)","v":72},85320155,85320120,77404679,1,1,1,3,"20.2.02.04-0006","ФСБЦ-2022, 20.2.02.04-0006, приказ Минстроя России от 18.05.2022 г. № 378/пр","Колпачки полиэтиленовые К-6",1425,null,1013,"100 ШТ","100 ШТ",1,null,null,null,null,null,null,0.06,1031.73,0,0,0,0,1,0,"",0.06,2,85320136,127,0,0,0,0,0,0,0,0]
[{"$f":"ROW(Source!A72)","v":72},85320156,85320120,77311321,114,1,1,3,"22.2.01.04","","Изоляторы штыревые",1371,null,1013,"ШТ","ШТ",1,null,null,null,null,null,null,0,0,0,0,0,1,0,0,"",0,2,85320137,128,0,0,0,0,0,0,0,0]
[{"$f":"ROW(Source!A72)","v":72},85320157,85320120,77311366,114,1,1,3,"22.2.02.21","","Штыри",1371,null,1013,"ШТ","ШТ",1,null,null,null,null,null,null,0,0,0,0,0,1,0,0,"",0,2,85320138,129,0,0,0,0,0,0,0,0]
[{"$f":"ROW(Source!A72)","v":72},85320158,85320120,77311370,114,1,1,3,"22.2.02.23","","Металлические плакаты",1371,null,1013,"ШТ","ШТ",1,null,null,null,null,null,null,0,0,0,0,0,1,0,0,"",0,2,85320139,130,0,0,0,0,0,0,0,0]
[{"$f":"ROW(Source!A92)","v":92},85320189,85320169,83777501,117,1,1,1,"1-100-33","","Средний разряд работы 3,3",1191,null,1013,"чел.-ч.","чел.-ч.",1,null,null,null,null,null,null,5.98,0,0,0,748.18,0,1,1,"",5.98,2,85320170,131,0,0,0,0,0,0,0,0]
[{"$f":"ROW(Source!A92)","v":92},85320190,85320169,83777689,117,1,1,1,"4-100-00","","Затраты труда машинистов",1191,null,1013,"чел.-ч.","чел.-ч.",1,null,null,null,null,null,null,2,0,0,0,0,0,1,2,"",2,2,85320171,132,0,0,0,0,0,0,0,0]
[{"$f":"ROW(Source!A92)","v":92},85320191,85320169,83784065,1,1,1,2,"91.04.01-031","ФСЭМ-2022 доп.11, 91.04.01-031, приказ Минстроя России от 07.11.2024 г. № 747/пр","Машины бурильно-крановые на автомобильном ходу, диаметр бурения до 800 мм, глубина бурения до 5 м",1368,null,1011,"маш.-ч","маш.-ч",1,null,null,null,null,null,null,1.6,0,2088.77,932.95,0,0,1,0,"",1.6,2,85320172,133,0,0,0,0,0,0,0,0]
[{"$f":"ROW(Source!A92)","v":92},85320192,85320169,83785072,1,1,1,2,"91.14.02-001","ФСЭМ-2022 доп.7, 91.14.02-001, приказ Минстроя России от 02.08.2023 г. № 551/пр","Автомобили бортовые, грузоподъемность до 5 т",1368,null,1011,"маш.-ч","маш.-ч",1,null,null,null,null,null,null,0.4,0,641.70000000000005,811.79,0,0,1,0,"",0.4,2,85320173,134,0,0,0,0,0,0,0,0]
[{"$f":"ROW(Source!A92)","v":92},85320193,85320169,83849794,1,1,1,3,"01.3.01.06-0038","ФСБЦ-2022 доп.17, 01.3.01.06-0038, приказ Минстроя России от 17.02.2026 г. № 91/пр","Смазка защитная электросетевая",1346,null,1009,"кг","кг",1,null,null,null,null,null,null,0.1,185.43,0,0,0,0,1,0,"",0.1,2,85320174,135,0,0,0,0,0,0,0,0]
[{"$f":"ROW(Source!A92)","v":92},85320194,85320169,83849801,1,1,1,3,"01.3.01.06-0051","ФСБЦ-2022 доп.12, 01.3.01.06-0051, приказ Минстроя России от 07.11.2024 г. № 747/пр","Смазка солидол жировой Ж",1346,null,1009,"кг","кг",1,null,null,null,null,null,null,0.03,58.53,0,0,0,0,1,0,"",0.03,2,85320175,136,0,0,0,0,0,0,0,0]
[{"$f":"ROW(Source!A92)","v":92},85320195,85320169,83853338,1,1,1,3,"01.7.15.03-0042","ФСБЦ-2022, 01.7.15.03-0042, приказ Минстроя России от 18.05.2022 г. № 378/пр","Болты с гайками и шайбами строительные",1346,null,1009,"кг","кг",1,null,null,null,null,null,null,0,174.93,0,0,0,1,0,0,"",0,2,85320176,137,0,0,0,0,0,0,0,0]
[{"$f":"ROW(Source!A92)","v":92},85320196,85320169,83854484,1,1,1,3,"01.7.20.08-0051","ФСБЦ-2022 доп.8, 01.7.20.08-0051, приказ Минстроя России от 14.11.2023 г. № 817/пр","Ветошь хлопчатобумажная цветная",1346,null,1009,"кг","кг",1,null,null,null,null,null,null,0.02,56.11,0,0,0,0,1,0,"",0.02,2,85320177,138,0,0,0,0,0,0,0,0]
[{"$f":"ROW(Source!A92)","v":92},85320197,85320169,83779061,117,1,1,3,"05.1.02.07","","Стойка железобетонная вибрированная для опор",1371,null,1013,"ШТ","ШТ",1,null,null,null,null,null,null,0,0,0,0,0,1,0,0,"",0,2,85320178,139,0,0,0,0,0,0,0,0]
[{"$f":"ROW(Source!A92)","v":92},85320198,85320169,83779738,117,1,1,3,"07.2.02.05","","Траверсы стальные",1348,null,1009,"т","т",1000,null,null,null,null,null,null,0,0,0,0,0,1,0,0,"",0,2,85320179,140,0,0,0,0,0,0,0,0]
[{"$f":"ROW(Source!A92)","v":92},85320199,85320169,83779884,117,1,1,3,"07.2.07.13","","Хомуты стальные",1346,null,1009,"кг","кг",1,null,null,null,null,null,null,0,0,0,0,0,1,0,0,"",0,2,85320180,141,0,0,0,0,0,0,0,0]
[{"$f":"ROW(Source!A92)","v":92},85320200,85320169,83780219,117,1,1,3,"08.3.04.02","","Сталь стержневая диаметром до 10 мм",1348,null,1009,"т","т",1000,null,null,null,null,null,null,0,0,0,0,0,1,0,0,"",0,2,85320181,142,0,0,0,0,0,0,0,0]
[{"$f":"ROW(Source!A92)","v":92},85320201,85320169,83870522,1,1,1,3,"14.4.02.04-0182","ФСБЦ-2022 доп.17, 14.4.02.04-0182, приказ Минстроя России от 17.02.2026 г. № 91/пр","Краска масляная МА-15, цветная",1346,null,1009,"кг","кг",1,null,null,null,null,null,null,0.4,61.28,0,0,0,0,1,0,"",0.4,2,85320182,143,0,0,0,0,0,0,0,0]
[{"$f":"ROW(Source!A92)","v":92},85320202,85320169,83870548,1,1,1,3,"14.4.03.03-0102","ФСБЦ-2022 доп.4, 14.4.03.03-0102, приказ Минстроя России от 27.12.2022 г. № 1133/пр","Лак битумный БТ-577",1348,null,1009,"т","т",1000,null,null,null,null,null,null,1E-4,80020.98,0,0,0,0,1,0,"",1E-4,2,85320183,144,0,0,0,0,0,0,0,0]
[{"$f":"ROW(Source!A92)","v":92},85320203,85320169,83878170,1,1,1,3,"20.2.02.04-0006","ФСБЦ-2022, 20.2.02.04-0006, приказ Минстроя России от 18.05.2022 г. № 378/пр","Колпачки полиэтиленовые К-6",1425,null,1013,"100 ШТ","100 ШТ",1,null,null,null,null,null,null,0.06,1031.73,0,0,0,0,1,0,"",0.06,2,85320184,145,0,0,0,0,0,0,0,0]
[{"$f":"ROW(Source!A92)","v":92},85320204,85320169,83782579,117,1,1,3,"22.2.01.04","","Изоляторы штыревые",1371,null,1013,"ШТ","ШТ",1,null,null,null,null,null,null,0,0,0,0,0,1,0,0,"",0,2,85320185,146,0,0,0,0,0,0,0,0]
[{"$f":"ROW(Source!A92)","v":92},85320205,85320169,83782592,117,1,1,3,"22.2.02.07","","Детали крепления",1346,null,1009,"кг","кг",1,null,null,null,null,null,null,0,0,0,0,0,1,0,0,"",0,2,85320186,147,0,0,0,0,0,0,0,0]
[{"$f":"ROW(Source!A92)","v":92},85320206,85320169,83782625,117,1,1,3,"22.2.02.21","","Штыри",1371,null,1013,"ШТ","ШТ",1,null,null,null,null,null,null,0,0,0,0,0,1,0,0,"",0,2,85320187,148,0,0,0,0,0,0,0,0]
[{"$f":"ROW(Source!A92)","v":92},85320207,85320169,83782629,117,1,1,3,"22.2.02.23","","Металлические плакаты",1371,null,1013,"ШТ","ШТ",1,null,null,null,null,null,null,0,0,0,0,0,1,0,0,"",0,2,85320188,149,0,0,0,0,0,0,0,0]
[{"$f":"ROW(Source!A93)","v":93},85320189,85320169,83777501,117,1,1,1,"1-100-33","","Средний разряд работы 3,3",1191,null,1013,"чел.-ч.","чел.-ч.",1,null,null,null,null,null,null,5.98,0,0,0,748.18,0,1,1,"",5.98,2,85320170,150,0,0,0,0,0,0,0,0]
[{"$f":"ROW(Source!A93)","v":93},85320190,85320169,83777689,117,1,1,1,"4-100-00","","Затраты труда машинистов",1191,null,1013,"чел.-ч.","чел.-ч.",1,null,null,null,null,null,null,2,0,0,0,0,0,1,2,"",2,2,85320171,151,0,0,0,0,0,0,0,0]
[{"$f":"ROW(Source!A93)","v":93},85320191,85320169,83784065,1,1,1,2,"91.04.01-031","ФСЭМ-2022 доп.11, 91.04.01-031, приказ Минстроя России от 07.11.2024 г. № 747/пр","Машины бурильно-крановые на автомобильном ходу, диаметр бурения до 800 мм, глубина бурения до 5 м",1368,null,1011,"маш.-ч","маш.-ч",1,null,null,null,null,null,null,1.6,0,2088.77,932.95,0,0,1,0,"",1.6,2,85320172,152,0,0,0,0,0,0,0,0]
[{"$f":"ROW(Source!A93)","v":93},85320192,85320169,83785072,1,1,1,2,"91.14.02-001","ФСЭМ-2022 доп.7, 91.14.02-001, приказ Минстроя России от 02.08.2023 г. № 551/пр","Автомобили бортовые, грузоподъемность до 5 т",1368,null,1011,"маш.-ч","маш.-ч",1,null,null,null,null,null,null,0.4,0,641.70000000000005,811.79,0,0,1,0,"",0.4,2,85320173,153,0,0,0,0,0,0,0,0]
[{"$f":"ROW(Source!A93)","v":93},85320193,85320169,83849794,1,1,1,3,"01.3.01.06-0038","ФСБЦ-2022 доп.17, 01.3.01.06-0038, приказ Минстроя России от 17.02.2026 г. № 91/пр","Смазка защитная электросетевая",1346,null,1009,"кг","кг",1,null,null,null,null,null,null,0.1,185.43,0,0,0,0,1,0,"",0.1,2,85320174,154,0,0,0,0,0,0,0,0]
[{"$f":"ROW(Source!A93)","v":93},85320194,85320169,83849801,1,1,1,3,"01.3.01.06-0051","ФСБЦ-2022 доп.12, 01.3.01.06-0051, приказ Минстроя России от 07.11.2024 г. № 747/пр","Смазка солидол жировой Ж",1346,null,1009,"кг","кг",1,null,null,null,null,null,null,0.03,58.53,0,0,0,0,1,0,"",0.03,2,85320175,155,0,0,0,0,0,0,0,0]
[{"$f":"ROW(Source!A93)","v":93},85320195,85320169,83853338,1,1,1,3,"01.7.15.03-0042","ФСБЦ-2022, 01.7.15.03-0042, приказ Минстроя России от 18.05.2022 г. № 378/пр","Болты с гайками и шайбами строительные",1346,null,1009,"кг","кг",1,null,null,null,null,null,null,0,174.93,0,0,0,1,0,0,"",0,2,85320176,156,0,0,0,0,0,0,0,0]
[{"$f":"ROW(Source!A93)","v":93},85320196,85320169,83854484,1,1,1,3,"01.7.20.08-0051","ФСБЦ-2022 доп.8, 01.7.20.08-0051, приказ Минстроя России от 14.11.2023 г. № 817/пр","Ветошь хлопчатобумажная цветная",1346,null,1009,"кг","кг",1,null,null,null,null,null,null,0.02,56.11,0,0,0,0,1,0,"",0.02,2,85320177,157,0,0,0,0,0,0,0,0]
[{"$f":"ROW(Source!A93)","v":93},85320197,85320169,83779061,117,1,1,3,"05.1.02.07","","Стойка железобетонная вибрированная для опор",1371,null,1013,"ШТ","ШТ",1,null,null,null,null,null,null,0,0,0,0,0,1,0,0,"",0,2,85320178,158,0,0,0,0,0,0,0,0]
[{"$f":"ROW(Source!A93)","v":93},85320198,85320169,83779738,117,1,1,3,"07.2.02.05","","Траверсы стальные",1348,null,1009,"т","т",1000,null,null,null,null,null,null,0,0,0,0,0,1,0,0,"",0,2,85320179,159,0,0,0,0,0,0,0,0]
[{"$f":"ROW(Source!A93)","v":93},85320199,85320169,83779884,117,1,1,3,"07.2.07.13","","Хомуты стальные",1346,null,1009,"кг","кг",1,null,null,null,null,null,null,0,0,0,0,0,1,0,0,"",0,2,85320180,160,0,0,0,0,0,0,0,0]
[{"$f":"ROW(Source!A93)","v":93},85320200,85320169,83780219,117,1,1,3,"08.3.04.02","","Сталь стержневая диаметром до 10 мм",1348,null,1009,"т","т",1000,null,null,null,null,null,null,0,0,0,0,0,1,0,0,"",0,2,85320181,161,0,0,0,0,0,0,0,0]
[{"$f":"ROW(Source!A93)","v":93},85320201,85320169,83870522,1,1,1,3,"14.4.02.04-0182","ФСБЦ-2022 доп.17, 14.4.02.04-0182, приказ Минстроя России от 17.02.2026 г. № 91/пр","Краска масляная МА-15, цветная",1346,null,1009,"кг","кг",1,null,null,null,null,null,null,0.4,61.28,0,0,0,0,1,0,"",0.4,2,85320182,162,0,0,0,0,0,0,0,0]
[{"$f":"ROW(Source!A93)","v":93},85320202,85320169,83870548,1,1,1,3,"14.4.03.03-0102","ФСБЦ-2022 доп.4, 14.4.03.03-0102, приказ Минстроя России от 27.12.2022 г. № 1133/пр","Лак битумный БТ-577",1348,null,1009,"т","т",1000,null,null,null,null,null,null,1E-4,80020.98,0,0,0,0,1,0,"",1E-4,2,85320183,163,0,0,0,0,0,0,0,0]
[{"$f":"ROW(Source!A93)","v":93},85320203,85320169,83878170,1,1,1,3,"20.2.02.04-0006","ФСБЦ-2022, 20.2.02.04-0006, приказ Минстроя России от 18.05.2022 г. № 378/пр","Колпачки полиэтиленовые К-6",1425,null,1013,"100 ШТ","100 ШТ",1,null,null,null,null,null,null,0.06,1031.73,0,0,0,0,1,0,"",0.06,2,85320184,164,0,0,0,0,0,0,0,0]
[{"$f":"ROW(Source!A93)","v":93},85320204,85320169,83782579,117,1,1,3,"22.2.01.04","","Изоляторы штыревые",1371,null,1013,"ШТ","ШТ",1,null,null,null,null,null,null,0,0,0,0,0,1,0,0,"",0,2,85320185,165,0,0,0,0,0,0,0,0]
[{"$f":"ROW(Source!A93)","v":93},85320205,85320169,83782592,117,1,1,3,"22.2.02.07","","Детали крепления",1346,null,1009,"кг","кг",1,null,null,null,null,null,null,0,0,0,0,0,1,0,0,"",0,2,85320186,166,0,0,0,0,0,0,0,0]
[{"$f":"ROW(Source!A93)","v":93},85320206,85320169,83782625,117,1,1,3,"22.2.02.21","","Штыри",1371,null,1013,"ШТ","ШТ",1,null,null,null,null,null,null,0,0,0,0,0,1,0,0,"",0,2,85320187,167,0,0,0,0,0,0,0,0]
[{"$f":"ROW(Source!A93)","v":93},85320207,85320169,83782629,117,1,1,3,"22.2.02.23","","Металлические плакаты",1371,null,1013,"ШТ","ШТ",1,null,null,null,null,null,null,0,0,0,0,0,1,0,0,"",0,2,85320188,168,0,0,0,0,0,0,0,0]
[{"$f":"ROW(Source!A113)","v":113},85320238,85320218,83777501,117,1,1,1,"1-100-33","","Средний разряд работы 3,3",1191,null,1013,"чел.-ч.","чел.-ч.",1,null,null,null,null,null,null,9,0,0,0,748.18,0,1,1,"",9,2,85320219,169,0,0,0,0,0,0,0,0]
[{"$f":"ROW(Source!A113)","v":113},85320239,85320218,83777689,117,1,1,1,"4-100-00","","Затраты труда машинистов",1191,null,1013,"чел.-ч.","чел.-ч.",1,null,null,null,null,null,null,3.21,0,0,0,0,0,1,2,"",3.21,2,85320220,170,0,0,0,0,0,0,0,0]
[{"$f":"ROW(Source!A113)","v":113},85320240,85320218,83784065,1,1,1,2,"91.04.01-031","ФСЭМ-2022 доп.11, 91.04.01-031, приказ Минстроя России от 07.11.2024 г. № 747/пр","Машины бурильно-крановые на автомобильном ходу, диаметр бурения до 800 мм, глубина бурения до 5 м",1368,null,1011,"маш.-ч","маш.-ч",1,null,null,null,null,null,null,2.6,0,2088.77,932.95,0,0,1,0,"",2.6,2,85320221,171,0,0,0,0,0,0,0,0]
[{"$f":"ROW(Source!A113)","v":113},85320241,85320218,83785072,1,1,1,2,"91.14.02-001","ФСЭМ-2022 доп.7, 91.14.02-001, приказ Минстроя России от 02.08.2023 г. № 551/пр","Автомобили бортовые, грузоподъемность до 5 т",1368,null,1011,"маш.-ч","маш.-ч",1,null,null,null,null,null,null,0.61,0,641.70000000000005,811.79,0,0,1,0,"",0.61,2,85320222,172,0,0,0,0,0,0,0,0]
[{"$f":"ROW(Source!A113)","v":113},85320242,85320218,83849794,1,1,1,3,"01.3.01.06-0038","ФСБЦ-2022 доп.17, 01.3.01.06-0038, приказ Минстроя России от 17.02.2026 г. № 91/пр","Смазка защитная электросетевая",1346,null,1009,"кг","кг",1,null,null,null,null,null,null,0.1,185.43,0,0,0,0,1,0,"",0.1,2,85320223,173,0,0,0,0,0,0,0,0]
[{"$f":"ROW(Source!A113)","v":113},85320243,85320218,83849801,1,1,1,3,"01.3.01.06-0051","ФСБЦ-2022 доп.12, 01.3.01.06-0051, приказ Минстроя России от 07.11.2024 г. № 747/пр","Смазка солидол жировой Ж",1346,null,1009,"кг","кг",1,null,null,null,null,null,null,0.03,58.53,0,0,0,0,1,0,"",0.03,2,85320224,174,0,0,0,0,0,0,0,0]
[{"$f":"ROW(Source!A113)","v":113},85320244,85320218,83853338,1,1,1,3,"01.7.15.03-0042","ФСБЦ-2022, 01.7.15.03-0042, приказ Минстроя России от 18.05.2022 г. № 378/пр","Болты с гайками и шайбами строительные",1346,null,1009,"кг","кг",1,null,null,null,null,null,null,0,174.93,0,0,0,1,0,0,"",0,2,85320225,175,0,0,0,0,0,0,0,0]
[{"$f":"ROW(Source!A113)","v":113},85320245,85320218,83854484,1,1,1,3,"01.7.20.08-0051","ФСБЦ-2022 доп.8, 01.7.20.08-0051, приказ Минстроя России от 14.11.2023 г. № 817/пр","Ветошь хлопчатобумажная цветная",1346,null,1009,"кг","кг",1,null,null,null,null,null,null,0.02,56.11,0,0,0,0,1,0,"",0.02,2,85320226,176,0,0,0,0,0,0,0,0]
[{"$f":"ROW(Source!A113)","v":113},85320246,85320218,83779061,117,1,1,3,"05.1.02.07","","Стойка железобетонная вибрированная для опор",1371,null,1013,"ШТ","ШТ",1,null,null,null,null,null,null,0,0,0,0,0,1,0,0,"",0,2,85320227,177,0,0,0,0,0,0,0,0]
[{"$f":"ROW(Source!A113)","v":113},85320247,85320218,83779738,117,1,1,3,"07.2.02.05","","Траверсы стальные",1348,null,1009,"т","т",1000,null,null,null,null,null,null,0,0,0,0,0,1,0,0,"",0,2,85320228,178,0,0,0,0,0,0,0,0]
[{"$f":"ROW(Source!A113)","v":113},85320248,85320218,83779884,117,1,1,3,"07.2.07.13","","Хомуты стальные",1346,null,1009,"кг","кг",1,null,null,null,null,null,null,0,0,0,0,0,1,0,0,"",0,2,85320229,179,0,0,0,0,0,0,0,0]
[{"$f":"ROW(Source!A113)","v":113},85320249,85320218,83780219,117,1,1,3,"08.3.04.02","","Сталь стержневая диаметром до 10 мм",1348,null,1009,"т","т",1000,null,null,null,null,null,null,0,0,0,0,0,1,0,0,"",0,2,85320230,180,0,0,0,0,0,0,0,0]
[{"$f":"ROW(Source!A113)","v":113},85320250,85320218,83870522,1,1,1,3,"14.4.02.04-0182","ФСБЦ-2022 доп.17, 14.4.02.04-0182, приказ Минстроя России от 17.02.2026 г. № 91/пр","Краска масляная МА-15, цветная",1346,null,1009,"кг","кг",1,null,null,null,null,null,null,0.4,61.28,0,0,0,0,1,0,"",0.4,2,85320231,181,0,0,0,0,0,0,0,0]
[{"$f":"ROW(Source!A113)","v":113},85320251,85320218,83870548,1,1,1,3,"14.4.03.03-0102","ФСБЦ-2022 доп.4, 14.4.03.03-0102, приказ Минстроя России от 27.12.2022 г. № 1133/пр","Лак битумный БТ-577",1348,null,1009,"т","т",1000,null,null,null,null,null,null,1E-4,80020.98,0,0,0,0,1,0,"",1E-4,2,85320232,182,0,0,0,0,0,0,0,0]
[{"$f":"ROW(Source!A113)","v":113},85320252,85320218,83878170,1,1,1,3,"20.2.02.04-0006","ФСБЦ-2022, 20.2.02.04-0006, приказ Минстроя России от 18.05.2022 г. № 378/пр","Колпачки полиэтиленовые К-6",1425,null,1013,"100 ШТ","100 ШТ",1,null,null,null,null,null,null,0.06,1031.73,0,0,0,0,1,0,"",0.06,2,85320233,183,0,0,0,0,0,0,0,0]
[{"$f":"ROW(Source!A113)","v":113},85320253,85320218,83782579,117,1,1,3,"22.2.01.04","","Изоляторы штыревые",1371,null,1013,"ШТ","ШТ",1,null,null,null,null,null,null,0,0,0,0,0,1,0,0,"",0,2,85320234,184,0,0,0,0,0,0,0,0]
[{"$f":"ROW(Source!A113)","v":113},85320254,85320218,83782592,117,1,1,3,"22.2.02.07","","Детали крепления",1346,null,1009,"кг","кг",1,null,null,null,null,null,null,0,0,0,0,0,1,0,0,"",0,2,85320235,185,0,0,0,0,0,0,0,0]
[{"$f":"ROW(Source!A113)","v":113},85320255,85320218,83782625,117,1,1,3,"22.2.02.21","","Штыри",1371,null,1013,"ШТ","ШТ",1,null,null,null,null,null,null,0,0,0,0,0,1,0,0,"",0,2,85320236,186,0,0,0,0,0,0,0,0]
[{"$f":"ROW(Source!A113)","v":113},85320256,85320218,83782629,117,1,1,3,"22.2.02.23","","Металлические плакаты",1371,null,1013,"ШТ","ШТ",1,null,null,null,null,null,null,0,0,0,0,0,1,0,0,"",0,2,85320237,187,0,0,0,0,0,0,0,0]
[{"$f":"ROW(Source!A114)","v":114},85320238,85320218,83777501,117,1,1,1,"1-100-33","","Средний разряд работы 3,3",1191,null,1013,"чел.-ч.","чел.-ч.",1,null,null,null,null,null,null,9,0,0,0,748.18,0,1,1,"",9,2,85320219,188,0,0,0,0,0,0,0,0]
[{"$f":"ROW(Source!A114)","v":114},85320239,85320218,83777689,117,1,1,1,"4-100-00","","Затраты труда машинистов",1191,null,1013,"чел.-ч.","чел.-ч.",1,null,null,null,null,null,null,3.21,0,0,0,0,0,1,2,"",3.21,2,85320220,189,0,0,0,0,0,0,0,0]
[{"$f":"ROW(Source!A114)","v":114},85320240,85320218,83784065,1,1,1,2,"91.04.01-031","ФСЭМ-2022 доп.11, 91.04.01-031, приказ Минстроя России от 07.11.2024 г. № 747/пр","Машины бурильно-крановые на автомобильном ходу, диаметр бурения до 800 мм, глубина бурения до 5 м",1368,null,1011,"маш.-ч","маш.-ч",1,null,null,null,null,null,null,2.6,0,2088.77,932.95,0,0,1,0,"",2.6,2,85320221,190,0,0,0,0,0,0,0,0]
[{"$f":"ROW(Source!A114)","v":114},85320241,85320218,83785072,1,1,1,2,"91.14.02-001","ФСЭМ-2022 доп.7, 91.14.02-001, приказ Минстроя России от 02.08.2023 г. № 551/пр","Автомобили бортовые, грузоподъемность до 5 т",1368,null,1011,"маш.-ч","маш.-ч",1,null,null,null,null,null,null,0.61,0,641.70000000000005,811.79,0,0,1,0,"",0.61,2,85320222,191,0,0,0,0,0,0,0,0]
[{"$f":"ROW(Source!A114)","v":114},85320242,85320218,83849794,1,1,1,3,"01.3.01.06-0038","ФСБЦ-2022 доп.17, 01.3.01.06-0038, приказ Минстроя России от 17.02.2026 г. № 91/пр","Смазка защитная электросетевая",1346,null,1009,"кг","кг",1,null,null,null,null,null,null,0.1,185.43,0,0,0,0,1,0,"",0.1,2,85320223,192,0,0,0,0,0,0,0,0]
[{"$f":"ROW(Source!A114)","v":114},85320243,85320218,83849801,1,1,1,3,"01.3.01.06-0051","ФСБЦ-2022 доп.12, 01.3.01.06-0051, приказ Минстроя России от 07.11.2024 г. № 747/пр","Смазка солидол жировой Ж",1346,null,1009,"кг","кг",1,null,null,null,null,null,null,0.03,58.53,0,0,0,0,1,0,"",0.03,2,85320224,193,0,0,0,0,0,0,0,0]
[{"$f":"ROW(Source!A114)","v":114},85320244,85320218,83853338,1,1,1,3,"01.7.15.03-0042","ФСБЦ-2022, 01.7.15.03-0042, приказ Минстроя России от 18.05.2022 г. № 378/пр","Болты с гайками и шайбами строительные",1346,null,1009,"кг","кг",1,null,null,null,null,null,null,0,174.93,0,0,0,1,0,0,"",0,2,85320225,194,0,0,0,0,0,0,0,0]
[{"$f":"ROW(Source!A114)","v":114},85320245,85320218,83854484,1,1,1,3,"01.7.20.08-0051","ФСБЦ-2022 доп.8, 01.7.20.08-0051, приказ Минстроя России от 14.11.2023 г. № 817/пр","Ветошь хлопчатобумажная цветная",1346,null,1009,"кг","кг",1,null,null,null,null,null,null,0.02,56.11,0,0,0,0,1,0,"",0.02,2,85320226,195,0,0,0,0,0,0,0,0]
[{"$f":"ROW(Source!A114)","v":114},85320246,85320218,83779061,117,1,1,3,"05.1.02.07","","Стойка железобетонная вибрированная для опор",1371,null,1013,"ШТ","ШТ",1,null,null,null,null,null,null,0,0,0,0,0,1,0,0,"",0,2,85320227,196,0,0,0,0,0,0,0,0]
[{"$f":"ROW(Source!A114)","v":114},85320247,85320218,83779738,117,1,1,3,"07.2.02.05","","Траверсы стальные",1348,null,1009,"т","т",1000,null,null,null,null,null,null,0,0,0,0,0,1,0,0,"",0,2,85320228,197,0,0,0,0,0,0,0,0]
[{"$f":"ROW(Source!A114)","v":114},85320248,85320218,83779884,117,1,1,3,"07.2.07.13","","Хомуты стальные",1346,null,1009,"кг","кг",1,null,null,null,null,null,null,0,0,0,0,0,1,0,0,"",0,2,85320229,198,0,0,0,0,0,0,0,0]
[{"$f":"ROW(Source!A114)","v":114},85320249,85320218,83780219,117,1,1,3,"08.3.04.02","","Сталь стержневая диаметром до 10 мм",1348,null,1009,"т","т",1000,null,null,null,null,null,null,0,0,0,0,0,1,0,0,"",0,2,85320230,199,0,0,0,0,0,0,0,0]
[{"$f":"ROW(Source!A114)","v":114},85320250,85320218,83870522,1,1,1,3,"14.4.02.04-0182","ФСБЦ-2022 доп.17, 14.4.02.04-0182, приказ Минстроя России от 17.02.2026 г. № 91/пр","Краска масляная МА-15, цветная",1346,null,1009,"кг","кг",1,null,null,null,null,null,null,0.4,61.28,0,0,0,0,1,0,"",0.4,2,85320231,200,0,0,0,0,0,0,0,0]
[{"$f":"ROW(Source!A114)","v":114},85320251,85320218,83870548,1,1,1,3,"14.4.03.03-0102","ФСБЦ-2022 доп.4, 14.4.03.03-0102, приказ Минстроя России от 27.12.2022 г. № 1133/пр","Лак битумный БТ-577",1348,null,1009,"т","т",1000,null,null,null,null,null,null,1E-4,80020.98,0,0,0,0,1,0,"",1E-4,2,85320232,201,0,0,0,0,0,0,0,0]
[{"$f":"ROW(Source!A114)","v":114},85320252,85320218,83878170,1,1,1,3,"20.2.02.04-0006","ФСБЦ-2022, 20.2.02.04-0006, приказ Минстроя России от 18.05.2022 г. № 378/пр","Колпачки полиэтиленовые К-6",1425,null,1013,"100 ШТ","100 ШТ",1,null,null,null,null,null,null,0.06,1031.73,0,0,0,0,1,0,"",0.06,2,85320233,202,0,0,0,0,0,0,0,0]
[{"$f":"ROW(Source!A114)","v":114},85320253,85320218,83782579,117,1,1,3,"22.2.01.04","","Изоляторы штыревые",1371,null,1013,"ШТ","ШТ",1,null,null,null,null,null,null,0,0,0,0,0,1,0,0,"",0,2,85320234,203,0,0,0,0,0,0,0,0]
[{"$f":"ROW(Source!A114)","v":114},85320254,85320218,83782592,117,1,1,3,"22.2.02.07","","Детали крепления",1346,null,1009,"кг","кг",1,null,null,null,null,null,null,0,0,0,0,0,1,0,0,"",0,2,85320235,204,0,0,0,0,0,0,0,0]
[{"$f":"ROW(Source!A114)","v":114},85320255,85320218,83782625,117,1,1,3,"22.2.02.21","","Штыри",1371,null,1013,"ШТ","ШТ",1,null,null,null,null,null,null,0,0,0,0,0,1,0,0,"",0,2,85320236,205,0,0,0,0,0,0,0,0]
[{"$f":"ROW(Source!A114)","v":114},85320256,85320218,83782629,117,1,1,3,"22.2.02.23","","Металлические плакаты",1371,null,1013,"ШТ","ШТ",1,null,null,null,null,null,null,0,0,0,0,0,1,0,0,"",0,2,85320237,206,0,0,0,0,0,0,0,0]
[{"$f":"ROW(Source!A134)","v":134},85320286,85320267,83777501,117,1,1,1,"1-100-33","","Средний разряд работы 3,3",1191,null,1013,"чел.-ч.","чел.-ч.",1,null,null,null,null,null,null,4.55,0,0,0,748.18,0,1,1,"",4.55,2,85320268,207,0,0,0,0,0,0,0,0]
[{"$f":"ROW(Source!A134)","v":134},85320287,85320267,83777689,117,1,1,1,"4-100-00","","Затраты труда машинистов",1191,null,1013,"чел.-ч.","чел.-ч.",1,null,null,null,null,null,null,0.99,0,0,0,0,0,1,2,"",0.99,2,85320269,208,0,0,0,0,0,0,0,0]
[{"$f":"ROW(Source!A134)","v":134},85320288,85320267,83784065,1,1,1,2,"91.04.01-031","ФСЭМ-2022 доп.11, 91.04.01-031, приказ Минстроя России от 07.11.2024 г. № 747/пр","Машины бурильно-крановые на автомобильном ходу, диаметр бурения до 800 мм, глубина бурения до 5 м",1368,null,1011,"маш.-ч","маш.-ч",1,null,null,null,null,null,null,0.71,0,2088.77,932.95,0,0,1,0,"",0.71,2,85320270,209,0,0,0,0,0,0,0,0]
[{"$f":"ROW(Source!A134)","v":134},85320289,85320267,83785072,1,1,1,2,"91.14.02-001","ФСЭМ-2022 доп.7, 91.14.02-001, приказ Минстроя России от 02.08.2023 г. № 551/пр","Автомобили бортовые, грузоподъемность до 5 т",1368,null,1011,"маш.-ч","маш.-ч",1,null,null,null,null,null,null,0.28000000000000003,0,641.70000000000005,811.79,0,0,1,0,"",0.28000000000000003,2,85320271,210,0,0,0,0,0,0,0,0]
[{"$f":"ROW(Source!A134)","v":134},85320290,85320267,83849794,1,1,1,3,"01.3.01.06-0038","ФСБЦ-2022 доп.17, 01.3.01.06-0038, приказ Минстроя России от 17.02.2026 г. № 91/пр","Смазка защитная электросетевая",1346,null,1009,"кг","кг",1,null,null,null,null,null,null,0.1,185.43,0,0,0,0,1,0,"",0.1,2,85320272,211,0,0,0,0,0,0,0,0]
[{"$f":"ROW(Source!A134)","v":134},85320291,85320267,83849801,1,1,1,3,"01.3.01.06-0051","ФСБЦ-2022 доп.12, 01.3.01.06-0051, приказ Минстроя России от 07.11.2024 г. № 747/пр","Смазка солидол жировой Ж",1346,null,1009,"кг","кг",1,null,null,null,null,null,null,0.03,58.53,0,0,0,0,1,0,"",0.03,2,85320273,212,0,0,0,0,0,0,0,0]
[{"$f":"ROW(Source!A134)","v":134},85320292,85320267,83853338,1,1,1,3,"01.7.15.03-0042","ФСБЦ-2022, 01.7.15.03-0042, приказ Минстроя России от 18.05.2022 г. № 378/пр","Болты с гайками и шайбами строительные",1346,null,1009,"кг","кг",1,null,null,null,null,null,null,0,174.93,0,0,0,1,0,0,"",0,2,85320274,213,0,0,0,0,0,0,0,0]
[{"$f":"ROW(Source!A134)","v":134},85320293,85320267,83854484,1,1,1,3,"01.7.20.08-0051","ФСБЦ-2022 доп.8, 01.7.20.08-0051, приказ Минстроя России от 14.11.2023 г. № 817/пр","Ветошь хлопчатобумажная цветная",1346,null,1009,"кг","кг",1,null,null,null,null,null,null,0.02,56.11,0,0,0,0,1,0,"",0.02,2,85320275,214,0,0,0,0,0,0,0,0]
[{"$f":"ROW(Source!A134)","v":134},85320294,85320267,83779061,117,1,1,3,"05.1.02.07","","Стойка железобетонная вибрированная для опор",1371,null,1013,"ШТ","ШТ",1,null,null,null,null,null,null,0,0,0,0,0,1,0,0,"",0,2,85320276,215,0,0,0,0,0,0,0,0]
[{"$f":"ROW(Source!A134)","v":134},85320295,85320267,83779738,117,1,1,3,"07.2.02.05","","Траверсы стальные",1348,null,1009,"т","т",1000,null,null,null,null,null,null,0,0,0,0,0,1,0,0,"",0,2,85320277,216,0,0,0,0,0,0,0,0]
[{"$f":"ROW(Source!A134)","v":134},85320296,85320267,83779884,117,1,1,3,"07.2.07.13","","Хомуты стальные",1346,null,1009,"кг","кг",1,null,null,null,null,null,null,0,0,0,0,0,1,0,0,"",0,2,85320278,217,0,0,0,0,0,0,0,0]
[{"$f":"ROW(Source!A134)","v":134},85320297,85320267,83780219,117,1,1,3,"08.3.04.02","","Сталь стержневая диаметром до 10 мм",1348,null,1009,"т","т",1000,null,null,null,null,null,null,0,0,0,0,0,1,0,0,"",0,2,85320279,218,0,0,0,0,0,0,0,0]
[{"$f":"ROW(Source!A134)","v":134},85320298,85320267,83870522,1,1,1,3,"14.4.02.04-0182","ФСБЦ-2022 доп.17, 14.4.02.04-0182, приказ Минстроя России от 17.02.2026 г. № 91/пр","Краска масляная МА-15, цветная",1346,null,1009,"кг","кг",1,null,null,null,null,null,null,0.4,61.28,0,0,0,0,1,0,"",0.4,2,85320280,219,0,0,0,0,0,0,0,0]
[{"$f":"ROW(Source!A134)","v":134},85320299,85320267,83870548,1,1,1,3,"14.4.03.03-0102","ФСБЦ-2022 доп.4, 14.4.03.03-0102, приказ Минстроя России от 27.12.2022 г. № 1133/пр","Лак битумный БТ-577",1348,null,1009,"т","т",1000,null,null,null,null,null,null,1E-4,80020.98,0,0,0,0,1,0,"",1E-4,2,85320281,220,0,0,0,0,0,0,0,0]
[{"$f":"ROW(Source!A134)","v":134},85320300,85320267,83878170,1,1,1,3,"20.2.02.04-0006","ФСБЦ-2022, 20.2.02.04-0006, приказ Минстроя России от 18.05.2022 г. № 378/пр","Колпачки полиэтиленовые К-6",1425,null,1013,"100 ШТ","100 ШТ",1,null,null,null,null,null,null,0.12,1031.73,0,0,0,0,1,0,"",0.12,2,85320282,221,0,0,0,0,0,0,0,0]
[{"$f":"ROW(Source!A134)","v":134},85320301,85320267,83782579,117,1,1,3,"22.2.01.04","","Изоляторы штыревые",1371,null,1013,"ШТ","ШТ",1,null,null,null,null,null,null,0,0,0,0,0,1,0,0,"",0,2,85320283,222,0,0,0,0,0,0,0,0]
[{"$f":"ROW(Source!A134)","v":134},85320302,85320267,83782625,117,1,1,3,"22.2.02.21","","Штыри",1371,null,1013,"ШТ","ШТ",1,null,null,null,null,null,null,0,0,0,0,0,1,0,0,"",0,2,85320284,223,0,0,0,0,0,0,0,0]
[{"$f":"ROW(Source!A134)","v":134},85320303,85320267,83782629,117,1,1,3,"22.2.02.23","","Металлические плакаты",1371,null,1013,"ШТ","ШТ",1,null,null,null,null,null,null,0,0,0,0,0,1,0,0,"",0,2,85320285,224,0,0,0,0,0,0,0,0]
[{"$f":"ROW(Source!A135)","v":135},85320286,85320267,83777501,117,1,1,1,"1-100-33","","Средний разряд работы 3,3",1191,null,1013,"чел.-ч.","чел.-ч.",1,null,null,null,null,null,null,4.55,0,0,0,748.18,0,1,1,"",4.55,2,85320268,225,0,0,0,0,0,0,0,0]
[{"$f":"ROW(Source!A135)","v":135},85320287,85320267,83777689,117,1,1,1,"4-100-00","","Затраты труда машинистов",1191,null,1013,"чел.-ч.","чел.-ч.",1,null,null,null,null,null,null,0.99,0,0,0,0,0,1,2,"",0.99,2,85320269,226,0,0,0,0,0,0,0,0]
[{"$f":"ROW(Source!A135)","v":135},85320288,85320267,83784065,1,1,1,2,"91.04.01-031","ФСЭМ-2022 доп.11, 91.04.01-031, приказ Минстроя России от 07.11.2024 г. № 747/пр","Машины бурильно-крановые на автомобильном ходу, диаметр бурения до 800 мм, глубина бурения до 5 м",1368,null,1011,"маш.-ч","маш.-ч",1,null,null,null,null,null,null,0.71,0,2088.77,932.95,0,0,1,0,"",0.71,2,85320270,227,0,0,0,0,0,0,0,0]
[{"$f":"ROW(Source!A135)","v":135},85320289,85320267,83785072,1,1,1,2,"91.14.02-001","ФСЭМ-2022 доп.7, 91.14.02-001, приказ Минстроя России от 02.08.2023 г. № 551/пр","Автомобили бортовые, грузоподъемность до 5 т",1368,null,1011,"маш.-ч","маш.-ч",1,null,null,null,null,null,null,0.28000000000000003,0,641.70000000000005,811.79,0,0,1,0,"",0.28000000000000003,2,85320271,228,0,0,0,0,0,0,0,0]
[{"$f":"ROW(Source!A135)","v":135},85320290,85320267,83849794,1,1,1,3,"01.3.01.06-0038","ФСБЦ-2022 доп.17, 01.3.01.06-0038, приказ Минстроя России от 17.02.2026 г. № 91/пр","Смазка защитная электросетевая",1346,null,1009,"кг","кг",1,null,null,null,null,null,null,0.1,185.43,0,0,0,0,1,0,"",0.1,2,85320272,229,0,0,0,0,0,0,0,0]
[{"$f":"ROW(Source!A135)","v":135},85320291,85320267,83849801,1,1,1,3,"01.3.01.06-0051","ФСБЦ-2022 доп.12, 01.3.01.06-0051, приказ Минстроя России от 07.11.2024 г. № 747/пр","Смазка солидол жировой Ж",1346,null,1009,"кг","кг",1,null,null,null,null,null,null,0.03,58.53,0,0,0,0,1,0,"",0.03,2,85320273,230,0,0,0,0,0,0,0,0]
[{"$f":"ROW(Source!A135)","v":135},85320292,85320267,83853338,1,1,1,3,"01.7.15.03-0042","ФСБЦ-2022, 01.7.15.03-0042, приказ Минстроя России от 18.05.2022 г. № 378/пр","Болты с гайками и шайбами строительные",1346,null,1009,"кг","кг",1,null,null,null,null,null,null,0,174.93,0,0,0,1,0,0,"",0,2,85320274,231,0,0,0,0,0,0,0,0]
[{"$f":"ROW(Source!A135)","v":135},85320293,85320267,83854484,1,1,1,3,"01.7.20.08-0051","ФСБЦ-2022 доп.8, 01.7.20.08-0051, приказ Минстроя России от 14.11.2023 г. № 817/пр","Ветошь хлопчатобумажная цветная",1346,null,1009,"кг","кг",1,null,null,null,null,null,null,0.02,56.11,0,0,0,0,1,0,"",0.02,2,85320275,232,0,0,0,0,0,0,0,0]
[{"$f":"ROW(Source!A135)","v":135},85320294,85320267,83779061,117,1,1,3,"05.1.02.07","","Стойка железобетонная вибрированная для опор",1371,null,1013,"ШТ","ШТ",1,null,null,null,null,null,null,0,0,0,0,0,1,0,0,"",0,2,85320276,233,0,0,0,0,0,0,0,0]
[{"$f":"ROW(Source!A135)","v":135},85320295,85320267,83779738,117,1,1,3,"07.2.02.05","","Траверсы стальные",1348,null,1009,"т","т",1000,null,null,null,null,null,null,0,0,0,0,0,1,0,0,"",0,2,85320277,234,0,0,0,0,0,0,0,0]
[{"$f":"ROW(Source!A135)","v":135},85320296,85320267,83779884,117,1,1,3,"07.2.07.13","","Хомуты стальные",1346,null,1009,"кг","кг",1,null,null,null,null,null,null,0,0,0,0,0,1,0,0,"",0,2,85320278,235,0,0,0,0,0,0,0,0]
[{"$f":"ROW(Source!A135)","v":135},85320297,85320267,83780219,117,1,1,3,"08.3.04.02","","Сталь стержневая диаметром до 10 мм",1348,null,1009,"т","т",1000,null,null,null,null,null,null,0,0,0,0,0,1,0,0,"",0,2,85320279,236,0,0,0,0,0,0,0,0]
[{"$f":"ROW(Source!A135)","v":135},85320298,85320267,83870522,1,1,1,3,"14.4.02.04-0182","ФСБЦ-2022 доп.17, 14.4.02.04-0182, приказ Минстроя России от 17.02.2026 г. № 91/пр","Краска масляная МА-15, цветная",1346,null,1009,"кг","кг",1,null,null,null,null,null,null,0.4,61.28,0,0,0,0,1,0,"",0.4,2,85320280,237,0,0,0,0,0,0,0,0]
[{"$f":"ROW(Source!A135)","v":135},85320299,85320267,83870548,1,1,1,3,"14.4.03.03-0102","ФСБЦ-2022 доп.4, 14.4.03.03-0102, приказ Минстроя России от 27.12.2022 г. № 1133/пр","Лак битумный БТ-577",1348,null,1009,"т","т",1000,null,null,null,null,null,null,1E-4,80020.98,0,0,0,0,1,0,"",1E-4,2,85320281,238,0,0,0,0,0,0,0,0]
[{"$f":"ROW(Source!A135)","v":135},85320300,85320267,83878170,1,1,1,3,"20.2.02.04-0006","ФСБЦ-2022, 20.2.02.04-0006, приказ Минстроя России от 18.05.2022 г. № 378/пр","Колпачки полиэтиленовые К-6",1425,null,1013,"100 ШТ","100 ШТ",1,null,null,null,null,null,null,0.12,1031.73,0,0,0,0,1,0,"",0.12,2,85320282,239,0,0,0,0,0,0,0,0]
[{"$f":"ROW(Source!A135)","v":135},85320301,85320267,83782579,117,1,1,3,"22.2.01.04","","Изоляторы штыревые",1371,null,1013,"ШТ","ШТ",1,null,null,null,null,null,null,0,0,0,0,0,1,0,0,"",0,2,85320283,240,0,0,0,0,0,0,0,0]
[{"$f":"ROW(Source!A135)","v":135},85320302,85320267,83782625,117,1,1,3,"22.2.02.21","","Штыри",1371,null,1013,"ШТ","ШТ",1,null,null,null,null,null,null,0,0,0,0,0,1,0,0,"",0,2,85320284,241,0,0,0,0,0,0,0,0]
[{"$f":"ROW(Source!A135)","v":135},85320303,85320267,83782629,117,1,1,3,"22.2.02.23","","Металлические плакаты",1371,null,1013,"ШТ","ШТ",1,null,null,null,null,null,null,0,0,0,0,0,1,0,0,"",0,2,85320285,242,0,0,0,0,0,0,0,0]
[{"$f":"ROW(Source!A153)","v":153},85320318,85320313,77306306,114,1,1,1,"1-100-18","","Средний разряд работы 1,8",1191,null,1013,"чел.-ч.","чел.-ч.",1,null,null,null,null,null,null,4.84,0,0,0,0,0,1,1,"",4.84,2,85320314,243,0,0,0,0,0,0,0,0]
[{"$f":"ROW(Source!A153)","v":153},85320319,85320313,77306545,114,1,1,1,"4-100-00","","Затраты труда машинистов",1191,null,1013,"чел.-ч.","чел.-ч.",1,null,null,null,null,null,null,0.03,0,0,0,0,0,1,2,"",0.03,2,85320315,244,0,0,0,0,0,0,0,0]
[{"$f":"ROW(Source!A153)","v":153},85320320,85320313,77431879,1,1,1,2,"91.14.02-001","ФСЭМ-2022 доп.7, 91.14.02-001, приказ Минстроя России от 02.08.2023 г. № 551/пр","Автомобили бортовые, грузоподъемность до 5 т",1368,null,1011,"маш.-ч","маш.-ч",1,null,null,null,null,null,null,0.03,0,641.70000000000005,811.79,0,0,1,0,"",0.03,2,85320316,245,0,0,0,0,0,0,0,0]
[{"$f":"ROW(Source!A153)","v":153},85320321,85320313,77312233,114,1,1,3,"421/пр_2020_п.75_пп.а","","Сметная стоимость вспомогательных ненормируемых материальных ресурсов, не учтенная в сметной норме, 2%",3277935,null,1013,"%","%",1,null,null,null,null,null,null,2,0,0,0,0,0,0,0,"",2,2,85320317,246,0,0,0,0,0,0,0,0]
[{"$f":"ROW(Source!A154)","v":154},85320318,85320313,77306306,114,1,1,1,"1-100-18","","Средний разряд работы 1,8",1191,null,1013,"чел.-ч.","чел.-ч.",1,null,null,null,null,null,null,4.84,0,0,0,0,0,1,1,"",4.84,2,85320314,247,0,0,0,0,0,0,0,0]
[{"$f":"ROW(Source!A154)","v":154},85320319,85320313,77306545,114,1,1,1,"4-100-00","","Затраты труда машинистов",1191,null,1013,"чел.-ч.","чел.-ч.",1,null,null,null,null,null,null,0.03,0,0,0,0,0,1,2,"",0.03,2,85320315,248,0,0,0,0,0,0,0,0]
[{"$f":"ROW(Source!A154)","v":154},85320320,85320313,77431879,1,1,1,2,"91.14.02-001","ФСЭМ-2022 доп.7, 91.14.02-001, приказ Минстроя России от 02.08.2023 г. № 551/пр","Автомобили бортовые, грузоподъемность до 5 т",1368,null,1011,"маш.-ч","маш.-ч",1,null,null,null,null,null,null,0.03,0,641.70000000000005,811.79,0,0,1,0,"",0.03,2,85320316,249,0,0,0,0,0,0,0,0]
[{"$f":"ROW(Source!A154)","v":154},85320321,85320313,77312233,114,1,1,3,"421/пр_2020_п.75_пп.а","","Сметная стоимость вспомогательных ненормируемых материальных ресурсов, не учтенная в сметной норме, 2%",3277935,null,1013,"%","%",1,null,null,null,null,null,null,2,0,0,0,0,0,0,0,"",2,2,85320317,250,0,0,0,0,0,0,0,0]
[{"$f":"ROW(Source!A158)","v":158},85320334,85320324,83777513,117,1,1,1,"1-100-38","","Средний разряд работы 3,8",1191,null,1013,"чел.-ч.","чел.-ч.",1,null,null,null,null,null,null,31.28,0,0,0,793.61,0,1,1,"",31.28,2,85320325,251,0,0,0,0,0,0,0,0]
[{"$f":"ROW(Source!A158)","v":158},85320335,85320324,83777689,117,1,1,1,"4-100-00","","Затраты труда машинистов",1191,null,1013,"чел.-ч.","чел.-ч.",1,null,null,null,null,null,null,0.7,0,0,0,0,0,1,2,"",0.7,2,85320326,252,0,0,0,0,0,0,0,0]
[{"$f":"ROW(Source!A158)","v":158},85320336,85320324,83784178,1,1,1,2,"91.05.05-015","ФСЭМ-2022, 91.05.05-015, приказ Минстроя России от 18.05.2022 г. № 378/пр","Краны на автомобильном ходу, грузоподъемность 16 т",1368,null,1011,"маш.-ч","маш.-ч",1,null,null,null,null,null,null,0.35,0,1626.29,1090.46,0,0,1,0,"",0.35,2,85320327,253,0,0,0,0,0,0,0,0]
[{"$f":"ROW(Source!A158)","v":158},85320337,85320324,83785072,1,1,1,2,"91.14.02-001","ФСЭМ-2022 доп.7, 91.14.02-001, приказ Минстроя России от 02.08.2023 г. № 551/пр","Автомобили бортовые, грузоподъемность до 5 т",1368,null,1011,"маш.-ч","маш.-ч",1,null,null,null,null,null,null,0.35,0,641.70000000000005,811.79,0,0,1,0,"",0.35,2,85320328,254,0,0,0,0,0,0,0,0]
[{"$f":"ROW(Source!A158)","v":158},85320338,85320324,83785268,1,1,1,2,"91.17.04-233","ФСЭМ-2022, 91.17.04-233, приказ Минстроя России от 18.05.2022 г. № 378/пр","Аппараты сварочные для ручной дуговой сварки, сварочный ток до 350 А",1368,null,1011,"маш.-ч","маш.-ч",1,null,null,null,null,null,null,2.16,0,34.61,0,0,0,1,0,"",2.16,2,85320329,255,0,0,0,0,0,0,0,0]
[{"$f":"ROW(Source!A158)","v":158},85320339,85320324,83851841,1,1,1,3,"01.7.03.04-0001","ФСБЦ-2022, 01.7.03.04-0001, приказ Минстроя России от 18.05.2022 г. № 378/пр","Электроэнергия",1383,null,1013,"КВТ-Ч","КВТ-Ч",1,null,null,null,null,null,null,1.1488,7.32,0,0,0,0,1,0,"",1.1488,2,85320330,256,0,0,0,0,0,0,0,0]
[{"$f":"ROW(Source!A158)","v":158},85320340,85320324,83852582,1,1,1,3,"01.7.11.07-0227","ФСБЦ-2022, 01.7.11.07-0227, приказ Минстроя России от 18.05.2022 г. № 378/пр","Электроды сварочные для сварки низколегированных и углеродистых сталей УОНИ 13/45, Э42А, диаметр 4-5 мм",1346,null,1009,"кг","кг",1,null,null,null,null,null,null,0.96,155.63,0,0,0,0,1,0,"",0.96,2,85320331,257,0,0,0,0,0,0,0,0]
[{"$f":"ROW(Source!A158)","v":158},85320341,85320324,83870031,1,1,1,3,"14.1.02.01-0002","ФСБЦ-2022, 14.1.02.01-0002, приказ Минстроя России от 18.05.2022 г. № 378/пр","Клей, марка БМК-5к",1346,null,1009,"кг","кг",1,null,null,null,null,null,null,0.55000000000000004,160.07,0,0,0,0,1,0,"",0.55000000000000004,2,85320332,258,0,0,0,0,0,0,0,0]
[{"$f":"ROW(Source!A158)","v":158},85320342,85320324,83783523,117,1,1,3,"421/пр_2020_п.75_пп.а","","Сметная стоимость вспомогательных ненормируемых материальных ресурсов, не учтенная в сметной норме, 2%",3277935,null,1013,"%","%",1,null,null,null,null,null,null,2,0,0,0,0,0,0,0,"",2,2,85320333,259,0,0,0,0,0,0,0,0]
[{"$f":"ROW(Source!A159)","v":159},85320334,85320324,83777513,117,1,1,1,"1-100-38","","Средний разряд работы 3,8",1191,null,1013,"чел.-ч.","чел.-ч.",1,null,null,null,null,null,null,31.28,0,0,0,793.61,0,1,1,"",31.28,2,85320325,260,0,0,0,0,0,0,0,0]
[{"$f":"ROW(Source!A159)","v":159},85320335,85320324,83777689,117,1,1,1,"4-100-00","","Затраты труда машинистов",1191,null,1013,"чел.-ч.","чел.-ч.",1,null,null,null,null,null,null,0.7,0,0,0,0,0,1,2,"",0.7,2,85320326,261,0,0,0,0,0,0,0,0]
[{"$f":"ROW(Source!A159)","v":159},85320336,85320324,83784178,1,1,1,2,"91.05.05-015","ФСЭМ-2022, 91.05.05-015, приказ Минстроя России от 18.05.2022 г. № 378/пр","Краны на автомобильном ходу, грузоподъемность 16 т",1368,null,1011,"маш.-ч","маш.-ч",1,null,null,null,null,null,null,0.35,0,1626.29,1090.46,0,0,1,0,"",0.35,2,85320327,262,0,0,0,0,0,0,0,0]
[{"$f":"ROW(Source!A159)","v":159},85320337,85320324,83785072,1,1,1,2,"91.14.02-001","ФСЭМ-2022 доп.7, 91.14.02-001, приказ Минстроя России от 02.08.2023 г. № 551/пр","Автомобили бортовые, грузоподъемность до 5 т",1368,null,1011,"маш.-ч","маш.-ч",1,null,null,null,null,null,null,0.35,0,641.70000000000005,811.79,0,0,1,0,"",0.35,2,85320328,263,0,0,0,0,0,0,0,0]
[{"$f":"ROW(Source!A159)","v":159},85320338,85320324,83785268,1,1,1,2,"91.17.04-233","ФСЭМ-2022, 91.17.04-233, приказ Минстроя России от 18.05.2022 г. № 378/пр","Аппараты сварочные для ручной дуговой сварки, сварочный ток до 350 А",1368,null,1011,"маш.-ч","маш.-ч",1,null,null,null,null,null,null,2.16,0,34.61,0,0,0,1,0,"",2.16,2,85320329,264,0,0,0,0,0,0,0,0]
[{"$f":"ROW(Source!A159)","v":159},85320339,85320324,83851841,1,1,1,3,"01.7.03.04-0001","ФСБЦ-2022, 01.7.03.04-0001, приказ Минстроя России от 18.05.2022 г. № 378/пр","Электроэнергия",1383,null,1013,"КВТ-Ч","КВТ-Ч",1,null,null,null,null,null,null,1.1488,7.32,0,0,0,0,1,0,"",1.1488,2,85320330,265,0,0,0,0,0,0,0,0]
[{"$f":"ROW(Source!A159)","v":159},85320340,85320324,83852582,1,1,1,3,"01.7.11.07-0227","ФСБЦ-2022, 01.7.11.07-0227, приказ Минстроя России от 18.05.2022 г. № 378/пр","Электроды сварочные для сварки низколегированных и углеродистых сталей УОНИ 13/45, Э42А, диаметр 4-5 мм",1346,null,1009,"кг","кг",1,null,null,null,null,null,null,0.96,155.63,0,0,0,0,1,0,"",0.96,2,85320331,266,0,0,0,0,0,0,0,0]
[{"$f":"ROW(Source!A159)","v":159},85320341,85320324,83870031,1,1,1,3,"14.1.02.01-0002","ФСБЦ-2022, 14.1.02.01-0002, приказ Минстроя России от 18.05.2022 г. № 378/пр","Клей, марка БМК-5к",1346,null,1009,"кг","кг",1,null,null,null,null,null,null,0.55000000000000004,160.07,0,0,0,0,1,0,"",0.55000000000000004,2,85320332,267,0,0,0,0,0,0,0,0]
[{"$f":"ROW(Source!A159)","v":159},85320342,85320324,83783523,117,1,1,3,"421/пр_2020_п.75_пп.а","","Сметная стоимость вспомогательных ненормируемых материальных ресурсов, не учтенная в сметной норме, 2%",3277935,null,1013,"%","%",1,null,null,null,null,null,null,2,0,0,0,0,0,0,0,"",2,2,85320333,268,0,0,0,0,0,0,0,0]
[{"$f":"ROW(Source!A163)","v":163},85320356,85320345,83777513,117,1,1,1,"1-100-38","","Средний разряд работы 3,8",1191,null,1013,"чел.-ч.","чел.-ч.",1,null,null,null,null,null,null,14.4,0,0,0,793.61,0,1,1,"",14.4,2,85320346,269,0,0,0,0,0,0,0,0]
[{"$f":"ROW(Source!A163)","v":163},85320357,85320345,83777689,117,1,1,1,"4-100-00","","Затраты труда машинистов",1191,null,1013,"чел.-ч.","чел.-ч.",1,null,null,null,null,null,null,0.4,0,0,0,0,0,1,2,"",0.4,2,85320347,270,0,0,0,0,0,0,0,0]
[{"$f":"ROW(Source!A163)","v":163},85320358,85320345,83784178,1,1,1,2,"91.05.05-015","ФСЭМ-2022, 91.05.05-015, приказ Минстроя России от 18.05.2022 г. № 378/пр","Краны на автомобильном ходу, грузоподъемность 16 т",1368,null,1011,"маш.-ч","маш.-ч",1,null,null,null,null,null,null,0.2,0,1626.29,1090.46,0,0,1,0,"",0.2,2,85320348,271,0,0,0,0,0,0,0,0]
[{"$f":"ROW(Source!A163)","v":163},85320359,85320345,83785072,1,1,1,2,"91.14.02-001","ФСЭМ-2022 доп.7, 91.14.02-001, приказ Минстроя России от 02.08.2023 г. № 551/пр","Автомобили бортовые, грузоподъемность до 5 т",1368,null,1011,"маш.-ч","маш.-ч",1,null,null,null,null,null,null,0.2,0,641.70000000000005,811.79,0,0,1,0,"",0.2,2,85320349,272,0,0,0,0,0,0,0,0]
[{"$f":"ROW(Source!A163)","v":163},85320360,85320345,83852000,1,1,1,3,"01.7.06.05-0041","ФСБЦ-2022, 01.7.06.05-0041, приказ Минстроя России от 18.05.2022 г. № 378/пр","Ленты изоляционные хлопчатобумажные прорезиненные для электромонтажных и ремонтных работ, цвет черный, ширина 20 мм, толщина 0,35 мм",1301,null,1003,"м","м",1,null,null,null,null,null,null,33.33,5.87,0,0,0,0,1,0,"",33.33,2,85320350,273,0,0,0,0,0,0,0,0]
[{"$f":"ROW(Source!A163)","v":163},85320361,85320345,83852170,1,1,1,3,"01.7.07.20-0002","ФСБЦ-2022, 01.7.07.20-0002, приказ Минстроя России от 18.05.2022 г. № 378/пр","Тальк молотый, сорт I",1348,null,1009,"т","т",1000,null,null,null,null,null,null,1.3699999999999999E-3,43821.53,0,0,0,0,1,0,"",1.3699999999999999E-3,2,85320351,274,0,0,0,0,0,0,0,0]
[{"$f":"ROW(Source!A163)","v":163},85320362,85320345,83870516,1,1,1,3,"14.4.02.04-0142","ФСБЦ-2022, 14.4.02.04-0142, приказ Минстроя России от 18.05.2022 г. № 378/пр","Краска масляная МА-0115, мумия, сурик железный",1346,null,1009,"кг","кг",1,null,null,null,null,null,null,0.02,79.88,0,0,0,0,1,0,"",0.02,2,85320352,275,0,0,0,0,0,0,0,0]
[{"$f":"ROW(Source!A163)","v":163},85320363,85320345,83878106,1,1,1,3,"20.2.01.05-0011","ФСБЦ-2022 доп.11, 20.2.01.05-0011, приказ Минстроя России от 09.08.2024 г. № 524/пр","Гильзы кабельные медные 120 мм",1425,null,1013,"100 ШТ","100 ШТ",1,null,null,null,null,null,null,0.05,11574.95,0,0,0,0,1,0,"",0.05,2,85320353,276,0,0,0,0,0,0,0,0]
[{"$f":"ROW(Source!A163)","v":163},85320364,85320345,83878151,1,1,1,3,"20.2.02.01-0016","ФСБЦ-2022 доп.9, 20.2.02.01-0016, приказ Минстроя России от 16.02.2024 г. № 102/пр","Втулки полипропиленовые, диаметр 69 мм",1407,null,1013,"1000 ШТ","1000 ШТ",1,null,null,null,null,null,null,1.2200000000000001E-2,6904.76,0,0,0,0,1,0,"",1.2200000000000001E-2,2,85320354,277,0,0,0,0,0,0,0,0]
[{"$f":"ROW(Source!A163)","v":163},85320365,85320345,83783523,117,1,1,3,"421/пр_2020_п.75_пп.а","","Сметная стоимость вспомогательных ненормируемых материальных ресурсов, не учтенная в сметной норме, 2%",3277935,null,1013,"%","%",1,null,null,null,null,null,null,2,0,0,0,0,0,0,0,"",2,2,85320355,278,0,0,0,0,0,0,0,0]
[{"$f":"ROW(Source!A164)","v":164},85320356,85320345,83777513,117,1,1,1,"1-100-38","","Средний разряд работы 3,8",1191,null,1013,"чел.-ч.","чел.-ч.",1,null,null,null,null,null,null,14.4,0,0,0,793.61,0,1,1,"",14.4,2,85320346,279,0,0,0,0,0,0,0,0]
[{"$f":"ROW(Source!A164)","v":164},85320357,85320345,83777689,117,1,1,1,"4-100-00","","Затраты труда машинистов",1191,null,1013,"чел.-ч.","чел.-ч.",1,null,null,null,null,null,null,0.4,0,0,0,0,0,1,2,"",0.4,2,85320347,280,0,0,0,0,0,0,0,0]
[{"$f":"ROW(Source!A164)","v":164},85320358,85320345,83784178,1,1,1,2,"91.05.05-015","ФСЭМ-2022, 91.05.05-015, приказ Минстроя России от 18.05.2022 г. № 378/пр","Краны на автомобильном ходу, грузоподъемность 16 т",1368,null,1011,"маш.-ч","маш.-ч",1,null,null,null,null,null,null,0.2,0,1626.29,1090.46,0,0,1,0,"",0.2,2,85320348,281,0,0,0,0,0,0,0,0]
[{"$f":"ROW(Source!A164)","v":164},85320359,85320345,83785072,1,1,1,2,"91.14.02-001","ФСЭМ-2022 доп.7, 91.14.02-001, приказ Минстроя России от 02.08.2023 г. № 551/пр","Автомобили бортовые, грузоподъемность до 5 т",1368,null,1011,"маш.-ч","маш.-ч",1,null,null,null,null,null,null,0.2,0,641.70000000000005,811.79,0,0,1,0,"",0.2,2,85320349,282,0,0,0,0,0,0,0,0]
[{"$f":"ROW(Source!A164)","v":164},85320360,85320345,83852000,1,1,1,3,"01.7.06.05-0041","ФСБЦ-2022, 01.7.06.05-0041, приказ Минстроя России от 18.05.2022 г. № 378/пр","Ленты изоляционные хлопчатобумажные прорезиненные для электромонтажных и ремонтных работ, цвет черный, ширина 20 мм, толщина 0,35 мм",1301,null,1003,"м","м",1,null,null,null,null,null,null,33.33,5.87,0,0,0,0,1,0,"",33.33,2,85320350,283,0,0,0,0,0,0,0,0]
[{"$f":"ROW(Source!A164)","v":164},85320361,85320345,83852170,1,1,1,3,"01.7.07.20-0002","ФСБЦ-2022, 01.7.07.20-0002, приказ Минстроя России от 18.05.2022 г. № 378/пр","Тальк молотый, сорт I",1348,null,1009,"т","т",1000,null,null,null,null,null,null,1.3699999999999999E-3,43821.53,0,0,0,0,1,0,"",1.3699999999999999E-3,2,85320351,284,0,0,0,0,0,0,0,0]
[{"$f":"ROW(Source!A164)","v":164},85320362,85320345,83870516,1,1,1,3,"14.4.02.04-0142","ФСБЦ-2022, 14.4.02.04-0142, приказ Минстроя России от 18.05.2022 г. № 378/пр","Краска масляная МА-0115, мумия, сурик железный",1346,null,1009,"кг","кг",1,null,null,null,null,null,null,0.02,79.88,0,0,0,0,1,0,"",0.02,2,85320352,285,0,0,0,0,0,0,0,0]
[{"$f":"ROW(Source!A164)","v":164},85320363,85320345,83878106,1,1,1,3,"20.2.01.05-0011","ФСБЦ-2022 доп.11, 20.2.01.05-0011, приказ Минстроя России от 09.08.2024 г. № 524/пр","Гильзы кабельные медные 120 мм",1425,null,1013,"100 ШТ","100 ШТ",1,null,null,null,null,null,null,0.05,11574.95,0,0,0,0,1,0,"",0.05,2,85320353,286,0,0,0,0,0,0,0,0]
[{"$f":"ROW(Source!A164)","v":164},85320364,85320345,83878151,1,1,1,3,"20.2.02.01-0016","ФСБЦ-2022 доп.9, 20.2.02.01-0016, приказ Минстроя России от 16.02.2024 г. № 102/пр","Втулки полипропиленовые, диаметр 69 мм",1407,null,1013,"1000 ШТ","1000 ШТ",1,null,null,null,null,null,null,1.2200000000000001E-2,6904.76,0,0,0,0,1,0,"",1.2200000000000001E-2,2,85320354,287,0,0,0,0,0,0,0,0]
[{"$f":"ROW(Source!A164)","v":164},85320365,85320345,83783523,117,1,1,3,"421/пр_2020_п.75_пп.а","","Сметная стоимость вспомогательных ненормируемых материальных ресурсов, не учтенная в сметной норме, 2%",3277935,null,1013,"%","%",1,null,null,null,null,null,null,2,0,0,0,0,0,0,0,"",2,2,85320355,288,0,0,0,0,0,0,0,0]
[{"$f":"ROW(Source!A168)","v":168},85320380,85320368,83777513,117,1,1,1,"1-100-38","","Средний разряд работы 3,8",1191,null,1013,"чел.-ч.","чел.-ч.",1,null,null,null,null,null,null,41.12,0,0,0,793.61,0,1,1,"",41.12,2,85320369,289,0,0,0,0,0,0,0,0]
[{"$f":"ROW(Source!A168)","v":168},85320381,85320368,83777689,117,1,1,1,"4-100-00","","Затраты труда машинистов",1191,null,1013,"чел.-ч.","чел.-ч.",1,null,null,null,null,null,null,1.54,0,0,0,0,0,1,2,"",1.54,2,85320370,290,0,0,0,0,0,0,0,0]
[{"$f":"ROW(Source!A168)","v":168},85320382,85320368,83784178,1,1,1,2,"91.05.05-015","ФСЭМ-2022, 91.05.05-015, приказ Минстроя России от 18.05.2022 г. № 378/пр","Краны на автомобильном ходу, грузоподъемность 16 т",1368,null,1011,"маш.-ч","маш.-ч",1,null,null,null,null,null,null,0.77,0,1626.29,1090.46,0,0,1,0,"",0.77,2,85320371,291,0,0,0,0,0,0,0,0]
[{"$f":"ROW(Source!A168)","v":168},85320383,85320368,83785072,1,1,1,2,"91.14.02-001","ФСЭМ-2022 доп.7, 91.14.02-001, приказ Минстроя России от 02.08.2023 г. № 551/пр","Автомобили бортовые, грузоподъемность до 5 т",1368,null,1011,"маш.-ч","маш.-ч",1,null,null,null,null,null,null,0.77,0,641.70000000000005,811.79,0,0,1,0,"",0.77,2,85320372,292,0,0,0,0,0,0,0,0]
[{"$f":"ROW(Source!A168)","v":168},85320384,85320368,83785268,1,1,1,2,"91.17.04-233","ФСЭМ-2022, 91.17.04-233, приказ Минстроя России от 18.05.2022 г. № 378/пр","Аппараты сварочные для ручной дуговой сварки, сварочный ток до 350 А",1368,null,1011,"маш.-ч","маш.-ч",1,null,null,null,null,null,null,4.9400000000000004,0,34.61,0,0,0,1,0,"",4.9400000000000004,2,85320373,293,0,0,0,0,0,0,0,0]
[{"$f":"ROW(Source!A168)","v":168},85320385,85320368,83851809,1,1,1,3,"01.7.02.07-0011","ФСБЦ-2022 доп.12, 01.7.02.07-0011, приказ Минстроя России от 07.11.2024 г. № 747/пр","Прессшпан листовой, марка А",1346,null,1009,"кг","кг",1,null,null,null,null,null,null,0.99,206.43,0,0,0,0,1,0,"",0.99,2,85320374,294,0,0,0,0,0,0,0,0]
[{"$f":"ROW(Source!A168)","v":168},85320386,85320368,83851841,1,1,1,3,"01.7.03.04-0001","ФСБЦ-2022, 01.7.03.04-0001, приказ Минстроя России от 18.05.2022 г. № 378/пр","Электроэнергия",1383,null,1013,"КВТ-Ч","КВТ-Ч",1,null,null,null,null,null,null,2.5428000000000002,7.32,0,0,0,0,1,0,"",2.5428000000000002,2,85320375,295,0,0,0,0,0,0,0,0]
[{"$f":"ROW(Source!A168)","v":168},85320387,85320368,83852582,1,1,1,3,"01.7.11.07-0227","ФСБЦ-2022, 01.7.11.07-0227, приказ Минстроя России от 18.05.2022 г. № 378/пр","Электроды сварочные для сварки низколегированных и углеродистых сталей УОНИ 13/45, Э42А, диаметр 4-5 мм",1346,null,1009,"кг","кг",1,null,null,null,null,null,null,3,155.63,0,0,0,0,1,0,"",3,2,85320376,296,0,0,0,0,0,0,0,0]
[{"$f":"ROW(Source!A168)","v":168},85320388,85320368,83853343,1,1,1,3,"01.7.15.04-0011","ФСБЦ-2022, 01.7.15.04-0011, приказ Минстроя России от 18.05.2022 г. № 378/пр","Винты стальные с полукруглой головкой, длина 50 мм",1348,null,1009,"т","т",1000,null,null,null,null,null,null,1.5499999999999999E-3,127406,0,0,0,0,1,0,"",1.5499999999999999E-3,2,85320377,297,0,0,0,0,0,0,0,0]
[{"$f":"ROW(Source!A168)","v":168},85320389,85320368,83870516,1,1,1,3,"14.4.02.04-0142","ФСБЦ-2022, 14.4.02.04-0142, приказ Минстроя России от 18.05.2022 г. № 378/пр","Краска масляная МА-0115, мумия, сурик железный",1346,null,1009,"кг","кг",1,null,null,null,null,null,null,0.1,79.88,0,0,0,0,1,0,"",0.1,2,85320378,298,0,0,0,0,0,0,0,0]
[{"$f":"ROW(Source!A168)","v":168},85320390,85320368,83783523,117,1,1,3,"421/пр_2020_п.75_пп.а","","Сметная стоимость вспомогательных ненормируемых материальных ресурсов, не учтенная в сметной норме, 2%",3277935,null,1013,"%","%",1,null,null,null,null,null,null,2,0,0,0,0,0,0,0,"",2,2,85320379,299,0,0,0,0,0,0,0,0]
[{"$f":"ROW(Source!A169)","v":169},85320380,85320368,83777513,117,1,1,1,"1-100-38","","Средний разряд работы 3,8",1191,null,1013,"чел.-ч.","чел.-ч.",1,null,null,null,null,null,null,41.12,0,0,0,793.61,0,1,1,"",41.12,2,85320369,300,0,0,0,0,0,0,0,0]
[{"$f":"ROW(Source!A169)","v":169},85320381,85320368,83777689,117,1,1,1,"4-100-00","","Затраты труда машинистов",1191,null,1013,"чел.-ч.","чел.-ч.",1,null,null,null,null,null,null,1.54,0,0,0,0,0,1,2,"",1.54,2,85320370,301,0,0,0,0,0,0,0,0]
[{"$f":"ROW(Source!A169)","v":169},85320382,85320368,83784178,1,1,1,2,"91.05.05-015","ФСЭМ-2022, 91.05.05-015, приказ Минстроя России от 18.05.2022 г. № 378/пр","Краны на автомобильном ходу, грузоподъемность 16 т",1368,null,1011,"маш.-ч","маш.-ч",1,null,null,null,null,null,null,0.77,0,1626.29,1090.46,0,0,1,0,"",0.77,2,85320371,302,0,0,0,0,0,0,0,0]
[{"$f":"ROW(Source!A169)","v":169},85320383,85320368,83785072,1,1,1,2,"91.14.02-001","ФСЭМ-2022 доп.7, 91.14.02-001, приказ Минстроя России от 02.08.2023 г. № 551/пр","Автомобили бортовые, грузоподъемность до 5 т",1368,null,1011,"маш.-ч","маш.-ч",1,null,null,null,null,null,null,0.77,0,641.70000000000005,811.79,0,0,1,0,"",0.77,2,85320372,303,0,0,0,0,0,0,0,0]
[{"$f":"ROW(Source!A169)","v":169},85320384,85320368,83785268,1,1,1,2,"91.17.04-233","ФСЭМ-2022, 91.17.04-233, приказ Минстроя России от 18.05.2022 г. № 378/пр","Аппараты сварочные для ручной дуговой сварки, сварочный ток до 350 А",1368,null,1011,"маш.-ч","маш.-ч",1,null,null,null,null,null,null,4.9400000000000004,0,34.61,0,0,0,1,0,"",4.9400000000000004,2,85320373,304,0,0,0,0,0,0,0,0]
[{"$f":"ROW(Source!A169)","v":169},85320385,85320368,83851809,1,1,1,3,"01.7.02.07-0011","ФСБЦ-2022 доп.12, 01.7.02.07-0011, приказ Минстроя России от 07.11.2024 г. № 747/пр","Прессшпан листовой, марка А",1346,null,1009,"кг","кг",1,null,null,null,null,null,null,0.99,206.43,0,0,0,0,1,0,"",0.99,2,85320374,305,0,0,0,0,0,0,0,0]
[{"$f":"ROW(Source!A169)","v":169},85320386,85320368,83851841,1,1,1,3,"01.7.03.04-0001","ФСБЦ-2022, 01.7.03.04-0001, приказ Минстроя России от 18.05.2022 г. № 378/пр","Электроэнергия",1383,null,1013,"КВТ-Ч","КВТ-Ч",1,null,null,null,null,null,null,2.5428000000000002,7.32,0,0,0,0,1,0,"",2.5428000000000002,2,85320375,306,0,0,0,0,0,0,0,0]
[{"$f":"ROW(Source!A169)","v":169},85320387,85320368,83852582,1,1,1,3,"01.7.11.07-0227","ФСБЦ-2022, 01.7.11.07-0227, приказ Минстроя России от 18.05.2022 г. № 378/пр","Электроды сварочные для сварки низколегированных и углеродистых сталей УОНИ 13/45, Э42А, диаметр 4-5 мм",1346,null,1009,"кг","кг",1,null,null,null,null,null,null,3,155.63,0,0,0,0,1,0,"",3,2,85320376,307,0,0,0,0,0,0,0,0]
[{"$f":"ROW(Source!A169)","v":169},85320388,85320368,83853343,1,1,1,3,"01.7.15.04-0011","ФСБЦ-2022, 01.7.15.04-0011, приказ Минстроя России от 18.05.2022 г. № 378/пр","Винты стальные с полукруглой головкой, длина 50 мм",1348,null,1009,"т","т",1000,null,null,null,null,null,null,1.5499999999999999E-3,127406,0,0,0,0,1,0,"",1.5499999999999999E-3,2,85320377,308,0,0,0,0,0,0,0,0]
[{"$f":"ROW(Source!A169)","v":169},85320389,85320368,83870516,1,1,1,3,"14.4.02.04-0142","ФСБЦ-2022, 14.4.02.04-0142, приказ Минстроя России от 18.05.2022 г. № 378/пр","Краска масляная МА-0115, мумия, сурик железный",1346,null,1009,"кг","кг",1,null,null,null,null,null,null,0.1,79.88,0,0,0,0,1,0,"",0.1,2,85320378,309,0,0,0,0,0,0,0,0]
[{"$f":"ROW(Source!A169)","v":169},85320390,85320368,83783523,117,1,1,3,"421/пр_2020_п.75_пп.а","","Сметная стоимость вспомогательных ненормируемых материальных ресурсов, не учтенная в сметной норме, 2%",3277935,null,1013,"%","%",1,null,null,null,null,null,null,2,0,0,0,0,0,0,0,"",2,2,85320379,310,0,0,0,0,0,0,0,0]
[{"$f":"ROW(Source!A173)","v":173},85320407,85320393,83777647,117,1,1,1,"2-100-02","","Рабочий 2 разряда",1369,null,1013,"чел.-ч","чел.-ч",1,null,null,null,null,null,null,0.99,0,0,0,660.33,0,1,1,"",0.99,2,85320394,311,0,0,0,0,0,0,0,0]
[{"$f":"ROW(Source!A173)","v":173},85320408,85320393,83777649,117,1,1,1,"2-100-03","","Рабочий 3 разряда",1369,null,1013,"чел.-ч","чел.-ч",1,null,null,null,null,null,null,47.29,0,0,0,720.91,0,1,1,"",47.29,2,85320395,312,0,0,0,0,0,0,0,0]
[{"$f":"ROW(Source!A173)","v":173},85320409,85320393,83777653,117,1,1,1,"2-100-04","","Рабочий 4 разряда",1369,null,1013,"чел.-ч","чел.-ч",1,null,null,null,null,null,null,23.42,0,0,0,811.79,0,1,1,"",23.42,2,85320396,313,0,0,0,0,0,0,0,0]
[{"$f":"ROW(Source!A173)","v":173},85320410,85320393,83777657,117,1,1,1,"2-100-05","","Рабочий 5 разряда",1369,null,1013,"чел.-ч","чел.-ч",1,null,null,null,null,null,null,23.42,0,0,0,932.95,0,1,1,"",23.42,2,85320397,314,0,0,0,0,0,0,0,0]
[{"$f":"ROW(Source!A173)","v":173},85320411,85320393,83777689,117,1,1,1,"4-100-00","","Затраты труда машинистов",1191,null,1013,"чел.-ч.","чел.-ч.",1,null,null,null,null,null,null,24.89,0,0,0,0,0,1,2,"",24.89,2,85320398,315,0,0,0,0,0,0,0,0]
[{"$f":"ROW(Source!A173)","v":173},85320412,85320393,83784178,1,1,1,2,"91.05.05-015","ФСЭМ-2022, 91.05.05-015, приказ Минстроя России от 18.05.2022 г. № 378/пр","Краны на автомобильном ходу, грузоподъемность 16 т",1368,null,1011,"маш.-ч","маш.-ч",1,null,null,null,null,null,null,0.75,0,1626.29,1090.46,0,0,1,0,"",0.75,2,85320399,316,0,0,0,0,0,0,0,0]
[{"$f":"ROW(Source!A173)","v":173},85320413,85320393,83784312,1,1,1,2,"91.06.03-055","ФСЭМ-2022, 91.06.03-055, приказ Минстроя России от 18.05.2022 г. № 378/пр","Лебедки электрические тяговым усилием 19,62 кН (2 т)",1368,null,1011,"маш.-ч","маш.-ч",1,null,null,null,null,null,null,0.81,0,11.45,0,0,0,1,0,"",0.81,2,85320400,317,0,0,0,0,0,0,0,0]
[{"$f":"ROW(Source!A173)","v":173},85320414,85320393,83784352,1,1,1,2,"91.06.06-011","ФСЭМ-2022, 91.06.06-011, приказ Минстроя России от 18.05.2022 г. № 378/пр","Автогидроподъемники, высота подъема 12 м",1368,null,1011,"маш.-ч","маш.-ч",1,null,null,null,null,null,null,22.74,0,346.73,811.79,0,0,1,0,"",22.74,2,85320401,318,0,0,0,0,0,0,0,0]
[{"$f":"ROW(Source!A173)","v":173},85320415,85320393,83785072,1,1,1,2,"91.14.02-001","ФСЭМ-2022 доп.7, 91.14.02-001, приказ Минстроя России от 02.08.2023 г. № 551/пр","Автомобили бортовые, грузоподъемность до 5 т",1368,null,1011,"маш.-ч","маш.-ч",1,null,null,null,null,null,null,0.59,0,641.70000000000005,811.79,0,0,1,0,"",0.59,2,85320402,319,0,0,0,0,0,0,0,0]
[{"$f":"ROW(Source!A173)","v":173},85320416,85320393,83785270,1,1,1,2,"91.17.04-544","ФСЭМ-2022, 91.17.04-544, приказ Минстроя России от 18.05.2022 г. № 378/пр","Генераторы бензиновые портативные, мощность до 6 кВт",1368,null,1011,"маш.-ч","маш.-ч",1,null,null,null,null,null,null,0.81,0,192.86,811.79,0,0,1,0,"",0.81,2,85320403,320,0,0,0,0,0,0,0,0]
[{"$f":"ROW(Source!A173)","v":173},85320417,85320393,83782364,117,1,1,3,"20.1.01.01","","Комплект линейной арматуры для крепления СИП-2 на опоре ВЛИ",1371,null,1013,"ШТ","ШТ",1,null,null,null,null,null,null,0,0,0,0,0,1,0,0,"",0,2,85320404,321,0,0,0,0,0,0,0,0]
[{"$f":"ROW(Source!A173)","v":173},85320418,85320393,83782372,117,1,1,3,"20.1.01.11","","Комплект линейной арматуры для устройства заземлений на опорах ВЛИ",1371,null,1013,"ШТ","ШТ",1,null,null,null,null,null,null,0,0,0,0,0,1,0,0,"",0,2,85320405,322,0,0,0,0,0,0,0,0]
[{"$f":"ROW(Source!A173)","v":173},85320419,85320393,83782541,117,1,1,3,"21.2.01.01","","Провода самонесущие изолированные для ВЛИ",1477,null,1013,"1000 м","1000 М",1,null,null,null,null,null,null,0,0,0,0,0,1,0,0,"",0,2,85320406,323,0,0,0,0,0,0,0,0]
[{"$f":"ROW(Source!A174)","v":174},85320407,85320393,83777647,117,1,1,1,"2-100-02","","Рабочий 2 разряда",1369,null,1013,"чел.-ч","чел.-ч",1,null,null,null,null,null,null,0.99,0,0,0,660.33,0,1,1,"",0.99,2,85320394,324,0,0,0,0,0,0,0,0]
[{"$f":"ROW(Source!A174)","v":174},85320408,85320393,83777649,117,1,1,1,"2-100-03","","Рабочий 3 разряда",1369,null,1013,"чел.-ч","чел.-ч",1,null,null,null,null,null,null,47.29,0,0,0,720.91,0,1,1,"",47.29,2,85320395,325,0,0,0,0,0,0,0,0]
[{"$f":"ROW(Source!A174)","v":174},85320409,85320393,83777653,117,1,1,1,"2-100-04","","Рабочий 4 разряда",1369,null,1013,"чел.-ч","чел.-ч",1,null,null,null,null,null,null,23.42,0,0,0,811.79,0,1,1,"",23.42,2,85320396,326,0,0,0,0,0,0,0,0]
[{"$f":"ROW(Source!A174)","v":174},85320410,85320393,83777657,117,1,1,1,"2-100-05","","Рабочий 5 разряда",1369,null,1013,"чел.-ч","чел.-ч",1,null,null,null,null,null,null,23.42,0,0,0,932.95,0,1,1,"",23.42,2,85320397,327,0,0,0,0,0,0,0,0]
[{"$f":"ROW(Source!A174)","v":174},85320411,85320393,83777689,117,1,1,1,"4-100-00","","Затраты труда машинистов",1191,null,1013,"чел.-ч.","чел.-ч.",1,null,null,null,null,null,null,24.89,0,0,0,0,0,1,2,"",24.89,2,85320398,328,0,0,0,0,0,0,0,0]
[{"$f":"ROW(Source!A174)","v":174},85320412,85320393,83784178,1,1,1,2,"91.05.05-015","ФСЭМ-2022, 91.05.05-015, приказ Минстроя России от 18.05.2022 г. № 378/пр","Краны на автомобильном ходу, грузоподъемность 16 т",1368,null,1011,"маш.-ч","маш.-ч",1,null,null,null,null,null,null,0.75,0,1626.29,1090.46,0,0,1,0,"",0.75,2,85320399,329,0,0,0,0,0,0,0,0]
[{"$f":"ROW(Source!A174)","v":174},85320413,85320393,83784312,1,1,1,2,"91.06.03-055","ФСЭМ-2022, 91.06.03-055, приказ Минстроя России от 18.05.2022 г. № 378/пр","Лебедки электрические тяговым усилием 19,62 кН (2 т)",1368,null,1011,"маш.-ч","маш.-ч",1,null,null,null,null,null,null,0.81,0,11.45,0,0,0,1,0,"",0.81,2,85320400,330,0,0,0,0,0,0,0,0]
[{"$f":"ROW(Source!A174)","v":174},85320414,85320393,83784352,1,1,1,2,"91.06.06-011","ФСЭМ-2022, 91.06.06-011, приказ Минстроя России от 18.05.2022 г. № 378/пр","Автогидроподъемники, высота подъема 12 м",1368,null,1011,"маш.-ч","маш.-ч",1,null,null,null,null,null,null,22.74,0,346.73,811.79,0,0,1,0,"",22.74,2,85320401,331,0,0,0,0,0,0,0,0]
[{"$f":"ROW(Source!A174)","v":174},85320415,85320393,83785072,1,1,1,2,"91.14.02-001","ФСЭМ-2022 доп.7, 91.14.02-001, приказ Минстроя России от 02.08.2023 г. № 551/пр","Автомобили бортовые, грузоподъемность до 5 т",1368,null,1011,"маш.-ч","маш.-ч",1,null,null,null,null,null,null,0.59,0,641.70000000000005,811.79,0,0,1,0,"",0.59,2,85320402,332,0,0,0,0,0,0,0,0]
[{"$f":"ROW(Source!A174)","v":174},85320416,85320393,83785270,1,1,1,2,"91.17.04-544","ФСЭМ-2022, 91.17.04-544, приказ Минстроя России от 18.05.2022 г. № 378/пр","Генераторы бензиновые портативные, мощность до 6 кВт",1368,null,1011,"маш.-ч","маш.-ч",1,null,null,null,null,null,null,0.81,0,192.86,811.79,0,0,1,0,"",0.81,2,85320403,333,0,0,0,0,0,0,0,0]
[{"$f":"ROW(Source!A174)","v":174},85320417,85320393,83782364,117,1,1,3,"20.1.01.01","","Комплект линейной арматуры для крепления СИП-2 на опоре ВЛИ",1371,null,1013,"ШТ","ШТ",1,null,null,null,null,null,null,0,0,0,0,0,1,0,0,"",0,2,85320404,334,0,0,0,0,0,0,0,0]
[{"$f":"ROW(Source!A174)","v":174},85320418,85320393,83782372,117,1,1,3,"20.1.01.11","","Комплект линейной арматуры для устройства заземлений на опорах ВЛИ",1371,null,1013,"ШТ","ШТ",1,null,null,null,null,null,null,0,0,0,0,0,1,0,0,"",0,2,85320405,335,0,0,0,0,0,0,0,0]
[{"$f":"ROW(Source!A174)","v":174},85320419,85320393,83782541,117,1,1,3,"21.2.01.01","","Провода самонесущие изолированные для ВЛИ",1477,null,1013,"1000 м","1000 М",1,null,null,null,null,null,null,0,0,0,0,0,1,0,0,"",0,2,85320406,336,0,0,0,0,0,0,0,0]
[{"$f":"ROW(Source!A182)","v":182},85320432,85320424,83777649,117,1,1,1,"2-100-03","","Рабочий 3 разряда",1369,null,1013,"чел.-ч","чел.-ч",1,null,null,null,null,null,null,0.91,0,0,0,720.91,0,1,1,"",0.91,2,85320425,337,0,0,0,0,0,0,0,0]
[{"$f":"ROW(Source!A182)","v":182},85320433,85320424,83777653,117,1,1,1,"2-100-04","","Рабочий 4 разряда",1369,null,1013,"чел.-ч","чел.-ч",1,null,null,null,null,null,null,0.45,0,0,0,811.79,0,1,1,"",0.45,2,85320426,338,0,0,0,0,0,0,0,0]
[{"$f":"ROW(Source!A182)","v":182},85320434,85320424,83777657,117,1,1,1,"2-100-05","","Рабочий 5 разряда",1369,null,1013,"чел.-ч","чел.-ч",1,null,null,null,null,null,null,0.45,0,0,0,932.95,0,1,1,"",0.45,2,85320427,339,0,0,0,0,0,0,0,0]
[{"$f":"ROW(Source!A182)","v":182},85320435,85320424,83777689,117,1,1,1,"4-100-00","","Затраты труда машинистов",1191,null,1013,"чел.-ч.","чел.-ч.",1,null,null,null,null,null,null,0.44,0,0,0,0,0,1,2,"",0.44,2,85320428,340,0,0,0,0,0,0,0,0]
[{"$f":"ROW(Source!A182)","v":182},85320436,85320424,83784352,1,1,1,2,"91.06.06-011","ФСЭМ-2022, 91.06.06-011, приказ Минстроя России от 18.05.2022 г. № 378/пр","Автогидроподъемники, высота подъема 12 м",1368,null,1011,"маш.-ч","маш.-ч",1,null,null,null,null,null,null,0.44,0,346.73,811.79,0,0,1,0,"",0.44,2,85320429,341,0,0,0,0,0,0,0,0]
[{"$f":"ROW(Source!A182)","v":182},85320437,85320424,83782364,117,1,1,3,"20.1.01.01","","Комплект линейной арматуры для крепления СИП-2 на опоре ВЛИ",1371,null,1013,"ШТ","ШТ",1,null,null,null,null,null,null,0,0,0,0,0,1,0,0,"",0,2,85320430,342,0,0,0,0,0,0,0,0]
[{"$f":"ROW(Source!A182)","v":182},85320438,85320424,83782372,117,1,1,3,"20.1.01.11","","Комплект линейной арматуры для устройства заземлений на опорах ВЛИ",1371,null,1013,"ШТ","ШТ",1,null,null,null,null,null,null,0,0,0,0,0,1,0,0,"",0,2,85320431,343,0,0,0,0,0,0,0,0]
[{"$f":"ROW(Source!A183)","v":183},85320432,85320424,83777649,117,1,1,1,"2-100-03","","Рабочий 3 разряда",1369,null,1013,"чел.-ч","чел.-ч",1,null,null,null,null,null,null,0.91,0,0,0,720.91,0,1,1,"",0.91,2,85320425,344,0,0,0,0,0,0,0,0]
[{"$f":"ROW(Source!A183)","v":183},85320433,85320424,83777653,117,1,1,1,"2-100-04","","Рабочий 4 разряда",1369,null,1013,"чел.-ч","чел.-ч",1,null,null,null,null,null,null,0.45,0,0,0,811.79,0,1,1,"",0.45,2,85320426,345,0,0,0,0,0,0,0,0]
[{"$f":"ROW(Source!A183)","v":183},85320434,85320424,83777657,117,1,1,1,"2-100-05","","Рабочий 5 разряда",1369,null,1013,"чел.-ч","чел.-ч",1,null,null,null,null,null,null,0.45,0,0,0,932.95,0,1,1,"",0.45,2,85320427,346,0,0,0,0,0,0,0,0]
[{"$f":"ROW(Source!A183)","v":183},85320435,85320424,83777689,117,1,1,1,"4-100-00","","Затраты труда машинистов",1191,null,1013,"чел.-ч.","чел.-ч.",1,null,null,null,null,null,null,0.44,0,0,0,0,0,1,2,"",0.44,2,85320428,347,0,0,0,0,0,0,0,0]
[{"$f":"ROW(Source!A183)","v":183},85320436,85320424,83784352,1,1,1,2,"91.06.06-011","ФСЭМ-2022, 91.06.06-011, приказ Минстроя России от 18.05.2022 г. № 378/пр","Автогидроподъемники, высота подъема 12 м",1368,null,1011,"маш.-ч","маш.-ч",1,null,null,null,null,null,null,0.44,0,346.73,811.79,0,0,1,0,"",0.44,2,85320429,348,0,0,0,0,0,0,0,0]
[{"$f":"ROW(Source!A183)","v":183},85320437,85320424,83782364,117,1,1,3,"20.1.01.01","","Комплект линейной арматуры для крепления СИП-2 на опоре ВЛИ",1371,null,1013,"ШТ","ШТ",1,null,null,null,null,null,null,0,0,0,0,0,1,0,0,"",0,2,85320430,349,0,0,0,0,0,0,0,0]
[{"$f":"ROW(Source!A183)","v":183},85320438,85320424,83782372,117,1,1,3,"20.1.01.11","","Комплект линейной арматуры для устройства заземлений на опорах ВЛИ",1371,null,1013,"ШТ","ШТ",1,null,null,null,null,null,null,0,0,0,0,0,1,0,0,"",0,2,85320431,350,0,0,0,0,0,0,0,0]
[{"$f":"ROW(Source!A189)","v":189},85320452,85320442,83777519,117,1,1,1,"1-100-40","","Средний разряд работы 4,0",1191,null,1013,"чел.-ч.","чел.-ч.",1,null,null,null,null,null,null,41.2,0,0,0,811.79,0,1,1,"",41.2,2,85320443,351,0,0,0,0,0,0,0,0]
[{"$f":"ROW(Source!A189)","v":189},85320453,85320442,83777689,117,1,1,1,"4-100-00","","Затраты труда машинистов",1191,null,1013,"чел.-ч.","чел.-ч.",1,null,null,null,null,null,null,0.2,0,0,0,0,0,1,2,"",0.2,2,85320444,352,0,0,0,0,0,0,0,0]
[{"$f":"ROW(Source!A189)","v":189},85320454,85320442,83784178,1,1,1,2,"91.05.05-015","ФСЭМ-2022, 91.05.05-015, приказ Минстроя России от 18.05.2022 г. № 378/пр","Краны на автомобильном ходу, грузоподъемность 16 т",1368,null,1011,"маш.-ч","маш.-ч",1,null,null,null,null,null,null,0.1,0,1626.29,1090.46,0,0,1,0,"",0.1,2,85320445,353,0,0,0,0,0,0,0,0]
[{"$f":"ROW(Source!A189)","v":189},85320455,85320442,83785072,1,1,1,2,"91.14.02-001","ФСЭМ-2022 доп.7, 91.14.02-001, приказ Минстроя России от 02.08.2023 г. № 551/пр","Автомобили бортовые, грузоподъемность до 5 т",1368,null,1011,"маш.-ч","маш.-ч",1,null,null,null,null,null,null,0.1,0,641.70000000000005,811.79,0,0,1,0,"",0.1,2,85320446,354,0,0,0,0,0,0,0,0]
[{"$f":"ROW(Source!A189)","v":189},85320456,85320442,83785268,1,1,1,2,"91.17.04-233","ФСЭМ-2022, 91.17.04-233, приказ Минстроя России от 18.05.2022 г. № 378/пр","Аппараты сварочные для ручной дуговой сварки, сварочный ток до 350 А",1368,null,1011,"маш.-ч","маш.-ч",1,null,null,null,null,null,null,0.16,0,34.61,0,0,0,1,0,"",0.16,2,85320447,355,0,0,0,0,0,0,0,0]
[{"$f":"ROW(Source!A189)","v":189},85320457,85320442,83860728,1,1,1,3,"08.3.07.01-0052","ФСБЦ-2022 доп.4, 08.3.07.01-0052, приказ Минстроя России от 27.12.2022 г. № 1133/пр","Прокат стальной горячекатаный полосовой, марки стали Ст3сп, Ст3пс, размеры 50х5 мм",1348,null,1009,"т","т",1000,null,null,null,null,null,null,3.0000000000000001E-3,70310.45,0,0,0,0,1,0,"",3.0000000000000001E-3,2,85320448,356,0,0,0,0,0,0,0,0]
[{"$f":"ROW(Source!A189)","v":189},85320458,85320442,83870516,1,1,1,3,"14.4.02.04-0142","ФСБЦ-2022, 14.4.02.04-0142, приказ Минстроя России от 18.05.2022 г. № 378/пр","Краска масляная МА-0115, мумия, сурик железный",1346,null,1009,"кг","кг",1,null,null,null,null,null,null,0.8,79.88,0,0,0,0,1,0,"",0.8,2,85320449,357,0,0,0,0,0,0,0,0]
[{"$f":"ROW(Source!A189)","v":189},85320459,85320442,83881219,1,1,1,3,"20.5.04.03-0002","ФСБЦ-2022, 20.5.04.03-0002, приказ Минстроя России от 18.05.2022 г. № 378/пр","Зажимы наборные проходные ЗН24-4П25",1425,null,1013,"100 ШТ","100 ШТ",1,null,null,null,null,null,null,1.02,896.51,0,0,0,0,1,0,"",1.02,2,85320450,358,0,0,0,0,0,0,0,0]
[{"$f":"ROW(Source!A189)","v":189},85320460,85320442,83783523,117,1,1,3,"421/пр_2020_п.75_пп.а","","Сметная стоимость вспомогательных ненормируемых материальных ресурсов, не учтенная в сметной норме, 2%",3277935,null,1013,"%","%",1,null,null,null,null,null,null,2,0,0,0,0,0,0,0,"",2,2,85320451,359,0,0,0,0,0,0,0,0]
[{"$f":"ROW(Source!A190)","v":190},85320452,85320442,83777519,117,1,1,1,"1-100-40","","Средний разряд работы 4,0",1191,null,1013,"чел.-ч.","чел.-ч.",1,null,null,null,null,null,null,41.2,0,0,0,811.79,0,1,1,"",41.2,2,85320443,360,0,0,0,0,0,0,0,0]
[{"$f":"ROW(Source!A190)","v":190},85320453,85320442,83777689,117,1,1,1,"4-100-00","","Затраты труда машинистов",1191,null,1013,"чел.-ч.","чел.-ч.",1,null,null,null,null,null,null,0.2,0,0,0,0,0,1,2,"",0.2,2,85320444,361,0,0,0,0,0,0,0,0]
[{"$f":"ROW(Source!A190)","v":190},85320454,85320442,83784178,1,1,1,2,"91.05.05-015","ФСЭМ-2022, 91.05.05-015, приказ Минстроя России от 18.05.2022 г. № 378/пр","Краны на автомобильном ходу, грузоподъемность 16 т",1368,null,1011,"маш.-ч","маш.-ч",1,null,null,null,null,null,null,0.1,0,1626.29,1090.46,0,0,1,0,"",0.1,2,85320445,362,0,0,0,0,0,0,0,0]
[{"$f":"ROW(Source!A190)","v":190},85320455,85320442,83785072,1,1,1,2,"91.14.02-001","ФСЭМ-2022 доп.7, 91.14.02-001, приказ Минстроя России от 02.08.2023 г. № 551/пр","Автомобили бортовые, грузоподъемность до 5 т",1368,null,1011,"маш.-ч","маш.-ч",1,null,null,null,null,null,null,0.1,0,641.70000000000005,811.79,0,0,1,0,"",0.1,2,85320446,363,0,0,0,0,0,0,0,0]
[{"$f":"ROW(Source!A190)","v":190},85320456,85320442,83785268,1,1,1,2,"91.17.04-233","ФСЭМ-2022, 91.17.04-233, приказ Минстроя России от 18.05.2022 г. № 378/пр","Аппараты сварочные для ручной дуговой сварки, сварочный ток до 350 А",1368,null,1011,"маш.-ч","маш.-ч",1,null,null,null,null,null,null,0.16,0,34.61,0,0,0,1,0,"",0.16,2,85320447,364,0,0,0,0,0,0,0,0]
[{"$f":"ROW(Source!A190)","v":190},85320457,85320442,83860728,1,1,1,3,"08.3.07.01-0052","ФСБЦ-2022 доп.4, 08.3.07.01-0052, приказ Минстроя России от 27.12.2022 г. № 1133/пр","Прокат стальной горячекатаный полосовой, марки стали Ст3сп, Ст3пс, размеры 50х5 мм",1348,null,1009,"т","т",1000,null,null,null,null,null,null,3.0000000000000001E-3,70310.45,0,0,0,0,1,0,"",3.0000000000000001E-3,2,85320448,365,0,0,0,0,0,0,0,0]
[{"$f":"ROW(Source!A190)","v":190},85320458,85320442,83870516,1,1,1,3,"14.4.02.04-0142","ФСБЦ-2022, 14.4.02.04-0142, приказ Минстроя России от 18.05.2022 г. № 378/пр","Краска масляная МА-0115, мумия, сурик железный",1346,null,1009,"кг","кг",1,null,null,null,null,null,null,0.8,79.88,0,0,0,0,1,0,"",0.8,2,85320449,366,0,0,0,0,0,0,0,0]
[{"$f":"ROW(Source!A190)","v":190},85320459,85320442,83881219,1,1,1,3,"20.5.04.03-0002","ФСБЦ-2022, 20.5.04.03-0002, приказ Минстроя России от 18.05.2022 г. № 378/пр","Зажимы наборные проходные ЗН24-4П25",1425,null,1013,"100 ШТ","100 ШТ",1,null,null,null,null,null,null,1.02,896.51,0,0,0,0,1,0,"",1.02,2,85320450,367,0,0,0,0,0,0,0,0]
[{"$f":"ROW(Source!A190)","v":190},85320460,85320442,83783523,117,1,1,3,"421/пр_2020_п.75_пп.а","","Сметная стоимость вспомогательных ненормируемых материальных ресурсов, не учтенная в сметной норме, 2%",3277935,null,1013,"%","%",1,null,null,null,null,null,null,2,0,0,0,0,0,0,0,"",2,2,85320451,368,0,0,0,0,0,0,0,0]
[{"$f":"ROW(Source!A196)","v":196},85320479,85320464,77306356,114,1,1,1,"1-100-33","","Средний разряд работы 3,3",1191,null,1013,"чел.-ч.","чел.-ч.",1,null,null,null,null,null,null,3.76,0,0,0,0,0,1,1,"",3.76,2,85320465,369,0,0,0,0,0,0,0,0]
[{"$f":"ROW(Source!A196)","v":196},85320480,85320464,77306545,114,1,1,1,"4-100-00","","Затраты труда машинистов",1191,null,1013,"чел.-ч.","чел.-ч.",1,null,null,null,null,null,null,1.07,0,0,0,0,0,1,2,"",1.07,2,85320466,370,0,0,0,0,0,0,0,0]
[{"$f":"ROW(Source!A196)","v":196},85320481,85320464,77431161,1,1,1,2,"91.06.06-011","ФСЭМ-2022, 91.06.06-011, приказ Минстроя России от 18.05.2022 г. № 378/пр","Автогидроподъемники, высота подъема 12 м",1368,null,1011,"маш.-ч","маш.-ч",1,null,null,null,null,null,null,0.85,0,346.73,502.98,0,0,1,0,"",0.85,2,85320467,371,0,0,0,0,0,0,0,0]
[{"$f":"ROW(Source!A196)","v":196},85320482,85320464,77431879,1,1,1,2,"91.14.02-001","ФСЭМ-2022 доп.7, 91.14.02-001, приказ Минстроя России от 02.08.2023 г. № 551/пр","Автомобили бортовые, грузоподъемность до 5 т",1368,null,1011,"маш.-ч","маш.-ч",1,null,null,null,null,null,null,0.22,0,641.70000000000005,811.79,0,0,1,0,"",0.22,2,85320468,372,0,0,0,0,0,0,0,0]
[{"$f":"ROW(Source!A196)","v":196},85320483,85320464,77375900,1,1,1,3,"01.3.01.06-0038","ФСБЦ-2022, 01.3.01.06-0038, приказ Минстроя России от 18.05.2022 г. № 378/пр","Смазка защитная электросетевая",1346,null,1009,"кг","кг",1,null,null,null,null,null,null,0.1,238.29,0,0,0,0,1,0,"",0.1,2,85320469,373,0,0,0,0,0,0,0,0]
[{"$f":"ROW(Source!A196)","v":196},85320484,85320464,77375907,1,1,1,3,"01.3.01.06-0051","ФСБЦ-2022 доп.12, 01.3.01.06-0051, приказ Минстроя России от 07.11.2024 г. № 747/пр","Смазка солидол жировой Ж",1346,null,1009,"кг","кг",1,null,null,null,null,null,null,0.03,58.53,0,0,0,0,1,0,"",0.03,2,85320470,374,0,0,0,0,0,0,0,0]
[{"$f":"ROW(Source!A196)","v":196},85320485,85320464,77379558,1,1,1,3,"01.7.15.03-0042","ФСБЦ-2022, 01.7.15.03-0042, приказ Минстроя России от 18.05.2022 г. № 378/пр","Болты с гайками и шайбами строительные",1346,null,1009,"кг","кг",1,null,null,null,null,null,null,0,174.93,0,0,0,1,0,0,"",0,2,85320471,375,0,0,0,0,0,0,0,0]
[{"$f":"ROW(Source!A196)","v":196},85320486,85320464,77380691,1,1,1,3,"01.7.20.08-0051","ФСБЦ-2022 доп.8, 01.7.20.08-0051, приказ Минстроя России от 14.11.2023 г. № 817/пр","Ветошь хлопчатобумажная цветная",1346,null,1009,"кг","кг",1,null,null,null,null,null,null,0.02,56.11,0,0,0,0,1,0,"",0.02,2,85320472,376,0,0,0,0,0,0,0,0]
[{"$f":"ROW(Source!A196)","v":196},85320487,85320464,77308705,114,1,1,3,"07.2.07.13","","Хомуты стальные",1346,null,1009,"кг","кг",1,null,null,null,null,null,null,0,0,0,0,0,1,0,0,"",0,2,85320473,377,0,0,0,0,0,0,0,0]
[{"$f":"ROW(Source!A196)","v":196},85320488,85320464,77309038,114,1,1,3,"08.3.04.02","","Сталь стержневая диаметром до 10 мм",1348,null,1009,"т","т",1000,null,null,null,null,null,null,0,0,0,0,0,1,0,0,"",0,2,85320474,378,0,0,0,0,0,0,0,0]
[{"$f":"ROW(Source!A196)","v":196},85320489,85320464,77397258,1,1,1,3,"14.4.03.03-0102","ФСБЦ-2022 доп.4, 14.4.03.03-0102, приказ Минстроя России от 27.12.2022 г. № 1133/пр","Лак битумный БТ-577",1348,null,1009,"т","т",1000,null,null,null,null,null,null,1E-4,80020.98,0,0,0,0,1,0,"",1E-4,2,85320475,379,0,0,0,0,0,0,0,0]
[{"$f":"ROW(Source!A196)","v":196},85320490,85320464,77397652,1,1,1,3,"14.5.09.11-0102","ФСБЦ-2022, 14.5.09.11-0102, приказ Минстроя России от 18.05.2022 г. № 378/пр","Уайт-спирит",1346,null,1009,"кг","кг",1,null,null,null,null,null,null,0.03,60.6,0,0,0,0,1,0,"",0.03,2,85320476,380,0,0,0,0,0,0,0,0]
[{"$f":"ROW(Source!A196)","v":196},85320491,85320464,77311321,114,1,1,3,"22.2.01.04","","Изоляторы линейные штыревые фарфоровые",1371,null,1013,"ШТ","ШТ",1,null,null,null,null,null,null,0,0,0,0,0,1,0,0,"",0,2,85320477,381,0,0,0,0,0,0,0,0]
[{"$f":"ROW(Source!A196)","v":196},85320492,85320464,77311330,114,1,1,3,"22.2.02.03","","Детали крепления стальные",1346,null,1009,"кг","кг",1,null,null,null,null,null,null,0,0,0,0,0,1,0,0,"",0,2,85320478,382,0,0,0,0,0,0,0,0]
[{"$f":"ROW(Source!A197)","v":197},85320479,85320464,77306356,114,1,1,1,"1-100-33","","Средний разряд работы 3,3",1191,null,1013,"чел.-ч.","чел.-ч.",1,null,null,null,null,null,null,3.76,0,0,0,0,0,1,1,"",3.76,2,85320465,383,0,0,0,0,0,0,0,0]
[{"$f":"ROW(Source!A197)","v":197},85320480,85320464,77306545,114,1,1,1,"4-100-00","","Затраты труда машинистов",1191,null,1013,"чел.-ч.","чел.-ч.",1,null,null,null,null,null,null,1.07,0,0,0,0,0,1,2,"",1.07,2,85320466,384,0,0,0,0,0,0,0,0]
[{"$f":"ROW(Source!A197)","v":197},85320481,85320464,77431161,1,1,1,2,"91.06.06-011","ФСЭМ-2022, 91.06.06-011, приказ Минстроя России от 18.05.2022 г. № 378/пр","Автогидроподъемники, высота подъема 12 м",1368,null,1011,"маш.-ч","маш.-ч",1,null,null,null,null,null,null,0.85,0,346.73,502.98,0,0,1,0,"",0.85,2,85320467,385,0,0,0,0,0,0,0,0]
[{"$f":"ROW(Source!A197)","v":197},85320482,85320464,77431879,1,1,1,2,"91.14.02-001","ФСЭМ-2022 доп.7, 91.14.02-001, приказ Минстроя России от 02.08.2023 г. № 551/пр","Автомобили бортовые, грузоподъемность до 5 т",1368,null,1011,"маш.-ч","маш.-ч",1,null,null,null,null,null,null,0.22,0,641.70000000000005,811.79,0,0,1,0,"",0.22,2,85320468,386,0,0,0,0,0,0,0,0]
[{"$f":"ROW(Source!A197)","v":197},85320483,85320464,77375900,1,1,1,3,"01.3.01.06-0038","ФСБЦ-2022, 01.3.01.06-0038, приказ Минстроя России от 18.05.2022 г. № 378/пр","Смазка защитная электросетевая",1346,null,1009,"кг","кг",1,null,null,null,null,null,null,0.1,238.29,0,0,0,0,1,0,"",0.1,2,85320469,387,0,0,0,0,0,0,0,0]
[{"$f":"ROW(Source!A197)","v":197},85320484,85320464,77375907,1,1,1,3,"01.3.01.06-0051","ФСБЦ-2022 доп.12, 01.3.01.06-0051, приказ Минстроя России от 07.11.2024 г. № 747/пр","Смазка солидол жировой Ж",1346,null,1009,"кг","кг",1,null,null,null,null,null,null,0.03,58.53,0,0,0,0,1,0,"",0.03,2,85320470,388,0,0,0,0,0,0,0,0]
[{"$f":"ROW(Source!A197)","v":197},85320485,85320464,77379558,1,1,1,3,"01.7.15.03-0042","ФСБЦ-2022, 01.7.15.03-0042, приказ Минстроя России от 18.05.2022 г. № 378/пр","Болты с гайками и шайбами строительные",1346,null,1009,"кг","кг",1,null,null,null,null,null,null,0,174.93,0,0,0,1,0,0,"",0,2,85320471,389,0,0,0,0,0,0,0,0]
[{"$f":"ROW(Source!A197)","v":197},85320486,85320464,77380691,1,1,1,3,"01.7.20.08-0051","ФСБЦ-2022 доп.8, 01.7.20.08-0051, приказ Минстроя России от 14.11.2023 г. № 817/пр","Ветошь хлопчатобумажная цветная",1346,null,1009,"кг","кг",1,null,null,null,null,null,null,0.02,56.11,0,0,0,0,1,0,"",0.02,2,85320472,390,0,0,0,0,0,0,0,0]
[{"$f":"ROW(Source!A197)","v":197},85320487,85320464,77308705,114,1,1,3,"07.2.07.13","","Хомуты стальные",1346,null,1009,"кг","кг",1,null,null,null,null,null,null,0,0,0,0,0,1,0,0,"",0,2,85320473,391,0,0,0,0,0,0,0,0]
[{"$f":"ROW(Source!A197)","v":197},85320488,85320464,77309038,114,1,1,3,"08.3.04.02","","Сталь стержневая диаметром до 10 мм",1348,null,1009,"т","т",1000,null,null,null,null,null,null,0,0,0,0,0,1,0,0,"",0,2,85320474,392,0,0,0,0,0,0,0,0]
[{"$f":"ROW(Source!A197)","v":197},85320489,85320464,77397258,1,1,1,3,"14.4.03.03-0102","ФСБЦ-2022 доп.4, 14.4.03.03-0102, приказ Минстроя России от 27.12.2022 г. № 1133/пр","Лак битумный БТ-577",1348,null,1009,"т","т",1000,null,null,null,null,null,null,1E-4,80020.98,0,0,0,0,1,0,"",1E-4,2,85320475,393,0,0,0,0,0,0,0,0]
[{"$f":"ROW(Source!A197)","v":197},85320490,85320464,77397652,1,1,1,3,"14.5.09.11-0102","ФСБЦ-2022, 14.5.09.11-0102, приказ Минстроя России от 18.05.2022 г. № 378/пр","Уайт-спирит",1346,null,1009,"кг","кг",1,null,null,null,null,null,null,0.03,60.6,0,0,0,0,1,0,"",0.03,2,85320476,394,0,0,0,0,0,0,0,0]
[{"$f":"ROW(Source!A197)","v":197},85320491,85320464,77311321,114,1,1,3,"22.2.01.04","","Изоляторы линейные штыревые фарфоровые",1371,null,1013,"ШТ","ШТ",1,null,null,null,null,null,null,0,0,0,0,0,1,0,0,"",0,2,85320477,395,0,0,0,0,0,0,0,0]
[{"$f":"ROW(Source!A197)","v":197},85320492,85320464,77311330,114,1,1,3,"22.2.02.03","","Детали крепления стальные",1346,null,1009,"кг","кг",1,null,null,null,null,null,null,0,0,0,0,0,1,0,0,"",0,2,85320478,396,0,0,0,0,0,0,0,0]
[{"$f":"ROW(Source!A209)","v":209},85320514,85320499,83777525,117,1,1,1,"1-100-42","","Средний разряд работы 4,2",1191,null,1013,"чел.-ч.","чел.-ч.",1,null,null,null,null,null,null,52.53,0,0,0,836.02,0,1,1,"",52.53,2,85320500,397,0,0,0,0,0,0,0,0]
[{"$f":"ROW(Source!A209)","v":209},85320515,85320499,83777689,117,1,1,1,"4-100-00","","Затраты труда машинистов",1191,null,1013,"чел.-ч.","чел.-ч.",1,null,null,null,null,null,null,0.06,0,0,0,0,0,1,2,"",0.06,2,85320501,398,0,0,0,0,0,0,0,0]
[{"$f":"ROW(Source!A209)","v":209},85320516,85320499,83784178,1,1,1,2,"91.05.05-015","ФСЭМ-2022, 91.05.05-015, приказ Минстроя России от 18.05.2022 г. № 378/пр","Краны на автомобильном ходу, грузоподъемность 16 т",1368,null,1011,"маш.-ч","маш.-ч",1,null,null,null,null,null,null,0.03,0,1626.29,1090.46,0,0,1,0,"",0.03,2,85320502,399,0,0,0,0,0,0,0,0]
[{"$f":"ROW(Source!A209)","v":209},85320517,85320499,83785072,1,1,1,2,"91.14.02-001","ФСЭМ-2022 доп.7, 91.14.02-001, приказ Минстроя России от 02.08.2023 г. № 551/пр","Автомобили бортовые, грузоподъемность до 5 т",1368,null,1011,"маш.-ч","маш.-ч",1,null,null,null,null,null,null,0.03,0,641.70000000000005,811.79,0,0,1,0,"",0.03,2,85320503,400,0,0,0,0,0,0,0,0]
[{"$f":"ROW(Source!A209)","v":209},85320518,85320499,83785705,1,1,1,2,"91.21.16-012","ФСЭМ-2022, 91.21.16-012, приказ Минстроя России от 18.05.2022 г. № 378/пр","Прессы гидравлические с электроприводом",1368,null,1011,"маш.-ч","маш.-ч",1,null,null,null,null,null,null,17.5,0,15.84,0,0,0,1,0,"",17.5,2,85320504,401,0,0,0,0,0,0,0,0]
[{"$f":"ROW(Source!A209)","v":209},85320519,85320499,83849775,1,1,1,3,"01.3.01.02-0002","ФСБЦ-2022 доп.8, 01.3.01.02-0002, приказ Минстроя России от 14.11.2023 г. № 817/пр","Вазелин технический",1346,null,1009,"кг","кг",1,null,null,null,null,null,null,0.3,150.04,0,0,0,0,1,0,"",0.3,2,85320505,402,0,0,0,0,0,0,0,0]
[{"$f":"ROW(Source!A209)","v":209},85320520,85320499,83851817,1,1,1,3,"01.7.02.09-0002","ФСБЦ-2022, 01.7.02.09-0002, приказ Минстроя России от 18.05.2022 г. № 378/пр","Шпагат бумажный, диаметр 2,5 мм",1346,null,1009,"кг","кг",1,null,null,null,null,null,null,0.1,187.38,0,0,0,0,1,0,"",0.1,2,85320506,403,0,0,0,0,0,0,0,0]
[{"$f":"ROW(Source!A209)","v":209},85320521,85320499,83852000,1,1,1,3,"01.7.06.05-0041","ФСБЦ-2022, 01.7.06.05-0041, приказ Минстроя России от 18.05.2022 г. № 378/пр","Ленты изоляционные хлопчатобумажные прорезиненные для электромонтажных и ремонтных работ, цвет черный, ширина 20 мм, толщина 0,35 мм",1301,null,1003,"м","м",1,null,null,null,null,null,null,83.33,5.87,0,0,0,0,1,0,"",83.33,2,85320507,404,0,0,0,0,0,0,0,0]
[{"$f":"ROW(Source!A209)","v":209},85320522,85320499,83852014,1,1,1,3,"01.7.06.07-0002","ФСБЦ-2022, 01.7.06.07-0002, приказ Минстроя России от 18.05.2022 г. № 378/пр","Ленты монтажные из пластмассы для бандажирования проводов, скрепляются пластмассовыми кнопками, ширина 10 мм",1302,null,1003,"10 м","10 м",10,null,null,null,null,null,null,1.5,37.71,0,0,0,0,1,0,"",1.5,2,85320508,405,0,0,0,0,0,0,0,0]
[{"$f":"ROW(Source!A209)","v":209},85320523,85320499,83853338,1,1,1,3,"01.7.15.03-0042","ФСБЦ-2022, 01.7.15.03-0042, приказ Минстроя России от 18.05.2022 г. № 378/пр","Болты с гайками и шайбами строительные",1346,null,1009,"кг","кг",1,null,null,null,null,null,null,7.94,174.93,0,0,0,0,1,0,"",7.94,2,85320509,406,0,0,0,0,0,0,0,0]
[{"$f":"ROW(Source!A209)","v":209},85320524,85320499,83854460,1,1,1,3,"01.7.20.04-0005","ФСБЦ-2022, 01.7.20.04-0005, приказ Минстроя России от 18.05.2022 г. № 378/пр","Нитки швейные армированные",1346,null,1009,"кг","кг",1,null,null,null,null,null,null,0.06,395.65,0,0,0,0,1,0,"",0.06,2,85320510,407,0,0,0,0,0,0,0,0]
[{"$f":"ROW(Source!A209)","v":209},85320525,85320499,83870611,1,1,1,3,"14.4.03.17-0101","ФСБЦ-2022, 14.4.03.17-0101, приказ Минстроя России от 18.05.2022 г. № 378/пр","Лак КФ-965",1348,null,1009,"т","т",1000,null,null,null,null,null,null,4.0000000000000002E-4,308849.7,0,0,0,0,1,0,"",4.0000000000000002E-4,2,85320511,408,0,0,0,0,0,0,0,0]
[{"$f":"ROW(Source!A209)","v":209},85320526,85320499,83896008,1,1,1,3,"25.2.01.01-0001","ФСБЦ-2022, 25.2.01.01-0001, приказ Минстроя России от 18.05.2022 г. № 378/пр","Бирки-оконцеватели маркировочные А671",1425,null,1013,"100 ШТ","100 ШТ",1,null,null,null,null,null,null,1.02,655.9,0,0,0,0,1,0,"",1.02,2,85320512,409,0,0,0,0,0,0,0,0]
[{"$f":"ROW(Source!A209)","v":209},85320527,85320499,83783523,117,1,1,3,"421/пр_2020_п.75_пп.а","","Сметная стоимость вспомогательных ненормируемых материальных ресурсов, не учтенная в сметной норме, 2%",3277935,null,1013,"%","%",1,null,null,null,null,null,null,2,0,0,0,0,0,0,0,"",2,2,85320513,410,0,0,0,0,0,0,0,0]
[{"$f":"ROW(Source!A210)","v":210},85320514,85320499,83777525,117,1,1,1,"1-100-42","","Средний разряд работы 4,2",1191,null,1013,"чел.-ч.","чел.-ч.",1,null,null,null,null,null,null,52.53,0,0,0,836.02,0,1,1,"",52.53,2,85320500,411,0,0,0,0,0,0,0,0]
[{"$f":"ROW(Source!A210)","v":210},85320515,85320499,83777689,117,1,1,1,"4-100-00","","Затраты труда машинистов",1191,null,1013,"чел.-ч.","чел.-ч.",1,null,null,null,null,null,null,0.06,0,0,0,0,0,1,2,"",0.06,2,85320501,412,0,0,0,0,0,0,0,0]
[{"$f":"ROW(Source!A210)","v":210},85320516,85320499,83784178,1,1,1,2,"91.05.05-015","ФСЭМ-2022, 91.05.05-015, приказ Минстроя России от 18.05.2022 г. № 378/пр","Краны на автомобильном ходу, грузоподъемность 16 т",1368,null,1011,"маш.-ч","маш.-ч",1,null,null,null,null,null,null,0.03,0,1626.29,1090.46,0,0,1,0,"",0.03,2,85320502,413,0,0,0,0,0,0,0,0]
[{"$f":"ROW(Source!A210)","v":210},85320517,85320499,83785072,1,1,1,2,"91.14.02-001","ФСЭМ-2022 доп.7, 91.14.02-001, приказ Минстроя России от 02.08.2023 г. № 551/пр","Автомобили бортовые, грузоподъемность до 5 т",1368,null,1011,"маш.-ч","маш.-ч",1,null,null,null,null,null,null,0.03,0,641.70000000000005,811.79,0,0,1,0,"",0.03,2,85320503,414,0,0,0,0,0,0,0,0]
[{"$f":"ROW(Source!A210)","v":210},85320518,85320499,83785705,1,1,1,2,"91.21.16-012","ФСЭМ-2022, 91.21.16-012, приказ Минстроя России от 18.05.2022 г. № 378/пр","Прессы гидравлические с электроприводом",1368,null,1011,"маш.-ч","маш.-ч",1,null,null,null,null,null,null,17.5,0,15.84,0,0,0,1,0,"",17.5,2,85320504,415,0,0,0,0,0,0,0,0]
[{"$f":"ROW(Source!A210)","v":210},85320519,85320499,83849775,1,1,1,3,"01.3.01.02-0002","ФСБЦ-2022 доп.8, 01.3.01.02-0002, приказ Минстроя России от 14.11.2023 г. № 817/пр","Вазелин технический",1346,null,1009,"кг","кг",1,null,null,null,null,null,null,0.3,150.04,0,0,0,0,1,0,"",0.3,2,85320505,416,0,0,0,0,0,0,0,0]
[{"$f":"ROW(Source!A210)","v":210},85320520,85320499,83851817,1,1,1,3,"01.7.02.09-0002","ФСБЦ-2022, 01.7.02.09-0002, приказ Минстроя России от 18.05.2022 г. № 378/пр","Шпагат бумажный, диаметр 2,5 мм",1346,null,1009,"кг","кг",1,null,null,null,null,null,null,0.1,187.38,0,0,0,0,1,0,"",0.1,2,85320506,417,0,0,0,0,0,0,0,0]
[{"$f":"ROW(Source!A210)","v":210},85320521,85320499,83852000,1,1,1,3,"01.7.06.05-0041","ФСБЦ-2022, 01.7.06.05-0041, приказ Минстроя России от 18.05.2022 г. № 378/пр","Ленты изоляционные хлопчатобумажные прорезиненные для электромонтажных и ремонтных работ, цвет черный, ширина 20 мм, толщина 0,35 мм",1301,null,1003,"м","м",1,null,null,null,null,null,null,83.33,5.87,0,0,0,0,1,0,"",83.33,2,85320507,418,0,0,0,0,0,0,0,0]
[{"$f":"ROW(Source!A210)","v":210},85320522,85320499,83852014,1,1,1,3,"01.7.06.07-0002","ФСБЦ-2022, 01.7.06.07-0002, приказ Минстроя России от 18.05.2022 г. № 378/пр","Ленты монтажные из пластмассы для бандажирования проводов, скрепляются пластмассовыми кнопками, ширина 10 мм",1302,null,1003,"10 м","10 м",10,null,null,null,null,null,null,1.5,37.71,0,0,0,0,1,0,"",1.5,2,85320508,419,0,0,0,0,0,0,0,0]
[{"$f":"ROW(Source!A210)","v":210},85320523,85320499,83853338,1,1,1,3,"01.7.15.03-0042","ФСБЦ-2022, 01.7.15.03-0042, приказ Минстроя России от 18.05.2022 г. № 378/пр","Болты с гайками и шайбами строительные",1346,null,1009,"кг","кг",1,null,null,null,null,null,null,7.94,174.93,0,0,0,0,1,0,"",7.94,2,85320509,420,0,0,0,0,0,0,0,0]
[{"$f":"ROW(Source!A210)","v":210},85320524,85320499,83854460,1,1,1,3,"01.7.20.04-0005","ФСБЦ-2022, 01.7.20.04-0005, приказ Минстроя России от 18.05.2022 г. № 378/пр","Нитки швейные армированные",1346,null,1009,"кг","кг",1,null,null,null,null,null,null,0.06,395.65,0,0,0,0,1,0,"",0.06,2,85320510,421,0,0,0,0,0,0,0,0]
[{"$f":"ROW(Source!A210)","v":210},85320525,85320499,83870611,1,1,1,3,"14.4.03.17-0101","ФСБЦ-2022, 14.4.03.17-0101, приказ Минстроя России от 18.05.2022 г. № 378/пр","Лак КФ-965",1348,null,1009,"т","т",1000,null,null,null,null,null,null,4.0000000000000002E-4,308849.7,0,0,0,0,1,0,"",4.0000000000000002E-4,2,85320511,422,0,0,0,0,0,0,0,0]
[{"$f":"ROW(Source!A210)","v":210},85320526,85320499,83896008,1,1,1,3,"25.2.01.01-0001","ФСБЦ-2022, 25.2.01.01-0001, приказ Минстроя России от 18.05.2022 г. № 378/пр","Бирки-оконцеватели маркировочные А671",1425,null,1013,"100 ШТ","100 ШТ",1,null,null,null,null,null,null,1.02,655.9,0,0,0,0,1,0,"",1.02,2,85320512,423,0,0,0,0,0,0,0,0]
[{"$f":"ROW(Source!A210)","v":210},85320527,85320499,83783523,117,1,1,3,"421/пр_2020_п.75_пп.а","","Сметная стоимость вспомогательных ненормируемых материальных ресурсов, не учтенная в сметной норме, 2%",3277935,null,1013,"%","%",1,null,null,null,null,null,null,2,0,0,0,0,0,0,0,"",2,2,85320513,424,0,0,0,0,0,0,0,0]
[{"$f":"ROW(Source!A214)","v":214},85320550,85320530,77306386,114,1,1,1,"1-100-45","","Средний разряд работы 4,5",1191,null,1013,"чел.-ч.","чел.-ч.",1,null,null,null,null,null,null,2.38,0,0,0,0,0,1,1,"",2.38,2,85320531,425,0,0,0,0,0,0,0,0]
[{"$f":"ROW(Source!A214)","v":214},85320551,85320530,77306545,114,1,1,1,"4-100-00","","Затраты труда машинистов",1191,null,1013,"чел.-ч.","чел.-ч.",1,null,null,null,null,null,null,0.02,0,0,0,0,0,1,2,"",0.02,2,85320532,426,0,0,0,0,0,0,0,0]
[{"$f":"ROW(Source!A214)","v":214},85320552,85320530,77430988,1,1,1,2,"91.05.05-015","ФСЭМ-2022, 91.05.05-015, приказ Минстроя России от 18.05.2022 г. № 378/пр","Краны на автомобильном ходу, грузоподъемность 16 т",1368,null,1011,"маш.-ч","маш.-ч",1,null,null,null,null,null,null,0.01,0,1626.29,1090.46,0,0,1,0,"",0.01,2,85320533,427,0,0,0,0,0,0,0,0]
[{"$f":"ROW(Source!A214)","v":214},85320553,85320530,77431879,1,1,1,2,"91.14.02-001","ФСЭМ-2022 доп.7, 91.14.02-001, приказ Минстроя России от 02.08.2023 г. № 551/пр","Автомобили бортовые, грузоподъемность до 5 т",1368,null,1011,"маш.-ч","маш.-ч",1,null,null,null,null,null,null,0.01,0,641.70000000000005,811.79,0,0,1,0,"",0.01,2,85320534,428,0,0,0,0,0,0,0,0]
[{"$f":"ROW(Source!A214)","v":214},85320554,85320530,77432074,1,1,1,2,"91.17.04-233","ФСЭМ-2022, 91.17.04-233, приказ Минстроя России от 18.05.2022 г. № 378/пр","Аппараты сварочные для ручной дуговой сварки, сварочный ток до 350 А",1368,null,1011,"маш.-ч","маш.-ч",1,null,null,null,null,null,null,0.108,0,34.61,0,0,0,1,0,"",0.108,2,85320535,429,0,0,0,0,0,0,0,0]
[{"$f":"ROW(Source!A214)","v":214},85320555,85320530,77432509,1,1,1,2,"91.21.16-012","ФСЭМ-2022, 91.21.16-012, приказ Минстроя России от 18.05.2022 г. № 378/пр","Прессы гидравлические с электроприводом",1368,null,1011,"маш.-ч","маш.-ч",1,null,null,null,null,null,null,0.19800000000000001,0,15.84,0,0,0,1,0,"",0.19800000000000001,2,85320536,430,0,0,0,0,0,0,0,0]
[{"$f":"ROW(Source!A214)","v":214},85320556,85320530,77375881,1,1,1,3,"01.3.01.02-0002","ФСБЦ-2022 доп.8, 01.3.01.02-0002, приказ Минстроя России от 14.11.2023 г. № 817/пр","Вазелин технический",1346,null,1009,"кг","кг",1,null,null,null,null,null,null,8.9999999999999993E-3,150.04,0,0,0,0,1,0,"",8.9999999999999993E-3,2,85320537,431,0,0,0,0,0,0,0,0]
[{"$f":"ROW(Source!A214)","v":214},85320557,85320530,77378054,1,1,1,3,"01.7.02.09-0002","ФСБЦ-2022, 01.7.02.09-0002, приказ Минстроя России от 18.05.2022 г. № 378/пр","Шпагат бумажный, диаметр 2,5 мм",1346,null,1009,"кг","кг",1,null,null,null,null,null,null,4.0000000000000001E-3,187.38,0,0,0,0,1,0,"",4.0000000000000001E-3,2,85320538,432,0,0,0,0,0,0,0,0]
[{"$f":"ROW(Source!A214)","v":214},85320558,85320530,77378078,1,1,1,3,"01.7.03.04-0001","ФСБЦ-2022, 01.7.03.04-0001, приказ Минстроя России от 18.05.2022 г. № 378/пр","Электроэнергия",1383,null,1013,"КВТ-Ч","КВТ-Ч",1,null,null,null,null,null,null,2.0799999999999999E-2,7.32,0,0,0,0,1,0,"",2.0799999999999999E-2,2,85320539,433,0,0,0,0,0,0,0,0]
[{"$f":"ROW(Source!A214)","v":214},85320559,85320530,77378231,1,1,1,3,"01.7.06.05-0041","ФСБЦ-2022, 01.7.06.05-0041, приказ Минстроя России от 18.05.2022 г. № 378/пр","Ленты изоляционные хлопчатобумажные прорезиненные для электромонтажных и ремонтных работ, цвет черный, ширина 20 мм, толщина 0,35 мм",1301,null,1003,"м","м",1,null,null,null,null,null,null,3.5,5.87,0,0,0,0,1,0,"",3.5,2,85320540,434,0,0,0,0,0,0,0,0]
[{"$f":"ROW(Source!A214)","v":214},85320560,85320530,77378830,1,1,1,3,"01.7.11.07-0227","ФСБЦ-2022, 01.7.11.07-0227, приказ Минстроя России от 18.05.2022 г. № 378/пр","Электроды сварочные для сварки низколегированных и углеродистых сталей УОНИ 13/45, Э42А, диаметр 4-5 мм",1346,null,1009,"кг","кг",1,null,null,null,null,null,null,7.0000000000000007E-2,155.63,0,0,0,0,1,0,"",7.0000000000000007E-2,2,85320541,435,0,0,0,0,0,0,0,0]
[{"$f":"ROW(Source!A214)","v":214},85320561,85320530,77379558,1,1,1,3,"01.7.15.03-0042","ФСБЦ-2022, 01.7.15.03-0042, приказ Минстроя России от 18.05.2022 г. № 378/пр","Болты с гайками и шайбами строительные",1346,null,1009,"кг","кг",1,null,null,null,null,null,null,0.43099999999999999,174.93,0,0,0,0,1,0,"",0.43099999999999999,2,85320542,436,0,0,0,0,0,0,0,0]
[{"$f":"ROW(Source!A214)","v":214},85320562,85320530,77379624,1,1,1,3,"01.7.15.07-0014","ФСБЦ-2022, 01.7.15.07-0014, приказ Минстроя России от 18.05.2022 г. № 378/пр","Дюбели распорные полипропиленовые",1425,null,1013,"100 ШТ","100 ШТ",1,null,null,null,null,null,null,1.4E-2,41.71,0,0,0,0,1,0,"",1.4E-2,2,85320543,437,0,0,0,0,0,0,0,0]
[{"$f":"ROW(Source!A214)","v":214},85320563,85320530,77380667,1,1,1,3,"01.7.20.04-0005","ФСБЦ-2022, 01.7.20.04-0005, приказ Минстроя России от 18.05.2022 г. № 378/пр","Нитки швейные армированные",1346,null,1009,"кг","кг",1,null,null,null,null,null,null,2E-3,395.65,0,0,0,0,1,0,"",2E-3,2,85320544,438,0,0,0,0,0,0,0,0]
[{"$f":"ROW(Source!A214)","v":214},85320564,85320530,77385128,1,1,1,3,"07.2.07.04-0007","ФСБЦ-2022, 07.2.07.04-0007, приказ Минстроя России от 18.05.2022 г. № 378/пр","Конструкции стальные индивидуального изготовления из сортового проката",1348,null,1009,"т","т",1000,null,null,null,null,null,null,3.0000000000000001E-3,105278.81,0,0,0,0,1,0,"",3.0000000000000001E-3,2,85320545,439,0,0,0,0,0,0,0,0]
[{"$f":"ROW(Source!A214)","v":214},85320565,85320530,77397226,1,1,1,3,"14.4.02.04-0142","ФСБЦ-2022, 14.4.02.04-0142, приказ Минстроя России от 18.05.2022 г. № 378/пр","Краска масляная МА-0115, мумия, сурик железный",1346,null,1009,"кг","кг",1,null,null,null,null,null,null,4.7E-2,79.88,0,0,0,0,1,0,"",4.7E-2,2,85320546,440,0,0,0,0,0,0,0,0]
[{"$f":"ROW(Source!A214)","v":214},85320566,85320530,77397272,1,1,1,3,"14.4.03.06-0001","ФСБЦ-2022 доп.9, 14.4.03.06-0001, приказ Минстроя России от 16.02.2024 г. № 102/пр","Лак электроизоляционный МЛ-92",1346,null,1009,"кг","кг",1,null,null,null,null,null,null,1.6E-2,157.44,0,0,0,0,1,0,"",1.6E-2,2,85320547,441,0,0,0,0,0,0,0,0]
[{"$f":"ROW(Source!A214)","v":214},85320567,85320530,77404544,1,1,1,3,"20.1.02.23-0082","ФСБЦ-2022, 20.1.02.23-0082, приказ Минстроя России от 18.05.2022 г. № 378/пр","Перемычки гибкие, тип ПГС-50",1455,null,1013,"10 ШТ","10 ШТ",1,null,null,null,null,null,null,0.1,944.69,0,0,0,0,1,0,"",0.1,2,85320548,442,0,0,0,0,0,0,0,0]
[{"$f":"ROW(Source!A214)","v":214},85320568,85320530,77312233,114,1,1,3,"421/пр_2020_п.75_пп.а","","Сметная стоимость вспомогательных ненормируемых материальных ресурсов, не учтенная в сметной норме, 2%",3277935,null,1013,"%","%",1,null,null,null,null,null,null,2,0,0,0,0,0,0,0,"",2,2,85320549,443,0,0,0,0,0,0,0,0]
[{"$f":"ROW(Source!A215)","v":215},85320550,85320530,77306386,114,1,1,1,"1-100-45","","Средний разряд работы 4,5",1191,null,1013,"чел.-ч.","чел.-ч.",1,null,null,null,null,null,null,2.38,0,0,0,0,0,1,1,"",2.38,2,85320531,444,0,0,0,0,0,0,0,0]
[{"$f":"ROW(Source!A215)","v":215},85320551,85320530,77306545,114,1,1,1,"4-100-00","","Затраты труда машинистов",1191,null,1013,"чел.-ч.","чел.-ч.",1,null,null,null,null,null,null,0.02,0,0,0,0,0,1,2,"",0.02,2,85320532,445,0,0,0,0,0,0,0,0]
[{"$f":"ROW(Source!A215)","v":215},85320552,85320530,77430988,1,1,1,2,"91.05.05-015","ФСЭМ-2022, 91.05.05-015, приказ Минстроя России от 18.05.2022 г. № 378/пр","Краны на автомобильном ходу, грузоподъемность 16 т",1368,null,1011,"маш.-ч","маш.-ч",1,null,null,null,null,null,null,0.01,0,1626.29,1090.46,0,0,1,0,"",0.01,2,85320533,446,0,0,0,0,0,0,0,0]
[{"$f":"ROW(Source!A215)","v":215},85320553,85320530,77431879,1,1,1,2,"91.14.02-001","ФСЭМ-2022 доп.7, 91.14.02-001, приказ Минстроя России от 02.08.2023 г. № 551/пр","Автомобили бортовые, грузоподъемность до 5 т",1368,null,1011,"маш.-ч","маш.-ч",1,null,null,null,null,null,null,0.01,0,641.70000000000005,811.79,0,0,1,0,"",0.01,2,85320534,447,0,0,0,0,0,0,0,0]
[{"$f":"ROW(Source!A215)","v":215},85320554,85320530,77432074,1,1,1,2,"91.17.04-233","ФСЭМ-2022, 91.17.04-233, приказ Минстроя России от 18.05.2022 г. № 378/пр","Аппараты сварочные для ручной дуговой сварки, сварочный ток до 350 А",1368,null,1011,"маш.-ч","маш.-ч",1,null,null,null,null,null,null,0.108,0,34.61,0,0,0,1,0,"",0.108,2,85320535,448,0,0,0,0,0,0,0,0]
[{"$f":"ROW(Source!A215)","v":215},85320555,85320530,77432509,1,1,1,2,"91.21.16-012","ФСЭМ-2022, 91.21.16-012, приказ Минстроя России от 18.05.2022 г. № 378/пр","Прессы гидравлические с электроприводом",1368,null,1011,"маш.-ч","маш.-ч",1,null,null,null,null,null,null,0.19800000000000001,0,15.84,0,0,0,1,0,"",0.19800000000000001,2,85320536,449,0,0,0,0,0,0,0,0]
[{"$f":"ROW(Source!A215)","v":215},85320556,85320530,77375881,1,1,1,3,"01.3.01.02-0002","ФСБЦ-2022 доп.8, 01.3.01.02-0002, приказ Минстроя России от 14.11.2023 г. № 817/пр","Вазелин технический",1346,null,1009,"кг","кг",1,null,null,null,null,null,null,8.9999999999999993E-3,150.04,0,0,0,0,1,0,"",8.9999999999999993E-3,2,85320537,450,0,0,0,0,0,0,0,0]
[{"$f":"ROW(Source!A215)","v":215},85320557,85320530,77378054,1,1,1,3,"01.7.02.09-0002","ФСБЦ-2022, 01.7.02.09-0002, приказ Минстроя России от 18.05.2022 г. № 378/пр","Шпагат бумажный, диаметр 2,5 мм",1346,null,1009,"кг","кг",1,null,null,null,null,null,null,4.0000000000000001E-3,187.38,0,0,0,0,1,0,"",4.0000000000000001E-3,2,85320538,451,0,0,0,0,0,0,0,0]
[{"$f":"ROW(Source!A215)","v":215},85320558,85320530,77378078,1,1,1,3,"01.7.03.04-0001","ФСБЦ-2022, 01.7.03.04-0001, приказ Минстроя России от 18.05.2022 г. № 378/пр","Электроэнергия",1383,null,1013,"КВТ-Ч","КВТ-Ч",1,null,null,null,null,null,null,2.0799999999999999E-2,7.32,0,0,0,0,1,0,"",2.0799999999999999E-2,2,85320539,452,0,0,0,0,0,0,0,0]
[{"$f":"ROW(Source!A215)","v":215},85320559,85320530,77378231,1,1,1,3,"01.7.06.05-0041","ФСБЦ-2022, 01.7.06.05-0041, приказ Минстроя России от 18.05.2022 г. № 378/пр","Ленты изоляционные хлопчатобумажные прорезиненные для электромонтажных и ремонтных работ, цвет черный, ширина 20 мм, толщина 0,35 мм",1301,null,1003,"м","м",1,null,null,null,null,null,null,3.5,5.87,0,0,0,0,1,0,"",3.5,2,85320540,453,0,0,0,0,0,0,0,0]
[{"$f":"ROW(Source!A215)","v":215},85320560,85320530,77378830,1,1,1,3,"01.7.11.07-0227","ФСБЦ-2022, 01.7.11.07-0227, приказ Минстроя России от 18.05.2022 г. № 378/пр","Электроды сварочные для сварки низколегированных и углеродистых сталей УОНИ 13/45, Э42А, диаметр 4-5 мм",1346,null,1009,"кг","кг",1,null,null,null,null,null,null,7.0000000000000007E-2,155.63,0,0,0,0,1,0,"",7.0000000000000007E-2,2,85320541,454,0,0,0,0,0,0,0,0]
[{"$f":"ROW(Source!A215)","v":215},85320561,85320530,77379558,1,1,1,3,"01.7.15.03-0042","ФСБЦ-2022, 01.7.15.03-0042, приказ Минстроя России от 18.05.2022 г. № 378/пр","Болты с гайками и шайбами строительные",1346,null,1009,"кг","кг",1,null,null,null,null,null,null,0.43099999999999999,174.93,0,0,0,0,1,0,"",0.43099999999999999,2,85320542,455,0,0,0,0,0,0,0,0]
[{"$f":"ROW(Source!A215)","v":215},85320562,85320530,77379624,1,1,1,3,"01.7.15.07-0014","ФСБЦ-2022, 01.7.15.07-0014, приказ Минстроя России от 18.05.2022 г. № 378/пр","Дюбели распорные полипропиленовые",1425,null,1013,"100 ШТ","100 ШТ",1,null,null,null,null,null,null,1.4E-2,41.71,0,0,0,0,1,0,"",1.4E-2,2,85320543,456,0,0,0,0,0,0,0,0]
[{"$f":"ROW(Source!A215)","v":215},85320563,85320530,77380667,1,1,1,3,"01.7.20.04-0005","ФСБЦ-2022, 01.7.20.04-0005, приказ Минстроя России от 18.05.2022 г. № 378/пр","Нитки швейные армированные",1346,null,1009,"кг","кг",1,null,null,null,null,null,null,2E-3,395.65,0,0,0,0,1,0,"",2E-3,2,85320544,457,0,0,0,0,0,0,0,0]
[{"$f":"ROW(Source!A215)","v":215},85320564,85320530,77385128,1,1,1,3,"07.2.07.04-0007","ФСБЦ-2022, 07.2.07.04-0007, приказ Минстроя России от 18.05.2022 г. № 378/пр","Конструкции стальные индивидуального изготовления из сортового проката",1348,null,1009,"т","т",1000,null,null,null,null,null,null,3.0000000000000001E-3,105278.81,0,0,0,0,1,0,"",3.0000000000000001E-3,2,85320545,458,0,0,0,0,0,0,0,0]
[{"$f":"ROW(Source!A215)","v":215},85320565,85320530,77397226,1,1,1,3,"14.4.02.04-0142","ФСБЦ-2022, 14.4.02.04-0142, приказ Минстроя России от 18.05.2022 г. № 378/пр","Краска масляная МА-0115, мумия, сурик железный",1346,null,1009,"кг","кг",1,null,null,null,null,null,null,4.7E-2,79.88,0,0,0,0,1,0,"",4.7E-2,2,85320546,459,0,0,0,0,0,0,0,0]
[{"$f":"ROW(Source!A215)","v":215},85320566,85320530,77397272,1,1,1,3,"14.4.03.06-0001","ФСБЦ-2022 доп.9, 14.4.03.06-0001, приказ Минстроя России от 16.02.2024 г. № 102/пр","Лак электроизоляционный МЛ-92",1346,null,1009,"кг","кг",1,null,null,null,null,null,null,1.6E-2,157.44,0,0,0,0,1,0,"",1.6E-2,2,85320547,460,0,0,0,0,0,0,0,0]
[{"$f":"ROW(Source!A215)","v":215},85320567,85320530,77404544,1,1,1,3,"20.1.02.23-0082","ФСБЦ-2022, 20.1.02.23-0082, приказ Минстроя России от 18.05.2022 г. № 378/пр","Перемычки гибкие, тип ПГС-50",1455,null,1013,"10 ШТ","10 ШТ",1,null,null,null,null,null,null,0.1,944.69,0,0,0,0,1,0,"",0.1,2,85320548,461,0,0,0,0,0,0,0,0]
[{"$f":"ROW(Source!A215)","v":215},85320568,85320530,77312233,114,1,1,3,"421/пр_2020_п.75_пп.а","","Сметная стоимость вспомогательных ненормируемых материальных ресурсов, не учтенная в сметной норме, 2%",3277935,null,1013,"%","%",1,null,null,null,null,null,null,2,0,0,0,0,0,0,0,"",2,2,85320549,462,0,0,0,0,0,0,0,0]
[{"$f":"ROW(Source!A219)","v":219},85320586,85320571,77306374,114,1,1,1,"1-100-40","","Средний разряд работы 4,0",1191,null,1013,"чел.-ч.","чел.-ч.",1,null,null,null,null,null,null,45.3,0,0,0,0,0,1,1,"",45.3,2,85320572,463,0,0,0,0,0,0,0,0]
[{"$f":"ROW(Source!A219)","v":219},85320587,85320571,77306545,114,1,1,1,"4-100-00","","Затраты труда машинистов",1191,null,1013,"чел.-ч.","чел.-ч.",1,null,null,null,null,null,null,5.3,0,0,0,0,0,1,2,"",5.3,2,85320573,464,0,0,0,0,0,0,0,0]
[{"$f":"ROW(Source!A219)","v":219},85320588,85320571,77430988,1,1,1,2,"91.05.05-015","ФСЭМ-2022, 91.05.05-015, приказ Минстроя России от 18.05.2022 г. № 378/пр","Краны на автомобильном ходу, грузоподъемность 16 т",1368,null,1011,"маш.-ч","маш.-ч",1,null,null,null,null,null,null,0.2,0,1626.29,1090.46,0,0,1,0,"",0.2,2,85320574,465,0,0,0,0,0,0,0,0]
[{"$f":"ROW(Source!A219)","v":219},85320589,85320571,77431879,1,1,1,2,"91.14.02-001","ФСЭМ-2022 доп.7, 91.14.02-001, приказ Минстроя России от 02.08.2023 г. № 551/пр","Автомобили бортовые, грузоподъемность до 5 т",1368,null,1011,"маш.-ч","маш.-ч",1,null,null,null,null,null,null,0.2,0,641.70000000000005,811.79,0,0,1,0,"",0.2,2,85320575,466,0,0,0,0,0,0,0,0]
[{"$f":"ROW(Source!A219)","v":219},85320590,85320571,77432074,1,1,1,2,"91.17.04-233","ФСЭМ-2022, 91.17.04-233, приказ Минстроя России от 18.05.2022 г. № 378/пр","Аппараты сварочные для ручной дуговой сварки, сварочный ток до 350 А",1368,null,1011,"маш.-ч","маш.-ч",1,null,null,null,null,null,null,1.69,0,34.61,0,0,0,1,0,"",1.69,2,85320576,467,0,0,0,0,0,0,0,0]
[{"$f":"ROW(Source!A219)","v":219},85320591,85320571,77432548,1,1,1,2,"91.21.19-031","ФСЭМ-2022, 91.21.19-031, приказ Минстроя России от 18.05.2022 г. № 378/пр","Станки сверлильные",1368,null,1011,"маш.-ч","маш.-ч",1,null,null,null,null,null,null,0.86,0,23.89,0,0,0,1,0,"",0.86,2,85320577,468,0,0,0,0,0,0,0,0]
[{"$f":"ROW(Source!A219)","v":219},85320592,85320571,77432634,1,1,1,2,"91.21.22-491","ФСЭМ-2022, 91.21.22-491, приказ Минстроя России от 18.05.2022 г. № 378/пр","Шиногибы гидравлические универсальные",1368,null,1011,"маш.-ч","маш.-ч",1,null,null,null,null,null,null,4.9000000000000004,0,26.76,502.98,0,0,1,0,"",4.9000000000000004,2,85320578,469,0,0,0,0,0,0,0,0]
[{"$f":"ROW(Source!A219)","v":219},85320593,85320571,77375932,1,1,1,3,"01.3.02.02-0001","ФСБЦ-2022 доп.3, 01.3.02.02-0001, приказ Минстроя России от 26.10.2022 г. № 905/пр","Аргон газообразный, сорт I",1339,null,1007,"м3","м3",1,null,null,null,null,null,null,0.31,253.96,0,0,0,0,1,0,"",0.31,2,85320579,470,0,0,0,0,0,0,0,0]
[{"$f":"ROW(Source!A219)","v":219},85320594,85320571,77379558,1,1,1,3,"01.7.15.03-0042","ФСБЦ-2022, 01.7.15.03-0042, приказ Минстроя России от 18.05.2022 г. № 378/пр","Болты с гайками и шайбами строительные",1346,null,1009,"кг","кг",1,null,null,null,null,null,null,2.88,174.93,0,0,0,0,1,0,"",2.88,2,85320580,471,0,0,0,0,0,0,0,0]
[{"$f":"ROW(Source!A219)","v":219},85320595,85320571,77379734,1,1,1,3,"01.7.15.11-0061","ФСБЦ-2022, 01.7.15.11-0061, приказ Минстроя России от 18.05.2022 г. № 378/пр","Шайбы стальные оцинкованные пружинные (гровер), диаметр отверстия М3",1348,null,1009,"т","т",1000,null,null,null,null,null,null,1.2E-4,195421.95,0,0,0,0,1,0,"",1.2E-4,2,85320581,472,0,0,0,0,0,0,0,0]
[{"$f":"ROW(Source!A219)","v":219},85320596,85320571,77388710,1,1,1,3,"10.1.02.04-0009","ФСБЦ-2022 доп.9, 10.1.02.04-0009, приказ Минстроя России от 16.02.2024 г. № 102/пр","Прутки круглого сечения из алюминиевых сплавов марок АД0, АД1, АД, АД31, АД33, АД35, АВ, диаметр 135,0-200,0 мм",1348,null,1009,"т","т",1000,null,null,null,null,null,null,6.0000000000000002E-5,530491.82999999996,0,0,0,0,1,0,"",6.0000000000000002E-5,2,85320582,473,0,0,0,0,0,0,0,0]
[{"$f":"ROW(Source!A219)","v":219},85320597,85320571,77388985,1,1,1,3,"10.2.02.10-0013","ФСБЦ-2022, 10.2.02.10-0013, приказ Минстроя России от 18.05.2022 г. № 378/пр","Прутки круглые из меди марки М3, диаметр 10-30 мм",1348,null,1009,"т","т",1000,null,null,null,null,null,null,3.0000000000000001E-5,945143.92,0,0,0,0,1,0,"",3.0000000000000001E-5,2,85320583,474,0,0,0,0,0,0,0,0]
[{"$f":"ROW(Source!A219)","v":219},85320598,85320571,77397226,1,1,1,3,"14.4.02.04-0142","ФСБЦ-2022, 14.4.02.04-0142, приказ Минстроя России от 18.05.2022 г. № 378/пр","Краска масляная МА-0115, мумия, сурик железный",1346,null,1009,"кг","кг",1,null,null,null,null,null,null,1.74,79.88,0,0,0,0,1,0,"",1.74,2,85320584,475,0,0,0,0,0,0,0,0]
[{"$f":"ROW(Source!A219)","v":219},85320599,85320571,77312233,114,1,1,3,"421/пр_2020_п.75_пп.а","","Сметная стоимость вспомогательных ненормируемых материальных ресурсов, не учтенная в сметной норме, 2%",3277935,null,1013,"%","%",1,null,null,null,null,null,null,2,0,0,0,0,0,0,0,"",2,2,85320585,476,0,0,0,0,0,0,0,0]
[{"$f":"ROW(Source!A220)","v":220},85320586,85320571,77306374,114,1,1,1,"1-100-40","","Средний разряд работы 4,0",1191,null,1013,"чел.-ч.","чел.-ч.",1,null,null,null,null,null,null,45.3,0,0,0,0,0,1,1,"",45.3,2,85320572,477,0,0,0,0,0,0,0,0]
[{"$f":"ROW(Source!A220)","v":220},85320587,85320571,77306545,114,1,1,1,"4-100-00","","Затраты труда машинистов",1191,null,1013,"чел.-ч.","чел.-ч.",1,null,null,null,null,null,null,5.3,0,0,0,0,0,1,2,"",5.3,2,85320573,478,0,0,0,0,0,0,0,0]
[{"$f":"ROW(Source!A220)","v":220},85320588,85320571,77430988,1,1,1,2,"91.05.05-015","ФСЭМ-2022, 91.05.05-015, приказ Минстроя России от 18.05.2022 г. № 378/пр","Краны на автомобильном ходу, грузоподъемность 16 т",1368,null,1011,"маш.-ч","маш.-ч",1,null,null,null,null,null,null,0.2,0,1626.29,1090.46,0,0,1,0,"",0.2,2,85320574,479,0,0,0,0,0,0,0,0]
[{"$f":"ROW(Source!A220)","v":220},85320589,85320571,77431879,1,1,1,2,"91.14.02-001","ФСЭМ-2022 доп.7, 91.14.02-001, приказ Минстроя России от 02.08.2023 г. № 551/пр","Автомобили бортовые, грузоподъемность до 5 т",1368,null,1011,"маш.-ч","маш.-ч",1,null,null,null,null,null,null,0.2,0,641.70000000000005,811.79,0,0,1,0,"",0.2,2,85320575,480,0,0,0,0,0,0,0,0]
[{"$f":"ROW(Source!A220)","v":220},85320590,85320571,77432074,1,1,1,2,"91.17.04-233","ФСЭМ-2022, 91.17.04-233, приказ Минстроя России от 18.05.2022 г. № 378/пр","Аппараты сварочные для ручной дуговой сварки, сварочный ток до 350 А",1368,null,1011,"маш.-ч","маш.-ч",1,null,null,null,null,null,null,1.69,0,34.61,0,0,0,1,0,"",1.69,2,85320576,481,0,0,0,0,0,0,0,0]
[{"$f":"ROW(Source!A220)","v":220},85320591,85320571,77432548,1,1,1,2,"91.21.19-031","ФСЭМ-2022, 91.21.19-031, приказ Минстроя России от 18.05.2022 г. № 378/пр","Станки сверлильные",1368,null,1011,"маш.-ч","маш.-ч",1,null,null,null,null,null,null,0.86,0,23.89,0,0,0,1,0,"",0.86,2,85320577,482,0,0,0,0,0,0,0,0]
[{"$f":"ROW(Source!A220)","v":220},85320592,85320571,77432634,1,1,1,2,"91.21.22-491","ФСЭМ-2022, 91.21.22-491, приказ Минстроя России от 18.05.2022 г. № 378/пр","Шиногибы гидравлические универсальные",1368,null,1011,"маш.-ч","маш.-ч",1,null,null,null,null,null,null,4.9000000000000004,0,26.76,502.98,0,0,1,0,"",4.9000000000000004,2,85320578,483,0,0,0,0,0,0,0,0]
[{"$f":"ROW(Source!A220)","v":220},85320593,85320571,77375932,1,1,1,3,"01.3.02.02-0001","ФСБЦ-2022 доп.3, 01.3.02.02-0001, приказ Минстроя России от 26.10.2022 г. № 905/пр","Аргон газообразный, сорт I",1339,null,1007,"м3","м3",1,null,null,null,null,null,null,0.31,253.96,0,0,0,0,1,0,"",0.31,2,85320579,484,0,0,0,0,0,0,0,0]
[{"$f":"ROW(Source!A220)","v":220},85320594,85320571,77379558,1,1,1,3,"01.7.15.03-0042","ФСБЦ-2022, 01.7.15.03-0042, приказ Минстроя России от 18.05.2022 г. № 378/пр","Болты с гайками и шайбами строительные",1346,null,1009,"кг","кг",1,null,null,null,null,null,null,2.88,174.93,0,0,0,0,1,0,"",2.88,2,85320580,485,0,0,0,0,0,0,0,0]
[{"$f":"ROW(Source!A220)","v":220},85320595,85320571,77379734,1,1,1,3,"01.7.15.11-0061","ФСБЦ-2022, 01.7.15.11-0061, приказ Минстроя России от 18.05.2022 г. № 378/пр","Шайбы стальные оцинкованные пружинные (гровер), диаметр отверстия М3",1348,null,1009,"т","т",1000,null,null,null,null,null,null,1.2E-4,195421.95,0,0,0,0,1,0,"",1.2E-4,2,85320581,486,0,0,0,0,0,0,0,0]
[{"$f":"ROW(Source!A220)","v":220},85320596,85320571,77388710,1,1,1,3,"10.1.02.04-0009","ФСБЦ-2022 доп.9, 10.1.02.04-0009, приказ Минстроя России от 16.02.2024 г. № 102/пр","Прутки круглого сечения из алюминиевых сплавов марок АД0, АД1, АД, АД31, АД33, АД35, АВ, диаметр 135,0-200,0 мм",1348,null,1009,"т","т",1000,null,null,null,null,null,null,6.0000000000000002E-5,530491.82999999996,0,0,0,0,1,0,"",6.0000000000000002E-5,2,85320582,487,0,0,0,0,0,0,0,0]
[{"$f":"ROW(Source!A220)","v":220},85320597,85320571,77388985,1,1,1,3,"10.2.02.10-0013","ФСБЦ-2022, 10.2.02.10-0013, приказ Минстроя России от 18.05.2022 г. № 378/пр","Прутки круглые из меди марки М3, диаметр 10-30 мм",1348,null,1009,"т","т",1000,null,null,null,null,null,null,3.0000000000000001E-5,945143.92,0,0,0,0,1,0,"",3.0000000000000001E-5,2,85320583,488,0,0,0,0,0,0,0,0]
[{"$f":"ROW(Source!A220)","v":220},85320598,85320571,77397226,1,1,1,3,"14.4.02.04-0142","ФСБЦ-2022, 14.4.02.04-0142, приказ Минстроя России от 18.05.2022 г. № 378/пр","Краска масляная МА-0115, мумия, сурик железный",1346,null,1009,"кг","кг",1,null,null,null,null,null,null,1.74,79.88,0,0,0,0,1,0,"",1.74,2,85320584,489,0,0,0,0,0,0,0,0]
[{"$f":"ROW(Source!A220)","v":220},85320599,85320571,77312233,114,1,1,3,"421/пр_2020_п.75_пп.а","","Сметная стоимость вспомогательных ненормируемых материальных ресурсов, не учтенная в сметной норме, 2%",3277935,null,1013,"%","%",1,null,null,null,null,null,null,2,0,0,0,0,0,0,0,"",2,2,85320585,490,0,0,0,0,0,0,0,0]
[{"$f":"ROW(Source!A224)","v":224},85320616,85320602,77306380,114,1,1,1,"1-100-42","","Средний разряд работы 4,2",1191,null,1013,"чел.-ч.","чел.-ч.",1,null,null,null,null,null,null,103,0,0,0,0,0,1,1,"",103,2,85320603,491,0,0,0,0,0,0,0,0]
[{"$f":"ROW(Source!A224)","v":224},85320617,85320602,77306545,114,1,1,1,"4-100-00","","Затраты труда машинистов",1191,null,1013,"чел.-ч.","чел.-ч.",1,null,null,null,null,null,null,20.65,0,0,0,0,0,1,2,"",20.65,2,85320604,492,0,0,0,0,0,0,0,0]
[{"$f":"ROW(Source!A224)","v":224},85320618,85320602,77430971,1,1,1,2,"91.05.04-010","ФСЭМ-2022, 91.05.04-010, приказ Минстроя России от 18.05.2022 г. № 378/пр","Краны мостовые электрические, грузоподъемность 50 т",1368,null,1011,"маш.-ч","маш.-ч",1,null,null,null,null,null,null,7.83,0,1689.57,578.04999999999995,0,0,1,0,"",7.83,2,85320605,493,0,0,0,0,0,0,0,0]
[{"$f":"ROW(Source!A224)","v":224},85320619,85320602,77430988,1,1,1,2,"91.05.05-015","ФСЭМ-2022, 91.05.05-015, приказ Минстроя России от 18.05.2022 г. № 378/пр","Краны на автомобильном ходу, грузоподъемность 16 т",1368,null,1011,"маш.-ч","маш.-ч",1,null,null,null,null,null,null,0.6,0,1626.29,1090.46,0,0,1,0,"",0.6,2,85320606,494,0,0,0,0,0,0,0,0]
[{"$f":"ROW(Source!A224)","v":224},85320620,85320602,77431168,1,1,1,2,"91.06.06-042","ФСЭМ-2022, 91.06.06-042, приказ Минстроя России от 18.05.2022 г. № 378/пр","Подъемники гидравлические, высота подъема 10 м",1368,null,1011,"маш.-ч","маш.-ч",1,null,null,null,null,null,null,5.5,0,104.99,502.98,0,0,1,0,"",5.5,2,85320607,495,0,0,0,0,0,0,0,0]
[{"$f":"ROW(Source!A224)","v":224},85320621,85320602,77431879,1,1,1,2,"91.14.02-001","ФСЭМ-2022 доп.7, 91.14.02-001, приказ Минстроя России от 02.08.2023 г. № 551/пр","Автомобили бортовые, грузоподъемность до 5 т",1368,null,1011,"маш.-ч","маш.-ч",1,null,null,null,null,null,null,0.6,0,641.70000000000005,811.79,0,0,1,0,"",0.6,2,85320608,496,0,0,0,0,0,0,0,0]
[{"$f":"ROW(Source!A224)","v":224},85320622,85320602,77432062,1,1,1,2,"91.17.04-161","ФСЭМ-2022, 91.17.04-161, приказ Минстроя России от 18.05.2022 г. № 378/пр","Аппарат сварочный для полуавтоматической сварки, сварочный ток до 500 А, в комплекте с механизмом подачи проволоки",1368,null,1011,"маш.-ч","маш.-ч",1,null,null,null,null,null,null,72.3,0,103.08,0,0,0,1,0,"",72.3,2,85320609,497,0,0,0,0,0,0,0,0]
[{"$f":"ROW(Source!A224)","v":224},85320623,85320602,77432634,1,1,1,2,"91.21.22-491","ФСЭМ-2022, 91.21.22-491, приказ Минстроя России от 18.05.2022 г. № 378/пр","Шиногибы гидравлические универсальные",1368,null,1011,"маш.-ч","маш.-ч",1,null,null,null,null,null,null,6.12,0,26.76,502.98,0,0,1,0,"",6.12,2,85320610,498,0,0,0,0,0,0,0,0]
[{"$f":"ROW(Source!A224)","v":224},85320624,85320602,77375932,1,1,1,3,"01.3.02.02-0001","ФСБЦ-2022 доп.3, 01.3.02.02-0001, приказ Минстроя России от 26.10.2022 г. № 905/пр","Аргон газообразный, сорт I",1339,null,1007,"м3","м3",1,null,null,null,null,null,null,1.5,253.96,0,0,0,0,1,0,"",1.5,2,85320611,499,0,0,0,0,0,0,0,0]
[{"$f":"ROW(Source!A224)","v":224},85320625,85320602,77378830,1,1,1,3,"01.7.11.07-0227","ФСБЦ-2022, 01.7.11.07-0227, приказ Минстроя России от 18.05.2022 г. № 378/пр","Электроды сварочные для сварки низколегированных и углеродистых сталей УОНИ 13/45, Э42А, диаметр 4-5 мм",1346,null,1009,"кг","кг",1,null,null,null,null,null,null,4,155.63,0,0,0,0,1,0,"",4,2,85320612,500,0,0,0,0,0,0,0,0]
[{"$f":"ROW(Source!A224)","v":224},85320626,85320602,77388702,1,1,1,3,"10.1.02.04-0001","ФСБЦ-2022 доп.9, 10.1.02.04-0001, приказ Минстроя России от 16.02.2024 г. № 102/пр","Прутки круглого сечения из алюминиевых сплавов марок АД0, АД1, АД, АД31, АД33, АД35, АВ, диаметр 5,0 мм",1348,null,1009,"т","т",1000,null,null,null,null,null,null,2.5300000000000001E-3,590968.93000000005,0,0,0,0,1,0,"",2.5300000000000001E-3,2,85320613,501,0,0,0,0,0,0,0,0]
[{"$f":"ROW(Source!A224)","v":224},85320627,85320602,77397226,1,1,1,3,"14.4.02.04-0142","ФСБЦ-2022, 14.4.02.04-0142, приказ Минстроя России от 18.05.2022 г. № 378/пр","Краска масляная МА-0115, мумия, сурик железный",1346,null,1009,"кг","кг",1,null,null,null,null,null,null,14.9,79.88,0,0,0,0,1,0,"",14.9,2,85320614,502,0,0,0,0,0,0,0,0]
[{"$f":"ROW(Source!A224)","v":224},85320628,85320602,77312233,114,1,1,3,"421/пр_2020_п.75_пп.а","","Сметная стоимость вспомогательных ненормируемых материальных ресурсов, не учтенная в сметной норме, 2%",3277935,null,1013,"%","%",1,null,null,null,null,null,null,2,0,0,0,0,0,0,0,"",2,2,85320615,503,0,0,0,0,0,0,0,0]
[{"$f":"ROW(Source!A225)","v":225},85320616,85320602,77306380,114,1,1,1,"1-100-42","","Средний разряд работы 4,2",1191,null,1013,"чел.-ч.","чел.-ч.",1,null,null,null,null,null,null,103,0,0,0,0,0,1,1,"",103,2,85320603,504,0,0,0,0,0,0,0,0]
[{"$f":"ROW(Source!A225)","v":225},85320617,85320602,77306545,114,1,1,1,"4-100-00","","Затраты труда машинистов",1191,null,1013,"чел.-ч.","чел.-ч.",1,null,null,null,null,null,null,20.65,0,0,0,0,0,1,2,"",20.65,2,85320604,505,0,0,0,0,0,0,0,0]
[{"$f":"ROW(Source!A225)","v":225},85320618,85320602,77430971,1,1,1,2,"91.05.04-010","ФСЭМ-2022, 91.05.04-010, приказ Минстроя России от 18.05.2022 г. № 378/пр","Краны мостовые электрические, грузоподъемность 50 т",1368,null,1011,"маш.-ч","маш.-ч",1,null,null,null,null,null,null,7.83,0,1689.57,578.04999999999995,0,0,1,0,"",7.83,2,85320605,506,0,0,0,0,0,0,0,0]
[{"$f":"ROW(Source!A225)","v":225},85320619,85320602,77430988,1,1,1,2,"91.05.05-015","ФСЭМ-2022, 91.05.05-015, приказ Минстроя России от 18.05.2022 г. № 378/пр","Краны на автомобильном ходу, грузоподъемность 16 т",1368,null,1011,"маш.-ч","маш.-ч",1,null,null,null,null,null,null,0.6,0,1626.29,1090.46,0,0,1,0,"",0.6,2,85320606,507,0,0,0,0,0,0,0,0]
[{"$f":"ROW(Source!A225)","v":225},85320620,85320602,77431168,1,1,1,2,"91.06.06-042","ФСЭМ-2022, 91.06.06-042, приказ Минстроя России от 18.05.2022 г. № 378/пр","Подъемники гидравлические, высота подъема 10 м",1368,null,1011,"маш.-ч","маш.-ч",1,null,null,null,null,null,null,5.5,0,104.99,502.98,0,0,1,0,"",5.5,2,85320607,508,0,0,0,0,0,0,0,0]
[{"$f":"ROW(Source!A225)","v":225},85320621,85320602,77431879,1,1,1,2,"91.14.02-001","ФСЭМ-2022 доп.7, 91.14.02-001, приказ Минстроя России от 02.08.2023 г. № 551/пр","Автомобили бортовые, грузоподъемность до 5 т",1368,null,1011,"маш.-ч","маш.-ч",1,null,null,null,null,null,null,0.6,0,641.70000000000005,811.79,0,0,1,0,"",0.6,2,85320608,509,0,0,0,0,0,0,0,0]
[{"$f":"ROW(Source!A225)","v":225},85320622,85320602,77432062,1,1,1,2,"91.17.04-161","ФСЭМ-2022, 91.17.04-161, приказ Минстроя России от 18.05.2022 г. № 378/пр","Аппарат сварочный для полуавтоматической сварки, сварочный ток до 500 А, в комплекте с механизмом подачи проволоки",1368,null,1011,"маш.-ч","маш.-ч",1,null,null,null,null,null,null,72.3,0,103.08,0,0,0,1,0,"",72.3,2,85320609,510,0,0,0,0,0,0,0,0]
[{"$f":"ROW(Source!A225)","v":225},85320623,85320602,77432634,1,1,1,2,"91.21.22-491","ФСЭМ-2022, 91.21.22-491, приказ Минстроя России от 18.05.2022 г. № 378/пр","Шиногибы гидравлические универсальные",1368,null,1011,"маш.-ч","маш.-ч",1,null,null,null,null,null,null,6.12,0,26.76,502.98,0,0,1,0,"",6.12,2,85320610,511,0,0,0,0,0,0,0,0]
[{"$f":"ROW(Source!A225)","v":225},85320624,85320602,77375932,1,1,1,3,"01.3.02.02-0001","ФСБЦ-2022 доп.3, 01.3.02.02-0001, приказ Минстроя России от 26.10.2022 г. № 905/пр","Аргон газообразный, сорт I",1339,null,1007,"м3","м3",1,null,null,null,null,null,null,1.5,253.96,0,0,0,0,1,0,"",1.5,2,85320611,512,0,0,0,0,0,0,0,0]
[{"$f":"ROW(Source!A225)","v":225},85320625,85320602,77378830,1,1,1,3,"01.7.11.07-0227","ФСБЦ-2022, 01.7.11.07-0227, приказ Минстроя России от 18.05.2022 г. № 378/пр","Электроды сварочные для сварки низколегированных и углеродистых сталей УОНИ 13/45, Э42А, диаметр 4-5 мм",1346,null,1009,"кг","кг",1,null,null,null,null,null,null,4,155.63,0,0,0,0,1,0,"",4,2,85320612,513,0,0,0,0,0,0,0,0]
[{"$f":"ROW(Source!A225)","v":225},85320626,85320602,77388702,1,1,1,3,"10.1.02.04-0001","ФСБЦ-2022 доп.9, 10.1.02.04-0001, приказ Минстроя России от 16.02.2024 г. № 102/пр","Прутки круглого сечения из алюминиевых сплавов марок АД0, АД1, АД, АД31, АД33, АД35, АВ, диаметр 5,0 мм",1348,null,1009,"т","т",1000,null,null,null,null,null,null,2.5300000000000001E-3,590968.93000000005,0,0,0,0,1,0,"",2.5300000000000001E-3,2,85320613,514,0,0,0,0,0,0,0,0]
[{"$f":"ROW(Source!A225)","v":225},85320627,85320602,77397226,1,1,1,3,"14.4.02.04-0142","ФСБЦ-2022, 14.4.02.04-0142, приказ Минстроя России от 18.05.2022 г. № 378/пр","Краска масляная МА-0115, мумия, сурик железный",1346,null,1009,"кг","кг",1,null,null,null,null,null,null,14.9,79.88,0,0,0,0,1,0,"",14.9,2,85320614,515,0,0,0,0,0,0,0,0]
[{"$f":"ROW(Source!A225)","v":225},85320628,85320602,77312233,114,1,1,3,"421/пр_2020_п.75_пп.а","","Сметная стоимость вспомогательных ненормируемых материальных ресурсов, не учтенная в сметной норме, 2%",3277935,null,1013,"%","%",1,null,null,null,null,null,null,2,0,0,0,0,0,0,0,"",2,2,85320615,516,0,0,0,0,0,0,0,0]
[{"$f":"ROW(Source!A229)","v":229},85320647,85320631,77306382,114,1,1,1,"1-100-43","","Средний разряд работы 4,3",1191,null,1013,"чел.-ч.","чел.-ч.",1,null,null,null,null,null,null,7.42,0,0,0,0,0,1,1,"",7.42,2,85320632,517,0,0,0,0,0,0,0,0]
[{"$f":"ROW(Source!A229)","v":229},85320648,85320631,77306545,114,1,1,1,"4-100-00","","Затраты труда машинистов",1191,null,1013,"чел.-ч.","чел.-ч.",1,null,null,null,null,null,null,1.02,0,0,0,0,0,1,2,"",1.02,2,85320633,518,0,0,0,0,0,0,0,0]
[{"$f":"ROW(Source!A229)","v":229},85320649,85320631,77430988,1,1,1,2,"91.05.05-015","ФСЭМ-2022, 91.05.05-015, приказ Минстроя России от 18.05.2022 г. № 378/пр","Краны на автомобильном ходу, грузоподъемность 16 т",1368,null,1011,"маш.-ч","маш.-ч",1,null,null,null,null,null,null,0.61,0,1626.29,1090.46,0,0,1,0,"",0.61,2,85320634,519,0,0,0,0,0,0,0,0]
[{"$f":"ROW(Source!A229)","v":229},85320650,85320631,77431879,1,1,1,2,"91.14.02-001","ФСЭМ-2022 доп.7, 91.14.02-001, приказ Минстроя России от 02.08.2023 г. № 551/пр","Автомобили бортовые, грузоподъемность до 5 т",1368,null,1011,"маш.-ч","маш.-ч",1,null,null,null,null,null,null,0.41,0,641.70000000000005,811.79,0,0,1,0,"",0.41,2,85320635,520,0,0,0,0,0,0,0,0]
[{"$f":"ROW(Source!A229)","v":229},85320651,85320631,77375900,1,1,1,3,"01.3.01.06-0038","ФСБЦ-2022, 01.3.01.06-0038, приказ Минстроя России от 18.05.2022 г. № 378/пр","Смазка защитная электросетевая",1346,null,1009,"кг","кг",1,null,null,null,null,null,null,0.01,238.29,0,0,0,0,1,0,"",0.01,2,85320636,521,0,0,0,0,0,0,0,0]
[{"$f":"ROW(Source!A229)","v":229},85320652,85320631,77375907,1,1,1,3,"01.3.01.06-0051","ФСБЦ-2022 доп.12, 01.3.01.06-0051, приказ Минстроя России от 07.11.2024 г. № 747/пр","Смазка солидол жировой Ж",1346,null,1009,"кг","кг",1,null,null,null,null,null,null,0.03,58.53,0,0,0,0,1,0,"",0.03,2,85320637,522,0,0,0,0,0,0,0,0]
[{"$f":"ROW(Source!A229)","v":229},85320653,85320631,77379558,1,1,1,3,"01.7.15.03-0042","ФСБЦ-2022, 01.7.15.03-0042, приказ Минстроя России от 18.05.2022 г. № 378/пр","Болты с гайками и шайбами строительные",1346,null,1009,"кг","кг",1,null,null,null,null,null,null,0,174.93,0,0,0,1,0,0,"",0,2,85320638,523,0,0,0,0,0,0,0,0]
[{"$f":"ROW(Source!A229)","v":229},85320654,85320631,77380691,1,1,1,3,"01.7.20.08-0051","ФСБЦ-2022 доп.8, 01.7.20.08-0051, приказ Минстроя России от 14.11.2023 г. № 817/пр","Ветошь хлопчатобумажная цветная",1346,null,1009,"кг","кг",1,null,null,null,null,null,null,0.02,56.11,0,0,0,0,1,0,"",0.02,2,85320639,524,0,0,0,0,0,0,0,0]
[{"$f":"ROW(Source!A229)","v":229},85320655,85320631,77308705,114,1,1,3,"07.2.07.13","","Хомуты стальные",1346,null,1009,"кг","кг",1,null,null,null,null,null,null,0,0,0,0,0,1,0,0,"",0,2,85320640,525,0,0,0,0,0,0,0,0]
[{"$f":"ROW(Source!A229)","v":229},85320656,85320631,77309038,114,1,1,3,"08.3.04.02","","Сталь стержневая диаметром до 10 мм",1348,null,1009,"т","т",1000,null,null,null,null,null,null,0,0,0,0,0,1,0,0,"",0,2,85320641,526,0,0,0,0,0,0,0,0]
[{"$f":"ROW(Source!A229)","v":229},85320657,85320631,77397258,1,1,1,3,"14.4.03.03-0102","ФСБЦ-2022 доп.4, 14.4.03.03-0102, приказ Минстроя России от 27.12.2022 г. № 1133/пр","Лак битумный БТ-577",1348,null,1009,"т","т",1000,null,null,null,null,null,null,1E-4,80020.98,0,0,0,0,1,0,"",1E-4,2,85320642,527,0,0,0,0,0,0,0,0]
[{"$f":"ROW(Source!A229)","v":229},85320658,85320631,77397652,1,1,1,3,"14.5.09.11-0102","ФСБЦ-2022, 14.5.09.11-0102, приказ Минстроя России от 18.05.2022 г. № 378/пр","Уайт-спирит",1346,null,1009,"кг","кг",1,null,null,null,null,null,null,0.12,60.6,0,0,0,0,1,0,"",0.12,2,85320643,528,0,0,0,0,0,0,0,0]
[{"$f":"ROW(Source!A229)","v":229},85320659,85320631,77311290,114,1,1,3,"21.2.01.02","","Провода неизолированные для воздушных линий электропередач",1348,null,1009,"т","т",1000,null,null,null,null,null,null,0,0,0,0,0,1,0,0,"",0,2,85320644,529,0,0,0,0,0,0,0,0]
[{"$f":"ROW(Source!A229)","v":229},85320660,85320631,77311321,114,1,1,3,"22.2.01.04","","Изоляторы линейные штыревые фарфоровые",1371,null,1013,"ШТ","ШТ",1,null,null,null,null,null,null,0,0,0,0,0,1,0,0,"",0,2,85320645,530,0,0,0,0,0,0,0,0]
[{"$f":"ROW(Source!A229)","v":229},85320661,85320631,77311330,114,1,1,3,"22.2.02.03","","Детали крепления стальные",1346,null,1009,"кг","кг",1,null,null,null,null,null,null,0,0,0,0,0,1,0,0,"",0,2,85320646,531,0,0,0,0,0,0,0,0]
[{"$f":"ROW(Source!A230)","v":230},85320647,85320631,77306382,114,1,1,1,"1-100-43","","Средний разряд работы 4,3",1191,null,1013,"чел.-ч.","чел.-ч.",1,null,null,null,null,null,null,7.42,0,0,0,0,0,1,1,"",7.42,2,85320632,532,0,0,0,0,0,0,0,0]
[{"$f":"ROW(Source!A230)","v":230},85320648,85320631,77306545,114,1,1,1,"4-100-00","","Затраты труда машинистов",1191,null,1013,"чел.-ч.","чел.-ч.",1,null,null,null,null,null,null,1.02,0,0,0,0,0,1,2,"",1.02,2,85320633,533,0,0,0,0,0,0,0,0]
[{"$f":"ROW(Source!A230)","v":230},85320649,85320631,77430988,1,1,1,2,"91.05.05-015","ФСЭМ-2022, 91.05.05-015, приказ Минстроя России от 18.05.2022 г. № 378/пр","Краны на автомобильном ходу, грузоподъемность 16 т",1368,null,1011,"маш.-ч","маш.-ч",1,null,null,null,null,null,null,0.61,0,1626.29,1090.46,0,0,1,0,"",0.61,2,85320634,534,0,0,0,0,0,0,0,0]
[{"$f":"ROW(Source!A230)","v":230},85320650,85320631,77431879,1,1,1,2,"91.14.02-001","ФСЭМ-2022 доп.7, 91.14.02-001, приказ Минстроя России от 02.08.2023 г. № 551/пр","Автомобили бортовые, грузоподъемность до 5 т",1368,null,1011,"маш.-ч","маш.-ч",1,null,null,null,null,null,null,0.41,0,641.70000000000005,811.79,0,0,1,0,"",0.41,2,85320635,535,0,0,0,0,0,0,0,0]
[{"$f":"ROW(Source!A230)","v":230},85320651,85320631,77375900,1,1,1,3,"01.3.01.06-0038","ФСБЦ-2022, 01.3.01.06-0038, приказ Минстроя России от 18.05.2022 г. № 378/пр","Смазка защитная электросетевая",1346,null,1009,"кг","кг",1,null,null,null,null,null,null,0.01,238.29,0,0,0,0,1,0,"",0.01,2,85320636,536,0,0,0,0,0,0,0,0]
[{"$f":"ROW(Source!A230)","v":230},85320652,85320631,77375907,1,1,1,3,"01.3.01.06-0051","ФСБЦ-2022 доп.12, 01.3.01.06-0051, приказ Минстроя России от 07.11.2024 г. № 747/пр","Смазка солидол жировой Ж",1346,null,1009,"кг","кг",1,null,null,null,null,null,null,0.03,58.53,0,0,0,0,1,0,"",0.03,2,85320637,537,0,0,0,0,0,0,0,0]
[{"$f":"ROW(Source!A230)","v":230},85320653,85320631,77379558,1,1,1,3,"01.7.15.03-0042","ФСБЦ-2022, 01.7.15.03-0042, приказ Минстроя России от 18.05.2022 г. № 378/пр","Болты с гайками и шайбами строительные",1346,null,1009,"кг","кг",1,null,null,null,null,null,null,0,174.93,0,0,0,1,0,0,"",0,2,85320638,538,0,0,0,0,0,0,0,0]
[{"$f":"ROW(Source!A230)","v":230},85320654,85320631,77380691,1,1,1,3,"01.7.20.08-0051","ФСБЦ-2022 доп.8, 01.7.20.08-0051, приказ Минстроя России от 14.11.2023 г. № 817/пр","Ветошь хлопчатобумажная цветная",1346,null,1009,"кг","кг",1,null,null,null,null,null,null,0.02,56.11,0,0,0,0,1,0,"",0.02,2,85320639,539,0,0,0,0,0,0,0,0]
[{"$f":"ROW(Source!A230)","v":230},85320655,85320631,77308705,114,1,1,3,"07.2.07.13","","Хомуты стальные",1346,null,1009,"кг","кг",1,null,null,null,null,null,null,0,0,0,0,0,1,0,0,"",0,2,85320640,540,0,0,0,0,0,0,0,0]
[{"$f":"ROW(Source!A230)","v":230},85320656,85320631,77309038,114,1,1,3,"08.3.04.02","","Сталь стержневая диаметром до 10 мм",1348,null,1009,"т","т",1000,null,null,null,null,null,null,0,0,0,0,0,1,0,0,"",0,2,85320641,541,0,0,0,0,0,0,0,0]
[{"$f":"ROW(Source!A230)","v":230},85320657,85320631,77397258,1,1,1,3,"14.4.03.03-0102","ФСБЦ-2022 доп.4, 14.4.03.03-0102, приказ Минстроя России от 27.12.2022 г. № 1133/пр","Лак битумный БТ-577",1348,null,1009,"т","т",1000,null,null,null,null,null,null,1E-4,80020.98,0,0,0,0,1,0,"",1E-4,2,85320642,542,0,0,0,0,0,0,0,0]
[{"$f":"ROW(Source!A230)","v":230},85320658,85320631,77397652,1,1,1,3,"14.5.09.11-0102","ФСБЦ-2022, 14.5.09.11-0102, приказ Минстроя России от 18.05.2022 г. № 378/пр","Уайт-спирит",1346,null,1009,"кг","кг",1,null,null,null,null,null,null,0.12,60.6,0,0,0,0,1,0,"",0.12,2,85320643,543,0,0,0,0,0,0,0,0]
[{"$f":"ROW(Source!A230)","v":230},85320659,85320631,77311290,114,1,1,3,"21.2.01.02","","Провода неизолированные для воздушных линий электропередач",1348,null,1009,"т","т",1000,null,null,null,null,null,null,0,0,0,0,0,1,0,0,"",0,2,85320644,544,0,0,0,0,0,0,0,0]
[{"$f":"ROW(Source!A230)","v":230},85320660,85320631,77311321,114,1,1,3,"22.2.01.04","","Изоляторы линейные штыревые фарфоровые",1371,null,1013,"ШТ","ШТ",1,null,null,null,null,null,null,0,0,0,0,0,1,0,0,"",0,2,85320645,545,0,0,0,0,0,0,0,0]
[{"$f":"ROW(Source!A230)","v":230},85320661,85320631,77311330,114,1,1,3,"22.2.02.03","","Детали крепления стальные",1346,null,1009,"кг","кг",1,null,null,null,null,null,null,0,0,0,0,0,1,0,0,"",0,2,85320646,546,0,0,0,0,0,0,0,0]
[{"$f":"ROW(Source!A244)","v":244},85320680,85320669,83777499,117,1,1,1,"1-100-32","","Средний разряд работы 3,2",1191,null,1013,"чел.-ч.","чел.-ч.",1,null,null,null,null,null,null,19.2,0,0,0,739.09,0,1,1,"",19.2,2,85320670,547,0,0,0,0,0,0,0,0]
[{"$f":"ROW(Source!A244)","v":244},85320681,85320669,83777689,117,1,1,1,"4-100-00","","Затраты труда машинистов",1191,null,1013,"чел.-ч.","чел.-ч.",1,null,null,null,null,null,null,0.06,0,0,0,0,0,1,2,"",0.06,2,85320671,548,0,0,0,0,0,0,0,0]
[{"$f":"ROW(Source!A244)","v":244},85320682,85320669,83784365,1,1,1,2,"91.06.06-048","ФСЭМ-2022, 91.06.06-048, приказ Минстроя России от 18.05.2022 г. № 378/пр","Подъемники одномачтовые, грузоподъемность до 500 кг, высота подъема 45 м",1368,null,1011,"маш.-ч","маш.-ч",1,null,null,null,null,null,null,0.01,0,37.32,720.91,0,0,1,0,"",0.01,2,85320672,549,0,0,0,0,0,0,0,0]
[{"$f":"ROW(Source!A244)","v":244},85320683,85320669,83785072,1,1,1,2,"91.14.02-001","ФСЭМ-2022 доп.7, 91.14.02-001, приказ Минстроя России от 02.08.2023 г. № 551/пр","Автомобили бортовые, грузоподъемность до 5 т",1368,null,1011,"маш.-ч","маш.-ч",1,null,null,null,null,null,null,0.05,0,641.70000000000005,811.79,0,0,1,0,"",0.05,2,85320673,550,0,0,0,0,0,0,0,0]
[{"$f":"ROW(Source!A244)","v":244},85320684,85320669,83852432,1,1,1,3,"01.7.10.17-0141","ФСБЦ-2022, 01.7.10.17-0141, приказ Минстроя России от 18.05.2022 г. № 378/пр","Пемза",1346,null,1009,"кг","кг",1,null,null,null,null,null,null,0.24,2507.62,0,0,0,0,1,0,"",0.24,2,85320674,551,0,0,0,0,0,0,0,0]
[{"$f":"ROW(Source!A244)","v":244},85320685,85320669,83854120,1,1,1,3,"01.7.17.11-0011","ФСБЦ-2022, 01.7.17.11-0011, приказ Минстроя России от 18.05.2022 г. № 378/пр","Шкурка шлифовальная двухслойная с зернистостью 40-25",1327,null,1005,"м2","м2",1,null,null,null,null,null,null,0.8,531.44000000000005,0,0,0,0,1,0,"",0.8,2,85320675,552,0,0,0,0,0,0,0,0]
[{"$f":"ROW(Source!A244)","v":244},85320686,85320669,83854484,1,1,1,3,"01.7.20.08-0051","ФСБЦ-2022 доп.8, 01.7.20.08-0051, приказ Минстроя России от 14.11.2023 г. № 817/пр","Ветошь хлопчатобумажная цветная",1346,null,1009,"кг","кг",1,null,null,null,null,null,null,0.21,56.11,0,0,0,0,1,0,"",0.21,2,85320676,553,0,0,0,0,0,0,0,0]
[{"$f":"ROW(Source!A244)","v":244},85320687,85320669,83781429,117,1,1,3,"14.4.02.04","","Краски для внутренних работ масляные готовые к применению",1346,null,1009,"кг","кг",1,null,null,null,null,null,null,26.7,0,0,0,0,0,0,0,"",26.7,2,85320677,554,0,0,0,0,0,0,0,0]
[{"$f":"ROW(Source!A244)","v":244},85320688,85320669,83781533,117,1,1,3,"14.5.05.01","","Олифы комбинированные",1348,null,1009,"т","т",1000,null,null,null,null,null,null,1.03E-2,0,0,0,0,0,0,0,"",1.03E-2,2,85320678,555,0,0,0,0,0,0,0,0]
[{"$f":"ROW(Source!A244)","v":244},85320689,85320669,83870953,1,1,1,3,"14.5.11.01-0003","ФСБЦ-2022, 14.5.11.01-0003, приказ Минстроя России от 18.05.2022 г. № 378/пр","Шпатлевка масляно-клеевая",1348,null,1009,"т","т",1000,null,null,null,null,null,null,5.0000000000000001E-3,24995.33,0,0,0,0,1,0,"",5.0000000000000001E-3,2,85320679,556,0,0,0,0,0,0,0,0]
[{"$f":"ROW(Source!A245)","v":245},85320680,85320669,83777499,117,1,1,1,"1-100-32","","Средний разряд работы 3,2",1191,null,1013,"чел.-ч.","чел.-ч.",1,null,null,null,null,null,null,19.2,0,0,0,739.09,0,1,1,"",19.2,2,85320670,557,0,0,0,0,0,0,0,0]
[{"$f":"ROW(Source!A245)","v":245},85320681,85320669,83777689,117,1,1,1,"4-100-00","","Затраты труда машинистов",1191,null,1013,"чел.-ч.","чел.-ч.",1,null,null,null,null,null,null,0.06,0,0,0,0,0,1,2,"",0.06,2,85320671,558,0,0,0,0,0,0,0,0]
[{"$f":"ROW(Source!A245)","v":245},85320682,85320669,83784365,1,1,1,2,"91.06.06-048","ФСЭМ-2022, 91.06.06-048, приказ Минстроя России от 18.05.2022 г. № 378/пр","Подъемники одномачтовые, грузоподъемность до 500 кг, высота подъема 45 м",1368,null,1011,"маш.-ч","маш.-ч",1,null,null,null,null,null,null,0.01,0,37.32,720.91,0,0,1,0,"",0.01,2,85320672,559,0,0,0,0,0,0,0,0]
[{"$f":"ROW(Source!A245)","v":245},85320683,85320669,83785072,1,1,1,2,"91.14.02-001","ФСЭМ-2022 доп.7, 91.14.02-001, приказ Минстроя России от 02.08.2023 г. № 551/пр","Автомобили бортовые, грузоподъемность до 5 т",1368,null,1011,"маш.-ч","маш.-ч",1,null,null,null,null,null,null,0.05,0,641.70000000000005,811.79,0,0,1,0,"",0.05,2,85320673,560,0,0,0,0,0,0,0,0]
[{"$f":"ROW(Source!A245)","v":245},85320684,85320669,83852432,1,1,1,3,"01.7.10.17-0141","ФСБЦ-2022, 01.7.10.17-0141, приказ Минстроя России от 18.05.2022 г. № 378/пр","Пемза",1346,null,1009,"кг","кг",1,null,null,null,null,null,null,0.24,2507.62,0,0,0,0,1,0,"",0.24,2,85320674,561,0,0,0,0,0,0,0,0]
[{"$f":"ROW(Source!A245)","v":245},85320685,85320669,83854120,1,1,1,3,"01.7.17.11-0011","ФСБЦ-2022, 01.7.17.11-0011, приказ Минстроя России от 18.05.2022 г. № 378/пр","Шкурка шлифовальная двухслойная с зернистостью 40-25",1327,null,1005,"м2","м2",1,null,null,null,null,null,null,0.8,531.44000000000005,0,0,0,0,1,0,"",0.8,2,85320675,562,0,0,0,0,0,0,0,0]
[{"$f":"ROW(Source!A245)","v":245},85320686,85320669,83854484,1,1,1,3,"01.7.20.08-0051","ФСБЦ-2022 доп.8, 01.7.20.08-0051, приказ Минстроя России от 14.11.2023 г. № 817/пр","Ветошь хлопчатобумажная цветная",1346,null,1009,"кг","кг",1,null,null,null,null,null,null,0.21,56.11,0,0,0,0,1,0,"",0.21,2,85320676,563,0,0,0,0,0,0,0,0]
[{"$f":"ROW(Source!A245)","v":245},85320687,85320669,83781429,117,1,1,3,"14.4.02.04","","Краски для внутренних работ масляные готовые к применению",1346,null,1009,"кг","кг",1,null,null,null,null,null,null,26.7,0,0,0,0,0,0,0,"",26.7,2,85320677,564,0,0,0,0,0,0,0,0]
[{"$f":"ROW(Source!A245)","v":245},85320688,85320669,83781533,117,1,1,3,"14.5.05.01","","Олифы комбинированные",1348,null,1009,"т","т",1000,null,null,null,null,null,null,1.03E-2,0,0,0,0,0,0,0,"",1.03E-2,2,85320678,565,0,0,0,0,0,0,0,0]
[{"$f":"ROW(Source!A245)","v":245},85320689,85320669,83870953,1,1,1,3,"14.5.11.01-0003","ФСБЦ-2022, 14.5.11.01-0003, приказ Минстроя России от 18.05.2022 г. № 378/пр","Шпатлевка масляно-клеевая",1348,null,1009,"т","т",1000,null,null,null,null,null,null,5.0000000000000001E-3,24995.33,0,0,0,0,1,0,"",5.0000000000000001E-3,2,85320679,566,0,0,0,0,0,0,0,0]
[{"$f":"ROW(Source!A286)","v":286},85320695,85320693,83777455,117,1,1,1,"1-100-20","","Средний разряд работы 2,0",1191,null,1013,"чел.-ч.","чел.-ч.",1,null,null,null,null,null,null,154,0,0,0,660.33,0,1,1,"",154,2,85320694,567,0,0,0,0,0,0,0,0]
[{"$f":"ROW(Source!A287)","v":287},85320695,85320693,83777455,117,1,1,1,"1-100-20","","Средний разряд работы 2,0",1191,null,1013,"чел.-ч.","чел.-ч.",1,null,null,null,null,null,null,154,0,0,0,660.33,0,1,1,"",154,2,85320694,568,0,0,0,0,0,0,0,0]
[{"$f":"ROW(Source!A288)","v":288},85320698,85320696,83777445,117,1,1,1,"1-100-15","","Средний разряд работы 1,5",1191,null,1013,"чел.-ч.","чел.-ч.",1,null,null,null,null,null,null,88.5,0,0,0,633.07000000000005,0,1,1,"",88.5,2,85320697,569,0,0,0,0,0,0,0,0]
[{"$f":"ROW(Source!A289)","v":289},85320698,85320696,83777445,117,1,1,1,"1-100-15","","Средний разряд работы 1,5",1191,null,1013,"чел.-ч.","чел.-ч.",1,null,null,null,null,null,null,88.5,0,0,0,633.07000000000005,0,1,1,"",88.5,2,85320697,570,0,0,0,0,0,0,0,0]
[{"$f":"ROW(Source!A290)","v":290},85320708,85320699,83777513,117,1,1,1,"1-100-38","","Средний разряд работы 3,8",1191,null,1013,"чел.-ч.","чел.-ч.",1,null,null,null,null,null,null,9.27,0,0,0,793.61,0,1,1,"",9.27,2,85320700,571,0,0,0,0,0,0,0,0]
[{"$f":"ROW(Source!A290)","v":290},85320709,85320699,83777689,117,1,1,1,"4-100-00","","Затраты труда машинистов",1191,null,1013,"чел.-ч.","чел.-ч.",1,null,null,null,null,null,null,0.34,0,0,0,0,0,1,2,"",0.34,2,85320701,572,0,0,0,0,0,0,0,0]
[{"$f":"ROW(Source!A290)","v":290},85320710,85320699,83784178,1,1,1,2,"91.05.05-015","ФСЭМ-2022, 91.05.05-015, приказ Минстроя России от 18.05.2022 г. № 378/пр","Краны на автомобильном ходу, грузоподъемность 16 т",1368,null,1011,"маш.-ч","маш.-ч",1,null,null,null,null,null,null,0.17,0,1626.29,1090.46,0,0,1,0,"",0.17,2,85320702,573,0,0,0,0,0,0,0,0]
[{"$f":"ROW(Source!A290)","v":290},85320711,85320699,83785072,1,1,1,2,"91.14.02-001","ФСЭМ-2022 доп.7, 91.14.02-001, приказ Минстроя России от 02.08.2023 г. № 551/пр","Автомобили бортовые, грузоподъемность до 5 т",1368,null,1011,"маш.-ч","маш.-ч",1,null,null,null,null,null,null,0.17,0,641.70000000000005,811.79,0,0,1,0,"",0.17,2,85320703,574,0,0,0,0,0,0,0,0]
[{"$f":"ROW(Source!A290)","v":290},85320712,85320699,83785268,1,1,1,2,"91.17.04-233","ФСЭМ-2022, 91.17.04-233, приказ Минстроя России от 18.05.2022 г. № 378/пр","Аппараты сварочные для ручной дуговой сварки, сварочный ток до 350 А",1368,null,1011,"маш.-ч","маш.-ч",1,null,null,null,null,null,null,1.51,0,34.61,0,0,0,1,0,"",1.51,2,85320704,575,0,0,0,0,0,0,0,0]
[{"$f":"ROW(Source!A290)","v":290},85320713,85320699,83852582,1,1,1,3,"01.7.11.07-0227","ФСБЦ-2022, 01.7.11.07-0227, приказ Минстроя России от 18.05.2022 г. № 378/пр","Электроды сварочные для сварки низколегированных и углеродистых сталей УОНИ 13/45, Э42А, диаметр 4-5 мм",1346,null,1009,"кг","кг",1,null,null,null,null,null,null,0.65,155.63,0,0,0,0,1,0,"",0.65,2,85320705,576,0,0,0,0,0,0,0,0]
[{"$f":"ROW(Source!A290)","v":290},85320714,85320699,83870453,1,1,1,3,"14.4.01.09-0427","ФСБЦ-2022 доп.8, 14.4.01.09-0427, приказ Минстроя России от 14.11.2023 г. № 817/пр","Грунтовка эпоксидная антикоррозионная с содержанием цинка для защиты металлических поверхностей, расход 0,20-0,39 кг/м2",1346,null,1009,"кг","кг",1,null,null,null,null,null,null,2,911.56,0,0,0,0,1,0,"",2,2,85320706,577,0,0,0,0,0,0,0,0]
[{"$f":"ROW(Source!A290)","v":290},85320715,85320699,83783523,117,1,1,3,"421/пр_2020_п.75_пп.а","","Сметная стоимость вспомогательных ненормируемых материальных ресурсов, не учтенная в сметной норме, 2%",3277935,null,1013,"%","%",1,null,null,null,null,null,null,2,0,0,0,0,0,0,0,"",2,2,85320707,578,0,0,0,0,0,0,0,0]
[{"$f":"ROW(Source!A291)","v":291},85320708,85320699,83777513,117,1,1,1,"1-100-38","","Средний разряд работы 3,8",1191,null,1013,"чел.-ч.","чел.-ч.",1,null,null,null,null,null,null,9.27,0,0,0,793.61,0,1,1,"",9.27,2,85320700,579,0,0,0,0,0,0,0,0]
[{"$f":"ROW(Source!A291)","v":291},85320709,85320699,83777689,117,1,1,1,"4-100-00","","Затраты труда машинистов",1191,null,1013,"чел.-ч.","чел.-ч.",1,null,null,null,null,null,null,0.34,0,0,0,0,0,1,2,"",0.34,2,85320701,580,0,0,0,0,0,0,0,0]
[{"$f":"ROW(Source!A291)","v":291},85320710,85320699,83784178,1,1,1,2,"91.05.05-015","ФСЭМ-2022, 91.05.05-015, приказ Минстроя России от 18.05.2022 г. № 378/пр","Краны на автомобильном ходу, грузоподъемность 16 т",1368,null,1011,"маш.-ч","маш.-ч",1,null,null,null,null,null,null,0.17,0,1626.29,1090.46,0,0,1,0,"",0.17,2,85320702,581,0,0,0,0,0,0,0,0]
[{"$f":"ROW(Source!A291)","v":291},85320711,85320699,83785072,1,1,1,2,"91.14.02-001","ФСЭМ-2022 доп.7, 91.14.02-001, приказ Минстроя России от 02.08.2023 г. № 551/пр","Автомобили бортовые, грузоподъемность до 5 т",1368,null,1011,"маш.-ч","маш.-ч",1,null,null,null,null,null,null,0.17,0,641.70000000000005,811.79,0,0,1,0,"",0.17,2,85320703,582,0,0,0,0,0,0,0,0]
[{"$f":"ROW(Source!A291)","v":291},85320712,85320699,83785268,1,1,1,2,"91.17.04-233","ФСЭМ-2022, 91.17.04-233, приказ Минстроя России от 18.05.2022 г. № 378/пр","Аппараты сварочные для ручной дуговой сварки, сварочный ток до 350 А",1368,null,1011,"маш.-ч","маш.-ч",1,null,null,null,null,null,null,1.51,0,34.61,0,0,0,1,0,"",1.51,2,85320704,583,0,0,0,0,0,0,0,0]
[{"$f":"ROW(Source!A291)","v":291},85320713,85320699,83852582,1,1,1,3,"01.7.11.07-0227","ФСБЦ-2022, 01.7.11.07-0227, приказ Минстроя России от 18.05.2022 г. № 378/пр","Электроды сварочные для сварки низколегированных и углеродистых сталей УОНИ 13/45, Э42А, диаметр 4-5 мм",1346,null,1009,"кг","кг",1,null,null,null,null,null,null,0.65,155.63,0,0,0,0,1,0,"",0.65,2,85320705,584,0,0,0,0,0,0,0,0]
[{"$f":"ROW(Source!A291)","v":291},85320714,85320699,83870453,1,1,1,3,"14.4.01.09-0427","ФСБЦ-2022 доп.8, 14.4.01.09-0427, приказ Минстроя России от 14.11.2023 г. № 817/пр","Грунтовка эпоксидная антикоррозионная с содержанием цинка для защиты металлических поверхностей, расход 0,20-0,39 кг/м2",1346,null,1009,"кг","кг",1,null,null,null,null,null,null,2,911.56,0,0,0,0,1,0,"",2,2,85320706,585,0,0,0,0,0,0,0,0]
[{"$f":"ROW(Source!A291)","v":291},85320715,85320699,83783523,117,1,1,3,"421/пр_2020_п.75_пп.а","","Сметная стоимость вспомогательных ненормируемых материальных ресурсов, не учтенная в сметной норме, 2%",3277935,null,1013,"%","%",1,null,null,null,null,null,null,2,0,0,0,0,0,0,0,"",2,2,85320707,586,0,0,0,0,0,0,0,0]
[{"$f":"ROW(Source!A297)","v":297},85320728,85320719,83777513,117,1,1,1,"1-100-38","","Средний разряд работы 3,8",1191,null,1013,"чел.-ч.","чел.-ч.",1,null,null,null,null,null,null,16.5,0,0,0,793.61,0,1,1,"",16.5,2,85320720,587,0,0,0,0,0,0,0,0]
[{"$f":"ROW(Source!A297)","v":297},85320729,85320719,83777689,117,1,1,1,"4-100-00","","Затраты труда машинистов",1191,null,1013,"чел.-ч.","чел.-ч.",1,null,null,null,null,null,null,0.26,0,0,0,0,0,1,2,"",0.26,2,85320721,588,0,0,0,0,0,0,0,0]
[{"$f":"ROW(Source!A297)","v":297},85320730,85320719,83784178,1,1,1,2,"91.05.05-015","ФСЭМ-2022, 91.05.05-015, приказ Минстроя России от 18.05.2022 г. № 378/пр","Краны на автомобильном ходу, грузоподъемность 16 т",1368,null,1011,"маш.-ч","маш.-ч",1,null,null,null,null,null,null,0.13,0,1626.29,1090.46,0,0,1,0,"",0.13,2,85320722,589,0,0,0,0,0,0,0,0]
[{"$f":"ROW(Source!A297)","v":297},85320731,85320719,83785072,1,1,1,2,"91.14.02-001","ФСЭМ-2022 доп.7, 91.14.02-001, приказ Минстроя России от 02.08.2023 г. № 551/пр","Автомобили бортовые, грузоподъемность до 5 т",1368,null,1011,"маш.-ч","маш.-ч",1,null,null,null,null,null,null,0.13,0,641.70000000000005,811.79,0,0,1,0,"",0.13,2,85320723,590,0,0,0,0,0,0,0,0]
[{"$f":"ROW(Source!A297)","v":297},85320732,85320719,83785268,1,1,1,2,"91.17.04-233","ФСЭМ-2022, 91.17.04-233, приказ Минстроя России от 18.05.2022 г. № 378/пр","Аппараты сварочные для ручной дуговой сварки, сварочный ток до 350 А",1368,null,1011,"маш.-ч","маш.-ч",1,null,null,null,null,null,null,2.7,0,34.61,0,0,0,1,0,"",2.7,2,85320724,591,0,0,0,0,0,0,0,0]
[{"$f":"ROW(Source!A297)","v":297},85320733,85320719,83852582,1,1,1,3,"01.7.11.07-0227","ФСБЦ-2022, 01.7.11.07-0227, приказ Минстроя России от 18.05.2022 г. № 378/пр","Электроды сварочные для сварки низколегированных и углеродистых сталей УОНИ 13/45, Э42А, диаметр 4-5 мм",1346,null,1009,"кг","кг",1,null,null,null,null,null,null,0.6,155.63,0,0,0,0,1,0,"",0.6,2,85320725,592,0,0,0,0,0,0,0,0]
[{"$f":"ROW(Source!A297)","v":297},85320734,85320719,83870453,1,1,1,3,"14.4.01.09-0427","ФСБЦ-2022 доп.8, 14.4.01.09-0427, приказ Минстроя России от 14.11.2023 г. № 817/пр","Грунтовка эпоксидная антикоррозионная с содержанием цинка для защиты металлических поверхностей, расход 0,20-0,39 кг/м2",1346,null,1009,"кг","кг",1,null,null,null,null,null,null,2,911.56,0,0,0,0,1,0,"",2,2,85320726,593,0,0,0,0,0,0,0,0]
[{"$f":"ROW(Source!A297)","v":297},85320735,85320719,83783523,117,1,1,3,"421/пр_2020_п.75_пп.а","","Сметная стоимость вспомогательных ненормируемых материальных ресурсов, не учтенная в сметной норме, 2%",3277935,null,1013,"%","%",1,null,null,null,null,null,null,2,0,0,0,0,0,0,0,"",2,2,85320727,594,0,0,0,0,0,0,0,0]
[{"$f":"ROW(Source!A298)","v":298},85320728,85320719,83777513,117,1,1,1,"1-100-38","","Средний разряд работы 3,8",1191,null,1013,"чел.-ч.","чел.-ч.",1,null,null,null,null,null,null,16.5,0,0,0,793.61,0,1,1,"",16.5,2,85320720,595,0,0,0,0,0,0,0,0]
[{"$f":"ROW(Source!A298)","v":298},85320729,85320719,83777689,117,1,1,1,"4-100-00","","Затраты труда машинистов",1191,null,1013,"чел.-ч.","чел.-ч.",1,null,null,null,null,null,null,0.26,0,0,0,0,0,1,2,"",0.26,2,85320721,596,0,0,0,0,0,0,0,0]
[{"$f":"ROW(Source!A298)","v":298},85320730,85320719,83784178,1,1,1,2,"91.05.05-015","ФСЭМ-2022, 91.05.05-015, приказ Минстроя России от 18.05.2022 г. № 378/пр","Краны на автомобильном ходу, грузоподъемность 16 т",1368,null,1011,"маш.-ч","маш.-ч",1,null,null,null,null,null,null,0.13,0,1626.29,1090.46,0,0,1,0,"",0.13,2,85320722,597,0,0,0,0,0,0,0,0]
[{"$f":"ROW(Source!A298)","v":298},85320731,85320719,83785072,1,1,1,2,"91.14.02-001","ФСЭМ-2022 доп.7, 91.14.02-001, приказ Минстроя России от 02.08.2023 г. № 551/пр","Автомобили бортовые, грузоподъемность до 5 т",1368,null,1011,"маш.-ч","маш.-ч",1,null,null,null,null,null,null,0.13,0,641.70000000000005,811.79,0,0,1,0,"",0.13,2,85320723,598,0,0,0,0,0,0,0,0]
[{"$f":"ROW(Source!A298)","v":298},85320732,85320719,83785268,1,1,1,2,"91.17.04-233","ФСЭМ-2022, 91.17.04-233, приказ Минстроя России от 18.05.2022 г. № 378/пр","Аппараты сварочные для ручной дуговой сварки, сварочный ток до 350 А",1368,null,1011,"маш.-ч","маш.-ч",1,null,null,null,null,null,null,2.7,0,34.61,0,0,0,1,0,"",2.7,2,85320724,599,0,0,0,0,0,0,0,0]
[{"$f":"ROW(Source!A298)","v":298},85320733,85320719,83852582,1,1,1,3,"01.7.11.07-0227","ФСБЦ-2022, 01.7.11.07-0227, приказ Минстроя России от 18.05.2022 г. № 378/пр","Электроды сварочные для сварки низколегированных и углеродистых сталей УОНИ 13/45, Э42А, диаметр 4-5 мм",1346,null,1009,"кг","кг",1,null,null,null,null,null,null,0.6,155.63,0,0,0,0,1,0,"",0.6,2,85320725,600,0,0,0,0,0,0,0,0]
[{"$f":"ROW(Source!A298)","v":298},85320734,85320719,83870453,1,1,1,3,"14.4.01.09-0427","ФСБЦ-2022 доп.8, 14.4.01.09-0427, приказ Минстроя России от 14.11.2023 г. № 817/пр","Грунтовка эпоксидная антикоррозионная с содержанием цинка для защиты металлических поверхностей, расход 0,20-0,39 кг/м2",1346,null,1009,"кг","кг",1,null,null,null,null,null,null,2,911.56,0,0,0,0,1,0,"",2,2,85320726,601,0,0,0,0,0,0,0,0]
[{"$f":"ROW(Source!A298)","v":298},85320735,85320719,83783523,117,1,1,3,"421/пр_2020_п.75_пп.а","","Сметная стоимость вспомогательных ненормируемых материальных ресурсов, не учтенная в сметной норме, 2%",3277935,null,1013,"%","%",1,null,null,null,null,null,null,2,0,0,0,0,0,0,0,"",2,2,85320727,602,0,0,0,0,0,0,0,0]
[{"$f":"ROW(Source!A302)","v":302},85320748,85320738,83777513,117,1,1,1,"1-100-38","","Средний разряд работы 3,8",1191,null,1013,"чел.-ч.","чел.-ч.",1,null,null,null,null,null,null,18.5,0,0,0,793.61,0,1,1,"",18.5,2,85320739,603,0,0,0,0,0,0,0,0]
[{"$f":"ROW(Source!A302)","v":302},85320749,85320738,83777689,117,1,1,1,"4-100-00","","Затраты труда машинистов",1191,null,1013,"чел.-ч.","чел.-ч.",1,null,null,null,null,null,null,0.34,0,0,0,0,0,1,2,"",0.34,2,85320740,604,0,0,0,0,0,0,0,0]
[{"$f":"ROW(Source!A302)","v":302},85320750,85320738,83784178,1,1,1,2,"91.05.05-015","ФСЭМ-2022, 91.05.05-015, приказ Минстроя России от 18.05.2022 г. № 378/пр","Краны на автомобильном ходу, грузоподъемность 16 т",1368,null,1011,"маш.-ч","маш.-ч",1,null,null,null,null,null,null,0.17,0,1626.29,1090.46,0,0,1,0,"",0.17,2,85320741,605,0,0,0,0,0,0,0,0]
[{"$f":"ROW(Source!A302)","v":302},85320751,85320738,83785072,1,1,1,2,"91.14.02-001","ФСЭМ-2022 доп.7, 91.14.02-001, приказ Минстроя России от 02.08.2023 г. № 551/пр","Автомобили бортовые, грузоподъемность до 5 т",1368,null,1011,"маш.-ч","маш.-ч",1,null,null,null,null,null,null,0.17,0,641.70000000000005,811.79,0,0,1,0,"",0.17,2,85320742,606,0,0,0,0,0,0,0,0]
[{"$f":"ROW(Source!A302)","v":302},85320752,85320738,83785268,1,1,1,2,"91.17.04-233","ФСЭМ-2022, 91.17.04-233, приказ Минстроя России от 18.05.2022 г. № 378/пр","Аппараты сварочные для ручной дуговой сварки, сварочный ток до 350 А",1368,null,1011,"маш.-ч","маш.-ч",1,null,null,null,null,null,null,2.9,0,34.61,0,0,0,1,0,"",2.9,2,85320743,607,0,0,0,0,0,0,0,0]
[{"$f":"ROW(Source!A302)","v":302},85320753,85320738,83852582,1,1,1,3,"01.7.11.07-0227","ФСБЦ-2022, 01.7.11.07-0227, приказ Минстроя России от 18.05.2022 г. № 378/пр","Электроды сварочные для сварки низколегированных и углеродистых сталей УОНИ 13/45, Э42А, диаметр 4-5 мм",1346,null,1009,"кг","кг",1,null,null,null,null,null,null,0.9,155.63,0,0,0,0,1,0,"",0.9,2,85320744,608,0,0,0,0,0,0,0,0]
[{"$f":"ROW(Source!A302)","v":302},85320754,85320738,83860653,1,1,1,3,"08.3.05.02-0021","ФСБЦ-2022, 08.3.05.02-0021, приказ Минстроя России от 18.05.2022 г. № 378/пр","Прокат листовой горячекатаный, марки стали Ст3сп, Ст3пс, ширина 1200-3000 мм, толщина 1-8 мм",1348,null,1009,"т","т",1000,null,null,null,null,null,null,4.0000000000000001E-3,49995.77,0,0,0,0,1,0,"",4.0000000000000001E-3,2,85320745,609,0,0,0,0,0,0,0,0]
[{"$f":"ROW(Source!A302)","v":302},85320755,85320738,83870453,1,1,1,3,"14.4.01.09-0427","ФСБЦ-2022 доп.8, 14.4.01.09-0427, приказ Минстроя России от 14.11.2023 г. № 817/пр","Грунтовка эпоксидная антикоррозионная с содержанием цинка для защиты металлических поверхностей, расход 0,20-0,39 кг/м2",1346,null,1009,"кг","кг",1,null,null,null,null,null,null,2.4,911.56,0,0,0,0,1,0,"",2.4,2,85320746,610,0,0,0,0,0,0,0,0]
[{"$f":"ROW(Source!A302)","v":302},85320756,85320738,83783523,117,1,1,3,"421/пр_2020_п.75_пп.а","","Сметная стоимость вспомогательных ненормируемых материальных ресурсов, не учтенная в сметной норме, 2%",3277935,null,1013,"%","%",1,null,null,null,null,null,null,2,0,0,0,0,0,0,0,"",2,2,85320747,611,0,0,0,0,0,0,0,0]
[{"$f":"ROW(Source!A303)","v":303},85320748,85320738,83777513,117,1,1,1,"1-100-38","","Средний разряд работы 3,8",1191,null,1013,"чел.-ч.","чел.-ч.",1,null,null,null,null,null,null,18.5,0,0,0,793.61,0,1,1,"",18.5,2,85320739,612,0,0,0,0,0,0,0,0]
[{"$f":"ROW(Source!A303)","v":303},85320749,85320738,83777689,117,1,1,1,"4-100-00","","Затраты труда машинистов",1191,null,1013,"чел.-ч.","чел.-ч.",1,null,null,null,null,null,null,0.34,0,0,0,0,0,1,2,"",0.34,2,85320740,613,0,0,0,0,0,0,0,0]
[{"$f":"ROW(Source!A303)","v":303},85320750,85320738,83784178,1,1,1,2,"91.05.05-015","ФСЭМ-2022, 91.05.05-015, приказ Минстроя России от 18.05.2022 г. № 378/пр","Краны на автомобильном ходу, грузоподъемность 16 т",1368,null,1011,"маш.-ч","маш.-ч",1,null,null,null,null,null,null,0.17,0,1626.29,1090.46,0,0,1,0,"",0.17,2,85320741,614,0,0,0,0,0,0,0,0]
[{"$f":"ROW(Source!A303)","v":303},85320751,85320738,83785072,1,1,1,2,"91.14.02-001","ФСЭМ-2022 доп.7, 91.14.02-001, приказ Минстроя России от 02.08.2023 г. № 551/пр","Автомобили бортовые, грузоподъемность до 5 т",1368,null,1011,"маш.-ч","маш.-ч",1,null,null,null,null,null,null,0.17,0,641.70000000000005,811.79,0,0,1,0,"",0.17,2,85320742,615,0,0,0,0,0,0,0,0]
[{"$f":"ROW(Source!A303)","v":303},85320752,85320738,83785268,1,1,1,2,"91.17.04-233","ФСЭМ-2022, 91.17.04-233, приказ Минстроя России от 18.05.2022 г. № 378/пр","Аппараты сварочные для ручной дуговой сварки, сварочный ток до 350 А",1368,null,1011,"маш.-ч","маш.-ч",1,null,null,null,null,null,null,2.9,0,34.61,0,0,0,1,0,"",2.9,2,85320743,616,0,0,0,0,0,0,0,0]
[{"$f":"ROW(Source!A303)","v":303},85320753,85320738,83852582,1,1,1,3,"01.7.11.07-0227","ФСБЦ-2022, 01.7.11.07-0227, приказ Минстроя России от 18.05.2022 г. № 378/пр","Электроды сварочные для сварки низколегированных и углеродистых сталей УОНИ 13/45, Э42А, диаметр 4-5 мм",1346,null,1009,"кг","кг",1,null,null,null,null,null,null,0.9,155.63,0,0,0,0,1,0,"",0.9,2,85320744,617,0,0,0,0,0,0,0,0]
[{"$f":"ROW(Source!A303)","v":303},85320754,85320738,83860653,1,1,1,3,"08.3.05.02-0021","ФСБЦ-2022, 08.3.05.02-0021, приказ Минстроя России от 18.05.2022 г. № 378/пр","Прокат листовой горячекатаный, марки стали Ст3сп, Ст3пс, ширина 1200-3000 мм, толщина 1-8 мм",1348,null,1009,"т","т",1000,null,null,null,null,null,null,4.0000000000000001E-3,49995.77,0,0,0,0,1,0,"",4.0000000000000001E-3,2,85320745,618,0,0,0,0,0,0,0,0]
[{"$f":"ROW(Source!A303)","v":303},85320755,85320738,83870453,1,1,1,3,"14.4.01.09-0427","ФСБЦ-2022 доп.8, 14.4.01.09-0427, приказ Минстроя России от 14.11.2023 г. № 817/пр","Грунтовка эпоксидная антикоррозионная с содержанием цинка для защиты металлических поверхностей, расход 0,20-0,39 кг/м2",1346,null,1009,"кг","кг",1,null,null,null,null,null,null,2.4,911.56,0,0,0,0,1,0,"",2.4,2,85320746,619,0,0,0,0,0,0,0,0]
[{"$f":"ROW(Source!A303)","v":303},85320756,85320738,83783523,117,1,1,3,"421/пр_2020_п.75_пп.а","","Сметная стоимость вспомогательных ненормируемых материальных ресурсов, не учтенная в сметной норме, 2%",3277935,null,1013,"%","%",1,null,null,null,null,null,null,2,0,0,0,0,0,0,0,"",2,2,85320747,620,0,0,0,0,0,0,0,0]
[{"$f":"ROW(Source!A309)","v":309},85320770,85320760,83777519,117,1,1,1,"1-100-40","","Средний разряд работы 4,0",1191,null,1013,"чел.-ч.","чел.-ч.",1,null,null,null,null,null,null,41.2,0,0,0,811.79,0,1,1,"",41.2,2,85320761,621,0,0,0,0,0,0,0,0]
[{"$f":"ROW(Source!A309)","v":309},85320771,85320760,83777689,117,1,1,1,"4-100-00","","Затраты труда машинистов",1191,null,1013,"чел.-ч.","чел.-ч.",1,null,null,null,null,null,null,0.2,0,0,0,0,0,1,2,"",0.2,2,85320762,622,0,0,0,0,0,0,0,0]
[{"$f":"ROW(Source!A309)","v":309},85320772,85320760,83784178,1,1,1,2,"91.05.05-015","ФСЭМ-2022, 91.05.05-015, приказ Минстроя России от 18.05.2022 г. № 378/пр","Краны на автомобильном ходу, грузоподъемность 16 т",1368,null,1011,"маш.-ч","маш.-ч",1,null,null,null,null,null,null,0.1,0,1626.29,1090.46,0,0,1,0,"",0.1,2,85320763,623,0,0,0,0,0,0,0,0]
[{"$f":"ROW(Source!A309)","v":309},85320773,85320760,83785072,1,1,1,2,"91.14.02-001","ФСЭМ-2022 доп.7, 91.14.02-001, приказ Минстроя России от 02.08.2023 г. № 551/пр","Автомобили бортовые, грузоподъемность до 5 т",1368,null,1011,"маш.-ч","маш.-ч",1,null,null,null,null,null,null,0.1,0,641.70000000000005,811.79,0,0,1,0,"",0.1,2,85320764,624,0,0,0,0,0,0,0,0]
[{"$f":"ROW(Source!A309)","v":309},85320774,85320760,83785268,1,1,1,2,"91.17.04-233","ФСЭМ-2022, 91.17.04-233, приказ Минстроя России от 18.05.2022 г. № 378/пр","Аппараты сварочные для ручной дуговой сварки, сварочный ток до 350 А",1368,null,1011,"маш.-ч","маш.-ч",1,null,null,null,null,null,null,0.16,0,34.61,0,0,0,1,0,"",0.16,2,85320765,625,0,0,0,0,0,0,0,0]
[{"$f":"ROW(Source!A309)","v":309},85320775,85320760,83860728,1,1,1,3,"08.3.07.01-0052","ФСБЦ-2022 доп.4, 08.3.07.01-0052, приказ Минстроя России от 27.12.2022 г. № 1133/пр","Прокат стальной горячекатаный полосовой, марки стали Ст3сп, Ст3пс, размеры 50х5 мм",1348,null,1009,"т","т",1000,null,null,null,null,null,null,3.0000000000000001E-3,70310.45,0,0,0,0,1,0,"",3.0000000000000001E-3,2,85320766,626,0,0,0,0,0,0,0,0]
[{"$f":"ROW(Source!A309)","v":309},85320776,85320760,83870516,1,1,1,3,"14.4.02.04-0142","ФСБЦ-2022, 14.4.02.04-0142, приказ Минстроя России от 18.05.2022 г. № 378/пр","Краска масляная МА-0115, мумия, сурик железный",1346,null,1009,"кг","кг",1,null,null,null,null,null,null,0.8,79.88,0,0,0,0,1,0,"",0.8,2,85320767,627,0,0,0,0,0,0,0,0]
[{"$f":"ROW(Source!A309)","v":309},85320777,85320760,83881219,1,1,1,3,"20.5.04.03-0002","ФСБЦ-2022, 20.5.04.03-0002, приказ Минстроя России от 18.05.2022 г. № 378/пр","Зажимы наборные проходные ЗН24-4П25",1425,null,1013,"100 ШТ","100 ШТ",1,null,null,null,null,null,null,1.02,896.51,0,0,0,0,1,0,"",1.02,2,85320768,628,0,0,0,0,0,0,0,0]
[{"$f":"ROW(Source!A309)","v":309},85320778,85320760,83783523,117,1,1,3,"421/пр_2020_п.75_пп.а","","Сметная стоимость вспомогательных ненормируемых материальных ресурсов, не учтенная в сметной норме, 2%",3277935,null,1013,"%","%",1,null,null,null,null,null,null,2,0,0,0,0,0,0,0,"",2,2,85320769,629,0,0,0,0,0,0,0,0]
[{"$f":"ROW(Source!A310)","v":310},85320770,85320760,83777519,117,1,1,1,"1-100-40","","Средний разряд работы 4,0",1191,null,1013,"чел.-ч.","чел.-ч.",1,null,null,null,null,null,null,41.2,0,0,0,811.79,0,1,1,"",41.2,2,85320761,630,0,0,0,0,0,0,0,0]
[{"$f":"ROW(Source!A310)","v":310},85320771,85320760,83777689,117,1,1,1,"4-100-00","","Затраты труда машинистов",1191,null,1013,"чел.-ч.","чел.-ч.",1,null,null,null,null,null,null,0.2,0,0,0,0,0,1,2,"",0.2,2,85320762,631,0,0,0,0,0,0,0,0]
[{"$f":"ROW(Source!A310)","v":310},85320772,85320760,83784178,1,1,1,2,"91.05.05-015","ФСЭМ-2022, 91.05.05-015, приказ Минстроя России от 18.05.2022 г. № 378/пр","Краны на автомобильном ходу, грузоподъемность 16 т",1368,null,1011,"маш.-ч","маш.-ч",1,null,null,null,null,null,null,0.1,0,1626.29,1090.46,0,0,1,0,"",0.1,2,85320763,632,0,0,0,0,0,0,0,0]
[{"$f":"ROW(Source!A310)","v":310},85320773,85320760,83785072,1,1,1,2,"91.14.02-001","ФСЭМ-2022 доп.7, 91.14.02-001, приказ Минстроя России от 02.08.2023 г. № 551/пр","Автомобили бортовые, грузоподъемность до 5 т",1368,null,1011,"маш.-ч","маш.-ч",1,null,null,null,null,null,null,0.1,0,641.70000000000005,811.79,0,0,1,0,"",0.1,2,85320764,633,0,0,0,0,0,0,0,0]
[{"$f":"ROW(Source!A310)","v":310},85320774,85320760,83785268,1,1,1,2,"91.17.04-233","ФСЭМ-2022, 91.17.04-233, приказ Минстроя России от 18.05.2022 г. № 378/пр","Аппараты сварочные для ручной дуговой сварки, сварочный ток до 350 А",1368,null,1011,"маш.-ч","маш.-ч",1,null,null,null,null,null,null,0.16,0,34.61,0,0,0,1,0,"",0.16,2,85320765,634,0,0,0,0,0,0,0,0]
[{"$f":"ROW(Source!A310)","v":310},85320775,85320760,83860728,1,1,1,3,"08.3.07.01-0052","ФСБЦ-2022 доп.4, 08.3.07.01-0052, приказ Минстроя России от 27.12.2022 г. № 1133/пр","Прокат стальной горячекатаный полосовой, марки стали Ст3сп, Ст3пс, размеры 50х5 мм",1348,null,1009,"т","т",1000,null,null,null,null,null,null,3.0000000000000001E-3,70310.45,0,0,0,0,1,0,"",3.0000000000000001E-3,2,85320766,635,0,0,0,0,0,0,0,0]
[{"$f":"ROW(Source!A310)","v":310},85320776,85320760,83870516,1,1,1,3,"14.4.02.04-0142","ФСБЦ-2022, 14.4.02.04-0142, приказ Минстроя России от 18.05.2022 г. № 378/пр","Краска масляная МА-0115, мумия, сурик железный",1346,null,1009,"кг","кг",1,null,null,null,null,null,null,0.8,79.88,0,0,0,0,1,0,"",0.8,2,85320767,636,0,0,0,0,0,0,0,0]
[{"$f":"ROW(Source!A310)","v":310},85320777,85320760,83881219,1,1,1,3,"20.5.04.03-0002","ФСБЦ-2022, 20.5.04.03-0002, приказ Минстроя России от 18.05.2022 г. № 378/пр","Зажимы наборные проходные ЗН24-4П25",1425,null,1013,"100 ШТ","100 ШТ",1,null,null,null,null,null,null,1.02,896.51,0,0,0,0,1,0,"",1.02,2,85320768,637,0,0,0,0,0,0,0,0]
[{"$f":"ROW(Source!A310)","v":310},85320778,85320760,83783523,117,1,1,3,"421/пр_2020_п.75_пп.а","","Сметная стоимость вспомогательных ненормируемых материальных ресурсов, не учтенная в сметной норме, 2%",3277935,null,1013,"%","%",1,null,null,null,null,null,null,2,0,0,0,0,0,0,0,"",2,2,85320769,638,0,0,0,0,0,0,0,0]
[{"$f":"ROW(Source!A540)","v":540},85320827,85320824,83777659,117,1,1,1,"2-100-06","","Рабочий 6 разряда",1369,null,1013,"чел.-ч","чел.-ч",1,null,null,null,null,null,null,0.5,0,0,0,1090.46,0,1,1,"*(0,2+1)",0.6,2,85320825,639,0,0,0,0,0,0,0,0]
[{"$f":"ROW(Source!A540)","v":540},85320828,85320824,83777683,117,1,1,1,"3-200-03","","Инженер III категории",1369,null,1013,"чел.-ч","чел.-ч",1,null,null,null,null,null,null,0.5,0,0,0,1066.23,0,1,1,"*(0,2+1)",0.6,2,85320826,640,0,0,0,0,0,0,0,0]
[{"$f":"ROW(Source!A541)","v":541},85320827,85320824,83777659,117,1,1,1,"2-100-06","","Рабочий 6 разряда",1369,null,1013,"чел.-ч","чел.-ч",1,null,null,null,null,null,null,0.5,0,0,0,1090.46,0,1,1,"*(0,2+1)",0.6,2,85320825,641,0,0,0,0,0,0,0,0]
[{"$f":"ROW(Source!A541)","v":541},85320828,85320824,83777683,117,1,1,1,"3-200-03","","Инженер III категории",1369,null,1013,"чел.-ч","чел.-ч",1,null,null,null,null,null,null,0.5,0,0,0,1066.23,0,1,1,"*(0,2+1)",0.6,2,85320826,642,0,0,0,0,0,0,0,0]
[{"$f":"ROW(Source!A543)","v":543},85320833,85320830,83777659,117,1,1,1,"2-100-06","","Рабочий 6 разряда",1369,null,1013,"чел.-ч","чел.-ч",1,null,null,null,null,null,null,6.48,0,0,0,1090.46,0,1,1,"*(0,2+1)",7.7759999999999998,2,85320831,643,0,0,0,0,0,0,0,0]
[{"$f":"ROW(Source!A543)","v":543},85320834,85320830,83777683,117,1,1,1,"3-200-03","","Инженер III категории",1369,null,1013,"чел.-ч","чел.-ч",1,null,null,null,null,null,null,6.48,0,0,0,1066.23,0,1,1,"*(0,2+1)",7.7759999999999998,2,85320832,644,0,0,0,0,0,0,0,0]
[{"$f":"ROW(Source!A544)","v":544},85320833,85320830,83777659,117,1,1,1,"2-100-06","","Рабочий 6 разряда",1369,null,1013,"чел.-ч","чел.-ч",1,null,null,null,null,null,null,6.48,0,0,0,1090.46,0,1,1,"*(0,2+1)",7.7759999999999998,2,85320831,645,0,0,0,0,0,0,0,0]
[{"$f":"ROW(Source!A544)","v":544},85320834,85320830,83777683,117,1,1,1,"3-200-03","","Инженер III категории",1369,null,1013,"чел.-ч","чел.-ч",1,null,null,null,null,null,null,6.48,0,0,0,1066.23,0,1,1,"*(0,2+1)",7.7759999999999998,2,85320832,646,0,0,0,0,0,0,0,0]
[{"$f":"ROW(Source!A546)","v":546},85320839,85320836,77306515,114,1,1,1,"2-100-06","","Рабочий 6 разряда",1369,null,1013,"чел.-ч","чел.-ч",1,null,null,null,null,null,null,0.41,0,0,0,0,0,1,1,"*(0,2+1)",0.49199999999999994,2,85320837,647,0,0,0,0,0,0,0,0]
[{"$f":"ROW(Source!A546)","v":546},85320840,85320836,77306539,114,1,1,1,"3-200-03","","Инженер III категории",1369,null,1013,"чел.-ч","чел.-ч",1,null,null,null,null,null,null,0.41,0,0,0,0,0,1,1,"*(0,2+1)",0.49199999999999994,2,85320838,648,0,0,0,0,0,0,0,0]
[{"$f":"ROW(Source!A547)","v":547},85320839,85320836,77306515,114,1,1,1,"2-100-06","","Рабочий 6 разряда",1369,null,1013,"чел.-ч","чел.-ч",1,null,null,null,null,null,null,0.41,0,0,0,0,0,1,1,"*(0,2+1)",0.49199999999999994,2,85320837,649,0,0,0,0,0,0,0,0]
[{"$f":"ROW(Source!A547)","v":547},85320840,85320836,77306539,114,1,1,1,"3-200-03","","Инженер III категории",1369,null,1013,"чел.-ч","чел.-ч",1,null,null,null,null,null,null,0.41,0,0,0,0,0,1,1,"*(0,2+1)",0.49199999999999994,2,85320838,650,0,0,0,0,0,0,0,0]
[{"$f":"ROW(Source!A549)","v":549},85320845,85320842,77306515,114,1,1,1,"2-100-06","","Рабочий 6 разряда",1369,null,1013,"чел.-ч","чел.-ч",1,null,null,null,null,null,null,1.62,0,0,0,0,0,1,1,"*(0,2+1)",1.944,2,85320843,651,0,0,0,0,0,0,0,0]
[{"$f":"ROW(Source!A549)","v":549},85320846,85320842,77306539,114,1,1,1,"3-200-03","","Инженер III категории",1369,null,1013,"чел.-ч","чел.-ч",1,null,null,null,null,null,null,1.62,0,0,0,0,0,1,1,"*(0,2+1)",1.944,2,85320844,652,0,0,0,0,0,0,0,0]
[{"$f":"ROW(Source!A550)","v":550},85320845,85320842,77306515,114,1,1,1,"2-100-06","","Рабочий 6 разряда",1369,null,1013,"чел.-ч","чел.-ч",1,null,null,null,null,null,null,1.62,0,0,0,0,0,1,1,"*(0,2+1)",1.944,2,85320843,653,0,0,0,0,0,0,0,0]
[{"$f":"ROW(Source!A550)","v":550},85320846,85320842,77306539,114,1,1,1,"3-200-03","","Инженер III категории",1369,null,1013,"чел.-ч","чел.-ч",1,null,null,null,null,null,null,1.62,0,0,0,0,0,1,1,"*(0,2+1)",1.944,2,85320844,654,0,0,0,0,0,0,0,0]
[{"$f":"ROW(Source!A552)","v":552},85320851,85320848,77306511,114,1,1,1,"2-100-04","","Рабочий 4 разряда",1369,null,1013,"чел.-ч","чел.-ч",1,null,null,null,null,null,null,1.35,0,0,0,0,0,1,1,"*(0,2+1)",1.62,2,85320849,655,0,0,0,0,0,0,0,0]
[{"$f":"ROW(Source!A552)","v":552},85320852,85320848,77306529,114,1,1,1,"3-100-02","","Техник II категории",1369,null,1013,"чел.-ч","чел.-ч",1,null,null,null,null,null,null,1.35,0,0,0,0,0,1,1,"*(0,2+1)",1.62,2,85320850,656,0,0,0,0,0,0,0,0]
[{"$f":"ROW(Source!A553)","v":553},85320851,85320848,77306511,114,1,1,1,"2-100-04","","Рабочий 4 разряда",1369,null,1013,"чел.-ч","чел.-ч",1,null,null,null,null,null,null,1.35,0,0,0,0,0,1,1,"*(0,2+1)",1.62,2,85320849,657,0,0,0,0,0,0,0,0]
[{"$f":"ROW(Source!A553)","v":553},85320852,85320848,77306529,114,1,1,1,"3-100-02","","Техник II категории",1369,null,1013,"чел.-ч","чел.-ч",1,null,null,null,null,null,null,1.35,0,0,0,0,0,1,1,"*(0,2+1)",1.62,2,85320850,658,0,0,0,0,0,0,0,0]
[{"$f":"ROW(Source!A555)","v":555},85320857,85320854,77306515,114,1,1,1,"2-100-06","","Рабочий 6 разряда",1369,null,1013,"чел.-ч","чел.-ч",1,null,null,null,null,null,null,0.5,0,0,0,0,0,1,1,"*(0,2+1)",0.6,2,85320855,659,0,0,0,0,0,0,0,0]
[{"$f":"ROW(Source!A555)","v":555},85320858,85320854,77306539,114,1,1,1,"3-200-03","","Инженер III категории",1369,null,1013,"чел.-ч","чел.-ч",1,null,null,null,null,null,null,0.5,0,0,0,0,0,1,1,"*(0,2+1)",0.6,2,85320856,660,0,0,0,0,0,0,0,0]
[{"$f":"ROW(Source!A556)","v":556},85320857,85320854,77306515,114,1,1,1,"2-100-06","","Рабочий 6 разряда",1369,null,1013,"чел.-ч","чел.-ч",1,null,null,null,null,null,null,0.5,0,0,0,0,0,1,1,"*(0,2+1)",0.6,2,85320855,661,0,0,0,0,0,0,0,0]
[{"$f":"ROW(Source!A556)","v":556},85320858,85320854,77306539,114,1,1,1,"3-200-03","","Инженер III категории",1369,null,1013,"чел.-ч","чел.-ч",1,null,null,null,null,null,null,0.5,0,0,0,0,0,1,1,"*(0,2+1)",0.6,2,85320856,662,0,0,0,0,0,0,0,0]
[{"$f":"ROW(Source!A558)","v":558},85320863,85320860,77306515,114,1,1,1,"2-100-06","","Рабочий 6 разряда",1369,null,1013,"чел.-ч","чел.-ч",1,null,null,null,null,null,null,0.16,0,0,0,0,0,1,1,"*(0,2+1)",0.192,2,85320861,663,0,0,0,0,0,0,0,0]
[{"$f":"ROW(Source!A558)","v":558},85320864,85320860,77306539,114,1,1,1,"3-200-03","","Инженер III категории",1369,null,1013,"чел.-ч","чел.-ч",1,null,null,null,null,null,null,0.16,0,0,0,0,0,1,1,"*(0,2+1)",0.192,2,85320862,664,0,0,0,0,0,0,0,0]
[{"$f":"ROW(Source!A559)","v":559},85320863,85320860,77306515,114,1,1,1,"2-100-06","","Рабочий 6 разряда",1369,null,1013,"чел.-ч","чел.-ч",1,null,null,null,null,null,null,0.16,0,0,0,0,0,1,1,"*(0,2+1)",0.192,2,85320861,665,0,0,0,0,0,0,0,0]
[{"$f":"ROW(Source!A559)","v":559},85320864,85320860,77306539,114,1,1,1,"3-200-03","","Инженер III категории",1369,null,1013,"чел.-ч","чел.-ч",1,null,null,null,null,null,null,0.16,0,0,0,0,0,1,1,"*(0,2+1)",0.192,2,85320862,666,0,0,0,0,0,0,0,0]
[{"$f":"ROW(Source!A561)","v":561},85320869,85320866,77306511,114,1,1,1,"2-100-04","","Рабочий 4 разряда",1369,null,1013,"чел.-ч","чел.-ч",1,null,null,null,null,null,null,2.92,0,0,0,0,0,1,1,"*(0,2+1)",3.504,2,85320867,667,0,0,0,0,0,0,0,0]
[{"$f":"ROW(Source!A561)","v":561},85320870,85320866,77306539,114,1,1,1,"3-200-03","","Инженер III категории",1369,null,1013,"чел.-ч","чел.-ч",1,null,null,null,null,null,null,4.37,0,0,0,0,0,1,1,"*(0,2+1)",5.2439999999999998,2,85320868,668,0,0,0,0,0,0,0,0]
[{"$f":"ROW(Source!A562)","v":562},85320869,85320866,77306511,114,1,1,1,"2-100-04","","Рабочий 4 разряда",1369,null,1013,"чел.-ч","чел.-ч",1,null,null,null,null,null,null,2.92,0,0,0,0,0,1,1,"*(0,2+1)",3.504,2,85320867,669,0,0,0,0,0,0,0,0]
[{"$f":"ROW(Source!A562)","v":562},85320870,85320866,77306539,114,1,1,1,"3-200-03","","Инженер III категории",1369,null,1013,"чел.-ч","чел.-ч",1,null,null,null,null,null,null,4.37,0,0,0,0,0,1,1,"*(0,2+1)",5.2439999999999998,2,85320868,670,0,0,0,0,0,0,0,0]

{"sheet":"SrcPoprs","index":6,"n_rows":16,"n_cols":21,"rows_kept":16,"cut":false,"hidden":false,"merged":[]}
[540,1,"","","*1,20","*1,20","*1,20","","*1,20","*1,20","","","","","*1,20","","","","421/пр_2020_прил.10_т.1_п.4_гр.3","Производство работ осуществляется в охранной зоне действующей воздушной линии электропередачи, вблизи объектов, находящихся под напряжением, внутри объектов капитального строительства, внутренняя проводка в которых не обесточена, если это приведет к ограничению действий рабочих в соответствии с требованиями техники безопасности","Методика 421/пр (Строительство)"]
[541,1,"","","*1,20","*1,20","*1,20","","*1,20","*1,20","","","","","*1,20","","","","421/пр_2020_прил.10_т.1_п.4_гр.3","Производство работ осуществляется в охранной зоне действующей воздушной линии электропередачи, вблизи объектов, находящихся под напряжением, внутри объектов капитального строительства, внутренняя проводка в которых не обесточена, если это приведет к ограничению действий рабочих в соответствии с требованиями техники безопасности","Методика 421/пр (Строительство)"]
[543,1,"","","*1,20","*1,20","*1,20","","*1,20","*1,20","","","","","*1,20","","","","421/пр_2020_прил.10_т.1_п.4_гр.3","Производство работ осуществляется в охранной зоне действующей воздушной линии электропередачи, вблизи объектов, находящихся под напряжением, внутри объектов капитального строительства, внутренняя проводка в которых не обесточена, если это приведет к ограничению действий рабочих в соответствии с требованиями техники безопасности","Методика 421/пр (Строительство)"]
[544,1,"","","*1,20","*1,20","*1,20","","*1,20","*1,20","","","","","*1,20","","","","421/пр_2020_прил.10_т.1_п.4_гр.3","Производство работ осуществляется в охранной зоне действующей воздушной линии электропередачи, вблизи объектов, находящихся под напряжением, внутри объектов капитального строительства, внутренняя проводка в которых не обесточена, если это приведет к ограничению действий рабочих в соответствии с требованиями техники безопасности","Методика 421/пр (Строительство)"]
[546,1,"","","*1,20","*1,20","*1,20","","*1,20","*1,20","","","","","*1,20","","","","421/пр_2020_прил.10_т.1_п.4_гр.3","Производство работ осуществляется в охранной зоне действующей воздушной линии электропередачи, вблизи объектов, находящихся под напряжением, внутри объектов капитального строительства, внутренняя проводка в которых не обесточена, если это приведет к ограничению действий рабочих в соответствии с требованиями техники безопасности","Методика 421/пр (Строительство)"]
[547,1,"","","*1,20","*1,20","*1,20","","*1,20","*1,20","","","","","*1,20","","","","421/пр_2020_прил.10_т.1_п.4_гр.3","Производство работ осуществляется в охранной зоне действующей воздушной линии электропередачи, вблизи объектов, находящихся под напряжением, внутри объектов капитального строительства, внутренняя проводка в которых не обесточена, если это приведет к ограничению действий рабочих в соответствии с требованиями техники безопасности","Методика 421/пр (Строительство)"]
[549,1,"","","*1,20","*1,20","*1,20","","*1,20","*1,20","","","","","*1,20","","","","421/пр_2020_прил.10_т.1_п.4_гр.3","Производство работ осуществляется в охранной зоне действующей воздушной линии электропередачи, вблизи объектов, находящихся под напряжением, внутри объектов капитального строительства, внутренняя проводка в которых не обесточена, если это приведет к ограничению действий рабочих в соответствии с требованиями техники безопасности","Методика 421/пр (Строительство)"]
[550,1,"","","*1,20","*1,20","*1,20","","*1,20","*1,20","","","","","*1,20","","","","421/пр_2020_прил.10_т.1_п.4_гр.3","Производство работ осуществляется в охранной зоне действующей воздушной линии электропередачи, вблизи объектов, находящихся под напряжением, внутри объектов капитального строительства, внутренняя проводка в которых не обесточена, если это приведет к ограничению действий рабочих в соответствии с требованиями техники безопасности","Методика 421/пр (Строительство)"]
[552,1,"","","*1,20","*1,20","*1,20","","*1,20","*1,20","","","","","*1,20","","","","421/пр_2020_прил.10_т.1_п.4_гр.3","Производство работ осуществляется в охранной зоне действующей воздушной линии электропередачи, вблизи объектов, находящихся под напряжением, внутри объектов капитального строительства, внутренняя проводка в которых не обесточена, если это приведет к ограничению действий рабочих в соответствии с требованиями техники безопасности","Методика 421/пр (Строительство)"]
[553,1,"","","*1,20","*1,20","*1,20","","*1,20","*1,20","","","","","*1,20","","","","421/пр_2020_прил.10_т.1_п.4_гр.3","Производство работ осуществляется в охранной зоне действующей воздушной линии электропередачи, вблизи объектов, находящихся под напряжением, внутри объектов капитального строительства, внутренняя проводка в которых не обесточена, если это приведет к ограничению действий рабочих в соответствии с требованиями техники безопасности","Методика 421/пр (Строительство)"]
[555,1,"","","*1,20","*1,20","*1,20","","*1,20","*1,20","","","","","*1,20","","","","421/пр_2020_прил.10_т.1_п.4_гр.3","Производство работ осуществляется в охранной зоне действующей воздушной линии электропередачи, вблизи объектов, находящихся под напряжением, внутри объектов капитального строительства, внутренняя проводка в которых не обесточена, если это приведет к ограничению действий рабочих в соответствии с требованиями техники безопасности","Методика 421/пр (Строительство)"]
[556,1,"","","*1,20","*1,20","*1,20","","*1,20","*1,20","","","","","*1,20","","","","421/пр_2020_прил.10_т.1_п.4_гр.3","Производство работ осуществляется в охранной зоне действующей воздушной линии электропередачи, вблизи объектов, находящихся под напряжением, внутри объектов капитального строительства, внутренняя проводка в которых не обесточена, если это приведет к ограничению действий рабочих в соответствии с требованиями техники безопасности","Методика 421/пр (Строительство)"]
[558,1,"","","*1,2","*1,2","*1,2","","*1,2","*1,2","","","","","*1,2","","","","421/пр_2020_прил.10_т.7_п.3_гр.3","Производство работ осуществляется в охранной зоне действующей воздушной линии электропередачи, вблизи объектов, находящихся под напряжением, внутри объектов капитального строительства, внутренняя проводка в которых не обесточена, если это приведет к ограничению действий рабочих в соответствии с требованиями техники безопасности","Методика 421/пр (Пусконаладка)"]
[559,1,"","","*1,2","*1,2","*1,2","","*1,2","*1,2","","","","","*1,2","","","","421/пр_2020_прил.10_т.7_п.3_гр.3","Производство работ осуществляется в охранной зоне действующей воздушной линии электропередачи, вблизи объектов, находящихся под напряжением, внутри объектов капитального строительства, внутренняя проводка в которых не обесточена, если это приведет к ограничению действий рабочих в соответствии с требованиями техники безопасности","Методика 421/пр (Пусконаладка)"]
[561,1,"","","*1,20","*1,20","*1,20","","*1,20","*1,20","","","","","*1,20","","","","421/пр_2020_прил.10_т.1_п.4_гр.3","Производство работ осуществляется в охранной зоне действующей воздушной линии электропередачи, вблизи объектов, находящихся под напряжением, внутри объектов капитального строительства, внутренняя проводка в которых не обесточена, если это приведет к ограничению действий рабочих в соответствии с требованиями техники безопасности","Методика 421/пр (Строительство)"]
[562,1,"","","*1,20","*1,20","*1,20","","*1,20","*1,20","","","","","*1,20","","","","421/пр_2020_прил.10_т.1_п.4_гр.3","Производство работ осуществляется в охранной зоне действующей воздушной линии электропередачи, вблизи объектов, находящихся под напряжением, внутри объектов капитального строительства, внутренняя проводка в которых не обесточена, если это приведет к ограничению действий рабочих в соответствии с требованиями техники безопасности","Методика 421/пр (Строительство)"]

{"sheet":"SrcKA","index":7,"n_rows":12,"n_cols":103,"rows_kept":12,"cut":false,"hidden":false,"merged":[]}
[0,"Smeta.RU Flash  (495) 974-1589",null,"_PS_",null,0,0,0,"Smeta.RU Flash","",1,68757,10,12,0,0,3]
[]
[]
[]
[]
[]
[]
[]
[]
[]
[]
[null,null,null,null,null,{"$f":"Source!F12","v":"Новый объект"},{"$f":"Source!G12","v":"355841_Гончарова_ВЛИ_Катасонова_РАЗБИВКА_ПС_С"},null,null,null,null,null,null,null,null,null,null,null,null,null,null,null,null,null,null,null,null,"","","","","","","","",46057,"","","",null,null,null,null,null,null,null,null,null,null,null,null,null,null,null,null,null,null,null,null,null,null,null,null,null,null,null,null,null,null,null,null,null,null,null,null,null,null,null,null,null,null,null,null,null,null,null,null,null,null,null,null,null,null,null,null,null,null,null,null,null,null,null,0]