Workbook
Name _12Excel_BuiltIn_Print_Titles_2_1_1: #REF!
Name _12Excel_BuiltIn_Print_Titles_2_1_1: #REF!
Name _12Excel_BuiltIn_Print_Titles_2_1_1: #REF!
Name _1Excel_BuiltIn_Print_Area_1_1_1: #REF!
Name _1Excel_BuiltIn_Print_Area_1_1_1: #REF!
Name _1Excel_BuiltIn_Print_Area_1_1_1: #REF!
Name _2Excel_BuiltIn_Print_Area_1_1_1: #REF!
Name _2Excel_BuiltIn_Print_Area_1_1_1: #REF!
Name _2Excel_BuiltIn_Print_Area_1_1_1: #REF!
Name _2Excel_BuiltIn_Print_Titles_1_1_1: #REF!
Name _2Excel_BuiltIn_Print_Titles_1_1_1: #REF!
Name _2Excel_BuiltIn_Print_Titles_1_1_1: #REF!
Name _3Excel_BuiltIn_Print_Titles_2_1_1: #REF!
Name _3Excel_BuiltIn_Print_Titles_2_1_1: #REF!
Name _3Excel_BuiltIn_Print_Titles_2_1_1: #REF!
Name _4Excel_BuiltIn_Print_Area_1_1_1: #REF!
Name _4Excel_BuiltIn_Print_Area_1_1_1: #REF!
Name _4Excel_BuiltIn_Print_Area_1_1_1: #REF!
Name _4Excel_BuiltIn_Print_Titles_1_1_1: #REF!
Name _4Excel_BuiltIn_Print_Titles_1_1_1: #REF!
Name _4Excel_BuiltIn_Print_Titles_1_1_1: #REF!
Name _6Excel_BuiltIn_Print_Titles_2_1_1: #REF!
Name _6Excel_BuiltIn_Print_Titles_2_1_1: #REF!
Name _6Excel_BuiltIn_Print_Titles_2_1_1: #REF!
Name _8Excel_BuiltIn_Print_Titles_1_1_1: #REF!
Name _8Excel_BuiltIn_Print_Titles_1_1_1: #REF!
Name _8Excel_BuiltIn_Print_Titles_1_1_1: #REF!
Name b: #REF!
Name b: #REF!
Name b: #REF!
Name bb: #REF!
Name bb: #REF!
Name bb: #REF!
Name bbb: #REF!
Name bbb: #REF!
Name bbb: #REF!
Name bbbb: #REF!
Name bbbb: #REF!
Name bbbb: #REF!
Name bbbbb: #REF!
Name bbbbb: #REF!
Name bbbbb: #REF!
Name bbbbbb: #REF!
Name bbbbbb: #REF!
Name bbbbbb: #REF!
Name bbbbbbbb: #REF!
Name bbbbbbbb: #REF!
Name bbbbbbbb: #REF!
Name Constr: #REF!
Name Constr: #REF!
Name Constr: #REF!
Name Excel_BuiltIn_Print_Area_1: #REF!
Name Excel_BuiltIn_Print_Area_1: #REF!
Name Excel_BuiltIn_Print_Area_1: #REF!
Name Excel_BuiltIn_Print_Area_1_1: #REF!
Name Excel_BuiltIn_Print_Area_1_1: #REF!
Name Excel_BuiltIn_Print_Area_1_1: #REF!
Name Excel_BuiltIn_Print_Area_1_1_1: #REF!
Name Excel_BuiltIn_Print_Area_1_1_1: #REF!
Name Excel_BuiltIn_Print_Area_1_1_1: #REF!

Sheet 12-01
A1: Приложение № 1 к Сводному сметному расчету
B3: Смета № 12-01
B4: Предпроектное обследование. Разработка проектной документации.
M5: 16 месяцев проект
A6: Наименование предприятия, здания, сооружения, стадии проектирования, этапа, вида проектных или изыскательских работ: | C6: Создание подсистемы безопасности автоматизированной системы управления технологическим процессом Чирюртской ГЭС | J6: =D14 -> Руководитель проекта | M6: =E14+'12-02'!E14+#REF!+#REF! -> #REF! | O6: Барков Д.С.
A7: Наименование проектной (изыскательской) организации: | C7: ООО "РусГидро ИТ сервис" | J7: =D15 -> Главный инженер проекта | M7: =E15+'12-02'!E15+#REF!+#REF!+#REF!+#REF!+#REF!+#REF!+#REF! -> #REF! | O7: Белев Д.В.
A8: Наименование организации Заказчика: | J8: =D16 -> Начальник отдела СЗИ | M8: =E16+'12-02'!E16+#REF!+#REF!+#REF!+#REF!+#REF!+#REF!+#REF!+#REF!+#REF!+#REF! -> #REF! | O8: Ханмагомедов А.Х.
J9: =D17 -> Начальник УЭСПД | M9: =E17+'12-02'!E17+#REF!+#REF!+#REF!+#REF!+#REF!+#REF!+#REF! -> #REF! | O9: Храпов В.
A10: 1. Расчет заработной платы | G10: руб. | J10: =D18 -> Главный эксперт ОСЗИ | M10: =E18+'12-02'!E18+#REF!+#REF!+#REF!+#REF! -> #REF! | O10: Беленикин С.Ю.
A11: № п.п. | B11: Перечень выполняемых работ | C11: Исполнитель | E11: Количество человеко-дней | F11: Средняя оплата труда за 1 день | G11: Оплата труда (всего) | J11: =D19 -> Главный эксперт УЭСПД | M11: =E19+'12-02'!E19+#REF!+#REF!+#REF!+#REF!+#REF!+#REF! -> #REF! | O11: Решетников А.О.
C12: количество | D12: должность | J12: =D20 -> Ведущий эксперт | M12: =E20+'12-02'!E20+#REF!+#REF!+#REF!+#REF! -> #REF! | O12: Вантеев С.А.
A13: 1 | B13: 2 | C13: 3 | D13: 4 | E13: 5 | F13: 6 | G13: 7 | J13: =D21 -> Ведущий эксперт ОСЗИ | M13: =E21+'12-02'!E21+#REF!+#REF!+#REF! -> #REF! | O13: Цакоев З.Д.
A14: 1 | B14: Отчет о предпроектном обследовании. Техническое задание на проектирование. Проектная документация в составе: -Ведомость технического проекта; -Пояснительная записка к техническому проекту; -Описание комплекса технических средств; -Структурная схема комплекса программных и программно-аппаратных средств; -Схема функциональной структуры; -Ведомость оборудования и ПО. Акт выполненных работ в рамках этапа. | C14: 1 | D14: Руководитель проекта | E14: 2 | F14: 8549.67 | G14: =ROUND(E14*F14,0) -> 17099 | J14: =D22 -> Главный эксперт ОСЗИ АльфаДок | M14: =E22+'12-02'!E22+#REF!+#REF!+#REF! -> #REF! | O14: Цвилев А.С.
C15: 1 | D15: Главный инженер проекта | E15: 12 | F15: 13055.22 | G15: =ROUND(E15*F15,0) -> 156663 | J15: =D23 -> Ведущий эксперт (технический писатель) | M15: =E23+'12-02'!E23+#REF!+#REF! -> #REF! | O15: Колодеца Е.В.
C16: 1 | D16: Начальник отдела СЗИ | E16: 4 | F16: 12193.32 | G16: =ROUND(E16*F16,0) -> 48773 | M16: =SUM(M6:M15) -> #REF!
C17: 1 | D17: Начальник УЭСПД | E17: 4 | F17: 18822.75 | G17: =ROUND(E17*F17,0) -> 75291 | M17: Проверка
C18: 1 | D18: Главный эксперт ОСЗИ | E18: 6 | F18: 10018.81 | G18: =ROUND(E18*F18,0) -> 60113 | M18: =SUM(E14:E23,'12-02'!E14:E23,#REF!,#REF!,#REF!,#REF!,#REF!,#REF!,#REF!,#REF!,#REF!,#REF!,#REF!) -> #REF!
C19: 1 | D19: Главный эксперт УЭСПД | E19: 12 | F19: 10169.96 | G19: =ROUND(E19*F19,0) -> 122040
C20: 1 | D20: Ведущий эксперт | E20: 6 | F20: 8350.81 | G20: =ROUND(E20*F20,0) -> 50105
C21: 1 | D21: Ведущий эксперт ОСЗИ | E21: 4 | F21: 6099.81 | G21: =ROUND(E21*F21,0) -> 24399
C22: 1 | D22: Главный эксперт ОСЗИ АльфаДок | E22: 4 | F22: 7014.79 | G22: =ROUND(E22*F22,0) -> 28059
C23: 1 | D23: Ведущий эксперт (технический писатель) | E23: 5 | F23: 5700.36 | G23: =ROUND(E23*F23,0) -> 28502
A24: Итого заработной платы, (руб.) | G24: =ROUND(SUM(G14:G23),0) -> 611044
A25: 2. Расчет стоимости выполнения работ
A26: 2.1 Процент заработной платы в составе себестоимости, % | G26: 70
A27: 2.2 Себестоимость работ, (руб.) | G27: =ROUND(G24/(G26/100),0) -> 872920
A28: 2.3 Уровень рентабельности, % | G28: 5
A29: Итого, (руб.), без НДС: | G29: =ROUND(G27*(G28/100+1),0) -> 916566
A31: Девятьсот шестнадцать тысяч пятьсот шестьдесят шесть рублей 00 копеек (без НДС)
D32: (сумма прописью)
A34: Составил: Ведущий специалист УОС ООО «РусГидро ИТ сервис» | E34: Д.С. Барков
A36: Проверил: Начальник управления организационного сопровождения ООО "РусГидро ИТ сервис" | E36: Е.В. Смирнова

Sheet 12-02
A1: Приложение № 2 к Сводному сметному расчету
B3: Смета № 12-02
B4: Разработка рабочей документации.
A6: Наименование предприятия, здания, сооружения, стадии проектирования, этапа, вида проектных или изыскательских работ: | C6: Создание подсистемы безопасности автоматизированной системы управления технологическим процессом Чирюртской ГЭС
A7: Наименование проектной (изыскательской) организации: | C7: ООО "РусГидро ИТ сервис"
A8: Наименование организации Заказчика:
A10: 1. Расчет заработной платы | G10: руб.
A11: № п.п. | B11: Перечень выполняемых работ | C11: Исполнитель | E11: Количество человеко-дней | F11: Средняя оплата труда за 1 день | G11: Оплата труда (всего)
C12: количество | D12: должность
A13: 1 | B13: 2 | C13: 3 | D13: 4 | E13: 5 | F13: 6 | G13: 7
A14: 1 | B14: Разработка рабочей документации на ПОБИ: Ведомость рабочей документации; Программа и методика испытаний; План производства работ; Логическая схема организации сети уровня L2; Логическая схема организации сети уровня L3; План расположения оборудования и проводок; Таблица соединений и подключений; Чертеж установки технических средств в шкафах; Спецификация оборудования и ПО; Акт выполненных работ в рамках этапа. | C14: 1 | D14: Руководитель проекта | E14: 2 | F14: 8549.67 | G14: =ROUND(E14*F14,0) -> 17099
C15: 1 | D15: Главный инженер проекта | E15: 12 | F15: 13055.22 | G15: =ROUND(E15*F15,0) -> 156663
C16: 1 | D16: Начальник отдела СЗИ | E16: 4 | F16: 12193.32 | G16: =ROUND(E16*F16,0) -> 48773
C17: 1 | D17: Начальник УЭСПД | E17: 4 | F17: 18822.75 | G17: =ROUND(E17*F17,0) -> 75291
C18: 1 | D18: Главный эксперт ОСЗИ | E18: 12 | F18: 10018.81 | G18: =ROUND(E18*F18,0) -> 120226
C19: 1 | D19: Главный эксперт УЭСПД | E19: 20 | F19: 10169.96 | G19: =ROUND(E19*F19,0) -> 203399
C20: 1 | D20: Ведущий эксперт | E20: 10 | F20: 8350.81 | G20: =ROUND(E20*F20,0) -> 83508
C21: 1 | D21: Ведущий эксперт ОСЗИ | E21: 6 | F21: 6099.81 | G21: =ROUND(E21*F21,0) -> 36599
C22: 1 | D22: Главный эксперт ОСЗИ АльфаДок | E22: 6 | F22: 7014.79 | G22: =ROUND(E22*F22,0) -> 42089
C23: 1 | D23: Ведущий эксперт (технический писатель) | E23: 6 | F23: 5700.36 | G23: =ROUND(E23*F23,0) -> 34202
A24: Итого заработной платы, (руб.) | G24: =ROUND(SUM(G14:G23),0) -> 817849
A25: 2. Расчет стоимости выполнения работ
A26: 2.1 Процент заработной платы в составе себестоимости, % | G26: 70
A27: 2.2 Себестоимость работ, (руб.) | G27: =ROUND(G24/(G26/100),0) -> 1168356
A28: 2.3 Уровень рентабельности, % | G28: 5
A29: Итого, (руб.), без НДС: | G29: =ROUND(G27*(G28/100+1),0) -> 1226774
A31: Один миллион двести двадцать шесть тысяч семьсот семьдесят четыре рубля 00 копеек (без НДС)
D32: (сумма прописью)
A34: Составил: Ведущий специалист УОС ООО «РусГидро ИТ сервис» | E34: Д.С. Барков
A36: Проверил: Начальник управления организационного сопровождения ООО "РусГидро ИТ сервис" | E36: Е.В. Смирнова

Sheet Партия №1
A2: СПЕЦИФИКАЦИЯ ПОСТАВЛЯЕМОГО ОБОРУДОВАНИЯ
A4: № партии | B4: № поз. | C4: Наименование обоудования / ПО с указанием Технических характеристик (описание) | E4: Артикул, тип, марка / Каталожный номер ПО | F4: Изготовитель (производитель) оборудования/ правообладатель ПО | G4: Страна происхождения товара | H4: Страна регистрации2 производителя / правообладателя ПО | I4: Код ОКПД2 | J4: Порядковый номер реестровой записи в Реестре российской промышленной продукции (ПП РФ 719) или Единый реестр российской радиоэлектронной продукции (ПП РФ 878) / Едином реестре российских программ для электронных вычислительных машин и баз данных (ПП РФ | K4: Единица измерения | L4: Количество | M4: Цена за единицу, руб. без НДС | N4: Общая стоимость, руб. без НДС | O4: НДС, руб. | P4: Общая стоимость с НДС, руб. с НДС | Q4: Перечень сопроводительных документов для оборудования ( в том числе подтверждающих качество Товара)
A5: 1 | B5: 2 | C5: 3 | E5: 4 | F5: 5 | G5: 6 | H5: 7 | I5: 8 | J5: 9 | K5: 10 | L5: 11 | M5: 12 | N5: 13 | O5: 14 | P5: 15 | Q5: 18
A6: 1 | C6: ОКПД2 28.99.39 Поставка программно-технического комплекса для модернизации верхнего уровня автоматизированной системы управления технологическим процессом Чебоксарской ГЭС в г. Новочебоксарск Чувашской республики
B7: 1 | C7: Шкаф ЦОД №1. Программное обеспечение в составе: 1. SpaceVM KIT (SpaceVM, 4 физических сервера) - 1шт 2. Сертификат на сервисное обслуживание Standart KIT (SpaceVM KIT, SpaceVM Plus KIT, 3 года) - 1шт 3. Программный комплекс SCADA - 1шт 4. Лицензия на Программный комплекс "ALD Pro" РДЦП.10101-02 (ФСТЭК) на 1 контроллер домена, на 8 управляемых устройств и операционную систему специального назначения «Astra Linux Special Edition» для 64-х разрядной платформы на базе процессорной архитектуры x86-64 РУСБ.10015-01 (ФСТЭК) для 8 серверов, способ передачи электронный, на срок действия исключительного права, с включенными обновлениями Тип 1 на 36 мес. - 1шт. 5. Лицензия на Программный комплекс "ALD Pro" РДЦП.10101-02 (ФСТЭК) на 1 управляемое устройство, способ передачи электронный, на срок действия исключительного права, с включенными обновлениями Тип 2 на 36 мес. - 8шт 6. Лицензия на операционную систему специального назначения «Astra Linux Special Edition» для 64-х разрядной платформы на базе процессорной архитектуры х86-64, уровень защищенности «Максимальный» («Смоленск»), РУСБ.10015-01 (ФСТЭК), способ передачи электронный, для 1 виртуального сервера, на срок действия исключительного права, с включенными обновлениями Тип 1 на 36 мес. - 8шт 7. Сертификат на сопровождение ПО Кибер Бэкап Расширенная редакция для платформы виртуализации – Продление на 2 года (ФСТЭК) - 8шт 8. Кибер Бэкап Расширенная редакция для платформы виртуализации (ФСТЭК) - 8шт 9. Базовый пакет для сертифицированной версии программного комплекса Кибер Бэкап Расширенная редакция для платформы виртуализации - 8шт | D7: Оборудование ВУ | K7: компл | L7: 1
B8: 2 | C8: Шкаф ЦОД №2. Программное обеспечение в составе: 1. SpaceVM KIT (SpaceVM, 4 физических сервера) - 1шт 2. Сертификат на сервисное обслуживание Standart KIT (SpaceVM KIT, SpaceVM Plus KIT, 3 года) - 1шт 3. Программный комплекс SCADA - 1шт 4. Лицензия на Программный комплекс "ALD Pro" РДЦП.10101-02 (ФСТЭК) на 1 контроллер домена, на 8 управляемых устройств и операционную систему специального назначения «Astra Linux Special Edition» для 64-х разрядной платформы на базе процессорной архитектуры x86-64 РУСБ.10015-01 (ФСТЭК) для 8 серверов, способ передачи электронный, на срок действия исключительного права, с включенными обновлениями Тип 1 на 36 мес. - 1шт. 5. Лицензия на Программный комплекс "ALD Pro" РДЦП.10101-02 (ФСТЭК) на 1 управляемое устройство, способ передачи электронный, на срок действия исключительного права, с включенными обновлениями Тип 2 на 36 мес. - 8шт 6. Лицензия на операционную систему специального назначения «Astra Linux Special Edition» для 64-х разрядной платформы на базе процессорной архитектуры х86-64, уровень защищенности «Максимальный» («Смоленск»), РУСБ.10015-01 (ФСТЭК), способ передачи электронный, для 1 виртуального сервера, на срок действия исключительного права, с включенными обновлениями Тип 1 на 36 мес. - 8шт 7. Сертификат на сопровождение ПО Кибер Бэкап Расширенная редакция для платформы виртуализации – Продление на 2 года (ФСТЭК) - 8шт 8. Кибер Бэкап Расширенная редакция для платформы виртуализации (ФСТЭК) - 8шт 9. Базовый пакет для сертифицированной версии программного комплекса Кибер Бэкап Расширенная редакция для платформы виртуализации - 8шт | D8: Оборудование ВУ | K8: компл | L8: 1
A9: Итого стоимость Партии №1 | N9: =N7+N8 -> 0 | O9: =O7+O8 -> 0 | P9: =P7+P8 -> 0
A14: * Примечание: Указанные в настоящем ТТ ссылки на ТУ, марку (тип) продукции носят описательный, а не обязательный характер. В случае, если Участником предлагается эквивалентная продукция требуемой Заказчику продукции или ее составных частей, он должен в обязательном порядке в составе своего предложения предоставить подробное техническое описание предлагаемого к поставке эквивалента, в объеме не менее установленных в настоящем ТТ требований. Эквивалентная продукция – это продукция, которая по техническим и функциональным характеристикам не уступает характеристикам, заявленным в документации о закупке, в том числе, по гарантийным срокам и срокам эксплуатации.
A17: 1 | B17: Страной происхождения товара считается государство, на территории которого товар был полностью произведен или подвергнут достаточной обработке/переработке в соответствии с настоящими Правилами
A18: 2 | B18: Страна регистрации производителя — это страна, в которой зарегистрирована торговая марка, а не место производства товара.
A19: 3 | B19: Реестре российской промышленной продукции (ПП РФ 719)
B20: Единый реестр российской радиоэлектронной продукции (ПП РФ 878)
B21: Едином реестре российских программ для электронных вычислительных машин и баз данных (ПП РФ 1236)

Sheet Партия №2
A2: СПЕЦИФИКАЦИЯ ПОСТАВЛЯЕМОГО ОБОРУДОВАНИЯ
A4: № партии | B4: № поз. | C4: Наименование обоудования / ПО с указанием Технических характеристик (описание) | D4: Артикул, тип, марка / Каталожный номер ПО | E4: Изготовитель (производитель) оборудования/ правообладатель ПО | F4: Страна происхождения товара | G4: Страна регистрации2 производителя / правообладателя ПО | H4: Код ОКПД2 | I4: Порядковый номер реестровой записи в Реестре российской промышленной продукции (ПП РФ 719) или Единый реестр российской радиоэлектронной продукции (ПП РФ 878) / Едином реестре российских программ для электронных вычислительных машин и баз данных (ПП РФ | J4: Единица измерения | K4: Количество | L4: Цена за единицу, руб. без НДС | M4: Общая стоимость, руб. без НДС | N4: НДС, руб. | O4: Общая стоимость с НДС, руб. с НДС | P4: Перечень сопроводительных документов для оборудования ( в том числе подтверждающих качество Товара)
A5: 1 | B5: 2 | C5: 3 | D5: 4 | E5: 5 | F5: 6 | G5: 7 | H5: 8 | I5: 9 | J5: 10 | K5: 11 | L5: 12 | M5: 13 | N5: 14 | O5: 15 | P5: 18
A6: 2 | C6: ОКПД2 28.99.39 Поставка программно-технического комплекса для модернизации верхнего уровня автоматизированной системы управления технологическим процессом Чебоксарской ГЭС в г. Новочебоксарск Чувашской республики
C7: Новые шкафы в сборе | M7: =SUM(M8:M12) -> 0 | N7: =M7*0.22 -> 0 | O7: =M7+N7 -> 0
B8: 1 | C8: Шкаф ШКО1 | J8: компл | K8: 1
B9: 2 | C9: Шкаф ШКО2 | J9: компл | K9: 1
B10: 5 | C10: Шкаф ТСПД Устой-40.9 | J10: компл | K10: 1
B11: 6 | C11: Шкаф контроллера СОТИАССО №1 | J11: компл | K11: 1
B12: 7 | C12: Шкаф контроллера СОТИАССО №2 | J12: компл | K12: 1
B13: 7.1 | C13: Шкаф МСТ | J13: компл | K13: 1
C14: Комплекты для установки в существующие шкафы. Необходимо разбить на позиции (ценообразующие и являющиеся оборудованием) с указанием полного наименования (тип, марка, артикул) каждой составляющей и стоимости за единицу | M14: =SUM(M15,M34,M54,M74,M93,M113,M132,M154,M173,M193,M205,M221,M231,M249,M267,M274) -> 0 | N14: =M14*0.22 -> 0 | O14: =M14+N14 -> 0
B15: 8 | C15: Комплект в Шкаф ТСПД-1,2Г п.9 (существующий) | J15: компл. | K15: 1 | M15: =SUM(M16:M33) -> 0 | N15: =M15*0.22 -> 0 | O15: =M15+N15 -> 0
B16: 8.4 | C16: Коммутатор сети «А», в составе: | J16: компл | K16: 1
B17: 8.5 | C17: Промышленный модульный коммутатор L2 YN-SI5500AE | J17: шт | K17: 1
B18: 8.6 | C18: Оптический приемопередатчик SFP, 1G, 20км, SM, DDM, 1310нм, LC | J18: шт | K18: 2
B19: 8.7 | C19: Коммутатор сети «В», в составе: | J19: компл | K19: 1
B20: 8.8 | C20: Промышленный модульный коммутатор L2 YN-SI5500AE | J20: шт | K20: 1
B21: 8.9 | C21: Оптический приемопередатчик SFP, 1G, 20км, SM, DDM, 1310нм, LC | J21: шт | K21: 2
B22: 8.10 | C22: Коммутатор RedBox, в составе: | J22: компл | K22: 1
B23: 8.11.1 | C23: Промышленный модульный коммутатор L2 YN-SI3500AE | J23: шт | K23: 1
B24: 8.11.2 | C24: Интерфейсный модуль 4 х 10/100/1000BASE-T | J24: шт | K24: 1
B25: 8.11.3 | C25: Интерфейсный модуль 8 х 10/100/1000BASE-T RJ-45 | J25: шт | K25: 2
B26: 8.11.4 | C26: Оптический приемопередатчик SFP, 1G, 20км, SM, DDM, 1310нм, LC | J26: шт | K26: 1
B27: 8.11.5 | C27: Оптический приемопередатчик SFP, 100M, 20км, SM, DDM, 1310нм, LC | J27: шт | K27: 5
... B33: 8.16 | C33: Модуль питания на DIN-рейку | J33: шт | K33: 4
B34: 9 | C34: Комплект в Шкаф ТСПД-3,4Г п.9 (существующий) | J34: компл. | K34: 1 | M34: =SUM(M35:M53) -> 0 | N34: =M34*0.22 -> 0 | O34: =M34+N34 -> 0
B35: 9.4 | C35: Коммутатор сети «А», в составе: | J35: компл | K35: 1
B36: 9.5 | C36: Промышленный модульный коммутатор L2 YN-SI5500AE | J36: шт | K36: 1
B37: 9.6 | C37: Оптический приемопередатчик SFP, 1G, 20км, SM, DDM, 1310нм, LC | J37: шт | K37: 4
B38: 9.7 | C38: Оптический приемопередатчик SFP, 1G, 2км, MM, DDM, 1310нм, LC | J38: шт | K38: 4
B39: 9.8 | C39: Коммутатор сети «В», в составе: | J39: компл | K39: 1
B40: 9.8.1 | C40: Промышленный модульный коммутатор L2 YN-SI5500AE | J40: шт | K40: 1
B41: 9.8.2 | C41: Оптический приемопередатчик SFP, 1G, 20км, SM, DDM, 1310нм, LC | J41: шт | K41: 4
B42: 9.9 | C42: Коммутатор RedBox, в составе: | J42: компл | K42: 1
B43: 9.9.1 | C43: Промышленный модульный коммутатор L2 YN-SI3500AE | J43: шт | K43: 1
B44: 9.9.2 | C44: Интерфейсный модуль 4 х 10/100/1000BASE-T | J44: шт | K44: 1
B45: 9.9.3 | C45: Интерфейсный модуль 8 х 10/100/1000BASE-T RJ-45 | J45: шт | K45: 2
B46: 9.9.4 | C46: Оптический приемопередатчик SFP, 1G, 20км, SM, DDM, 1310нм, LC | J46: шт | K46: 1
... B50: 9.11 | C50: Патч-панель 19" 48 портов RJ-45 FTP 5e, | J50: шт | K50: 3
...

Sheet ФОТ
B3: калькулятор | C3: справка ФОТ
B4: Линейный руководитель (начальник отдела/департамента ИБ) | C4: руководитель проекта | D4: 17244 | E4: =D4/0.59*1.1 -> 32149.831 | F4: =31220/E4 -> 0.97107821
B5: Системный архитектор | C5: системный архитектор | D5: 19633 | E5: =D5/0.59*1.1 -> 36603.898 | F5: =31220/E5 -> 0.85291462
B6: Главный специалист | C6: архитектор сети | D6: 11987 | E6: =D6/0.59*1.1 -> 22348.644 | F6: =31220/E6 -> 1.3969528
B7: Ведущий специалист | C7: специалист Cisco | D7: 10333 | E7: =D7/0.59*1.1 -> 19264.915 | F7: =31220/E7 -> 1.6205625
B8: Специалист | C8: сервис-менеджер по информационным системам | D8: 5787 | E8: =D8/0.59*1.1 -> 10789.322 | F8: =31220/E8 -> 2.8936016
B9: Технический писатель/оформитель | C9: менеджер качества | D9: 8267 | E9: =D9/0.59*1.1 -> 15413.051 | F9: =31220/E9 -> 2.0255562 | G9: =E9*2 -> 30826.102
C12: специалист по оборудованию НР | D12: 10333 | E12: =D12/0.59*1.1 -> 19264.915 | F12: =31220/E12 -> 1.6205625
C13: архитектор виртуальной инфраструктуры | D13: 15500 | E13: =D13/0.59*1.1 -> 28898.305 | F13: =31220/E13 -> 1.0803402
C14: администратор проекта | D14: 8267 | E14: =D14/0.59*1.1 -> 15413.051 | F14: =31220/E14 -> 2.0255562
