Workbook

Sheet Административный-столовая
C2: Приложение №1 к техническому заданию на обслуживание пожарной сигнализации
A4: Объём технического обслуживания системы пожарной сигнализации в здании «Административный – столовая»
A6: № п/п | B6: № работ | C6: Наименование оборудолвания | D6: Ед. изм. | E6: Количество у.у. | F6: Кол-во | G6: ВСЕГО у.у.
A7: Приемно- контрольный прибор
A8: 1 | B8: 2- 046 | C8: За первый шлейф | D8: шт. | E8: 0.2 | F8: 3 | G8: =E8*F8 -> 0.6
A9: 2 | B9: 2- 047 | C9: За каждый последующий | D9: шт. | E9: 0.1 | F9: 15 | G9: =E9*F9 -> 1.5
A10: 3 | B10: 2- 048 | C10: Блоки выпрямительные, питания, автоматики, заряда | D10: шт. | E10: 1.5 | F10: 1 | G10: =E10*F10 -> 1.5
A11: 4 | B11: 2- 050 | C11: Проверка выдачи сигналов управления выносными оповещателями | D11: шт. | E11: 0.1 | F11: 5 | G11: =E11*F11 -> 0.5
A12: 5 | B12: 1-043 | C12: Приборы управления (типа "Альтоника"), устройства приемно-контрольные, сигнально-пусковые | D12: шт. | E12: 3.1 | F12: 1 | G12: =E12*F12 -> 3.1
A13: Шлейфы и извещатели пожарной, охранной сигнализации
A14: 6 | B14: 2-054 | C14: Шлейфы с автоматическими (ИП-101, ИП-105, СМК, ДМК) и ручными пожарными извещателями типа ИПР и аналоги | D14: шт. | E14: 0.1 | F14: 5 | G14: =E14*F14 -> 0.5
A15: 7 | B15: 2-055 | C15: Шлейф с пожарными извещателями типа ИП-103 | D15: шт. | E15: 0.02 | F15: 9 | G15: =E15*F15 -> 0.18
A16: 8 | B16: 2- 060 | C16: Извещатель пожарный дымовой , ИП 212 и аналогичные по тех. данным | D16: шт. | E16: 0.1 | F16: 46 | G16: =E16*F16 -> 4.6
A17: 9 | B17: 2-002 | C17: Устройства сигнальные звуковые всех типов | D17: шт. | E17: 0.1 | F17: 5 | G17: =E17*F17 -> 0.5
A18: 10 | B18: 2-003 | C18: Устройства сигнальные световые всех типов | D18: шт. | E18: 0.1 | F18: 5 | G18: =E18*F18 -> 0.5
A19: Соединительные линии
A20: 11 | B20: 2- 067 | C20: Провод однопарный | D20: м | E20: 0.02 | F20: 399 | G20: =E20*F20 -> 7.98
A21: ИТОГО по регламенту 1 за месяц: | F21: (у.у.) | G21: =SUM(G8:G12,G14:G18,G20:G20) -> 21.46
A22: 12 | B22: 2-069 | C22: Измерение электрического сопротивления шлейфа сигнализации (за одно направление) | D22: 1 шт. | E22: 0.2 | F22: 18 | G22: =E22*F22 -> 3.6
A23: ИТОГО по регламенту 1 за год: | F23: (у.у.) | G23: =SUM(G21*12+G22) -> 261.12

Sheet Корпус "Солнечный"
G1: Приложение №2 к техническому заданию на обслуживание пожарной сигнализации
A2: Объём технического обслуживания системы пожарной сигнализации в здании корпуса «Солнечный»
A3: № п/п | B3: № работ | C3: Наименование оборудолвания | D3: Ед. изм. | E3: Количество у.у. | F3: Кол-во | G3: ВСЕГО у.у.
A4: Приемно- контрольный прибор
A5: 1 | B5: 2- 046 | C5: За первый шлейф | D5: шт. | E5: 0.2 | F5: 1 | G5: =E5*F5 -> 0.2
A6: 2 | B6: 2- 047 | C6: За каждый последующий | D6: шт. | E6: 0.1 | F6: 6 | G6: =E6*F6 -> 0.6
A7: 3 | B7: 2- 050 | C7: Проверка выдачи сигналов управления выносными оповещателями | D7: шт. | E7: 0.1 | F7: 5 | G7: =E7*F7 -> 0.5
A8: Шлейфы и извещатели пожарной, охранной сигнализации
A9: 4 | B9: 2-054 | C9: Шлейфы с автоматическими (ИП-101, ИП-105, СМК, ДМК) и ручными пожарными извещателями типа ИПР и аналоги | D9: шт. | E9: 0.1 | F9: 5 | G9: =E9*F9 -> 0.5
A10: 5 | B10: 2- 060 | C10: Извещатель пожарный дымовой , ИП 212 и аналогичные по тех. данным | D10: шт. | E10: 0.1 | F10: 66 | G10: =E10*F10 -> 6.6
A11: 6 | B11: 2-002 | C11: Устройства сигнальные звуковые всех типов | D11: шт. | E11: 0.1 | F11: 7 | G11: =E11*F11 -> 0.7
A12: 7 | B12: 2-003 | C12: Устройства сигнальные световые всех типов | D12: шт. | E12: 0.1 | F12: 4 | G12: =E12*F12 -> 0.4
A13: Соединительные линии
A14: 8 | B14: 2- 067 | C14: Провод однопарный | D14: м | E14: 0.02 | F14: 473 | G14: =E14*F14 -> 9.46
A15: ИТОГО по регламенту 1 за месяц: | F15: (у.у.) | G15: =SUM(G5:G7,G9:G12,G14) -> 18.96
A16: 9 | B16: 2-069 | C16: Измерение электрического сопротивления шлейфа сигнализации (за одно направление) | D16: 1 шт. | E16: 0.2 | F16: 7 | G16: =E16*F16 -> 1.4
A17: ИТОГО по регламенту 1 за год: | F17: (у.у.) | G17: =SUM(G15*12+G16) -> 228.92

Sheet Корпус "Олимпийский"
G1: Приложение №3 к техническому заданию на обслуживание пожарной сигнализации
A2: Объём технического обслуживания системы пожарной сигнализации в здании корпуса «Олимпийский»
A4: № п/п | B4: № работ | C4: Наименование оборудолвания | D4: Ед. изм. | E4: Количество у.у. | F4: Кол-во | G4: ВСЕГО у.у.
A5: Приемно- контрольный прибор
A6: 1 | B6: 2- 046 | C6: За первый шлейф | D6: шт. | E6: 0.2 | F6: 1 | G6: =E6*F6 -> 0.2
A7: 2 | B7: 2- 047 | C7: За каждый последующий | D7: шт. | E7: 0.1 | F7: 7 | G7: =E7*F7 -> 0.7
A8: 3 | B8: 2- 050 | C8: Проверка выдачи сигналов управления выносными оповещателями | D8: шт. | E8: 0.1 | F8: 4 | G8: =E8*F8 -> 0.4
A9: 4 | B9: 1-043 | C9: Приборы управления (типа "Альтоника"), устройства приемно-контрольные, сигнально-пусковые | D9: шт. | E9: 3.1 | F9: 1 | G9: =E9*F9 -> 3.1
A10: Шлейфы и извещатели пожарной, охранной сигнализации
A11: 5 | B11: 2-054 | C11: Шлейфы с автоматическими (ИП-101, ИП-105, СМК, ДМК) и ручными пожарными извещателями типа ИПР и аналоги | D11: шт. | E11: 0.1 | F11: 4 | G11: =E11*F11 -> 0.4
A12: 6 | B12: 2- 060 | C12: Извещатель пожарный дымовой , ИП 212 и аналогичные по тех. данным | D12: шт. | E12: 0.1 | F12: 52 | G12: =E12*F12 -> 5.2
A13: 7 | B13: 2-002 | C13: Устройства сигнальные звуковые всех типов | D13: шт. | E13: 0.1 | F13: 5 | G13: =E13*F13 -> 0.5
A14: 8 | B14: 2-003 | C14: Устройства сигнальные световые всех типов | D14: шт. | E14: 0.1 | F14: 6 | G14: =E14*F14 -> 0.6
A15: Соединительные линии
A16: 9 | B16: 2- 067 | C16: Провод однопарный | D16: м | E16: 0.02 | F16: 373 | G16: =E16*F16 -> 7.46
A17: ИТОГО по регламенту 1 за месяц: | F17: (у.у.) | G17: =SUM(G6:G9,G11:G14,G16:G16) -> 18.56
A18: 10 | B18: 2-069 | C18: Измерение электрического сопротивления шлейфа сигнализации (за одно направление) | D18: 1 шт. | E18: 0.2 | F18: 8 | G18: =E18*F18 -> 1.6
A19: ИТОГО по регламенту 1 за год: | F19: (у.у.) | G19: =SUM(G17*12+G18) -> 224.32

Sheet Спортзал
G1: Приложение №4 к техническому заданию на обслуживание пожарной сигнализации
A2: Объём технического обслуживания системы пожарной сигнализации в здании спортзала
A3: № п/п | B3: № работ | C3: Наименование оборудолвания | D3: Ед. изм. | E3: Количество у.у. | F3: Кол-во | G3: ВСЕГО у.у.
A4: Приемно- контрольный прибор
A5: 1 | B5: 2- 046 | C5: За первый шлейф | D5: шт. | E5: 0.2 | F5: 1 | G5: =E5*F5 -> 0.2
A6: 2 | B6: 2- 047 | C6: За каждый последующий | D6: шт. | E6: 0.1 | F6: 4 | G6: =E6*F6 -> 0.4
A7: 3 | B7: 1-043 | C7: Приборы управления (типа "Альтоника"), устройства приемно-контрольные, сигнально-пусковые | D7: шт. | E7: 3.1 | F7: 1 | G7: =E7*F7 -> 3.1
A8: Шлейфы и извещатели пожарной, охранной сигнализации
A9: 4 | B9: 2-054 | C9: Шлейфы с автоматическими (ИП-101, ИП-105, СМК, ДМК) и ручными пожарными извещателями типа ИПР и аналоги | D9: шт. | E9: 0.1 | F9: 3 | G9: =E9*F9 -> 0.3
A10: 5 | B10: 2- 060 | C10: Извещатель пожарный дымовой , ИП 212 и аналогичные по тех. данным | D10: шт. | E10: 0.1 | F10: 12 | G10: =E10*F10 -> 1.2
A11: 6 | B11: 2-064 | C11: Извещатель пожарный двухпозиционный типа ИДПЛ, Вектор-2, Радий и т.п. | D11: 1 комплект. | E11: 0.6 | F11: 6 | G11: =E11*F11 -> 3.6
A12: 7 | B12: 2-003 | C12: Устройства сигнальные световые всех типов | D12: шт. | E12: 0.1 | F12: 6 | G12: =E12*F12 -> 0.6
A13: Соединительные линии
A14: 8 | B14: 2- 067 | C14: Провод однопарный | D14: м | E14: 0.02 | F14: 139 | G14: =E14*F14 -> 2.78
A15: ИТОГО по регламенту 1 за месяц: | F15: (у.у.) | G15: =SUM(G5:G7,G9:G12,G14:G14) -> 12.18
A16: 9 | B16: 2-069 | C16: Измерение электрического сопротивления шлейфа сигнализации (за одно направление) | D16: 1 шт. | E16: 0.2 | F16: 5 | G16: =E16*F16 -> 1
A17: ИТОГО по регламенту 1 за год: | F17: (у.у.) | G17: =SUM(G15*12+G16) -> 147.16

Sheet Гараж № 1
G1: Приложение №5 к техническому заданию на обслуживание пожарной сигнализации
A2: Объём технического обслуживания системы пожарной сигнализации в здании гаража №1
A3: № п/п | B3: № работ | C3: Наименование оборудолвания | D3: Ед. изм. | E3: Количество у.у. | F3: Кол-во | G3: ВСЕГО у.у.
A4: Приемно- контрольный прибор
A5: 1 | B5: 2- 046 | C5: За первый шлейф | D5: шт. | E5: 0.2 | F5: 1 | G5: =E5*F5 -> 0.2
A6: 3 | B6: 2- 048 | C6: Блоки выпрямительные, питания, автоматики, заряда | D6: шт. | E6: 1.5 | F6: 1 | G6: =E6*F6 -> 1.5
A7: 4 | B7: 2- 050 | C7: Проверка выдачи сигналов управления выносными оповещателями | D7: шт. | E7: 0.1 | F7: 1 | G7: =E7*F7 -> 0.1
A8: 5 | B8: 1-043 | C8: Приборы управления (типа "Альтоника"), устройства приемно-контрольные, сигнально-пусковые | D8: шт. | E8: 3.1 | F8: 1 | G8: =E8*F8 -> 3.1
A9: Шлейфы и извещатели пожарной, охранной сигнализации
A10: 6 | B10: 2-054 | C10: Шлейфы с автоматическими (ИП-101, ИП-105, СМК, ДМК) и ручными пожарными извещателями типа ИПР и аналоги | D10: шт. | E10: 0.1 | F10: 6 | G10: =E10*F10 -> 0.6
A11: 7 | B11: 2-055 | C11: Шлейф с пожарными извещателями типа ИП-103 | D11: шт. | E11: 0.02 | F11: 9 | G11: =E11*F11 -> 0.18
A12: 8 | B12: 2-003 | C12: Устройства сигнальные световые всех типов | D12: шт. | E12: 0.1 | F12: 1 | G12: =E12*F12 -> 0.1
A13: Соединительные линии
A14: 9 | B14: 2- 067 | C14: Провод однопарный | D14: м | E14: 0.02 | F14: 99 | G14: =E14*F14 -> 1.98
A15: ИТОГО по регламенту 1 за месяц: | F15: (у.у.) | G15: =SUM(G5:G8,G10:G12,G14:G14) -> 7.76
A16: 10 | B16: 2-069 | C16: Измерение электрического сопротивления шлейфа сигнализации (за одно направление) | D16: 1 шт. | E16: 0.2 | F16: 1 | G16: =E16*F16 -> 0.2
A17: ИТОГО по регламенту 1 за год: | F17: (у.у.) | G17: =SUM(G15*12+G16) -> 93.32

Sheet Корпус "Южный"
G1: Приложение №6 к техническому заданию на обслуживание пожарной сигнализации
A2: Объём технического обслуживания системы пожарной сигнализации в здании корпуса «Южный»
A3: № п/п | B3: № работ | C3: Наименование оборудолвания | D3: Ед. изм. | E3: Количество у.у. | F3: Кол-во | G3: ВСЕГО у.у.
A4: Приемно- контрольный прибор
A5: 1 | B5: 2- 046 | C5: За первый шлейф | D5: шт. | E5: 0.2 | F5: 1 | G5: =E5*F5 -> 0.2
A6: 2 | B6: 2- 047 | C6: За каждый последующий | D6: шт. | E6: 0.1 | F6: 2 | G6: =E6*F6 -> 0.2
A7: 3 | B7: 2- 050 | C7: Проверка выдачи сигналов управления выносными оповещателями | D7: шт. | E7: 0.1 | F7: 3 | G7: =E7*F7 -> 0.3
A8: Шлейфы и извещатели пожарной, охранной сигнализации
A9: 4 | B9: 2-054 | C9: Шлейфы с автоматическими (ИП-101, ИП-105, СМК, ДМК) и ручными пожарными извещателями типа ИПР и аналоги | D9: шт. | E9: 0.1 | F9: 5 | G9: =E9*F9 -> 0.5
A10: 5 | B10: 2- 060 | C10: Извещатель пожарный дымовой , ИП 212 и аналогичные по тех. данным | D10: шт. | E10: 0.1 | F10: 20 | G10: =E10*F10 -> 2
A11: 6 | B11: 2-002 | C11: Устройства сигнальные звуковые всех типов | D11: шт. | E11: 0.1 | F11: 3 | G11: =E11*F11 -> 0.3
A12: 7 | B12: 2-003 | C12: Устройства сигнальные световые всех типов | D12: шт. | E12: 0.1 | F12: 3 | G12: =E12*F12 -> 0.3
A13: Соединительные линии
A14: 8 | B14: 2- 067 | C14: Провод однопарный | D14: м | E14: 0.02 | F14: 167 | G14: =E14*F14 -> 3.34
A15: ИТОГО по регламенту 1 за месяц: | F15: (у.у.) | G15: =SUM(G5:G7,G9:G12,G14:G14) -> 7.14
A16: 9 | B16: 2-069 | C16: Измерение электрического сопротивления шлейфа сигнализации (за одно направление) | D16: 1 шт. | E16: 0.2 | F16: 3 | G16: =E16*F16 -> 0.6
A17: ИТОГО по регламенту 1 за год: | F17: (у.у.) | G17: =SUM(G15*12+G16) -> 86.28

Sheet Летняя игровая
G1: Приложение №7 к техническому заданию на обслуживание пожарной сигнализации
A2: Объём технического обслуживания системы пожарной сигнализации в здании летней игровой
A3: № п/п | B3: № работ | C3: Наименование оборудолвания | D3: Ед. изм. | E3: Количество у.у. | F3: Кол-во | G3: ВСЕГО у.у.
A4: Приемно- контрольный прибор
A5: 1 | B5: 2- 046 | C5: За первый шлейф | D5: шт. | E5: 0.2 | F5: 1 | G5: =E5*F5 -> 0.2
A6: 2 | B6: 2- 050 | C6: Проверка выдачи сигналов управления выносными оповещателями | D6: шт. | E6: 0.1 | F6: 1 | G6: =E6*F6 -> 0.1
A7: 3 | B7: 1-043 | C7: Приборы управления (типа "Альтоника"), устройства приемно-контрольные, сигнально-пусковые | D7: шт. | E7: 3.1 | F7: 1 | G7: =E7*F7 -> 3.1
A8: Шлейфы и извещатели пожарной, охранной сигнализации
A9: 4 | B9: 2-054 | C9: Шлейфы с автоматическими (ИП-101, ИП-105, СМК, ДМК) и ручными пожарными извещателями типа ИПР и аналоги | D9: шт. | E9: 0.1 | F9: 1 | G9: =E9*F9 -> 0.1
A10: 5 | B10: 2- 060 | C10: Извещатель пожарный дымовой , ИП 212 и аналогичные по тех. данным | D10: шт. | E10: 0.1 | F10: 4 | G10: =E10*F10 -> 0.4
A11: 6 | B11: 2-003 | C11: Устройства сигнальные световые всех типов | D11: шт. | E11: 0.1 | F11: 2 | G11: =E11*F11 -> 0.2
A12: Соединительные линии
A13: 7 | B13: 2- 067 | C13: Провод однопарный | D13: м | E13: 0.02 | F13: 200 | G13: =E13*F13 -> 4
A14: ИТОГО по регламенту 1 за месяц: | F14: (у.у.) | G14: =SUM(G5:G7,G9:G11,G13:G13) -> 8.1
A15: 8 | B15: 2-069 | C15: Измерение электрического сопротивления шлейфа сигнализации (за одно направление) | D15: 1 шт. | E15: 0.2 | F15: 1 | G15: =E15*F15 -> 0.2
A16: ИТОГО по регламенту 1 за год: | F16: (у.у.) | G16: =SUM(G14*12+G15) -> 97.4

Sheet Котельная-прачечная-душевая
G1: Приложение №8 к техническому заданию на обслуживание пожарной сигнализации
A2: Объём технического обслуживания системы пожарной сигнализации в здании «Котельная – прачечная - душевая»
A3: № п/п | B3: № работ | C3: Наименование оборудолвания | D3: Ед. изм. | E3: Количество у.у. | F3: Кол-во | G3: ВСЕГО у.у.
A4: Приемно- контрольный прибор
A5: 1 | B5: 2- 046 | C5: За первый шлейф | D5: шт. | E5: 0.2 | F5: 1 | G5: =E5*F5 -> 0.2
A6: 2 | B6: 2- 048 | C6: Блоки выпрямительные, питания, автоматики, заряда | D6: шт. | E6: 1.5 | F6: 1 | G6: =E6*F6 -> 1.5
A7: 3 | B7: 2- 050 | C7: Проверка выдачи сигналов управления выносными оповещателями | D7: шт. | E7: 0.1 | F7: 2 | G7: =E7*F7 -> 0.2
A8: 4 | B8: 1-043 | C8: Приборы управления (типа "Альтоника"), устройства приемно-контрольные, сигнально-пусковые | D8: шт. | E8: 3.1 | F8: 2 | G8: =E8*F8 -> 6.2
A9: Шлейфы и извещатели пожарной, охранной сигнализации
A10: 5 | B10: 2-054 | C10: Шлейфы с автоматическими (ИП-101, ИП-105, СМК, ДМК) и ручными пожарными извещателями типа ИПР и аналоги | D10: шт. | E10: 0.1 | F10: 8 | G10: =E10*F10 -> 0.8
A11: 6 | B11: 2- 060 | C11: Извещатель пожарный дымовой , ИП 212 и аналогичные по тех. данным | D11: шт. | E11: 0.1 | F11: 3 | G11: =E11*F11 -> 0.3
A12: 7 | B12: 2-002 | C12: Устройства сигнальные звуковые всех типов | D12: шт. | E12: 0.1 | F12: 2 | G12: =E12*F12 -> 0.2
A13: 8 | B13: 2-003 | C13: Устройства сигнальные световые всех типов | D13: шт. | E13: 0.1 | F13: 2 | G13: =E13*F13 -> 0.2
A14: Соединительные линии
A15: 9 | B15: 2- 067 | C15: Провод однопарный | D15: м | E15: 0.02 | F15: 400 | G15: =E15*F15 -> 8
A16: ИТОГО по регламенту 1 за месяц: | F16: (у.у.) | G16: =SUM(G5:G8,G10:G13,G15:G15) -> 17.6
A17: 10 | B17: 2-069 | C17: Измерение электрического сопротивления шлейфа сигнализации (за одно направление) | D17: 1 шт. | E17: 0.2 | F17: 1 | G17: =E17*F17 -> 0.2
A18: ИТОГО по регламенту 1 за год: | F18: (у.у.) | G18: =SUM(G16*12+G17) -> 211.4

Sheet 4-х местные корпуса № 1,2,3,4
G1: Приложение №9 к техническому заданию на обслуживание пожарной сигнализации
A2: Объём технического обслуживания системы пожарной сигнализации в зданиях 4-х местных корпусов
A3: № п/п | B3: № работ | C3: Наименование оборудолвания | D3: Ед. изм. | E3: Количество у.у. | F3: Кол-во | G3: ВСЕГО у.у.
A4: Приемно- контрольный прибор
A5: 1 | B5: 2- 046 | C5: За первый шлейф | D5: шт. | E5: 0.2 | F5: 4 | G5: =E5*F5 -> 0.8
A6: 2 | B6: 2- 048 | C6: Блоки выпрямительные, питания, автоматики, заряда | D6: шт. | E6: 1.5 | F6: 1 | G6: =E6*F6 -> 1.5
A7: 3 | B7: 2- 050 | C7: Проверка выдачи сигналов управления выносными оповещателями | D7: шт. | E7: 0.1 | F7: 4 | G7: =E7*F7 -> 0.4
A8: Шлейфы и извещатели пожарной, охранной сигнализации
A9: 4 | B9: 2- 060 | C9: Извещатель пожарный дымовой , ИП 212 и аналогичные по тех. данным | D9: шт. | E9: 0.1 | F9: 32 | G9: =E9*F9 -> 3.2
A10: 5 | B10: 2-002 | C10: Устройства сигнальные звуковые всех типов | D10: шт. | E10: 0.1 | F10: 4 | G10: =E10*F10 -> 0.4
A11: 6 | B11: 2-003 | C11: Устройства сигнальные световые всех типов | D11: шт. | E11: 0.1 | F11: 4 | G11: =E11*F11 -> 0.4
A12: Соединительные линии
A13: 7 | B13: 2- 067 | C13: Провод однопарный | D13: м | E13: 0.02 | F13: 200 | G13: =E13*F13 -> 4
A14: ИТОГО по регламенту 1 за месяц: | F14: (у.у.) | G14: =SUM(G5:G7,G9:G11,G13:G13) -> 10.7
A15: 8 | B15: 2-069 | C15: Измерение электрического сопротивления шлейфа сигнализации (за одно направление) | D15: 1 шт. | E15: 0.2 | F15: 4 | G15: =E15*F15 -> 0.8
A16: ИТОГО по регламенту 1 за год: | F16: (у.у.) | G16: =SUM(G14*12+G15) -> 129.2

Sheet Складские помещения
G1: Приложение №10 к техническому заданию на обслуживание пожарной сигнализации
A2: Объём технического обслуживания системы пожарной сигнализации в здании «Складские помещения»
A3: № п/п | B3: № работ | C3: Наименование оборудолвания | D3: Ед. изм. | E3: Количество у.у. | F3: Кол-во | G3: ВСЕГО у.у.
A4: Приемно- контрольный прибор
A5: 1 | B5: 2- 046 | C5: За первый шлейф | D5: шт. | E5: 0.2 | F5: 1 | G5: =E5*F5 -> 0.2
A6: 2 | B6: 2- 047 | C6: За каждый последующий | D6: шт. | E6: 0.1 | F6: 3 | G6: =E6*F6 -> 0.3
A7: 3 | B7: 2- 048 | C7: Блоки выпрямительные, питания, автоматики, заряда | D7: шт. | E7: 1.5 | F7: 1 | G7: =E7*F7 -> 1.5
A8: 4 | B8: 2- 050 | C8: Проверка выдачи сигналов управления выносными оповещателями | D8: шт. | E8: 0.1 | F8: 4 | G8: =E8*F8 -> 0.4
A9: Шлейфы и извещатели пожарной, охранной сигнализации
A10: 5 | B10: 2-054 | C10: Шлейфы с автоматическими (ИП-101, ИП-105, СМК, ДМК) и ручными пожарными извещателями типа ИПР и аналоги | D10: шт. | E10: 0.1 | F10: 3 | G10: =E10*F10 -> 0.3
A11: 6 | B11: 2- 060 | C11: Извещатель пожарный дымовой , ИП 212 и аналогичные по тех. данным | D11: шт. | E11: 0.1 | F11: 7 | G11: =E11*F11 -> 0.7
A12: 7 | B12: 2-002 | C12: Устройства сигнальные звуковые всех типов | D12: шт. | E12: 0.1 | F12: 3 | G12: =E12*F12 -> 0.3
A13: 8 | B13: 2-003 | C13: Устройства сигнальные световые всех типов | D13: шт. | E13: 0.1 | F13: 1 | G13: =E13*F13 -> 0.1
A14: Соединительные линии
A15: 9 | B15: 2- 067 | C15: Провод однопарный | D15: м | E15: 0.02 | F15: 110 | G15: =E15*F15 -> 2.2
A16: ИТОГО по регламенту 1 за месяц: | F16: (у.у.) | G16: =SUM(G5:G8,G10:G13,G15) -> 6
A17: 10 | B17: 2-069 | C17: Измерение электрического сопротивления шлейфа сигнализации (за одно направление) | D17: 1 шт. | E17: 0.2 | F17: 4 | G17: =E17*F17 -> 0.8
A18: ИТОГО по регламенту 1 за год: | F18: (у.у.) | G18: =SUM(G16*12+G17) -> 72.8

Sheet Летний дом у озера (Изолятор)
G1: Приложение №11 к техническому заданию на обслуживание пожарной сигнализации
A2: Объём технического обслуживания системы пожарной сигнализации в здании летнего дома у озера (изолятор)
A3: № п/п | B3: № работ | C3: Наименование оборудолвания | D3: Ед. изм. | E3: Количество у.у. | F3: Кол-во | G3: ВСЕГО у.у.
A4: Приемно- контрольный прибор
A5: 1 | B5: 2- 046 | C5: За первый шлейф | D5: шт. | E5: 0.2 | F5: 1 | G5: =E5*F5 -> 0.2
A6: 2 | B6: 2- 047 | C6: За каждый последующий | D6: шт. | E6: 0.1 | F6: 3 | G6: =E6*F6 -> 0.3
A7: 3 | B7: 2- 048 | C7: Блоки выпрямительные, питания, автоматики, заряда | D7: шт. | E7: 1.5 | F7: 1 | G7: =E7*F7 -> 1.5
A8: 4 | B8: 1-043 | C8: Приборы управления (типа "Альтоника"), устройства приемно-контрольные, сигнально-пусковые | D8: шт. | E8: 3.1 | F8: 1 | G8: =E8*F8 -> 3.1
A9: Шлейфы и извещатели пожарной, охранной сигнализации
A10: 5 | B10: 2-054 | C10: Шлейфы с автоматическими (ИП-101, ИП-105, СМК, ДМК) и ручными пожарными извещателями типа ИПР и аналоги | D10: шт. | E10: 0.1 | F10: 2 | G10: =E10*F10 -> 0.2
A11: 6 | B11: 2- 060 | C11: Извещатель пожарный дымовой , ИП 212 и аналогичные по тех. данным | D11: шт. | E11: 0.1 | F11: 7 | G11: =E11*F11 -> 0.7
A12: 7 | B12: 2-002 | C12: Устройства сигнальные звуковые всех типов | D12: шт. | E12: 0.1 | F12: 2 | G12: =E12*F12 -> 0.2
A13: Соединительные линии
A14: 8 | B14: 2- 067 | C14: Провод однопарный | D14: м | E14: 0.02 | F14: 50 | G14: =E14*F14 -> 1
A15: ИТОГО по регламенту 1 за месяц: | F15: (у.у.) | G15: =SUM(G5:G8,G10:G12,G14:G14) -> 7.2
A16: 9 | B16: 2-069 | C16: Измерение электрического сопротивления шлейфа сигнализации (за одно направление) | D16: 1 шт. | E16: 0.2 | F16: 4 | G16: =E16*F16 -> 0.8
A17: ИТОГО по регламенту 1 за год: | F17: (у.у.) | G17: =SUM(G15*12+G16) -> 87.2

Sheet Гараж № 2
G1: Приложение №12 к техническому заданию на обслуживание пожарной сигнализации
A2: Объём технического обслуживания системы пожарной сигнализации в здании гаража №2
A3: № п/п | B3: № работ | C3: Наименование оборудолвания | D3: Ед. изм. | E3: Количество у.у. | F3: Кол-во | G3: ВСЕГО у.у.
A4: Приемно- контрольный прибор
A5: 1 | B5: 2- 046 | C5: За первый шлейф | D5: шт. | E5: 0.2 | F5: 1 | G5: =E5*F5 -> 0.2
A6: 2 | B6: 2- 047 | C6: За каждый последующий | D6: шт. | E6: 0.1 | F6: 2 | G6: =E6*F6 -> 0.2
A7: 3 | B7: 2- 048 | C7: Блоки выпрямительные, питания, автоматики, заряда | D7: шт. | E7: 1.5 | F7: 1 | G7: =E7*F7 -> 1.5
A8: 4 | B8: 1-043 | C8: Приборы управления (типа "Альтоника"), устройства приемно-контрольные, сигнально-пусковые | D8: шт. | E8: 3.1 | F8: 1 | G8: =E8*F8 -> 3.1
A9: Шлейфы и извещатели пожарной, охранной сигнализации
A10: 5 | B10: 2-054 | C10: Шлейфы с автоматическими (ИП-101, ИП-105, СМК, ДМК) и ручными пожарными извещателями типа ИПР и аналоги | D10: шт. | E10: 0.1 | F10: 32 | G10: =E10*F10 -> 3.2
A11: 6 | B11: 2-002 | C11: Устройства сигнальные звуковые всех типов | D11: шт. | E11: 0.1 | F11: 7 | G11: =E11*F11 -> 0.7
A12: Соединительные линии
A13: 7 | B13: 2- 067 | C13: Провод однопарный | D13: м | E13: 0.02 | F13: 330 | G13: =E13*F13 -> 6.6
A14: 8 | B14: 2- 068 | C14: Многопарные соединительные линии | D14: 10 м | E14: 0.3 | F14: 0.5 | G14: =E14*F14 -> 0.15
A15: ИТОГО по регламенту 1 за месяц: | F15: (у.у.) | G15: =SUM(G5:G8,G10:G11,G13:G14) -> 15.65
A16: 9 | B16: 2-069 | C16: Измерение электрического сопротивления шлейфа сигнализации (за одно направление) | D16: 1 шт. | E16: 0.2 | F16: 3 | G16: =E16*F16 -> 0.6
A17: ИТОГО по регламенту 1 за год: | F17: (у.у.) | G17: =SUM(G15*12+G16) -> 188.4

Sheet Летний медпункт 
G1: Приложение №13 к техническому заданию на обслуживание пожарной сигнализации
A2: Объём технического обслуживания системы пожарной сигнализации в здании летнего медпункта
A3: № п/п | B3: № работ | C3: Наименование оборудолвания | D3: Ед. изм. | E3: Количество у.у. | F3: Кол-во | G3: ВСЕГО у.у.
A4: Приемно- контрольный прибор
A5: 1 | B5: 2- 046 | C5: За первый шлейф | D5: шт. | E5: 0.2 | F5: 1 | G5: =E5*F5 -> 0.2
A6: 2 | B6: 2- 048 | C6: Блоки выпрямительные, питания, автоматики, заряда | D6: шт. | E6: 1.5 | F6: 1 | G6: =E6*F6 -> 1.5
A7: Шлейфы и извещатели пожарной, охранной сигнализации
A8: 3 | B8: 2- 060 | C8: Извещатель пожарный дымовой , ИП 212 и аналогичные по тех. данным | D8: шт. | E8: 0.1 | F8: 6 | G8: =E8*F8 -> 0.6
A9: 4 | B9: 2-002 | C9: Устройства сигнальные звуковые всех типов | D9: шт. | E9: 0.1 | F9: 2 | G9: =E9*F9 -> 0.2
A10: 5 | B10: 2-003 | C10: Устройства сигнальные световые всех типов | D10: шт. | E10: 0.1 | F10: 1 | G10: =E10*F10 -> 0.1
A11: Соединительные линии
A12: 6 | B12: 2- 067 | C12: Провод однопарный | D12: м | E12: 0.02 | F12: 50 | G12: =E12*F12 -> 1
A13: ИТОГО по регламенту 1 за месяц: | F13: (у.у.) | G13: =SUM(G5:G6,G8:G10,G12:G12) -> 3.6
A14: 7 | B14: 2-069 | C14: Измерение электрического сопротивления шлейфа сигнализации (за одно направление) | D14: 1 шт. | E14: 0.2 | F14: 1 | G14: =E14*F14 -> 0.2
A15: ИТОГО по регламенту 1 за год: | F15: (у.у.) | G15: =SUM(G13*12+G14) -> 43.4

Sheet Автостоянка теплая
G1: Приложение №14 к техническому заданию на обслуживание пожарной сигнализации
A2: Объём технического обслуживания системы пожарной сигнализации в здании автостоянки теплой с учебными классами
A3: № п/п | B3: № работ | C3: Наименование оборудолвания | D3: Ед. изм. | E3: Количество у.у. | F3: Кол-во приборов | G3: ВСЕГО у.у.
A4: Приемно- контрольный прибор
A5: 1 | B5: 2- 046 | C5: За первый шлейф | D5: шт. | E5: 0.2 | F5: 1 | G5: =E5*F5 -> 0.2
A6: 2 | B6: 2- 047 | C6: За каждый последующий | D6: шт. | E6: 0.1 | F6: 2 | G6: =E6*F6 -> 0.2
A7: 3 | B7: 2- 048 | C7: Блоки выпрямительные, питания, автоматики, заряда | D7: шт. | E7: 1.5 | F7: 1 | G7: =E7*F7 -> 1.5
A8: Шлейфы и извещатели пожарной, охранной сигнализации
A9: 4 | B9: 2-054 | C9: Шлейфы с автоматическими (ИП-101, ИП-105, СМК, ДМК) и ручными пожарными извещателями типа ИПР и аналоги | D9: шт. | E9: 0.1 | F9: 6 | G9: =E9*F9 -> 0.6
A10: 5 | B10: 2-055 | C10: Шлейф с пожарными извещателями типа ИП-103 | D10: шт. | E10: 0.02 | F10: 3 | G10: =E10*F10 -> 0.06
A11: 6 | B11: 2- 060 | C11: Извещатель пожарный дымовой , ИП 212 и аналогичные по тех. данным | D11: шт. | E11: 0.1 | F11: 14 | G11: =E11*F11 -> 1.4
A12: 7 | B12: 2-002 | C12: Устройства сигнальные звуковые всех типов | D12: шт. | E12: 0.1 | F12: 2 | G12: =E12*F12 -> 0.2
A13: 8 | B13: 2-003 | C13: Устройства сигнальные световые всех типов | D13: шт. | E13: 0.1 | F13: 1 | G13: =E13*F13 -> 0.1
A14: Соединительные линии
A15: 9 | B15: 2- 067 | C15: Провод однопарный | D15: м | E15: 0.02 | F15: 115 | G15: =E15*F15 -> 2.3
A16: ИТОГО по регламенту 1 за месяц: | F16: (у.у.) | G16: =SUM(G5:G7,G9:G13,G15:G15) -> 6.56
A17: 10 | B17: 2-069 | C17: Измерение электрического сопротивления шлейфа сигнализации (за одно направление) | D17: 1 шт. | E17: 0.2 | F17: 3 | G17: =E17*F17 -> 0.6
A18: ИТОГО по регламенту 1 за год: | F18: (у.у.) | G18: =SUM(G16*12+G17) -> 79.32

Sheet Пост охраны
G1: Приложение №15 к техническому заданию на обслуживание пожарной сигнализации
A2: Объём технического обслуживания системы пожарной сигнализации в здании поста охраны
A3: № п/п | B3: № работ | C3: Наименование оборудолвания | D3: Ед. изм. | E3: Количество у.у. | F3: Кол-во | G3: ВСЕГО у.у.
A4: Приемно- контрольный прибор
A5: 1 | B5: 2- 046 | C5: За первый шлейф | D5: шт. | E5: 0.2 | F5: 1 | G5: =E5*F5 -> 0.2
A6: 2 | B6: 2- 048 | C6: Блоки выпрямительные, питания, автоматики, заряда | D6: шт. | E6: 1.5 | F6: 2 | G6: =E6*F6 -> 3
A7: 3 | B7: 1-043 | C7: Приборы управления (типа "Альтоника"), устройства приемно-контрольные, сигнально-пусковые | D7: шт. | E7: 3.1 | F7: 2 | G7: =E7*F7 -> 6.2
A8: Шлейфы и извещатели пожарной, охранной сигнализации
A9: 4 | B9: 2-054 | C9: Шлейфы с автоматическими (ИП-101, ИП-105, СМК, ДМК) и ручными пожарными извещателями типа ИПР и аналоги | D9: шт. | E9: 0.1 | F9: 0 | G9: =E9*F9 -> 0
A10: 5 | B10: 2- 060 | C10: Извещатель пожарный дымовой , ИП 212 и аналогичные по тех. данным | D10: шт. | E10: 0.1 | F10: 0 | G10: =E10*F10 -> 0
A11: 6 | B11: 2-002 | C11: Устройства сигнальные звуковые всех типов | D11: шт. | E11: 0.1 | F11: 0 | G11: =E11*F11 -> 0
A12: Соединительные линии
A13: 7 | B13: 2- 067 | C13: Провод однопарный | D13: м | E13: 0.02 | F13: 10 | G13: =E13*F13 -> 0.2
A14: ИТОГО по регламенту 1 за месяц: | F14: (у.у.) | G14: =SUM(G5:G7,G9:G11,G13:G13) -> 9.6
A15: 8 | B15: 2-069 | C15: Измерение электрического сопротивления шлейфа сигнализации (за одно направление) | D15: 1 шт. | E15: 0.2 | F15: 1 | G15: =E15*F15 -> 0.2
A16: ИТОГО по регламенту 1 за год: | F16: (у.у.) | G16: =SUM(G14*12+G15) -> 115.4

Sheet Пункт проката
G1: Приложение №16 к техническому заданию на обслуживание пожарной сигнализации
A2: Объём технического обслуживания системы пожарной сигнализации в здании пункта проката
A3: № п/п | B3: № работ | C3: Наименование оборудолвания | D3: Ед. изм. | E3: Количество у.у. | F3: Кол-во | G3: ВСЕГО у.у.
A4: Приемно- контрольный прибор
A5: 1 | B5: 2- 046 | C5: За первый шлейф | D5: шт. | E5: 0.2 | F5: 1 | G5: =E5*F5 -> 0.2
A6: 2 | B6: 2- 050 | C6: Проверка выдачи сигналов управления выносными оповещателями | D6: шт. | E6: 0.1 | F6: 1 | G6: =E6*F6 -> 0.1
A7: 3 | B7: 1-043 | C7: Приборы управления (типа "Альтоника"), устройства приемно-контрольные, сигнально-пусковые | D7: шт. | E7: 3.1 | F7: 1 | G7: =E7*F7 -> 3.1
A8: Шлейфы и извещатели пожарной, охранной сигнализации
A9: 4 | B9: 2-054 | C9: Шлейфы с автоматическими (ИП-101, ИП-105, СМК, ДМК) и ручными пожарными извещателями типа ИПР и аналоги | D9: шт. | E9: 0.1 | F9: 1 | G9: =E9*F9 -> 0.1
A10: 5 | B10: 2- 060 | C10: Извещатель пожарный дымовой , ИП 212 и аналогичные по тех. данным | D10: шт. | E10: 0.1 | F10: 4 | G10: =E10*F10 -> 0.4
A11: 6 | B11: 2-003 | C11: Устройства сигнальные световые всех типов | D11: шт. | E11: 0.1 | F11: 2 | G11: =E11*F11 -> 0.2
A12: Соединительные линии
A13: 7 | B13: 2- 067 | C13: Провод однопарный | D13: м | E13: 0.02 | F13: 12 | G13: =E13*F13 -> 0.24
A14: ИТОГО по регламенту 1 за месяц: | F14: (у.у.) | G14: =SUM(G5:G7,G9:G11,G13:G13) -> 4.34
A15: 8 | B15: 2-069 | C15: Измерение электрического сопротивления шлейфа сигнализации (за одно направление) | D15: 1 шт. | E15: 0.2 | F15: 1 | G15: =E15*F15 -> 0.2
A16: ИТОГО по регламенту 1 за год: | F16: (у.у.) | G16: =SUM(G14*12+G15) -> 52.28

Sheet Корпус с душевыми
G1: Приложение №17 к техническому заданию на обслуживание пожарной сигнализации
A2: Объём технического обслуживания системы пожарной сигнализации в здании «Корпус»
A3: № п/п | B3: № работ | C3: Наименование оборудолвания | D3: Ед. изм. | E3: Количество у.у. | F3: Кол-во | G3: ВСЕГО у.у.
A4: Приемно- контрольный прибор
A5: 1 | B5: 2- 046 | C5: За первый шлейф | D5: шт. | E5: 0.2 | F5: 6 | G5: =E5*F5 -> 1.2
A6: 2 | B6: 2- 048 | C6: Блоки выпрямительные, питания, автоматики, заряда | D6: шт. | E6: 1.5 | F6: 1 | G6: =E6*F6 -> 1.5
A7: Шлейфы и извещатели пожарной, охранной сигнализации
A8: 3 | B8: 2- 060 | C8: Извещатель пожарный дымовой , ИП 212 и аналогичные по тех. данным | D8: шт. | E8: 0.1 | F8: 26 | G8: =E8*F8 -> 2.6
A9: 4 | B9: 2-002 | C9: Устройства сигнальные звуковые всех типов | D9: шт. | E9: 0.1 | F9: 2 | G9: =E9*F9 -> 0.2
A10: 5 | B10: 2-003 | C10: Устройства сигнальные световые всех типов | D10: шт. | E10: 0.1 | F10: 2 | G10: =E10*F10 -> 0.2
A11: Соединительные линии
A12: 6 | B12: 2- 067 | C12: Провод однопарный | D12: м | E12: 0.02 | F12: 240 | G12: =E12*F12 -> 4.8
A13: ИТОГО по регламенту 1 за месяц: | F13: (у.у.) | G13: =SUM(G5:G6,G8:G10,G12:G12) -> 10.5
A14: 7 | B14: 2-069 | C14: Измерение электрического сопротивления шлейфа сигнализации (за одно направление) | D14: 1 шт. | E14: 0.2 | F14: 6 | G14: =E14*F14 -> 1.2
A15: ИТОГО по регламенту 1 за год: | F15: (у.у.) | G15: =SUM(G13*12+G14) -> 127.2

Sheet Сводный объём ТО
C1: Приложение №18 к техническому заданию на обслуживание пожарной сигнализации
A2: Сводный объём технического обслуживания пожарной сигнализации СП "УТП"
A3: № п/п | B3: Объект | C3: Количество у.у.
A4: 1 | B4: Корпус "Административный-Столовая-Бар" | C4: ='Административный-столовая'!G21 -> 21.46
A5: 2 | B5: Корпус "Солнечный" | C5: ='Корпус "Солнечный"'!G15 -> 18.96
A6: 3 | B6: Корпус "Олимпийский" | C6: ='Корпус "Олимпийский"'!G17 -> 18.56
A7: 4 | B7: Спортивный зал | C7: =Спортзал!G15 -> 12.18
A8: 5 | B8: Гараж №1 | C8: ='Гараж № 1'!G15 -> 7.76
A9: 6 | B9: Корпус "Южный" | C9: ='Корпус "Южный"'!G15 -> 7.14
A10: 7 | B10: Летняя игровая комната | C10: ='Летняя игровая'!G14 -> 8.1
A11: 8 | B11: Электрокотельная | C11: ='Котельная-прачечная-душевая'!G16 -> 17.6
A12: 9 | B12: 4-х местные корпуса № 1,2,3,4 | C12: ='4-х местные корпуса № 1,2,3,4'!G14 -> 10.7
A13: 10 | B13: Складские помещения | C13: ='Складские помещения'!G16 -> 6
A14: 11 | B14: Летний дом у озера (Изолятор) | C14: ='Летний дом у озера (Изолятор)'!G15 -> 7.2
A15: 12 | B15: Гараж №2 | C15: ='Гараж № 2'!G15 -> 15.65
A16: 13 | B16: Летний медпункт (здание - рабочая комната) | C16: ='Летний медпункт '!G13 -> 3.6
A17: 14 | B17: Автостоянка теплая с учебными классами | C17: ='Автостоянка теплая'!G16 -> 6.56
A18: 15 | B18: Пост охраны | C18: ='Пост охраны'!G14 -> 9.6
A19: 16 | B19: Пункт проката | C19: ='Пункт проката'!G14 -> 4.34
A20: 17 | B20: Корпус с душевыми | C20: ='Корпус с душевыми'!G13 -> 10.5
A21: ИТОГО по регламенту 1 за месяц: | C21: =SUM(C4:C20) -> 185.91
A23: 18 | B23: Измерение электрического сопротивления шлейфа сигнализации (за одно направление) | C23: ='Административный-столовая'!G22+'Корпус "Солнечный"'!G16+'Корпус "Олимпийский"'!G18+Спортзал!G16+'Гараж № 1'!G16+'Корпус "Южный"'!G16+'Летняя игровая'!G15+'Котельная-прачечная-душевая'!G17+'4-х местные корпуса № 1,2,3,4'!G15+'Складские помещения'!G17+'Летний дом у озера (Изолятор)'!G16+'Гараж № 2'!G16+'Летний медпункт '!G14+'Автостоянка теплая'!G17+'Пост охраны'!G15+'Пункт проката'!G15+'Корпус с душевыми'!G14 -> 14.2
A24: ИТОГО по регламенту за год: | C24: =C21*12+C23 -> 2245.12
