Workbook

Sheet расчет ПЦ! 
A1: РАСЧЕТ ПРЕДЕЛЬНОЙ ЦЕНЫ ЛОТА
H2: средняя! Трех КП
A3: № п/п | B3: ОКПД2 | C3: Наименование предлагаемой продукции (товары, работы, услуги) | D3: КП1 | E3: КП2 | F3: КП3 | G3: Ед. изм. | H3: Предельная стоимость единицы продукции (руб. без НДС) | I3: Ориентировочное кол-во на 12 мес | J3: Итоговая стоимость позиции (руб. без НДС)
A4: 1 | B4: 10.89.19 | C4: Гематоген «Просто» Народный детский 30 шт батончиков по 25 гр | D4: ='КП Диент'!F2 -> 0 | E4: ='КП Дарс'!F6 -> 660 | F4: ='КП ВБХ'!F6 -> 640 | G4: уп | H4: =(D4+E4+F4)/3 -> 433.33333 | I4: 15 | J4: =H4*I4 -> 6500 | O4: нет в пп 1875 | P4: 10.89.19 | R4: ограничения
A5: 2 | B5: 10.82.22.130 | C5: Конфеты Красный Октябрь шоколадные Трюфели, 250 гр. | D5: ='КП Диент'!F3 -> 0 | E5: ='КП Дарс'!F7 -> 605 | F5: ='КП ВБХ'!F7 -> 630 | G5: уп | H5: =(D5+E5+F5)/3 -> 411.66667 | I5: 15 | J5: =H5*I5 -> 6175 | P5: 10.82.22.130 | R5: 10.81.12 | S5: сахар
A6: 3 | B6: 10.82.22.130 | C6: Конфеты Красный Октябрь Аленка, 250 гр. | D6: ='КП Диент'!F4 -> 0 | E6: ='КП Дарс'!F8 -> 520 | F6: ='КП ВБХ'!F8 -> 542 | G6: уп | H6: =(D6+E6+F6)/3 -> 354 | I6: 15 | J6: =H6*I6 -> 5310 | P6: 10.83.11 | R6: 10.81.13 | S6: Сахар-рафинад
A7: 4 | B7: 10.82.22.130 | C7: Конфеты Красный Октябрь Красная шапочка, 250 гр. | D7: ='КП Диент'!F5 -> 0 | E7: ='КП Дарс'!F9 -> 552 | F7: ='КП ВБХ'!F9 -> 500 | G7: уп | H7: =(D7+E7+F7)/3 -> 350.66667 | I7: 15 | J7: =H7*I7 -> 5260 | P7: 10.83.12
A8: 5 | B8: 10.82.22.130 | C8: Конфеты Красный Октябрь Мишка косолапый, 250 гр. | D8: ='КП Диент'!F6 -> 0 | E8: ='КП Дарс'!F10 -> 698 | F8: ='КП ВБХ'!F10 -> 726 | G8: уп | H8: =(D8+E8+F8)/3 -> 474.66667 | I8: 15 | J8: =H8*I8 -> 7120 | P8: 10.51.11.120
A9: 6 | B9: 10.82.22.130 | C9: Конфеты Красный Октябрь, Кара-Кум шоколадные, 250 гр. | D9: ='КП Диент'!F7 -> 0 | E9: ='КП Дарс'!F11 -> 605 | F9: ='КП ВБХ'!F11 -> 620 | G9: уп | H9: =(D9+E9+F9)/3 -> 408.33333 | I9: 15 | J9: =H9*I9 -> 6125 | P9: 11.07.19.140
A10: 7 | B10: 10.82.22.130 | C10: Конфеты Красный Октябрь, Столичные, 250 гр. | D10: ='КП Диент'!F8 -> 0 | E10: ='КП Дарс'!F12 -> 878 | F10: ='КП ВБХ'!F12 -> 914 | G10: уп | H10: =(D10+E10+F10)/3 -> 597.33333 | I10: 15 | J10: =H10*I10 -> 8960 | P10: 10.51.12.112
A11: 8 | B11: 10.82.22.130 | C11: Конфеты Птица Дивная, Акконд, 500 гр. | D11: ='КП Диент'!F9 -> 0 | E11: ='КП Дарс'!F13 -> 920 | F11: ='КП ВБХ'!F13 -> 957 | G11: уп | H11: =(D11+E11+F11)/3 -> 625.66667 | I11: 15 | J11: =H11*I11 -> 9385 | P11: 10.51.12.113
A12: 9 | B12: 10.82.22.130 | C12: Конфеты РотФронт, Батончики шоколадно-сливочный вкус, 250 гр. | D12: ='КП Диент'!F10 -> 0 | E12: ='КП Дарс'!F14 -> 310 | F12: ='КП ВБХ'!F14 -> 330 | G12: уп | H12: =(D12+E12+F12)/3 -> 213.33333 | I12: 15 | J12: =H12*I12 -> 3200 | P12: 10.83.13.120
A13: 10 | B13: 10.82.22.130 | C13: Конфеты РотФронт, Батончики, 250 гр. | D13: ='КП Диент'!F11 -> 0 | E13: ='КП Дарс'!F15 -> 327 | F13: ='КП ВБХ'!F15 -> 341 | G13: уп | H13: =(D13+E13+F13)/3 -> 222.66667 | I13: 15 | J13: =H13*I13 -> 3340
A14: 11 | B14: 10.82.22.130 | C14: Конфеты РотФронт, Птичье молоко в шоколаде, 225 гр. | D14: ='КП Диент'!F12 -> 0 | E14: ='КП Дарс'!F16 -> 430 | F14: ='КП ВБХ'!F16 -> 411 | G14: уп | H14: =(D14+E14+F14)/3 -> 280.33333 | I14: 15 | J14: =H14*I14 -> 4205
A15: 12 | B15: 10.82.22 | C15: Конфеты РотФронт. Халва в шоколадной глазури, 500 гр. | D15: ='КП Диент'!F13 -> 0 | E15: ='КП Дарс'!F17 -> 905 | F15: ='КП ВБХ'!F17 -> 942 | G15: уп | H15: =(D15+E15+F15)/3 -> 615.66667 | I15: 15 | J15: =H15*I15 -> 9235
A16: 13 | B16: 10.83.11 | C16: Кофе в зёрнах BUSHIDO Red Katana, арабика, 1 кг | D16: ='КП Диент'!F14 -> 0 | E16: ='КП Дарс'!F18 -> 3200 | F16: ='КП ВБХ'!F18 -> 3327 | G16: уп | H16: =(D16+E16+F16)/3 -> 2175.6667 | I16: 15 | J16: =H16*I16 -> 32635
A17: 14 | B17: 10.83.11 | C17: Кофе в зёрнах BUSHIDO Black Katana, арабика, 1 кг | D17: ='КП Диент'!F15 -> 0 | E17: ='КП Дарс'!F19 -> 3200 | F17: ='КП ВБХ'!F19 -> 3327 | G17: уп | H17: =(D17+E17+F17)/3 -> 2175.6667 | I17: 15 | J17: =H17*I17 -> 32635
A18: 15 | B18: 10.83.11 | C18: Кофе в зёрнах BUSHIDO Sensei, 1000 г | D18: ='КП Диент'!F16 -> 0 | E18: ='КП Дарс'!F20 -> 3200 | F18: ='КП ВБХ'!F20 -> 3327 | G18: уп | H18: =(D18+E18+F18)/3 -> 2175.6667 | I18: 15 | J18: =H18*I18 -> 32635
A19: 16 | B19: 10.83.11 | C19: Кофе в зёрнах EGOISTE Captain, 1 кг | D19: ='КП Диент'!F17 -> 0 | E19: ='КП Дарс'!F21 -> 2150 | F19: ='КП ВБХ'!F21 -> 2235 | G19: уп | H19: =(D19+E19+F19)/3 -> 1461.6667 | I19: 15 | J19: =H19*I19 -> 21925
A20: 17 | B20: 10.83.11 | C20: Кофе в зёрнах EGOISTE Noir, арабика, 1 кг | D20: ='КП Диент'!F18 -> 0 | E20: ='КП Дарс'!F22 -> 3901 | F20: ='КП ВБХ'!F22 -> 4056 | G20: уп | H20: =(D20+E20+F20)/3 -> 2652.3333 | I20: 15 | J20: =H20*I20 -> 39785
A21: 18 | B21: 10.83.11 | C21: Кофе в зернах Lavazza "Crema e Aroma", вакуумный пакет, 1кг | D21: ='КП Диент'!F19 -> 0 | E21: ='КП Дарс'!F23 -> 3605 | F21: ='КП ВБХ'!F23 -> 3748 | G21: уп | H21: =(D21+E21+F21)/3 -> 2451 | I21: 15 | J21: =H21*I21 -> 36765
A22: 19 | B22: 10.83.11 | C22: Кофе в зернах Lavazza "Qualità. Oro", вакуумный пакет, 1кг | D22: ='КП Диент'!F20 -> 0 | E22: ='КП Дарс'!F24 -> 3950 | F22: ='КП ВБХ'!F24 -> 4050 | G22: уп | H22: =(D22+E22+F22)/3 -> 2666.6667 | I22: 15 | J22: =H22*I22 -> 40000
A23: 20 | B23: 10.83.11 | C23: Кофе в зернах Lavazza Super Crema 1 кг | D23: ='КП Диент'!F21 -> 0 | E23: ='КП Дарс'!F25 -> 3950 | F23: ='КП ВБХ'!F25 -> 4050 | G23: уп | H23: =(D23+E23+F23)/3 -> 2666.6667 | I23: 80 | J23: =H23*I23 -> 213333.33
A24: 21 | B24: 10.83.11 | C24: Кофе в зернах Melitta Bella Crema Dolce 1 кг, Германия | D24: ='КП Диент'!F22 -> 0 | E24: ='КП Дарс'!F26 -> 2987 | F24: ='КП ВБХ'!F26 -> 3099 | G24: уп | H24: =(D24+E24+F24)/3 -> 2028.6667 | I24: 16 | J24: =H24*I24 -> 32458.667
... A118: 115 | B118: 10.83.13 | C118: Чай Twinings English Breakfast 50пак x 2г | D118: ='КП Диент'!F116 -> 0 | E118: ='КП Дарс'!F120 -> 1910 | F118: ='КП ВБХ'!F120 -> 1987 | G118: шт | H118: =(D118+E118+F118)/3 -> 1299 | I118: 15 | J118: =H118*I118 -> 19485
I119: итого | J119: =SUM(J4:J118) -> 1993386

Sheet КП Диент
A1: № п/п | B1: Наименование предлагаемой продукции (товары, работы, услуги) | C1: Страна происхождения товара | D1: Производитель продукции | E1: Ед. изм. | F1: Стоимость единицы продукции (руб. без НДС) | G1: Ориентировочное кол-во на 24 мес | H1: Итоговая стоимость позиции (руб. без НДС)
A2: 1 | B2: Гематоген «Просто» Народный детский 30 шт батончиков по 25 гр | C2: Россия | D2: Сибирское здоровье | E2: уп | G2: 15 | H2: =F2*G2 -> 0
A3: 2 | B3: Конфеты Красный Октябрь шоколадные Трюфели, 250 гр. | C3: Россия | D3: Красный Октябрь | E3: уп | G3: 15 | H3: =F3*G3 -> 0
A4: 3 | B4: Конфеты Красный Октябрь Аленка, 250 гр. | C4: Россия | D4: Красный Октябрь | E4: уп | G4: 15 | H4: =F4*G4 -> 0
A5: 4 | B5: Конфеты Красный Октябрь Красная шапочка, 250 гр. | C5: Россия | D5: Красный Октябрь | E5: уп | G5: 15 | H5: =F5*G5 -> 0
A6: 5 | B6: Конфеты Красный Октябрь Мишка косолапый, 250 гр. | C6: Россия | D6: Красный Октябрь | E6: уп | G6: 15 | H6: =F6*G6 -> 0
A7: 6 | B7: Конфеты Красный Октябрь, Кара-Кум шоколадные, 250 гр. | C7: Россия | D7: Красный Октябрь | E7: уп | G7: 15 | H7: =F7*G7 -> 0
A8: 7 | B8: Конфеты Красный Октябрь, Столичные, 250 гр. | C8: Россия | D8: Красный Октябрь | E8: уп | G8: 15 | H8: =F8*G8 -> 0
A9: 8 | B9: Конфеты Птица Дивная, Акконд, 500 гр. | C9: Россия | D9: Акконд | E9: уп | G9: 15 | H9: =F9*G9 -> 0
A10: 9 | B10: Конфеты РотФронт, Батончики шоколадно-сливочный вкус, 250 гр. | C10: Россия | D10: РотФронт | E10: уп | G10: 15 | H10: =F10*G10 -> 0
A11: 10 | B11: Конфеты РотФронт, Батончики, 250 гр. | C11: Россия | D11: РотФронт | E11: уп | G11: 15 | H11: =F11*G11 -> 0
A12: 11 | B12: Конфеты РотФронт, Птичье молоко в шоколаде, 225 гр. | C12: Россия | D12: РотФронт | E12: уп | G12: 15 | H12: =F12*G12 -> 0
A13: 12 | B13: Конфеты РотФронт. Халва в шоколадной глазури, 500 гр. | C13: Россия | D13: РотФронт | E13: уп | G13: 15 | H13: 0
A14: 13 | B14: Кофе в зёрнах BUSHIDO Red Katana, арабика, 1 кг | C14: Африка | D14: BUSHIDO | E14: уп | G14: 15 | H14: =F14*G14 -> 0
A15: 14 | B15: Кофе в зёрнах BUSHIDO Black Katana, арабика, 1 кг | C15: Африка | D15: BUSHIDO | E15: уп | G15: 15 | H15: =F15*G15 -> 0
A16: 15 | B16: Кофе в зёрнах BUSHIDO Sensei, 1000 г | C16: Африка | D16: BUSHIDO | E16: уп | G16: 15 | H16: =F16*G16 -> 0
A17: 16 | B17: Кофе в зёрнах EGOISTE Captain, 1 кг | C17: Германия | D17: EGOISTE | E17: уп | G17: 15 | H17: =F17*G17 -> 0
A18: 17 | B18: Кофе в зёрнах EGOISTE Noir, арабика, 1 кг | C18: Германия | D18: EGOISTE | E18: уп | G18: 15 | H18: =F18*G18 -> 0
A19: 18 | B19: Кофе в зернах Lavazza "Crema e Aroma", вакуумный пакет, 1кг | C19: Россия | D19: Бразилия | E19: уп | G19: 15 | H19: =F19*G19 -> 0
A20: 19 | B20: Кофе в зернах Lavazza "Qualità. Oro", вакуумный пакет, 1кг | C20: Россия | D20: Бразилия | E20: уп | G20: 15 | H20: =F20*G20 -> 0
A21: 20 | B21: Кофе в зернах Lavazza Super Crema 1 кг | C21: Россия | D21: Бразилия | E21: уп | G21: 80 | H21: =F21*G21 -> 0
A22: 21 | B22: Кофе в зернах Melitta Bella Crema Dolce 1 кг, Германия | C22: Германия | D22: Melitta | E22: уп | G22: 15 | H22: =F22*G22 -> 0
A23: 22 | B23: Кофе в зернах Melitta Barista Espresso 1 кг, Германия | C23: Германия | D23: Melitta | E23: уп | G23: 15 | H23: =F23*G23 -> 0
A24: 23 | B24: Кофе в зернах Melitta BELLA CREMA la Crema 1 кг, Германия | C24: Германия | D24: Melitta | E24: уп | G24: 15 | H24: =F24*G24 -> 0
A25: 24 | B25: Кофе в зернах Melitta Bella Crema Speciale 1 кг, Германия | C25: Германия | D25: Melitta | E25: уп | G25: 15 | H25: =F25*G25 -> 0
... A116: 115 | B116: Чай Twinings English Breakfast 50пак x 2г | C116: Twinings | D116: Польша | E116: шт | G116: 15 | H116: =F116*G116 -> 0
H117: =SUM(H2:H116) -> 0

Sheet КП Дарс
A5: № п/п | B5: Наименование предлагаемой продукции (товары, работы, услуги) | C5: Страна происхождения товара | D5: Производитель продукции | E5: Ед. изм. | F5: Стоимость единицы продукции (руб. без НДС) | G5: Ориентировочное кол-во на 24 мес | H5: Итоговая стоимость позиции (руб. без НДС)
A6: 1 | B6: Гематоген «Просто» Народный детский 30 шт батончиков по 25 гр | C6: Россия | D6: Сибирское здоровье | E6: уп | F6: 660 | G6: 15 | H6: =F6*G6 -> 9900
A7: 2 | B7: Конфеты Красный Октябрь шоколадные Трюфели, 250 гр. | C7: Россия | D7: Красный Октябрь | E7: уп | F7: 605 | G7: 15 | H7: =F7*G7 -> 9075
A8: 3 | B8: Конфеты Красный Октябрь Аленка, 250 гр. | C8: Россия | D8: Красный Октябрь | E8: уп | F8: 520 | G8: 15 | H8: =F8*G8 -> 7800
A9: 4 | B9: Конфеты Красный Октябрь Красная шапочка, 250 гр. | C9: Россия | D9: Красный Октябрь | E9: уп | F9: 552 | G9: 15 | H9: =F9*G9 -> 8280
A10: 5 | B10: Конфеты Красный Октябрь Мишка косолапый, 250 гр. | C10: Россия | D10: Красный Октябрь | E10: уп | F10: 698 | G10: 15 | H10: =F10*G10 -> 10470
A11: 6 | B11: Конфеты Красный Октябрь, Кара-Кум шоколадные, 250 гр. | C11: Россия | D11: Красный Октябрь | E11: уп | F11: 605 | G11: 15 | H11: =F11*G11 -> 9075
A12: 7 | B12: Конфеты Красный Октябрь, Столичные, 250 гр. | C12: Россия | D12: Красный Октябрь | E12: уп | F12: 878 | G12: 15 | H12: =F12*G12 -> 13170
A13: 8 | B13: Конфеты Птица Дивная, Акконд, 500 гр. | C13: Россия | D13: Акконд | E13: уп | F13: 920 | G13: 15 | H13: =F13*G13 -> 13800
A14: 9 | B14: Конфеты РотФронт, Батончики шоколадно-сливочный вкус, 250 гр. | C14: Россия | D14: РотФронт | E14: уп | F14: 310 | G14: 15 | H14: =F14*G14 -> 4650
A15: 10 | B15: Конфеты РотФронт, Батончики, 250 гр. | C15: Россия | D15: РотФронт | E15: уп | F15: 327 | G15: 15 | H15: =F15*G15 -> 4905
A16: 11 | B16: Конфеты РотФронт, Птичье молоко в шоколаде, 225 гр. | C16: Россия | D16: РотФронт | E16: уп | F16: 430 | G16: 15 | H16: =F16*G16 -> 6450
A17: 12 | B17: Конфеты РотФронт. Халва в шоколадной глазури, 500 гр. | C17: Россия | D17: РотФронт | E17: уп | F17: 905 | G17: 15 | H17: =F17*G17 -> 13575
... A120: 115 | B120: Чай Twinings English Breakfast 50пак x 2г | C120: Twinings | D120: Польша | E120: шт | F120: 1910 | G120: 15 | H120: =F120*G120 -> 28650
H121: =SUM(H6:H120) -> 2957181

Sheet КП ВБХ
A5: № п/п | B5: Наименование предлагаемой продукции (товары, работы, услуги) | C5: Страна происхождения товара | D5: Производитель продукции | E5: Ед. изм. | F5: Стоимость единицы продукции (руб. без НДС) | G5: Ориентировочное кол-во на 24 мес | H5: Итоговая стоимость позиции (руб. без НДС)
A6: 1 | B6: Гематоген «Просто» Народный детский 30 шт батончиков по 25 гр | C6: Россия | D6: Сибирское здоровье | E6: уп | F6: 640 | G6: 15 | H6: =F6*G6 -> 9600
A7: 2 | B7: Конфеты Красный Октябрь шоколадные Трюфели, 250 гр. | C7: Россия | D7: Красный Октябрь | E7: уп | F7: 630 | G7: 15 | H7: =F7*G7 -> 9450
A8: 3 | B8: Конфеты Красный Октябрь Аленка, 250 гр. | C8: Россия | D8: Красный Октябрь | E8: уп | F8: 542 | G8: 15 | H8: =F8*G8 -> 8130
A9: 4 | B9: Конфеты Красный Октябрь Красная шапочка, 250 гр. | C9: Россия | D9: Красный Октябрь | E9: уп | F9: 500 | G9: 15 | H9: =F9*G9 -> 7500
A10: 5 | B10: Конфеты Красный Октябрь Мишка косолапый, 250 гр. | C10: Россия | D10: Красный Октябрь | E10: уп | F10: 726 | G10: 15 | H10: =F10*G10 -> 10890
A11: 6 | B11: Конфеты Красный Октябрь, Кара-Кум шоколадные, 250 гр. | C11: Россия | D11: Красный Октябрь | E11: уп | F11: 620 | G11: 15 | H11: =F11*G11 -> 9300
A12: 7 | B12: Конфеты Красный Октябрь, Столичные, 250 гр. | C12: Россия | D12: Красный Октябрь | E12: уп | F12: 914 | G12: 15 | H12: =F12*G12 -> 13710
A13: 8 | B13: Конфеты Птица Дивная, Акконд, 500 гр. | C13: Россия | D13: Акконд | E13: уп | F13: 957 | G13: 15 | H13: =F13*G13 -> 14355
A14: 9 | B14: Конфеты РотФронт, Батончики шоколадно-сливочный вкус, 250 гр. | C14: Россия | D14: РотФронт | E14: уп | F14: 330 | G14: 15 | H14: =F14*G14 -> 4950
A15: 10 | B15: Конфеты РотФронт, Батончики, 250 гр. | C15: Россия | D15: РотФронт | E15: уп | F15: 341 | G15: 15 | H15: =F15*G15 -> 5115
A16: 11 | B16: Конфеты РотФронт, Птичье молоко в шоколаде, 225 гр. | C16: Россия | D16: РотФронт | E16: уп | F16: 411 | G16: 15 | H16: =F16*G16 -> 6165
A17: 12 | B17: Конфеты РотФронт. Халва в шоколадной глазури, 500 гр. | C17: Россия | D17: РотФронт | E17: уп | F17: 942 | G17: 15 | H17: =F17*G17 -> 14130
... A120: 115 | B120: Чай Twinings English Breakfast 50пак x 2г | C120: Twinings | D120: Польша | E120: шт | F120: 1987 | G120: 15 | H120: =F120*G120 -> 29805
H121: =SUM(H6:H120) -> 3022977
