Workbook

Sheet К.Цеткин, 14
B5: СОГЛАСОВАНО | D5: УТВЕРЖДАЮ:
B7: __________________ | D7: _____________________
A9: СМЕТА №1 На проведение работ по техническому обследованию строительных конструкций здания многоквартирного дома, расположенного по адресу: Республика Марий Эл, г. Йошкар-Ола, ул. Клары Цеткин, д. 14
A11: Определение стоимости работ ведется по СБЦП 81-2001-25 "Справочник базовых цен на обмерные работы и обследования зданий и сооружений" [1]
B12: Строительный объем здания: | C12: 1240 | D12: куб. м
B15: Категория сложности здания – 1 (таблица 5 [1]).
B16: Категория сложности обмерных работ – 1 (таблица 6 [1]).
B17: Категория сложности работ по обследованию – 1 (таблица 7 [1]).
A18: № п/п | B18: Наименование работ | C18: Обоснование по [1] | D18: Ед. измерения | E18: Стоимость за единицу, руб | F18: Количество единиц | G18: Стоимость, руб
A19: 1. Определение стоимости обмерных работ
A20: 1.1 | B20: Обмерные работы по базовым ценам | C20: Табл. 2 | D20: 100 куб. м | E20: 409.2 | F20: =C12/100 -> 12.4 | G20: =E20*F20 -> 5074.08
A22: 1.2 | B22: Выполнение работ в условиях, требующих обеспечение безопасности (использование дополнительных лестниц и иных приспособлений (коэффициент 1,15) | C22: п. 6 табл. 10 | D22: - | E22: - | F22: - | G22: -
A23: 1.3 | B23: Выполнение работ в неотапливаемых зданиях или его частях (чердаки, кровли, фасады и др.) в неблагоприятный период года (коэффициент 1,2) | C23: п. 4 табл. 10 | D23: - | E23: - | F23: - | G23: -
A24: 1.2 | B24: Корректирующий коэффициент, учитывающий строительный объем здания (коэффициент 3,5) | C24: п. 2 табл. 11 | D24: - | E24: - | F24: -
A25: 1.3 | B25: ИТОГО ПОЛНАЯ стоимость обмерных работ в уровне цен 01.01.2001 г. | G25: =G20*3.5 -> 17759.28
A26: 1.4 | B26: Корректировка стоимости, с учетом фактически выполняемого объема обмерных работ: - поэтажные планы здания - 16,38 %; - фасады, окна, ворота - 17,88 %. Корректирующий (понижающий) коэффициент: 16,38% + 17,88% = 34,26% (0,3426) | C26: Таблица 8 | D26: - | E26: - | F26: - | G26: -
A27: 1.5 | B27: ИТОГО стоимость обмерных работ в уровне цен 01.01.2001 г. | G27: =G25*0.3426 -> 6084.3293
A28: 1.6 | B28: ИТОГО стоимость обмерных работ в ценах III квартала 2026 года с коэффициентом 7,19 (Письмо Минстроя России от 23.07.2026 № 45358-ИФ/09) | G28: =G27*7.19 -> 43746.328
A29: 2. Инженерное обследование
A30: 2.1 | B30: Инженерное обследование по базовым ценам | C30: Табл. 4 | D30: 100 куб. м | E30: 298.8 | F30: =C12/100 -> 12.4 | G30: =E30*F30 -> 3705.12
B31: Коэффициент, учитывающий обследование конструкций здания без прекращения производственного процесса п.2 табл. 3 | G31: 1
A32: 2.2 | B32: Выполнение работ в условиях, требующих обеспечение безопасности (использование дополнительных лестниц и иных приспособлений (коэффициент 1,15) | C32: п. 6 табл. 10 | D32: - | E32: - | F32: - | G32: -
A33: 2.3 | B33: Выполнение работ в неотапливаемых зданиях или его частях (чердаки, кровли, фасады и др.) в неблагоприятный период года (коэффициент 1,2) | C33: п. 4 табл. 10 | D33: - | E33: - | F33: - | G33: -
A34: 2.2 | B34: Корректирующий коэффициент, учитывающий строительный объем здания (коэффициент 3,5) | C34: п. 2 табл. 11 | D34: - | E34: - | F34: - | G34: -
A35: 2.3 | B35: ИТОГО ПОЛНАЯ стоимость инженерного обследования в уровне цен 01.01.2001 г. | G35: =G30*3.5 -> 12967.92
A36: 2.4 | B36: Корректировка стоимости, с учетом фактически выполняемого объема обследовательских работ: - Фундаменты - 3,84 %; - стены - 32,59 %; - перекрытия - 34,20 %. Корректирующий (понижающий) коэффициент: 3,84% + 32,59% + 34,20% = 70,63% (0,7063) | C36: Таблица 9 | D36: - | E36: - | F36: - | G36: -
A37: 2.5 | B37: ИТОГО стоимость инженерного обследования в уровне цен 01.01.2001 г. | G37: =G35*0.7063 -> 9159.2419
A38: 2.6 | B38: ИТОГО стоимость инженерного обследования в ценах III квартала 2026 года с коэффициентом 7,19 (Письмо Минстроя России от 23.07.2026 № 45358-ИФ/09) | G38: =G37*7.19 -> 65854.949
A39: 3 | B39: Итого стоимость работ | G39: =G38+G28 -> 109601.28

Sheet К.Цеткин, 3
B5: СОГЛАСОВАНО | D5: УТВЕРЖДАЮ:
B7: __________________ | D7: _____________________
A9: СМЕТА №2 На проведение работ по техническому обследованию строительных конструкций здания многоквартирного дома, расположенного по адресу: Республика Марий Эл, г. Йошкар-Ола, ул. Клары Цеткин, д. 3
A11: Определение стоимости работ ведется по СБЦП 81-2001-25 "Справочник базовых цен на обмерные работы и обследования зданий и сооружений" [1]
B12: Строительный объем здания: | C12: 1184 | D12: куб. м
B15: Категория сложности здания – 1 (таблица 5 [1]).
B16: Категория сложности обмерных работ – 1 (таблица 6 [1]).
B17: Категория сложности работ по обследованию – 1 (таблица 7 [1]).
A18: № п/п | B18: Наименование работ | C18: Обоснование по [1] | D18: Ед. измерения | E18: Стоимость за единицу, руб | F18: Количество единиц | G18: Стоимость, руб
A19: 1. Определение стоимости обмерных работ
A20: 1.1 | B20: Обмерные работы по базовым ценам | C20: Табл. 2 | D20: 100 куб. м | E20: 409.2 | F20: =C12/100 -> 11.84 | G20: =E20*F20 -> 4844.928
A22: 1.2 | B22: Выполнение работ в условиях, требующих обеспечение безопасности (использование дополнительных лестниц и иных приспособлений (коэффициент 1,15) | C22: п. 6 табл. 10 | D22: - | E22: - | F22: - | G22: -
A23: 1.3 | B23: Выполнение работ в неотапливаемых зданиях или его частях (чердаки, кровли, фасады и др.) в неблагоприятный период года (коэффициент 1,2) | C23: п. 4 табл. 10 | D23: - | E23: - | F23: - | G23: -
A24: 1.2 | B24: Корректирующий коэффициент, учитывающий строительный объем здания (коэффициент 3,5) | C24: п. 2 табл. 11 | D24: - | E24: - | F24: -
A25: 1.3 | B25: ИТОГО ПОЛНАЯ стоимость обмерных работ в уровне цен 01.01.2001 г. | G25: =G20*3.5 -> 16957.248
A26: 1.4 | B26: Корректировка стоимости, с учетом фактически выполняемого объема обмерных работ: - поэтажные планы здания - 16,38 %; - фасады, окна, ворота - 17,88 %. Корректирующий (понижающий) коэффициент: 16,38% + 17,88% = 34,26% (0,3426) | C26: Таблица 8 | D26: - | E26: - | F26: - | G26: -
A27: 1.5 | B27: ИТОГО стоимость обмерных работ в уровне цен 01.01.2001 г. | G27: =G25*0.3426 -> 5809.5532
A28: 1.6 | B28: ИТОГО стоимость обмерных работ в ценах III квартала 2026 года с коэффициентом 7,19 (Письмо Минстроя России от 23.07.2026 № 45358-ИФ/09) | G28: =G27*7.19 -> 41770.687
A29: 2. Инженерное обследование
A30: 2.1 | B30: Инженерное обследование по базовым ценам | C30: Табл. 4 | D30: 100 куб. м | E30: 298.8 | F30: =C12/100 -> 11.84 | G30: =E30*F30 -> 3537.792
B31: Коэффициент, учитывающий обследование конструкций здания без прекращения производственного процесса п.2 табл. 3 | G31: 1
A32: 2.2 | B32: Выполнение работ в условиях, требующих обеспечение безопасности (использование дополнительных лестниц и иных приспособлений (коэффициент 1,15) | C32: п. 6 табл. 10 | D32: - | E32: - | F32: - | G32: -
A33: 2.3 | B33: Выполнение работ в неотапливаемых зданиях или его частях (чердаки, кровли, фасады и др.) в неблагоприятный период года (коэффициент 1,2) | C33: п. 4 табл. 10 | D33: - | E33: - | F33: - | G33: -
A34: 2.2 | B34: Корректирующий коэффициент, учитывающий строительный объем здания (коэффициент 3,5) | C34: п. 2 табл. 11 | D34: - | E34: - | F34: - | G34: -
A35: 2.3 | B35: ИТОГО ПОЛНАЯ стоимость инженерного обследования в уровне цен 01.01.2001 г. | G35: =G30*3.5 -> 12382.272
A36: 2.4 | B36: Корректировка стоимости, с учетом фактически выполняемого объема обследовательских работ: - Фундаменты - 3,84 %; - стены - 32,59 %; - перекрытия - 34,20 %. Корректирующий (понижающий) коэффициент: 3,84% + 32,59% + 34,20% = 70,63% (0,7063) | C36: Таблица 9 | D36: - | E36: - | F36: - | G36: -
A37: 2.5 | B37: ИТОГО стоимость инженерного обследования в уровне цен 01.01.2001 г. | G37: =G35*0.7063 -> 8745.5987
A38: 2.6 | B38: ИТОГО стоимость инженерного обследования в ценах III квартала 2026 года с коэффициентом 7,19 (Письмо Минстроя России от 23.07.2026 № 45358-ИФ/09) | G38: =G37*7.19 -> 62880.855
A39: 3 | B39: Итого стоимость работ | G39: =G38+G28 -> 104651.54

Sheet Л.Голикова, 18
B5: СОГЛАСОВАНО | D5: УТВЕРЖДАЮ:
B7: __________________ | D7: _____________________
A9: СМЕТА №3 На проведение работ по техническому обследованию строительных конструкций здания многоквартирного дома, расположенного по адресу: Республика Марий Эл, г. Йошкар-Ола, пер. Лени Голикова, д. 18
A11: Определение стоимости работ ведется по СБЦП 81-2001-25 "Справочник базовых цен на обмерные работы и обследования зданий и сооружений" [1]
B12: Строительный объем здания: | C12: 1554 | D12: куб. м
B15: Категория сложности здания – 1 (таблица 5 [1]).
B16: Категория сложности обмерных работ – 1 (таблица 6 [1]).
B17: Категория сложности работ по обследованию – 1 (таблица 7 [1]).
A18: № п/п | B18: Наименование работ | C18: Обоснование по [1] | D18: Ед. измерения | E18: Стоимость за единицу, руб | F18: Количество единиц | G18: Стоимость, руб
A19: 1. Определение стоимости обмерных работ
A20: 1.1 | B20: Обмерные работы по базовым ценам | C20: Табл. 2 | D20: 100 куб. м | E20: 409.2 | F20: =C12/100 -> 15.54 | G20: =E20*F20 -> 6358.968
A22: 1.2 | B22: Выполнение работ в условиях, требующих обеспечение безопасности (использование дополнительных лестниц и иных приспособлений (коэффициент 1,15) | C22: п. 6 табл. 10 | D22: - | E22: - | F22: - | G22: -
A23: 1.3 | B23: Выполнение работ в неотапливаемых зданиях или его частях (чердаки, кровли, фасады и др.) в неблагоприятный период года (коэффициент 1,2) | C23: п. 4 табл. 10 | D23: - | E23: - | F23: - | G23: -
A24: 1.2 | B24: Корректирующий коэффициент, учитывающий строительный объем здания (коэффициент 3,5) | C24: п. 2 табл. 11 | D24: - | E24: - | F24: -
A25: 1.3 | B25: ИТОГО ПОЛНАЯ стоимость обмерных работ в уровне цен 01.01.2001 г. | G25: =G20*3.5 -> 22256.388
A26: 1.4 | B26: Корректировка стоимости, с учетом фактически выполняемого объема обмерных работ: - поэтажные планы здания - 16,38 %; - фасады, окна, ворота - 17,88 %. Корректирующий (понижающий) коэффициент: 16,38% + 17,88% = 34,26% (0,3426) | C26: Таблица 8 | D26: - | E26: - | F26: - | G26: -
A27: 1.5 | B27: ИТОГО стоимость обмерных работ в уровне цен 01.01.2001 г. | G27: =G25*0.3426 -> 7625.0385
A28: 1.6 | B28: ИТОГО стоимость обмерных работ в ценах III квартала 2026 года с коэффициентом 7,19 (Письмо Минстроя России от 23.07.2026 № 45358-ИФ/09) | G28: =G27*7.19 -> 54824.027
A29: 2. Инженерное обследование
A30: 2.1 | B30: Инженерное обследование по базовым ценам | C30: Табл. 4 | D30: 100 куб. м | E30: 298.8 | F30: =C12/100 -> 15.54 | G30: =E30*F30 -> 4643.352
B31: Коэффициент, учитывающий обследование конструкций здания без прекращения производственного процесса п.2 табл. 3 | G31: 1
A32: 2.2 | B32: Выполнение работ в условиях, требующих обеспечение безопасности (использование дополнительных лестниц и иных приспособлений (коэффициент 1,15) | C32: п. 6 табл. 10 | D32: - | E32: - | F32: - | G32: -
A33: 2.3 | B33: Выполнение работ в неотапливаемых зданиях или его частях (чердаки, кровли, фасады и др.) в неблагоприятный период года (коэффициент 1,2) | C33: п. 4 табл. 10 | D33: - | E33: - | F33: - | G33: -
A34: 2.2 | B34: Корректирующий коэффициент, учитывающий строительный объем здания (коэффициент 3,5) | C34: п. 2 табл. 11 | D34: - | E34: - | F34: - | G34: -
A35: 2.3 | B35: ИТОГО ПОЛНАЯ стоимость инженерного обследования в уровне цен 01.01.2001 г. | G35: =G30*3.5 -> 16251.732
A36: 2.4 | B36: Корректировка стоимости, с учетом фактически выполняемого объема обследовательских работ: - Фундаменты - 3,84 %; - стены - 32,59 %; - перекрытия - 34,20 %. Корректирующий (понижающий) коэффициент: 3,84% + 32,59% + 34,20% = 70,63% (0,7063) | C36: Таблица 9 | D36: - | E36: - | F36: - | G36: -
A37: 2.5 | B37: ИТОГО стоимость инженерного обследования в уровне цен 01.01.2001 г. | G37: =G35*0.7063 -> 11478.598
A38: 2.6 | B38: ИТОГО стоимость инженерного обследования в ценах III квартала 2026 года с коэффициентом 7,19 (Письмо Минстроя России от 23.07.2026 № 45358-ИФ/09) | G38: =G37*7.19 -> 82531.122
A39: 3 | B39: Итого стоимость работ | G39: =G38+G28 -> 137355.15

Sheet Суворова, 28
B5: СОГЛАСОВАНО | D5: УТВЕРЖДАЮ:
B7: __________________ | D7: _____________________
A9: СМЕТА №4 На проведение работ по техническому обследованию строительных конструкций здания многоквартирного дома, расположенного по адресу: Республика Марий Эл, г. Йошкар-Ола, ул. Суворова, д. 28
A11: Определение стоимости работ ведется по СБЦП 81-2001-25 "Справочник базовых цен на обмерные работы и обследования зданий и сооружений" [1]
B12: Строительный объем здания: | C12: 1750 | D12: куб. м
B15: Категория сложности здания – 1 (таблица 5 [1]).
B16: Категория сложности обмерных работ – 1 (таблица 6 [1]).
B17: Категория сложности работ по обследованию – 1 (таблица 7 [1]).
A18: № п/п | B18: Наименование работ | C18: Обоснование по [1] | D18: Ед. измерения | E18: Стоимость за единицу, руб | F18: Количество единиц | G18: Стоимость, руб
A19: 1. Определение стоимости обмерных работ
A20: 1.1 | B20: Обмерные работы по базовым ценам | C20: Табл. 2 | D20: 100 куб. м | E20: 389.6 | F20: =C12/100 -> 17.5 | G20: =E20*F20 -> 6818
A22: 1.2 | B22: Выполнение работ в условиях, требующих обеспечение безопасности (использование дополнительных лестниц и иных приспособлений (коэффициент 1,15) | C22: п. 6 табл. 10 | D22: - | E22: - | F22: - | G22: -
A23: 1.3 | B23: Выполнение работ в неотапливаемых зданиях или его частях (чердаки, кровли, фасады и др.) в неблагоприятный период года (коэффициент 1,2) | C23: п. 4 табл. 10 | D23: - | E23: - | F23: - | G23: -
A24: 1.2 | B24: Корректирующий коэффициент, учитывающий строительный объем здания (коэффициент 3,5) | C24: п. 2 табл. 11 | D24: - | E24: - | F24: -
A25: 1.3 | B25: ИТОГО ПОЛНАЯ стоимость обмерных работ в уровне цен 01.01.2001 г. | G25: =G20*3.5 -> 23863
A26: 1.4 | B26: Корректировка стоимости, с учетом фактически выполняемого объема обмерных работ: - поэтажные планы здания - 16,38 %; - фасады, окна, ворота - 17,88 %. Корректирующий (понижающий) коэффициент: 16,38% + 17,88% = 34,26% (0,3426) | C26: Таблица 8 | D26: - | E26: - | F26: - | G26: -
A27: 1.5 | B27: ИТОГО стоимость обмерных работ в уровне цен 01.01.2001 г. | G27: =G25*0.3426 -> 8175.4638
A28: 1.6 | B28: ИТОГО стоимость обмерных работ в ценах III квартала 2026 года с коэффициентом 7,19 (Письмо Минстроя России от 23.07.2026 № 45358-ИФ/09) | G28: =G27*7.19 -> 58781.585
A29: 2. Инженерное обследование
A30: 2.1 | B30: Инженерное обследование по базовым ценам | C30: Табл. 4 | D30: 100 куб. м | E30: 287 | F30: =C12/100 -> 17.5 | G30: =E30*F30 -> 5022.5
B31: Коэффициент, учитывающий обследование конструкций здания без прекращения производственного процесса п.2 табл. 3 | G31: 1
A32: 2.2 | B32: Выполнение работ в условиях, требующих обеспечение безопасности (использование дополнительных лестниц и иных приспособлений (коэффициент 1,15) | C32: п. 6 табл. 10 | D32: - | E32: - | F32: - | G32: -
A33: 2.3 | B33: Выполнение работ в неотапливаемых зданиях или его частях (чердаки, кровли, фасады и др.) в неблагоприятный период года (коэффициент 1,2) | C33: п. 4 табл. 10 | D33: - | E33: - | F33: - | G33: -
A34: 2.2 | B34: Корректирующий коэффициент, учитывающий строительный объем здания (коэффициент 3,5) | C34: п. 2 табл. 11 | D34: - | E34: - | F34: - | G34: -
A35: 2.3 | B35: ИТОГО ПОЛНАЯ стоимость инженерного обследования в уровне цен 01.01.2001 г. | G35: =G30*3.5 -> 17578.75
A36: 2.4 | B36: Корректировка стоимости, с учетом фактически выполняемого объема обследовательских работ: - Фундаменты - 3,84 %; - стены - 32,59 %; - перекрытия - 34,20 %. Корректирующий (понижающий) коэффициент: 3,84% + 32,59% + 34,20% = 70,63% (0,7063) | C36: Таблица 9 | D36: - | E36: - | F36: - | G36: -
A37: 2.5 | B37: ИТОГО стоимость инженерного обследования в уровне цен 01.01.2001 г. | G37: =G35*0.7063 -> 12415.871
A38: 2.6 | B38: ИТОГО стоимость инженерного обследования в ценах III квартала 2026 года с коэффициентом 7,19 (Письмо Минстроя России от 23.07.2026 № 45358-ИФ/09) | G38: =G37*7.19 -> 89270.113
A39: 3 | B39: Итого стоимость работ | G39: =G38+G28 -> 148051.7

Sheet Суворова, 30
B5: СОГЛАСОВАНО | D5: УТВЕРЖДАЮ:
B7: __________________ | D7: _____________________
A9: СМЕТА №5 На проведение работ по техническому обследованию строительных конструкций здания многоквартирного дома, расположенного по адресу: Республика Марий Эл, г. Йошкар-Ола, ул. Суворова, д. 30
A11: Определение стоимости работ ведется по СБЦП 81-2001-25 "Справочник базовых цен на обмерные работы и обследования зданий и сооружений" [1]
B12: Строительный объем здания: | C12: 1785 | D12: куб. м
B15: Категория сложности здания – 1 (таблица 5 [1]).
B16: Категория сложности обмерных работ – 1 (таблица 6 [1]).
B17: Категория сложности работ по обследованию – 1 (таблица 7 [1]).
A18: № п/п | B18: Наименование работ | C18: Обоснование по [1] | D18: Ед. измерения | E18: Стоимость за единицу, руб | F18: Количество единиц | G18: Стоимость, руб
A19: 1. Определение стоимости обмерных работ
A20: 1.1 | B20: Обмерные работы по базовым ценам | C20: Табл. 2 | D20: 100 куб. м | E20: 389.6 | F20: =C12/100 -> 17.85 | G20: =E20*F20 -> 6954.36
A22: 1.2 | B22: Выполнение работ в условиях, требующих обеспечение безопасности (использование дополнительных лестниц и иных приспособлений (коэффициент 1,15) | C22: п. 6 табл. 10 | D22: - | E22: - | F22: - | G22: -
A23: 1.3 | B23: Выполнение работ в неотапливаемых зданиях или его частях (чердаки, кровли, фасады и др.) в неблагоприятный период года (коэффициент 1,2) | C23: п. 4 табл. 10 | D23: - | E23: - | F23: - | G23: -
A24: 1.2 | B24: Корректирующий коэффициент, учитывающий строительный объем здания (коэффициент 3,5) | C24: п. 2 табл. 11 | D24: - | E24: - | F24: -
A25: 1.3 | B25: ИТОГО ПОЛНАЯ стоимость обмерных работ в уровне цен 01.01.2001 г. | G25: =G20*3.5 -> 24340.26
A26: 1.4 | B26: Корректировка стоимости, с учетом фактически выполняемого объема обмерных работ: - поэтажные планы здания - 16,38 %; - фасады, окна, ворота - 17,88 %. Корректирующий (понижающий) коэффициент: 16,38% + 17,88% = 34,26% (0,3426) | C26: Таблица 8 | D26: - | E26: - | F26: - | G26: -
A27: 1.5 | B27: ИТОГО стоимость обмерных работ в уровне цен 01.01.2001 г. | G27: =G25*0.3426 -> 8338.9731
A28: 1.6 | B28: ИТОГО стоимость обмерных работ в ценах III квартала 2026 года с коэффициентом 7,19 (Письмо Минстроя России от 23.07.2026 № 45358-ИФ/09) | G28: =G27*7.19 -> 59957.216
A29: 2. Инженерное обследование
A30: 2.1 | B30: Инженерное обследование по базовым ценам | C30: Табл. 4 | D30: 100 куб. м | E30: 287 | F30: =C12/100 -> 17.85 | G30: =E30*F30 -> 5122.95
B31: Коэффициент, учитывающий обследование конструкций здания без прекращения производственного процесса п.2 табл. 3 | G31: 1
A32: 2.2 | B32: Выполнение работ в условиях, требующих обеспечение безопасности (использование дополнительных лестниц и иных приспособлений (коэффициент 1,15) | C32: п. 6 табл. 10 | D32: - | E32: - | F32: - | G32: -
A33: 2.3 | B33: Выполнение работ в неотапливаемых зданиях или его частях (чердаки, кровли, фасады и др.) в неблагоприятный период года (коэффициент 1,2) | C33: п. 4 табл. 10 | D33: - | E33: - | F33: - | G33: -
A34: 2.2 | B34: Корректирующий коэффициент, учитывающий строительный объем здания (коэффициент 3,5) | C34: п. 2 табл. 11 | D34: - | E34: - | F34: - | G34: -
A35: 2.3 | B35: ИТОГО ПОЛНАЯ стоимость инженерного обследования в уровне цен 01.01.2001 г. | G35: =G30*3.5 -> 17930.325
A36: 2.4 | B36: Корректировка стоимости, с учетом фактически выполняемого объема обследовательских работ: - Фундаменты - 3,84 %; - стены - 32,59 %; - перекрытия - 34,20 %. Корректирующий (понижающий) коэффициент: 3,84% + 32,59% + 34,20% = 70,63% (0,7063) | C36: Таблица 9 | D36: - | E36: - | F36: - | G36: -
A37: 2.5 | B37: ИТОГО стоимость инженерного обследования в уровне цен 01.01.2001 г. | G37: =G35*0.7063 -> 12664.189
A38: 2.6 | B38: ИТОГО стоимость инженерного обследования в ценах III квартала 2026 года с коэффициентом 7,19 (Письмо Минстроя России от 23.07.2026 № 45358-ИФ/09) | G38: =G37*7.19 -> 91055.516
A39: 3 | B39: Итого стоимость работ | G39: =G38+G28 -> 151012.73

Sheet Зарубина, 55
B5: СОГЛАСОВАНО | D5: УТВЕРЖДАЮ:
B7: __________________ | D7: _____________________
A9: СМЕТА №6 На проведение работ по техническому обследованию строительных конструкций здания многоквартирного дома, расположенного по адресу: Республика Марий Эл, г. Йошкар-Ола, ул. Зарубина, д. 55
A11: Определение стоимости работ ведется по СБЦП 81-2001-25 "Справочник базовых цен на обмерные работы и обследования зданий и сооружений" [1]
B12: Строительный объем здания: | C12: 1630 | D12: куб. м
B15: Категория сложности здания – 1 (таблица 5 [1]).
B16: Категория сложности обмерных работ – 1 (таблица 6 [1]).
B17: Категория сложности работ по обследованию – 1 (таблица 7 [1]).
A18: № п/п | B18: Наименование работ | C18: Обоснование по [1] | D18: Ед. измерения | E18: Стоимость за единицу, руб | F18: Количество единиц | G18: Стоимость, руб
A19: 1. Определение стоимости обмерных работ
A20: 1.1 | B20: Обмерные работы по базовым ценам | C20: Табл. 2 | D20: 100 куб. м | E20: 389.6 | F20: =C12/100 -> 16.3 | G20: =E20*F20 -> 6350.48
A22: 1.2 | B22: Выполнение работ в условиях, требующих обеспечение безопасности (использование дополнительных лестниц и иных приспособлений (коэффициент 1,15) | C22: п. 6 табл. 10 | D22: - | E22: - | F22: - | G22: -
A23: 1.3 | B23: Выполнение работ в неотапливаемых зданиях или его частях (чердаки, кровли, фасады и др.) в неблагоприятный период года (коэффициент 1,2) | C23: п. 4 табл. 10 | D23: - | E23: - | F23: - | G23: -
A24: 1.2 | B24: Корректирующий коэффициент, учитывающий строительный объем здания (коэффициент 3,5) | C24: п. 2 табл. 11 | D24: - | E24: - | F24: -
A25: 1.3 | B25: ИТОГО ПОЛНАЯ стоимость обмерных работ в уровне цен 01.01.2001 г. | G25: =G20*3.5 -> 22226.68
A26: 1.4 | B26: Корректировка стоимости, с учетом фактически выполняемого объема обмерных работ: - поэтажные планы здания - 16,38 %; - фасады, окна, ворота - 17,88 %. Корректирующий (понижающий) коэффициент: 16,38% + 17,88% = 34,26% (0,3426) | C26: Таблица 8 | D26: - | E26: - | F26: - | G26: -
A27: 1.5 | B27: ИТОГО стоимость обмерных работ в уровне цен 01.01.2001 г. | G27: =G25*0.3426 -> 7614.8606
A28: 1.6 | B28: ИТОГО стоимость обмерных работ в ценах III квартала 2026 года с коэффициентом 7,19 (Письмо Минстроя России от 23.07.2026 № 45358-ИФ/09) | G28: =G27*7.19 -> 54750.847
A29: 2. Инженерное обследование
A30: 2.1 | B30: Инженерное обследование по базовым ценам | C30: Табл. 4 | D30: 100 куб. м | E30: 287 | F30: =C12/100 -> 16.3 | G30: =E30*F30 -> 4678.1
B31: Коэффициент, учитывающий обследование конструкций здания без прекращения производственного процесса п.2 табл. 3 | G31: 1
A32: 2.2 | B32: Выполнение работ в условиях, требующих обеспечение безопасности (использование дополнительных лестниц и иных приспособлений (коэффициент 1,15) | C32: п. 6 табл. 10 | D32: - | E32: - | F32: - | G32: -
A33: 2.3 | B33: Выполнение работ в неотапливаемых зданиях или его частях (чердаки, кровли, фасады и др.) в неблагоприятный период года (коэффициент 1,2) | C33: п. 4 табл. 10 | D33: - | E33: - | F33: - | G33: -
A34: 2.2 | B34: Корректирующий коэффициент, учитывающий строительный объем здания (коэффициент 3,5) | C34: п. 2 табл. 11 | D34: - | E34: - | F34: - | G34: -
A35: 2.3 | B35: ИТОГО ПОЛНАЯ стоимость инженерного обследования в уровне цен 01.01.2001 г. | G35: =G30*3.5 -> 16373.35
A36: 2.4 | B36: Корректировка стоимости, с учетом фактически выполняемого объема обследовательских работ: - Фундаменты - 3,84 %; - стены - 32,59 %; - перекрытия - 34,20 %. Корректирующий (понижающий) коэффициент: 3,84% + 32,59% + 34,20% = 70,63% (0,7063) | C36: Таблица 9 | D36: - | E36: - | F36: - | G36: -
A37: 2.5 | B37: ИТОГО стоимость инженерного обследования в уровне цен 01.01.2001 г. | G37: =G35*0.7063 -> 11564.497
A38: 2.6 | B38: ИТОГО стоимость инженерного обследования в ценах III квартала 2026 года с коэффициентом 7,19 (Письмо Минстроя России от 23.07.2026 № 45358-ИФ/09) | G38: =G37*7.19 -> 83148.734
A39: 3 | B39: Итого стоимость работ | G39: =G38+G28 -> 137899.58

Sheet Суворова, 28Г
B5: СОГЛАСОВАНО | D5: УТВЕРЖДАЮ:
B7: __________________ | D7: _____________________
A9: СМЕТА №7 На проведение работ по техническому обследованию строительных конструкций здания многоквартирного дома, расположенного по адресу: Республика Марий Эл, г. Йошкар-Ола, ул. Суворова, д. 28Г
A11: Определение стоимости работ ведется по СБЦП 81-2001-25 "Справочник базовых цен на обмерные работы и обследования зданий и сооружений" [1]
B12: Строительный объем здания: | C12: 1934 | D12: куб. м
B15: Категория сложности здания – 1 (таблица 5 [1]).
B16: Категория сложности обмерных работ – 1 (таблица 6 [1]).
B17: Категория сложности работ по обследованию – 1 (таблица 7 [1]).
A18: № п/п | B18: Наименование работ | C18: Обоснование по [1] | D18: Ед. измерения | E18: Стоимость за единицу, руб | F18: Количество единиц | G18: Стоимость, руб
A19: 1. Определение стоимости обмерных работ
A20: 1.1 | B20: Обмерные работы по базовым ценам | C20: Табл. 2 | D20: 100 куб. м | E20: 389.6 | F20: =C12/100 -> 19.34 | G20: =E20*F20 -> 7534.864
A22: 1.2 | B22: Выполнение работ в условиях, требующих обеспечение безопасности (использование дополнительных лестниц и иных приспособлений (коэффициент 1,15) | C22: п. 6 табл. 10 | D22: - | E22: - | F22: - | G22: -
A23: 1.3 | B23: Выполнение работ в неотапливаемых зданиях или его частях (чердаки, кровли, фасады и др.) в неблагоприятный период года (коэффициент 1,2) | C23: п. 4 табл. 10 | D23: - | E23: - | F23: - | G23: -
A24: 1.2 | B24: Корректирующий коэффициент, учитывающий строительный объем здания (коэффициент 3,5) | C24: п. 2 табл. 11 | D24: - | E24: - | F24: -
A25: 1.3 | B25: ИТОГО ПОЛНАЯ стоимость обмерных работ в уровне цен 01.01.2001 г. | G25: =G20*3.5 -> 26372.024
A26: 1.4 | B26: Корректировка стоимости, с учетом фактически выполняемого объема обмерных работ: - поэтажные планы здания - 16,38 %; - фасады, окна, ворота - 17,88 %. Корректирующий (понижающий) коэффициент: 16,38% + 17,88% = 34,26% (0,3426) | C26: Таблица 8 | D26: - | E26: - | F26: - | G26: -
A27: 1.5 | B27: ИТОГО стоимость обмерных работ в уровне цен 01.01.2001 г. | G27: =G25*0.3426 -> 9035.0554
A28: 1.6 | B28: ИТОГО стоимость обмерных работ в ценах III квартала 2026 года с коэффициентом 7,19 (Письмо Минстроя России от 23.07.2026 № 45358-ИФ/09) | G28: =G27*7.19 -> 64962.048
A29: 2. Инженерное обследование
A30: 2.1 | B30: Инженерное обследование по базовым ценам | C30: Табл. 4 | D30: 100 куб. м | E30: 287 | F30: =C12/100 -> 19.34 | G30: =E30*F30 -> 5550.58
B31: Коэффициент, учитывающий обследование конструкций здания без прекращения производственного процесса п.2 табл. 3 | G31: 1
A32: 2.2 | B32: Выполнение работ в условиях, требующих обеспечение безопасности (использование дополнительных лестниц и иных приспособлений (коэффициент 1,15) | C32: п. 6 табл. 10 | D32: - | E32: - | F32: - | G32: -
A33: 2.3 | B33: Выполнение работ в неотапливаемых зданиях или его частях (чердаки, кровли, фасады и др.) в неблагоприятный период года (коэффициент 1,2) | C33: п. 4 табл. 10 | D33: - | E33: - | F33: - | G33: -
A34: 2.2 | B34: Корректирующий коэффициент, учитывающий строительный объем здания (коэффициент 3,5) | C34: п. 2 табл. 11 | D34: - | E34: - | F34: - | G34: -
A35: 2.3 | B35: ИТОГО ПОЛНАЯ стоимость инженерного обследования в уровне цен 01.01.2001 г. | G35: =G30*3.5 -> 19427.03
A36: 2.4 | B36: Корректировка стоимости, с учетом фактически выполняемого объема обследовательских работ: - Фундаменты - 3,84 %; - стены - 32,59 %; - перекрытия - 34,20 %. Корректирующий (понижающий) коэффициент: 3,84% + 32,59% + 34,20% = 70,63% (0,7063) | C36: Таблица 9 | D36: - | E36: - | F36: - | G36: -
A37: 2.5 | B37: ИТОГО стоимость инженерного обследования в уровне цен 01.01.2001 г. | G37: =G35*0.7063 -> 13721.311
A38: 2.6 | B38: ИТОГО стоимость инженерного обследования в ценах III квартала 2026 года с коэффициентом 7,19 (Письмо Минстроя России от 23.07.2026 № 45358-ИФ/09) | G38: =G37*7.19 -> 98656.228
A39: 3 | B39: Итого стоимость работ | G39: =G38+G28 -> 163618.28

Sheet Суворова, 28В
B5: СОГЛАСОВАНО | D5: УТВЕРЖДАЮ:
B7: __________________ | D7: _____________________
A9: СМЕТА №8 На проведение работ по техническому обследованию строительных конструкций здания многоквартирного дома, расположенного по адресу: Республика Марий Эл, г. Йошкар-Ола, ул. Суворова, д. 28В
A11: Определение стоимости работ ведется по СБЦП 81-2001-25 "Справочник базовых цен на обмерные работы и обследования зданий и сооружений" [1]
B12: Строительный объем здания: | C12: 1930 | D12: куб. м
B15: Категория сложности здания – 1 (таблица 5 [1]).
B16: Категория сложности обмерных работ – 1 (таблица 6 [1]).
B17: Категория сложности работ по обследованию – 1 (таблица 7 [1]).
A18: № п/п | B18: Наименование работ | C18: Обоснование по [1] | D18: Ед. измерения | E18: Стоимость за единицу, руб | F18: Количество единиц | G18: Стоимость, руб
A19: 1. Определение стоимости обмерных работ
A20: 1.1 | B20: Обмерные работы по базовым ценам | C20: Табл. 2 | D20: 100 куб. м | E20: 389.6 | F20: =C12/100 -> 19.3 | G20: =E20*F20 -> 7519.28
A22: 1.2 | B22: Выполнение работ в условиях, требующих обеспечение безопасности (использование дополнительных лестниц и иных приспособлений (коэффициент 1,15) | C22: п. 6 табл. 10 | D22: - | E22: - | F22: - | G22: -
A23: 1.3 | B23: Выполнение работ в неотапливаемых зданиях или его частях (чердаки, кровли, фасады и др.) в неблагоприятный период года (коэффициент 1,2) | C23: п. 4 табл. 10 | D23: - | E23: - | F23: - | G23: -
A24: 1.2 | B24: Корректирующий коэффициент, учитывающий строительный объем здания (коэффициент 3,5) | C24: п. 2 табл. 11 | D24: - | E24: - | F24: -
A25: 1.3 | B25: ИТОГО ПОЛНАЯ стоимость обмерных работ в уровне цен 01.01.2001 г. | G25: =G20*3.5 -> 26317.48
A26: 1.4 | B26: Корректировка стоимости, с учетом фактически выполняемого объема обмерных работ: - поэтажные планы здания - 16,38 %; - фасады, окна, ворота - 17,88 %. Корректирующий (понижающий) коэффициент: 16,38% + 17,88% = 34,26% (0,3426) | C26: Таблица 8 | D26: - | E26: - | F26: - | G26: -
A27: 1.5 | B27: ИТОГО стоимость обмерных работ в уровне цен 01.01.2001 г. | G27: =G25*0.3426 -> 9016.3686
A28: 1.6 | B28: ИТОГО стоимость обмерных работ в ценах III квартала 2026 года с коэффициентом 7,19 (Письмо Минстроя России от 23.07.2026 № 45358-ИФ/09) | G28: =G27*7.19 -> 64827.691
A29: 2. Инженерное обследование
A30: 2.1 | B30: Инженерное обследование по базовым ценам | C30: Табл. 4 | D30: 100 куб. м | E30: 287 | F30: =C12/100 -> 19.3 | G30: =E30*F30 -> 5539.1
B31: Коэффициент, учитывающий обследование конструкций здания без прекращения производственного процесса п.2 табл. 3 | G31: 1
A32: 2.2 | B32: Выполнение работ в условиях, требующих обеспечение безопасности (использование дополнительных лестниц и иных приспособлений (коэффициент 1,15) | C32: п. 6 табл. 10 | D32: - | E32: - | F32: - | G32: -
A33: 2.3 | B33: Выполнение работ в неотапливаемых зданиях или его частях (чердаки, кровли, фасады и др.) в неблагоприятный период года (коэффициент 1,2) | C33: п. 4 табл. 10 | D33: - | E33: - | F33: - | G33: -
A34: 2.2 | B34: Корректирующий коэффициент, учитывающий строительный объем здания (коэффициент 3,5) | C34: п. 2 табл. 11 | D34: - | E34: - | F34: - | G34: -
A35: 2.3 | B35: ИТОГО ПОЛНАЯ стоимость инженерного обследования в уровне цен 01.01.2001 г. | G35: =G30*3.5 -> 19386.85
A36: 2.4 | B36: Корректировка стоимости, с учетом фактически выполняемого объема обследовательских работ: - Фундаменты - 3,84 %; - стены - 32,59 %; - перекрытия - 34,20 %. Корректирующий (понижающий) коэффициент: 3,84% + 32,59% + 34,20% = 70,63% (0,7063) | C36: Таблица 9 | D36: - | E36: - | F36: - | G36: -
A37: 2.5 | B37: ИТОГО стоимость инженерного обследования в уровне цен 01.01.2001 г. | G37: =G35*0.7063 -> 13692.932
A38: 2.6 | B38: ИТОГО стоимость инженерного обследования в ценах III квартала 2026 года с коэффициентом 7,19 (Письмо Минстроя России от 23.07.2026 № 45358-ИФ/09) | G38: =G37*7.19 -> 98452.182
A39: 3 | B39: Итого стоимость работ | G39: =G38+G28 -> 163279.87

Sheet Суворова, 28Б
B5: СОГЛАСОВАНО | D5: УТВЕРЖДАЮ:
B7: __________________ | D7: _____________________
A9: СМЕТА №9 На проведение работ по техническому обследованию строительных конструкций здания многоквартирного дома, расположенного по адресу: Республика Марий Эл, г. Йошкар-Ола, ул. Суворова, д. 28Б
A11: Определение стоимости работ ведется по СБЦП 81-2001-25 "Справочник базовых цен на обмерные работы и обследования зданий и сооружений" [1]
B12: Строительный объем здания: | C12: 1897 | D12: куб. м
B15: Категория сложности здания – 1 (таблица 5 [1]).
B16: Категория сложности обмерных работ – 1 (таблица 6 [1]).
B17: Категория сложности работ по обследованию – 1 (таблица 7 [1]).
A18: № п/п | B18: Наименование работ | C18: Обоснование по [1] | D18: Ед. измерения | E18: Стоимость за единицу, руб | F18: Количество единиц | G18: Стоимость, руб
A19: 1. Определение стоимости обмерных работ
A20: 1.1 | B20: Обмерные работы по базовым ценам | C20: Табл. 2 | D20: 100 куб. м | E20: 389.6 | F20: =C12/100 -> 18.97 | G20: =E20*F20 -> 7390.712
A22: 1.2 | B22: Выполнение работ в условиях, требующих обеспечение безопасности (использование дополнительных лестниц и иных приспособлений (коэффициент 1,15) | C22: п. 6 табл. 10 | D22: - | E22: - | F22: - | G22: -
A23: 1.3 | B23: Выполнение работ в неотапливаемых зданиях или его частях (чердаки, кровли, фасады и др.) в неблагоприятный период года (коэффициент 1,2) | C23: п. 4 табл. 10 | D23: - | E23: - | F23: - | G23: -
A24: 1.2 | B24: Корректирующий коэффициент, учитывающий строительный объем здания (коэффициент 3,5) | C24: п. 2 табл. 11 | D24: - | E24: - | F24: -
A25: 1.3 | B25: ИТОГО ПОЛНАЯ стоимость обмерных работ в уровне цен 01.01.2001 г. | G25: =G20*3.5 -> 25867.492
A26: 1.4 | B26: Корректировка стоимости, с учетом фактически выполняемого объема обмерных работ: - поэтажные планы здания - 16,38 %; - фасады, окна, ворота - 17,88 %. Корректирующий (понижающий) коэффициент: 16,38% + 17,88% = 34,26% (0,3426) | C26: Таблица 8 | D26: - | E26: - | F26: - | G26: -
A27: 1.5 | B27: ИТОГО стоимость обмерных работ в уровне цен 01.01.2001 г. | G27: =G25*0.3426 -> 8862.2028
A28: 1.6 | B28: ИТОГО стоимость обмерных работ в ценах III квартала 2026 года с коэффициентом 7,19 (Письмо Минстроя России от 23.07.2026 № 45358-ИФ/09) | G28: =G27*7.19 -> 63719.238
A29: 2. Инженерное обследование
A30: 2.1 | B30: Инженерное обследование по базовым ценам | C30: Табл. 4 | D30: 100 куб. м | E30: 287 | F30: =C12/100 -> 18.97 | G30: =E30*F30 -> 5444.39
B31: Коэффициент, учитывающий обследование конструкций здания без прекращения производственного процесса п.2 табл. 3 | G31: 1
A32: 2.2 | B32: Выполнение работ в условиях, требующих обеспечение безопасности (использование дополнительных лестниц и иных приспособлений (коэффициент 1,15) | C32: п. 6 табл. 10 | D32: - | E32: - | F32: - | G32: -
A33: 2.3 | B33: Выполнение работ в неотапливаемых зданиях или его частях (чердаки, кровли, фасады и др.) в неблагоприятный период года (коэффициент 1,2) | C33: п. 4 табл. 10 | D33: - | E33: - | F33: - | G33: -
A34: 2.2 | B34: Корректирующий коэффициент, учитывающий строительный объем здания (коэффициент 3,5) | C34: п. 2 табл. 11 | D34: - | E34: - | F34: - | G34: -
A35: 2.3 | B35: ИТОГО ПОЛНАЯ стоимость инженерного обследования в уровне цен 01.01.2001 г. | G35: =G30*3.5 -> 19055.365
A36: 2.4 | B36: Корректировка стоимости, с учетом фактически выполняемого объема обследовательских работ: - Фундаменты - 3,84 %; - стены - 32,59 %; - перекрытия - 34,20 %. Корректирующий (понижающий) коэффициент: 3,84% + 32,59% + 34,20% = 70,63% (0,7063) | C36: Таблица 9 | D36: - | E36: - | F36: - | G36: -
A37: 2.5 | B37: ИТОГО стоимость инженерного обследования в уровне цен 01.01.2001 г. | G37: =G35*0.7063 -> 13458.804
A38: 2.6 | B38: ИТОГО стоимость инженерного обследования в ценах III квартала 2026 года с коэффициентом 7,19 (Письмо Минстроя России от 23.07.2026 № 45358-ИФ/09) | G38: =G37*7.19 -> 96768.803
A39: 3 | B39: Итого стоимость работ | G39: =G38+G28 -> 160488.04

Sheet Прохорова, 4
B5: СОГЛАСОВАНО | D5: УТВЕРЖДАЮ:
B7: __________________ | D7: _____________________
A9: СМЕТА №10 На проведение работ по техническому обследованию строительных конструкций здания многоквартирного дома, расположенного по адресу: Республика Марий Эл, г. Йошкар-Ола, ул. Прохорова, д. 4
A11: Определение стоимости работ ведется по СБЦП 81-2001-25 "Справочник базовых цен на обмерные работы и обследования зданий и сооружений" [1]
B12: Строительный объем здания: | C12: 2438 | D12: куб. м
B15: Категория сложности здания – 1 (таблица 5 [1]).
B16: Категория сложности обмерных работ – 1 (таблица 6 [1]).
B17: Категория сложности работ по обследованию – 1 (таблица 7 [1]).
A18: № п/п | B18: Наименование работ | C18: Обоснование по [1] | D18: Ед. измерения | E18: Стоимость за единицу, руб | F18: Количество единиц | G18: Стоимость, руб
A19: 1. Определение стоимости обмерных работ
A20: 1.1 | B20: Обмерные работы по базовым ценам | C20: Табл. 2 | D20: 100 куб. м | E20: 389.6 | F20: =C12/100 -> 24.38 | G20: =E20*F20 -> 9498.448
A22: 1.2 | B22: Выполнение работ в условиях, требующих обеспечение безопасности (использование дополнительных лестниц и иных приспособлений (коэффициент 1,15) | C22: п. 6 табл. 10 | D22: - | E22: - | F22: - | G22: -
A23: 1.3 | B23: Выполнение работ в неотапливаемых зданиях или его частях (чердаки, кровли, фасады и др.) в неблагоприятный период года (коэффициент 1,2) | C23: п. 4 табл. 10 | D23: - | E23: - | F23: - | G23: -
A24: 1.2 | B24: Корректирующий коэффициент, учитывающий строительный объем здания (коэффициент 2,2) | C24: п. 3 табл. 11 | D24: - | E24: - | F24: -
A25: 1.3 | B25: ИТОГО ПОЛНАЯ стоимость обмерных работ в уровне цен 01.01.2001 г. | G25: =G20*2.2 -> 20896.586
A26: 1.4 | B26: Корректировка стоимости, с учетом фактически выполняемого объема обмерных работ: - поэтажные планы здания - 16,38 %; - фасады, окна, ворота - 17,88 %. Корректирующий (понижающий) коэффициент: 16,38% + 17,88% = 34,26% (0,3426) | C26: Таблица 8 | D26: - | E26: - | F26: - | G26: -
A27: 1.5 | B27: ИТОГО стоимость обмерных работ в уровне цен 01.01.2001 г. | G27: =G25*0.3426 -> 7159.1702
A28: 1.6 | B28: ИТОГО стоимость обмерных работ в ценах III квартала 2026 года с коэффициентом 7,19 (Письмо Минстроя России от 23.07.2026 № 45358-ИФ/09) | G28: =G27*7.19 -> 51474.434
A29: 2. Инженерное обследование
A30: 2.1 | B30: Инженерное обследование по базовым ценам | C30: Табл. 4 | D30: 100 куб. м | E30: 287 | F30: =C12/100 -> 24.38 | G30: =E30*F30 -> 6997.06
B31: Коэффициент, учитывающий обследование конструкций здания без прекращения производственного процесса п.2 табл. 3 | G31: 1
A32: 2.2 | B32: Выполнение работ в условиях, требующих обеспечение безопасности (использование дополнительных лестниц и иных приспособлений (коэффициент 1,15) | C32: п. 6 табл. 10 | D32: - | E32: - | F32: - | G32: -
A33: 2.3 | B33: Выполнение работ в неотапливаемых зданиях или его частях (чердаки, кровли, фасады и др.) в неблагоприятный период года (коэффициент 1,2) | C33: п. 4 табл. 10 | D33: - | E33: - | F33: - | G33: -
A34: 2.2 | B34: Корректирующий коэффициент, учитывающий строительный объем здания (коэффициент 2,2) | C34: п. 3 табл. 11 | D34: - | E34: - | F34: - | G34: -
A35: 2.3 | B35: ИТОГО ПОЛНАЯ стоимость инженерного обследования в уровне цен 01.01.2001 г. | G35: =G30*2.2 -> 15393.532
A36: 2.4 | B36: Корректировка стоимости, с учетом фактически выполняемого объема обследовательских работ: - Фундаменты - 3,84 %; - стены - 32,59 %; - перекрытия - 34,20 %. Корректирующий (понижающий) коэффициент: 3,84% + 32,59% + 34,20% = 70,63% (0,7063) | C36: Таблица 9 | D36: - | E36: - | F36: - | G36: -
A37: 2.5 | B37: ИТОГО стоимость инженерного обследования в уровне цен 01.01.2001 г. | G37: =G35*0.7063 -> 10872.452
A38: 2.6 | B38: ИТОГО стоимость инженерного обследования в ценах III квартала 2026 года с коэффициентом 7,19 (Письмо Минстроя России от 23.07.2026 № 45358-ИФ/09) | G38: =G37*7.19 -> 78172.927
A39: 3 | B39: Итого стоимость работ | G39: =G38+G28 -> 129647.36

Sheet Зеленая, 10
B5: СОГЛАСОВАНО | D5: УТВЕРЖДАЮ:
B7: __________________ | D7: _____________________
A9: СМЕТА №11 На проведение работ по техническому обследованию строительных конструкций здания многоквартирного дома, расположенного по адресу: Республика Марий Эл, г. Йошкар-Ола, ул. Зеленая, д. 10
A11: Определение стоимости работ ведется по СБЦП 81-2001-25 "Справочник базовых цен на обмерные работы и обследования зданий и сооружений" [1]
B12: Строительный объем здания: | C12: 2218 | D12: куб. м
B15: Категория сложности здания – 1 (таблица 5 [1]).
B16: Категория сложности обмерных работ – 1 (таблица 6 [1]).
B17: Категория сложности работ по обследованию – 1 (таблица 7 [1]).
A18: № п/п | B18: Наименование работ | C18: Обоснование по [1] | D18: Ед. измерения | E18: Стоимость за единицу, руб | F18: Количество единиц | G18: Стоимость, руб
A19: 1. Определение стоимости обмерных работ
A20: 1.1 | B20: Обмерные работы по базовым ценам | C20: Табл. 2 | D20: 100 куб. м | E20: 409.2 | F20: =C12/100 -> 22.18 | G20: =E20*F20 -> 9076.056
A22: 1.2 | B22: Выполнение работ в условиях, требующих обеспечение безопасности (использование дополнительных лестниц и иных приспособлений (коэффициент 1,15) | C22: п. 6 табл. 10 | D22: - | E22: - | F22: - | G22: -
A23: 1.3 | B23: Выполнение работ в неотапливаемых зданиях или его частях (чердаки, кровли, фасады и др.) в неблагоприятный период года (коэффициент 1,2) | C23: п. 4 табл. 10 | D23: - | E23: - | F23: - | G23: -
A24: 1.2 | B24: Корректирующий коэффициент, учитывающий строительный объем здания (коэффициент 2,2) | C24: п. 3 табл. 11 | D24: - | E24: - | F24: -
A25: 1.3 | B25: ИТОГО ПОЛНАЯ стоимость обмерных работ в уровне цен 01.01.2001 г. | G25: =G20*2.2 -> 19967.323
A26: 1.4 | B26: Корректировка стоимости, с учетом фактически выполняемого объема обмерных работ: - поэтажные планы здания - 16,38 %; - фасады, окна, ворота - 17,88 %. Корректирующий (понижающий) коэффициент: 16,38% + 17,88% = 34,26% (0,3426) | C26: Таблица 8 | D26: - | E26: - | F26: - | G26: -
A27: 1.5 | B27: ИТОГО стоимость обмерных работ в уровне цен 01.01.2001 г. | G27: =G25*0.3426 -> 6840.8049
A28: 1.6 | B28: ИТОГО стоимость обмерных работ в ценах III квартала 2026 года с коэффициентом 7,19 (Письмо Минстроя России от 23.07.2026 № 45358-ИФ/09) | G28: =G27*7.19 -> 49185.387
A29: 2. Инженерное обследование
A30: 2.1 | B30: Инженерное обследование по базовым ценам | C30: Табл. 4 | D30: 100 куб. м | E30: 298.8 | F30: =C12/100 -> 22.18 | G30: =E30*F30 -> 6627.384
B31: Коэффициент, учитывающий обследование конструкций здания без прекращения производственного процесса п.2 табл. 3 | G31: 1
A32: 2.2 | B32: Выполнение работ в условиях, требующих обеспечение безопасности (использование дополнительных лестниц и иных приспособлений (коэффициент 1,15) | C32: п. 6 табл. 10 | D32: - | E32: - | F32: - | G32: -
A33: 2.3 | B33: Выполнение работ в неотапливаемых зданиях или его частях (чердаки, кровли, фасады и др.) в неблагоприятный период года (коэффициент 1,2) | C33: п. 4 табл. 10 | D33: - | E33: - | F33: - | G33: -
A34: 2.2 | B34: Корректирующий коэффициент, учитывающий строительный объем здания (коэффициент 2,2) | C34: п. 3 табл. 11 | D34: - | E34: - | F34: - | G34: -
A35: 2.3 | B35: ИТОГО ПОЛНАЯ стоимость инженерного обследования в уровне цен 01.01.2001 г. | G35: =G30*2.2 -> 14580.245
A36: 2.4 | B36: Корректировка стоимости, с учетом фактически выполняемого объема обследовательских работ: - Фундаменты - 3,84 %; - стены - 32,59 %; - перекрытия - 34,20 %. Корректирующий (понижающий) коэффициент: 3,84% + 32,59% + 34,20% = 70,63% (0,7063) | C36: Таблица 9 | D36: - | E36: - | F36: - | G36: -
A37: 2.5 | B37: ИТОГО стоимость инженерного обследования в уровне цен 01.01.2001 г. | G37: =G35*0.7063 -> 10298.027
A38: 2.6 | B38: ИТОГО стоимость инженерного обследования в ценах III квартала 2026 года с коэффициентом 7,19 (Письмо Минстроя России от 23.07.2026 № 45358-ИФ/09) | G38: =G37*7.19 -> 74042.813
A39: 3 | B39: Итого стоимость работ | G39: =G38+G28 -> 123228.2

Sheet Зеленая, 12
B5: СОГЛАСОВАНО | D5: УТВЕРЖДАЮ:
B7: __________________ | D7: _____________________
A9: СМЕТА №12 На проведение работ по техническому обследованию строительных конструкций здания многоквартирного дома, расположенного по адресу: Республика Марий Эл, г. Йошкар-Ола, ул. Зеленая, д. 12
A11: Определение стоимости работ ведется по СБЦП 81-2001-25 "Справочник базовых цен на обмерные работы и обследования зданий и сооружений" [1]
B12: Строительный объем здания: | C12: 2167 | D12: куб. м
B15: Категория сложности здания – 1 (таблица 5 [1]).
B16: Категория сложности обмерных работ – 1 (таблица 6 [1]).
B17: Категория сложности работ по обследованию – 1 (таблица 7 [1]).
A18: № п/п | B18: Наименование работ | C18: Обоснование по [1] | D18: Ед. измерения | E18: Стоимость за единицу, руб | F18: Количество единиц | G18: Стоимость, руб
A19: 1. Определение стоимости обмерных работ
A20: 1.1 | B20: Обмерные работы по базовым ценам | C20: Табл. 2 | D20: 100 куб. м | E20: 409.2 | F20: =C12/100 -> 21.67 | G20: =E20*F20 -> 8867.364
A22: 1.2 | B22: Выполнение работ в условиях, требующих обеспечение безопасности (использование дополнительных лестниц и иных приспособлений (коэффициент 1,15) | C22: п. 6 табл. 10 | D22: - | E22: - | F22: - | G22: -
A23: 1.3 | B23: Выполнение работ в неотапливаемых зданиях или его частях (чердаки, кровли, фасады и др.) в неблагоприятный период года (коэффициент 1,2) | C23: п. 4 табл. 10 | D23: - | E23: - | F23: - | G23: -
A24: 1.2 | B24: Корректирующий коэффициент, учитывающий строительный объем здания (коэффициент 2,2) | C24: п. 3 табл. 11 | D24: - | E24: - | F24: -
A25: 1.3 | B25: ИТОГО ПОЛНАЯ стоимость обмерных работ в уровне цен 01.01.2001 г. | G25: =G20*2.2 -> 19508.201
A26: 1.4 | B26: Корректировка стоимости, с учетом фактически выполняемого объема обмерных работ: - поэтажные планы здания - 16,38 %; - фасады, окна, ворота - 17,88 %. Корректирующий (понижающий) коэффициент: 16,38% + 17,88% = 34,26% (0,3426) | C26: Таблица 8 | D26: - | E26: - | F26: - | G26: -
A27: 1.5 | B27: ИТОГО стоимость обмерных работ в уровне цен 01.01.2001 г. | G27: =G25*0.3426 -> 6683.5096
A28: 1.6 | B28: ИТОГО стоимость обмерных работ в ценах III квартала 2026 года с коэффициентом 7,19 (Письмо Минстроя России от 23.07.2026 № 45358-ИФ/09) | G28: =G27*7.19 -> 48054.434
A29: 2. Инженерное обследование
A30: 2.1 | B30: Инженерное обследование по базовым ценам | C30: Табл. 4 | D30: 100 куб. м | E30: 298.8 | F30: =C12/100 -> 21.67 | G30: =E30*F30 -> 6474.996
B31: Коэффициент, учитывающий обследование конструкций здания без прекращения производственного процесса п.2 табл. 3 | G31: 1
A32: 2.2 | B32: Выполнение работ в условиях, требующих обеспечение безопасности (использование дополнительных лестниц и иных приспособлений (коэффициент 1,15) | C32: п. 6 табл. 10 | D32: - | E32: - | F32: - | G32: -
A33: 2.3 | B33: Выполнение работ в неотапливаемых зданиях или его частях (чердаки, кровли, фасады и др.) в неблагоприятный период года (коэффициент 1,2) | C33: п. 4 табл. 10 | D33: - | E33: - | F33: - | G33: -
A34: 2.2 | B34: Корректирующий коэффициент, учитывающий строительный объем здания (коэффициент 2,2) | C34: п. 3 табл. 11 | D34: - | E34: - | F34: - | G34: -
A35: 2.3 | B35: ИТОГО ПОЛНАЯ стоимость инженерного обследования в уровне цен 01.01.2001 г. | G35: =G30*2.2 -> 14244.991
A36: 2.4 | B36: Корректировка стоимости, с учетом фактически выполняемого объема обследовательских работ: - Фундаменты - 3,84 %; - стены - 32,59 %; - перекрытия - 34,20 %. Корректирующий (понижающий) коэффициент: 3,84% + 32,59% + 34,20% = 70,63% (0,7063) | C36: Таблица 9 | D36: - | E36: - | F36: - | G36: -
A37: 2.5 | B37: ИТОГО стоимость инженерного обследования в уровне цен 01.01.2001 г. | G37: =G35*0.7063 -> 10061.237
A38: 2.6 | B38: ИТОГО стоимость инженерного обследования в ценах III квартала 2026 года с коэффициентом 7,19 (Письмо Минстроя России от 23.07.2026 № 45358-ИФ/09) | G38: =G37*7.19 -> 72340.296
A39: 3 | B39: Итого стоимость работ | G39: =G38+G28 -> 120394.73

Sheet Зеленая, 14
B5: СОГЛАСОВАНО | D5: УТВЕРЖДАЮ:
B7: __________________ | D7: _____________________
A9: СМЕТА №13 На проведение работ по техническому обследованию строительных конструкций здания многоквартирного дома, расположенного по адресу: Республика Марий Эл, г. Йошкар-Ола, ул. Зеленая, д. 14
A11: Определение стоимости работ ведется по СБЦП 81-2001-25 "Справочник базовых цен на обмерные работы и обследования зданий и сооружений" [1]
B12: Строительный объем здания: | C12: 3887 | D12: куб. м
B15: Категория сложности здания – 1 (таблица 5 [1]).
B16: Категория сложности обмерных работ – 1 (таблица 6 [1]).
B17: Категория сложности работ по обследованию – 1 (таблица 7 [1]).
A18: № п/п | B18: Наименование работ | C18: Обоснование по [1] | D18: Ед. измерения | E18: Стоимость за единицу, руб | F18: Количество единиц | G18: Стоимость, руб
A19: 1. Определение стоимости обмерных работ
A20: 1.1 | B20: Обмерные работы по базовым ценам | C20: Табл. 2 | D20: 100 куб. м | E20: 389.6 | F20: =C12/100 -> 38.87 | G20: =E20*F20 -> 15143.752
A22: 1.2 | B22: Выполнение работ в условиях, требующих обеспечение безопасности (использование дополнительных лестниц и иных приспособлений (коэффициент 1,15) | C22: п. 6 табл. 10 | D22: - | E22: - | F22: - | G22: -
A23: 1.3 | B23: Выполнение работ в неотапливаемых зданиях или его частях (чердаки, кровли, фасады и др.) в неблагоприятный период года (коэффициент 1,2) | C23: п. 4 табл. 10 | D23: - | E23: - | F23: - | G23: -
A24: 1.2 | B24: Корректирующий коэффициент, учитывающий строительный объем здания (коэффициент 1,8) | C24: п. 4 табл. 11 | D24: - | E24: - | F24: -
A25: 1.3 | B25: ИТОГО ПОЛНАЯ стоимость обмерных работ в уровне цен 01.01.2001 г. | G25: =G20*1.8 -> 27258.754
A26: 1.4 | B26: Корректировка стоимости, с учетом фактически выполняемого объема обмерных работ: - поэтажные планы здания - 16,38 %; - фасады, окна, ворота - 17,88 %. Корректирующий (понижающий) коэффициент: 16,38% + 17,88% = 34,26% (0,3426) | C26: Таблица 8 | D26: - | E26: - | F26: - | G26: -
A27: 1.5 | B27: ИТОГО стоимость обмерных работ в уровне цен 01.01.2001 г. | G27: =G25*0.3426 -> 9338.849
A28: 1.6 | B28: ИТОГО стоимость обмерных работ в ценах III квартала 2026 года с коэффициентом 7,19 (Письмо Минстроя России от 23.07.2026 № 45358-ИФ/09) | G28: =G27*7.19 -> 67146.324
A29: 2. Инженерное обследование
A30: 2.1 | B30: Инженерное обследование по базовым ценам | C30: Табл. 4 | D30: 100 куб. м | E30: 287 | F30: =C12/100 -> 38.87 | G30: =E30*F30 -> 11155.69
B31: Коэффициент, учитывающий обследование конструкций здания без прекращения производственного процесса п.2 табл. 3 | G31: 1
A32: 2.2 | B32: Выполнение работ в условиях, требующих обеспечение безопасности (использование дополнительных лестниц и иных приспособлений (коэффициент 1,15) | C32: п. 6 табл. 10 | D32: - | E32: - | F32: - | G32: -
A33: 2.3 | B33: Выполнение работ в неотапливаемых зданиях или его частях (чердаки, кровли, фасады и др.) в неблагоприятный период года (коэффициент 1,2) | C33: п. 4 табл. 10 | D33: - | E33: - | F33: - | G33: -
A34: 2.2 | B34: Корректирующий коэффициент, учитывающий строительный объем здания (коэффициент 1,8) | C34: п. 4 табл. 11 | D34: - | E34: - | F34: - | G34: -
A35: 2.3 | B35: ИТОГО ПОЛНАЯ стоимость инженерного обследования в уровне цен 01.01.2001 г. | G35: =G30*1.8 -> 20080.242
A36: 2.4 | B36: Корректировка стоимости, с учетом фактически выполняемого объема обследовательских работ: - Фундаменты - 3,84 %; - стены - 32,59 %; - перекрытия - 34,20 %. Корректирующий (понижающий) коэффициент: 3,84% + 32,59% + 34,20% = 70,63% (0,7063) | C36: Таблица 9 | D36: - | E36: - | F36: - | G36: -
A37: 2.5 | B37: ИТОГО стоимость инженерного обследования в уровне цен 01.01.2001 г. | G37: =G35*0.7063 -> 14182.675
A38: 2.6 | B38: ИТОГО стоимость инженерного обследования в ценах III квартала 2026 года с коэффициентом 7,19 (Письмо Минстроя России от 23.07.2026 № 45358-ИФ/09) | G38: =G37*7.19 -> 101973.43
A39: 3 | B39: Итого стоимость работ | G39: =G38+G28 -> 169119.76

Sheet Зеленая, 6
B5: СОГЛАСОВАНО | D5: УТВЕРЖДАЮ:
B7: __________________ | D7: _____________________
A9: СМЕТА №14 На проведение работ по техническому обследованию строительных конструкций здания многоквартирного дома, расположенного по адресу: Республика Марий Эл, г. Йошкар-Ола, ул. Зеленая, д. 6
A11: Определение стоимости работ ведется по СБЦП 81-2001-25 "Справочник базовых цен на обмерные работы и обследования зданий и сооружений" [1]
B12: Строительный объем здания: | C12: 2214 | D12: куб. м
B15: Категория сложности здания – 1 (таблица 5 [1]).
B16: Категория сложности обмерных работ – 1 (таблица 6 [1]).
B17: Категория сложности работ по обследованию – 1 (таблица 7 [1]).
A18: № п/п | B18: Наименование работ | C18: Обоснование по [1] | D18: Ед. измерения | E18: Стоимость за единицу, руб | F18: Количество единиц | G18: Стоимость, руб
A19: 1. Определение стоимости обмерных работ
A20: 1.1 | B20: Обмерные работы по базовым ценам | C20: Табл. 2 | D20: 100 куб. м | E20: 409.2 | F20: =C12/100 -> 22.14 | G20: =E20*F20 -> 9059.688
A22: 1.2 | B22: Выполнение работ в условиях, требующих обеспечение безопасности (использование дополнительных лестниц и иных приспособлений (коэффициент 1,15) | C22: п. 6 табл. 10 | D22: - | E22: - | F22: - | G22: -
A23: 1.3 | B23: Выполнение работ в неотапливаемых зданиях или его частях (чердаки, кровли, фасады и др.) в неблагоприятный период года (коэффициент 1,2) | C23: п. 4 табл. 10 | D23: - | E23: - | F23: - | G23: -
A24: 1.2 | B24: Корректирующий коэффициент, учитывающий строительный объем здания (коэффициент 2,2) | C24: п. 3 табл. 11 | D24: - | E24: - | F24: -
A25: 1.3 | B25: ИТОГО ПОЛНАЯ стоимость обмерных работ в уровне цен 01.01.2001 г. | G25: =G20*2.2 -> 19931.314
A26: 1.4 | B26: Корректировка стоимости, с учетом фактически выполняемого объема обмерных работ: - поэтажные планы здания - 16,38 %; - фасады, окна, ворота - 17,88 %. Корректирующий (понижающий) коэффициент: 16,38% + 17,88% = 34,26% (0,3426) | C26: Таблица 8 | D26: - | E26: - | F26: - | G26: -
A27: 1.5 | B27: ИТОГО стоимость обмерных работ в уровне цен 01.01.2001 г. | G27: =G25*0.3426 -> 6828.468
A28: 1.6 | B28: ИТОГО стоимость обмерных работ в ценах III квартала 2026 года с коэффициентом 7,19 (Письмо Минстроя России от 23.07.2026 № 45358-ИФ/09) | G28: =G27*7.19 -> 49096.685
A29: 2. Инженерное обследование
A30: 2.1 | B30: Инженерное обследование по базовым ценам | C30: Табл. 4 | D30: 100 куб. м | E30: 298.8 | F30: =C12/100 -> 22.14 | G30: =E30*F30 -> 6615.432
B31: Коэффициент, учитывающий обследование конструкций здания без прекращения производственного процесса п.2 табл. 3 | G31: 1
A32: 2.2 | B32: Выполнение работ в условиях, требующих обеспечение безопасности (использование дополнительных лестниц и иных приспособлений (коэффициент 1,15) | C32: п. 6 табл. 10 | D32: - | E32: - | F32: - | G32: -
A33: 2.3 | B33: Выполнение работ в неотапливаемых зданиях или его частях (чердаки, кровли, фасады и др.) в неблагоприятный период года (коэффициент 1,2) | C33: п. 4 табл. 10 | D33: - | E33: - | F33: - | G33: -
A34: 2.2 | B34: Корректирующий коэффициент, учитывающий строительный объем здания (коэффициент 2,2) | C34: п. 3 табл. 11 | D34: - | E34: - | F34: - | G34: -
A35: 2.3 | B35: ИТОГО ПОЛНАЯ стоимость инженерного обследования в уровне цен 01.01.2001 г. | G35: =G30*2.2 -> 14553.95
A36: 2.4 | B36: Корректировка стоимости, с учетом фактически выполняемого объема обследовательских работ: - Фундаменты - 3,84 %; - стены - 32,59 %; - перекрытия - 34,20 %. Корректирующий (понижающий) коэффициент: 3,84% + 32,59% + 34,20% = 70,63% (0,7063) | C36: Таблица 9 | D36: - | E36: - | F36: - | G36: -
A37: 2.5 | B37: ИТОГО стоимость инженерного обследования в уровне цен 01.01.2001 г. | G37: =G35*0.7063 -> 10279.455
A38: 2.6 | B38: ИТОГО стоимость инженерного обследования в ценах III квартала 2026 года с коэффициентом 7,19 (Письмо Минстроя России от 23.07.2026 № 45358-ИФ/09) | G38: =G37*7.19 -> 73909.283
A39: 3 | B39: Итого стоимость работ | G39: =G38+G28 -> 123005.97

Sheet Зеленая, 4
B5: СОГЛАСОВАНО | D5: УТВЕРЖДАЮ:
B7: __________________ | D7: _____________________
A9: СМЕТА №15 На проведение работ по техническому обследованию строительных конструкций здания многоквартирного дома, расположенного по адресу: Республика Марий Эл, г. Йошкар-Ола, ул. Зеленая, д. 4
A11: Определение стоимости работ ведется по СБЦП 81-2001-25 "Справочник базовых цен на обмерные работы и обследования зданий и сооружений" [1]
B12: Строительный объем здания: | C12: 4865 | D12: куб. м
B15: Категория сложности здания – 1 (таблица 5 [1]).
B16: Категория сложности обмерных работ – 1 (таблица 6 [1]).
B17: Категория сложности работ по обследованию – 1 (таблица 7 [1]).
A18: № п/п | B18: Наименование работ | C18: Обоснование по [1] | D18: Ед. измерения | E18: Стоимость за единицу, руб | F18: Количество единиц | G18: Стоимость, руб
A19: 1. Определение стоимости обмерных работ
A20: 1.1 | B20: Обмерные работы по базовым ценам | C20: Табл. 2 | D20: 100 куб. м | E20: 349 | F20: =C12/100 -> 48.65 | G20: =E20*F20 -> 16978.85
A22: 1.2 | B22: Выполнение работ в условиях, требующих обеспечение безопасности (использование дополнительных лестниц и иных приспособлений (коэффициент 1,15) | C22: п. 6 табл. 10 | D22: - | E22: - | F22: - | G22: -
A23: 1.3 | B23: Выполнение работ в неотапливаемых зданиях или его частях (чердаки, кровли, фасады и др.) в неблагоприятный период года (коэффициент 1,2) | C23: п. 4 табл. 10 | D23: - | E23: - | F23: - | G23: -
A24: 1.2 | B24: Корректирующий коэффициент, учитывающий строительный объем здания (коэффициент 1,3) | C24: п. 5 табл. 11 | D24: - | E24: - | F24: -
A25: 1.3 | B25: ИТОГО ПОЛНАЯ стоимость обмерных работ в уровне цен 01.01.2001 г. | G25: =G20*1.3 -> 22072.505
A26: 1.4 | B26: Корректировка стоимости, с учетом фактически выполняемого объема обмерных работ: - поэтажные планы здания - 16,38 %; - фасады, окна, ворота - 17,88 %. Корректирующий (понижающий) коэффициент: 16,38% + 17,88% = 34,26% (0,3426) | C26: Таблица 8 | D26: - | E26: - | F26: - | G26: -
A27: 1.5 | B27: ИТОГО стоимость обмерных работ в уровне цен 01.01.2001 г. | G27: =G25*0.3426 -> 7562.0402
A28: 1.6 | B28: ИТОГО стоимость обмерных работ в ценах III квартала 2026 года с коэффициентом 7,19 (Письмо Минстроя России от 23.07.2026 № 45358-ИФ/09) | G28: =G27*7.19 -> 54371.069
A29: 2. Инженерное обследование
A30: 2.1 | B30: Инженерное обследование по базовым ценам | C30: Табл. 4 | D30: 100 куб. м | E30: 263.8 | F30: =C12/100 -> 48.65 | G30: =E30*F30 -> 12833.87
B31: Коэффициент, учитывающий обследование конструкций здания без прекращения производственного процесса п.2 табл. 3 | G31: 1
A32: 2.2 | B32: Выполнение работ в условиях, требующих обеспечение безопасности (использование дополнительных лестниц и иных приспособлений (коэффициент 1,15) | C32: п. 6 табл. 10 | D32: - | E32: - | F32: - | G32: -
A33: 2.3 | B33: Выполнение работ в неотапливаемых зданиях или его частях (чердаки, кровли, фасады и др.) в неблагоприятный период года (коэффициент 1,2) | C33: п. 4 табл. 10 | D33: - | E33: - | F33: - | G33: -
A34: 2.2 | B34: Корректирующий коэффициент, учитывающий строительный объем здания (коэффициент 1,3) | C34: п. 5 табл. 11 | D34: - | E34: - | F34: - | G34: -
A35: 2.3 | B35: ИТОГО ПОЛНАЯ стоимость инженерного обследования в уровне цен 01.01.2001 г. | G35: =G30*1.3 -> 16684.031
A36: 2.4 | B36: Корректировка стоимости, с учетом фактически выполняемого объема обследовательских работ: - Фундаменты - 3,84 %; - стены - 32,59 %; - перекрытия - 34,20 %. Корректирующий (понижающий) коэффициент: 3,84% + 32,59% + 34,20% = 70,63% (0,7063) | C36: Таблица 9 | D36: - | E36: - | F36: - | G36: -
A37: 2.5 | B37: ИТОГО стоимость инженерного обследования в уровне цен 01.01.2001 г. | G37: =G35*0.7063 -> 11783.931
