Workbook

Sheet 02-01-01
A8: =Source!B1 -> Smeta.RU (495) 974-1589
A9: Наименование программного продукта | F9: Программа для ЭВМ «Программа: «Smeta.RU» версия 12»
A11: Наименование редакции сметных нормативов | F11: =IF(Source!CQ12 <> "", Source!CQ12, "") -> Приказ Минстроя России от 30.12.2021 г. № 1046/пр; Приказ Минстроя России от 04.08.2020 г. № 421/пр; Приказ Минстроя России от 21.12.2020 г. № 812/пр; Приказ Минстроя России от 11.12.2020 г. № 774/пр | CO11: =IF(Source!CQ12 <> "", Source!CQ12, "") -> Приказ Минстроя России от 30.12.2021 г. № 1046/пр; Приказ Минстроя России от 04.08.2020 г. № 421/пр; Приказ Минстроя России от 21.12.2020 г. № 812/пр; Приказ Минстроя России от 11.12.2020 г. № 774/пр
A13: Реквизиты приказа Минстроя России об утверждении дополнений и изменений к сметным нормативам | F13: =IF(Source!CV12 <> "", Source!CV12, "") -> Приказ Минстроя России от 18.05.2022 г. № 378/пр; Приказ Минстроя России от 26.08.2022 г. № 703/пр; Приказ Минстроя России от 26.10.2022 г. № 905/пр; Приказ Минстроя России от 27.12.2022 г. № 1133/пр; Приказ Минстроя России от 10.02.2023 г. № 84/пр; Приказ Минстроя России от 11.05.2023 г. № 335/пр; Приказ Минстроя России от 02.08.2023 г. № 551/пр; Приказ Минстроя России от 14.11.2023 г. № 817/пр; Приказ Минстроя России от 16.02.2024 г. № 102/пр; Приказ Минстроя России от 13.05.2024 г. № 323/пр; Приказ Минстроя России от 09.08.2024 г. № 524/пр; Приказ Минстроя России от 07.11.2024 г. № 747/пр; Приказ Минстроя России от 07.02.2025 г. № 69/пр; Приказ Минстроя России от 19.05.2025 г. № 299/пр; Приказ Минстроя России от 14.08.2025 г. № 490/пр; Приказ Минстроя России от 12.11.2025 г. № 696/пр; Приказ Минстроя России от 17.02.2026 г. № 91/пр; Приказ Минстроя России от 15.05.2026 г. № 301/пр; Приказ Минстроя России от 12.08.2026 г. № 527/пр; Приказ Минстроя России от 07.07.2022 г. № 557/пр; Приказ Минстроя России от 30.01.2024 г. № 55/пр; Приказ Минстроя России от 23.01.2025 г. № 30/пр; Приказ Минстроя России от 02.09.2021 г. № 636/пр; Приказ Минстроя России от 26.07.2022 г. № 611/пр; Приказ Минстроя России от 22.04.2022 г. № 317/пр | CO13: =IF(Source!CV12 <> "", Source!CV12, "") -> Приказ Минстроя России от 18.05.2022 г. № 378/пр; Приказ Минстроя России от 26.08.2022 г. № 703/пр; Приказ Минстроя России от 26.10.2022 г. № 905/пр; Приказ Минстроя России от 27.12.2022 г. № 1133/пр; Приказ Минстроя России от 10.02.2023 г. № 84/пр; Приказ Минстроя России от 11.05.2023 г. № 335/пр; Приказ Минстроя России от 02.08.2023 г. № 551/пр; Приказ Минстроя России от 14.11.2023 г. № 817/пр; Приказ Минстроя России от 16.02.2024 г. № 102/пр; Приказ Минстроя России от 13.05.2024 г. № 323/пр; Приказ Минстроя России от 09.08.2024 г. № 524/пр; Приказ Минстроя России от 07.11.2024 г. № 747/пр; Приказ Минстроя России от 07.02.2025 г. № 69/пр; Приказ Минстроя России от 19.05.2025 г. № 299/пр; Приказ Минстроя России от 14.08.2025 г. № 490/пр; Приказ Минстроя России от 12.11.2025 г. № 696/пр; Приказ Минстроя России от 17.02.2026 г. № 91/пр; Приказ Минстроя России от 15.05.2026 г. № 301/пр; Приказ Минстроя России от 12.08.2026 г. № 527/пр; Приказ Минстроя России от 07.07.2022 г. № 557/пр; Приказ Минстроя России от 30.01.2024 г. № 55/пр; Приказ Минстроя России от 23.01.2025 г. № 30/пр; Приказ Минстроя России от 02.09.2021 г. № 636/пр; Приказ Минстроя России от 26.07.2022 г. № 611/пр; Приказ Минстроя России от 22.04.2022 г. № 317/пр
A15: Реквизиты письма Минстроя России об индексах изменения сметной стоимости строительства, включаемые в федеральный реестр сметных нормативов и размещаемые в федеральной государственной информационной системе ценообразования в строительстве, подготовленного в соответствии с пунктом 85 Методики расчета индексов изменения сметной стоимости строительства, утвержденной приказом Министерства строительства и жилищно-коммунального хозяйства Российской Федерации от 5 июня 2019 г. N 326/пр | F15: Письмо Минстроя России от 25.02.2026 № 9859-ИФ/09
A17: Реквизиты нормативного правового акта об утверждении оплаты труда, утверждаемый в соответствии с пунктом 22(1) Правилами мониторинга цен, утвержденными постановлением Правительства Российской Федерации от 23 декабря 2016 г. N 1452 | F17: Постановление Кабинета Министров Чувашской Республики от 22.04.2025 г. № 213
A19: Обоснование принятых текущих цен на строительные ресурсы | F19: ФГИС ЦС, конъюнктурный анализ
A21: Наименование субъекта Российской Федерации | F21: =IF(Source!CZ12 <> "", Source!CZ12, "") -> Чувашская Республика - Чувашия
A23: Наименование зоны субъекта Российской Федерации | F23: =IF(Source!DA12 <> "", Source!DA12, "") -> Чувашская Республика - Чувашия
A26: 429020, Чувашская Республика, Порецкий район, с. Порецкое, ул. Ленина, д. 5
A27: (наименование стройки)
A29: 429020, Чувашская Республика, Порецкий район, с. Порецкое, ул. Ленина, д. 5
A30: (наименование объекта капитального строительства)
A32: =CONCATENATE( "ЛОКАЛЬНАЯ СМЕТА № ", Source!L20, " ",Source!CM20) -> ЛОКАЛЬНАЯ СМЕТА № 02-01-01
A34: на выполнение работ по ремонту кровли отделения почтовой связи 429020, расположенного по адресу: Чувашская Республика, Порецкий район, с. Порецкое, ул. Ленина, д. 5 для нужд УФПС Чувашской Республики
A35: (наименование работ и затрат)
A38: Составлен | C38: Ресурсно-индексным | D38: методом
A40: Основание | C40: Ведомость объемов работ
C41: (проектная и (или) иная техническая документация)
A43: Составлен(а) в текущем уровне цен на март 2026 года
A45: Сметная стоимость | C45: =C48+C49+C50+C51 -> 3432.04 | E45: тыс. руб.
G46: Средства на оплату труда рабочих | K46: =ROUND(SUM(AR59:AR449)/1000, 2) -> 484.92 | L46: тыс. руб.
B47: в том числе: | G47: Средства на оплату труда машинистов | K47: =ROUND(SUM(AT59:AT449)/1000, 2) -> 3.08 | L47: тыс. руб.
B48: строительных работ | C48: =ROUND((Source!F126)/1000, 2) -> 3432.04 | E48: тыс. руб. | G48: Нормативные затраты труда рабочих | K48: =Source!F131 -> 1348.9778 | L48: чел.-ч.
B49: монтажных работ | C49: =ROUND((Source!F127)/1000, 2) -> 0 | E49: тыс. руб. | G49: Нормативные затраты труда машинистов | K49: =Source!F132 -> 6.995 | L49: чел.-ч.
B50: оборудования | C50: =ROUND((Source!F118)/1000, 2) -> 0 | E50: тыс. руб.
B51: прочих затрат | C51: =ROUND((Source!F128)/1000, 2) -> 0 | E51: тыс. руб.
A53: № п/п | B53: Обоснование | C53: Наименование работ и затрат | D53: Единица измерения | E53: Количество | H53: Сметная стоимость, руб.
E57: на единицу измерения | F57: коэффициенты | G57: всего с учетом коэффициентов | H57: на единицу измерения в базисном уровне цен | I57: индекс | J57: на единицу измерения в текущем уровне цен | K57: коэффициенты | L57: всего в текущем уровне цен
A58: 1 | B58: 2 | C58: 3 | D58: 4 | E58: 5 | F58: 6 | G58: 7 | H58: 8 | I58: 9 | J58: 10 | K58: 11 | L58: 12
A59: 1 | B59: ГЭСН 46-04-008-02 | C59: =Source!G24 -> Разборка покрытий кровель: из профнастила | D59: =Source!H24 -> 100 м2 | E59: =Source!K24 -> 5.8 | G59: =Source!I24 -> 5.8
C60: ="Объем: "&Source!I24&"=580/"&"100" -> Объем: 5,8=580/100
B61: 1 | C61: ОТ (ЗТ) | D61: чел.-ч. | G61: =Source!U24 -> 49.764 | L61: =SUM(L62:L62)-SUMIF(CE62:CE62, 1, L62:L62) -> 16393.75
B62: 1-100-20 | C62: Средний разряд работы 2,0 | D62: чел.-ч. | E62: 8.58 | G62: =SmtRes!CX1 -> 49.764 | J62: =SmtRes!CZ1 -> 329.43 | L62: =SmtRes!DI1 -> 16393.75
B63: 2 | C63: ЭМ | L63: =SUM(L64:L65)-SUMIF(CE64:CE65, 1, L64:L65) -> 194.75
C64: ОТм(ЗТм) | D64: чел.-ч. | G64: =Source!V24 -> 0 | L64: =SUMIF(CE65:CE65, 1, L65:L65) -> 0 | CE64: 1
B65: 91.06.03-055 | C65: Лебедки электрические тяговым усилием 19,62 кН (2 т) | D65: маш.-ч | E65: 1.88 | G65: =SmtRes!CX2 -> 10.904 | H65: =SmtRes!CZ2 -> 11.45 | I65: =SmtRes!AJ2 -> 1.56 | J65: =ROUND(H65*I65, 2) -> 17.86 | L65: =SmtRes!DG2 -> 194.75
C66: Итого прямые затраты | L66: =L61+L63+L64 -> 16588.5
C67: ФОТ | L67: =SUM(AR59:AR70)+SUM(AS59:AS70)+SUM(AT59:AT70)+SUM(AU59:AU70)+SUM(AV59:AV70) -> 16393.75
B68: Пр/812-040.2-1 | C68: НР Работы по реконструкции зданий и сооружений: разборка отдельных конструктивных элементов здания (сооружения), а также зданий (сооружений) в целом | D68: % | E68: =Source!BZ24 -> 91 | G68: =Source!AT24 -> 91 | L68: =SUM(AZ59:AZ70) -> 14918.31
...

Sheet Source
A1: 0 | B1: Smeta.RU (495) 974-1589 | D1: _PS_ | F1: 0 | G1: 0 | H1: 0 | I1: Smeta.RU | K1: 1 | L1: 26294 | M1: 10 | N1: 12 | O1: 1 | P1: 0 | Q1: 2
A12: 1 | B12: 206 | C12: 0 | D12: =ROW(A146) -> 146 | E12: 0 | F12: Новый объект_(Копия)_(Копия) | G12: Ремонт кровли ОПС Порецкое вариант со скатной кровлей | I12: 0 | K12: 0 | L12: 0 | M12: 523 | O12: 0 | P12: 0 | Q12: 7 | R12: 0 | S12: 0 | T12: 4 | V12: 0 | BB12: 0 | BH12: Сметные нормы списания | BI12: Коды ценников | BJ12: 1 | BK12: 1 | BL12: 0 | BM12: 0 | BN12: 1 | BO12: 0 | BP12: 6 | BQ12: 2 | BR12: 1 | BS12: 1 | BT12: 0 | BU12: 0 | BV12: 0 | BW12: 0 | BX12: 0 | BY12: ФСНБ-2022_И19 | BZ12: Версия 1.19.0 для ФСНБ-2022 И19 | CA12: ФСНБ-2022 - Изменения И19 | CB12: ФСНБ-2022 - Изменения И19 | CC12: ФСНБ-2022 - Изменения И19 | CD12: ФСНБ-2022 - Изменения И19 | CE12: Поправки для ФСНБ-2022 от 21.08.2026 г И19 (55/пр) Капитальный ремонт жилых и общественных зданий | CF12: 0 | CG12: 0 | CH12: 487096328 | CK12: 19 | CQ12: Приказ Минстроя России от 30.12.2021 г. № 1046/пр; Приказ Минстроя России от 04.08.2020 г. № 421/пр; Приказ Минстроя России от 21.12.2020 г. № 812/пр; Приказ Минстроя России от 11.12.2020 г. № 774/пр | CR12: ГСН | CS12: 46248 | CT12: 570 | CU12: 19 | CV12: Приказ Минстроя России от 18.05.2022 г. № 378/пр; Приказ Минстроя России от 26.08.2022 г. № 703/пр; Приказ Минстроя России от 26.10.2022 г. № 905/пр; Приказ Минстроя России от 27.12.2022 г. № 1133/пр; Приказ Минстроя России от 10.02.2023 г. № 84/пр; Приказ Минстроя России от 11.05.2023 г. № 335/пр; Приказ Минстроя России от 02.08.2023 г. № 551/пр; Приказ Минстроя России от 14.11.2023 г. № 817/пр; Приказ Минстроя России от 16.02.2024 г. № 102/пр; Приказ Минстроя России от 13.05.2024 г. № 323/пр; Приказ Минстроя России от 09.08.2024 г. № 524/пр; Приказ Минстроя России от 07.11.2024 г. № 747/пр; Приказ Минстроя России от 07.02.2025 г. № 69/пр; Приказ Минстроя России от 19.05.2025 г. № 299/пр; Приказ Минстроя России от 14.08.2025 г. № 490/пр; Приказ Минстроя России от 12.11.2025 г. № 696/пр; Приказ Минстроя России от 17.02.2026 г. № 91/пр; Приказ Минстроя России от 15.05.2026 г. № 301/пр; Приказ Минстроя России от 12.08.2026 г. № 527/пр; Приказ Минстроя России от 07.07.2022 г. № 557/пр; Приказ Минстроя России от 30.01.2024 г. № 55/пр; Приказ Минстроя России от 23.01.2025 г. № 30/пр; Приказ Минстроя России от 02.09.2021 г. № 636/пр; Приказ Минстроя России от 26.07.2022 г. № 611/пр; Приказ Минстроя России от 22.04.2022 г. № 317/пр | CY12: 0 | CZ12: Чувашская Республика - Чувашия | DA12: Чувашская Республика - Чувашия | EC12: 0
A15: 15 | B15: 1
A18: 52 | B18: =B146 -> 206 | C18: =C146 -> 1 | D18: =D146 -> 12 | E18: =E146 -> 0 | F18: =F146 -> Новый объект_(Копия)_(Копия) | G18: =G146 -> Ремонт кровли ОПС Порецкое вариант со скатной кровлей | O18: =O146 -> 2715710.5 | P18: =P146 -> 2221402.6 | Q18: =Q146 -> 6310.58 | R18: =R146 -> 3080.55 | S18: =S146 -> 484916.69 | T18: =T146 -> 0 | U18: =U146 -> 1348.9778 | V18: =V146 -> 6.995 | ... GX18: =GX146 -> 0
A20: 3 | B20: 1 | D20: =ROW(A109) -> 109 | F20: 02-01-01 | G20: Новая локальная смета | I20: 0 | K20: -1 | L20: 02-01-01 | S20: 0 | T20: 0 | V20: 0 | BX20: 0 | CF20: 0 | CG20: 0
A22: 52 | B22: =B109 -> 1 | C22: =C109 -> 3 | D22: =D109 -> 20 | E22: =E109 -> 0 | F22: =F109 -> 02-01-01 | G22: =G109 -> Новая локальная смета | O22: =O109 -> 2715710.5 | P22: =P109 -> 2221402.6 | Q22: =Q109 -> 6310.58 | R22: =R109 -> 3080.55 | S22: =S109 -> 484916.69 | T22: =T109 -> 0 | U22: =U109 -> 1348.9778 | V22: =V109 -> 6.995 | ... GX22: =GX109 -> 0
A24: 17 | B24: 1 | C24: =ROW(SmtRes!A2) -> 2 | D24: =ROW(EtalonRes!A2) -> 2 | E24: 1 | F24: 46-04-008-02 | G24: Разборка покрытий кровель: из профнастила | H24: 100 м2 | I24: =ROUND(580/100,7) -> 5.8 | J24: 0 | K24: =ROUND(580/100,7) -> 5.8 | O24: =ROUND(CP24,2) -> 16588.5 | P24: =SUMIF(SmtRes!AQ1:'SmtRes'!AQ2,"=1",SmtRes!DF1:'SmtRes'!DF2) -> 0 | Q24: =SUMIF(SmtRes!AQ1:'SmtRes'!AQ2,"=1",SmtRes!DG1:'SmtRes'!DG2) -> 194.75 | R24: =SUMIF(SmtRes!AQ1:'SmtRes'!AQ2,"=1",SmtRes!DH1:'SmtRes'!DH2) -> 0 | S24: =SUMIF(SmtRes!AQ1:'SmtRes'!AQ2,"=1",SmtRes!DI1:'SmtRes'!DI2) -> 16393.75 | T24: =ROUND(CU24*I24,2) -> 0 | U24: =SUMIF(SmtRes!AQ1:'SmtRes'!AQ2,"=1",SmtRes!CV1:'SmtRes'!CV2) -> 49.764 | V24: =SUMIF(SmtRes!AQ1:'SmtRes'!AQ2,"=1",SmtRes!CW1:'SmtRes'!CW2) -> 0 | W24: =ROUND(CX24*I24,2) -> 0 | X24: =ROUND(CY24,2) -> 14918.31 | Y24: =ROUND(CZ24,2) -> 8524.75 | AA24: 60841590 | AB24: =ROUND((AC24+AD24+AF24),6) -> 2848.0354 | AC24: =ROUND((0),6) -> 0 | AD24: =ROUND((((SUM(SmtRes!BR1:'SmtRes'!BR2))-(0))+AE24),6) -> 21.526 | AE24: =ROUND((0),6) -> 0 | AF24: =ROUND((SUM(SmtRes!BT1:'SmtRes'!BT2)),6) -> 2826.5094 | AG24: =ROUND((AP24),6) -> 0 | AH24: =(SUM(SmtRes!BU1:'SmtRes'!BU2)) -> 8.58 | AI24: =(0) -> 0 | AJ24: =(AS24) -> 0 | AK24: 2848.0354 | AL24: 0 | AM24: 21.526 | AN24: 0 | AO24: 2826.5094 | AP24: 0 | AQ24: 8.58 | AR24: 0 | AS24: 0 | AT24: 91 | AU24: 52 | AV24: 1 | AW24: 1 | AZ24: 1 | BA24: 1 | BB24: 1 | BC24: 1 | BH24: 0 | BI24: 1 | BJ24: ГЭСН-2022, 46-04-008-02, приказ Минстроя России от 18.05.2022 г. № 378/пр | BM24: 46003 | BN24: 0 | BP24: 0 | BQ24: 2 | BR24: 0 | BS24: 1 | BT24: 1 | BU24: 1 | BV24: 1 | BW24: 1 | BX24: 1 | BZ24: 91 | CA24: 52 | CE24: 0 | CF24: 0 | CG24: 0 | CM24: 0 | CO24: 0 | CP24: =(P24+Q24+S24+R24) -> 16588.5 | CQ24: =SUMIF(SmtRes!AQ1:'SmtRes'!AQ2,"=1",SmtRes!AA1:'SmtRes'!AA2) -> 0 | CR24: =SUMIF(SmtRes!AQ1:'SmtRes'!AQ2,"=1",SmtRes!AB1:'SmtRes'!AB2) -> 17.86 | CS24: =SUMIF(SmtRes!AQ1:'SmtRes'!AQ2,"=1",SmtRes!AC1:'SmtRes'!AC2) -> 0 | CT24: =SUMIF(SmtRes!AQ1:'SmtRes'!AQ2,"=1",SmtRes!AD1:'SmtRes'!AD2) -> 329.43 | CU24: =AG24 -> 0 | CV24: =SUMIF(SmtRes!AQ1:'SmtRes'!AQ2,"=1",SmtRes!BU1:'SmtRes'!BU2) -> 8.58 | CW24: =SUMIF(SmtRes!AQ1:'SmtRes'!AQ2,"=1",SmtRes!BV1:'SmtRes'!BV2) -> 0 | CX24: =AJ24 -> 0 | CY24: =(((S24+R24)*AT24)/100) -> 14918.312 | CZ24: =(((S24+R24)*AU24)/100) -> 8524.75 | DN24: 0 | DO24: 0 | DP24: 1 | DQ24: 1 | DU24: 1005 | DV24: 100 м2 | DW24: 100 м2 | DX24: 100 | EE24: 58906095 | EF24: 2 | EG24: Общестроительные работы | EH24: 40 | EI24: Работы по реконструкции зданий и сооружений | EJ24: 1 | EK24: 46003 | EL24: Работы по реконструкции зданий и сооружений: разборка отдельных конструктивных элементов здания (сооружения), а также зданий (сооружений) в целом | EM24: ФЕР-46 | EQ24: 0 | ER24: 0 | ES24: 0 | ET24: 0 | EU24: 0 | EV24: 0 | EW24: 8.58 | EX24: 0 | EY24: 0 | FQ24: 0 | FR24: 0 | FS24: 0 | FX24: 91 | FY24: 52 | GD24: 1 | GF24: 1256715198 | GG24: 2 | GH24: 1 | GI24: -2 | GJ24: 0 | GK24: 0 | GL24: =ROUND(IF(AND(BH24=3,BI24=3,FS24<>0),P24,0),2) -> 0 | GM24: =ROUND(O24+X24+Y24,2)+GX24 -> 40031.56 | GN24: =IF(OR(BI24=0,BI24=1),GM24-GX24,0) -> 40031.56 | GO24: =IF(BI24=2,GM24-GX24,0) -> 0 | GP24: =IF(BI24=4,GM24-GX24,0) -> 0 | GR24: 0 | GS24: 3 | GT24: 0 | GV24: =ROUND((GT24),6) -> 0 | GW24: 1 | GX24: =ROUND(HC24*I24,2) -> 0 | HA24: 0 | HB24: 0 | HC24: =GV24*GW24 -> 0 | HN24: Пр/812-040.2-1 | HO24: Пр/774-040.2 | HP24: Работы по реконструкции зданий и сооружений: разборка отдельных конструктивных элементов здания (сооружения), а также зданий (сооружений) в целом | HQ24: Работы по реконструкции зданий и сооружений: разборка отдельных конструктивных элементов здания (сооружения), а также зданий (сооружений) в целом | HS24: 0 | IK24: 0
A25: 17 | B25: 1 | C25: =ROW(SmtRes!A4) -> 4 | D25: =ROW(EtalonRes!A4) -> 4 | E25: 1 | F25: 46-04-008-02 | G25: Разборка покрытий кровель: из профнастила | H25: 100 м2 | I25: =ROUND(580/100,7) -> 5.8 | J25: 0 | K25: =ROUND(580/100,7) -> 5.8 | O25: =ROUND(CP25,2) -> 17667.13 | P25: =SUMIF(SmtRes!AQ3:'SmtRes'!AQ4,"=1",SmtRes!DF3:'SmtRes'!DF4) -> 0 | Q25: =SUMIF(SmtRes!AQ3:'SmtRes'!AQ4,"=1",SmtRes!DG3:'SmtRes'!DG4) -> 200.96 | R25: =SUMIF(SmtRes!AQ3:'SmtRes'!AQ4,"=1",SmtRes!DH3:'SmtRes'!DH4) -> 0 | S25: =SUMIF(SmtRes!AQ3:'SmtRes'!AQ4,"=1",SmtRes!DI3:'SmtRes'!DI4) -> 17466.17 | T25: =ROUND(CU25*I25,2) -> 0 | U25: =SUMIF(SmtRes!AQ3:'SmtRes'!AQ4,"=1",SmtRes!CV3:'SmtRes'!CV4) -> 49.764 | V25: =SUMIF(SmtRes!AQ3:'SmtRes'!AQ4,"=1",SmtRes!CW3:'SmtRes'!CW4) -> 0 | W25: =ROUND(CX25*I25,2) -> 0 | X25: =ROUND(CY25,2) -> 15894.21 | Y25: =ROUND(CZ25,2) -> 9082.41 | AA25: 60854600 | AB25: =ROUND((AC25+AD25+AF25),6) -> 3032.9344 | AC25: =ROUND((0),6) -> 0 | AD25: =ROUND((((SUM(SmtRes!BR3:'SmtRes'!BR4))-(0))+AE25),6) -> 21.526 | AE25: =ROUND((0),6) -> 0 | AF25: =ROUND((SUM(SmtRes!BT3:'SmtRes'!BT4)),6) -> 3011.4084 | AG25: =ROUND((AP25),6) -> 0 | AH25: =(SUM(SmtRes!BU3:'SmtRes'!BU4)) -> 8.58 | AI25: =(0) -> 0 | AJ25: =(AS25) -> 0 | AK25: 3032.9344 | AL25: 0 | AM25: 21.526 | AN25: 0 | AO25: 3011.4084 | AP25: 0 | AQ25: 8.58 | AR25: 0 | AS25: 0 | AT25: 91 | AU25: 52 | AV25: 1 | AW25: 1 | AZ25: 1 | BA25: 1 | BB25: 1 | BC25: 1 | BH25: 0 | BI25: 1 | BJ25: ГЭСН-2022, 46-04-008-02, приказ Минстроя России от 18.05.2022 г. № 378/пр | BM25: 46003 | BN25: 0 | BP25: 0 | BQ25: 2 | BR25: 0 | BS25: 1 | BT25: 1 | BU25: 1 | BV25: 1 | BW25: 1 | BX25: 1 | BZ25: 91 | CA25: 52 | CE25: 0 | CF25: 0 | CG25: 0 | CM25: 0 | CO25: 0 | CP25: =(P25+Q25+S25+R25) -> 17667.13 | CQ25: =SUMIF(SmtRes!AQ3:'SmtRes'!AQ4,"=1",SmtRes!AA3:'SmtRes'!AA4) -> 0 | CR25: =SUMIF(SmtRes!AQ3:'SmtRes'!AQ4,"=1",SmtRes!AB3:'SmtRes'!AB4) -> 18.43 | CS25: =SUMIF(SmtRes!AQ3:'SmtRes'!AQ4,"=1",SmtRes!AC3:'SmtRes'!AC4) -> 0 | CT25: =SUMIF(SmtRes!AQ3:'SmtRes'!AQ4,"=1",SmtRes!AD3:'SmtRes'!AD4) -> 350.98 | CU25: =AG25 -> 0 | CV25: =SUMIF(SmtRes!AQ3:'SmtRes'!AQ4,"=1",SmtRes!BU3:'SmtRes'!BU4) -> 8.58 | CW25: =SUMIF(SmtRes!AQ3:'SmtRes'!AQ4,"=1",SmtRes!BV3:'SmtRes'!BV4) -> 0 | CX25: =AJ25 -> 0 | CY25: =(((S25+R25)*AT25)/100) -> 15894.215 | CZ25: =(((S25+R25)*AU25)/100) -> 9082.4084 | DN25: 0 | DO25: 0 | DP25: 1 | DQ25: 1 | DU25: 1005 | DV25: 100 м2 | DW25: 100 м2 | DX25: 100 | EE25: 58906095 | EF25: 2 | EG25: Общестроительные работы | EH25: 40 | EI25: Работы по реконструкции зданий и сооружений | EJ25: 1 | EK25: 46003 | EL25: Работы по реконструкции зданий и сооружений: разборка отдельных конструктивных элементов здания (сооружения), а также зданий (сооружений) в целом | EM25: ФЕР-46 | EQ25: 0 | ER25: 0 | ES25: 0 | ET25: 0 | EU25: 0 | EV25: 0 | EW25: 8.58 | EX25: 0 | EY25: 0 | FQ25: 0 | FR25: 0 | FS25: 0 | FX25: 91 | FY25: 52 | GD25: 1 | GF25: 1256715198 | GG25: 2 | GH25: 1 | GI25: -2 | GJ25: 0 | GK25: 0 | GL25: =ROUND(IF(AND(BH25=3,BI25=3,FS25<>0),P25,0),2) -> 0 | GM25: =ROUND(O25+X25+Y25,2)+GX25 -> 42643.75 | GN25: =IF(OR(BI25=0,BI25=1),GM25-GX25,0) -> 42643.75 | GO25: =IF(BI25=2,GM25-GX25,0) -> 0 | GP25: =IF(BI25=4,GM25-GX25,0) -> 0 | GR25: 0 | GS25: 3 | GT25: 0 | GV25: =ROUND((GT25),6) -> 0 | GW25: 1 | GX25: =ROUND(HC25*I25,2) -> 0 | HA25: 0 | HB25: 0 | HC25: =GV25*GW25 -> 0 | HN25: Пр/812-040.2-1 | HO25: Пр/774-040.2 | HP25: Работы по реконструкции зданий и сооружений: разборка отдельных конструктивных элементов здания (сооружения), а также зданий (сооружений) в целом | HQ25: Работы по реконструкции зданий и сооружений: разборка отдельных конструктивных элементов здания (сооружения), а также зданий (сооружений) в целом | HS25: 0 | IK25: 0
A26: 17 | B26: 1 | C26: =ROW(SmtRes!A19) -> 19 | D26: =ROW(EtalonRes!A14) -> 14 | E26: 2 | F26: 12-01-033-01 | G26: Монтаж кровли из профилированного листа для объектов непроизводственного назначения: простой | H26: 100 м2 | I26: =ROUND(580/100,7) -> 5.8 | J26: 0 | K26: =ROUND(580/100,7) -> 5.8 | O26: =ROUND(CP26,2) -> 86516.95 | P26: =SUMIF(SmtRes!AQ5:'SmtRes'!AQ19,"=1",SmtRes!DF5:'SmtRes'!DF19) -> 3088 | Q26: =SUMIF(SmtRes!AQ5:'SmtRes'!AQ19,"=1",SmtRes!DG5:'SmtRes'!DG19) -> 2634.69 | R26: =SUMIF(SmtRes!AQ5:'SmtRes'!AQ19,"=1",SmtRes!DH5:'SmtRes'!DH19) -> 1110.92 | S26: =SUMIF(SmtRes!AQ5:'SmtRes'!AQ19,"=1",SmtRes!DI5:'SmtRes'!DI19) -> 79683.34 | T26: =ROUND(CU26*I26,2) -> 0 | U26: =SUMIF(SmtRes!AQ5:'SmtRes'!AQ19,"=1",SmtRes!CV5:'SmtRes'!CV19) -> 216.108 | V26: =SUMIF(SmtRes!AQ5:'SmtRes'!AQ19,"=1",SmtRes!CW5:'SmtRes'!CW19) -> 2.32 | W26: =ROUND(CX26*I26,2) -> 0 | X26: =ROUND(CY26,2) -> 79259.17 | Y26: =ROUND(CZ26,2) -> 39144.82 | AA26: 60841590 | AB26: =ROUND((AC26+AD26+AF26),6) -> 14644.831 | AC26: =ROUND((SUM(SmtRes!BQ5:'SmtRes'!BQ19)),6) -> 452.06851 | AD26: =ROUND((((SUM(SmtRes!BR5:'SmtRes'!BR19))-(SUM(SmtRes!BS5:'SmtRes'!BS19)))+AE26),6) -> 454.25513 | AE26: =ROUND((SUM(SmtRes!BS5:'SmtRes'!BS19)),6) -> 191.53775 | AF26: =ROUND((SUM(SmtRes!BT5:'SmtRes'!BT19)),6) -> 13738.507 | AG26: =ROUND((AP26),6) -> 0 | AH26: =(SUM(SmtRes!BU5:'SmtRes'!BU19)) -> 37.26 | AI26: =(SUM(SmtRes!BV5:'SmtRes'!BV19)) -> 0.4 | AJ26: =(AS26) -> 0 | AK26: 12915.231 | AL26: 452.06851 | AM26: 363.4041 | AN26: 153.2302 | AO26: 11946.528 | AP26: 0 | AQ26: 32.4 | AR26: 0.32 | AS26: 0 | AT26: 98.1 | AU26: 48.45 | AV26: 1 | AW26: 1 | AZ26: 1 | BA26: 1 | BB26: 1 | BC26: 1 | BH26: 0 | BI26: 1 | BJ26: ГЭСН-2022, 12-01-033-01, приказ Минстроя России от 18.05.2022 г. № 378/пр | BM26: 12001 | BN26: 0 | BP26: 0 | BQ26: 2 | BR26: 0 | BS26: 1 | BT26: 1 | BU26: 1 | BV26: 1 | BW26: 1 | BX26: 1 | BZ26: 109 | CA26: 57 | CE26: 0 | CF26: 0 | CG26: 0 | CM26: 0 | CN26: Поправка: 421/пр_2020_п.58_пп.б Наименование: При отсутствии необходимых норм (единичных расценок), включенных в сборники ГЭСНр (ФЕРр, ТЕРр), сметные затраты на работы по капитальному ремонту и реконструкции объектов капитального строительства могут быть определены по сметным нормам, включенным в ГЭСН (ФЕР, ТЕР), аналогичным технологическим процессам в новом строительстве, в том числе по возведению новых конструктивных элементов | CO26: 0 | CP26: =(P26+Q26+S26+R26) -> 86516.95 | CQ26: =SUMIF(SmtRes!AQ5:'SmtRes'!AQ19,"=1",SmtRes!AA5:'SmtRes'!AA19) -> 494023.27 | CR26: =SUMIF(SmtRes!AQ5:'SmtRes'!AQ19,"=1",SmtRes!AB5:'SmtRes'!AB19) -> 3498.68 | CS26: =SUMIF(SmtRes!AQ5:'SmtRes'!AQ19,"=1",SmtRes!AC5:'SmtRes'!AC19) -> 1493.01 | CT26: =SUMIF(SmtRes!AQ5:'SmtRes'!AQ19,"=1",SmtRes!AD5:'SmtRes'!AD19) -> 368.72 | CU26: =AG26 -> 0 | CV26: =SUMIF(SmtRes!AQ5:'SmtRes'!AQ19,"=1",SmtRes!BU5:'SmtRes'!BU19) -> 37.26 | CW26: =SUMIF(SmtRes!AQ5:'SmtRes'!AQ19,"=1",SmtRes!BV5:'SmtRes'!BV19) -> 0.4 | CX26: =AJ26 -> 0 | CY26: =(((S26+R26)*AT26)/100) -> 79259.169 | CZ26: =(((S26+R26)*AU26)/100) -> 39144.819 | DB26: 1 | DE26: *1,25 | DF26: *1,25 | DG26: *1,15 | DI26: *1,15 | DJ26: *1,25 | DL26: *0,9 | DM26: *0,85 | DN26: 0 | DO26: 0 | DP26: 1 | DQ26: 1 | DU26: 1005 | DV26: 100 м2 | DW26: 100 м2 | DX26: 100 | EE26: 58905856 | EF26: 2 | EG26: Общестроительные работы | EH26: 12 | EI26: Кровли | EJ26: 1 | EK26: 12001 | EL26: Кровли | EM26: ФЕР-12 | EO26: Поправка: 421/пр_2020_п.58_пп.б | EQ26: 0 | ER26: 0 | ES26: 0 | ET26: 0 | EU26: 0 | EV26: 0 | EW26: 32.4 | EX26: 0.32 | EY26: 0 | FQ26: 0 | FR26: 0 | FS26: 0 | FX26: 98.1 | FY26: 48.45 | GD26: 1 | GF26: 107424221 | GG26: 2 | GH26: 1 | GI26: -2 | GJ26: 0 | GK26: 0 | GL26: =ROUND(IF(AND(BH26=3,BI26=3,FS26<>0),P26,0),2) -> 0 | GM26: =ROUND(O26+X26+Y26,2)+GX26 -> 204920.94 | GN26: =IF(OR(BI26=0,BI26=1),GM26-GX26,0) -> 204920.94 | GO26: =IF(BI26=2,GM26-GX26,0) -> 0 | GP26: =IF(BI26=4,GM26-GX26,0) -> 0 | GR26: 0 | GS26: 3 | GT26: 0 | GV26: =ROUND((GT26),6) -> 0 | GW26: 1 | GX26: =ROUND(HC26*I26,2) -> 0 | HA26: 0 | HB26: 0 | HC26: =GV26*GW26 -> 0 | HN26: Пр/812-012.0-1 | HO26: Пр/774-012.0 | HP26: Кровли | HQ26: Кровли | HS26: 0 | IK26: 0
A27: 17 | B27: 1 | C27: =ROW(SmtRes!A34) -> 34 | D27: =ROW(EtalonRes!A24) -> 24 | E27: 2 | F27: 12-01-033-01 | G27: Монтаж кровли из профилированного листа для объектов непроизводственного назначения: простой | H27: 100 м2 | I27: =ROUND(580/100,7) -> 5.8 | J27: 0 | K27: =ROUND(580/100,7) -> 5.8 | O27: =ROUND(CP27,2) -> 91694.24 | P27: =SUMIF(SmtRes!AQ20:'SmtRes'!AQ34,"=1",SmtRes!DF20:'SmtRes'!DF34) -> 2943.92 | Q27: =SUMIF(SmtRes!AQ20:'SmtRes'!AQ34,"=1",SmtRes!DG20:'SmtRes'!DG34) -> 2670.86 | R27: =SUMIF(SmtRes!AQ20:'SmtRes'!AQ34,"=1",SmtRes!DH20:'SmtRes'!DH34) -> 1183.59 | S27: =SUMIF(SmtRes!AQ20:'SmtRes'!AQ34,"=1",SmtRes!DI20:'SmtRes'!DI34) -> 84895.87 | T27: =ROUND(CU27*I27,2) -> 0 | U27: =SUMIF(SmtRes!AQ20:'SmtRes'!AQ34,"=1",SmtRes!CV20:'SmtRes'!CV34) -> 216.108 | V27: =SUMIF(SmtRes!AQ20:'SmtRes'!AQ34,"=1",SmtRes!CW20:'SmtRes'!CW34) -> 2.32 | W27: =ROUND(CX27*I27,2) -> 0 | X27: =ROUND(CY27,2) -> 84443.95 | Y27: =ROUND(CZ27,2) -> 41705.5 | AA27: 60854600 | AB27: =ROUND((AC27+AD27+AF27),6) -> 15527.352 | AC27: =ROUND((SUM(SmtRes!BQ20:'SmtRes'!BQ34)),6) -> 452.5985 | AD27: =ROUND((((SUM(SmtRes!BR20:'SmtRes'!BR34))-(SUM(SmtRes!BS20:'SmtRes'!BS34)))+AE27),6) -> 437.535 | AE27: =ROUND((SUM(SmtRes!BS20:'SmtRes'!BS34)),6) -> 204.0675 | AF27: =ROUND((SUM(SmtRes!BT20:'SmtRes'!BT34)),6) -> 14637.218 | AG27: =ROUND((AP27),6) -> 0 | AH27: =(SUM(SmtRes!BU20:'SmtRes'!BU34)) -> 37.26 | AI27: =(SUM(SmtRes!BV20:'SmtRes'!BV34)) -> 0.4 | AJ27: =(AS27) -> 0 | AK27: 13693.896 | AL27: 452.5985 | AM27: 350.028 | AN27: 163.254 | AO27: 12728.016 | AP27: 0 | AQ27: 32.4 | AR27: 0.32 | AS27: 0 | AT27: 98.1 | AU27: 48.45 | AV27: 1 | AW27: 1 | AZ27: 1 | BA27: 1 | BB27: 1 | BC27: 1 | BH27: 0 | BI27: 1 | BJ27: ГЭСН-2022, 12-01-033-01, приказ Минстроя России от 18.05.2022 г. № 378/пр | BM27: 12001 | BN27: 0 | BP27: 0 | BQ27: 2 | BR27: 0 | BS27: 1 | BT27: 1 | BU27: 1 | BV27: 1 | BW27: 1 | BX27: 1 | BZ27: 109 | CA27: 57 | CE27: 0 | CF27: 0 | CG27: 0 | CM27: 0 | CN27: Поправка: 421/пр_2020_п.58_пп.б Наименование: При отсутствии необходимых норм (единичных расценок), включенных в сборники ГЭСНр (ФЕРр, ТЕРр), сметные затраты на работы по капитальному ремонту и реконструкции объектов капитального строительства могут быть определены по сметным нормам, включенным в ГЭСН (ФЕР, ТЕР), аналогичным технологическим процессам в новом строительстве, в том числе по возведению новых конструктивных элементов | CO27: 0 | CP27: =(P27+Q27+S27+R27) -> 91694.24 | CQ27: =SUMIF(SmtRes!AQ20:'SmtRes'!AQ34,"=1",SmtRes!AA20:'SmtRes'!AA34) -> 469115.07 | CR27: =SUMIF(SmtRes!AQ20:'SmtRes'!AQ34,"=1",SmtRes!AB20:'SmtRes'!AB34) -> 3483.22 | CS27: =SUMIF(SmtRes!AQ20:'SmtRes'!AQ34,"=1",SmtRes!AC20:'SmtRes'!AC34) -> 1590.68 | CT27: =SUMIF(SmtRes!AQ20:'SmtRes'!AQ34,"=1",SmtRes!AD20:'SmtRes'!AD34) -> 392.84 | CU27: =AG27 -> 0 | CV27: =SUMIF(SmtRes!AQ20:'SmtRes'!AQ34,"=1",SmtRes!BU20:'SmtRes'!BU34) -> 37.26 | CW27: =SUMIF(SmtRes!AQ20:'SmtRes'!AQ34,"=1",SmtRes!BV20:'SmtRes'!BV34) -> 0.4 | CX27: =AJ27 -> 0 | CY27: =(((S27+R27)*AT27)/100) -> 84443.95 | CZ27: =(((S27+R27)*AU27)/100) -> 41705.498 | DB27: 2 | DE27: *1,25 | DF27: *1,25 | DG27: *1,15 | DI27: *1,15 | DJ27: *1,25 | DL27: *0,9 | DM27: *0,85 | DN27: 0 | DO27: 0 | DP27: 1 | DQ27: 1 | DU27: 1005 | DV27: 100 м2 | DW27: 100 м2 | DX27: 100 | EE27: 58905856 | EF27: 2 | EG27: Общестроительные работы | EH27: 12 | EI27: Кровли | EJ27: 1 | EK27: 12001 | EL27: Кровли | EM27: ФЕР-12 | EO27: Поправка: 421/пр_2020_п.58_пп.б | EQ27: 0 | ER27: 0 | ES27: 0 | ET27: 0 | EU27: 0 | EV27: 0 | EW27: 32.4 | EX27: 0.32 | EY27: 0 | FQ27: 0 | FR27: 0 | FS27: 0 | FX27: 98.1 | FY27: 48.45 | GD27: 1 | GF27: 107424221 | GG27: 2 | GH27: 1 | GI27: -2 | GJ27: 0 | GK27: 0 | GL27: =ROUND(IF(AND(BH27=3,BI27=3,FS27<>0),P27,0),2) -> 0 | GM27: =ROUND(O27+X27+Y27,2)+GX27 -> 217843.69 | GN27: =IF(OR(BI27=0,BI27=1),GM27-GX27,0) -> 217843.69 | GO27: =IF(BI27=2,GM27-GX27,0) -> 0 | GP27: =IF(BI27=4,GM27-GX27,0) -> 0 | GR27: 0 | GS27: 3 | GT27: 0 | GV27: =ROUND((GT27),6) -> 0 | GW27: 1 | GX27: =ROUND(HC27*I27,2) -> 0 | HA27: 0 | HB27: 0 | HC27: =GV27*GW27 -> 0 | HN27: Пр/812-012.0-1 | HO27: Пр/774-012.0 | HP27: Кровли | HQ27: Кровли | HS27: 0 | IK27: 0
A28: 18 | B28: 1 | C28: 14 | E28: 2,1 | F28: 08.3.09.02-0003 | G28: Профнастил оцинкованный с лакокрасочным или полимерным покрытием НС35-1000-0,7 | H28: м2 | I28: =I26*J28 -> 707.6 | J28: 122 | K28: 122 | O28: =ROUND(CP28,2) -> 608649.22 | P28: =ROUND(CQ28*I28,2) -> 608649.22 | Q28: =ROUND(CR28*I28,2) -> 0 | R28: =ROUND(CS28*I28,2) -> 0 | S28: =ROUND(CT28*I28,2) -> 0 | T28: =ROUND(CU28*I28,2) -> 0 | U28: =ROUND(CV28*I28,7) -> 0 | V28: =ROUND(CW28*I28,7) -> 0 | W28: =ROUND(CX28*I28,2) -> 0 | X28: =ROUND(CY28,2) -> 0 | Y28: =ROUND(CZ28,2) -> 0 | AA28: 60841590 | AB28: =ROUND((AC28+AD28+AF28),6) -> 1024 | AC28: =ROUND((ES28),6) -> 1024 | AD28: =ROUND((((ET28)-(EU28))+AE28),6) -> 0 | AE28: =ROUND((EU28),6) -> 0 | AF28: =ROUND((EV28),6) -> 0 | AG28: =ROUND((AP28),6) -> 0 | AH28: =(EW28) -> 0 | AI28: =(EX28) -> 0 | AJ28: =(AS28) -> 0 | AK28: 1024 | AL28: 1024 | AM28: 0 | AN28: 0 | AO28: 0 | AP28: 0 | AQ28: 0 | AR28: 0 | AS28: 0 | AT28: 109 | AU28: 57 | AV28: 1 | AW28: 1 | AZ28: 1 | BA28: 1 | BB28: 1 | BC28: 0.84 | BH28: 3 | BI28: 1 | BJ28: ФСБЦ-2022 доп.8, 08.3.09.02-0003, приказ Минстроя России от 14.11.2023 г. № 817/пр | BM28: 12001 | BN28: 0 | BO28: 08.3.09.02-0003 | BP28: 1 | BQ28: 2 | BR28: 0 | BS28: 1 | BT28: 1 | BU28: 1 | BV28: 1 | BW28: 1 | BX28: 1 | BZ28: 109 | CA28: 57 | CE28: 0 | CF28: 0 | CG28: 0 | CM28: 0 | CO28: 0 | CP28: =(P28+Q28+S28+R28) -> 608649.22 | CQ28: =ROUND(AL28*BC28,2) -> 860.16 | CR28: =ROUND(AM28*BB28,2) -> 0 | CS28: =ROUND(AN28*BS28,2) -> 0 | CT28: =ROUND(AO28*BA28,2) -> 0 | CU28: =AG28 -> 0 | CV28: =AH28 -> 0 | CW28: =AI28 -> 0 | CX28: =AJ28 -> 0 | CY28: =(((S28+R28)*AT28)/100) -> 0 | CZ28: =(((S28+R28)*AU28)/100) -> 0 | DN28: 0 | DO28: 0 | DP28: 1 | DQ28: 1 | DU28: 1005 | DV28: м2 | DW28: м2 | DX28: 1 | EE28: 58905856 | EF28: 2 | EG28: Общестроительные работы | EH28: 12 | EI28: Кровли | EJ28: 1 | EK28: 12001 | EL28: Кровли | EM28: ФЕР-12 | EQ28: 0 | ER28: 1024 | ES28: 1024 | ET28: 0 | EU28: 0 | EV28: 0 | EW28: 0 | EX28: 0 | FQ28: 0 | FR28: 0 | FS28: 0 | FX28: 109 | FY28: 57 | GD28: 1 | GF28: -38320244 | GG28: 2 | GH28: 1 | GI28: 2 | GJ28: 0 | GK28: 0 | GL28: =ROUND(IF(AND(BH28=3,BI28=3,FS28<>0),P28,0),2) -> 0 | GM28: =ROUND(O28+X28+Y28,2)+GX28 -> 608649.22 | GN28: =IF(OR(BI28=0,BI28=1),GM28-GX28,0) -> 608649.22 | GO28: =IF(BI28=2,GM28-GX28,0) -> 0 | GP28: =IF(BI28=4,GM28-GX28,0) -> 0 | GR28: 0 | GS28: 3 | GT28: 0 | GV28: =ROUND((GT28),6) -> 0 | GW28: 1 | GX28: =ROUND(HC28*I28,2) -> 0 | HA28: 0 | HB28: 0 | HC28: =GV28*GW28 -> 0 | HN28: Пр/812-012.0-1 | HO28: Пр/774-012.0 | HP28: Кровли | HQ28: Кровли | HS28: 0 | IK28: 0
A29: 18 | B29: 1 | C29: 29 | E29: 2,1 | F29: 08.3.09.02-0003 | G29: Профнастил оцинкованный с лакокрасочным или полимерным покрытием НС35-1000-0,7 | H29: м2 | I29: =I27*J29 -> 707.6 | J29: 122 | K29: 122 | O29: =ROUND(CP29,2) -> 601403.39 | P29: =ROUND(CQ29*I29,2) -> 601403.39 | Q29: =ROUND(CR29*I29,2) -> 0 | R29: =ROUND(CS29*I29,2) -> 0 | S29: =ROUND(CT29*I29,2) -> 0 | T29: =ROUND(CU29*I29,2) -> 0 | U29: =ROUND(CV29*I29,7) -> 0 | V29: =ROUND(CW29*I29,7) -> 0 | W29: =ROUND(CX29*I29,2) -> 0 | X29: =ROUND(CY29,2) -> 0 | Y29: =ROUND(CZ29,2) -> 0 | AA29: 60854600 | AB29: =ROUND((AC29+AD29+AF29),6) -> 1024 | AC29: =ROUND((ES29),6) -> 1024 | AD29: =ROUND((((ET29)-(EU29))+AE29),6) -> 0 | AE29: =ROUND((EU29),6) -> 0 | AF29: =ROUND((EV29),6) -> 0 | AG29: =ROUND((AP29),6) -> 0 | AH29: =(EW29) -> 0 | AI29: =(EX29) -> 0 | AJ29: =(AS29) -> 0 | AK29: 1024 | AL29: 1024 | AM29: 0 | AN29: 0 | AO29: 0 | AP29: 0 | AQ29: 0 | AR29: 0 | AS29: 0 | AT29: 109 | AU29: 57 | AV29: 1 | AW29: 1 | AZ29: 1 | BA29: 1 | BB29: 1 | BC29: 0.83 | BH29: 3 | BI29: 1 | BJ29: ФСБЦ-2022 доп.8, 08.3.09.02-0003, приказ Минстроя России от 14.11.2023 г. № 817/пр | BM29: 12001 | BN29: 0 | BO29: 08.3.09.02-0003 | BP29: 1 | BQ29: 2 | BR29: 0 | BS29: 1 | BT29: 1 | BU29: 1 | BV29: 1 | BW29: 1 | BX29: 1 | BZ29: 109 | CA29: 57 | CE29: 0 | CF29: 0 | CG29: 0 | CM29: 0 | CO29: 0 | CP29: =(P29+Q29+S29+R29) -> 601403.39 | CQ29: =ROUND(AL29*BC29,2) -> 849.92 | CR29: =ROUND(AM29*BB29,2) -> 0 | CS29: =ROUND(AN29*BS29,2) -> 0 | CT29: =ROUND(AO29*BA29,2) -> 0 | CU29: =AG29 -> 0 | CV29: =AH29 -> 0 | CW29: =AI29 -> 0 | CX29: =AJ29 -> 0 | CY29: =(((S29+R29)*AT29)/100) -> 0 | CZ29: =(((S29+R29)*AU29)/100) -> 0 | DN29: 0 | DO29: 0 | DP29: 1 | DQ29: 1 | DU29: 1005 | DV29: м2 | DW29: м2 | DX29: 1 | EE29: 58905856 | EF29: 2 | EG29: Общестроительные работы | EH29: 12 | EI29: Кровли | EJ29: 1 | EK29: 12001 | EL29: Кровли | EM29: ФЕР-12 | EQ29: 0 | ER29: 1024 | ES29: 1024 | ET29: 0 | EU29: 0 | EV29: 0 | EW29: 0 | EX29: 0 | FQ29: 0 | FR29: 0 | FS29: 0 | FX29: 109 | FY29: 57 | GD29: 1 | GF29: -38320244 | GG29: 2 | GH29: 1 | GI29: 2 | GJ29: 0 | GK29: 0 | GL29: =ROUND(IF(AND(BH29=3,BI29=3,FS29<>0),P29,0),2) -> 0 | GM29: =ROUND(O29+X29+Y29,2)+GX29 -> 601403.39 | GN29: =IF(OR(BI29=0,BI29=1),GM29-GX29,0) -> 601403.39 | GO29: =IF(BI29=2,GM29-GX29,0) -> 0 | GP29: =IF(BI29=4,GM29-GX29,0) -> 0 | GR29: 0 | GS29: 3 | GT29: 0 | GV29: =ROUND((GT29),6) -> 0 | GW29: 1 | GX29: =ROUND(HC29*I29,2) -> 0 | HA29: 0 | HB29: 0 | HC29: =GV29*GW29 -> 0 | HN29: Пр/812-012.0-1 | HO29: Пр/774-012.0 | HP29: Кровли | HQ29: Кровли | HS29: 0 | IK29: 0
A30: 18 | B30: 1 | C30: 13 | E30: 2,2 | F30: 01.7.15.14-1048 | G30: Шурупы самонарезающие стальные оцинкованные кровельные с шестигранной головкой и шайбой, наконечник сверло, диаметр 4,8 мм, длина 80 мм | H30: 100 ШТ | I30: =I26*J30 -> 5.8 | J30: 1 | K30: 1 | O30: =ROUND(CP30,2) -> 1234.3 | P30: =ROUND(CQ30*I30,2) -> 1234.3 | Q30: =ROUND(CR30*I30,2) -> 0 | R30: =ROUND(CS30*I30,2) -> 0 | S30: =ROUND(CT30*I30,2) -> 0 | T30: =ROUND(CU30*I30,2) -> 0 | U30: =ROUND(CV30*I30,7) -> 0 | V30: =ROUND(CW30*I30,7) -> 0 | W30: =ROUND(CX30*I30,2) -> 0 | X30: =ROUND(CY30,2) -> 0 | Y30: =ROUND(CZ30,2) -> 0 | AA30: 60841590 | AB30: =ROUND((AC30+AD30+AF30),6) -> 178.83 | AC30: =ROUND((ES30),6) -> 178.83 | AD30: =ROUND((((ET30)-(EU30))+AE30),6) -> 0 | AE30: =ROUND((EU30),6) -> 0 | AF30: =ROUND((EV30),6) -> 0 | AG30: =ROUND((AP30),6) -> 0 | AH30: =(EW30) -> 0 | AI30: =(EX30) -> 0 | AJ30: =(AS30) -> 0 | AK30: 178.83 | AL30: 178.83 | AM30: 0 | AN30: 0 | AO30: 0 | AP30: 0 | AQ30: 0 | AR30: 0 | AS30: 0 | AT30: 90 | AU30: 46 | AV30: 1 | AW30: 1 | AZ30: 1 | BA30: 1 | BB30: 1 | BC30: 1.19 | BH30: 3 | BI30: 1 | BJ30: ФСБЦ-2022 доп.12, 01.7.15.14-1048, приказ Минстроя России от 07.11.2024 г. № 747/пр | BM30: 58001 | BN30: 0 | BO30: 01.7.15.14-1048 | BP30: 1 | BQ30: 6 | BR30: 0 | BS30: 1 | BT30: 1 | BU30: 1 | BV30: 1 | BW30: 1 | BX30: 1 | BZ30: 90 | CA30: 46 | CE30: 0 | CF30: 0 | CG30: 0 | CM30: 0 | CO30: 0 | CP30: =(P30+Q30+S30+R30) -> 1234.3 | CQ30: =ROUND(AL30*BC30,2) -> 212.81 | CR30: =ROUND(AM30*BB30,2) -> 0 | CS30: =ROUND(AN30*BS30,2) -> 0 | CT30: =ROUND(AO30*BA30,2) -> 0 | CU30: =AG30 -> 0 | CV30: =AH30 -> 0 | CW30: =AI30 -> 0 | CX30: =AJ30 -> 0 | CY30: =(((S30+R30)*AT30)/100) -> 0 | CZ30: =(((S30+R30)*AU30)/100) -> 0 | DN30: 0 | DO30: 0 | DP30: 1 | DQ30: 1 | DU30: 1013 | DV30: 100 ШТ | DW30: 100 ШТ | DX30: 1 | EE30: 58905933 | EF30: 6 | EG30: Ремонтно-строительные работы | EH30: 92 | EI30: Крыши, кровли | EJ30: 1 | EK30: 58001 | EL30: Крыши, кровли | EM30: рФЕР-58 | EQ30: 0 | ER30: 178.83 | ES30: 178.83 | ET30: 0 | EU30: 0 | EV30: 0 | EW30: 0 | EX30: 0 | FQ30: 0 | FR30: 0 | FS30: 0 | FX30: 90 | FY30: 46 | GD30: 1 | GF30: -1342378106 | GG30: 2 | GH30: 1 | GI30: 2 | GJ30: 0 | GK30: 0 | GL30: =ROUND(IF(AND(BH30=3,BI30=3,FS30<>0),P30,0),2) -> 0 | GM30: =ROUND(O30+X30+Y30,2)+GX30 -> 1234.3 | GN30: =IF(OR(BI30=0,BI30=1),GM30-GX30,0) -> 1234.3 | GO30: =IF(BI30=2,GM30-GX30,0) -> 0 | GP30: =IF(BI30=4,GM30-GX30,0) -> 0 | GR30: 0 | GS30: 3 | GT30: 0 | GV30: =ROUND((GT30),6) -> 0 | GW30: 1 | GX30: =ROUND(HC30*I30,2) -> 0 | HA30: 0 | HB30: 0 | HC30: =GV30*GW30 -> 0 | HN30: Пр/812-092.0-1 | HO30: Пр/774-092.0 | HP30: Крыши, кровля | HQ30: Крыши, кровля | HS30: 0 | IK30: 0
A31: 18 | B31: 1 | C31: 28 | E31: 2,2 | F31: 01.7.15.14-1048 | G31: Шурупы самонарезающие стальные оцинкованные кровельные с шестигранной головкой и шайбой, наконечник сверло, диаметр 4,8 мм, длина 80 мм | H31: 100 ШТ | I31: =I27*J31 -> 5.8 | J31: 1 | K31: 1 | O31: =ROUND(CP31,2) -> 1172.06 | P31: =ROUND(CQ31*I31,2) -> 1172.06 | Q31: =ROUND(CR31*I31,2) -> 0 | R31: =ROUND(CS31*I31,2) -> 0 | S31: =ROUND(CT31*I31,2) -> 0 | T31: =ROUND(CU31*I31,2) -> 0 | U31: =ROUND(CV31*I31,7) -> 0 | V31: =ROUND(CW31*I31,7) -> 0 | W31: =ROUND(CX31*I31,2) -> 0 | X31: =ROUND(CY31,2) -> 0 | Y31: =ROUND(CZ31,2) -> 0 | AA31: 60854600 | AB31: =ROUND((AC31+AD31+AF31),6) -> 178.83 | AC31: =ROUND((ES31),6) -> 178.83 | AD31: =ROUND((((ET31)-(EU31))+AE31),6) -> 0 | AE31: =ROUND((EU31),6) -> 0 | AF31: =ROUND((EV31),6) -> 0 | AG31: =ROUND((AP31),6) -> 0 | AH31: =(EW31) -> 0 | AI31: =(EX31) -> 0 | AJ31: =(AS31) -> 0 | AK31: 178.83 | AL31: 178.83 | AM31: 0 | AN31: 0 | AO31: 0 | AP31: 0 | AQ31: 0 | AR31: 0 | AS31: 0 | AT31: 90 | AU31: 46 | AV31: 1 | AW31: 1 | AZ31: 1 | BA31: 1 | BB31: 1 | BC31: 1.13 | BH31: 3 | BI31: 1 | BJ31: ФСБЦ-2022 доп.12, 01.7.15.14-1048, приказ Минстроя России от 07.11.2024 г. № 747/пр | BM31: 58001 | BN31: 0 | BO31: 01.7.15.14-1048 | BP31: 1 | BQ31: 6 | BR31: 0 | BS31: 1 | BT31: 1 | BU31: 1 | BV31: 1 | BW31: 1 | BX31: 1 | BZ31: 90 | CA31: 46 | CE31: 0 | CF31: 0 | CG31: 0 | CM31: 0 | CO31: 0 | CP31: =(P31+Q31+S31+R31) -> 1172.06 | CQ31: =ROUND(AL31*BC31,2) -> 202.08 | CR31: =ROUND(AM31*BB31,2) -> 0 | CS31: =ROUND(AN31*BS31,2) -> 0 | CT31: =ROUND(AO31*BA31,2) -> 0 | CU31: =AG31 -> 0 | CV31: =AH31 -> 0 | CW31: =AI31 -> 0 | CX31: =AJ31 -> 0 | CY31: =(((S31+R31)*AT31)/100) -> 0 | CZ31: =(((S31+R31)*AU31)/100) -> 0 | DN31: 0 | DO31: 0 | DP31: 1 | DQ31: 1 | DU31: 1013 | DV31: 100 ШТ | DW31: 100 ШТ | DX31: 1 | EE31: 58905933 | EF31: 6 | EG31: Ремонтно-строительные работы | EH31: 92 | EI31: Крыши, кровли | EJ31: 1 | EK31: 58001 | EL31: Крыши, кровли | EM31: рФЕР-58 | EQ31: 0 | ER31: 178.83 | ES31: 178.83 | ET31: 0 | EU31: 0 | EV31: 0 | EW31: 0 | EX31: 0 | FQ31: 0 | FR31: 0 | FS31: 0 | FX31: 90 | FY31: 46 | GD31: 1 | GF31: -1342378106 | GG31: 2 | GH31: 1 | GI31: 2 | GJ31: 0 | GK31: 0 | GL31: =ROUND(IF(AND(BH31=3,BI31=3,FS31<>0),P31,0),2) -> 0 | GM31: =ROUND(O31+X31+Y31,2)+GX31 -> 1172.06 | GN31: =IF(OR(BI31=0,BI31=1),GM31-GX31,0) -> 1172.06 | GO31: =IF(BI31=2,GM31-GX31,0) -> 0 | GP31: =IF(BI31=4,GM31-GX31,0) -> 0 | GR31: 0 | GS31: 3 | GT31: 0 | GV31: =ROUND((GT31),6) -> 0 | GW31: 1 | GX31: =ROUND(HC31*I31,2) -> 0 | HA31: 0 | HB31: 0 | HC31: =GV31*GW31 -> 0 | HN31: Пр/812-092.0-1 | HO31: Пр/774-092.0 | HP31: Крыши, кровля | HQ31: Крыши, кровля | HS31: 0 | IK31: 0
A32: 18 | B32: 1 | C32: 17 | E32: 2,3 | F32: 12.1.03.02-1096 | G32: Планка карнизная из оцинкованной стали с полимерным покрытием для устройства кровли, размеры 100х69 мм | H32: м | I32: =I26*J32 -> 104 | J32: 17.931034 | K32: 17.931034 | O32: =ROUND(CP32,2) -> 32722.56 | P32: =ROUND(CQ32*I32,2) -> 32722.56 | Q32: =ROUND(CR32*I32,2) -> 0 | R32: =ROUND(CS32*I32,2) -> 0 | S32: =ROUND(CT32*I32,2) -> 0 | T32: =ROUND(CU32*I32,2) -> 0 | U32: =ROUND(CV32*I32,7) -> 0 | V32: =ROUND(CW32*I32,7) -> 0 | W32: =ROUND(CX32*I32,2) -> 0 | X32: =ROUND(CY32,2) -> 0 | Y32: =ROUND(CZ32,2) -> 0 | AA32: 60841590 | AB32: =ROUND((AC32+AD32+AF32),6) -> 283.46 | AC32: =ROUND((ES32),6) -> 283.46 | AD32: =ROUND((((ET32)-(EU32))+AE32),6) -> 0 | AE32: =ROUND((EU32),6) -> 0 | AF32: =ROUND((EV32),6) -> 0 | AG32: =ROUND((AP32),6) -> 0 | AH32: =(EW32) -> 0 | AI32: =(EX32) -> 0 | AJ32: =(AS32) -> 0 | AK32: 283.46 | AL32: 283.46 | AM32: 0 | AN32: 0 | AO32: 0 | AP32: 0 | AQ32: 0 | AR32: 0 | AS32: 0 | AT32: 109 | AU32: 57 | AV32: 1 | AW32: 1 | AZ32: 1 | BA32: 1 | BB32: 1 | BC32: 1.11 | BH32: 3 | BI32: 1 | BJ32: ФСБЦ-2022, 12.1.03.02-1096, приказ Минстроя России от 18.05.2022 г. № 378/пр | BM32: 12001 | BN32: 0 | BO32: 12.1.03.02-1096 | BP32: 1 | BQ32: 2 | BR32: 0 | BS32: 1 | BT32: 1 | BU32: 1 | BV32: 1 | BW32: 1 | BX32: 1 | BZ32: 109 | CA32: 57 | CE32: 0 | CF32: 0 | CG32: 0 | CM32: 0 | CO32: 0 | CP32: =(P32+Q32+S32+R32) -> 32722.56 | CQ32: =ROUND(AL32*BC32,2) -> 314.64 | CR32: =ROUND(AM32*BB32,2) -> 0 | CS32: =ROUND(AN32*BS32,2) -> 0 | CT32: =ROUND(AO32*BA32,2) -> 0 | CU32: =AG32 -> 0 | CV32: =AH32 -> 0 | CW32: =AI32 -> 0 | CX32: =AJ32 -> 0 | CY32: =(((S32+R32)*AT32)/100) -> 0 | CZ32: =(((S32+R32)*AU32)/100) -> 0 | DN32: 0 | DO32: 0 | DP32: 1 | DQ32: 1 | DU32: 1003 | DV32: м | DW32: м | DX32: 1 | EE32: 58905856 | EF32: 2 | EG32: Общестроительные работы | EH32: 12 | EI32: Кровли | EJ32: 1 | EK32: 12001 | EL32: Кровли | EM32: ФЕР-12 | EQ32: 0 | ER32: 283.46 | ES32: 283.46 | ET32: 0 | EU32: 0 | EV32: 0 | EW32: 0 | EX32: 0 | FQ32: 0 | FR32: 0 | FS32: 0 | FX32: 109 | FY32: 57 | GD32: 1 | GF32: 1883402082 | GG32: 2 | GH32: 1 | GI32: 2 | GJ32: 0 | GK32: 0 | GL32: =ROUND(IF(AND(BH32=3,BI32=3,FS32<>0),P32,0),2) -> 0 | GM32: =ROUND(O32+X32+Y32,2)+GX32 -> 32722.56 | GN32: =IF(OR(BI32=0,BI32=1),GM32-GX32,0) -> 32722.56 | GO32: =IF(BI32=2,GM32-GX32,0) -> 0 | GP32: =IF(BI32=4,GM32-GX32,0) -> 0 | GR32: 0 | GS32: 3 | GT32: 0 | GV32: =ROUND((GT32),6) -> 0 | GW32: 1 | GX32: =ROUND(HC32*I32,2) -> 0 | HA32: 0 | HB32: 0 | HC32: =GV32*GW32 -> 0 | HN32: Пр/812-012.0-1 | HO32: Пр/774-012.0 | HP32: Кровли | HQ32: Кровли | HS32: 0 | IK32: 0
A33: 18 | B33: 1 | C33: 32 | E33: 2,3 | F33: 12.1.03.02-1096 | G33: Планка карнизная из оцинкованной стали с полимерным покрытием для устройства кровли, размеры 100х69 мм | H33: м | I33: =I27*J33 -> 104 | J33: 17.931034 | K33: 17.931034 | O33: =ROUND(CP33,2) -> 31248.88 | P33: =ROUND(CQ33*I33,2) -> 31248.88 | Q33: =ROUND(CR33*I33,2) -> 0 | R33: =ROUND(CS33*I33,2) -> 0 | S33: =ROUND(CT33*I33,2) -> 0 | T33: =ROUND(CU33*I33,2) -> 0 | U33: =ROUND(CV33*I33,7) -> 0 | V33: =ROUND(CW33*I33,7) -> 0 | W33: =ROUND(CX33*I33,2) -> 0 | X33: =ROUND(CY33,2) -> 0 | Y33: =ROUND(CZ33,2) -> 0 | AA33: 60854600 | AB33: =ROUND((AC33+AD33+AF33),6) -> 283.46 | AC33: =ROUND((ES33),6) -> 283.46 | AD33: =ROUND((((ET33)-(EU33))+AE33),6) -> 0 | AE33: =ROUND((EU33),6) -> 0 | AF33: =ROUND((EV33),6) -> 0 | AG33: =ROUND((AP33),6) -> 0 | AH33: =(EW33) -> 0 | AI33: =(EX33) -> 0 | AJ33: =(AS33) -> 0 | AK33: 283.46 | AL33: 283.46 | AM33: 0 | AN33: 0 | AO33: 0 | AP33: 0 | AQ33: 0 | AR33: 0 | AS33: 0 | AT33: 109 | AU33: 57 | AV33: 1 | AW33: 1 | AZ33: 1 | BA33: 1 | BB33: 1 | BC33: 1.06 | BH33: 3 | BI33: 1 | BJ33: ФСБЦ-2022, 12.1.03.02-1096, приказ Минстроя России от 18.05.2022 г. № 378/пр | BM33: 12001 | BN33: 0 | BO33: 12.1.03.02-1096 | BP33: 1 | BQ33: 2 | BR33: 0 | BS33: 1 | BT33: 1 | BU33: 1 | BV33: 1 | BW33: 1 | BX33: 1 | BZ33: 109 | CA33: 57 | CE33: 0 | CF33: 0 | CG33: 0 | CM33: 0 | CO33: 0 | CP33: =(P33+Q33+S33+R33) -> 31248.88 | CQ33: =ROUND(AL33*BC33,2) -> 300.47 | CR33: =ROUND(AM33*BB33,2) -> 0 | CS33: =ROUND(AN33*BS33,2) -> 0 | CT33: =ROUND(AO33*BA33,2) -> 0 | CU33: =AG33 -> 0 | CV33: =AH33 -> 0 | CW33: =AI33 -> 0 | CX33: =AJ33 -> 0 | CY33: =(((S33+R33)*AT33)/100) -> 0 | CZ33: =(((S33+R33)*AU33)/100) -> 0 | DN33: 0 | DO33: 0 | DP33: 1 | DQ33: 1 | DU33: 1003 | DV33: м | DW33: м | DX33: 1 | EE33: 58905856 | EF33: 2 | EG33: Общестроительные работы | EH33: 12 | EI33: Кровли | EJ33: 1 | EK33: 12001 | EL33: Кровли | EM33: ФЕР-12 | EQ33: 0 | ER33: 283.46 | ES33: 283.46 | ET33: 0 | EU33: 0 | EV33: 0 | EW33: 0 | EX33: 0 | FQ33: 0 | FR33: 0 | FS33: 0 | FX33: 109 | FY33: 57 | GD33: 1 | GF33: 1883402082 | GG33: 2 | GH33: 1 | GI33: 2 | GJ33: 0 | GK33: 0 | GL33: =ROUND(IF(AND(BH33=3,BI33=3,FS33<>0),P33,0),2) -> 0 | GM33: =ROUND(O33+X33+Y33,2)+GX33 -> 31248.88 | GN33: =IF(OR(BI33=0,BI33=1),GM33-GX33,0) -> 31248.88 | GO33: =IF(BI33=2,GM33-GX33,0) -> 0 | GP33: =IF(BI33=4,GM33-GX33,0) -> 0 | GR33: 0 | GS33: 3 | GT33: 0 | GV33: =ROUND((GT33),6) -> 0 | GW33: 1 | GX33: =ROUND(HC33*I33,2) -> 0 | HA33: 0 | HB33: 0 | HC33: =GV33*GW33 -> 0 | HN33: Пр/812-012.0-1 | HO33: Пр/774-012.0 | HP33: Кровли | HQ33: Кровли | HS33: 0 | IK33: 0
A34: 18 | B34: 1 | C34: 15 | E34: 2,4 | F34: 12.1.03.02-1092 | G34: Планка ендовы верхняя из оцинкованной стали с полимерным покрытием для устройства кровли, размеры 76х76 мм | H34: м | I34: =I26*J34 -> 50 | J34: 8.6206897 | K34: 8.6206897 | O34: =ROUND(CP34,2) -> 22806.5 | P34: =ROUND(CQ34*I34,2) -> 22806.5 | Q34: =ROUND(CR34*I34,2) -> 0 | R34: =ROUND(CS34*I34,2) -> 0 | S34: =ROUND(CT34*I34,2) -> 0 | T34: =ROUND(CU34*I34,2) -> 0 | U34: =ROUND(CV34*I34,7) -> 0 | V34: =ROUND(CW34*I34,7) -> 0 | W34: =ROUND(CX34*I34,2) -> 0 | X34: =ROUND(CY34,2) -> 0 | Y34: =ROUND(CZ34,2) -> 0 | AA34: 60841590 | AB34: =ROUND((AC34+AD34+AF34),6) -> 410.93 | AC34: =ROUND((ES34),6) -> 410.93 | AD34: =ROUND((((ET34)-(EU34))+AE34),6) -> 0 | AE34: =ROUND((EU34),6) -> 0 | AF34: =ROUND((EV34),6) -> 0 | AG34: =ROUND((AP34),6) -> 0 | AH34: =(EW34) -> 0 | AI34: =(EX34) -> 0 | AJ34: =(AS34) -> 0 | AK34: 410.93 | AL34: 410.93 | AM34: 0 | AN34: 0 | AO34: 0 | AP34: 0 | AQ34: 0 | AR34: 0 | AS34: 0 | AT34: 109 | AU34: 57 | AV34: 1 | AW34: 1 | AZ34: 1 | BA34: 1 | BB34: 1 | BC34: 1.11 | BH34: 3 | BI34: 1 | BJ34: ФСБЦ-2022, 12.1.03.02-1092, приказ Минстроя России от 18.05.2022 г. № 378/пр | BM34: 12001 | BN34: 0 | BO34: 12.1.03.02-1092 | BP34: 1 | BQ34: 2 | BR34: 0 | BS34: 1 | BT34: 1 | BU34: 1 | BV34: 1 | BW34: 1 | BX34: 1 | BZ34: 109 | CA34: 57 | CE34: 0 | CF34: 0 | CG34: 0 | CM34: 0 | CO34: 0 | CP34: =(P34+Q34+S34+R34) -> 22806.5 | CQ34: =ROUND(AL34*BC34,2) -> 456.13 | CR34: =ROUND(AM34*BB34,2) -> 0 | CS34: =ROUND(AN34*BS34,2) -> 0 | CT34: =ROUND(AO34*BA34,2) -> 0 | CU34: =AG34 -> 0 | CV34: =AH34 -> 0 | CW34: =AI34 -> 0 | CX34: =AJ34 -> 0 | CY34: =(((S34+R34)*AT34)/100) -> 0 | CZ34: =(((S34+R34)*AU34)/100) -> 0 | DN34: 0 | DO34: 0 | DP34: 1 | DQ34: 1 | DU34: 1003 | DV34: м | DW34: м | DX34: 1 | EE34: 58905856 | EF34: 2 | EG34: Общестроительные работы | EH34: 12 | EI34: Кровли | EJ34: 1 | EK34: 12001 | EL34: Кровли | EM34: ФЕР-12 | EQ34: 0 | ER34: 410.93 | ES34: 410.93 | ET34: 0 | EU34: 0 | EV34: 0 | EW34: 0 | EX34: 0 | FQ34: 0 | FR34: 0 | FS34: 0 | FX34: 109 | FY34: 57 | GD34: 1 | GF34: 391820357 | GG34: 2 | GH34: 1 | GI34: 2 | GJ34: 0 | GK34: 0 | GL34: =ROUND(IF(AND(BH34=3,BI34=3,FS34<>0),P34,0),2) -> 0 | GM34: =ROUND(O34+X34+Y34,2)+GX34 -> 22806.5 | GN34: =IF(OR(BI34=0,BI34=1),GM34-GX34,0) -> 22806.5 | GO34: =IF(BI34=2,GM34-GX34,0) -> 0 | GP34: =IF(BI34=4,GM34-GX34,0) -> 0 | GR34: 0 | GS34: 3 | GT34: 0 | GV34: =ROUND((GT34),6) -> 0 | GW34: 1 | GX34: =ROUND(HC34*I34,2) -> 0 | HA34: 0 | HB34: 0 | HC34: =GV34*GW34 -> 0 | HN34: Пр/812-012.0-1 | HO34: Пр/774-012.0 | HP34: Кровли | HQ34: Кровли | HS34: 0 | IK34: 0
A35: 18 | B35: 1 | C35: 30 | E35: 2,4 | F35: 12.1.03.02-1092 | G35: Планка ендовы верхняя из оцинкованной стали с полимерным покрытием для устройства кровли, размеры 76х76 мм | H35: м | I35: =I27*J35 -> 50 | J35: 8.6206897 | K35: 8.6206897 | O35: =ROUND(CP35,2) -> 21779.5 | P35: =ROUND(CQ35*I35,2) -> 21779.5 | Q35: =ROUND(CR35*I35,2) -> 0 | R35: =ROUND(CS35*I35,2) -> 0 | S35: =ROUND(CT35*I35,2) -> 0 | T35: =ROUND(CU35*I35,2) -> 0 | U35: =ROUND(CV35*I35,7) -> 0 | V35: =ROUND(CW35*I35,7) -> 0 | W35: =ROUND(CX35*I35,2) -> 0 | X35: =ROUND(CY35,2) -> 0 | Y35: =ROUND(CZ35,2) -> 0 | AA35: 60854600 | AB35: =ROUND((AC35+AD35+AF35),6) -> 410.93 | AC35: =ROUND((ES35),6) -> 410.93 | AD35: =ROUND((((ET35)-(EU35))+AE35),6) -> 0 | AE35: =ROUND((EU35),6) -> 0 | AF35: =ROUND((EV35),6) -> 0 | AG35: =ROUND((AP35),6) -> 0 | AH35: =(EW35) -> 0 | AI35: =(EX35) -> 0 | AJ35: =(AS35) -> 0 | AK35: 410.93 | AL35: 410.93 | AM35: 0 | AN35: 0 | AO35: 0 | AP35: 0 | AQ35: 0 | AR35: 0 | AS35: 0 | AT35: 109 | AU35: 57 | AV35: 1 | AW35: 1 | AZ35: 1 | BA35: 1 | BB35: 1 | BC35: 1.06 | BH35: 3 | BI35: 1 | BJ35: ФСБЦ-2022, 12.1.03.02-1092, приказ Минстроя России от 18.05.2022 г. № 378/пр | BM35: 12001 | BN35: 0 | BO35: 12.1.03.02-1092 | BP35: 1 | BQ35: 2 | BR35: 0 | BS35: 1 | BT35: 1 | BU35: 1 | BV35: 1 | BW35: 1 | BX35: 1 | BZ35: 109 | CA35: 57 | CE35: 0 | CF35: 0 | CG35: 0 | CM35: 0 | CO35: 0 | CP35: =(P35+Q35+S35+R35) -> 21779.5 | CQ35: =ROUND(AL35*BC35,2) -> 435.59 | CR35: =ROUND(AM35*BB35,2) -> 0 | CS35: =ROUND(AN35*BS35,2) -> 0 | CT35: =ROUND(AO35*BA35,2) -> 0 | CU35: =AG35 -> 0 | CV35: =AH35 -> 0 | CW35: =AI35 -> 0 | CX35: =AJ35 -> 0 | CY35: =(((S35+R35)*AT35)/100) -> 0 | CZ35: =(((S35+R35)*AU35)/100) -> 0 | DN35: 0 | DO35: 0 | DP35: 1 | DQ35: 1 | DU35: 1003 | DV35: м | DW35: м | DX35: 1 | EE35: 58905856 | EF35: 2 | EG35: Общестроительные работы | EH35: 12 | EI35: Кровли | EJ35: 1 | EK35: 12001 | EL35: Кровли | EM35: ФЕР-12 | EQ35: 0 | ER35: 410.93 | ES35: 410.93 | ET35: 0 | EU35: 0 | EV35: 0 | EW35: 0 | EX35: 0 | FQ35: 0 | FR35: 0 | FS35: 0 | FX35: 109 | FY35: 57 | GD35: 1 | GF35: 391820357 | GG35: 2 | GH35: 1 | GI35: 2 | GJ35: 0 | GK35: 0 | GL35: =ROUND(IF(AND(BH35=3,BI35=3,FS35<>0),P35,0),2) -> 0 | GM35: =ROUND(O35+X35+Y35,2)+GX35 -> 21779.5 | GN35: =IF(OR(BI35=0,BI35=1),GM35-GX35,0) -> 21779.5 | GO35: =IF(BI35=2,GM35-GX35,0) -> 0 | GP35: =IF(BI35=4,GM35-GX35,0) -> 0 | GR35: 0 | GS35: 3 | GT35: 0 | GV35: =ROUND((GT35),6) -> 0 | GW35: 1 | GX35: =ROUND(HC35*I35,2) -> 0 | HA35: 0 | HB35: 0 | HC35: =GV35*GW35 -> 0 | HN35: Пр/812-012.0-1 | HO35: Пр/774-012.0 | HP35: Кровли | HQ35: Кровли | HS35: 0 | IK35: 0
A36: 18 | B36: 1 | C36: 16 | E36: 2,5 | F36: 12.1.03.02-1094 | G36: Планка ендовы нижняя из оцинкованной стали с полимерным покрытием для устройства кровли, размеры 298х298 мм | H36: м | I36: =I26*J36 -> 50 | J36: 8.6206897 | K36: 8.6206897 | O36: =ROUND(CP36,2) -> 29529 | P36: =ROUND(CQ36*I36,2) -> 29529 | Q36: =ROUND(CR36*I36,2) -> 0 | R36: =ROUND(CS36*I36,2) -> 0 | S36: =ROUND(CT36*I36,2) -> 0 | T36: =ROUND(CU36*I36,2) -> 0 | U36: =ROUND(CV36*I36,7) -> 0 | V36: =ROUND(CW36*I36,7) -> 0 | W36: =ROUND(CX36*I36,2) -> 0 | X36: =ROUND(CY36,2) -> 0 | Y36: =ROUND(CZ36,2) -> 0 | AA36: 60841590 | AB36: =ROUND((AC36+AD36+AF36),6) -> 532.05 | AC36: =ROUND((ES36),6) -> 532.05 | AD36: =ROUND((((ET36)-(EU36))+AE36),6) -> 0 | AE36: =ROUND((EU36),6) -> 0 | AF36: =ROUND((EV36),6) -> 0 | AG36: =ROUND((AP36),6) -> 0 | AH36: =(EW36) -> 0 | AI36: =(EX36) -> 0 | AJ36: =(AS36) -> 0 | AK36: 532.05 | AL36: 532.05 | AM36: 0 | AN36: 0 | AO36: 0 | AP36: 0 | AQ36: 0 | AR36: 0 | AS36: 0 | AT36: 109 | AU36: 57 | AV36: 1 | AW36: 1 | AZ36: 1 | BA36: 1 | BB36: 1 | BC36: 1.11 | BH36: 3 | BI36: 1 | BJ36: ФСБЦ-2022, 12.1.03.02-1094, приказ Минстроя России от 18.05.2022 г. № 378/пр | BM36: 12001 | BN36: 0 | BO36: 12.1.03.02-1094 | BP36: 1 | BQ36: 2 | BR36: 0 | BS36: 1 | BT36: 1 | BU36: 1 | BV36: 1 | BW36: 1 | BX36: 1 | BZ36: 109 | CA36: 57 | CE36: 0 | CF36: 0 | CG36: 0 | CM36: 0 | CO36: 0 | CP36: =(P36+Q36+S36+R36) -> 29529 | CQ36: =ROUND(AL36*BC36,2) -> 590.58 | CR36: =ROUND(AM36*BB36,2) -> 0 | CS36: =ROUND(AN36*BS36,2) -> 0 | CT36: =ROUND(AO36*BA36,2) -> 0 | CU36: =AG36 -> 0 | CV36: =AH36 -> 0 | CW36: =AI36 -> 0 | CX36: =AJ36 -> 0 | CY36: =(((S36+R36)*AT36)/100) -> 0 | CZ36: =(((S36+R36)*AU36)/100) -> 0 | DN36: 0 | DO36: 0 | DP36: 1 | DQ36: 1 | DU36: 1003 | DV36: м | DW36: м | DX36: 1 | EE36: 58905856 | EF36: 2 | EG36: Общестроительные работы | EH36: 12 | EI36: Кровли | EJ36: 1 | EK36: 12001 | EL36: Кровли | EM36: ФЕР-12 | EQ36: 0 | ER36: 532.05 | ES36: 532.05 | ET36: 0 | EU36: 0 | EV36: 0 | EW36: 0 | EX36: 0 | FQ36: 0 | FR36: 0 | FS36: 0 | FX36: 109 | FY36: 57 | GD36: 1 | GF36: -676676400 | GG36: 2 | GH36: 1 | GI36: 2 | GJ36: 0 | GK36: 0 | GL36: =ROUND(IF(AND(BH36=3,BI36=3,FS36<>0),P36,0),2) -> 0 | GM36: =ROUND(O36+X36+Y36,2)+GX36 -> 29529 | GN36: =IF(OR(BI36=0,BI36=1),GM36-GX36,0) -> 29529 | GO36: =IF(BI36=2,GM36-GX36,0) -> 0 | GP36: =IF(BI36=4,GM36-GX36,0) -> 0 | GR36: 0 | GS36: 3 | GT36: 0 | GV36: =ROUND((GT36),6) -> 0 | GW36: 1 | GX36: =ROUND(HC36*I36,2) -> 0 | HA36: 0 | HB36: 0 | HC36: =GV36*GW36 -> 0 | HN36: Пр/812-012.0-1 | HO36: Пр/774-012.0 | HP36: Кровли | HQ36: Кровли | HS36: 0 | IK36: 0
A37: 18 | B37: 1 | C37: 31 | E37: 2,5 | F37: 12.1.03.02-1094 | G37: Планка ендовы нижняя из оцинкованной стали с полимерным покрытием для устройства кровли, размеры 298х298 мм | H37: м | I37: =I27*J37 -> 50 | J37: 8.6206897 | K37: 8.6206897 | O37: =ROUND(CP37,2) -> 28198.5 | P37: =ROUND(CQ37*I37,2) -> 28198.5 | Q37: =ROUND(CR37*I37,2) -> 0 | R37: =ROUND(CS37*I37,2) -> 0 | S37: =ROUND(CT37*I37,2) -> 0 | T37: =ROUND(CU37*I37,2) -> 0 | U37: =ROUND(CV37*I37,7) -> 0 | V37: =ROUND(CW37*I37,7) -> 0 | W37: =ROUND(CX37*I37,2) -> 0 | X37: =ROUND(CY37,2) -> 0 | Y37: =ROUND(CZ37,2) -> 0 | AA37: 60854600 | AB37: =ROUND((AC37+AD37+AF37),6) -> 532.05 | AC37: =ROUND((ES37),6) -> 532.05 | AD37: =ROUND((((ET37)-(EU37))+AE37),6) -> 0 | AE37: =ROUND((EU37),6) -> 0 | AF37: =ROUND((EV37),6) -> 0 | AG37: =ROUND((AP37),6) -> 0 | AH37: =(EW37) -> 0 | AI37: =(EX37) -> 0 | AJ37: =(AS37) -> 0 | AK37: 532.05 | AL37: 532.05 | AM37: 0 | AN37: 0 | AO37: 0 | AP37: 0 | AQ37: 0 | AR37: 0 | AS37: 0 | AT37: 109 | AU37: 57 | AV37: 1 | AW37: 1 | AZ37: 1 | BA37: 1 | BB37: 1 | BC37: 1.06 | BH37: 3 | BI37: 1 | BJ37: ФСБЦ-2022, 12.1.03.02-1094, приказ Минстроя России от 18.05.2022 г. № 378/пр | BM37: 12001 | BN37: 0 | BO37: 12.1.03.02-1094 | BP37: 1 | BQ37: 2 | BR37: 0 | BS37: 1 | BT37: 1 | BU37: 1 | BV37: 1 | BW37: 1 | BX37: 1 | BZ37: 109 | CA37: 57 | CE37: 0 | CF37: 0 | CG37: 0 | CM37: 0 | CO37: 0 | CP37: =(P37+Q37+S37+R37) -> 28198.5 | CQ37: =ROUND(AL37*BC37,2) -> 563.97 | CR37: =ROUND(AM37*BB37,2) -> 0 | CS37: =ROUND(AN37*BS37,2) -> 0 | CT37: =ROUND(AO37*BA37,2) -> 0 | CU37: =AG37 -> 0 | CV37: =AH37 -> 0 | CW37: =AI37 -> 0 | CX37: =AJ37 -> 0 | CY37: =(((S37+R37)*AT37)/100) -> 0 | CZ37: =(((S37+R37)*AU37)/100) -> 0 | DN37: 0 | DO37: 0 | DP37: 1 | DQ37: 1 | DU37: 1003 | DV37: м | DW37: м | DX37: 1 | EE37: 58905856 | EF37: 2 | EG37: Общестроительные работы | EH37: 12 | EI37: Кровли | EJ37: 1 | EK37: 12001 | EL37: Кровли | EM37: ФЕР-12 | EQ37: 0 | ER37: 532.05 | ES37: 532.05 | ET37: 0 | EU37: 0 | EV37: 0 | EW37: 0 | EX37: 0 | FQ37: 0 | FR37: 0 | FS37: 0 | FX37: 109 | FY37: 57 | GD37: 1 | GF37: -676676400 | GG37: 2 | GH37: 1 | GI37: 2 | GJ37: 0 | GK37: 0 | GL37: =ROUND(IF(AND(BH37=3,BI37=3,FS37<>0),P37,0),2) -> 0 | GM37: =ROUND(O37+X37+Y37,2)+GX37 -> 28198.5 | GN37: =IF(OR(BI37=0,BI37=1),GM37-GX37,0) -> 28198.5 | GO37: =IF(BI37=2,GM37-GX37,0) -> 0 | GP37: =IF(BI37=4,GM37-GX37,0) -> 0 | GR37: 0 | GS37: 3 | GT37: 0 | GV37: =ROUND((GT37),6) -> 0 | GW37: 1 | GX37: =ROUND(HC37*I37,2) -> 0 | HA37: 0 | HB37: 0 | HC37: =GV37*GW37 -> 0 | HN37: Пр/812-012.0-1 | HO37: Пр/774-012.0 | HP37: Кровли | HQ37: Кровли | HS37: 0 | IK37: 0
A38: 18 | B38: 1 | C38: 19 | E38: 2,6 | F38: 12.1.03.02-1100 | G38: Планка примыкания из оцинкованной стали для устройства кровли, с полимерным покрытием, размеры 150х250 мм | H38: м | I38: =I26*J38 -> 68 | J38: 11.724138 | K38: 11.724138 | O38: =ROUND(CP38,2) -> 48384.72 | P38: =ROUND(CQ38*I38,2) -> 48384.72 | Q38: =ROUND(CR38*I38,2) -> 0 | R38: =ROUND(CS38*I38,2) -> 0 | S38: =ROUND(CT38*I38,2) -> 0 | T38: =ROUND(CU38*I38,2) -> 0 | U38: =ROUND(CV38*I38,7) -> 0 | V38: =ROUND(CW38*I38,7) -> 0 | W38: =ROUND(CX38*I38,2) -> 0 | X38: =ROUND(CY38,2) -> 0 | Y38: =ROUND(CZ38,2) -> 0 | AA38: 60841590 | AB38: =ROUND((AC38+AD38+AF38),6) -> 641.03 | AC38: =ROUND((ES38),6) -> 641.03 | AD38: =ROUND((((ET38)-(EU38))+AE38),6) -> 0 | AE38: =ROUND((EU38),6) -> 0 | AF38: =ROUND((EV38),6) -> 0 | AG38: =ROUND((AP38),6) -> 0 | AH38: =(EW38) -> 0 | AI38: =(EX38) -> 0 | AJ38: =(AS38) -> 0 | AK38: 641.03 | AL38: 641.03 | AM38: 0 | AN38: 0 | AO38: 0 | AP38: 0 | AQ38: 0 | AR38: 0 | AS38: 0 | AT38: 109 | AU38: 57 | AV38: 1 | AW38: 1 | AZ38: 1 | BA38: 1 | BB38: 1 | BC38: 1.11 | BH38: 3 | BI38: 1 | BJ38: ФСБЦ-2022, 12.1.03.02-1100, приказ Минстроя России от 18.05.2022 г. № 378/пр | BM38: 12001 | BN38: 0 | BO38: 12.1.03.02-1100 | BP38: 1 | BQ38: 2 | BR38: 0 | BS38: 1 | BT38: 1 | BU38: 1 | BV38: 1 | BW38: 1 | BX38: 1 | BZ38: 109 | CA38: 57 | CE38: 0 | CF38: 0 | CG38: 0 | CM38: 0 | CO38: 0 | CP38: =(P38+Q38+S38+R38) -> 48384.72 | CQ38: =ROUND(AL38*BC38,2) -> 711.54 | CR38: =ROUND(AM38*BB38,2) -> 0 | CS38: =ROUND(AN38*BS38,2) -> 0 | CT38: =ROUND(AO38*BA38,2) -> 0 | CU38: =AG38 -> 0 | CV38: =AH38 -> 0 | CW38: =AI38 -> 0 | CX38: =AJ38 -> 0 | CY38: =(((S38+R38)*AT38)/100) -> 0 | CZ38: =(((S38+R38)*AU38)/100) -> 0 | DN38: 0 | DO38: 0 | DP38: 1 | DQ38: 1 | DU38: 1003 | DV38: м | DW38: м | DX38: 1 | EE38: 58905856 | EF38: 2 | EG38: Общестроительные работы | EH38: 12 | EI38: Кровли | EJ38: 1 | EK38: 12001 | EL38: Кровли | EM38: ФЕР-12 | EQ38: 0 | ER38: 641.03 | ES38: 641.03 | ET38: 0 | EU38: 0 | EV38: 0 | EW38: 0 | EX38: 0 | FQ38: 0 | FR38: 0 | FS38: 0 | FX38: 109 | FY38: 57 | GD38: 1 | GF38: 1108515218 | GG38: 2 | GH38: 1 | GI38: 2 | GJ38: 0 | GK38: 0 | GL38: =ROUND(IF(AND(BH38=3,BI38=3,FS38<>0),P38,0),2) -> 0 | GM38: =ROUND(O38+X38+Y38,2)+GX38 -> 48384.72 | GN38: =IF(OR(BI38=0,BI38=1),GM38-GX38,0) -> 48384.72 | GO38: =IF(BI38=2,GM38-GX38,0) -> 0 | GP38: =IF(BI38=4,GM38-GX38,0) -> 0 | GR38: 0 | GS38: 3 | GT38: 0 | GV38: =ROUND((GT38),6) -> 0 | GW38: 1 | GX38: =ROUND(HC38*I38,2) -> 0 | HA38: 0 | HB38: 0 | HC38: =GV38*GW38 -> 0 | HN38: Пр/812-012.0-1 | HO38: Пр/774-012.0 | HP38: Кровли | HQ38: Кровли | HS38: 0 | IK38: 0
A39: 18 | B39: 1 | C39: 34 | E39: 2,6 | F39: 12.1.03.02-1100 | G39: Планка примыкания из оцинкованной стали для устройства кровли, с полимерным покрытием, размеры 150х250 мм | H39: м | I39: =I27*J39 -> 68 | J39: 11.724138 | K39: 11.724138 | O39: =ROUND(CP39,2) -> 46205.32 | P39: =ROUND(CQ39*I39,2) -> 46205.32 | Q39: =ROUND(CR39*I39,2) -> 0 | R39: =ROUND(CS39*I39,2) -> 0 | S39: =ROUND(CT39*I39,2) -> 0 | T39: =ROUND(CU39*I39,2) -> 0 | U39: =ROUND(CV39*I39,7) -> 0 | V39: =ROUND(CW39*I39,7) -> 0 | W39: =ROUND(CX39*I39,2) -> 0 | X39: =ROUND(CY39,2) -> 0 | Y39: =ROUND(CZ39,2) -> 0 | AA39: 60854600 | AB39: =ROUND((AC39+AD39+AF39),6) -> 641.03 | AC39: =ROUND((ES39),6) -> 641.03 | AD39: =ROUND((((ET39)-(EU39))+AE39),6) -> 0 | AE39: =ROUND((EU39),6) -> 0 | AF39: =ROUND((EV39),6) -> 0 | AG39: =ROUND((AP39),6) -> 0 | AH39: =(EW39) -> 0 | AI39: =(EX39) -> 0 | AJ39: =(AS39) -> 0 | AK39: 641.03 | AL39: 641.03 | AM39: 0 | AN39: 0 | AO39: 0 | AP39: 0 | AQ39: 0 | AR39: 0 | AS39: 0 | AT39: 109 | AU39: 57 | AV39: 1 | AW39: 1 | AZ39: 1 | BA39: 1 | BB39: 1 | BC39: 1.06 | BH39: 3 | BI39: 1 | BJ39: ФСБЦ-2022, 12.1.03.02-1100, приказ Минстроя России от 18.05.2022 г. № 378/пр | BM39: 12001 | BN39: 0 | BO39: 12.1.03.02-1100 | BP39: 1 | BQ39: 2 | BR39: 0 | BS39: 1 | BT39: 1 | BU39: 1 | BV39: 1 | BW39: 1 | BX39: 1 | BZ39: 109 | CA39: 57 | CE39: 0 | CF39: 0 | CG39: 0 | CM39: 0 | CO39: 0 | CP39: =(P39+Q39+S39+R39) -> 46205.32 | CQ39: =ROUND(AL39*BC39,2) -> 679.49 | CR39: =ROUND(AM39*BB39,2) -> 0 | CS39: =ROUND(AN39*BS39,2) -> 0 | CT39: =ROUND(AO39*BA39,2) -> 0 | CU39: =AG39 -> 0 | CV39: =AH39 -> 0 | CW39: =AI39 -> 0 | CX39: =AJ39 -> 0 | CY39: =(((S39+R39)*AT39)/100) -> 0 | CZ39: =(((S39+R39)*AU39)/100) -> 0 | DN39: 0 | DO39: 0 | DP39: 1 | DQ39: 1 | DU39: 1003 | DV39: м | DW39: м | DX39: 1 | EE39: 58905856 | EF39: 2 | EG39: Общестроительные работы | EH39: 12 | EI39: Кровли | EJ39: 1 | EK39: 12001 | EL39: Кровли | EM39: ФЕР-12 | EQ39: 0 | ER39: 641.03 | ES39: 641.03 | ET39: 0 | EU39: 0 | EV39: 0 | EW39: 0 | EX39: 0 | FQ39: 0 | FR39: 0 | FS39: 0 | FX39: 109 | FY39: 57 | GD39: 1 | GF39: 1108515218 | GG39: 2 | GH39: 1 | GI39: 2 | GJ39: 0 | GK39: 0 | GL39: =ROUND(IF(AND(BH39=3,BI39=3,FS39<>0),P39,0),2) -> 0 | GM39: =ROUND(O39+X39+Y39,2)+GX39 -> 46205.32 | GN39: =IF(OR(BI39=0,BI39=1),GM39-GX39,0) -> 46205.32 | GO39: =IF(BI39=2,GM39-GX39,0) -> 0 | GP39: =IF(BI39=4,GM39-GX39,0) -> 0 | GR39: 0 | GS39: 3 | GT39: 0 | GV39: =ROUND((GT39),6) -> 0 | GW39: 1 | GX39: =ROUND(HC39*I39,2) -> 0 | HA39: 0 | HB39: 0 | HC39: =GV39*GW39 -> 0 | HN39: Пр/812-012.0-1 | HO39: Пр/774-012.0 | HP39: Кровли | HQ39: Кровли | HS39: 0 | IK39: 0
